Workbook

Sheet MAIN BARN
P2: MAIN BARN | Z2: =NOW() -> 46278.586
C4: OFFICE | E4: FARRIER WORK AREA | J4: WASH RACKS | Q4: WASH RACKS | W4: 304 | X4: 303 | Y4: 302 | Z4: 301 | AA4: 300 | AB4: 299
Z5: 9980 | AD5: Entry #
AD6: Campers
Z7: 46284 | AD7: Arrival Date
AD8: Post Entry Shavings
Z9: 0 | AD9: Pre Entry Shaving
Z10: Kapinos 3 days
W11: Applewhite / Hersh | X11: Applewhite
W12: 46284 | X12: 46284 | AD12: Arrival Date
AD13: Post Entry Shavings
W14: 8 | X14: 0 | AD14: Pre Entry Shaving
X15: 54 | AD15: Campers
W16: 56 | X16: 9997 | AD16: Entry #
W17: 293 | X17: 294 | Y17: 295 | Z17: 296 | AA17: 297 | AB17: 298
C18: ROW 6 | Q18: ROW 6
B20: Stall # | C20: 292 | D20: 291 | E20: 290 | F20: 289 | G20: 288 | H20: 287 | I20: 286 | J20: 285 | K20: 284 | L20: 283 | M20: 282 | N20: 281 | O20: 280 | Q20: 279 | R20: 278 | S20: 277 | T20: 276 | U20: 275 | V20: 274 | W20: 273 | X20: 272 | Y20: 271 | Z20: 270 | AA20: 269 | AB20: 268 | AC20: 267 | AD20: Stall #
B21: Entry # | D21: 377 | E21: 379 | F21: 360 | G21: 380 | J21: 257 | K21: 257 | L21: 263 | M21: 264 | N21: 36 | O21: 433 | Q21: 9994 | R21: 133 | S21: 136 | T21: 133 | U21: 139 | V21: 253 | W21: 471 | X21: 56 | Z21: 400 | AA21: 400 | AB21: 46 | AC21: 462 | AD21: Entry #
B22: Campers | J22: 36 | T22: 74 | V22: 49 | AB22: 9 | AD22: Campers
B23: Arrival Date | D23: 46284 | E23: 46284 | F23: 46284 | G23: 46284 | J23: 46284 | K23: 46284 | L23: 46284 | M23: 46284 | N23: ? | O23: ? | Q23: 46284 | R23: 46284 | S23: 46284 | T23: 46284 | U23: 46284 | V23: 46284 | W23: 46284 | X23: 46284 | Z23: 46284 | AA23: 46284 | AB23: 46284 | AC23: 46284 | AD23: Arrival Date
B24: Post Entry Shavings | AD24: Post Entry Shavings
B25: Pre Entry Shaving | D25: 0 | E25: 0 | F25: 0 | G25: 0 | J25: 0 | K25: 0 | L25: 0 | M25: 0 | N25: 0 | O25: 0 | Q25: 0 | R25: 0 | S25: 0 | T25: 0 | U25: 0 | V25: 0 | W25: 0 | X25: 0 | Z25: 0 | AA25: 4 | AB25: 8 | AC25: 10 | AD25: Pre Entry Shaving
D26: Harris | E26: Harris | F26: Harris | G26: Harris | J26: Lamberson | K26: Lamberson | L26: Lamberson | M26: Lamberson | N26: Reynolds 1 days | O26: Reynolds 2 days | Q26: Gibbs | R26: Rice | S26: Rice | T26: Rice | U26: Applewhite / Rice | V26: Applewhite / Preast | W26: Applewhite / Preast | X26: Applewhite / Hersh | Z26: Spooner/ Merritt 4 days | AA26: Spooner/ Merritt | AB26: Spooner /Hersh | AC26: Spooner / Lunsford
H27: Revival Stables | I27: Revival Stables | J27: Revival Stables | K27: Revival Stables | L27: Revival Stables | M27: Revival Stables | N27: Revival Stables | O27: Revival Stables | Q27: Ostrum | R27: Ostrum | S27: Ostrum | T27: Payton | U27: Strine | V27: Strine | W27: Deck 7 days | Y27: Long | Z27: Long | AA27: Freet | AB27: Freet | AC27: Freet
B28: Arrival Date | H28: 46284 | I28: 46284 | J28: 46284 | K28: 46284 | L28: 46284 | M28: 46284 | N28: 46284 | O28: 46284 | Q28: 46284 | R28: 46284 | S28: 46284 | T28: 46284 | U28: 46284 | V28: 46284 | W28: 46284 | Y28: 46284 | Z28: 46284 | AA28: 9/19 | AB28: 9/19 | AC28: 9/19 | AD28: Arrival Date
B29: Post Entry Shavings | AD29: Post Entry Shavings
B30: Pre Entry Shaving | H30: 0 | I30: 0 | J30: 0 | K30: 0 | L30: 0 | M30: 0 | N30: 0 | O30: 0 | Q30: 0 | R30: 0 | S30: 0 | T30: 4 | U30: 3 | V30: 3 | W30: 5 | Y30: 0 | Z30: 0 | AA30: 0 | AB30: 0 | AC30: 0 | AD30: Pre Entry Shaving
B31: Campers | T31: 71 | U31: 57 | Y31: 27 | AA31: 50 | AD31: Campers
B32: Entry # | H32: 9984 | I32: 9984 | J32: 9984 | K32: 9984 | L32: 9984 | M32: 9984 | N32: 9984 | O32: 9984 | Q32: 59 | R32: 64 | S32: 98 | T32: 465 | U32: 9990 | V32: 9990 | W32: 435 | Y32: 395 | Z32: 399 | AA32: 265 | AB32: 276 | AC32: 276 | AD32: Entry #
B33: Stall # | C33: 241 | D33: 242 | E33: 243 | F33: 244 | G33: 245 | H33: 246 | I33: 247 | J33: 248 | K33: 249 | L33: 250 | M33: 251 | N33: 252 | O33: 253 | Q33: 254 | R33: 255 | S33: 256 | T33: 257 | U33: 258 | V33: 259 | W33: 260 | X33: 261 | Y33: 262 | Z33: 263 | AA33: 264 | AB33: 265 | AC33: 266 | AD33: Stall #
C34: ROW 5 | Q34: ROW 5
B36: Stall # | C36: 240 | D36: 239 | E36: 238 | F36: 237 | G36: 236 | H36: 235 | I36: 234 | J36: 233 | K36: 232 | L36: 231 | M36: 230 | N36: 229 | O36: 228 | Q36: 227 | R36: 226 | S36: 225 | T36: 224 | U36: 223 | V36: 222 | W36: 221 | X36: 220 | Y36: 219 | Z36: 218 | AA36: 217 | AB36: 216 | AC36: 215 | AD36: Stall #
B37: Entry # | H37: 9984 | I37: 9984 | J37: 9984 | K37: 9984 | L37: 9984 | M37: 9984 | N37: 9984 | O37: 9984 | Q37: 146 | R37: 146 | T37: 9990 | U37: 9990 | V37: 9990 | W37: 105 | Y37: 87 | Z37: 999 | AA37: 250 | AC37: 250 | AD37: Entry #
B38: Campers | O38: 66 | Q38: 73 | W38: 67 | Y38: 62 | AC38: 55/56 | AD38: Campers
B39: Arrival Date | H39: 46284 | I39: 46284 | J39: 46284 | K39: 46284 | L39: 46284 | M39: 46284 | N39: 46284 | O39: 46284 | Q39: 46284 | R39: 46284 | S39: 46284 | T39: 46284 | U39: 46284 | V39: 46284 | W39: 46284 | Y39: 46284 | Z39: 46284 | AA39: 46284 | AC39: 9/19 | AD39: Arrival Date
B40: Post Entry Shavings | AD40: Post Entry Shavings
B41: Pre Entry Shaving | H41: 128 | I41: 0 | J41: 0 | K41: 0 | L41: 0 | M41: 0 | N41: 0 | O41: 0 | Q41: 0 | R41: 0 | S41: 0 | T41: 0 | U41: 3 | V41: 3 | W41: 8 | Y41: 0 | Z41: 0 | AA41: 0 | AC41: 2 | AD41: Pre Entry Shaving
H42: Revival Stables | I42: Revival Stables | J42: Revival Stables | K42: Revival Stables | L42: Revival Stables | M42: Revival Stables | N42: Revival Stables | O42: Revival Stables | Q42: Ostrum | R42: Ostrum | S42: NWHA | T42: Strine | U42: Strine | V42: Strine | W42: Fejko | Y42: Terrell | Z42: Johnston | AA42: Johnston | AC42: Johnston
F43: Kanstul / White/ Ryan | G43: Kanstul / White/ Ryan | H43: Kanstul / White/ Ryan | I43: Kanstul / White/ Ryan | J43: Kanstul / White/ Ryan | K43: Kanstul / White/ Ryan | L43: Kanstul | M43: Kanstul | N43: Kanstul | O43: Kanstul | AB43: Lowe | AC43: Lowe
B44: Arrival Date | AB44: 46284 | AC44: 46284 | AD44: Arrival Date
...

Sheet Notes
A1: 9/19 report
A2: We used 29 stalls
A3: On 9/19 we did not use stall # 198
A4: We used 7 30 amp and 2 50 amp
A8: 9/20 Report

Sheet BB LISTING Scratch Sheet
A1: STALL# | B1: OCCUPANT | C1: ARRIVAL & DEPARTURE INFO | D1: SHAVINGS PRE-ORDER
A2: ='BACK BARNS'!$C$53 -> 305 | B2: ='BACK BARNS'!$C$47 -> 0 | C2: ='BACK BARNS'!$C$48 -> 0 | D2: ='BACK BARNS'!$C$50 -> 0
A3: ='BACK BARNS'!$D$53 -> 306 | B3: ='BACK BARNS'!$D$47 -> Mann | C3: ='BACK BARNS'!$D$48 -> 46284 | D3: ='BACK BARNS'!$D$50 -> 0
A4: ='BACK BARNS'!$E$53 -> 307 | B4: ='BACK BARNS'!$E$47 -> Mann | C4: ='BACK BARNS'!$E$48 -> 46284 | D4: ='BACK BARNS'!$E$50 -> 6
A5: ='BACK BARNS'!$F$53 -> 308 | B5: ='BACK BARNS'!$F$47 -> Cloud | C5: ='BACK BARNS'!$F$48 -> 46284 | D5: ='BACK BARNS'!$F$50 -> 3
A6: ='BACK BARNS'!$G$53 -> 309 | B6: ='BACK BARNS'!$G$47 -> 0 | C6: ='BACK BARNS'!$G$48 -> 0 | D6: ='BACK BARNS'!$G$50 -> 0
A7: ='BACK BARNS'!$H$53 -> 310 | B7: ='BACK BARNS'!$H$47 -> Klemenz | C7: ='BACK BARNS'!$H$48 -> 46284 | D7: ='BACK BARNS'!$H$50 -> 0
A8: ='BACK BARNS'!$I$53 -> 311 | B8: ='BACK BARNS'!$I$47 -> Sharp | C8: ='BACK BARNS'!$I$48 -> 46284 | D8: ='BACK BARNS'!$I$50 -> 4
A9: ='BACK BARNS'!$J$53 -> 312 | B9: ='BACK BARNS'!$J$47 -> Sharp | C9: ='BACK BARNS'!$J$48 -> 46284 | D9: ='BACK BARNS'!$J$50 -> 4
A10: ='BACK BARNS'!$K$53 -> 313 | B10: ='BACK BARNS'!$K$47 -> Eilerman | C10: ='BACK BARNS'!$K$48 -> 46284 | D10: ='BACK BARNS'!$K$50 -> 10
A11: ='BACK BARNS'!$L$53 -> 314 | B11: ='BACK BARNS'!$L$47 -> 0 | C11: ='BACK BARNS'!$L$48 -> 0 | D11: ='BACK BARNS'!$L$50 -> 0
A12: ='BACK BARNS'!$M$53 -> 315 | B12: ='BACK BARNS'!$M$47 -> 0 | C12: ='BACK BARNS'!$M$48 -> 0 | D12: ='BACK BARNS'!$M$50 -> 0
A13: ='BACK BARNS'!$N$53 -> 316 | B13: ='BACK BARNS'!$N$47 -> 0 | C13: ='BACK BARNS'!$N$48 -> 0 | D13: ='BACK BARNS'!$N$50 -> 0
A14: ='BACK BARNS'!$P$53 -> 317 | B14: ='BACK BARNS'!$P$47 -> 0 | C14: ='BACK BARNS'!$P$48 -> 0 | D14: ='BACK BARNS'!$P$50 -> 0
A15: ='BACK BARNS'!$Q$53 -> 318 | B15: ='BACK BARNS'!$Q$47 -> 0 | C15: ='BACK BARNS'!$Q$48 -> 0 | D15: ='BACK BARNS'!$Q$50 -> 0
A16: ='BACK BARNS'!$R$53 -> 319 | B16: ='BACK BARNS'!$R$47 -> 0 | C16: ='BACK BARNS'!$R$48 -> 0 | D16: ='BACK BARNS'!$R$50 -> 0
A17: ='BACK BARNS'!$S$53 -> 320 | B17: ='BACK BARNS'!$S$47 -> 0 | C17: ='BACK BARNS'!$S$48 -> 0 | D17: ='BACK BARNS'!$S$50 -> 0
A18: ='BACK BARNS'!$T$53 -> 321 | B18: ='BACK BARNS'!$T$47 -> 0 | C18: ='BACK BARNS'!$T$48 -> 0 | D18: ='BACK BARNS'!$T$50 -> 0
A19: ='BACK BARNS'!$U$53 -> 322 | B19: ='BACK BARNS'!$U$47 -> 0 | C19: ='BACK BARNS'!$U$48 -> 0 | D19: ='BACK BARNS'!$U$50 -> 0
A20: ='BACK BARNS'!$V$53 -> 323 | B20: ='BACK BARNS'!$V$47 -> 0 | C20: ='BACK BARNS'!$V$48 -> 0 | D20: ='BACK BARNS'!$V$50 -> 0
A21: ='BACK BARNS'!$W$53 -> 324 | B21: ='BACK BARNS'!$W$47 -> 0 | C21: ='BACK BARNS'!$W$48 -> 0 | D21: ='BACK BARNS'!$W$50 -> 0
A22: ='BACK BARNS'!$X$53 -> 325 | B22: ='BACK BARNS'!$X$47 -> 0 | C22: ='BACK BARNS'!$X$48 -> 0 | D22: ='BACK BARNS'!$X$50 -> 0
A23: ='BACK BARNS'!$Y$53 -> 326 | B23: ='BACK BARNS'!$Y$47 -> 0 | C23: ='BACK BARNS'!$Y$48 -> 0 | D23: ='BACK BARNS'!$Y$50 -> 0
A24: ='BACK BARNS'!$Z$53 -> 327 | B24: ='BACK BARNS'!$Z$47 -> 0 | C24: ='BACK BARNS'!$Z$48 -> 0 | D24: ='BACK BARNS'!$Z$50 -> 0
A25: ='BACK BARNS'!$AA$53 -> 328 | B25: ='BACK BARNS'!$AA$47 -> 0 | C25: ='BACK BARNS'!$AA$48 -> 0 | D25: ='BACK BARNS'!$AA$50 -> 0
A26: ='BACK BARNS'!$AA$40 -> 329 | B26: ='BACK BARNS'!#REF! -> #REF! | C26: ='BACK BARNS'!$AA$45 -> 0 | D26: ='BACK BARNS'!#REF! -> #REF!
A27: ='BACK BARNS'!$Z$40 -> 330 | B27: ='BACK BARNS'!#REF! -> #REF! | C27: ='BACK BARNS'!$Z$45 -> 0 | D27: ='BACK BARNS'!#REF! -> #REF!
A28: ='BACK BARNS'!$Y$40 -> 331 | B28: ='BACK BARNS'!#REF! -> #REF! | C28: ='BACK BARNS'!$Y$45 -> 0 | D28: ='BACK BARNS'!#REF! -> #REF!
A29: ='BACK BARNS'!$X$40 -> 332 | B29: ='BACK BARNS'!#REF! -> #REF! | C29: ='BACK BARNS'!$X$45 -> 0 | D29: 0
A30: ='BACK BARNS'!$W$40 -> 333 | B30: ='BACK BARNS'!#REF! -> #REF! | C30: ='BACK BARNS'!$W$45 -> 0 | D30: ='BACK BARNS'!#REF! -> #REF!
A31: ='BACK BARNS'!$V$40 -> 334 | B31: ='BACK BARNS'!#REF! -> #REF! | C31: ='BACK BARNS'!$V$45 -> 0 | D31: 6
A32: ='BACK BARNS'!$U$40 -> 335 | B32: ='BACK BARNS'!#REF! -> #REF! | C32: ='BACK BARNS'!$U$45 -> 0 | D32: ='BACK BARNS'!#REF! -> #REF!
A33: ='BACK BARNS'!$T$40 -> 336 | B33: ='BACK BARNS'!#REF! -> #REF! | C33: ='BACK BARNS'!$T$45 -> 0 | D33: ='BACK BARNS'!#REF! -> #REF!
A34: ='BACK BARNS'!$S$40 -> 337 | B34: ='BACK BARNS'!#REF! -> #REF! | C34: ='BACK BARNS'!$S$45 -> 0 | D34: ='BACK BARNS'!#REF! -> #REF!
A35: ='BACK BARNS'!$R$40 -> 338 | B35: ='BACK BARNS'!#REF! -> #REF! | C35: ='BACK BARNS'!$R$45 -> 0 | D35: ='BACK BARNS'!#REF! -> #REF!
A36: ='BACK BARNS'!$Q$40 -> 339 | B36: ='BACK BARNS'!#REF! -> #REF! | C36: ='BACK BARNS'!$Q$45 -> 0 | D36: ='BACK BARNS'!#REF! -> #REF!
A37: ='BACK BARNS'!$P$40 -> 340 | B37: ='BACK BARNS'!#REF! -> #REF! | C37: ='BACK BARNS'!$P$45 -> 0 | D37: ='BACK BARNS'!#REF! -> #REF!
A38: ='BACK BARNS'!$N$40 -> 341 | B38: ='BACK BARNS'!#REF! -> #REF! | C38: ='BACK BARNS'!$N$45 -> 0 | D38: ='BACK BARNS'!#REF! -> #REF!
A39: ='BACK BARNS'!$M$40 -> 342 | B39: ='BACK BARNS'!#REF! -> #REF! | C39: ='BACK BARNS'!$M$45 -> 0 | D39: ='BACK BARNS'!#REF! -> #REF!
A40: ='BACK BARNS'!$L$40 -> 343 | B40: ='BACK BARNS'!#REF! -> #REF! | C40: ='BACK BARNS'!$L$45 -> 0 | D40: ='BACK BARNS'!#REF! -> #REF!
...

Sheet Entry # Listing
A1: Entry # | B1: Stall # | C1: Exhibitor Name | D1: Arrival Date | E1: Pre entry Bedding | F1: Post Entry Bedding | G1: Camper spot
A2: ='MAIN BARN'!$C$112 -> 0 | B2: 1 | C2: ='MAIN BARN'!$C$107 -> Shavings Storage ? | D2: ='MAIN BARN'!$C$108 -> 0 | E2: ='MAIN BARN'!$C$110 -> 0 | F2: ='MAIN BARN'!$C$109 -> 0 | G2: ='MAIN BARN'!$C$111 -> 0
A3: ='MAIN BARN'!$D$112 -> 0 | B3: 2 | C3: ='MAIN BARN'!$D$107 -> 0 | D3: ='MAIN BARN'!$D$108 -> 0 | E3: ='MAIN BARN'!$D$110 -> 0 | F3: ='MAIN BARN'!$D$109 -> 0 | G3: ='MAIN BARN'!$D$111 -> 0
A4: ='MAIN BARN'!$E$112 -> 0 | B4: 3 | C4: ='MAIN BARN'!$E$107 -> 0 | D4: ='MAIN BARN'!$E$108 -> 0 | E4: ='MAIN BARN'!$E$110 -> 0 | F4: ='MAIN BARN'!$E$109 -> 0 | G4: ='MAIN BARN'!$D$111 -> 0
A5: ='MAIN BARN'!$F$112 -> 0 | B5: 4 | C5: ='MAIN BARN'!$F$107 -> 0 | D5: ='MAIN BARN'!$F$108 -> 0 | E5: ='MAIN BARN'!$F$110 -> 0 | F5: ='MAIN BARN'!$F$109 -> 0 | G5: ='MAIN BARN'!$D$111 -> 0
A6: ='MAIN BARN'!$G$112 -> 0 | B6: 5 | C6: ='MAIN BARN'!$G$107 -> 0 | D6: ='MAIN BARN'!$G$108 -> 0 | E6: ='MAIN BARN'!$G$110 -> 0 | F6: ='MAIN BARN'!$G$109 -> 0 | G6: ='MAIN BARN'!$G$111 -> 0
A7: ='MAIN BARN'!$H$112 -> 0 | B7: 6 | C7: ='MAIN BARN'!$H$107 -> 0 | D7: ='MAIN BARN'!$H$108 -> 0 | E7: ='MAIN BARN'!$H$110 -> 0 | F7: ='MAIN BARN'!$H$109 -> 0 | G7: ='MAIN BARN'!$H$111 -> 0
A8: ='MAIN BARN'!$I$112 -> 0 | B8: 7 | C8: ='MAIN BARN'!$I$107 -> 0 | D8: ='MAIN BARN'!$I$108 -> 0 | E8: ='MAIN BARN'!$I$110 -> 0 | F8: ='MAIN BARN'!$I$109 -> 0 | G8: ='MAIN BARN'!$I$111 -> 0
A9: ='MAIN BARN'!$J$112 -> 0 | B9: 8 | C9: ='MAIN BARN'!$J$107 -> 0 | D9: ='MAIN BARN'!$J$108 -> 0 | E9: ='MAIN BARN'!$J$110 -> 0 | F9: ='MAIN BARN'!$J$109 -> 0 | G9: ='MAIN BARN'!$J$111 -> 0
A10: ='MAIN BARN'!$K$112 -> 0 | B10: 9 | C10: ='MAIN BARN'!$K$107 -> 0 | D10: ='MAIN BARN'!$K$108 -> 0 | E10: ='MAIN BARN'!$K$110 -> 0 | F10: ='MAIN BARN'!$K$109 -> 0 | G10: ='MAIN BARN'!$K$111 -> 0
A11: ='MAIN BARN'!$L$112 -> 0 | B11: 10 | C11: ='MAIN BARN'!$L$107 -> 0 | D11: ='MAIN BARN'!$L$108 -> 0 | E11: ='MAIN BARN'!$L$110 -> 0 | F11: ='MAIN BARN'!$L$109 -> 0 | G11: ='MAIN BARN'!$L$111 -> 0
A12: ='MAIN BARN'!$M$112 -> 0 | B12: 11 | C12: ='MAIN BARN'!$M$107 -> 0 | D12: ='MAIN BARN'!$M$108 -> 0 | E12: ='MAIN BARN'!$M$110 -> 0 | F12: ='MAIN BARN'!$M$109 -> 0 | G12: ='MAIN BARN'!$M$111 -> 0
A13: ='MAIN BARN'!$N$112 -> 0 | B13: 12 | C13: ='MAIN BARN'!$N$107 -> 0 | D13: ='MAIN BARN'!$N$108 -> 0 | E13: ='MAIN BARN'!$N$110 -> 0 | F13: ='MAIN BARN'!$N$109 -> 0 | G13: ='MAIN BARN'!$N$111 -> 0
A14: ='MAIN BARN'!$O$112 -> 0 | B14: 13 | C14: ='MAIN BARN'!$O$107 -> 0 | D14: ='MAIN BARN'!$O$108 -> 0 | E14: ='MAIN BARN'!$O$110 -> 0 | F14: ='MAIN BARN'!$O$109 -> 0 | G14: ='MAIN BARN'!$O$111 -> 0
A15: ='MAIN BARN'!$Q$112 -> 9988 | B15: 14 | C15: ='MAIN BARN'!$Q$107 -> Earl Break down | D15: ='MAIN BARN'!$Q$108 -> 46284 | E15: ='MAIN BARN'!$Q$110 -> 0 | F15: ='MAIN BARN'!$Q$109 -> 0 | G15: ='MAIN BARN'!$Q$111 -> 108
A16: ='MAIN BARN'!$R$112 -> 9988 | B16: 15 | C16: ='MAIN BARN'!$R$107 -> Earl | D16: ='MAIN BARN'!$R$108 -> 46284 | E16: ='MAIN BARN'!$R$110 -> 1 | F16: ='MAIN BARN'!$R$109 -> 0 | G16: ='MAIN BARN'!$R$111 -> 0
A17: ='MAIN BARN'!$S$112 -> 9988 | B17: 16 | C17: ='MAIN BARN'!$S$107 -> Earl | D17: ='MAIN BARN'!$S$108 -> 46284 | E17: ='MAIN BARN'!$S$110 -> 0 | F17: ='MAIN BARN'!$S$109 -> 0 | G17: ='MAIN BARN'!$S$111 -> 0
A18: ='MAIN BARN'!$T$112 -> 9988 | B18: 17 | C18: ='MAIN BARN'!$T$107 -> Earl | D18: ='MAIN BARN'!$T$108 -> 46284 | E18: ='MAIN BARN'!$T$110 -> 0 | F18: ='MAIN BARN'!$T$109 -> 0 | G18: ='MAIN BARN'!$T$111 -> 0
A19: ='MAIN BARN'!$U$112 -> 0 | B19: 18 | C19: ='MAIN BARN'!$U$107 -> 0 | D19: ='MAIN BARN'!$U$108 -> 0 | E19: ='MAIN BARN'!$U$110 -> 0 | F19: ='MAIN BARN'!$U$109 -> 0 | G19: ='MAIN BARN'!$U$111 -> 0
A20: ='MAIN BARN'!$V$112 -> 0 | B20: 19 | C20: ='MAIN BARN'!$V$107 -> 0 | D20: ='MAIN BARN'!$V$108 -> 0 | E20: ='MAIN BARN'!$V$110 -> 0 | F20: ='MAIN BARN'!$V$109 -> 0 | G20: ='MAIN BARN'!$V$111 -> 0
A21: ='MAIN BARN'!$W$112 -> 0 | B21: 20 | C21: ='MAIN BARN'!$W$107 -> 0 | D21: ='MAIN BARN'!$W$108 -> 0 | E21: ='MAIN BARN'!$W$110 -> 0 | F21: ='MAIN BARN'!$W$109 -> 0 | G21: ='MAIN BARN'!$W$111 -> 0
A22: ='MAIN BARN'!$X$112 -> 0 | B22: 21 | C22: ='MAIN BARN'!$X$107 -> 0 | D22: ='MAIN BARN'!$X$108 -> 0 | E22: ='MAIN BARN'!$X$110 -> 0 | F22: ='MAIN BARN'!$X$109 -> 0 | G22: ='MAIN BARN'!$X$111 -> 0
A23: ='MAIN BARN'!$Y$112 -> 0 | B23: 22 | C23: ='MAIN BARN'!$Y$107 -> 0 | D23: ='MAIN BARN'!$Y$108 -> 0 | E23: ='MAIN BARN'!$Y$110 -> 0 | F23: ='MAIN BARN'!$Y$109 -> 0 | G23: ='MAIN BARN'!$Y$111 -> 0
A24: ='MAIN BARN'!$Z$112 -> 0 | B24: 23 | C24: ='MAIN BARN'!$Z$107 -> 0 | D24: ='MAIN BARN'!$Z$108 -> 0 | E24: ='MAIN BARN'!$Z$110 -> 0 | F24: ='MAIN BARN'!$Z$109 -> 0 | G24: ='MAIN BARN'!$Z$111 -> 0
A25: ='MAIN BARN'!$AA$112 -> 0 | B25: 24 | C25: ='MAIN BARN'!$AA$107 -> 0 | D25: ='MAIN BARN'!$AA$108 -> 0 | E25: ='MAIN BARN'!$AA$110 -> 0 | F25: ='MAIN BARN'!$AA$109 -> 0 | G25: ='MAIN BARN'!$AA$111 -> 0
A26: ='MAIN BARN'!$AB$112 -> 0 | B26: 25 | C26: ='MAIN BARN'!$AB$107 -> 0 | D26: ='MAIN BARN'!$AB$108 -> 0 | E26: ='MAIN BARN'!$AB$110 -> 0 | F26: ='MAIN BARN'!$AB$109 -> 0 | G26: ='MAIN BARN'!$AB$111 -> 0
A27: ='MAIN BARN'!$AC$112 -> 0 | B27: 26 | C27: ='MAIN BARN'!$AC$107 -> 0 | D27: ='MAIN BARN'!$AC$108 -> 0 | E27: ='MAIN BARN'!$AC$110 -> 0 | F27: ='MAIN BARN'!$AC$109 -> 0 | G27: ='MAIN BARN'!$AC$111 -> 0
A28: ='MAIN BARN'!$AC$101 -> 394 | B28: 27 | C28: ='MAIN BARN'!$AC$106 -> Spinelli / Sitting | D28: ='MAIN BARN'!$AC$103 -> 46284 | E28: ='MAIN BARN'!$AC$105 -> 0 | F28: ='MAIN BARN'!$AC$104 -> 0 | G28: ='MAIN BARN'!$AC$102 -> 117
A29: ='MAIN BARN'!$AB$101 -> 394 | B29: 28 | C29: ='MAIN BARN'!$AB$106 -> Spinelli | D29: ='MAIN BARN'!$AB$103 -> 46284 | E29: ='MAIN BARN'!$AB$105 -> 7 | F29: ='MAIN BARN'!$AB$104 -> 0 | G29: ='MAIN BARN'!$AB$102 -> 0
A30: ='MAIN BARN'!$AA$101 -> 484 | B30: 29 | C30: ='MAIN BARN'!$AA$106 -> Spinelli | D30: ='MAIN BARN'!$AA$103 -> 46284 | E30: ='MAIN BARN'!$AA$105 -> 7 | F30: ='MAIN BARN'!$AA$104 -> 0 | G30: ='MAIN BARN'!$AA$102 -> 0
A31: ='MAIN BARN'!$Z$101 -> 481 | B31: 30 | C31: ='MAIN BARN'!$Z$106 -> Spinelli / Lucareli | D31: ='MAIN BARN'!$Z$103 -> 46284 | E31: ='MAIN BARN'!$Z$105 -> 0 | F31: ='MAIN BARN'!$Z$104 -> 0 | G31: ='MAIN BARN'!$Z$102 -> 0
A32: ='MAIN BARN'!$Y$101 -> 481 | B32: 31 | C32: ='MAIN BARN'!$Y$106 -> Spinelli / Lucareli | D32: ='MAIN BARN'!$Y$103 -> 46284 | E32: ='MAIN BARN'!$Y$105 -> 7 | F32: ='MAIN BARN'!$Y$104 -> 0 | G32: ='MAIN BARN'!$Y$102 -> 0
A33: ='MAIN BARN'!$X$101 -> 9992 | B33: 32 | C33: ='MAIN BARN'!$X$106 -> Luna | D33: ='MAIN BARN'!$X$103 -> 46284 | E33: ='MAIN BARN'!$X$105 -> 0 | F33: ='MAIN BARN'!$X$104 -> 0 | G33: ='MAIN BARN'!$X$102 -> 0
A34: ='MAIN BARN'!$W$101 -> 357 | B34: 33 | C34: ='MAIN BARN'!$W$106 -> Luna | D34: ='MAIN BARN'!$W$103 -> 46284 | E34: ='MAIN BARN'!$W$105 -> 2 | F34: ='MAIN BARN'!$W$104 -> 0 | G34: ='MAIN BARN'!$W$102 -> 0
A35: ='MAIN BARN'!$V$101 -> 352 | B35: 34 | C35: ='MAIN BARN'!$V$106 -> Luna | D35: ='MAIN BARN'!$V$103 -> 46284 | E35: ='MAIN BARN'!$V$105 -> 2 | F35: ='MAIN BARN'!$V$104 -> 0 | G35: ='MAIN BARN'!$V$102 -> 78
A36: ='MAIN BARN'!$U$101 -> 122 | B36: 35 | C36: ='MAIN BARN'!$U$106 -> Mobley | D36: ='MAIN BARN'!$U$103 -> 46284 | E36: ='MAIN BARN'!$U$105 -> 4 | F36: ='MAIN BARN'!$U$104 -> 0 | G36: ='MAIN BARN'!$U$102 -> 0
A37: ='MAIN BARN'!$T$101 -> 106 | B37: 36 | C37: ='MAIN BARN'!$T$106 -> Mobley | D37: ='MAIN BARN'!$T$103 -> 46284 | E37: ='MAIN BARN'!$T$105 -> 4 | F37: ='MAIN BARN'!$T$104 -> 0 | G37: ='MAIN BARN'!$T$102 -> 79
A38: ='MAIN BARN'!$S$101 -> 106 | B38: 37 | C38: ='MAIN BARN'!$S$106 -> Mobley | D38: ='MAIN BARN'!$S$103 -> 46284 | E38: ='MAIN BARN'!$S$105 -> 0 | F38: ='MAIN BARN'!$S$104 -> 0 | G38: ='MAIN BARN'!$S$102 -> 0
A39: ='MAIN BARN'!$R$101 -> 0 | B39: 38 | C39: ='MAIN BARN'!$R$106 -> NWHA Break down | D39: ='MAIN BARN'!$R$103 -> 0 | E39: ='MAIN BARN'!$R$105 -> 0 | F39: ='MAIN BARN'!$R$104 -> 0 | G39: ='MAIN BARN'!$R$102 -> 0
A40: ='MAIN BARN'!$Q$101 -> 0 | B40: 39 | C40: ='MAIN BARN'!$Q$106 -> NWHA Break down | D40: ='MAIN BARN'!$Q$103 -> 0 | E40: ='MAIN BARN'!$Q$105 -> 0 | F40: ='MAIN BARN'!$Q$104 -> 0 | G40: ='MAIN BARN'!$Q$102 -> 0
...

Sheet Campers
H5: North | O5: 79 | P5: Mobley 106
O7: 78 | P7: Luna 352
H8: Barn 5
B9: 1 | C9: Fenner 1000 | O9: 77
B10: 2 | C10: E | E10: E | F10: 42
B11: 3 | C11: E | E11: E | F11: 41 | H11: Barn 4 | L11: 43 | M11: E | O11: 76 | P11: Jeffries 9995
B12: 4 | C12: E | E12: E | F12: 40 | L12: 44 | M12: E
B13: 5 | C13: E | E13: E | F13: 39 | L13: 45 | M13: E | O13: 75
B14: 6 | C14: E | E14: E | F14: 38 | H14: Barn 3 | L14: 46 | M14: E
B15: 7 | C15: E | E15: E | F15: 37 | L15: 47 | M15: E | O15: 74 | P15: Rice 133 | R15: East
B16: 8 | C16: E | L16: 48 | M16: E
B17: 9 | H17: Barn 2 | L17: 49 | M17: Preast 253 | O17: 73 | P17: Ostrum 146
B18: 10 | C18: E | L18: 50 | M18: Freet 9989
B19: West | O19: 72 | P19: E
O21: 71 | P21: Payton 465
O23: 70 | P23: E
O25: 69 | P25: E
H27: Main Barn | O27: 68 | P27: E
B28: 11 | C28: Long 395
B29: 12 | C29: Cloud 51 | O29: 67 | P29: Fekjo 105
B30: 13 | C30: Mann 26 | E30: Lamberson 257 | F30: 36
B31: 14 | C31: Klemens 53 | E31: E | F31: 35 | L31: 51 | M31: Spinelli 483 | O31: 66 | P31: Richards 9984
B32: 15 | C32: Sharp 55 | E32: Gilbert 9983 | F32: 34 | L32: 52 | M32: Engleman 148 3 days
B33: 16 | C33: E | E33: E | F33: 33 | L33: 53 | M33: Finerfrock 393 | O33: 65 | P33: Engleman 148
B34: 17 | C34: E | E34: E | F34: 32 | L34: 54 | M34: Steinbrecher 9998
B35: 18 | C35: E | E35: Kanstul 201 | F35: 31 | L35: 55 | M35: Applewhite 9997 | O35: 64 | P35: Hersh 46
B36: 19 | C36: E | E36: Kanstul 201 | F36: 30 | L36: 56 | M36: Johnston 250
B37: 20 | C37: E | E37: Gardner 9985 | F37: 29 | L37: 57 | M37: Strine 9990 | O37: 63 | P37: E
B38: 21 | C38: E | E38: E | F38: 28 | L38: 58 | M38: Batts 45
B39: 22 | C39: E | F39: 27 | O39: 62 | P39: Terrell 87
B40: 23 | C40: E
B41: 24 | C41: E | O41: 61 | P41: E
B42: 25 | C42: Ranft 9982
B43: 26 | C43: Ranft 9982 | O43: 60 | P43: Richwine 9981
V44: Janisch 9999 | W44: Lowe 397 | Z44: Pacheco 9996
O45: 59 | P45: Spinelli 483
H46: South | R46: 80 | S46: 81 | T46: 82 | U46: 83 | V46: 84 | W46: 85 | X46: 86 | Y46: 87 | Z46: 88 | AA46: 89 | AB46: 90 | AC46: 91 | AD46: 92 | AE46: 93 | AF46: 94 | AG46: 95 | AH46: 96 | AI46: 97 | AJ46: 98 | AK46: 99
T48: 117 | U48: 116 | V48: 115 | W48: 114 | X48: 113 | Y48: 112 | Z48: 111 | AA48: 110 | AB48: 109 | AC48: 108 | AD48: 107 | AE48: 106 | AF48: 105 | AG48: 104 | AH48: 103 | AI48: 102 | AJ48: 101 | AK48: 100
T49: Spinelli 394 | AC49: Earl 404 | AI49: Kapinos 39 9/24

Sheet BACK BARNS
O3: BACK BARNS 2, 3, 4 & 5
B5: 5 | C5: 496 | D5: 495 | E5: 494 | F5: 493 | G5: 492 | H5: 491 | I5: 490 | J5: 489 | K5: 488 | L5: 487 | M5: 486 | N5: 485 | P5: 484 | Q5: 483 | R5: 482 | S5: 481 | T5: 480 | U5: 479 | V5: 478 | W5: 477 | X5: 476 | Y5: 475 | Z5: 474 | AA5: 473
C12: 449 | D12: 450 | E12: 451 | F12: 452 | G12: 453 | H12: 454 | I12: 455 | J12: 456 | K12: 457 | L12: 458 | M12: 459 | N12: 460 | P12: 461 | Q12: 462 | R12: 463 | S12: 464 | T12: 465 | U12: 466 | V12: 467 | W12: 468 | X12: 469 | Y12: 470 | Z12: 471 | AA12: 472
B14: 4 | C14: 448 | D14: 447 | E14: 446 | F14: 445 | G14: 444 | H14: 443 | I14: 442 | J14: 441 | K14: 440 | L14: 439 | M14: 438 | N14: 437 | P14: 436 | Q14: 435 | R14: 434 | S14: 433 | T14: 432 | U14: 431 | V14: 430 | W14: 429 | X14: 428 | Y14: 427 | Z14: 426 | AA14: 425
C21: 401 | D21: 402 | E21: 403 | F21: 404 | G21: 405 | H21: 406 | I21: 407 | J21: 408 | K21: 409 | L21: 410 | M21: 411 | N21: 412 | P21: 413 | Q21: 414 | R21: 415 | S21: 416 | T21: 417 | U21: 418 | V21: 419 | W21: 420 | X21: 421 | Y21: 422 | Z21: 423 | AA21: 424
B24: Stall # | C24: 400 | D24: 399 | E24: 398 | F24: 397 | G24: 396 | H24: 395 | I24: 394 | J24: 393 | K24: 392 | L24: 391 | M24: 390 | N24: 389 | P24: 388 | Q24: 387 | R24: 386 | S24: 385 | T24: 384 | U24: 383 | V24: 382 | W24: 381 | X24: 380 | Y24: 379 | Z24: 378 | AA24: 377 | AB24: Stall #
B25: Entry # | AB25: Entry #
B26: Camper # | AB26: Camper #
B27: Pre Entry Bedding | AB27: Pre Entry Bedding
B28: Post Entry Bedding | AB28: Post Entry Bedding
B29: Arrival Date | AB29: Arrival Date
B30: Barn 3
B32: Arrival Date | AB32: Arrival Date
B33: Post entry Bedding | AB33: Post entry Bedding
B34: Pre Entry Bedding | AB34: Pre Entry Bedding
B35: Camper # | AB35: Camper #
B36: Entry # | AB36: Entry #
B37: Stall # | C37: 353 | D37: 354 | E37: 355 | F37: 356 | G37: 357 | H37: 358 | I37: 359 | J37: 360 | K37: 361 | L37: 362 | M37: 363 | N37: 364 | P37: 365 | Q37: 366 | R37: 367 | S37: 368 | T37: 369 | U37: 370 | V37: 371 | W37: 372 | X37: 373 | Y37: 374 | Z37: 375 | AA37: 376 | AB37: Stall #
B40: Stall # | C40: 352 | D40: 351 | E40: 350 | F40: 349 | G40: 348 | H40: 347 | I40: 346 | J40: 345 | K40: 344 | L40: 343 | M40: 342 | N40: 341 | P40: 340 | Q40: 339 | R40: 338 | S40: 337 | T40: 336 | U40: 335 | V40: 334 | W40: 333 | X40: 332 | Y40: 331 | Z40: 330 | AA40: 329 | AB40: Stall #
B41: Entry # | AB41: Entry #
B42: Camper # | AB42: Camper #
B43: Pre Entry Bedding | AB43: Pre Entry Bedding
B44: Post Entry Bedding | AB44: Post Entry Bedding
B45: Arrival Date | AB45: Arrival Date
B46: Barn 2
D47: Mann | E47: Mann | F47: Cloud | H47: Klemenz | I47: Sharp | J47: Sharp | K47: Eilerman
B48: Arrival Date | D48: 46284 | E48: 46284 | F48: 46284 | H48: 46284 | I48: 46284 | J48: 46284 | K48: 46284 | AB48: Arrival Date
B49: Post entry Bedding | AB49: Post entry Bedding
B50: Pre Entry Bedding | D50: 0 | E50: 6 | F50: 3 | H50: 0 | I50: 4 | J50: 4 | K50: 10 | AB50: Pre Entry Bedding
B51: Camper # | E51: 12 | F51: 11 | H51: 13 | I51: 14 | J51: 14 | AB51: Camper #
B52: Entry # | D52: 26 | E52: 26 | F52: 51 | H52: 856 | I52: 54 | J52: 55 | K52: 464 | AB52: Entry #
B53: Stall # | C53: 305 | D53: 306 | E53: 307 | F53: 308 | G53: 309 | H53: 310 | I53: 311 | J53: 312 | K53: 313 | L53: 314 | M53: 315 | N53: 316 | P53: 317 | Q53: 318 | R53: 319 | S53: 320 | T53: 321 | U53: 322 | V53: 323 | W53: 324 | X53: 325 | Y53: 326 | Z53: 327 | AA53: 328 | AB53: Stall #
C56: ARRIVAL DATE COLORS:
C57: 9/19 Thursday | G57: 9/19 Friday | K57: 9/19 Saturday | O57: After Sunday 9/21 | X57: =NOW() -> 46278.586
C60: TOTAL: | E60: ='BB LISTING Scratch Sheet'!B148 -> 7

Sheet BB Listing
A1: SORTED BY STALL NUMBER:
A2: STALL# | B2: OCCUPANT | C2: ARRIVAL DATE | D2: SHAVINGS Pre-Ordered
A3: =IF('BACK BARNS'!$C$53=0," ",'BACK BARNS'!$C$53) -> 305 | B3: =IF('BACK BARNS'!$C$47=0," ",'BACK BARNS'!$C$47) | C3: =IF('BACK BARNS'!$C$48=0," ",'BACK BARNS'!$C$48) | D3: =IF('BACK BARNS'!$C$50=0," ",'BACK BARNS'!$C$50)
A4: =IF('BACK BARNS'!$D$53=0," ",'BACK BARNS'!$D$53) -> 306 | B4: =IF('BACK BARNS'!$D$47=0," ",'BACK BARNS'!$D$47) -> Mann | C4: =IF('BACK BARNS'!$D$48=0," ",'BACK BARNS'!$D$48) -> 46284 | D4: =IF('BACK BARNS'!$D$50=0," ",'BACK BARNS'!$D$50)
A5: =IF('BACK BARNS'!$E$53=0," ",'BACK BARNS'!$E$53) -> 307 | B5: =IF('BACK BARNS'!$E$47=0," ",'BACK BARNS'!$E$47) -> Mann | C5: =IF('BACK BARNS'!$E$48=0," ",'BACK BARNS'!$E$48) -> 46284 | D5: =IF('BACK BARNS'!$E$50=0," ",'BACK BARNS'!$E$50) -> 6
A6: =IF('BACK BARNS'!$F$53=0," ",'BACK BARNS'!$F$53) -> 308 | B6: =IF('BACK BARNS'!$F$47=0," ",'BACK BARNS'!$F$47) -> Cloud | C6: =IF('BACK BARNS'!$F$48=0," ",'BACK BARNS'!$F$48) -> 46284 | D6: =IF('BACK BARNS'!$F$50=0," ",'BACK BARNS'!$F$50) -> 3
A7: =IF('BACK BARNS'!$G$53=0," ",'BACK BARNS'!$G$53) -> 309 | B7: =IF('BACK BARNS'!$G$47=0," ",'BACK BARNS'!$G$47) | C7: =IF('BACK BARNS'!$G$48=0," ",'BACK BARNS'!$G$48) | D7: =IF('BACK BARNS'!$G$50=0," ",'BACK BARNS'!$G$50)
A8: =IF('BACK BARNS'!$H$53=0," ",'BACK BARNS'!$H$53) -> 310 | B8: =IF('BACK BARNS'!$H$47=0," ",'BACK BARNS'!$H$47) -> Klemenz | C8: =IF('BACK BARNS'!$H$48=0," ",'BACK BARNS'!$H$48) -> 46284 | D8: =IF('BACK BARNS'!$H$50=0," ",'BACK BARNS'!$H$50)
A9: =IF('BACK BARNS'!$I$53=0," ",'BACK BARNS'!$I$53) -> 311 | B9: =IF('BACK BARNS'!$I$47=0," ",'BACK BARNS'!$I$47) -> Sharp | C9: =IF('BACK BARNS'!$I$48=0," ",'BACK BARNS'!$I$48) -> 46284 | D9: =IF('BACK BARNS'!$I$50=0," ",'BACK BARNS'!$I$50) -> 4
A10: =IF('BACK BARNS'!$J$53=0," ",'BACK BARNS'!$J$53) -> 312 | B10: =IF('BACK BARNS'!$J$47=0," ",'BACK BARNS'!$J$47) -> Sharp | C10: =IF('BACK BARNS'!$J$48=0," ",'BACK BARNS'!$J$48) -> 46284 | D10: =IF('BACK BARNS'!$J$50=0," ",'BACK BARNS'!$J$50) -> 4
A11: =IF('BACK BARNS'!$K$53=0," ",'BACK BARNS'!$K$53) -> 313 | B11: =IF('BACK BARNS'!$K$47=0," ",'BACK BARNS'!$K$47) -> Eilerman | C11: =IF('BACK BARNS'!$K$48=0," ",'BACK BARNS'!$K$48) -> 46284 | D11: =IF('BACK BARNS'!$K$50=0," ",'BACK BARNS'!$K$50) -> 10
A12: =IF('BACK BARNS'!$L$53=0," ",'BACK BARNS'!$L$53) -> 314 | B12: =IF('BACK BARNS'!$L$47=0," ",'BACK BARNS'!$L$47) | C12: =IF('BACK BARNS'!$L$48=0," ",'BACK BARNS'!$L$48) | D12: =IF('BACK BARNS'!$L$50=0," ",'BACK BARNS'!$L$50)
A13: =IF('BACK BARNS'!$M$53=0," ",'BACK BARNS'!$M$53) -> 315 | B13: =IF('BACK BARNS'!$M$47=0," ",'BACK BARNS'!$M$47) | C13: =IF('BACK BARNS'!$M$48=0," ",'BACK BARNS'!$M$48) | D13: =IF('BACK BARNS'!$M$50=0," ",'BACK BARNS'!$M$50)
A14: =IF('BACK BARNS'!$N$53=0," ",'BACK BARNS'!$N$53) -> 316 | B14: =IF('BACK BARNS'!$N$47=0," ",'BACK BARNS'!$N$47) | C14: =IF('BACK BARNS'!$N$48=0," ",'BACK BARNS'!$N$48) | D14: =IF('BACK BARNS'!$N$50=0," ",'BACK BARNS'!$N$50)
A15: =IF('BACK BARNS'!$P$53=0," ",'BACK BARNS'!$P$53) -> 317 | B15: =IF('BACK BARNS'!$P$47=0," ",'BACK BARNS'!$P$47) | C15: =IF('BACK BARNS'!$P$48=0," ",'BACK BARNS'!$P$48) | D15: =IF('BACK BARNS'!$O$50=0," ",'BACK BARNS'!$O$50)
A16: =IF('BACK BARNS'!$Q$53=0," ",'BACK BARNS'!$Q$53) -> 318 | B16: =IF('BACK BARNS'!$Q$47=0," ",'BACK BARNS'!$Q$47) | C16: =IF('BACK BARNS'!$Q$48=0," ",'BACK BARNS'!$Q$48) | D16: =IF('BACK BARNS'!$Q$50=0," ",'BACK BARNS'!$Q$50)
A17: =IF('BACK BARNS'!$R$53=0," ",'BACK BARNS'!$R$53) -> 319 | B17: =IF('BACK BARNS'!$R$47=0," ",'BACK BARNS'!$R$47) | C17: =IF('BACK BARNS'!$R$48=0," ",'BACK BARNS'!$R$48) | D17: =IF('BACK BARNS'!$R$50=0," ",'BACK BARNS'!$R$50)
A18: =IF('BACK BARNS'!$S$53=0," ",'BACK BARNS'!$S$53) -> 320 | B18: =IF('BACK BARNS'!$S$47=0," ",'BACK BARNS'!$S$47) | C18: =IF('BACK BARNS'!$S$48=0," ",'BACK BARNS'!$S$48) | D18: =IF('BACK BARNS'!$S$50=0," ",'BACK BARNS'!$S$50)
A19: =IF('BACK BARNS'!$T$53=0," ",'BACK BARNS'!$T$53) -> 321 | B19: =IF('BACK BARNS'!$T$47=0," ",'BACK BARNS'!$T$47) | C19: =IF('BACK BARNS'!$T$48=0," ",'BACK BARNS'!$T$48) | D19: =IF('BACK BARNS'!$T$50=0," ",'BACK BARNS'!$T$50)
A20: =IF('BACK BARNS'!$U$53=0," ",'BACK BARNS'!$U$53) -> 322 | B20: =IF('BACK BARNS'!$U$47=0," ",'BACK BARNS'!$U$47) | C20: =IF('BACK BARNS'!$U$48=0," ",'BACK BARNS'!$U$48) | D20: =IF('BACK BARNS'!$U$50=0," ",'BACK BARNS'!$U$50)
A21: =IF('BACK BARNS'!$V$53=0," ",'BACK BARNS'!$V$53) -> 323 | B21: =IF('BACK BARNS'!$V$47=0," ",'BACK BARNS'!$V$47) | C21: =IF('BACK BARNS'!$V$48=0," ",'BACK BARNS'!$V$48) | D21: =IF('BACK BARNS'!$V$50=0," ",'BACK BARNS'!$V$50)
A22: =IF('BACK BARNS'!$W$53=0," ",'BACK BARNS'!$W$53) -> 324 | B22: =IF('BACK BARNS'!$W$47=0," ",'BACK BARNS'!$W$47) | C22: =IF('BACK BARNS'!$W$48=0," ",'BACK BARNS'!$W$48) | D22: =IF('BACK BARNS'!$W$50=0," ",'BACK BARNS'!$W$50)
A23: =IF('BACK BARNS'!$X$53=0," ",'BACK BARNS'!$X$53) -> 325 | B23: =IF('BACK BARNS'!$X$47=0," ",'BACK BARNS'!$X$47) | C23: =IF('BACK BARNS'!$X$48=0," ",'BACK BARNS'!$X$48) | D23: =IF('BACK BARNS'!$X$50=0," ",'BACK BARNS'!$X$50)
A24: =IF('BACK BARNS'!$Y$53=0," ",'BACK BARNS'!$Y$53) -> 326 | B24: =IF('BACK BARNS'!$Y$47=0," ",'BACK BARNS'!$Y$47) | C24: =IF('BACK BARNS'!$Y$48=0," ",'BACK BARNS'!$Y$48) | D24: =IF('BACK BARNS'!$Y$50=0," ",'BACK BARNS'!$Y$50)
A25: =IF('BACK BARNS'!$Z$53=0," ",'BACK BARNS'!$Z$53) -> 327 | B25: =IF('BACK BARNS'!$Z$47=0," ",'BACK BARNS'!$Z$47) | C25: =IF('BACK BARNS'!$Z$48=0," ",'BACK BARNS'!$Z$48) | D25: =IF('BACK BARNS'!$Z$50=0," ",'BACK BARNS'!$Z$50)
A26: =IF('BACK BARNS'!$AA$53=0," ",'BACK BARNS'!$AA$53) -> 328 | B26: =IF('BACK BARNS'!$AA$47=0," ",'BACK BARNS'!$AA$47) | C26: =IF('BACK BARNS'!$Z$48=0," ",'BACK BARNS'!$Z$48) | D26: =IF('BACK BARNS'!$AA$50=0," ",'BACK BARNS'!$AA$50)
A27: =IF('BACK BARNS'!$AA$40=0," ",'BACK BARNS'!$AA$40) -> 329 | B27: =IF('BACK BARNS'!#REF!=0," ",'BACK BARNS'!#REF!) -> #REF! | C27: =IF('BACK BARNS'!$Z$48=0," ",'BACK BARNS'!$Z$48) | D27: =IF('BACK BARNS'!#REF!=0," ",'BACK BARNS'!#REF!) -> #REF!
A28: =IF('BACK BARNS'!$Z$40=0," ",'BACK BARNS'!$Z$40) -> 330 | B28: =IF('BACK BARNS'!#REF!=0," ",'BACK BARNS'!#REF!) -> #REF! | C28: =IF('BACK BARNS'!$Z$48=0," ",'BACK BARNS'!$Z$48) | D28: =IF('BACK BARNS'!#REF!=0," ",'BACK BARNS'!#REF!) -> #REF!
A29: =IF('BACK BARNS'!$Y$40=0," ",'BACK BARNS'!$Y$40) -> 331 | B29: =IF('BACK BARNS'!#REF!=0," ",'BACK BARNS'!#REF!) -> #REF! | C29: =IF('BACK BARNS'!$Z$48=0," ",'BACK BARNS'!$Z$48) | D29: =IF('BACK BARNS'!#REF!=0," ",'BACK BARNS'!#REF!) -> #REF!
A30: =IF('BACK BARNS'!$X$40=0," ",'BACK BARNS'!$X$40) -> 332 | B30: =IF('BACK BARNS'!#REF!=0," ",'BACK BARNS'!#REF!) -> #REF! | C30: =IF('BACK BARNS'!$Z$48=0," ",'BACK BARNS'!$Z$48) | D30: =IF('BACK BARNS'!#REF!=0," ",'BACK BARNS'!#REF!) -> #REF!
A31: =IF('BACK BARNS'!$W$40=0," ",'BACK BARNS'!$W$40) -> 333 | B31: =IF('BACK BARNS'!#REF!=0," ",'BACK BARNS'!#REF!) -> #REF! | C31: =IF('BACK BARNS'!$W$45=0," ",'BACK BARNS'!$W$45) | D31: =IF('BACK BARNS'!#REF!=0," ",'BACK BARNS'!#REF!) -> #REF!
A32: =IF('BACK BARNS'!$V$40=0," ",'BACK BARNS'!$V$40) -> 334 | B32: =IF('BACK BARNS'!#REF!=0," ",'BACK BARNS'!#REF!) -> #REF! | C32: =IF('BACK BARNS'!$V$45=0," ",'BACK BARNS'!$V$45) | D32: =IF('BACK BARNS'!#REF!=0," ",'BACK BARNS'!#REF!) -> #REF!
A33: =IF('BACK BARNS'!$U$40=0," ",'BACK BARNS'!$U$40) -> 335 | B33: =IF('BACK BARNS'!#REF!=0," ",'BACK BARNS'!#REF!) -> #REF! | C33: =IF('BACK BARNS'!$U$45=0," ",'BACK BARNS'!$U$45) | D33: =IF('BACK BARNS'!#REF!=0," ",'BACK BARNS'!#REF!) -> #REF!
A34: =IF('BACK BARNS'!$T$40=0," ",'BACK BARNS'!$T$40) -> 336 | B34: =IF('BACK BARNS'!#REF!=0," ",'BACK BARNS'!#REF!) -> #REF! | C34: =IF('BACK BARNS'!$T$45=0," ",'BACK BARNS'!$T$45) | D34: =IF('BACK BARNS'!#REF!=0," ",'BACK BARNS'!#REF!) -> #REF!
A35: =IF('BACK BARNS'!$S$40=0," ",'BACK BARNS'!$S$40) -> 337 | B35: =IF('BACK BARNS'!#REF!=0," ",'BACK BARNS'!#REF!) -> #REF! | C35: =IF('BACK BARNS'!$S$45=0," ",'BACK BARNS'!$S$45) | D35: =IF('BACK BARNS'!#REF!=0," ",'BACK BARNS'!#REF!) -> #REF!
A36: =IF('BACK BARNS'!$R$40=0," ",'BACK BARNS'!$R$40) -> 338 | B36: =IF('BACK BARNS'!#REF!=0," ",'BACK BARNS'!#REF!) -> #REF! | C36: =IF('BACK BARNS'!$R$45=0," ",'BACK BARNS'!$R$45) | D36: =IF('BACK BARNS'!#REF!=0," ",'BACK BARNS'!#REF!) -> #REF!
A37: =IF('BACK BARNS'!$Q$40=0," ",'BACK BARNS'!$Q$40) -> 339 | B37: =IF('BACK BARNS'!#REF!=0," ",'BACK BARNS'!#REF!) -> #REF! | C37: =IF('BACK BARNS'!$Q$45=0," ",'BACK BARNS'!$Q$45) | D37: =IF('BACK BARNS'!#REF!=0," ",'BACK BARNS'!#REF!) -> #REF!
A38: =IF('BACK BARNS'!$P$40=0," ",'BACK BARNS'!$P$40) -> 340 | B38: =IF('BACK BARNS'!#REF!=0," ",'BACK BARNS'!#REF!) -> #REF! | C38: =IF('BACK BARNS'!$P$45=0," ",'BACK BARNS'!$P$45) | D38: =IF('BACK BARNS'!#REF!=0," ",'BACK BARNS'!#REF!) -> #REF!
A39: =IF('BACK BARNS'!$N$40=0," ",'BACK BARNS'!$N$40) -> 341 | B39: =IF('BACK BARNS'!#REF!=0," ",'BACK BARNS'!#REF!) -> #REF! | C39: =IF('BACK BARNS'!$N$45=0," ",'BACK BARNS'!$PN$45) | D39: =IF('BACK BARNS'!#REF!=0," ",'BACK BARNS'!#REF!) -> #REF!
A40: =IF('BACK BARNS'!$M$40=0," ",'BACK BARNS'!$M$40) -> 342 | B40: =IF('BACK BARNS'!#REF!=0," ",'BACK BARNS'!#REF!) -> #REF! | C40: =IF('BACK BARNS'!$M$45=0," ",'BACK BARNS'!$M$45) | D40: =IF('BACK BARNS'!#REF!=0," ",'BACK BARNS'!#REF!) -> #REF!
...
