Workbook

Sheet MAIN BARN
P2: MAIN BARN | Z2: =NOW() -> 46278.586
C4: OFFICE | E4: FARRIER WORK AREA | J4: WASH RACKS | Q4: WASH RACKS | W4: 304 | X4: 303 | Y4: 302 | Z4: 301 | AA4: 300 | AB4: 299
Z5: 9980 | AD5: Entry #
AD6: Campers
Z7: 46284 | AD7: Arrival Date
AD8: Post Entry Shavings
Z9: 0 | AD9: Pre Entry Shaving
Z10: Kapinos 3 days
W11: Applewhite / Hersh | X11: Applewhite
W12: 46284 | X12: 46284 | AD12: Arrival Date
AD13: Post Entry Shavings
W14: 8 | X14: 0 | AD14: Pre Entry Shaving
X15: 54 | AD15: Campers
W16: 56 | X16: 9997 | AD16: Entry #
W17: 293 | X17: 294 | Y17: 295 | Z17: 296 | AA17: 297 | AB17: 298
C18: ROW 6 | Q18: ROW 6
B20: Stall # | C20: 292 | D20: 291 | E20: 290 | F20: 289 | G20: 288 | H20: 287 | I20: 286 | J20: 285 | K20: 284 | L20: 283 | M20: 282 | N20: 281 | O20: 280 | Q20: 279 | R20: 278 | S20: 277 | T20: 276 | U20: 275 | V20: 274 | W20: 273 | X20: 272 | Y20: 271 | Z20: 270 | AA20: 269 | AB20: 268 | AC20: 267 | AD20: Stall #
B21: Entry # | D21: 377 | E21: 379 | F21: 360 | G21: 380 | J21: 257 | K21: 257 | L21: 263 | M21: 264 | N21: 36 | O21: 433 | Q21: 9994 | R21: 133 | S21: 136 | T21: 133 | U21: 139 | V21: 253 | W21: 471 | X21: 56 | Z21: 400 | AA21: 400 | AB21: 46 | AC21: 462 | AD21: Entry #
B22: Campers | J22: 36 | T22: 74 | V22: 49 | AB22: 9 | AD22: Campers
B23: Arrival Date | D23: 46284 | E23: 46284 | F23: 46284 | G23: 46284 | J23: 46284 | K23: 46284 | L23: 46284 | M23: 46284 | N23: ? | O23: ? | Q23: 46284 | R23: 46284 | S23: 46284 | T23: 46284 | U23: 46284 | V23: 46284 | W23: 46284 | X23: 46284 | Z23: 46284 | AA23: 46284 | AB23: 46284 | AC23: 46284 | AD23: Arrival Date
B24: Post Entry Shavings | AD24: Post Entry Shavings
B25: Pre Entry Shaving | D25: 0 | E25: 0 | F25: 0 | G25: 0 | J25: 0 | K25: 0 | L25: 0 | M25: 0 | N25: 0 | O25: 0 | Q25: 0 | R25: 0 | S25: 0 | T25: 0 | U25: 0 | V25: 0 | W25: 0 | X25: 0 | Z25: 0 | AA25: 4 | AB25: 8 | AC25: 10 | AD25: Pre Entry Shaving
D26: Harris | E26: Harris | F26: Harris | G26: Harris | J26: Lamberson | K26: Lamberson | L26: Lamberson | M26: Lamberson | N26: Reynolds 1 days | O26: Reynolds 2 days | Q26: Gibbs | R26: Rice | S26: Rice | T26: Rice | U26: Applewhite / Rice | V26: Applewhite / Preast | W26: Applewhite / Preast | X26: Applewhite / Hersh | Z26: Spooner/ Merritt 4 days | AA26: Spooner/ Merritt | AB26: Spooner /Hersh | AC26: Spooner / Lunsford
H27: Revival Stables | I27: Revival Stables | J27: Revival Stables | K27: Revival Stables | L27: Revival Stables | M27: Revival Stables | N27: Revival Stables | O27: Revival Stables | Q27: Ostrum | R27: Ostrum | S27: Ostrum | T27: Payton | U27: Strine | V27: Strine | W27: Deck 7 days | Y27: Long | Z27: Long | AA27: Freet | AB27: Freet | AC27: Freet
B28: Arrival Date | H28: 46284 | I28: 46284 | J28: 46284 | K28: 46284 | L28: 46284 | M28: 46284 | N28: 46284 | O28: 46284 | Q28: 46284 | R28: 46284 | S28: 46284 | T28: 46284 | U28: 46284 | V28: 46284 | W28: 46284 | Y28: 46284 | Z28: 46284 | AA28: 9/19 | AB28: 9/19 | AC28: 9/19 | AD28: Arrival Date
B29: Post Entry Shavings | AD29: Post Entry Shavings
B30: Pre Entry Shaving | H30: 0 | I30: 0 | J30: 0 | K30: 0 | L30: 0 | M30: 0 | N30: 0 | O30: 0 | Q30: 0 | R30: 0 | S30: 0 | T30: 4 | U30: 3 | V30: 3 | W30: 5 | Y30: 0 | Z30: 0 | AA30: 0 | AB30: 0 | AC30: 0 | AD30: Pre Entry Shaving
B31: Campers | T31: 71 | U31: 57 | Y31: 27 | AA31: 50 | AD31: Campers
B32: Entry # | H32: 9984 | I32: 9984 | J32: 9984 | K32: 9984 | L32: 9984 | M32: 9984 | N32: 9984 | O32: 9984 | Q32: 59 | R32: 64 | S32: 98 | T32: 465 | U32: 9990 | V32: 9990 | W32: 435 | Y32: 395 | Z32: 399 | AA32: 265 | AB32: 276 | AC32: 276 | AD32: Entry #
B33: Stall # | C33: 241 | D33: 242 | E33: 243 | F33: 244 | G33: 245 | H33: 246 | I33: 247 | J33: 248 | K33: 249 | L33: 250 | M33: 251 | N33: 252 | O33: 253 | Q33: 254 | R33: 255 | S33: 256 | T33: 257 | U33: 258 | V33: 259 | W33: 260 | X33: 261 | Y33: 262 | Z33: 263 | AA33: 264 | AB33: 265 | AC33: 266 | AD33: Stall #
C34: ROW 5 | Q34: ROW 5
B36: Stall # | C36: 240 | D36: 239 | E36: 238 | F36: 237 | G36: 236 | H36: 235 | I36: 234 | J36: 233 | K36: 232 | L36: 231 | M36: 230 | N36: 229 | O36: 228 | Q36: 227 | R36: 226 | S36: 225 | T36: 224 | U36: 223 | V36: 222 | W36: 221 | X36: 220 | Y36: 219 | Z36: 218 | AA36: 217 | AB36: 216 | AC36: 215 | AD36: Stall #
B37: Entry # | H37: 9984 | I37: 9984 | J37: 9984 | K37: 9984 | L37: 9984 | M37: 9984 | N37: 9984 | O37: 9984 | Q37: 146 | R37: 146 | T37: 9990 | U37: 9990 | V37: 9990 | W37: 105 | Y37: 87 | Z37: 999 | AA37: 250 | AC37: 250 | AD37: Entry #
B38: Campers | O38: 66 | Q38: 73 | W38: 67 | Y38: 62 | AC38: 55/56 | AD38: Campers
B39: Arrival Date | H39: 46284 | I39: 46284 | J39: 46284 | K39: 46284 | L39: 46284 | M39: 46284 | N39: 46284 | O39: 46284 | Q39: 46284 | R39: 46284 | S39: 46284 | T39: 46284 | U39: 46284 | V39: 46284 | W39: 46284 | Y39: 46284 | Z39: 46284 | AA39: 46284 | AC39: 9/19 | AD39: Arrival Date
B40: Post Entry Shavings | AD40: Post Entry Shavings
B41: Pre Entry Shaving | H41: 128 | I41: 0 | J41: 0 | K41: 0 | L41: 0 | M41: 0 | N41: 0 | O41: 0 | Q41: 0 | R41: 0 | S41: 0 | T41: 0 | U41: 3 | V41: 3 | W41: 8 | Y41: 0 | Z41: 0 | AA41: 0 | AC41: 2 | AD41: Pre Entry Shaving
H42: Revival Stables | I42: Revival Stables | J42: Revival Stables | K42: Revival Stables | L42: Revival Stables | M42: Revival Stables | N42: Revival Stables | O42: Revival Stables | Q42: Ostrum | R42: Ostrum | S42: NWHA | T42: Strine | U42: Strine | V42: Strine | W42: Fejko | Y42: Terrell | Z42: Johnston | AA42: Johnston | AC42: Johnston
F43: Kanstul / White/ Ryan | G43: Kanstul / White/ Ryan | H43: Kanstul / White/ Ryan | I43: Kanstul / White/ Ryan | J43: Kanstul / White/ Ryan | K43: Kanstul / White/ Ryan | L43: Kanstul | M43: Kanstul | N43: Kanstul | O43: Kanstul | AB43: Lowe | AC43: Lowe
B44: Arrival Date | AB44: 46284 | AC44: 46284 | AD44: Arrival Date
B45: Post Entry Shavings | AD45: Post Entry Shavings
B46: Pre Entry Shaving | F46: 0 | G46: 0 | H46: 0 | I46: 0 | J46: 0 | K46: 0 | L46: 0 | M46: 0 | N46: 0 | O46: 0 | AB46: 0 | AC46: 3 | AD46: Pre Entry Shaving
B47: Campers | J47: 30/31 | AB47: 85 | AD47: Campers
B48: Entry # | F48: 216 | G48: 216 | H48: 202 | I48: 202 | J48: 201 | K48: 201 | L48: 9987 | M48: 9987 | N48: 9987 | O48: 9987 | AB48: 397 | AC48: 398 | AD48: Entry #
B49: Stall # | C49: 189 | D49: 190 | E49: 191 | F49: 192 | G49: 193 | H49: 194 | I49: 195 | J49: 196 | K49: 197 | L49: 198 | M49: 199 | N49: 200 | O49: 201 | Q49: 202 | R49: 203 | S49: 204 | T49: 205 | U49: 206 | V49: 207 | W49: 208 | X49: 209 | Y49: 210 | Z49: 211 | AA49: 212 | AB49: 213 | AC49: 214 | AD49: Stall #
C50: ROW 4 | Q50: ROW 4
B52: Stall # | C52: 188 | D52: 187 | E52: 186 | F52: 185 | G52: 184 | H52: 183 | I52: 182 | J52: 181 | K52: WOMEN’S RESTROOMS | Q52: MEN’S RESTROOMS | V52: 180 | W52: 179 | X52: 178 | Y52: 177 | Z52: 176 | AA52: 175 | AB52: 174 | AC52: 173
B53: Entry # | E53: 448 | F53: 448 | G53: 205 | H53: 205 | I53: 27 | J53: 27 | AC53: 397 | AD53: Entry #
B54: Campers | AD54: Campers
B55: Arrival Date | AC55: 46284 | AD55: Arrival Date
B56: Post Entry Shavings | AD56: Post Entry Shavings
B57: Pre Entry Shaving | E57: 0 | F57: 0 | G57: 0 | H57: 0 | I57: 0 | J57: 0 | AC57: 3 | AD57: Pre Entry Shaving
E58: Kanstul / White/ Ryan | F58: Kanstul / White/ Ryan | G58: Kanstul / Ryan | H58: Kanstul / Ryan | I58: Kanstul / Ryan | J58: Kanstul / Ryan | AC58: Lowe
C59: Pacheco | D59: Pacheco | H59: Gregory | I59: Gregory | J59: Gregory | V59: Finerfrock | AB59: Pereira | AC59: Pereira
B60: Arrival Date | C60: 46284 | D60: 46284 | H60: 46284 | I60: 46284 | J60: 46284 | V60: 46284 | AB60: 46284 | AC60: 46284 | AD60: Arrival Date
B61: Post Entry Shavings | AD61: Post Entry Shavings
B62: Pre Entry Shaving | C62: 6 | D62: 0 | H62: 0 | I62: 0 | J62: 0 | V62: 0 | AB62: 1 | AC62: 2 | AD62: Pre Entry Shaving
B63: Campers | C63: 88 | V63: 53 | AD63: Campers
B64: Entry # | C64: 163 | D64: 163 | H64: 9991 | I64: 9991 | J64: 9991 | V64: 393 | AB64: 150 | AC64: 150 | AD64: Entry #
B65: Stall # | C65: 157 | D65: 158 | E65: 159 | F65: 160 | G65: 161 | H65: 162 | I65: 163 | J65: 164 | V65: 165 | W65: 166 | X65: 167 | Y65: 168 | Z65: 169 | AA65: 170 | AB65: 171 | AC65: 172 | AD65: Stall #
C66: ROW 3 | Q66: ROW 3
B68: Stall # | C68: 156 | D68: 155 | E68: 154 | F68: 153 | G68: 152 | H68: 151 | I68: 150 | J68: 149 | K68: 148 | L68: 147 | M68: 146 | N68: 145 | O68: 144 | Q68: 143 | R68: 142 | S68: 141 | T68: 140 | U68: 139 | V68: 138 | W68: 137 | X68: 136 | Y68: 135 | Z68: 134 | AA68: 133 | AB68: 132 | AC68: 131
B69: Entry # | C69: 9986 | D69: 9986 | E69: 9986 | F69: 9986 | G69: 9986 | H69: 9991 | I69: 9991 | J69: 9991 | K69: 9991 | L69: 9991 | M69: 9991 | N69: 9991 | O69: 9991 | Q69: 454 | R69: 452 | S69: 454 | T69: 453 | U69: 453 | V69: 456 | AA69: 9993 | AB69: 9993 | AC69: 9993 | AD69: Entry #
B70: Campers | T70: 53 | AD70: Campers
B71: Arrival Date | C71: 46284 | D71: 46284 | E71: 46284 | F71: 46284 | G71: 46284 | H71: 46284 | I71: 46284 | J71: 46284 | K71: 46284 | L71: 46284 | M71: 46284 | N71: 46284 | O71: 46284 | Q71: 46284 | R71: 46284 | S71: 46284 | T71: 46284 | U71: 46284 | V71: 46284 | AA71: 46284 | AB71: 46284 | AC71: 46284 | AD71: Arrival Date
B72: Post Entry Shavings | AD72: Post Entry Shavings
B73: Pre Entry Shaving | C73: 0 | D73: 0 | E73: 0 | F73: 0 | G73: 0 | H73: 0 | I73: 0 | J73: 0 | K73: 0 | L73: 0 | M73: 0 | N73: 0 | O73: 0 | Q73: 8 | R73: 8 | S73: 0 | T73: 16 | U73: 0 | V73: 8 | AA73: 3 | AB73: 3 | AC73: 3 | AD73: Pre Entry Shaving
C74: DGS | D74: DGS | E74: DGS | F74: DGS | G74: DGS | H74: Gregory | I74: Gregory | J74: Gregory | K74: Gregory | L74: Gregory | M74: Gregory | N74: Gregory | O74: Gregory | Q74: Crawhorn / Lay | R74: Crawhorn / Finerfrock | S74: Crawhorn / Lay | T74: Crawhorn / Steinbrecher | U74: Crawhorn / Steinbrecher | V74: Crawhorn / Finerfrock | AA74: Pereira | AB74: Pereira | AC74: Pereira
C75: DGS | D75: DGS | E75: DGS | F75: DGS | G75: DGS | H75: DGS | I75: DGS | J75: DGS | K75: DGS | L75: DGS | M75: DGS | N75: DGS | O75: DGS | Q75: Elliott | R75: Elliott | S75: Elliott | T75: Elliott | U75: Elliott
B76: Arrival Date | C76: 46284 | D76: 46284 | E76: 46284 | F76: 46284 | G76: 46284 | H76: 46284 | I76: 46284 | J76: 46284 | K76: 46284 | L76: 46284 | M76: 46284 | N76: 46284 | O76: 46284 | Q76: 46284 | R76: 46284 | S76: 46284 | T76: 46284 | U76: 46284 | AD76: Arrival Date
B77: Post Entry Shavings | AD77: Post Entry Shavings
B78: Pre Entry Shaving | C78: 0 | D78: 0 | E78: 0 | F78: 0 | G78: 0 | H78: 0 | I78: 0 | J78: 0 | K78: 0 | L78: 0 | M78: 0 | N78: 0 | O78: 0 | Q78: 0 | R78: 0 | S78: 0 | T78: 0 | U78: 0 | AD78: Pre Entry Shaving
B79: Campers | AD79: Campers
B80: Entry # | C80: 9986 | D80: 9986 | E80: 9986 | F80: 9986 | G80: 9986 | H80: 9986 | I80: 9986 | J80: 9986 | K80: 9986 | L80: 9986 | M80: 9986 | N80: 9986 | O80: 9986 | Q80: 9979 | R80: 9979 | S80: 9979 | T80: 9979 | U80: 9979 | AD80: Entry #
B81: Stall # | C81: 105 | D81: 106 | E81: 107 | F81: 108 | G81: 109 | H81: 110 | I81: 111 | J81: 112 | K81: 113 | L81: 114 | M81: 115 | N81: 116 | O81: 117 | AD81: Stall #
C82: ROW 2 | Q82: ROW 2
B84: Stall # | C84: 104 | D84: 103 | E84: 102 | F84: 101 | G84: 100 | H84: 99 | I84: 98 | J84: 97 | K84: 96 | L84: 95 | M84: 94 | N84: 93 | O84: 92 | Q84: 91 | R84: 90 | S84: 89 | T84: 88 | U84: 87 | V84: 86 | W84: 85 | X84: 84 | Y84: 83 | Z84: 82 | AA84: 81 | AB84: 80 | AC84: 79 | AD84: Stall #
B85: Entry # | C85: 9986 | D85: 9986 | E85: 9986 | F85: 9986 | G85: 9986 | H85: 9986 | I85: 9986 | J85: 577 | K85: 9986 | L85: 9986 | M85: 9986 | N85: 9986 | O85: 9986 | Q85: 501 | R85: 501 | S85: 506 | AD85: Entry #
B86: Campers | O86: 29 | AD86: Campers
B87: Arrival Date | C87: 46284 | D87: 46284 | E87: 46284 | F87: 46284 | G87: 46284 | H87: 46284 | I87: 46284 | J87: 46284 | K87: 46284 | L87: 46284 | M87: 46284 | N87: 46284 | O87: 46284 | Q87: 46284 | R87: 46284 | S87: 46284 | AD87: Arrival Date
B88: Post Entry Shavings | AD88: Post Entry Shavings
B89: Pre Entry Shaving | C89: 0 | D89: 0 | E89: 0 | F89: 0 | G89: 0 | H89: 0 | I89: 0 | J89: 0 | K89: 0 | L89: 0 | M89: 0 | N89: 0 | O89: 0 | Q89: 2 | R89: 2 | S89: 2 | AD89: Pre Entry Shaving
C90: DGS | D90: DGS | E90: DGS | F90: DGS | G90: DGS | H90: DGS | I90: DGS | J90: DGS /Levin | K90: DGS | L90: DGS | M90: DGS | N90: DGS | O90: DGS | Q90: Moore | R90: Moore | S90: Moore
K91: NWHA Break down | L91: NWHA Break down | M91: NWHA Break down | N91: NWHA Break down | O91: NWHA Break down | Q91: Engleman | R91: Engleman | S91: Batts | T91: Batts | U91: Batts | V91: Batts | W91: Batts | Y91: Ruth Spinelli | Z91: Ruth Spinelli | AA91: Spinelli | AB91: Spinelli | AC91: Spinelli / Tack
B92: Arrival Date | Q92: 46284 | R92: 46284 | S92: 46284 | T92: 46284 | U92: 46284 | V92: 46284 | W92: 46284 | Y92: 46284 | Z92: 46284 | AA92: 46284 | AB92: 46284 | AC92: 46284 | AD92: Arrival Date
B93: Post Entry Shavings | AD93: Post Entry Shavings
B94: Pre Entry Shaving | Q94: 0 | R94: 0 | S94: 3 | T94: 3 | U94: 6 | V94: 3 | W94: 3 | Y94: 0 | Z94: 7 | AA94: 7 | AB94: 7 | AC94: 0 | AD94: Pre Entry Shaving
B95: Campers | Q95: 51 | R95: 52 | U95: 58 | AD95: Campers
B96: Entry# | Q96: 148 | R96: 148 | S96: 124 | T96: 124 | U96: 45 | V96: 124 | W96: 131 | Y96: 480 | Z96: 480 | AA96: 482 | AB96: 483 | AC96: 482 | AD96: Entry #
B97: Stall # | C97: 53 | D97: 54 | E97: 55 | F97: 56 | G97: 57 | H97: 58 | I97: 59 | J97: 60 | K97: 61 | L97: 62 | M97: 63 | N97: 64 | O97: 65 | Q97: 66 | R97: 67 | S97: 68 | T97: 69 | U97: 70 | V97: 71 | W97: 72 | X97: 73 | Y97: 74 | Z97: 75 | AA97: 76 | AB97: 77 | AC97: 78 | AD97: Stall #
C98: ROW 1 | Q98: ROW 1
B100: Stall # | C100: 52 | D100: 51 | E100: 50 | F100: 49 | G100: 48 | H100: 47 | I100: 46 | J100: 45 | K100: 44 | L100: 43 | M100: 42 | N100: 41 | O100: 40 | Q100: 39 | R100: 38 | S100: 37 | T100: 36 | U100: 35 | V100: 34 | W100: 33 | X100: 32 | Y100: 31 | Z100: 30 | AA100: 29 | AB100: 28 | AC100: 27 | AD100: Stall #
B101: Entry # | S101: 106 | T101: 106 | U101: 122 | V101: 352 | W101: 357 | X101: 9992 | Y101: 481 | Z101: 481 | AA101: 484 | AB101: 394 | AC101: 394 | AD101: Entry #
B102: Campers | T102: 79 | V102: 78 | AC102: 117 | AD102: Campers #
B103: Arrival Date | S103: 46284 | T103: 46284 | U103: 46284 | V103: 46284 | W103: 46284 | X103: 46284 | Y103: 46284 | Z103: 46284 | AA103: 46284 | AB103: 46284 | AC103: 46284 | AD103: Arrival Date
B104: Post Entry Shavings | AD104: Post Entry Shavings
B105: Pre Entry Shaving | S105: 0 | T105: 4 | U105: 4 | V105: 2 | W105: 2 | X105: 0 | Y105: 7 | Z105: 0 | AA105: 7 | AB105: 7 | AC105: 0 | AD105: Pre Entry Shaving
K106: NWHA Break down | L106: NWHA Break down | M106: NWHA Break down | N106: NWHA Break down | O106: NWHA Break down | Q106: NWHA Break down | R106: NWHA Break down | S106: Mobley | T106: Mobley | U106: Mobley | V106: Luna | W106: Luna | X106: Luna | Y106: Spinelli / Lucareli | Z106: Spinelli / Lucareli | AA106: Spinelli | AB106: Spinelli | AC106: Spinelli / Sitting
C107: Shavings Storage ? | Q107: Earl Break down | R107: Earl | S107: Earl | T107: Earl
A108: Arrival Date | Q108: 46284 | R108: 46284 | S108: 46284 | T108: 46284 | AD108: Arrival Date
...

Sheet Notes
A1: 9/19 report
A2: We used 29 stalls
A3: On 9/19 we did not use stall # 198
A4: We used 7 30 amp and 2 50 amp
A8: 9/20 Report

Sheet BB LISTING Scratch Sheet
A1: STALL# | B1: OCCUPANT | C1: ARRIVAL & DEPARTURE INFO | D1: SHAVINGS PRE-ORDER
A2: ='BACK BARNS'!$C$53 -> 305 | B2: ='BACK BARNS'!$C$47 -> 0 | C2: ='BACK BARNS'!$C$48 -> 0 | D2: ='BACK BARNS'!$C$50 -> 0
A3: ='BACK BARNS'!$D$53 -> 306 | B3: ='BACK BARNS'!$D$47 -> Mann | C3: ='BACK BARNS'!$D$48 -> 46284 | D3: ='BACK BARNS'!$D$50 -> 0
A4: ='BACK BARNS'!$E$53 -> 307 | B4: ='BACK BARNS'!$E$47 -> Mann | C4: ='BACK BARNS'!$E$48 -> 46284 | D4: ='BACK BARNS'!$E$50 -> 6
A5: ='BACK BARNS'!$F$53 -> 308 | B5: ='BACK BARNS'!$F$47 -> Cloud | C5: ='BACK BARNS'!$F$48 -> 46284 | D5: ='BACK BARNS'!$F$50 -> 3
A6: ='BACK BARNS'!$G$53 -> 309 | B6: ='BACK BARNS'!$G$47 -> 0 | C6: ='BACK BARNS'!$G$48 -> 0 | D6: ='BACK BARNS'!$G$50 -> 0
A7: ='BACK BARNS'!$H$53 -> 310 | B7: ='BACK BARNS'!$H$47 -> Klemenz | C7: ='BACK BARNS'!$H$48 -> 46284 | D7: ='BACK BARNS'!$H$50 -> 0
A8: ='BACK BARNS'!$I$53 -> 311 | B8: ='BACK BARNS'!$I$47 -> Sharp | C8: ='BACK BARNS'!$I$48 -> 46284 | D8: ='BACK BARNS'!$I$50 -> 4
A9: ='BACK BARNS'!$J$53 -> 312 | B9: ='BACK BARNS'!$J$47 -> Sharp | C9: ='BACK BARNS'!$J$48 -> 46284 | D9: ='BACK BARNS'!$J$50 -> 4
A10: ='BACK BARNS'!$K$53 -> 313 | B10: ='BACK BARNS'!$K$47 -> Eilerman | C10: ='BACK BARNS'!$K$48 -> 46284 | D10: ='BACK BARNS'!$K$50 -> 10
A11: ='BACK BARNS'!$L$53 -> 314 | B11: ='BACK BARNS'!$L$47 -> 0 | C11: ='BACK BARNS'!$L$48 -> 0 | D11: ='BACK BARNS'!$L$50 -> 0
A12: ='BACK BARNS'!$M$53 -> 315 | B12: ='BACK BARNS'!$M$47 -> 0 | C12: ='BACK BARNS'!$M$48 -> 0 | D12: ='BACK BARNS'!$M$50 -> 0
A13: ='BACK BARNS'!$N$53 -> 316 | B13: ='BACK BARNS'!$N$47 -> 0 | C13: ='BACK BARNS'!$N$48 -> 0 | D13: ='BACK BARNS'!$N$50 -> 0
A14: ='BACK BARNS'!$P$53 -> 317 | B14: ='BACK BARNS'!$P$47 -> 0 | C14: ='BACK BARNS'!$P$48 -> 0 | D14: ='BACK BARNS'!$P$50 -> 0
A15: ='BACK BARNS'!$Q$53 -> 318 | B15: ='BACK BARNS'!$Q$47 -> 0 | C15: ='BACK BARNS'!$Q$48 -> 0 | D15: ='BACK BARNS'!$Q$50 -> 0
A16: ='BACK BARNS'!$R$53 -> 319 | B16: ='BACK BARNS'!$R$47 -> 0 | C16: ='BACK BARNS'!$R$48 -> 0 | D16: ='BACK BARNS'!$R$50 -> 0
A17: ='BACK BARNS'!$S$53 -> 320 | B17: ='BACK BARNS'!$S$47 -> 0 | C17: ='BACK BARNS'!$S$48 -> 0 | D17: ='BACK BARNS'!$S$50 -> 0
A18: ='BACK BARNS'!$T$53 -> 321 | B18: ='BACK BARNS'!$T$47 -> 0 | C18: ='BACK BARNS'!$T$48 -> 0 | D18: ='BACK BARNS'!$T$50 -> 0
A19: ='BACK BARNS'!$U$53 -> 322 | B19: ='BACK BARNS'!$U$47 -> 0 | C19: ='BACK BARNS'!$U$48 -> 0 | D19: ='BACK BARNS'!$U$50 -> 0
A20: ='BACK BARNS'!$V$53 -> 323 | B20: ='BACK BARNS'!$V$47 -> 0 | C20: ='BACK BARNS'!$V$48 -> 0 | D20: ='BACK BARNS'!$V$50 -> 0
A21: ='BACK BARNS'!$W$53 -> 324 | B21: ='BACK BARNS'!$W$47 -> 0 | C21: ='BACK BARNS'!$W$48 -> 0 | D21: ='BACK BARNS'!$W$50 -> 0
A22: ='BACK BARNS'!$X$53 -> 325 | B22: ='BACK BARNS'!$X$47 -> 0 | C22: ='BACK BARNS'!$X$48 -> 0 | D22: ='BACK BARNS'!$X$50 -> 0
A23: ='BACK BARNS'!$Y$53 -> 326 | B23: ='BACK BARNS'!$Y$47 -> 0 | C23: ='BACK BARNS'!$Y$48 -> 0 | D23: ='BACK BARNS'!$Y$50 -> 0
A24: ='BACK BARNS'!$Z$53 -> 327 | B24: ='BACK BARNS'!$Z$47 -> 0 | C24: ='BACK BARNS'!$Z$48 -> 0 | D24: ='BACK BARNS'!$Z$50 -> 0
A25: ='BACK BARNS'!$AA$53 -> 328 | B25: ='BACK BARNS'!$AA$47 -> 0 | C25: ='BACK BARNS'!$AA$48 -> 0 | D25: ='BACK BARNS'!$AA$50 -> 0
A26: ='BACK BARNS'!$AA$40 -> 329 | B26: ='BACK BARNS'!#REF! -> #REF! | C26: ='BACK BARNS'!$AA$45 -> 0 | D26: ='BACK BARNS'!#REF! -> #REF!
A27: ='BACK BARNS'!$Z$40 -> 330 | B27: ='BACK BARNS'!#REF! -> #REF! | C27: ='BACK BARNS'!$Z$45 -> 0 | D27: ='BACK BARNS'!#REF! -> #REF!
A28: ='BACK BARNS'!$Y$40 -> 331 | B28: ='BACK BARNS'!#REF! -> #REF! | C28: ='BACK BARNS'!$Y$45 -> 0 | D28: ='BACK BARNS'!#REF! -> #REF!
A29: ='BACK BARNS'!$X$40 -> 332 | B29: ='BACK BARNS'!#REF! -> #REF! | C29: ='BACK BARNS'!$X$45 -> 0 | D29: 0
A30: ='BACK BARNS'!$W$40 -> 333 | B30: ='BACK BARNS'!#REF! -> #REF! | C30: ='BACK BARNS'!$W$45 -> 0 | D30: ='BACK BARNS'!#REF! -> #REF!
A31: ='BACK BARNS'!$V$40 -> 334 | B31: ='BACK BARNS'!#REF! -> #REF! | C31: ='BACK BARNS'!$V$45 -> 0 | D31: 6
A32: ='BACK BARNS'!$U$40 -> 335 | B32: ='BACK BARNS'!#REF! -> #REF! | C32: ='BACK BARNS'!$U$45 -> 0 | D32: ='BACK BARNS'!#REF! -> #REF!
A33: ='BACK BARNS'!$T$40 -> 336 | B33: ='BACK BARNS'!#REF! -> #REF! | C33: ='BACK BARNS'!$T$45 -> 0 | D33: ='BACK BARNS'!#REF! -> #REF!
A34: ='BACK BARNS'!$S$40 -> 337 | B34: ='BACK BARNS'!#REF! -> #REF! | C34: ='BACK BARNS'!$S$45 -> 0 | D34: ='BACK BARNS'!#REF! -> #REF!
A35: ='BACK BARNS'!$R$40 -> 338 | B35: ='BACK BARNS'!#REF! -> #REF! | C35: ='BACK BARNS'!$R$45 -> 0 | D35: ='BACK BARNS'!#REF! -> #REF!
A36: ='BACK BARNS'!$Q$40 -> 339 | B36: ='BACK BARNS'!#REF! -> #REF! | C36: ='BACK BARNS'!$Q$45 -> 0 | D36: ='BACK BARNS'!#REF! -> #REF!
A37: ='BACK BARNS'!$P$40 -> 340 | B37: ='BACK BARNS'!#REF! -> #REF! | C37: ='BACK BARNS'!$P$45 -> 0 | D37: ='BACK BARNS'!#REF! -> #REF!
A38: ='BACK BARNS'!$N$40 -> 341 | B38: ='BACK BARNS'!#REF! -> #REF! | C38: ='BACK BARNS'!$N$45 -> 0 | D38: ='BACK BARNS'!#REF! -> #REF!
A39: ='BACK BARNS'!$M$40 -> 342 | B39: ='BACK BARNS'!#REF! -> #REF! | C39: ='BACK BARNS'!$M$45 -> 0 | D39: ='BACK BARNS'!#REF! -> #REF!
A40: ='BACK BARNS'!$L$40 -> 343 | B40: ='BACK BARNS'!#REF! -> #REF! | C40: ='BACK BARNS'!$L$45 -> 0 | D40: ='BACK BARNS'!#REF! -> #REF!
A41: ='BACK BARNS'!$K$40 -> 344 | B41: ='BACK BARNS'!#REF! -> #REF! | C41: ='BACK BARNS'!$K$45 -> 0 | D41: ='BACK BARNS'!#REF! -> #REF!
A42: ='BACK BARNS'!$J$40 -> 345 | B42: ='BACK BARNS'!#REF! -> #REF! | C42: ='BACK BARNS'!$J$45 -> 0 | D42: ='BACK BARNS'!#REF! -> #REF!
A43: ='BACK BARNS'!$I$40 -> 346 | B43: ='BACK BARNS'!#REF! -> #REF! | C43: ='BACK BARNS'!$I$45 -> 0 | D43: ='BACK BARNS'!#REF! -> #REF!
A44: ='BACK BARNS'!$H$40 -> 347 | B44: ='BACK BARNS'!#REF! -> #REF! | C44: ='BACK BARNS'!$H$45 -> 0 | D44: ='BACK BARNS'!#REF! -> #REF!
A45: ='BACK BARNS'!$G$40 -> 348 | B45: ='BACK BARNS'!#REF! -> #REF! | C45: ='BACK BARNS'!$G$45 -> 0 | D45: ='BACK BARNS'!#REF! -> #REF!
A46: ='BACK BARNS'!$F$40 -> 349 | B46: ='BACK BARNS'!#REF! -> #REF! | C46: ='BACK BARNS'!$F$45 -> 0 | D46: ='BACK BARNS'!#REF! -> #REF!
A47: ='BACK BARNS'!$E$40 -> 350 | B47: ='BACK BARNS'!#REF! -> #REF! | C47: ='BACK BARNS'!$E$45 -> 0 | D47: ='BACK BARNS'!#REF! -> #REF!
A48: ='BACK BARNS'!$D$40 -> 351 | B48: ='BACK BARNS'!#REF! -> #REF! | C48: ='BACK BARNS'!$D$45 -> 0 | D48: ='BACK BARNS'!#REF! -> #REF!
A49: ='BACK BARNS'!$C$40 -> 352 | B49: ='BACK BARNS'!#REF! -> #REF! | C49: ='BACK BARNS'!$C$45 -> 0 | D49: ='BACK BARNS'!#REF! -> #REF!
A50: ='BACK BARNS'!$C$37 -> 353 | B50: ='BACK BARNS'!$C$31 -> 0 | C50: ='BACK BARNS'!$C$33 -> 0 | D50: ='BACK BARNS'!$C$30 -> 0
A51: ='BACK BARNS'!$D$37 -> 354 | B51: ='BACK BARNS'!$D$31 -> 0 | C51: ='BACK BARNS'!$D$33 -> 0 | D51: ='BACK BARNS'!$D$36 -> 0
A52: ='BACK BARNS'!$E$37 -> 355 | B52: ='BACK BARNS'!$E$31 -> 0 | C52: ='BACK BARNS'!$E$33 -> 0 | D52: ='BACK BARNS'!$E$36 -> 0
A53: ='BACK BARNS'!$F$37 -> 356 | B53: ='BACK BARNS'!$F$31 -> 0 | C53: ='BACK BARNS'!$F$33 -> 0 | D53: ='BACK BARNS'!$F$36 -> 0
A54: ='BACK BARNS'!$G$37 -> 357 | B54: ='BACK BARNS'!$G$31 -> 0 | C54: ='BACK BARNS'!$G$33 -> 0 | D54: ='BACK BARNS'!$G$36 -> 0
A55: ='BACK BARNS'!$H$37 -> 358 | B55: ='BACK BARNS'!$H$31 -> 0 | C55: ='BACK BARNS'!$H$33 -> 0 | D55: ='BACK BARNS'!$H$36 -> 0
A56: ='BACK BARNS'!$I$37 -> 359 | B56: ='BACK BARNS'!$I$31 -> 0 | C56: ='BACK BARNS'!$I$33 -> 0 | D56: ='BACK BARNS'!$I$36 -> 0
A57: ='BACK BARNS'!$J$37 -> 360 | B57: ='BACK BARNS'!$J$31 -> 0 | C57: ='BACK BARNS'!$J$33 -> 0 | D57: ='BACK BARNS'!$J$36 -> 0
A58: ='BACK BARNS'!$K$37 -> 361 | B58: ='BACK BARNS'!$K$31 -> 0 | C58: ='BACK BARNS'!$K$33 -> 0 | D58: ='BACK BARNS'!$K$36 -> 0
A59: ='BACK BARNS'!$L$37 -> 362 | B59: ='BACK BARNS'!$L$31 -> 0 | C59: ='BACK BARNS'!$L$33 -> 0 | D59: ='BACK BARNS'!$L$36 -> 0
A60: ='BACK BARNS'!$M$37 -> 363 | B60: ='BACK BARNS'!$M$31 -> 0 | C60: ='BACK BARNS'!$M$33 -> 0 | D60: ='BACK BARNS'!$M$36 -> 0
A61: ='BACK BARNS'!$N$37 -> 364 | B61: ='BACK BARNS'!$N$31 -> 0 | C61: ='BACK BARNS'!$N$33 -> 0 | D61: ='BACK BARNS'!$N$36 -> 0
A62: ='BACK BARNS'!$P$37 -> 365 | B62: ='BACK BARNS'!$P$31 -> 0 | C62: ='BACK BARNS'!$P$33 -> 0 | D62: ='BACK BARNS'!$P$36 -> 0
A63: ='BACK BARNS'!$Q$37 -> 366 | B63: ='BACK BARNS'!$Q$31 -> 0 | C63: ='BACK BARNS'!$Q$33 -> 0 | D63: ='BACK BARNS'!$Q$36 -> 0
A64: ='BACK BARNS'!$R$37 -> 367 | B64: ='BACK BARNS'!$R$31 -> 0 | C64: ='BACK BARNS'!$R$33 -> 0 | D64: ='BACK BARNS'!$R$36 -> 0
A65: ='BACK BARNS'!$S$37 -> 368 | B65: ='BACK BARNS'!$S$31 -> 0 | C65: ='BACK BARNS'!$S$33 -> 0 | D65: ='BACK BARNS'!$S$36 -> 0
A66: ='BACK BARNS'!$T$37 -> 369 | B66: ='BACK BARNS'!$T$31 -> 0 | C66: ='BACK BARNS'!$T$33 -> 0 | D66: ='BACK BARNS'!$T$36 -> 0
A67: ='BACK BARNS'!$U$37 -> 370 | B67: ='BACK BARNS'!$U$31 -> 0 | C67: ='BACK BARNS'!$U$33 -> 0 | D67: ='BACK BARNS'!$U$36 -> 0
A68: ='BACK BARNS'!$V$37 -> 371 | B68: ='BACK BARNS'!$V$31 -> 0 | C68: ='BACK BARNS'!$V$33 -> 0 | D68: ='BACK BARNS'!$V$36 -> 0
A69: ='BACK BARNS'!$W$37 -> 372 | B69: ='BACK BARNS'!$W$31 -> 0 | C69: ='BACK BARNS'!$W$33 -> 0 | D69: ='BACK BARNS'!$W$36 -> 0
A70: ='BACK BARNS'!$X$37 -> 373 | B70: ='BACK BARNS'!$X$31 -> 0 | C70: ='BACK BARNS'!$X$33 -> 0 | D70: ='BACK BARNS'!$X$36 -> 0
A71: ='BACK BARNS'!$Y$37 -> 374 | B71: ='BACK BARNS'!$Y$31 -> 0 | C71: ='BACK BARNS'!$Y$33 -> 0 | D71: ='BACK BARNS'!$Y$36 -> 0
A72: ='BACK BARNS'!$Z$37 -> 375 | B72: ='BACK BARNS'!$Z$31 -> 0 | C72: ='BACK BARNS'!$Z$33 -> 0 | D72: ='BACK BARNS'!$Z$36 -> 0
A73: ='BACK BARNS'!$AA$37 -> 376 | B73: ='BACK BARNS'!$AA$31 -> 0 | C73: ='BACK BARNS'!$AA$33 -> 0 | D73: ='BACK BARNS'!$AA$36 -> 0
A74: ='BACK BARNS'!$AA$24 -> 377 | B74: ='BACK BARNS'!$AA$25 -> 0 | C74: ='BACK BARNS'!#REF! -> #REF! | D74: ='BACK BARNS'!$AA$30 -> 0
A75: ='BACK BARNS'!$Z$24 -> 378 | B75: ='BACK BARNS'!$Z$25 -> 0 | C75: ='BACK BARNS'!#REF! -> #REF! | D75: ='BACK BARNS'!$Z$30 -> 0
A76: ='BACK BARNS'!$Y$24 -> 379 | B76: ='BACK BARNS'!$Y$25 -> 0 | C76: ='BACK BARNS'!#REF! -> #REF! | D76: ='BACK BARNS'!$Y$30 -> 0
A77: ='BACK BARNS'!$X$24 -> 380 | B77: ='BACK BARNS'!$X$25 -> 0 | C77: ='BACK BARNS'!#REF! -> #REF! | D77: ='BACK BARNS'!$X$30 -> 0
A78: ='BACK BARNS'!$W$24 -> 381 | B78: ='BACK BARNS'!$W$25 -> 0 | C78: ='BACK BARNS'!#REF! -> #REF! | D78: ='BACK BARNS'!$W$30 -> 0
A79: ='BACK BARNS'!$V$24 -> 382 | B79: ='BACK BARNS'!$V$25 -> 0 | C79: ='BACK BARNS'!#REF! -> #REF! | D79: ='BACK BARNS'!$V$30 -> 0
A80: ='BACK BARNS'!$U$24 -> 383 | B80: ='BACK BARNS'!$U$25 -> 0 | C80: ='BACK BARNS'!#REF! -> #REF! | D80: ='BACK BARNS'!$U$30 -> 0
A81: ='BACK BARNS'!$T$24 -> 384 | B81: ='BACK BARNS'!$T$25 -> 0 | C81: ='BACK BARNS'!#REF! -> #REF! | D81: ='BACK BARNS'!$T$30 -> 0
A82: ='BACK BARNS'!$S$24 -> 385 | B82: ='BACK BARNS'!$S$25 -> 0 | C82: ='BACK BARNS'!#REF! -> #REF! | D82: ='BACK BARNS'!$S$30 -> 0
A83: ='BACK BARNS'!$R$24 -> 386 | B83: ='BACK BARNS'!$R$25 -> 0 | C83: ='BACK BARNS'!#REF! -> #REF! | D83: ='BACK BARNS'!$R$30 -> 0
A84: ='BACK BARNS'!$Q$24 -> 387 | B84: ='BACK BARNS'!$Q$25 -> 0 | C84: ='BACK BARNS'!#REF! -> #REF! | D84: ='BACK BARNS'!$Q$30 -> 0
A85: ='BACK BARNS'!$P$24 -> 388 | B85: ='BACK BARNS'!$P$25 -> 0 | C85: ='BACK BARNS'!#REF! -> #REF! | D85: ='BACK BARNS'!$P$30 -> 0
A86: ='BACK BARNS'!$N$24 -> 389 | B86: ='BACK BARNS'!$N$25 -> 0 | C86: ='BACK BARNS'!#REF! -> #REF! | D86: ='BACK BARNS'!$N$30 -> 0
A87: ='BACK BARNS'!$M$24 -> 390 | B87: ='BACK BARNS'!$M$25 -> 0 | C87: ='BACK BARNS'!#REF! -> #REF! | D87: ='BACK BARNS'!$M$30 -> 0
A88: ='BACK BARNS'!$L$24 -> 391 | B88: ='BACK BARNS'!$L$25 -> 0 | C88: ='BACK BARNS'!#REF! -> #REF! | D88: ='BACK BARNS'!$L$30 -> 0
A89: ='BACK BARNS'!$K$24 -> 392 | B89: ='BACK BARNS'!$K$25 -> 0 | C89: ='BACK BARNS'!#REF! -> #REF! | D89: ='BACK BARNS'!$K$30 -> 0
A90: ='BACK BARNS'!$J$24 -> 393 | B90: ='BACK BARNS'!$J$25 -> 0 | C90: ='BACK BARNS'!#REF! -> #REF! | D90: ='BACK BARNS'!$J$30 -> 0
A91: ='BACK BARNS'!$I$24 -> 394 | B91: ='BACK BARNS'!$I$25 -> 0 | C91: ='BACK BARNS'!#REF! -> #REF! | D91: ='BACK BARNS'!$I$30 -> 0
A92: ='BACK BARNS'!$H$24 -> 395 | B92: ='BACK BARNS'!$H$25 -> 0 | C92: ='BACK BARNS'!#REF! -> #REF! | D92: ='BACK BARNS'!$H$30 -> 0
A93: ='BACK BARNS'!$G$24 -> 396 | B93: ='BACK BARNS'!$G$25 -> 0 | C93: ='BACK BARNS'!#REF! -> #REF! | D93: ='BACK BARNS'!$G$30 -> 0
A94: ='BACK BARNS'!$F$24 -> 397 | B94: ='BACK BARNS'!$F$25 -> 0 | C94: ='BACK BARNS'!#REF! -> #REF! | D94: ='BACK BARNS'!$F$30 -> 0
A95: ='BACK BARNS'!$E$24 -> 398 | B95: ='BACK BARNS'!$E$25 -> 0 | C95: ='BACK BARNS'!#REF! -> #REF! | D95: ='BACK BARNS'!$E$30 -> 0
A96: ='BACK BARNS'!$D$24 -> 399 | B96: ='BACK BARNS'!$D$25 -> 0 | C96: ='BACK BARNS'!#REF! -> #REF! | D96: ='BACK BARNS'!$D$30 -> 0
A97: ='BACK BARNS'!$C$24 -> 400 | B97: ='BACK BARNS'!$C$25 -> 0 | C97: ='BACK BARNS'!#REF! -> #REF! | D97: ='BACK BARNS'!$C$30 -> 0
A98: ='BACK BARNS'!$C$21 -> 401 | B98: ='BACK BARNS'!$C$18 -> 0 | C98: ='BACK BARNS'!$C$19 -> 0 | D98: ='BACK BARNS'!$C$20 -> 0
A99: ='BACK BARNS'!$D$21 -> 402 | B99: ='BACK BARNS'!$D$18 -> 0 | C99: ='BACK BARNS'!$D$19 -> 0 | D99: ='BACK BARNS'!$D$20 -> 0
A100: ='BACK BARNS'!$E$21 -> 403 | B100: ='BACK BARNS'!$E$18 -> 0 | C100: ='BACK BARNS'!$E$19 -> 0 | D100: ='BACK BARNS'!$E$20 -> 0
...

Sheet Entry # Listing
A1: Entry # | B1: Stall # | C1: Exhibitor Name | D1: Arrival Date | E1: Pre entry Bedding | F1: Post Entry Bedding | G1: Camper spot
A2: ='MAIN BARN'!$C$112 -> 0 | B2: 1 | C2: ='MAIN BARN'!$C$107 -> Shavings Storage ? | D2: ='MAIN BARN'!$C$108 -> 0 | E2: ='MAIN BARN'!$C$110 -> 0 | F2: ='MAIN BARN'!$C$109 -> 0 | G2: ='MAIN BARN'!$C$111 -> 0
A3: ='MAIN BARN'!$D$112 -> 0 | B3: 2 | C3: ='MAIN BARN'!$D$107 -> 0 | D3: ='MAIN BARN'!$D$108 -> 0 | E3: ='MAIN BARN'!$D$110 -> 0 | F3: ='MAIN BARN'!$D$109 -> 0 | G3: ='MAIN BARN'!$D$111 -> 0
A4: ='MAIN BARN'!$E$112 -> 0 | B4: 3 | C4: ='MAIN BARN'!$E$107 -> 0 | D4: ='MAIN BARN'!$E$108 -> 0 | E4: ='MAIN BARN'!$E$110 -> 0 | F4: ='MAIN BARN'!$E$109 -> 0 | G4: ='MAIN BARN'!$D$111 -> 0
A5: ='MAIN BARN'!$F$112 -> 0 | B5: 4 | C5: ='MAIN BARN'!$F$107 -> 0 | D5: ='MAIN BARN'!$F$108 -> 0 | E5: ='MAIN BARN'!$F$110 -> 0 | F5: ='MAIN BARN'!$F$109 -> 0 | G5: ='MAIN BARN'!$D$111 -> 0
A6: ='MAIN BARN'!$G$112 -> 0 | B6: 5 | C6: ='MAIN BARN'!$G$107 -> 0 | D6: ='MAIN BARN'!$G$108 -> 0 | E6: ='MAIN BARN'!$G$110 -> 0 | F6: ='MAIN BARN'!$G$109 -> 0 | G6: ='MAIN BARN'!$G$111 -> 0
A7: ='MAIN BARN'!$H$112 -> 0 | B7: 6 | C7: ='MAIN BARN'!$H$107 -> 0 | D7: ='MAIN BARN'!$H$108 -> 0 | E7: ='MAIN BARN'!$H$110 -> 0 | F7: ='MAIN BARN'!$H$109 -> 0 | G7: ='MAIN BARN'!$H$111 -> 0
A8: ='MAIN BARN'!$I$112 -> 0 | B8: 7 | C8: ='MAIN BARN'!$I$107 -> 0 | D8: ='MAIN BARN'!$I$108 -> 0 | E8: ='MAIN BARN'!$I$110 -> 0 | F8: ='MAIN BARN'!$I$109 -> 0 | G8: ='MAIN BARN'!$I$111 -> 0
A9: ='MAIN BARN'!$J$112 -> 0 | B9: 8 | C9: ='MAIN BARN'!$J$107 -> 0 | D9: ='MAIN BARN'!$J$108 -> 0 | E9: ='MAIN BARN'!$J$110 -> 0 | F9: ='MAIN BARN'!$J$109 -> 0 | G9: ='MAIN BARN'!$J$111 -> 0
A10: ='MAIN BARN'!$K$112 -> 0 | B10: 9 | C10: ='MAIN BARN'!$K$107 -> 0 | D10: ='MAIN BARN'!$K$108 -> 0 | E10: ='MAIN BARN'!$K$110 -> 0 | F10: ='MAIN BARN'!$K$109 -> 0 | G10: ='MAIN BARN'!$K$111 -> 0
A11: ='MAIN BARN'!$L$112 -> 0 | B11: 10 | C11: ='MAIN BARN'!$L$107 -> 0 | D11: ='MAIN BARN'!$L$108 -> 0 | E11: ='MAIN BARN'!$L$110 -> 0 | F11: ='MAIN BARN'!$L$109 -> 0 | G11: ='MAIN BARN'!$L$111 -> 0
A12: ='MAIN BARN'!$M$112 -> 0 | B12: 11 | C12: ='MAIN BARN'!$M$107 -> 0 | D12: ='MAIN BARN'!$M$108 -> 0 | E12: ='MAIN BARN'!$M$110 -> 0 | F12: ='MAIN BARN'!$M$109 -> 0 | G12: ='MAIN BARN'!$M$111 -> 0
A13: ='MAIN BARN'!$N$112 -> 0 | B13: 12 | C13: ='MAIN BARN'!$N$107 -> 0 | D13: ='MAIN BARN'!$N$108 -> 0 | E13: ='MAIN BARN'!$N$110 -> 0 | F13: ='MAIN BARN'!$N$109 -> 0 | G13: ='MAIN BARN'!$N$111 -> 0
A14: ='MAIN BARN'!$O$112 -> 0 | B14: 13 | C14: ='MAIN BARN'!$O$107 -> 0 | D14: ='MAIN BARN'!$O$108 -> 0 | E14: ='MAIN BARN'!$O$110 -> 0 | F14: ='MAIN BARN'!$O$109 -> 0 | G14: ='MAIN BARN'!$O$111 -> 0
A15: ='MAIN BARN'!$Q$112 -> 9988 | B15: 14 | C15: ='MAIN BARN'!$Q$107 -> Earl Break down | D15: ='MAIN BARN'!$Q$108 -> 46284 | E15: ='MAIN BARN'!$Q$110 -> 0 | F15: ='MAIN BARN'!$Q$109 -> 0 | G15: ='MAIN BARN'!$Q$111 -> 108
A16: ='MAIN BARN'!$R$112 -> 9988 | B16: 15 | C16: ='MAIN BARN'!$R$107 -> Earl | D16: ='MAIN BARN'!$R$108 -> 46284 | E16: ='MAIN BARN'!$R$110 -> 1 | F16: ='MAIN BARN'!$R$109 -> 0 | G16: ='MAIN BARN'!$R$111 -> 0
A17: ='MAIN BARN'!$S$112 -> 9988 | B17: 16 | C17: ='MAIN BARN'!$S$107 -> Earl | D17: ='MAIN BARN'!$S$108 -> 46284 | E17: ='MAIN BARN'!$S$110 -> 0 | F17: ='MAIN BARN'!$S$109 -> 0 | G17: ='MAIN BARN'!$S$111 -> 0
A18: ='MAIN BARN'!$T$112 -> 9988 | B18: 17 | C18: ='MAIN BARN'!$T$107 -> Earl | D18: ='MAIN BARN'!$T$108 -> 46284 | E18: ='MAIN BARN'!$T$110 -> 0 | F18: ='MAIN BARN'!$T$109 -> 0 | G18: ='MAIN BARN'!$T$111 -> 0
A19: ='MAIN BARN'!$U$112 -> 0 | B19: 18 | C19: ='MAIN BARN'!$U$107 -> 0 | D19: ='MAIN BARN'!$U$108 -> 0 | E19: ='MAIN BARN'!$U$110 -> 0 | F19: ='MAIN BARN'!$U$109 -> 0 | G19: ='MAIN BARN'!$U$111 -> 0
A20: ='MAIN BARN'!$V$112 -> 0 | B20: 19 | C20: ='MAIN BARN'!$V$107 -> 0 | D20: ='MAIN BARN'!$V$108 -> 0 | E20: ='MAIN BARN'!$V$110 -> 0 | F20: ='MAIN BARN'!$V$109 -> 0 | G20: ='MAIN BARN'!$V$111 -> 0
A21: ='MAIN BARN'!$W$112 -> 0 | B21: 20 | C21: ='MAIN BARN'!$W$107 -> 0 | D21: ='MAIN BARN'!$W$108 -> 0 | E21: ='MAIN BARN'!$W$110 -> 0 | F21: ='MAIN BARN'!$W$109 -> 0 | G21: ='MAIN BARN'!$W$111 -> 0
A22: ='MAIN BARN'!$X$112 -> 0 | B22: 21 | C22: ='MAIN BARN'!$X$107 -> 0 | D22: ='MAIN BARN'!$X$108 -> 0 | E22: ='MAIN BARN'!$X$110 -> 0 | F22: ='MAIN BARN'!$X$109 -> 0 | G22: ='MAIN BARN'!$X$111 -> 0
A23: ='MAIN BARN'!$Y$112 -> 0 | B23: 22 | C23: ='MAIN BARN'!$Y$107 -> 0 | D23: ='MAIN BARN'!$Y$108 -> 0 | E23: ='MAIN BARN'!$Y$110 -> 0 | F23: ='MAIN BARN'!$Y$109 -> 0 | G23: ='MAIN BARN'!$Y$111 -> 0
A24: ='MAIN BARN'!$Z$112 -> 0 | B24: 23 | C24: ='MAIN BARN'!$Z$107 -> 0 | D24: ='MAIN BARN'!$Z$108 -> 0 | E24: ='MAIN BARN'!$Z$110 -> 0 | F24: ='MAIN BARN'!$Z$109 -> 0 | G24: ='MAIN BARN'!$Z$111 -> 0
A25: ='MAIN BARN'!$AA$112 -> 0 | B25: 24 | C25: ='MAIN BARN'!$AA$107 -> 0 | D25: ='MAIN BARN'!$AA$108 -> 0 | E25: ='MAIN BARN'!$AA$110 -> 0 | F25: ='MAIN BARN'!$AA$109 -> 0 | G25: ='MAIN BARN'!$AA$111 -> 0
A26: ='MAIN BARN'!$AB$112 -> 0 | B26: 25 | C26: ='MAIN BARN'!$AB$107 -> 0 | D26: ='MAIN BARN'!$AB$108 -> 0 | E26: ='MAIN BARN'!$AB$110 -> 0 | F26: ='MAIN BARN'!$AB$109 -> 0 | G26: ='MAIN BARN'!$AB$111 -> 0
A27: ='MAIN BARN'!$AC$112 -> 0 | B27: 26 | C27: ='MAIN BARN'!$AC$107 -> 0 | D27: ='MAIN BARN'!$AC$108 -> 0 | E27: ='MAIN BARN'!$AC$110 -> 0 | F27: ='MAIN BARN'!$AC$109 -> 0 | G27: ='MAIN BARN'!$AC$111 -> 0
A28: ='MAIN BARN'!$AC$101 -> 394 | B28: 27 | C28: ='MAIN BARN'!$AC$106 -> Spinelli / Sitting | D28: ='MAIN BARN'!$AC$103 -> 46284 | E28: ='MAIN BARN'!$AC$105 -> 0 | F28: ='MAIN BARN'!$AC$104 -> 0 | G28: ='MAIN BARN'!$AC$102 -> 117
A29: ='MAIN BARN'!$AB$101 -> 394 | B29: 28 | C29: ='MAIN BARN'!$AB$106 -> Spinelli | D29: ='MAIN BARN'!$AB$103 -> 46284 | E29: ='MAIN BARN'!$AB$105 -> 7 | F29: ='MAIN BARN'!$AB$104 -> 0 | G29: ='MAIN BARN'!$AB$102 -> 0
A30: ='MAIN BARN'!$AA$101 -> 484 | B30: 29 | C30: ='MAIN BARN'!$AA$106 -> Spinelli | D30: ='MAIN BARN'!$AA$103 -> 46284 | E30: ='MAIN BARN'!$AA$105 -> 7 | F30: ='MAIN BARN'!$AA$104 -> 0 | G30: ='MAIN BARN'!$AA$102 -> 0
A31: ='MAIN BARN'!$Z$101 -> 481 | B31: 30 | C31: ='MAIN BARN'!$Z$106 -> Spinelli / Lucareli | D31: ='MAIN BARN'!$Z$103 -> 46284 | E31: ='MAIN BARN'!$Z$105 -> 0 | F31: ='MAIN BARN'!$Z$104 -> 0 | G31: ='MAIN BARN'!$Z$102 -> 0
A32: ='MAIN BARN'!$Y$101 -> 481 | B32: 31 | C32: ='MAIN BARN'!$Y$106 -> Spinelli / Lucareli | D32: ='MAIN BARN'!$Y$103 -> 46284 | E32: ='MAIN BARN'!$Y$105 -> 7 | F32: ='MAIN BARN'!$Y$104 -> 0 | G32: ='MAIN BARN'!$Y$102 -> 0
A33: ='MAIN BARN'!$X$101 -> 9992 | B33: 32 | C33: ='MAIN BARN'!$X$106 -> Luna | D33: ='MAIN BARN'!$X$103 -> 46284 | E33: ='MAIN BARN'!$X$105 -> 0 | F33: ='MAIN BARN'!$X$104 -> 0 | G33: ='MAIN BARN'!$X$102 -> 0
A34: ='MAIN BARN'!$W$101 -> 357 | B34: 33 | C34: ='MAIN BARN'!$W$106 -> Luna | D34: ='MAIN BARN'!$W$103 -> 46284 | E34: ='MAIN BARN'!$W$105 -> 2 | F34: ='MAIN BARN'!$W$104 -> 0 | G34: ='MAIN BARN'!$W$102 -> 0
A35: ='MAIN BARN'!$V$101 -> 352 | B35: 34 | C35: ='MAIN BARN'!$V$106 -> Luna | D35: ='MAIN BARN'!$V$103 -> 46284 | E35: ='MAIN BARN'!$V$105 -> 2 | F35: ='MAIN BARN'!$V$104 -> 0 | G35: ='MAIN BARN'!$V$102 -> 78
A36: ='MAIN BARN'!$U$101 -> 122 | B36: 35 | C36: ='MAIN BARN'!$U$106 -> Mobley | D36: ='MAIN BARN'!$U$103 -> 46284 | E36: ='MAIN BARN'!$U$105 -> 4 | F36: ='MAIN BARN'!$U$104 -> 0 | G36: ='MAIN BARN'!$U$102 -> 0
A37: ='MAIN BARN'!$T$101 -> 106 | B37: 36 | C37: ='MAIN BARN'!$T$106 -> Mobley | D37: ='MAIN BARN'!$T$103 -> 46284 | E37: ='MAIN BARN'!$T$105 -> 4 | F37: ='MAIN BARN'!$T$104 -> 0 | G37: ='MAIN BARN'!$T$102 -> 79
A38: ='MAIN BARN'!$S$101 -> 106 | B38: 37 | C38: ='MAIN BARN'!$S$106 -> Mobley | D38: ='MAIN BARN'!$S$103 -> 46284 | E38: ='MAIN BARN'!$S$105 -> 0 | F38: ='MAIN BARN'!$S$104 -> 0 | G38: ='MAIN BARN'!$S$102 -> 0
A39: ='MAIN BARN'!$R$101 -> 0 | B39: 38 | C39: ='MAIN BARN'!$R$106 -> NWHA Break down | D39: ='MAIN BARN'!$R$103 -> 0 | E39: ='MAIN BARN'!$R$105 -> 0 | F39: ='MAIN BARN'!$R$104 -> 0 | G39: ='MAIN BARN'!$R$102 -> 0
A40: ='MAIN BARN'!$Q$101 -> 0 | B40: 39 | C40: ='MAIN BARN'!$Q$106 -> NWHA Break down | D40: ='MAIN BARN'!$Q$103 -> 0 | E40: ='MAIN BARN'!$Q$105 -> 0 | F40: ='MAIN BARN'!$Q$104 -> 0 | G40: ='MAIN BARN'!$Q$102 -> 0
A41: ='MAIN BARN'!$O$101 -> 0 | B41: 40 | C41: ='MAIN BARN'!$O$106 -> NWHA Break down | D41: ='MAIN BARN'!$O$103 -> 0 | E41: ='MAIN BARN'!$O$105 -> 0 | F41: ='MAIN BARN'!$O$104 -> 0 | G41: ='MAIN BARN'!$O$102 -> 0
A42: ='MAIN BARN'!$N$101 -> 0 | B42: 41 | C42: ='MAIN BARN'!$N$106 -> NWHA Break down | D42: ='MAIN BARN'!$N$103 -> 0 | E42: ='MAIN BARN'!$N$105 -> 0 | F42: ='MAIN BARN'!$N$104 -> 0 | G42: ='MAIN BARN'!$N$102 -> 0
A43: ='MAIN BARN'!$M$101 -> 0 | B43: 42 | C43: ='MAIN BARN'!$M$106 -> NWHA Break down | D43: ='MAIN BARN'!$M$103 -> 0 | E43: ='MAIN BARN'!$M$105 -> 0 | F43: ='MAIN BARN'!$M$104 -> 0 | G43: ='MAIN BARN'!$M$102 -> 0
A44: ='MAIN BARN'!$L$101 -> 0 | B44: 43 | C44: ='MAIN BARN'!$L$106 -> NWHA Break down | D44: ='MAIN BARN'!$L$103 -> 0 | E44: ='MAIN BARN'!$L$105 -> 0 | F44: ='MAIN BARN'!$L$104 -> 0 | G44: ='MAIN BARN'!$L$102 -> 0
A45: ='MAIN BARN'!$K$101 -> 0 | B45: 44 | C45: ='MAIN BARN'!$K$106 -> NWHA Break down | D45: ='MAIN BARN'!$K$103 -> 0 | E45: ='MAIN BARN'!$K$105 -> 0 | F45: ='MAIN BARN'!$K$104 -> 0 | G45: ='MAIN BARN'!$K$102 -> 0
A46: ='MAIN BARN'!$J$101 -> 0 | B46: 45 | C46: ='MAIN BARN'!$J$106 -> 0 | D46: ='MAIN BARN'!$J$103 -> 0 | E46: ='MAIN BARN'!$J$105 -> 0 | F46: ='MAIN BARN'!$J$104 -> 0 | G46: ='MAIN BARN'!$J$102 -> 0
A47: ='MAIN BARN'!$I$101 -> 0 | B47: 46 | C47: ='MAIN BARN'!$I$106 -> 0 | D47: ='MAIN BARN'!$I$103 -> 0 | E47: ='MAIN BARN'!$I$105 -> 0 | F47: ='MAIN BARN'!$I$104 -> 0 | G47: ='MAIN BARN'!$I$102 -> 0
A48: ='MAIN BARN'!$H$101 -> 0 | B48: 47 | C48: ='MAIN BARN'!$H$106 -> 0 | D48: ='MAIN BARN'!$H$103 -> 0 | E48: ='MAIN BARN'!$H$105 -> 0 | F48: ='MAIN BARN'!$H$104 -> 0 | G48: ='MAIN BARN'!$H$102 -> 0
A49: ='MAIN BARN'!$G$101 -> 0 | B49: 48 | C49: ='MAIN BARN'!$G$106 -> 0 | D49: ='MAIN BARN'!$G$103 -> 0 | E49: ='MAIN BARN'!$G$105 -> 0 | F49: ='MAIN BARN'!$G$104 -> 0 | G49: ='MAIN BARN'!$G$102 -> 0
A50: ='MAIN BARN'!$F$101 -> 0 | B50: 49 | C50: ='MAIN BARN'!$F$106 -> 0 | D50: ='MAIN BARN'!$F$103 -> 0 | E50: ='MAIN BARN'!$F$105 -> 0 | F50: ='MAIN BARN'!$F$104 -> 0 | G50: ='MAIN BARN'!$F$102 -> 0
A51: ='MAIN BARN'!$E$101 -> 0 | B51: 50 | C51: ='MAIN BARN'!$E$106 -> 0 | D51: ='MAIN BARN'!$E$103 -> 0 | E51: ='MAIN BARN'!$E$105 -> 0 | F51: ='MAIN BARN'!$E$104 -> 0 | G51: ='MAIN BARN'!$E$102 -> 0
A52: ='MAIN BARN'!$D$101 -> 0 | B52: 51 | C52: ='MAIN BARN'!$D$106 -> 0 | D52: ='MAIN BARN'!$D$103 -> 0 | E52: ='MAIN BARN'!$D$105 -> 0 | F52: ='MAIN BARN'!$D$104 -> 0 | G52: ='MAIN BARN'!$D$102 -> 0
A53: ='MAIN BARN'!$C$101 -> 0 | B53: 52 | C53: ='MAIN BARN'!$C$106 -> 0 | D53: ='MAIN BARN'!$C$103 -> 0 | E53: ='MAIN BARN'!$C$105 -> 0 | F53: ='MAIN BARN'!$C$104 -> 0 | G53: ='MAIN BARN'!$C$102 -> 0
A54: ='MAIN BARN'!$C$96 -> 0 | B54: 53 | C54: ='MAIN BARN'!$C$91 -> 0 | D54: ='MAIN BARN'!$C$92 -> 0 | E54: ='MAIN BARN'!$C$94 -> 0 | F54: ='MAIN BARN'!$C$93 -> 0 | G54: ='MAIN BARN'!$C$95 -> 0
A55: ='MAIN BARN'!$D$96 -> 0 | B55: 54 | C55: ='MAIN BARN'!$D$91 -> 0 | D55: ='MAIN BARN'!$D$92 -> 0 | E55: ='MAIN BARN'!$D$94 -> 0 | F55: ='MAIN BARN'!$D$93 -> 0 | G55: ='MAIN BARN'!$D$95 -> 0
A56: ='MAIN BARN'!$E$96 -> 0 | B56: 55 | C56: ='MAIN BARN'!$E$91 -> 0 | D56: ='MAIN BARN'!$E$92 -> 0 | E56: ='MAIN BARN'!$E$94 -> 0 | F56: ='MAIN BARN'!$E$93 -> 0 | G56: ='MAIN BARN'!$E$95 -> 0
A57: ='MAIN BARN'!$F$96 -> 0 | B57: 56 | C57: ='MAIN BARN'!$F$91 -> 0 | D57: ='MAIN BARN'!$F$92 -> 0 | E57: ='MAIN BARN'!$F$94 -> 0 | F57: ='MAIN BARN'!$F$93 -> 0 | G57: ='MAIN BARN'!$F$95 -> 0
A58: ='MAIN BARN'!$G$96 -> 0 | B58: 57 | C58: ='MAIN BARN'!$G$91 | D58: ='MAIN BARN'!$G$92 -> 0 | E58: ='MAIN BARN'!$G$94 -> 0 | F58: ='MAIN BARN'!$G$93 -> 0 | G58: ='MAIN BARN'!$G$95 -> 0
A59: ='MAIN BARN'!$H$96 -> 0 | B59: 58 | C59: ='MAIN BARN'!$H$91 -> 0 | D59: ='MAIN BARN'!$H$92 -> 0 | E59: ='MAIN BARN'!$H$94 -> 0 | F59: ='MAIN BARN'!$H$93 -> 0 | G59: ='MAIN BARN'!$H$95 -> 0
A60: ='MAIN BARN'!$I$96 -> 0 | B60: 59 | C60: ='MAIN BARN'!$I$91 -> 0 | D60: ='MAIN BARN'!$I$92 -> 0 | E60: ='MAIN BARN'!$I$94 -> 0 | F60: ='MAIN BARN'!$I$93 -> 0 | G60: ='MAIN BARN'!$I$95 -> 0
A61: ='MAIN BARN'!$J$96 -> 0 | B61: 60 | C61: ='MAIN BARN'!$J$91 -> 0 | D61: ='MAIN BARN'!$J$92 -> 0 | E61: ='MAIN BARN'!$J$94 -> 0 | F61: ='MAIN BARN'!$J$93 -> 0 | G61: ='MAIN BARN'!$J$95 -> 0
A62: ='MAIN BARN'!$K$96 -> 0 | B62: 61 | C62: ='MAIN BARN'!$K$91 -> NWHA Break down | D62: ='MAIN BARN'!$K$92 -> 0 | E62: ='MAIN BARN'!$K$94 -> 0 | F62: ='MAIN BARN'!$K$93 -> 0 | G62: ='MAIN BARN'!$K$95 -> 0
A63: ='MAIN BARN'!$L$96 -> 0 | B63: 62 | C63: ='MAIN BARN'!$L$91 -> NWHA Break down | D63: ='MAIN BARN'!$L$92 -> 0 | E63: ='MAIN BARN'!$L$94 -> 0 | F63: ='MAIN BARN'!$L$93 -> 0 | G63: ='MAIN BARN'!$L$95 -> 0
A64: ='MAIN BARN'!$M$96 -> 0 | B64: 63 | C64: ='MAIN BARN'!$M$91 -> NWHA Break down | D64: ='MAIN BARN'!$M$92 -> 0 | E64: ='MAIN BARN'!$M$94 -> 0 | F64: ='MAIN BARN'!$M$93 -> 0 | G64: ='MAIN BARN'!$M$95 -> 0
A65: ='MAIN BARN'!$N$96 -> 0 | B65: 64 | C65: ='MAIN BARN'!$N$91 -> NWHA Break down | D65: ='MAIN BARN'!$N$92 -> 0 | E65: ='MAIN BARN'!$N$94 -> 0 | F65: ='MAIN BARN'!$N$93 -> 0 | G65: ='MAIN BARN'!$N$95 -> 0
A66: ='MAIN BARN'!$O$96 -> 0 | B66: 65 | C66: ='MAIN BARN'!$O$91 -> NWHA Break down | D66: ='MAIN BARN'!$O$92 -> 0 | E66: ='MAIN BARN'!$O$94 -> 0 | F66: ='MAIN BARN'!$O$93 -> 0 | G66: ='MAIN BARN'!$O$95 -> 0
A67: ='MAIN BARN'!$Q$96 -> 148 | B67: 66 | C67: ='MAIN BARN'!$Q$91 -> Engleman | D67: ='MAIN BARN'!$Q$92 -> 46284 | E67: ='MAIN BARN'!$Q$94 -> 0 | F67: ='MAIN BARN'!$Q$93 -> 0 | G67: ='MAIN BARN'!$Q$95 -> 51
A68: ='MAIN BARN'!$R$96 -> 148 | B68: 67 | C68: ='MAIN BARN'!$R$91 -> Engleman | D68: ='MAIN BARN'!$R$92 -> 46284 | E68: ='MAIN BARN'!$R$94 -> 0 | F68: ='MAIN BARN'!$R$93 -> 0 | G68: ='MAIN BARN'!$R$95 -> 52
A69: ='MAIN BARN'!$S$96 -> 124 | B69: 68 | C69: ='MAIN BARN'!$S$91 -> Batts | D69: ='MAIN BARN'!$S$92 -> 46284 | E69: ='MAIN BARN'!$S$94 -> 3 | F69: ='MAIN BARN'!$S$93 -> 0 | G69: ='MAIN BARN'!$S$95 -> 0
A70: ='MAIN BARN'!$T$96 -> 124 | B70: 69 | C70: ='MAIN BARN'!$T$91 -> Batts | D70: ='MAIN BARN'!$T$92 -> 46284 | E70: ='MAIN BARN'!$T$94 -> 3 | F70: ='MAIN BARN'!$T$93 -> 0 | G70: ='MAIN BARN'!$T$95 -> 0
A71: ='MAIN BARN'!$U$96 -> 45 | B71: 70 | C71: ='MAIN BARN'!$U$91 -> Batts | D71: ='MAIN BARN'!$U$92 -> 46284 | E71: ='MAIN BARN'!$U$94 -> 6 | F71: ='MAIN BARN'!$U$93 -> 0 | G71: ='MAIN BARN'!$U$95 -> 58
A72: ='MAIN BARN'!$V$96 -> 124 | B72: 71 | C72: ='MAIN BARN'!$V$91 -> Batts | D72: ='MAIN BARN'!$V$92 -> 46284 | E72: ='MAIN BARN'!$V$94 -> 3 | F72: ='MAIN BARN'!$V$93 -> 0 | G72: ='MAIN BARN'!$V$95 -> 0
A73: ='MAIN BARN'!$W$96 -> 131 | B73: 72 | C73: ='MAIN BARN'!$W$91 -> Batts | D73: ='MAIN BARN'!$W$92 -> 46284 | E73: ='MAIN BARN'!$W$94 -> 3 | F73: ='MAIN BARN'!$W$93 -> 0 | G73: ='MAIN BARN'!$W$95 -> 0
A74: ='MAIN BARN'!$X$96 -> 0 | B74: 73 | C74: ='MAIN BARN'!$X$91 -> 0 | D74: ='MAIN BARN'!$X$92 -> 0 | E74: ='MAIN BARN'!$X$94 -> 0 | F74: ='MAIN BARN'!$X$93 -> 0 | G74: ='MAIN BARN'!$X$95 -> 0
A75: ='MAIN BARN'!$Y$96 -> 480 | B75: 74 | C75: ='MAIN BARN'!$Y$91 -> Ruth Spinelli | D75: ='MAIN BARN'!$Y$92 -> 46284 | E75: ='MAIN BARN'!$Y$94 -> 0 | F75: ='MAIN BARN'!$Y$93 -> 0 | G75: ='MAIN BARN'!$Y$95 -> 0
A76: ='MAIN BARN'!$Z$96 -> 480 | B76: 75 | C76: ='MAIN BARN'!$Z$91 -> Ruth Spinelli | D76: ='MAIN BARN'!$Z$92 -> 46284 | E76: ='MAIN BARN'!$Z$94 -> 7 | F76: ='MAIN BARN'!$Z$93 -> 0 | G76: ='MAIN BARN'!$Z$95 -> 0
A77: ='MAIN BARN'!$AA$96 -> 482 | B77: 76 | C77: ='MAIN BARN'!$AA$91 -> Spinelli | D77: ='MAIN BARN'!$AA$92 -> 46284 | E77: ='MAIN BARN'!$AA$94 -> 7 | F77: ='MAIN BARN'!$AA$93 -> 0 | G77: ='MAIN BARN'!$AA$95 -> 0
A78: ='MAIN BARN'!$AB$96 -> 483 | B78: 77 | C78: ='MAIN BARN'!$AB$91 -> Spinelli | D78: ='MAIN BARN'!$AB$92 -> 46284 | E78: ='MAIN BARN'!$AB$94 -> 7 | F78: ='MAIN BARN'!$AB$93 -> 0 | G78: ='MAIN BARN'!$AB$95 -> 0
A79: ='MAIN BARN'!$AC$96 -> 482 | B79: 78 | C79: ='MAIN BARN'!$AC$91 -> Spinelli / Tack | D79: ='MAIN BARN'!$AC$92 -> 46284 | E79: ='MAIN BARN'!$AC$94 -> 0 | F79: ='MAIN BARN'!$AC$93 -> 0 | G79: ='MAIN BARN'!$AC$95 -> 0
A80: ='MAIN BARN'!$AC$85 -> 0 | B80: 79 | C80: ='MAIN BARN'!$AC$90 -> 0 | D80: ='MAIN BARN'!$AC$87 -> 0 | E80: ='MAIN BARN'!$AC$89 -> 0 | F80: ='MAIN BARN'!$AC$88 -> 0 | G80: ='MAIN BARN'!$AC$86 -> 0
A81: ='MAIN BARN'!AB$85 -> 0 | B81: 80 | C81: ='MAIN BARN'!$AB$90 -> 0 | D81: ='MAIN BARN'!$AB$87 -> 0 | E81: ='MAIN BARN'!$AB$89 -> 0 | F81: ='MAIN BARN'!$AB$88 -> 0 | G81: ='MAIN BARN'!AH$86 -> 0
A82: ='MAIN BARN'!$AA$85 -> 0 | B82: 81 | C82: ='MAIN BARN'!$AA$90 -> 0 | D82: ='MAIN BARN'!$AA$87 -> 0 | E82: ='MAIN BARN'!$AA$89 -> 0 | F82: ='MAIN BARN'!$AA$88 -> 0 | G82: ='MAIN BARN'!$AA$86 -> 0
A83: ='MAIN BARN'!$Z$85 -> 0 | B83: 82 | C83: ='MAIN BARN'!$Z$90 -> 0 | D83: ='MAIN BARN'!$Z$87 -> 0 | E83: ='MAIN BARN'!$Z$89 -> 0 | F83: ='MAIN BARN'!$Z$88 -> 0 | G83: ='MAIN BARN'!$Z$86 -> 0
A84: ='MAIN BARN'!$Y$85 -> 0 | B84: 83 | C84: ='MAIN BARN'!$Y$90 -> 0 | D84: ='MAIN BARN'!$Y$87 -> 0 | E84: ='MAIN BARN'!$Y$89 -> 0 | F84: ='MAIN BARN'!$Y$88 -> 0 | G84: ='MAIN BARN'!$Y$86 -> 0
A85: ='MAIN BARN'!$X$85 -> 0 | B85: 84 | C85: ='MAIN BARN'!$X$90 -> 0 | D85: ='MAIN BARN'!$X$87 -> 0 | E85: ='MAIN BARN'!$X$89 -> 0 | F85: ='MAIN BARN'!$X$88 -> 0 | G85: ='MAIN BARN'!$X$86 -> 0
A86: ='MAIN BARN'!$W$85 -> 0 | B86: 85 | C86: ='MAIN BARN'!$W$90 -> 0 | D86: ='MAIN BARN'!$W$87 -> 0 | E86: ='MAIN BARN'!$W$89 -> 0 | F86: ='MAIN BARN'!$W$88 -> 0 | G86: ='MAIN BARN'!$W$86 -> 0
A87: ='MAIN BARN'!$V$85 -> 0 | B87: 86 | C87: ='MAIN BARN'!$V$90 -> 0 | D87: ='MAIN BARN'!$V$87 -> 0 | E87: ='MAIN BARN'!$V$89 -> 0 | F87: ='MAIN BARN'!$V$88 -> 0 | G87: ='MAIN BARN'!$V$86 -> 0
A88: ='MAIN BARN'!$U$85 -> 0 | B88: 87 | C88: ='MAIN BARN'!$U$90 -> 0 | D88: ='MAIN BARN'!$U$87 -> 0 | E88: ='MAIN BARN'!$U$89 -> 0 | F88: ='MAIN BARN'!$U$88 -> 0 | G88: ='MAIN BARN'!$U$86 -> 0
A89: ='MAIN BARN'!$T$85 -> 0 | B89: 88 | C89: ='MAIN BARN'!$T$90 -> 0 | D89: ='MAIN BARN'!$T$87 -> 0 | E89: ='MAIN BARN'!$T$89 -> 0 | F89: ='MAIN BARN'!$T$88 -> 0 | G89: ='MAIN BARN'!$T$86 -> 0
A90: ='MAIN BARN'!$S$85 -> 506 | B90: 89 | C90: ='MAIN BARN'!$S$90 -> Moore | D90: ='MAIN BARN'!$S$87 -> 46284 | E90: ='MAIN BARN'!$S$89 -> 2 | F90: ='MAIN BARN'!$S$88 -> 0 | G90: ='MAIN BARN'!$S$86 -> 0
A91: ='MAIN BARN'!$R$85 -> 501 | B91: 90 | C91: ='MAIN BARN'!$R$90 -> Moore | D91: ='MAIN BARN'!$R$87 -> 46284 | E91: ='MAIN BARN'!$R$89 -> 2 | F91: ='MAIN BARN'!$R$88 -> 0 | G91: ='MAIN BARN'!$R$86 -> 0
A92: ='MAIN BARN'!$Q$85 -> 501 | B92: 91 | C92: ='MAIN BARN'!$Q$90 -> Moore | D92: ='MAIN BARN'!$Q$87 -> 46284 | E92: ='MAIN BARN'!$Q$89 -> 2 | F92: ='MAIN BARN'!$Q$88 -> 0 | G92: ='MAIN BARN'!$Q$86 -> 0
A93: ='MAIN BARN'!$O$85 -> 9986 | B93: 92 | C93: ='MAIN BARN'!$O$90 -> DGS | D93: ='MAIN BARN'!$O$44 -> 0 | E93: ='MAIN BARN'!$O$89 -> 0 | F93: ='MAIN BARN'!$O$88 -> 0 | G93: ='MAIN BARN'!$O$86 -> 29
A94: ='MAIN BARN'!$N$85 -> 9986 | B94: 93 | C94: ='MAIN BARN'!$N$90 -> DGS | D94: ='MAIN BARN'!$N$44 -> 0 | E94: ='MAIN BARN'!$N$89 -> 0 | F94: ='MAIN BARN'!$N$88 -> 0 | G94: ='MAIN BARN'!$N$86 -> 0
A95: ='MAIN BARN'!$M$85 -> 9986 | B95: 94 | C95: ='MAIN BARN'!$M$90 -> DGS | D95: ='MAIN BARN'!$M$44 -> 0 | E95: ='MAIN BARN'!$M$89 -> 0 | F95: ='MAIN BARN'!$M$88 -> 0 | G95: ='MAIN BARN'!$M$86 -> 0
A96: ='MAIN BARN'!$L$85 -> 9986 | B96: 95 | C96: ='MAIN BARN'!$L$90 -> DGS | D96: ='MAIN BARN'!$L$87 -> 46284 | E96: ='MAIN BARN'!$L$89 -> 0 | F96: ='MAIN BARN'!$L$88 -> 0 | G96: ='MAIN BARN'!$L$86 -> 0
A97: ='MAIN BARN'!$K$85 -> 9986 | B97: 96 | C97: ='MAIN BARN'!$K$90 -> DGS | D97: ='MAIN BARN'!$K$87 -> 46284 | E97: ='MAIN BARN'!$K$89 -> 0 | F97: ='MAIN BARN'!$K$88 -> 0 | G97: ='MAIN BARN'!$K$86 -> 0
A98: ='MAIN BARN'!$J$85 -> 577 | B98: 97 | C98: ='MAIN BARN'!$J$90 -> DGS /Levin | D98: ='MAIN BARN'!$J$87 -> 46284 | E98: ='MAIN BARN'!$J$89 -> 0 | F98: ='MAIN BARN'!$J$88 -> 0 | G98: ='MAIN BARN'!$J$86 -> 0
A99: ='MAIN BARN'!$I$85 -> 9986 | B99: 98 | C99: ='MAIN BARN'!$I$90 -> DGS | D99: ='MAIN BARN'!$I$87 -> 46284 | E99: ='MAIN BARN'!$I$89 -> 0 | F99: ='MAIN BARN'!$I$88 -> 0 | G99: ='MAIN BARN'!$I$86 -> 0
A100: ='MAIN BARN'!$H$85 -> 9986 | B100: 99 | C100: ='MAIN BARN'!$H$90 -> DGS | D100: ='MAIN BARN'!$H$87 -> 46284 | E100: ='MAIN BARN'!$H$89 -> 0 | F100: ='MAIN BARN'!$H$88 -> 0 | G100: ='MAIN BARN'!$H$86 -> 0
...

Sheet Campers
H5: North | O5: 79 | P5: Mobley 106
O7: 78 | P7: Luna 352
H8: Barn 5
B9: 1 | C9: Fenner 1000 | O9: 77
B10: 2 | C10: E | E10: E | F10: 42
B11: 3 | C11: E | E11: E | F11: 41 | H11: Barn 4 | L11: 43 | M11: E | O11: 76 | P11: Jeffries 9995
B12: 4 | C12: E | E12: E | F12: 40 | L12: 44 | M12: E
B13: 5 | C13: E | E13: E | F13: 39 | L13: 45 | M13: E | O13: 75
B14: 6 | C14: E | E14: E | F14: 38 | H14: Barn 3 | L14: 46 | M14: E
B15: 7 | C15: E | E15: E | F15: 37 | L15: 47 | M15: E | O15: 74 | P15: Rice 133 | R15: East
B16: 8 | C16: E | L16: 48 | M16: E
B17: 9 | H17: Barn 2 | L17: 49 | M17: Preast 253 | O17: 73 | P17: Ostrum 146
B18: 10 | C18: E | L18: 50 | M18: Freet 9989
B19: West | O19: 72 | P19: E
O21: 71 | P21: Payton 465
O23: 70 | P23: E
O25: 69 | P25: E
H27: Main Barn | O27: 68 | P27: E
B28: 11 | C28: Long 395
B29: 12 | C29: Cloud 51 | O29: 67 | P29: Fekjo 105
B30: 13 | C30: Mann 26 | E30: Lamberson 257 | F30: 36
B31: 14 | C31: Klemens 53 | E31: E | F31: 35 | L31: 51 | M31: Spinelli 483 | O31: 66 | P31: Richards 9984
B32: 15 | C32: Sharp 55 | E32: Gilbert 9983 | F32: 34 | L32: 52 | M32: Engleman 148 3 days
B33: 16 | C33: E | E33: E | F33: 33 | L33: 53 | M33: Finerfrock 393 | O33: 65 | P33: Engleman 148
B34: 17 | C34: E | E34: E | F34: 32 | L34: 54 | M34: Steinbrecher 9998
B35: 18 | C35: E | E35: Kanstul 201 | F35: 31 | L35: 55 | M35: Applewhite 9997 | O35: 64 | P35: Hersh 46
B36: 19 | C36: E | E36: Kanstul 201 | F36: 30 | L36: 56 | M36: Johnston 250
B37: 20 | C37: E | E37: Gardner 9985 | F37: 29 | L37: 57 | M37: Strine 9990 | O37: 63 | P37: E
B38: 21 | C38: E | E38: E | F38: 28 | L38: 58 | M38: Batts 45
B39: 22 | C39: E | F39: 27 | O39: 62 | P39: Terrell 87
B40: 23 | C40: E
B41: 24 | C41: E | O41: 61 | P41: E
B42: 25 | C42: Ranft 9982
B43: 26 | C43: Ranft 9982 | O43: 60 | P43: Richwine 9981
V44: Janisch 9999 | W44: Lowe 397 | Z44: Pacheco 9996
O45: 59 | P45: Spinelli 483
H46: South | R46: 80 | S46: 81 | T46: 82 | U46: 83 | V46: 84 | W46: 85 | X46: 86 | Y46: 87 | Z46: 88 | AA46: 89 | AB46: 90 | AC46: 91 | AD46: 92 | AE46: 93 | AF46: 94 | AG46: 95 | AH46: 96 | AI46: 97 | AJ46: 98 | AK46: 99
T48: 117 | U48: 116 | V48: 115 | W48: 114 | X48: 113 | Y48: 112 | Z48: 111 | AA48: 110 | AB48: 109 | AC48: 108 | AD48: 107 | AE48: 106 | AF48: 105 | AG48: 104 | AH48: 103 | AI48: 102 | AJ48: 101 | AK48: 100
T49: Spinelli 394 | AC49: Earl 404 | AI49: Kapinos 39 9/24

Sheet BACK BARNS
O3: BACK BARNS 2, 3, 4 & 5
B5: 5 | C5: 496 | D5: 495 | E5: 494 | F5: 493 | G5: 492 | H5: 491 | I5: 490 | J5: 489 | K5: 488 | L5: 487 | M5: 486 | N5: 485 | P5: 484 | Q5: 483 | R5: 482 | S5: 481 | T5: 480 | U5: 479 | V5: 478 | W5: 477 | X5: 476 | Y5: 475 | Z5: 474 | AA5: 473
C12: 449 | D12: 450 | E12: 451 | F12: 452 | G12: 453 | H12: 454 | I12: 455 | J12: 456 | K12: 457 | L12: 458 | M12: 459 | N12: 460 | P12: 461 | Q12: 462 | R12: 463 | S12: 464 | T12: 465 | U12: 466 | V12: 467 | W12: 468 | X12: 469 | Y12: 470 | Z12: 471 | AA12: 472
B14: 4 | C14: 448 | D14: 447 | E14: 446 | F14: 445 | G14: 444 | H14: 443 | I14: 442 | J14: 441 | K14: 440 | L14: 439 | M14: 438 | N14: 437 | P14: 436 | Q14: 435 | R14: 434 | S14: 433 | T14: 432 | U14: 431 | V14: 430 | W14: 429 | X14: 428 | Y14: 427 | Z14: 426 | AA14: 425
C21: 401 | D21: 402 | E21: 403 | F21: 404 | G21: 405 | H21: 406 | I21: 407 | J21: 408 | K21: 409 | L21: 410 | M21: 411 | N21: 412 | P21: 413 | Q21: 414 | R21: 415 | S21: 416 | T21: 417 | U21: 418 | V21: 419 | W21: 420 | X21: 421 | Y21: 422 | Z21: 423 | AA21: 424
B24: Stall # | C24: 400 | D24: 399 | E24: 398 | F24: 397 | G24: 396 | H24: 395 | I24: 394 | J24: 393 | K24: 392 | L24: 391 | M24: 390 | N24: 389 | P24: 388 | Q24: 387 | R24: 386 | S24: 385 | T24: 384 | U24: 383 | V24: 382 | W24: 381 | X24: 380 | Y24: 379 | Z24: 378 | AA24: 377 | AB24: Stall #
B25: Entry # | AB25: Entry #
B26: Camper # | AB26: Camper #
B27: Pre Entry Bedding | AB27: Pre Entry Bedding
B28: Post Entry Bedding | AB28: Post Entry Bedding
B29: Arrival Date | AB29: Arrival Date
B30: Barn 3
B32: Arrival Date | AB32: Arrival Date
B33: Post entry Bedding | AB33: Post entry Bedding
B34: Pre Entry Bedding | AB34: Pre Entry Bedding
B35: Camper # | AB35: Camper #
B36: Entry # | AB36: Entry #
B37: Stall # | C37: 353 | D37: 354 | E37: 355 | F37: 356 | G37: 357 | H37: 358 | I37: 359 | J37: 360 | K37: 361 | L37: 362 | M37: 363 | N37: 364 | P37: 365 | Q37: 366 | R37: 367 | S37: 368 | T37: 369 | U37: 370 | V37: 371 | W37: 372 | X37: 373 | Y37: 374 | Z37: 375 | AA37: 376 | AB37: Stall #
B40: Stall # | C40: 352 | D40: 351 | E40: 350 | F40: 349 | G40: 348 | H40: 347 | I40: 346 | J40: 345 | K40: 344 | L40: 343 | M40: 342 | N40: 341 | P40: 340 | Q40: 339 | R40: 338 | S40: 337 | T40: 336 | U40: 335 | V40: 334 | W40: 333 | X40: 332 | Y40: 331 | Z40: 330 | AA40: 329 | AB40: Stall #
B41: Entry # | AB41: Entry #
B42: Camper # | AB42: Camper #
B43: Pre Entry Bedding | AB43: Pre Entry Bedding
B44: Post Entry Bedding | AB44: Post Entry Bedding
B45: Arrival Date | AB45: Arrival Date
B46: Barn 2
D47: Mann | E47: Mann | F47: Cloud | H47: Klemenz | I47: Sharp | J47: Sharp | K47: Eilerman
B48: Arrival Date | D48: 46284 | E48: 46284 | F48: 46284 | H48: 46284 | I48: 46284 | J48: 46284 | K48: 46284 | AB48: Arrival Date
B49: Post entry Bedding | AB49: Post entry Bedding
B50: Pre Entry Bedding | D50: 0 | E50: 6 | F50: 3 | H50: 0 | I50: 4 | J50: 4 | K50: 10 | AB50: Pre Entry Bedding
B51: Camper # | E51: 12 | F51: 11 | H51: 13 | I51: 14 | J51: 14 | AB51: Camper #
B52: Entry # | D52: 26 | E52: 26 | F52: 51 | H52: 856 | I52: 54 | J52: 55 | K52: 464 | AB52: Entry #
B53: Stall # | C53: 305 | D53: 306 | E53: 307 | F53: 308 | G53: 309 | H53: 310 | I53: 311 | J53: 312 | K53: 313 | L53: 314 | M53: 315 | N53: 316 | P53: 317 | Q53: 318 | R53: 319 | S53: 320 | T53: 321 | U53: 322 | V53: 323 | W53: 324 | X53: 325 | Y53: 326 | Z53: 327 | AA53: 328 | AB53: Stall #
C56: ARRIVAL DATE COLORS:
C57: 9/19 Thursday | G57: 9/19 Friday | K57: 9/19 Saturday | O57: After Sunday 9/21 | X57: =NOW() -> 46278.586
C60: TOTAL: | E60: ='BB LISTING Scratch Sheet'!B148 -> 7

Sheet BB Listing
A1: SORTED BY STALL NUMBER:
A2: STALL# | B2: OCCUPANT | C2: ARRIVAL DATE | D2: SHAVINGS Pre-Ordered
A3: =IF('BACK BARNS'!$C$53=0," ",'BACK BARNS'!$C$53) -> 305 | B3: =IF('BACK BARNS'!$C$47=0," ",'BACK BARNS'!$C$47) | C3: =IF('BACK BARNS'!$C$48=0," ",'BACK BARNS'!$C$48) | D3: =IF('BACK BARNS'!$C$50=0," ",'BACK BARNS'!$C$50)
A4: =IF('BACK BARNS'!$D$53=0," ",'BACK BARNS'!$D$53) -> 306 | B4: =IF('BACK BARNS'!$D$47=0," ",'BACK BARNS'!$D$47) -> Mann | C4: =IF('BACK BARNS'!$D$48=0," ",'BACK BARNS'!$D$48) -> 46284 | D4: =IF('BACK BARNS'!$D$50=0," ",'BACK BARNS'!$D$50)
A5: =IF('BACK BARNS'!$E$53=0," ",'BACK BARNS'!$E$53) -> 307 | B5: =IF('BACK BARNS'!$E$47=0," ",'BACK BARNS'!$E$47) -> Mann | C5: =IF('BACK BARNS'!$E$48=0," ",'BACK BARNS'!$E$48) -> 46284 | D5: =IF('BACK BARNS'!$E$50=0," ",'BACK BARNS'!$E$50) -> 6
A6: =IF('BACK BARNS'!$F$53=0," ",'BACK BARNS'!$F$53) -> 308 | B6: =IF('BACK BARNS'!$F$47=0," ",'BACK BARNS'!$F$47) -> Cloud | C6: =IF('BACK BARNS'!$F$48=0," ",'BACK BARNS'!$F$48) -> 46284 | D6: =IF('BACK BARNS'!$F$50=0," ",'BACK BARNS'!$F$50) -> 3
A7: =IF('BACK BARNS'!$G$53=0," ",'BACK BARNS'!$G$53) -> 309 | B7: =IF('BACK BARNS'!$G$47=0," ",'BACK BARNS'!$G$47) | C7: =IF('BACK BARNS'!$G$48=0," ",'BACK BARNS'!$G$48) | D7: =IF('BACK BARNS'!$G$50=0," ",'BACK BARNS'!$G$50)
A8: =IF('BACK BARNS'!$H$53=0," ",'BACK BARNS'!$H$53) -> 310 | B8: =IF('BACK BARNS'!$H$47=0," ",'BACK BARNS'!$H$47) -> Klemenz | C8: =IF('BACK BARNS'!$H$48=0," ",'BACK BARNS'!$H$48) -> 46284 | D8: =IF('BACK BARNS'!$H$50=0," ",'BACK BARNS'!$H$50)
A9: =IF('BACK BARNS'!$I$53=0," ",'BACK BARNS'!$I$53) -> 311 | B9: =IF('BACK BARNS'!$I$47=0," ",'BACK BARNS'!$I$47) -> Sharp | C9: =IF('BACK BARNS'!$I$48=0," ",'BACK BARNS'!$I$48) -> 46284 | D9: =IF('BACK BARNS'!$I$50=0," ",'BACK BARNS'!$I$50) -> 4
A10: =IF('BACK BARNS'!$J$53=0," ",'BACK BARNS'!$J$53) -> 312 | B10: =IF('BACK BARNS'!$J$47=0," ",'BACK BARNS'!$J$47) -> Sharp | C10: =IF('BACK BARNS'!$J$48=0," ",'BACK BARNS'!$J$48) -> 46284 | D10: =IF('BACK BARNS'!$J$50=0," ",'BACK BARNS'!$J$50) -> 4
A11: =IF('BACK BARNS'!$K$53=0," ",'BACK BARNS'!$K$53) -> 313 | B11: =IF('BACK BARNS'!$K$47=0," ",'BACK BARNS'!$K$47) -> Eilerman | C11: =IF('BACK BARNS'!$K$48=0," ",'BACK BARNS'!$K$48) -> 46284 | D11: =IF('BACK BARNS'!$K$50=0," ",'BACK BARNS'!$K$50) -> 10
A12: =IF('BACK BARNS'!$L$53=0," ",'BACK BARNS'!$L$53) -> 314 | B12: =IF('BACK BARNS'!$L$47=0," ",'BACK BARNS'!$L$47) | C12: =IF('BACK BARNS'!$L$48=0," ",'BACK BARNS'!$L$48) | D12: =IF('BACK BARNS'!$L$50=0," ",'BACK BARNS'!$L$50)
A13: =IF('BACK BARNS'!$M$53=0," ",'BACK BARNS'!$M$53) -> 315 | B13: =IF('BACK BARNS'!$M$47=0," ",'BACK BARNS'!$M$47) | C13: =IF('BACK BARNS'!$M$48=0," ",'BACK BARNS'!$M$48) | D13: =IF('BACK BARNS'!$M$50=0," ",'BACK BARNS'!$M$50)
A14: =IF('BACK BARNS'!$N$53=0," ",'BACK BARNS'!$N$53) -> 316 | B14: =IF('BACK BARNS'!$N$47=0," ",'BACK BARNS'!$N$47) | C14: =IF('BACK BARNS'!$N$48=0," ",'BACK BARNS'!$N$48) | D14: =IF('BACK BARNS'!$N$50=0," ",'BACK BARNS'!$N$50)
A15: =IF('BACK BARNS'!$P$53=0," ",'BACK BARNS'!$P$53) -> 317 | B15: =IF('BACK BARNS'!$P$47=0," ",'BACK BARNS'!$P$47) | C15: =IF('BACK BARNS'!$P$48=0," ",'BACK BARNS'!$P$48) | D15: =IF('BACK BARNS'!$O$50=0," ",'BACK BARNS'!$O$50)
A16: =IF('BACK BARNS'!$Q$53=0," ",'BACK BARNS'!$Q$53) -> 318 | B16: =IF('BACK BARNS'!$Q$47=0," ",'BACK BARNS'!$Q$47) | C16: =IF('BACK BARNS'!$Q$48=0," ",'BACK BARNS'!$Q$48) | D16: =IF('BACK BARNS'!$Q$50=0," ",'BACK BARNS'!$Q$50)
A17: =IF('BACK BARNS'!$R$53=0," ",'BACK BARNS'!$R$53) -> 319 | B17: =IF('BACK BARNS'!$R$47=0," ",'BACK BARNS'!$R$47) | C17: =IF('BACK BARNS'!$R$48=0," ",'BACK BARNS'!$R$48) | D17: =IF('BACK BARNS'!$R$50=0," ",'BACK BARNS'!$R$50)
A18: =IF('BACK BARNS'!$S$53=0," ",'BACK BARNS'!$S$53) -> 320 | B18: =IF('BACK BARNS'!$S$47=0," ",'BACK BARNS'!$S$47) | C18: =IF('BACK BARNS'!$S$48=0," ",'BACK BARNS'!$S$48) | D18: =IF('BACK BARNS'!$S$50=0," ",'BACK BARNS'!$S$50)
A19: =IF('BACK BARNS'!$T$53=0," ",'BACK BARNS'!$T$53) -> 321 | B19: =IF('BACK BARNS'!$T$47=0," ",'BACK BARNS'!$T$47) | C19: =IF('BACK BARNS'!$T$48=0," ",'BACK BARNS'!$T$48) | D19: =IF('BACK BARNS'!$T$50=0," ",'BACK BARNS'!$T$50)
A20: =IF('BACK BARNS'!$U$53=0," ",'BACK BARNS'!$U$53) -> 322 | B20: =IF('BACK BARNS'!$U$47=0," ",'BACK BARNS'!$U$47) | C20: =IF('BACK BARNS'!$U$48=0," ",'BACK BARNS'!$U$48) | D20: =IF('BACK BARNS'!$U$50=0," ",'BACK BARNS'!$U$50)
A21: =IF('BACK BARNS'!$V$53=0," ",'BACK BARNS'!$V$53) -> 323 | B21: =IF('BACK BARNS'!$V$47=0," ",'BACK BARNS'!$V$47) | C21: =IF('BACK BARNS'!$V$48=0," ",'BACK BARNS'!$V$48) | D21: =IF('BACK BARNS'!$V$50=0," ",'BACK BARNS'!$V$50)
A22: =IF('BACK BARNS'!$W$53=0," ",'BACK BARNS'!$W$53) -> 324 | B22: =IF('BACK BARNS'!$W$47=0," ",'BACK BARNS'!$W$47) | C22: =IF('BACK BARNS'!$W$48=0," ",'BACK BARNS'!$W$48) | D22: =IF('BACK BARNS'!$W$50=0," ",'BACK BARNS'!$W$50)
A23: =IF('BACK BARNS'!$X$53=0," ",'BACK BARNS'!$X$53) -> 325 | B23: =IF('BACK BARNS'!$X$47=0," ",'BACK BARNS'!$X$47) | C23: =IF('BACK BARNS'!$X$48=0," ",'BACK BARNS'!$X$48) | D23: =IF('BACK BARNS'!$X$50=0," ",'BACK BARNS'!$X$50)
A24: =IF('BACK BARNS'!$Y$53=0," ",'BACK BARNS'!$Y$53) -> 326 | B24: =IF('BACK BARNS'!$Y$47=0," ",'BACK BARNS'!$Y$47) | C24: =IF('BACK BARNS'!$Y$48=0," ",'BACK BARNS'!$Y$48) | D24: =IF('BACK BARNS'!$Y$50=0," ",'BACK BARNS'!$Y$50)
A25: =IF('BACK BARNS'!$Z$53=0," ",'BACK BARNS'!$Z$53) -> 327 | B25: =IF('BACK BARNS'!$Z$47=0," ",'BACK BARNS'!$Z$47) | C25: =IF('BACK BARNS'!$Z$48=0," ",'BACK BARNS'!$Z$48) | D25: =IF('BACK BARNS'!$Z$50=0," ",'BACK BARNS'!$Z$50)
A26: =IF('BACK BARNS'!$AA$53=0," ",'BACK BARNS'!$AA$53) -> 328 | B26: =IF('BACK BARNS'!$AA$47=0," ",'BACK BARNS'!$AA$47) | C26: =IF('BACK BARNS'!$Z$48=0," ",'BACK BARNS'!$Z$48) | D26: =IF('BACK BARNS'!$AA$50=0," ",'BACK BARNS'!$AA$50)
A27: =IF('BACK BARNS'!$AA$40=0," ",'BACK BARNS'!$AA$40) -> 329 | B27: =IF('BACK BARNS'!#REF!=0," ",'BACK BARNS'!#REF!) -> #REF! | C27: =IF('BACK BARNS'!$Z$48=0," ",'BACK BARNS'!$Z$48) | D27: =IF('BACK BARNS'!#REF!=0," ",'BACK BARNS'!#REF!) -> #REF!
A28: =IF('BACK BARNS'!$Z$40=0," ",'BACK BARNS'!$Z$40) -> 330 | B28: =IF('BACK BARNS'!#REF!=0," ",'BACK BARNS'!#REF!) -> #REF! | C28: =IF('BACK BARNS'!$Z$48=0," ",'BACK BARNS'!$Z$48) | D28: =IF('BACK BARNS'!#REF!=0," ",'BACK BARNS'!#REF!) -> #REF!
A29: =IF('BACK BARNS'!$Y$40=0," ",'BACK BARNS'!$Y$40) -> 331 | B29: =IF('BACK BARNS'!#REF!=0," ",'BACK BARNS'!#REF!) -> #REF! | C29: =IF('BACK BARNS'!$Z$48=0," ",'BACK BARNS'!$Z$48) | D29: =IF('BACK BARNS'!#REF!=0," ",'BACK BARNS'!#REF!) -> #REF!
A30: =IF('BACK BARNS'!$X$40=0," ",'BACK BARNS'!$X$40) -> 332 | B30: =IF('BACK BARNS'!#REF!=0," ",'BACK BARNS'!#REF!) -> #REF! | C30: =IF('BACK BARNS'!$Z$48=0," ",'BACK BARNS'!$Z$48) | D30: =IF('BACK BARNS'!#REF!=0," ",'BACK BARNS'!#REF!) -> #REF!
A31: =IF('BACK BARNS'!$W$40=0," ",'BACK BARNS'!$W$40) -> 333 | B31: =IF('BACK BARNS'!#REF!=0," ",'BACK BARNS'!#REF!) -> #REF! | C31: =IF('BACK BARNS'!$W$45=0," ",'BACK BARNS'!$W$45) | D31: =IF('BACK BARNS'!#REF!=0," ",'BACK BARNS'!#REF!) -> #REF!
A32: =IF('BACK BARNS'!$V$40=0," ",'BACK BARNS'!$V$40) -> 334 | B32: =IF('BACK BARNS'!#REF!=0," ",'BACK BARNS'!#REF!) -> #REF! | C32: =IF('BACK BARNS'!$V$45=0," ",'BACK BARNS'!$V$45) | D32: =IF('BACK BARNS'!#REF!=0," ",'BACK BARNS'!#REF!) -> #REF!
A33: =IF('BACK BARNS'!$U$40=0," ",'BACK BARNS'!$U$40) -> 335 | B33: =IF('BACK BARNS'!#REF!=0," ",'BACK BARNS'!#REF!) -> #REF! | C33: =IF('BACK BARNS'!$U$45=0," ",'BACK BARNS'!$U$45) | D33: =IF('BACK BARNS'!#REF!=0," ",'BACK BARNS'!#REF!) -> #REF!
A34: =IF('BACK BARNS'!$T$40=0," ",'BACK BARNS'!$T$40) -> 336 | B34: =IF('BACK BARNS'!#REF!=0," ",'BACK BARNS'!#REF!) -> #REF! | C34: =IF('BACK BARNS'!$T$45=0," ",'BACK BARNS'!$T$45) | D34: =IF('BACK BARNS'!#REF!=0," ",'BACK BARNS'!#REF!) -> #REF!
A35: =IF('BACK BARNS'!$S$40=0," ",'BACK BARNS'!$S$40) -> 337 | B35: =IF('BACK BARNS'!#REF!=0," ",'BACK BARNS'!#REF!) -> #REF! | C35: =IF('BACK BARNS'!$S$45=0," ",'BACK BARNS'!$S$45) | D35: =IF('BACK BARNS'!#REF!=0," ",'BACK BARNS'!#REF!) -> #REF!
A36: =IF('BACK BARNS'!$R$40=0," ",'BACK BARNS'!$R$40) -> 338 | B36: =IF('BACK BARNS'!#REF!=0," ",'BACK BARNS'!#REF!) -> #REF! | C36: =IF('BACK BARNS'!$R$45=0," ",'BACK BARNS'!$R$45) | D36: =IF('BACK BARNS'!#REF!=0," ",'BACK BARNS'!#REF!) -> #REF!
A37: =IF('BACK BARNS'!$Q$40=0," ",'BACK BARNS'!$Q$40) -> 339 | B37: =IF('BACK BARNS'!#REF!=0," ",'BACK BARNS'!#REF!) -> #REF! | C37: =IF('BACK BARNS'!$Q$45=0," ",'BACK BARNS'!$Q$45) | D37: =IF('BACK BARNS'!#REF!=0," ",'BACK BARNS'!#REF!) -> #REF!
A38: =IF('BACK BARNS'!$P$40=0," ",'BACK BARNS'!$P$40) -> 340 | B38: =IF('BACK BARNS'!#REF!=0," ",'BACK BARNS'!#REF!) -> #REF! | C38: =IF('BACK BARNS'!$P$45=0," ",'BACK BARNS'!$P$45) | D38: =IF('BACK BARNS'!#REF!=0," ",'BACK BARNS'!#REF!) -> #REF!
A39: =IF('BACK BARNS'!$N$40=0," ",'BACK BARNS'!$N$40) -> 341 | B39: =IF('BACK BARNS'!#REF!=0," ",'BACK BARNS'!#REF!) -> #REF! | C39: =IF('BACK BARNS'!$N$45=0," ",'BACK BARNS'!$PN$45) | D39: =IF('BACK BARNS'!#REF!=0," ",'BACK BARNS'!#REF!) -> #REF!
A40: =IF('BACK BARNS'!$M$40=0," ",'BACK BARNS'!$M$40) -> 342 | B40: =IF('BACK BARNS'!#REF!=0," ",'BACK BARNS'!#REF!) -> #REF! | C40: =IF('BACK BARNS'!$M$45=0," ",'BACK BARNS'!$M$45) | D40: =IF('BACK BARNS'!#REF!=0," ",'BACK BARNS'!#REF!) -> #REF!
A41: =IF('BACK BARNS'!$L$40=0," ",'BACK BARNS'!$L$40) -> 343 | B41: =IF('BACK BARNS'!#REF!=0," ",'BACK BARNS'!#REF!) -> #REF! | C41: =IF('BACK BARNS'!$L$45=0," ",'BACK BARNS'!$L$45) | D41: =IF('BACK BARNS'!#REF!=0," ",'BACK BARNS'!#REF!) -> #REF!
A42: =IF('BACK BARNS'!$K$40=0," ",'BACK BARNS'!$K$40) -> 344 | B42: =IF('BACK BARNS'!#REF!=0," ",'BACK BARNS'!#REF!) -> #REF! | C42: =IF('BACK BARNS'!$K$45=0," ",'BACK BARNS'!$K$45) | D42: =IF('BACK BARNS'!#REF!=0," ",'BACK BARNS'!#REF!) -> #REF!
A43: =IF('BACK BARNS'!$J$40=0," ",'BACK BARNS'!$J$40) -> 345 | B43: =IF('BACK BARNS'!#REF!=0," ",'BACK BARNS'!#REF!) -> #REF! | C43: =IF('BACK BARNS'!$J$45=0," ",'BACK BARNS'!$J$45) | D43: =IF('BACK BARNS'!#REF!=0," ",'BACK BARNS'!#REF!) -> #REF!
A44: =IF('BACK BARNS'!$I$40=0," ",'BACK BARNS'!$I$40) -> 346 | B44: =IF('BACK BARNS'!#REF!=0," ",'BACK BARNS'!#REF!) -> #REF! | C44: =IF('BACK BARNS'!$I$45=0," ",'BACK BARNS'!$I$45) | D44: =IF('BACK BARNS'!#REF!=0," ",'BACK BARNS'!#REF!) -> #REF!
A45: =IF('BACK BARNS'!$H$40=0," ",'BACK BARNS'!$H$40) -> 347 | B45: =IF('BACK BARNS'!#REF!=0," ",'BACK BARNS'!#REF!) -> #REF! | C45: =IF('BACK BARNS'!$H$45=0," ",'BACK BARNS'!$H$45) | D45: =IF('BACK BARNS'!#REF!=0," ",'BACK BARNS'!#REF!) -> #REF!
A46: =IF('BACK BARNS'!$G$40=0," ",'BACK BARNS'!$G$40) -> 348 | B46: =IF('BACK BARNS'!#REF!=0," ",'BACK BARNS'!#REF!) -> #REF! | C46: =IF('BACK BARNS'!$G$45=0," ",'BACK BARNS'!$G$45) | D46: =IF('BACK BARNS'!#REF!=0," ",'BACK BARNS'!#REF!) -> #REF!
A47: =IF('BACK BARNS'!$F$40=0," ",'BACK BARNS'!$F$40) -> 349 | B47: =IF('BACK BARNS'!#REF!=0," ",'BACK BARNS'!#REF!) -> #REF! | C47: =IF('BACK BARNS'!$F$45=0," ",'BACK BARNS'!$F$45) | D47: =IF('BACK BARNS'!#REF!=0," ",'BACK BARNS'!#REF!) -> #REF!
A48: =IF('BACK BARNS'!$E$40=0," ",'BACK BARNS'!$E$40) -> 350 | B48: =IF('BACK BARNS'!#REF!=0," ",'BACK BARNS'!#REF!) -> #REF! | C48: =IF('BACK BARNS'!$E$45=0," ",'BACK BARNS'!$E$45) | D48: =IF('BACK BARNS'!#REF!=0," ",'BACK BARNS'!#REF!) -> #REF!
A49: =IF('BACK BARNS'!$D$40=0," ",'BACK BARNS'!$D$40) -> 351 | B49: =IF('BACK BARNS'!#REF!=0," ",'BACK BARNS'!#REF!) -> #REF! | C49: =IF('BACK BARNS'!$D$45=0," ",'BACK BARNS'!$D$45) | D49: =IF('BACK BARNS'!#REF!=0," ",'BACK BARNS'!#REF!) -> #REF!
A50: =IF('BACK BARNS'!$C$40=0," ",'BACK BARNS'!$C$40) -> 352 | B50: =IF('BACK BARNS'!#REF!=0," ",'BACK BARNS'!#REF!) -> #REF! | C50: =IF('BACK BARNS'!$C$45=0," ",'BACK BARNS'!$C$45) | D50: =IF('BACK BARNS'!#REF!=0," ",'BACK BARNS'!#REF!) -> #REF!
A51: =IF('BACK BARNS'!$C$37=0," ",'BACK BARNS'!$C$37) -> 353 | B51: =IF('BACK BARNS'!$C$31=0," ",'BACK BARNS'!$C$31) | C51: =IF('BACK BARNS'!$C$33=0," ",'BACK BARNS'!$C$33) | D51: =IF('BACK BARNS'!$C$36=0," ",'BACK BARNS'!$C$36)
A52: =IF('BACK BARNS'!$D$37=0," ",'BACK BARNS'!$D$37) -> 354 | B52: =IF('BACK BARNS'!$D$31=0," ",'BACK BARNS'!$D$31) | C52: =IF('BACK BARNS'!$D$33=0," ",'BACK BARNS'!$D$33) | D52: =IF('BACK BARNS'!$D$36=0," ",'BACK BARNS'!$D$36)
A53: =IF('BACK BARNS'!$E$37=0," ",'BACK BARNS'!$E$37) -> 355 | B53: =IF('BACK BARNS'!$E$31=0," ",'BACK BARNS'!$E$31) | C53: =IF('BACK BARNS'!$E$33=0," ",'BACK BARNS'!$E$33) | D53: =IF('BACK BARNS'!$E$36=0," ",'BACK BARNS'!$E$36)
A54: =IF('BACK BARNS'!$F$37=0," ",'BACK BARNS'!$F$37) -> 356 | B54: =IF('BACK BARNS'!$F$31=0," ",'BACK BARNS'!$F$31) | C54: =IF('BACK BARNS'!$F$33=0," ",'BACK BARNS'!$F$33) | D54: =IF('BACK BARNS'!$F$36=0," ",'BACK BARNS'!$F$36)
A55: =IF('BACK BARNS'!$G$37=0," ",'BACK BARNS'!$G$37) -> 357 | B55: =IF('BACK BARNS'!$G$31=0," ",'BACK BARNS'!$G$31) | C55: =IF('BACK BARNS'!$G$33=0," ",'BACK BARNS'!$G$33) | D55: =IF('BACK BARNS'!$G$36=0," ",'BACK BARNS'!$G$36)
A56: =IF('BACK BARNS'!$H$37=0," ",'BACK BARNS'!$H$37) -> 358 | B56: =IF('BACK BARNS'!$H$31=0," ",'BACK BARNS'!$H$31) | C56: =IF('BACK BARNS'!$H$33=0," ",'BACK BARNS'!$H$33) | D56: =IF('BACK BARNS'!$H$36=0," ",'BACK BARNS'!$H$36)
A57: =IF('BACK BARNS'!$I$37=0," ",'BACK BARNS'!$I$37) -> 359 | B57: =IF('BACK BARNS'!$I$31=0," ",'BACK BARNS'!$I$31) | C57: =IF('BACK BARNS'!$I$33=0," ",'BACK BARNS'!$I$33) | D57: =IF('BACK BARNS'!$I$36=0," ",'BACK BARNS'!$I$36)
A58: =IF('BACK BARNS'!$J$37=0," ",'BACK BARNS'!$J$37) -> 360 | B58: =IF('BACK BARNS'!$J$31=0," ",'BACK BARNS'!$J$31) | C58: =IF('BACK BARNS'!$J$33=0," ",'BACK BARNS'!$J$33) | D58: =IF('BACK BARNS'!$J$36=0," ",'BACK BARNS'!$J$36)
A59: =IF('BACK BARNS'!$K$37=0," ",'BACK BARNS'!$K$37) -> 361 | B59: =IF('BACK BARNS'!$K$31=0," ",'BACK BARNS'!$K$31) | C59: =IF('BACK BARNS'!$K$33=0," ",'BACK BARNS'!$K$33) | D59: =IF('BACK BARNS'!$K$36=0," ",'BACK BARNS'!$K$36)
A60: =IF('BACK BARNS'!$L$37=0," ",'BACK BARNS'!$L$37) -> 362 | B60: =IF('BACK BARNS'!$L$31=0," ",'BACK BARNS'!$L$31) | C60: =IF('BACK BARNS'!$L$33=0," ",'BACK BARNS'!$L$33) | D60: =IF('BACK BARNS'!$L$36=0," ",'BACK BARNS'!$L$36)
A61: =IF('BACK BARNS'!$M$37=0," ",'BACK BARNS'!$M$37) -> 363 | B61: =IF('BACK BARNS'!$M$31=0," ",'BACK BARNS'!$M$31) | C61: =IF('BACK BARNS'!$M$33=0," ",'BACK BARNS'!$M$33) | D61: =IF('BACK BARNS'!$M$36=0," ",'BACK BARNS'!$M$36)
A62: =IF('BACK BARNS'!$N$37=0," ",'BACK BARNS'!$N$37) -> 364 | B62: =IF('BACK BARNS'!$N$31=0," ",'BACK BARNS'!$N$31) | C62: =IF('BACK BARNS'!$N$33=0," ",'BACK BARNS'!$N$33) | D62: =IF('BACK BARNS'!$N$36=0," ",'BACK BARNS'!$N$36)
A63: =IF('BACK BARNS'!$P$37=0," ",'BACK BARNS'!$P$37) -> 365 | B63: =IF('BACK BARNS'!$P$31=0," ",'BACK BARNS'!$P$31) | C63: =IF('BACK BARNS'!$P$33=0," ",'BACK BARNS'!$P$33) | D63: =IF('BACK BARNS'!$P$36=0," ",'BACK BARNS'!$P$36)
A64: =IF('BACK BARNS'!$Q$37=0," ",'BACK BARNS'!$Q$37) -> 366 | B64: =IF('BACK BARNS'!$Q$31=0," ",'BACK BARNS'!$Q$31) | C64: =IF('BACK BARNS'!$Q$33=0," ",'BACK BARNS'!$Q$33) | D64: =IF('BACK BARNS'!$Q$36=0," ",'BACK BARNS'!$Q$36)
A65: =IF('BACK BARNS'!$R$37=0," ",'BACK BARNS'!$R$37) -> 367 | B65: =IF('BACK BARNS'!$R$31=0," ",'BACK BARNS'!$R$31) | C65: =IF('BACK BARNS'!$R$33=0," ",'BACK BARNS'!$R$33) | D65: =IF('BACK BARNS'!$R$36=0," ",'BACK BARNS'!$R$36)
A66: =IF('BACK BARNS'!$S$37=0," ",'BACK BARNS'!$S$37) -> 368 | B66: =IF('BACK BARNS'!$R$31=0," ",'BACK BARNS'!$R$31) | C66: =IF('BACK BARNS'!$S$33=0," ",'BACK BARNS'!$S$33) | D66: =IF('BACK BARNS'!$S$36=0," ",'BACK BARNS'!$S$36)
A67: =IF('BACK BARNS'!$T$37=0," ",'BACK BARNS'!$T$37) -> 369 | B67: =IF('BACK BARNS'!$T$31=0," ",'BACK BARNS'!$T$31) | C67: =IF('BACK BARNS'!$T$33=0," ",'BACK BARNS'!$T$33) | D67: =IF('BACK BARNS'!$T$36=0," ",'BACK BARNS'!$T$36)
A68: =IF('BACK BARNS'!$U$37=0," ",'BACK BARNS'!$U$37) -> 370 | B68: =IF('BACK BARNS'!$U$31=0," ",'BACK BARNS'!$U$31) | C68: =IF('BACK BARNS'!$U$33=0," ",'BACK BARNS'!$U$33) | D68: =IF('BACK BARNS'!$U$36=0," ",'BACK BARNS'!$U$36)
A69: =IF('BACK BARNS'!$V$37=0," ",'BACK BARNS'!$V$37) -> 371 | B69: =IF('BACK BARNS'!$V$31=0," ",'BACK BARNS'!$V$31) | C69: =IF('BACK BARNS'!$V$33=0," ",'BACK BARNS'!$V$33) | D69: =IF('BACK BARNS'!$V$36=0," ",'BACK BARNS'!$V$36)
A70: =IF('BACK BARNS'!$W$37=0," ",'BACK BARNS'!$W$37) -> 372 | B70: =IF('BACK BARNS'!$W$31=0," ",'BACK BARNS'!$W$31) | C70: =IF('BACK BARNS'!$W$33=0," ",'BACK BARNS'!$W$33) | D70: =IF('BACK BARNS'!$W$36=0," ",'BACK BARNS'!$W$36)
A71: =IF('BACK BARNS'!$X$37=0," ",'BACK BARNS'!$X$37) -> 373 | B71: =IF('BACK BARNS'!$X$31=0," ",'BACK BARNS'!$X$31) | C71: =IF('BACK BARNS'!$X$33=0," ",'BACK BARNS'!$X$33) | D71: =IF('BACK BARNS'!$X$36=0," ",'BACK BARNS'!$X$36)
A72: =IF('BACK BARNS'!$Y$37=0," ",'BACK BARNS'!$Y$37) -> 374 | B72: =IF('BACK BARNS'!$Y$31=0," ",'BACK BARNS'!$Y$31) | C72: =IF('BACK BARNS'!$Y$33=0," ",'BACK BARNS'!$Y$33) | D72: =IF('BACK BARNS'!$Y$36=0," ",'BACK BARNS'!$Y$36)
A73: =IF('BACK BARNS'!$Z$37=0," ",'BACK BARNS'!$Z$37) -> 375 | B73: =IF('BACK BARNS'!$Z$31=0," ",'BACK BARNS'!$Z$31) | C73: =IF('BACK BARNS'!$Z$33=0," ",'BACK BARNS'!$Z$33) | D73: =IF('BACK BARNS'!$Z$36=0," ",'BACK BARNS'!$Z$36)
A74: =IF('BACK BARNS'!$AA$37=0," ",'BACK BARNS'!$AA$37) -> 376 | B74: =IF('BACK BARNS'!$AA$31=0," ",'BACK BARNS'!$AA$31) | C74: =IF('BACK BARNS'!$AA$33=0," ",'BACK BARNS'!$AA$33) | D74: =IF('BACK BARNS'!$AA$36=0," ",'BACK BARNS'!$AA$36)
A75: =IF('BACK BARNS'!$AA$24=0," ",'BACK BARNS'!$AA$24) -> 377 | B75: =IF('BACK BARNS'!$AA$25=0," ",'BACK BARNS'!$AA$25) | C75: =IF('BACK BARNS'!#REF!=0," ",'BACK BARNS'!#REF!) -> #REF! | D75: =IF('BACK BARNS'!$AA$30=0," ",'BACK BARNS'!$AA$30)
A76: =IF('BACK BARNS'!$Z$24=0," ",'BACK BARNS'!$Z$24) -> 378 | B76: =IF('BACK BARNS'!$Z$25=0," ",'BACK BARNS'!$Z$25) | C76: =IF('BACK BARNS'!#REF!=0," ",'BACK BARNS'!#REF!) -> #REF! | D76: =IF('BACK BARNS'!$Z$30=0," ",'BACK BARNS'!$Z$30)
A77: =IF('BACK BARNS'!$Y$24=0," ",'BACK BARNS'!$Y$24) -> 379 | B77: =IF('BACK BARNS'!$Y$25=0," ",'BACK BARNS'!$Y$25) | C77: =IF('BACK BARNS'!#REF!=0," ",'BACK BARNS'!#REF!) -> #REF! | D77: =IF('BACK BARNS'!$Y$30=0," ",'BACK BARNS'!$Y$30)
A78: =IF('BACK BARNS'!$X$24=0," ",'BACK BARNS'!$X$24) -> 380 | B78: =IF('BACK BARNS'!$X$25=0," ",'BACK BARNS'!$X$25) | C78: =IF('BACK BARNS'!#REF!=0," ",'BACK BARNS'!#REF!) -> #REF! | D78: =IF('BACK BARNS'!$X$30=0," ",'BACK BARNS'!$X$30)
A79: =IF('BACK BARNS'!$W$24=0," ",'BACK BARNS'!$W$24) -> 381 | B79: =IF('BACK BARNS'!$W$25=0," ",'BACK BARNS'!$W$25) | C79: =IF('BACK BARNS'!#REF!=0," ",'BACK BARNS'!#REF!) -> #REF! | D79: =IF('BACK BARNS'!$W$30=0," ",'BACK BARNS'!$W$30)
A80: =IF('BACK BARNS'!$V$24=0," ",'BACK BARNS'!$V$24) -> 382 | B80: =IF('BACK BARNS'!$V$25=0," ",'BACK BARNS'!$V$25) | C80: =IF('BACK BARNS'!#REF!=0," ",'BACK BARNS'!#REF!) -> #REF! | D80: =IF('BACK BARNS'!$V$30=0," ",'BACK BARNS'!$V$30)
A81: =IF('BACK BARNS'!$U$24=0," ",'BACK BARNS'!$U$24) -> 383 | B81: =IF('BACK BARNS'!$U$25=0," ",'BACK BARNS'!$U$25) | C81: =IF('BACK BARNS'!#REF!=0," ",'BACK BARNS'!#REF!) -> #REF! | D81: =IF('BACK BARNS'!$U$30=0," ",'BACK BARNS'!$U$30)
A82: =IF('BACK BARNS'!$T$24=0," ",'BACK BARNS'!$T$24) -> 384 | B82: =IF('BACK BARNS'!$T$25=0," ",'BACK BARNS'!$T$25) | C82: =IF('BACK BARNS'!#REF!=0," ",'BACK BARNS'!#REF!) -> #REF! | D82: =IF('BACK BARNS'!$T$30=0," ",'BACK BARNS'!$T$30)
A83: =IF('BACK BARNS'!$S$24=0," ",'BACK BARNS'!$S$24) -> 385 | B83: =IF('BACK BARNS'!$S$25=0," ",'BACK BARNS'!$S$25) | C83: =IF('BACK BARNS'!#REF!=0," ",'BACK BARNS'!#REF!) -> #REF! | D83: =IF('BACK BARNS'!$S$30=0," ",'BACK BARNS'!$S$30)
A84: =IF('BACK BARNS'!$R$24=0," ",'BACK BARNS'!$R$24) -> 386 | B84: =IF('BACK BARNS'!$R$25=0," ",'BACK BARNS'!$R$25) | C84: =IF('BACK BARNS'!#REF!=0," ",'BACK BARNS'!#REF!) -> #REF! | D84: =IF('BACK BARNS'!$R$30=0," ",'BACK BARNS'!$R$30)
A85: =IF('BACK BARNS'!$Q$24=0," ",'BACK BARNS'!$Q$24) -> 387 | B85: =IF('BACK BARNS'!$Q$25=0," ",'BACK BARNS'!$Q$25) | C85: =IF('BACK BARNS'!#REF!=0," ",'BACK BARNS'!#REF!) -> #REF! | D85: =IF('BACK BARNS'!$Q$30=0," ",'BACK BARNS'!$Q$30)
A86: =IF('BACK BARNS'!$P$24=0," ",'BACK BARNS'!$P$24) -> 388 | B86: =IF('BACK BARNS'!$P$25=0," ",'BACK BARNS'!$P$25) | C86: =IF('BACK BARNS'!#REF!=0," ",'BACK BARNS'!#REF!) -> #REF! | D86: =IF('BACK BARNS'!$P$30=0," ",'BACK BARNS'!$P$30)
A87: =IF('BACK BARNS'!$N$24=0," ",'BACK BARNS'!$N$24) -> 389 | B87: =IF('BACK BARNS'!$N$25=0," ",'BACK BARNS'!$N$25) | C87: =IF('BACK BARNS'!#REF!=0," ",'BACK BARNS'!#REF!) -> #REF! | D87: =IF('BACK BARNS'!$N$30=0," ",'BACK BARNS'!$N$30)
A88: =IF('BACK BARNS'!$M$24=0," ",'BACK BARNS'!$M$24) -> 390 | B88: =IF('BACK BARNS'!$M$25=0," ",'BACK BARNS'!$M$25) | C88: =IF('BACK BARNS'!#REF!=0," ",'BACK BARNS'!#REF!) -> #REF! | D88: =IF('BACK BARNS'!$M$30=0," ",'BACK BARNS'!$M$30)
A89: =IF('BACK BARNS'!$L$24=0," ",'BACK BARNS'!$L$24) -> 391 | B89: =IF('BACK BARNS'!$L$25=0," ",'BACK BARNS'!$L$25) | C89: =IF('BACK BARNS'!#REF!=0," ",'BACK BARNS'!#REF!) -> #REF! | D89: =IF('BACK BARNS'!$L$30=0," ",'BACK BARNS'!$L$30)
A90: =IF('BACK BARNS'!$K$24=0," ",'BACK BARNS'!$K$24) -> 392 | B90: =IF('BACK BARNS'!$K$25=0," ",'BACK BARNS'!$K$25) | C90: =IF('BACK BARNS'!#REF!=0," ",'BACK BARNS'!#REF!) -> #REF! | D90: =IF('BACK BARNS'!$K$30=0," ",'BACK BARNS'!$K$30)
A91: =IF('BACK BARNS'!$J$24=0," ",'BACK BARNS'!$J$24) -> 393 | B91: =IF('BACK BARNS'!$J$25=0," ",'BACK BARNS'!$J$25) | C91: =IF('BACK BARNS'!#REF!=0," ",'BACK BARNS'!#REF!) -> #REF! | D91: =IF('BACK BARNS'!$J$30=0," ",'BACK BARNS'!$J$30)
A92: =IF('BACK BARNS'!$I$24=0," ",'BACK BARNS'!$I$24) -> 394 | B92: =IF('BACK BARNS'!$I$25=0," ",'BACK BARNS'!$I$25) | C92: =IF('BACK BARNS'!#REF!=0," ",'BACK BARNS'!#REF!) -> #REF! | D92: =IF('BACK BARNS'!$I$30=0," ",'BACK BARNS'!$I$30)
A93: =IF('BACK BARNS'!$H$24=0," ",'BACK BARNS'!$H$24) -> 395 | B93: =IF('BACK BARNS'!$H$25=0," ",'BACK BARNS'!$H$25) | C93: =IF('BACK BARNS'!#REF!=0," ",'BACK BARNS'!#REF!) -> #REF! | D93: =IF('BACK BARNS'!$H$30=0," ",'BACK BARNS'!$H$30)
A94: =IF('BACK BARNS'!$G$24=0," ",'BACK BARNS'!$G$24) -> 396 | B94: =IF('BACK BARNS'!$G$25=0," ",'BACK BARNS'!$G$25) | C94: =IF('BACK BARNS'!#REF!=0," ",'BACK BARNS'!#REF!) -> #REF! | D94: =IF('BACK BARNS'!$G$30=0," ",'BACK BARNS'!$G$30)
A95: =IF('BACK BARNS'!$F$24=0," ",'BACK BARNS'!$F$24) -> 397 | B95: =IF('BACK BARNS'!$F$25=0," ",'BACK BARNS'!$F$25) | C95: =IF('BACK BARNS'!#REF!=0," ",'BACK BARNS'!#REF!) -> #REF! | D95: =IF('BACK BARNS'!$F$30=0," ",'BACK BARNS'!$F$30)
A96: =IF('BACK BARNS'!$E$24=0," ",'BACK BARNS'!$E$24) -> 398 | B96: =IF('BACK BARNS'!$E$25=0," ",'BACK BARNS'!$E$25) | C96: =IF('BACK BARNS'!#REF!=0," ",'BACK BARNS'!#REF!) -> #REF! | D96: =IF('BACK BARNS'!$E$30=0," ",'BACK BARNS'!$E$30)
A97: =IF('BACK BARNS'!$D$24=0," ",'BACK BARNS'!$D$24) -> 399 | B97: =IF('BACK BARNS'!$D$25=0," ",'BACK BARNS'!$D$25) | C97: =IF('BACK BARNS'!#REF!=0," ",'BACK BARNS'!#REF!) -> #REF! | D97: =IF('BACK BARNS'!$D$30=0," ",'BACK BARNS'!$D$30)
A98: =IF('BACK BARNS'!$C$24=0," ",'BACK BARNS'!$C$24) -> 400 | B98: =IF('BACK BARNS'!$C$25=0," ",'BACK BARNS'!$C$25) | C98: =IF('BACK BARNS'!#REF!=0," ",'BACK BARNS'!#REF!) -> #REF! | D98: =IF('BACK BARNS'!$C$30=0," ",'BACK BARNS'!$C$30)
A99: =IF('BACK BARNS'!$C$21=0," ",'BACK BARNS'!$C$21) -> 401 | B99: =IF('BACK BARNS'!$C$18=0," ",'BACK BARNS'!$C$18) | C99: =IF('BACK BARNS'!$C$19=0," ",'BACK BARNS'!$C$19) | D99: =IF('BACK BARNS'!$C$20=0," ",'BACK BARNS'!$C$20)
A100: =IF('BACK BARNS'!$D$21=0," ",'BACK BARNS'!$D$21) -> 402 | B100: =IF('BACK BARNS'!$D$18=0," ",'BACK BARNS'!$D$18) | C100: =IF('BACK BARNS'!$D$19=0," ",'BACK BARNS'!$D$19) | D100: =IF('BACK BARNS'!$D$20=0," ",'BACK BARNS'!$D$20)
...
