Workbook

Sheet Results
E1: Week | F1: =+'Results Input'!G1 -> 2
B2: =CONCATENATE(E2,F2) -> 1E12 | C2: =CONCATENATE(E2,I2) -> 1E11 | D2: =+'Results Input'!E2 -> 46310 | E2: =+'Results Input'!F2 -> 1 | F2: =+'Results Input'!G2 -> E12 | G2: =VLOOKUP(F2,Results!$N$2:$O$7,2,FALSE) -> Protagonists 2 | H2: =+'Results Input'!I2 -> 25 | I2: =+'Results Input'!J2 -> E11 | J2: =VLOOKUP(I2,Results!$N$2:$O$7,2,FALSE) -> Nightingales | K2: =+'Results Input'!L2 -> 12 | N2: E11 | O2: Nightingales
B3: =CONCATENATE(E3,F3) -> 1E15 | C3: =CONCATENATE(E3,I3) -> 1E16 | D3: =+D2 -> 46310 | E3: =+'Results Input'!F3 -> 1 | F3: =+'Results Input'!G3 -> E15 | G3: =VLOOKUP(F3,Results!$N$2:$O$7,2,FALSE) -> Odd Jobs | H3: =+'Results Input'!I3 -> 25 | I3: =+'Results Input'!J3 -> E16 | J3: =VLOOKUP(I3,Results!$N$2:$O$7,2,FALSE) -> Sharks | K3: =+'Results Input'!L3 -> 3 | N3: E12 | O3: Protagonists 2
B4: =CONCATENATE(E4,F4) -> 1E13 | C4: =CONCATENATE(E4,I4) -> 1E14 | D4: =+D2 -> 46310 | E4: =+'Results Input'!F4 -> 1 | F4: =+'Results Input'!G4 -> E13 | G4: =VLOOKUP(F4,Results!$N$2:$O$7,2,FALSE) -> Oddments | H4: =+'Results Input'!I4 -> 8 | I4: =+'Results Input'!J4 -> E14 | J4: =VLOOKUP(I4,Results!$N$2:$O$7,2,FALSE) -> Jokers | K4: =+'Results Input'!L4 -> 20 | N4: E13 | O4: Oddments
B5: =CONCATENATE(E5,F5) -> 1E11 | C5: =CONCATENATE(E5,I5) -> 1E12 | D5: =+D2 -> 46310 | E5: =+E2 -> 1 | F5: =+I2 -> E11 | G5: =VLOOKUP(F5,Results!$N$2:$O$7,2,FALSE) -> Nightingales | H5: =+K2 -> 12 | I5: =+F2 -> E12 | J5: =VLOOKUP(I5,Results!$N$2:$O$7,2,FALSE) -> Protagonists 2 | K5: =+H2 -> 25 | N5: E14 | O5: Jokers
B6: =CONCATENATE(E6,F6) -> 1E16 | C6: =CONCATENATE(E6,I6) -> 1E15 | D6: =+D2 -> 46310 | E6: =+E3 -> 1 | F6: =+I3 -> E16 | G6: =VLOOKUP(F6,Results!$N$2:$O$7,2,FALSE) -> Sharks | H6: =+K3 -> 3 | I6: =+F3 -> E15 | J6: =VLOOKUP(I6,Results!$N$2:$O$7,2,FALSE) -> Odd Jobs | K6: =+H3 -> 25 | N6: E15 | O6: Odd Jobs
B7: =CONCATENATE(E7,F7) -> 1E14 | C7: =CONCATENATE(E7,I7) -> 1E13 | D7: =+D2 -> 46310 | E7: =+E4 -> 1 | F7: =+I4 -> E14 | G7: =VLOOKUP(F7,Results!$N$2:$O$7,2,FALSE) -> Jokers | H7: =+K4 -> 20 | I7: =+F4 -> E13 | J7: =VLOOKUP(I7,Results!$N$2:$O$7,2,FALSE) -> Oddments | K7: =+H4 -> 8 | N7: E16 | O7: Sharks
B8: =CONCATENATE(E8,F8) -> 2E15 | C8: =CONCATENATE(E8,I8) -> 2E14 | D8: =+'Results Input'!E5 -> 46324 | E8: =+'Results Input'!F5 -> 2 | F8: =+'Results Input'!G5 -> E15 | G8: =VLOOKUP(F8,Results!$N$2:$O$7,2,FALSE) -> Odd Jobs | H8: =+'Results Input'!I5 -> 7 | I8: =+'Results Input'!J5 -> E14 | J8: =VLOOKUP(I8,Results!$N$2:$O$7,2,FALSE) -> Jokers | K8: =+'Results Input'!L5 -> 27
B9: =CONCATENATE(E9,F9) -> 2E11 | C9: =CONCATENATE(E9,I9) -> 2E16 | D9: =+D8 -> 46324 | E9: =+'Results Input'!F6 -> 2 | F9: =+'Results Input'!G6 -> E11 | G9: =VLOOKUP(F9,Results!$N$2:$O$7,2,FALSE) -> Nightingales | H9: =+'Results Input'!I6 -> 27 | I9: =+'Results Input'!J6 -> E16 | J9: =VLOOKUP(I9,Results!$N$2:$O$7,2,FALSE) -> Sharks | K9: =+'Results Input'!L6 -> 2
B10: =CONCATENATE(E10,F10) -> 2E12 | C10: =CONCATENATE(E10,I10) -> 2E13 | D10: =+D8 -> 46324 | E10: =+'Results Input'!F7 -> 2 | F10: =+'Results Input'!G7 -> E12 | G10: =VLOOKUP(F10,Results!$N$2:$O$7,2,FALSE) -> Protagonists 2 | H10: =+'Results Input'!I7 -> 21 | I10: =+'Results Input'!J7 -> E13 | J10: =VLOOKUP(I10,Results!$N$2:$O$7,2,FALSE) -> Oddments | K10: =+'Results Input'!L7 -> 11
B11: =CONCATENATE(E11,F11) -> 2E14 | C11: =CONCATENATE(E11,I11) -> 2E15 | D11: =+D8 -> 46324 | E11: =+E8 -> 2 | F11: =+I8 -> E14 | G11: =VLOOKUP(F11,Results!$N$2:$O$7,2,FALSE) -> Jokers | H11: =+K8 -> 27 | I11: =+F8 -> E15 | J11: =VLOOKUP(I11,Results!$N$2:$O$7,2,FALSE) -> Odd Jobs | K11: =+H8 -> 7
B12: =CONCATENATE(E12,F12) -> 2E16 | C12: =CONCATENATE(E12,I12) -> 2E11 | D12: =+D8 -> 46324 | E12: =+E9 -> 2 | F12: =+I9 -> E16 | G12: =VLOOKUP(F12,Results!$N$2:$O$7,2,FALSE) -> Sharks | H12: =+K9 -> 2 | I12: =+F9 -> E11 | J12: =VLOOKUP(I12,Results!$N$2:$O$7,2,FALSE) -> Nightingales | K12: =+H9 -> 27
B13: =CONCATENATE(E13,F13) -> 2E13 | C13: =CONCATENATE(E13,I13) -> 2E12 | D13: =+D8 -> 46324 | E13: =+E10 -> 2 | F13: =+I10 -> E13 | G13: =VLOOKUP(F13,Results!$N$2:$O$7,2,FALSE) -> Oddments | H13: =+K10 -> 11 | I13: =+F10 -> E12 | J13: =VLOOKUP(I13,Results!$N$2:$O$7,2,FALSE) -> Protagonists 2 | K13: =+H10 -> 21
B14: =CONCATENATE(E14,F14) -> 3E12 | C14: =CONCATENATE(E14,I14) -> 3E15 | D14: =+'Results Input'!E8 -> 46338 | E14: =+'Results Input'!F8 -> 3 | F14: =+'Results Input'!G8 -> E12 | G14: =VLOOKUP(F14,Results!$N$2:$O$7,2,FALSE) -> Protagonists 2 | H14: =+'Results Input'!I8 -> 0 | I14: =+'Results Input'!J8 -> E15 | J14: =VLOOKUP(I14,Results!$N$2:$O$7,2,FALSE) -> Odd Jobs | K14: =+'Results Input'!L8 -> 0
B15: =CONCATENATE(E15,F15) -> 3E13 | C15: =CONCATENATE(E15,I15) -> 3E11 | D15: =+D14 -> 46338 | E15: =+'Results Input'!F9 -> 3 | F15: =+'Results Input'!G9 -> E13 | G15: =VLOOKUP(F15,Results!$N$2:$O$7,2,FALSE) -> Oddments | H15: =+'Results Input'!I9 -> 0 | I15: =+'Results Input'!J9 -> E11 | J15: =VLOOKUP(I15,Results!$N$2:$O$7,2,FALSE) -> Nightingales | K15: =+'Results Input'!L9 -> 0
B16: =CONCATENATE(E16,F16) -> 3E16 | C16: =CONCATENATE(E16,I16) -> 3E14 | D16: =+D14 -> 46338 | E16: =+'Results Input'!F10 -> 3 | F16: =+'Results Input'!G10 -> E16 | G16: =VLOOKUP(F16,Results!$N$2:$O$7,2,FALSE) -> Sharks | H16: =+'Results Input'!I10 -> 0 | I16: =+'Results Input'!J10 -> E14 | J16: =VLOOKUP(I16,Results!$N$2:$O$7,2,FALSE) -> Jokers | K16: =+'Results Input'!L10 -> 0
B17: =CONCATENATE(E17,F17) -> 3E15 | C17: =CONCATENATE(E17,I17) -> 3E12 | D17: =+D14 -> 46338 | E17: =+E14 -> 3 | F17: =+I14 -> E15 | G17: =VLOOKUP(F17,Results!$N$2:$O$7,2,FALSE) -> Odd Jobs | H17: =+K14 -> 0 | I17: =+F14 -> E12 | J17: =VLOOKUP(I17,Results!$N$2:$O$7,2,FALSE) -> Protagonists 2 | K17: =+H14 -> 0
B18: =CONCATENATE(E18,F18) -> 3E11 | C18: =CONCATENATE(E18,I18) -> 3E13 | D18: =+D14 -> 46338 | E18: =+E15 -> 3 | F18: =+I15 -> E11 | G18: =VLOOKUP(F18,Results!$N$2:$O$7,2,FALSE) -> Nightingales | H18: =+K15 -> 0 | I18: =+F15 -> E13 | J18: =VLOOKUP(I18,Results!$N$2:$O$7,2,FALSE) -> Oddments | K18: =+H15 -> 0
B19: =CONCATENATE(E19,F19) -> 3E14 | C19: =CONCATENATE(E19,I19) -> 3E16 | D19: =+D14 -> 46338 | E19: =+E16 -> 3 | F19: =+I16 -> E14 | G19: =VLOOKUP(F19,Results!$N$2:$O$7,2,FALSE) -> Jokers | H19: =+K16 -> 0 | I19: =+F16 -> E16 | J19: =VLOOKUP(I19,Results!$N$2:$O$7,2,FALSE) -> Sharks | K19: =+H16 -> 0
B20: =CONCATENATE(E20,F20) -> 4E13 | C20: =CONCATENATE(E20,I20) -> 4E15 | D20: =+'Results Input'!E11 -> 46352 | E20: =+'Results Input'!F11 -> 4 | F20: =+'Results Input'!G11 -> E13 | G20: =VLOOKUP(F20,Results!$N$2:$O$7,2,FALSE) -> Oddments | H20: =+'Results Input'!I11 -> 0 | I20: =+'Results Input'!J11 -> E15 | J20: =VLOOKUP(I20,Results!$N$2:$O$7,2,FALSE) -> Odd Jobs | K20: =+'Results Input'!L11 -> 0
B21: =CONCATENATE(E21,F21) -> 4E14 | C21: =CONCATENATE(E21,I21) -> 4E11 | D21: =+D20 -> 46352 | E21: =+'Results Input'!F12 -> 4 | F21: =+'Results Input'!G12 -> E14 | G21: =VLOOKUP(F21,Results!$N$2:$O$7,2,FALSE) -> Jokers | H21: =+'Results Input'!I12 -> 0 | I21: =+'Results Input'!J12 -> E11 | J21: =VLOOKUP(I21,Results!$N$2:$O$7,2,FALSE) -> Nightingales | K21: =+'Results Input'!L12 -> 0
B22: =CONCATENATE(E22,F22) -> 4E12 | C22: =CONCATENATE(E22,I22) -> 4E16 | D22: =+D20 -> 46352 | E22: =+'Results Input'!F13 -> 4 | F22: =+'Results Input'!G13 -> E12 | G22: =VLOOKUP(F22,Results!$N$2:$O$7,2,FALSE) -> Protagonists 2 | H22: =+'Results Input'!I13 -> 0 | I22: =+'Results Input'!J13 -> E16 | J22: =VLOOKUP(I22,Results!$N$2:$O$7,2,FALSE) -> Sharks | K22: =+'Results Input'!L13 -> 0
B23: =CONCATENATE(E23,F23) -> 4E15 | C23: =CONCATENATE(E23,I23) -> 4E13 | D23: =+D20 -> 46352 | E23: =+E20 -> 4 | F23: =+I20 -> E15 | G23: =VLOOKUP(F23,Results!$N$2:$O$7,2,FALSE) -> Odd Jobs | H23: =+K20 -> 0 | I23: =+F20 -> E13 | J23: =VLOOKUP(I23,Results!$N$2:$O$7,2,FALSE) -> Oddments | K23: =+H20 -> 0
B24: =CONCATENATE(E24,F24) -> 4E11 | C24: =CONCATENATE(E24,I24) -> 4E14 | D24: =+D20 -> 46352 | E24: =+E21 -> 4 | F24: =+I21 -> E11 | G24: =VLOOKUP(F24,Results!$N$2:$O$7,2,FALSE) -> Nightingales | H24: =+K21 -> 0 | I24: =+F21 -> E14 | J24: =VLOOKUP(I24,Results!$N$2:$O$7,2,FALSE) -> Jokers | K24: =+H21 -> 0
B25: =CONCATENATE(E25,F25) -> 4E16 | C25: =CONCATENATE(E25,I25) -> 4E12 | D25: =+D20 -> 46352 | E25: =+E22 -> 4 | F25: =+I22 -> E16 | G25: =VLOOKUP(F25,Results!$N$2:$O$7,2,FALSE) -> Sharks | H25: =+K22 -> 0 | I25: =+F22 -> E12 | J25: =VLOOKUP(I25,Results!$N$2:$O$7,2,FALSE) -> Protagonists 2 | K25: =+H22 -> 0
B26: =CONCATENATE(E26,F26) -> 5E16 | C26: =CONCATENATE(E26,I26) -> 5E13 | D26: =+'Results Input'!E14 -> 46366 | E26: =+'Results Input'!F14 -> 5 | F26: =+'Results Input'!G14 -> E16 | G26: =VLOOKUP(F26,Results!$N$2:$O$7,2,FALSE) -> Sharks | H26: =+'Results Input'!I14 -> 0 | I26: =+'Results Input'!J14 -> E13 | J26: =VLOOKUP(I26,Results!$N$2:$O$7,2,FALSE) -> Oddments | K26: =+'Results Input'!L14 -> 0
B27: =CONCATENATE(E27,F27) -> 5E11 | C27: =CONCATENATE(E27,I27) -> 5E15 | D27: =+D26 -> 46366 | E27: =+'Results Input'!F15 -> 5 | F27: =+'Results Input'!G15 -> E11 | G27: =VLOOKUP(F27,Results!$N$2:$O$7,2,FALSE) -> Nightingales | H27: =+'Results Input'!I15 -> 0 | I27: =+'Results Input'!J15 -> E15 | J27: =VLOOKUP(I27,Results!$N$2:$O$7,2,FALSE) -> Odd Jobs | K27: =+'Results Input'!L15 -> 0
B28: =CONCATENATE(E28,F28) -> 5E14 | C28: =CONCATENATE(E28,I28) -> 5E12 | D28: =+D26 -> 46366 | E28: =+'Results Input'!F16 -> 5 | F28: =+'Results Input'!G16 -> E14 | G28: =VLOOKUP(F28,Results!$N$2:$O$7,2,FALSE) -> Jokers | H28: =+'Results Input'!I16 -> 0 | I28: =+'Results Input'!J16 -> E12 | J28: =VLOOKUP(I28,Results!$N$2:$O$7,2,FALSE) -> Protagonists 2 | K28: =+'Results Input'!L16 -> 0
B29: =CONCATENATE(E29,F29) -> 5E13 | C29: =CONCATENATE(E29,I29) -> 5E16 | D29: =+D26 -> 46366 | E29: =+E26 -> 5 | F29: =+I26 -> E13 | G29: =VLOOKUP(F29,Results!$N$2:$O$7,2,FALSE) -> Oddments | H29: =+K26 -> 0 | I29: =+F26 -> E16 | J29: =VLOOKUP(I29,Results!$N$2:$O$7,2,FALSE) -> Sharks | K29: =+H26 -> 0
B30: =CONCATENATE(E30,F30) -> 5E15 | C30: =CONCATENATE(E30,I30) -> 5E11 | D30: =+D26 -> 46366 | E30: =+E27 -> 5 | F30: =+I27 -> E15 | G30: =VLOOKUP(F30,Results!$N$2:$O$7,2,FALSE) -> Odd Jobs | H30: =+K27 -> 0 | I30: =+F27 -> E11 | J30: =VLOOKUP(I30,Results!$N$2:$O$7,2,FALSE) -> Nightingales | K30: =+H27 -> 0
B31: =CONCATENATE(E31,F31) -> 5E12 | C31: =CONCATENATE(E31,I31) -> 5E14 | D31: =+D26 -> 46366 | E31: =+E28 -> 5 | F31: =+I28 -> E12 | G31: =VLOOKUP(F31,Results!$N$2:$O$7,2,FALSE) -> Protagonists 2 | H31: =+K28 -> 0 | I31: =+F28 -> E14 | J31: =VLOOKUP(I31,Results!$N$2:$O$7,2,FALSE) -> Jokers | K31: =+H28 -> 0
B32: =CONCATENATE(E32,F32) -> 6E16 | C32: =CONCATENATE(E32,I32) -> 6E11 | D32: =+'Results Input'!E17 -> 46408 | E32: =+'Results Input'!F17 -> 6 | F32: =+'Results Input'!G17 -> E16 | G32: =VLOOKUP(F32,Results!$N$2:$O$7,2,FALSE) -> Sharks | H32: =+'Results Input'!I17 -> 0 | I32: =+'Results Input'!J17 -> E11 | J32: =VLOOKUP(I32,Results!$N$2:$O$7,2,FALSE) -> Nightingales | K32: =+'Results Input'!L17 -> 0
B33: =CONCATENATE(E33,F33) -> 6E14 | C33: =CONCATENATE(E33,I33) -> 6E15 | D33: =+D32 -> 46408 | E33: =+'Results Input'!F18 -> 6 | F33: =+'Results Input'!G18 -> E14 | G33: =VLOOKUP(F33,Results!$N$2:$O$7,2,FALSE) -> Jokers | H33: =+'Results Input'!I18 -> 0 | I33: =+'Results Input'!J18 -> E15 | J33: =VLOOKUP(I33,Results!$N$2:$O$7,2,FALSE) -> Odd Jobs | K33: =+'Results Input'!L18 -> 0
B34: =CONCATENATE(E34,F34) -> 6E13 | C34: =CONCATENATE(E34,I34) -> 6E12 | D34: =+D32 -> 46408 | E34: =+'Results Input'!F19 -> 6 | F34: =+'Results Input'!G19 -> E13 | G34: =VLOOKUP(F34,Results!$N$2:$O$7,2,FALSE) -> Oddments | H34: =+'Results Input'!I19 -> 0 | I34: =+'Results Input'!J19 -> E12 | J34: =VLOOKUP(I34,Results!$N$2:$O$7,2,FALSE) -> Protagonists 2 | K34: =+'Results Input'!L19 -> 0
B35: =CONCATENATE(E35,F35) -> 6E11 | C35: =CONCATENATE(E35,I35) -> 6E16 | D35: =+D32 -> 46408 | E35: =+E32 -> 6 | F35: =+I32 -> E11 | G35: =VLOOKUP(F35,Results!$N$2:$O$7,2,FALSE) -> Nightingales | H35: =+K32 -> 0 | I35: =+F32 -> E16 | J35: =VLOOKUP(I35,Results!$N$2:$O$7,2,FALSE) -> Sharks | K35: =+H32 -> 0
B36: =CONCATENATE(E36,F36) -> 6E15 | C36: =CONCATENATE(E36,I36) -> 6E14 | D36: =+D32 -> 46408 | E36: =+E33 -> 6 | F36: =+I33 -> E15 | G36: =VLOOKUP(F36,Results!$N$2:$O$7,2,FALSE) -> Odd Jobs | H36: =+K33 -> 0 | I36: =+F33 -> E14 | J36: =VLOOKUP(I36,Results!$N$2:$O$7,2,FALSE) -> Jokers | K36: =+H33 -> 0
B37: =CONCATENATE(E37,F37) -> 6E12 | C37: =CONCATENATE(E37,I37) -> 6E13 | D37: =+D32 -> 46408 | E37: =+E34 -> 6 | F37: =+I34 -> E12 | G37: =VLOOKUP(F37,Results!$N$2:$O$7,2,FALSE) -> Protagonists 2 | H37: =+K34 -> 0 | I37: =+F34 -> E13 | J37: =VLOOKUP(I37,Results!$N$2:$O$7,2,FALSE) -> Oddments | K37: =+H34 -> 0
B38: =CONCATENATE(E38,F38) -> 7E11 | C38: =CONCATENATE(E38,I38) -> 7E12 | D38: =+'Results Input'!E20 -> 46422 | E38: =+'Results Input'!F20 -> 7 | F38: =+'Results Input'!G20 -> E11 | G38: =VLOOKUP(F38,Results!$N$2:$O$7,2,FALSE) -> Nightingales | H38: =+'Results Input'!I20 -> 0 | I38: =+'Results Input'!J20 -> E12 | J38: =VLOOKUP(I38,Results!$N$2:$O$7,2,FALSE) -> Protagonists 2 | K38: =+'Results Input'!L20 -> 0
B39: =CONCATENATE(E39,F39) -> 7E16 | C39: =CONCATENATE(E39,I39) -> 7E15 | D39: =+D38 -> 46422 | E39: =+'Results Input'!F21 -> 7 | F39: =+'Results Input'!G21 -> E16 | G39: =VLOOKUP(F39,Results!$N$2:$O$7,2,FALSE) -> Sharks | H39: =+'Results Input'!I21 -> 0 | I39: =+'Results Input'!J21 -> E15 | J39: =VLOOKUP(I39,Results!$N$2:$O$7,2,FALSE) -> Odd Jobs | K39: =+'Results Input'!L21 -> 0
B40: =CONCATENATE(E40,F40) -> 7E14 | C40: =CONCATENATE(E40,I40) -> 7E13 | D40: =+D38 -> 46422 | E40: =+'Results Input'!F22 -> 7 | F40: =+'Results Input'!G22 -> E14 | G40: =VLOOKUP(F40,Results!$N$2:$O$7,2,FALSE) -> Jokers | H40: =+'Results Input'!I22 -> 0 | I40: =+'Results Input'!J22 -> E13 | J40: =VLOOKUP(I40,Results!$N$2:$O$7,2,FALSE) -> Oddments | K40: =+'Results Input'!L22 -> 0
...

Sheet Results Input
F1: Week | G1: 2
B2: =CONCATENATE(F2,G2) -> 1E12 | C2: =CONCATENATE(F2,J2) -> 1E11 | E2: 46310 | F2: 1 | G2: E12 | H2: =VLOOKUP(G2,Results!$N$2:$O$7,2,FALSE) -> Protagonists 2 | I2: 25 | J2: E11 | K2: =VLOOKUP(J2,Results!$N$2:$O$7,2,FALSE) -> Nightingales | L2: 12
B3: =CONCATENATE(F3,G3) -> 1E15 | C3: =CONCATENATE(F3,J3) -> 1E16 | E3: =+E2 -> 46310 | F3: 1 | G3: E15 | H3: =VLOOKUP(G3,Results!$N$2:$O$7,2,FALSE) -> Odd Jobs | I3: 25 | J3: E16 | K3: =VLOOKUP(J3,Results!$N$2:$O$7,2,FALSE) -> Sharks | L3: 3
B4: =CONCATENATE(F4,G4) -> 1E13 | C4: =CONCATENATE(F4,J4) -> 1E14 | E4: =+E2 -> 46310 | F4: 1 | G4: E13 | H4: =VLOOKUP(G4,Results!$N$2:$O$7,2,FALSE) -> Oddments | I4: 8 | J4: E14 | K4: =VLOOKUP(J4,Results!$N$2:$O$7,2,FALSE) -> Jokers | L4: 20
B5: =CONCATENATE(F5,G5) -> 2E15 | C5: =CONCATENATE(F5,J5) -> 2E14 | E5: 46324 | F5: 2 | G5: E15 | H5: =VLOOKUP(G5,Results!$N$2:$O$7,2,FALSE) -> Odd Jobs | I5: 7 | J5: E14 | K5: =VLOOKUP(J5,Results!$N$2:$O$7,2,FALSE) -> Jokers | L5: 27
B6: =CONCATENATE(F6,G6) -> 2E11 | C6: =CONCATENATE(F6,J6) -> 2E16 | E6: =+E5 -> 46324 | F6: 2 | G6: E11 | H6: =VLOOKUP(G6,Results!$N$2:$O$7,2,FALSE) -> Nightingales | I6: 27 | J6: E16 | K6: =VLOOKUP(J6,Results!$N$2:$O$7,2,FALSE) -> Sharks | L6: 2
B7: =CONCATENATE(F7,G7) -> 2E12 | C7: =CONCATENATE(F7,J7) -> 2E13 | E7: =+E5 -> 46324 | F7: 2 | G7: E12 | H7: =VLOOKUP(G7,Results!$N$2:$O$7,2,FALSE) -> Protagonists 2 | I7: 21 | J7: E13 | K7: =VLOOKUP(J7,Results!$N$2:$O$7,2,FALSE) -> Oddments | L7: 11
B8: =CONCATENATE(F8,G8) -> 3E12 | C8: =CONCATENATE(F8,J8) -> 3E15 | E8: 46338 | F8: 3 | G8: E12 | H8: =VLOOKUP(G8,Results!$N$2:$O$7,2,FALSE) -> Protagonists 2 | J8: E15 | K8: =VLOOKUP(J8,Results!$N$2:$O$7,2,FALSE) -> Odd Jobs
B9: =CONCATENATE(F9,G9) -> 3E13 | C9: =CONCATENATE(F9,J9) -> 3E11 | E9: =+E8 -> 46338 | F9: 3 | G9: E13 | H9: =VLOOKUP(G9,Results!$N$2:$O$7,2,FALSE) -> Oddments | J9: E11 | K9: =VLOOKUP(J9,Results!$N$2:$O$7,2,FALSE) -> Nightingales
B10: =CONCATENATE(F10,G10) -> 3E16 | C10: =CONCATENATE(F10,J10) -> 3E14 | E10: =+E8 -> 46338 | F10: 3 | G10: E16 | H10: =VLOOKUP(G10,Results!$N$2:$O$7,2,FALSE) -> Sharks | J10: E14 | K10: =VLOOKUP(J10,Results!$N$2:$O$7,2,FALSE) -> Jokers
B11: =CONCATENATE(F11,G11) -> 4E13 | C11: =CONCATENATE(F11,J11) -> 4E15 | E11: 46352 | F11: 4 | G11: E13 | H11: =VLOOKUP(G11,Results!$N$2:$O$7,2,FALSE) -> Oddments | J11: E15 | K11: =VLOOKUP(J11,Results!$N$2:$O$7,2,FALSE) -> Odd Jobs
B12: =CONCATENATE(F12,G12) -> 4E14 | C12: =CONCATENATE(F12,J12) -> 4E11 | E12: =+E11 -> 46352 | F12: 4 | G12: E14 | H12: =VLOOKUP(G12,Results!$N$2:$O$7,2,FALSE) -> Jokers | J12: E11 | K12: =VLOOKUP(J12,Results!$N$2:$O$7,2,FALSE) -> Nightingales
B13: =CONCATENATE(F13,G13) -> 4E12 | C13: =CONCATENATE(F13,J13) -> 4E16 | E13: =+E11 -> 46352 | F13: 4 | G13: E12 | H13: =VLOOKUP(G13,Results!$N$2:$O$7,2,FALSE) -> Protagonists 2 | J13: E16 | K13: =VLOOKUP(J13,Results!$N$2:$O$7,2,FALSE) -> Sharks
B14: =CONCATENATE(F14,G14) -> 5E16 | C14: =CONCATENATE(F14,J14) -> 5E13 | E14: 46366 | F14: 5 | G14: E16 | H14: =VLOOKUP(G14,Results!$N$2:$O$7,2,FALSE) -> Sharks | J14: E13 | K14: =VLOOKUP(J14,Results!$N$2:$O$7,2,FALSE) -> Oddments
B15: =CONCATENATE(F15,G15) -> 5E11 | C15: =CONCATENATE(F15,J15) -> 5E15 | E15: =+E14 -> 46366 | F15: 5 | G15: E11 | H15: =VLOOKUP(G15,Results!$N$2:$O$7,2,FALSE) -> Nightingales | J15: E15 | K15: =VLOOKUP(J15,Results!$N$2:$O$7,2,FALSE) -> Odd Jobs
B16: =CONCATENATE(F16,G16) -> 5E14 | C16: =CONCATENATE(F16,J16) -> 5E12 | E16: =+E14 -> 46366 | F16: 5 | G16: E14 | H16: =VLOOKUP(G16,Results!$N$2:$O$7,2,FALSE) -> Jokers | J16: E12 | K16: =VLOOKUP(J16,Results!$N$2:$O$7,2,FALSE) -> Protagonists 2
B17: =CONCATENATE(F17,G17) -> 6E16 | C17: =CONCATENATE(F17,J17) -> 6E11 | E17: 46408 | F17: 6 | G17: E16 | H17: =VLOOKUP(G17,Results!$N$2:$O$7,2,FALSE) -> Sharks | J17: E11 | K17: =VLOOKUP(J17,Results!$N$2:$O$7,2,FALSE) -> Nightingales
B18: =CONCATENATE(F18,G18) -> 6E14 | C18: =CONCATENATE(F18,J18) -> 6E15 | E18: =+E17 -> 46408 | F18: 6 | G18: E14 | H18: =VLOOKUP(G18,Results!$N$2:$O$7,2,FALSE) -> Jokers | J18: E15 | K18: =VLOOKUP(J18,Results!$N$2:$O$7,2,FALSE) -> Odd Jobs
B19: =CONCATENATE(F19,G19) -> 6E13 | C19: =CONCATENATE(F19,J19) -> 6E12 | E19: =+E17 -> 46408 | F19: 6 | G19: E13 | H19: =VLOOKUP(G19,Results!$N$2:$O$7,2,FALSE) -> Oddments | J19: E12 | K19: =VLOOKUP(J19,Results!$N$2:$O$7,2,FALSE) -> Protagonists 2
B20: =CONCATENATE(F20,G20) -> 7E11 | C20: =CONCATENATE(F20,J20) -> 7E12 | E20: 46422 | F20: 7 | G20: E11 | H20: =VLOOKUP(G20,Results!$N$2:$O$7,2,FALSE) -> Nightingales | J20: E12 | K20: =VLOOKUP(J20,Results!$N$2:$O$7,2,FALSE) -> Protagonists 2
B21: =CONCATENATE(F21,G21) -> 7E16 | C21: =CONCATENATE(F21,J21) -> 7E15 | E21: =+E20 -> 46422 | F21: 7 | G21: E16 | H21: =VLOOKUP(G21,Results!$N$2:$O$7,2,FALSE) -> Sharks | J21: E15 | K21: =VLOOKUP(J21,Results!$N$2:$O$7,2,FALSE) -> Odd Jobs
B22: =CONCATENATE(F22,G22) -> 7E14 | C22: =CONCATENATE(F22,J22) -> 7E13 | E22: =+E20 -> 46422 | F22: 7 | G22: E14 | H22: =VLOOKUP(G22,Results!$N$2:$O$7,2,FALSE) -> Jokers | J22: E13 | K22: =VLOOKUP(J22,Results!$N$2:$O$7,2,FALSE) -> Oddments
B23: =CONCATENATE(F23,G23) -> 8E11 | C23: =CONCATENATE(F23,J23) -> 8E14 | E23: 46436 | F23: 8 | G23: E11 | H23: =VLOOKUP(G23,Results!$N$2:$O$7,2,FALSE) -> Nightingales | J23: E14 | K23: =VLOOKUP(J23,Results!$N$2:$O$7,2,FALSE) -> Jokers
B24: =CONCATENATE(F24,G24) -> 8E15 | C24: =CONCATENATE(F24,J24) -> 8E13 | E24: =+E23 -> 46436 | F24: 8 | G24: E15 | H24: =VLOOKUP(G24,Results!$N$2:$O$7,2,FALSE) -> Odd Jobs | J24: E13 | K24: =VLOOKUP(J24,Results!$N$2:$O$7,2,FALSE) -> Oddments
B25: =CONCATENATE(F25,G25) -> 8E16 | C25: =CONCATENATE(F25,J25) -> 8E12 | E25: =+E23 -> 46436 | F25: 8 | G25: E16 | H25: =VLOOKUP(G25,Results!$N$2:$O$7,2,FALSE) -> Sharks | J25: E12 | K25: =VLOOKUP(J25,Results!$N$2:$O$7,2,FALSE) -> Protagonists 2
B26: =CONCATENATE(F26,G26) -> 9E15 | C26: =CONCATENATE(F26,J26) -> 9E12 | E26: 46464 | F26: 9 | G26: E15 | H26: =VLOOKUP(G26,Results!$N$2:$O$7,2,FALSE) -> Odd Jobs | J26: E12 | K26: =VLOOKUP(J26,Results!$N$2:$O$7,2,FALSE) -> Protagonists 2
B27: =CONCATENATE(F27,G27) -> 9E11 | C27: =CONCATENATE(F27,J27) -> 9E13 | E27: =+E26 -> 46464 | F27: 9 | G27: E11 | H27: =VLOOKUP(G27,Results!$N$2:$O$7,2,FALSE) -> Nightingales | J27: E13 | K27: =VLOOKUP(J27,Results!$N$2:$O$7,2,FALSE) -> Oddments
B28: =CONCATENATE(F28,G28) -> 9E14 | C28: =CONCATENATE(F28,J28) -> 9E16 | E28: =+E26 -> 46464 | F28: 9 | G28: E14 | H28: =VLOOKUP(G28,Results!$N$2:$O$7,2,FALSE) -> Jokers | J28: E16 | K28: =VLOOKUP(J28,Results!$N$2:$O$7,2,FALSE) -> Sharks
B29: =CONCATENATE(F29,G29) -> 10E13 | C29: =CONCATENATE(F29,J29) -> 10E16 | E29: 46478 | F29: 10 | G29: E13 | H29: =VLOOKUP(G29,Results!$N$2:$O$7,2,FALSE) -> Oddments | J29: E16 | K29: =VLOOKUP(J29,Results!$N$2:$O$7,2,FALSE) -> Sharks
B30: =CONCATENATE(F30,G30) -> 10E15 | C30: =CONCATENATE(F30,J30) -> 10E11 | E30: =+E29 -> 46478 | F30: 10 | G30: E15 | H30: =VLOOKUP(G30,Results!$N$2:$O$7,2,FALSE) -> Odd Jobs | J30: E11 | K30: =VLOOKUP(J30,Results!$N$2:$O$7,2,FALSE) -> Nightingales
B31: =CONCATENATE(F31,G31) -> 10E12 | C31: =CONCATENATE(F31,J31) -> 10E14 | E31: =+E29 -> 46478 | F31: 10 | G31: E12 | H31: =VLOOKUP(G31,Results!$N$2:$O$7,2,FALSE) -> Protagonists 2 | J31: E14 | K31: =VLOOKUP(J31,Results!$N$2:$O$7,2,FALSE) -> Jokers
I33: =SUM(I2:I32) -> 113 | L33: =SUM(L2:L32) -> 75
I34: =+I33+L33 -> 188

Sheet LEAGUE TABLE
B2: THURSDAY POWERPLAY LEAGUE | G2: 2026 / 2027 | I2: As at 29th Oct
C3: Team | E3: Played | F3: Won | G3: Drawn | H3: Lost | I3: Shots For | J3: Shots Against | K3: Shots Diff | L3: Pts
B4: 1st | C4: =+'E14 JOKERS'!$H$1 -> E14 | D4: =+'E14 JOKERS'!$I$1 -> JOKERS | E4: ='E14 JOKERS'!$J$13 -> 2 | F4: ='E14 JOKERS'!$K$13 -> 2 | G4: ='E14 JOKERS'!$L$13 -> 0 | H4: ='E14 JOKERS'!$M$13 -> 0 | I4: ='E14 JOKERS'!$N$13 -> 47 | J4: ='E14 JOKERS'!$O$13 -> 15 | K4: =I4-J4 -> 32 | L4: ='E14 JOKERS'!$P$13 -> 4
B5: 2nd | C5: =+'E12 PROTAGONISTS 2'!$H$1 -> E12 | D5: =+'E12 PROTAGONISTS 2'!$I$1 -> PROTAGONISTS 2 | E5: ='E12 PROTAGONISTS 2'!$J$13 -> 2 | F5: ='E12 PROTAGONISTS 2'!$K$13 -> 2 | G5: ='E12 PROTAGONISTS 2'!$L$13 -> 0 | H5: ='E12 PROTAGONISTS 2'!$M$13 -> 0 | I5: ='E12 PROTAGONISTS 2'!$N$13 -> 46 | J5: ='E12 PROTAGONISTS 2'!$O$13 -> 23 | K5: =I5-J5 -> 23 | L5: ='E12 PROTAGONISTS 2'!$P$13 -> 4
B6: 3rd | C6: =+'E11 NIGHTINGALES'!$H$1 -> E11 | D6: =+'E11 NIGHTINGALES'!$I$1 -> NIGHTINGALES | E6: ='E11 NIGHTINGALES'!$J$13 -> 2 | F6: ='E11 NIGHTINGALES'!$K$13 -> 1 | G6: ='E11 NIGHTINGALES'!$L$13 -> 0 | H6: ='E11 NIGHTINGALES'!$M$13 -> 1 | I6: ='E11 NIGHTINGALES'!$N$13 -> 39 | J6: ='E11 NIGHTINGALES'!$O$13 -> 27 | K6: =I6-J6 -> 12 | L6: ='E11 NIGHTINGALES'!$P$13 -> 2
B7: 4th | C7: =+'E15 ODD JOBS'!$H$1 -> E15 | D7: =+'E15 ODD JOBS'!$I$1 -> ODD JOBS | E7: ='E15 ODD JOBS'!$J$13 -> 2 | F7: ='E15 ODD JOBS'!$K$13 -> 1 | G7: ='E15 ODD JOBS'!$L$13 -> 0 | H7: ='E15 ODD JOBS'!$M$13 -> 1 | I7: ='E15 ODD JOBS'!$N$13 -> 32 | J7: ='E15 ODD JOBS'!$O$13 -> 30 | K7: =I7-J7 -> 2 | L7: ='E15 ODD JOBS'!$P$13 -> 2
B8: 5th | C8: =+'E13 ODDMENTS'!$H$1 -> E13 | D8: =+'E13 ODDMENTS'!$I$1 -> ODDMENTS | E8: ='E13 ODDMENTS'!$J$13 -> 2 | F8: ='E13 ODDMENTS'!$K$13 -> 0 | G8: ='E13 ODDMENTS'!$L$13 -> 0 | H8: ='E13 ODDMENTS'!$M$13 -> 2 | I8: ='E13 ODDMENTS'!$N$13 -> 19 | J8: ='E13 ODDMENTS'!$O$13 -> 41 | K8: =I8-J8 -> -22 | L8: ='E13 ODDMENTS'!$P$13 -> 0
B9: 6th | C9: =+'E16 SHARKS'!$H$1 -> E16 | D9: =+'E16 SHARKS'!$I$1 -> SHARKS | E9: ='E16 SHARKS'!$J$13 -> 2 | F9: ='E16 SHARKS'!$K$13 -> 0 | G9: ='E16 SHARKS'!$L$13 -> 0 | H9: ='E16 SHARKS'!$M$13 -> 2 | I9: ='E16 SHARKS'!$N$13 -> 5 | J9: ='E16 SHARKS'!$O$13 -> 52 | K9: =I9-J9 -> -47 | L9: ='E16 SHARKS'!$P$13 -> 0
D10: Check | E10: =SUM(E4:E9) -> 12 | F10: =SUM(F4:F9) -> 6 | G10: =SUM(G4:G9) -> 0 | H10: =SUM(H4:H9) -> 6 | I10: =SUM(I4:I9) -> 188 | J10: =SUM(J4:J9) -> 188 | K10: =SUM(K4:K9) -> 0 | L10: =SUM(L4:L9) -> 12

Sheet E11 NIGHTINGALES
H1: E11 | I1: NIGHTINGALES
D2: F | E2: A | G2: Date | H2: Code | I2: Opponents | J2: Played | K2: Won | L2: Drawn | M2: Lost | N2: Shots For | O2: Shots Against | P2: Pts
B3: =+$H$1 -> E11 | C3: 1 | D3: =CONCATENATE(C3,B3) -> 1E11 | E3: =CONCATENATE(C3,H3) -> 1E12 | G3: =VLOOKUP($D3,Results!$B$2:$I$62,3,FALSE) -> 46310 | H3: =VLOOKUP($D3,Results!$B$2:$I$62,8,FALSE) -> E12 | I3: =VLOOKUP(H3,Results!$N$2:$O$7,2,FALSE) -> Protagonists 2 | J3: =SUM(K3:M3) -> 1 | K3: =IF(H3="X",0,IF(N3>O3,1,0)) -> 0 | L3: =IF(OR(C3>Results!$F$1,N3="N"),0,IF(H3="X",0,IF(N3=O3,1,0))) -> 0 | M3: =IF(H3="X",0,IF(N3<O3,1,0)) -> 1 | N3: =IF($C3>Results!$F$1," ",(VLOOKUP($D3,Results!$B$2:$H$62,7,FALSE))) -> 12 | O3: =IF($C3>Results!$F$1," ",(VLOOKUP($E3,Results!$C$2:$K$62,9,FALSE))) -> 25 | P3: =IF(J3=" "," ",SUM(K3*2)+L3*1) -> 0
B4: =+$H$1 -> E11 | C4: 2 | D4: =CONCATENATE(C4,B4) -> 2E11 | E4: =CONCATENATE(C4,H4) -> 2E16 | G4: =VLOOKUP($D4,Results!$B$2:$I$62,3,FALSE) -> 46324 | H4: =VLOOKUP($D4,Results!$B$2:$I$62,8,FALSE) -> E16 | I4: =VLOOKUP(H4,Results!$N$2:$O$7,2,FALSE) -> Sharks | J4: =SUM(K4:M4) -> 1 | K4: =IF(H4="X",0,IF(N4>O4,1,0)) -> 1 | L4: =IF(OR(C4>Results!$F$1,N4="N"),0,IF(H4="X",0,IF(N4=O4,1,0))) -> 0 | M4: =IF(H4="X",0,IF(N4<O4,1,0)) -> 0 | N4: =IF($C4>Results!$F$1," ",(VLOOKUP($D4,Results!$B$2:$H$62,7,FALSE))) -> 27 | O4: =IF($C4>Results!$F$1," ",(VLOOKUP($E4,Results!$C$2:$K$62,9,FALSE))) -> 2 | P4: =IF(J4=" "," ",SUM(K4*2)+L4*1) -> 2
B5: =+$H$1 -> E11 | C5: 3 | D5: =CONCATENATE(C5,B5) -> 3E11 | E5: =CONCATENATE(C5,H5) -> 3E13 | G5: =VLOOKUP($D5,Results!$B$2:$I$62,3,FALSE) -> 46338 | H5: =VLOOKUP($D5,Results!$B$2:$I$62,8,FALSE) -> E13 | I5: =VLOOKUP(H5,Results!$N$2:$O$7,2,FALSE) -> Oddments | J5: =SUM(K5:M5) -> 0 | K5: =IF(H5="X",0,IF(N5>O5,1,0)) -> 0 | L5: =IF(OR(C5>Results!$F$1,N5="N"),0,IF(H5="X",0,IF(N5=O5,1,0))) -> 0 | M5: =IF(H5="X",0,IF(N5<O5,1,0)) -> 0 | N5: =IF($C5>Results!$F$1," ",(VLOOKUP($D5,Results!$B$2:$H$62,7,FALSE))) | O5: =IF($C5>Results!$F$1," ",(VLOOKUP($E5,Results!$C$2:$K$62,9,FALSE))) | P5: =IF(J5=" "," ",SUM(K5*2)+L5*1) -> 0
B6: =+$H$1 -> E11 | C6: 4 | D6: =CONCATENATE(C6,B6) -> 4E11 | E6: =CONCATENATE(C6,H6) -> 4E14 | G6: =VLOOKUP($D6,Results!$B$2:$I$62,3,FALSE) -> 46352 | H6: =VLOOKUP($D6,Results!$B$2:$I$62,8,FALSE) -> E14 | I6: =VLOOKUP(H6,Results!$N$2:$O$7,2,FALSE) -> Jokers | J6: =SUM(K6:M6) -> 0 | K6: =IF(H6="X",0,IF(N6>O6,1,0)) -> 0 | L6: =IF(OR(C6>Results!$F$1,N6="N"),0,IF(H6="X",0,IF(N6=O6,1,0))) -> 0 | M6: =IF(H6="X",0,IF(N6<O6,1,0)) -> 0 | N6: =IF($C6>Results!$F$1," ",(VLOOKUP($D6,Results!$B$2:$H$62,7,FALSE))) | O6: =IF($C6>Results!$F$1," ",(VLOOKUP($E6,Results!$C$2:$K$62,9,FALSE))) | P6: =IF(J6=" "," ",SUM(K6*2)+L6*1) -> 0
B7: =+$H$1 -> E11 | C7: 5 | D7: =CONCATENATE(C7,B7) -> 5E11 | E7: =CONCATENATE(C7,H7) -> 5E15 | G7: =VLOOKUP($D7,Results!$B$2:$I$62,3,FALSE) -> 46366 | H7: =VLOOKUP($D7,Results!$B$2:$I$62,8,FALSE) -> E15 | I7: =VLOOKUP(H7,Results!$N$2:$O$7,2,FALSE) -> Odd Jobs | J7: =SUM(K7:M7) -> 0 | K7: =IF(H7="X",0,IF(N7>O7,1,0)) -> 0 | L7: =IF(OR(C7>Results!$F$1,N7="N"),0,IF(H7="X",0,IF(N7=O7,1,0))) -> 0 | M7: =IF(H7="X",0,IF(N7<O7,1,0)) -> 0 | N7: =IF($C7>Results!$F$1," ",(VLOOKUP($D7,Results!$B$2:$H$62,7,FALSE))) | O7: =IF($C7>Results!$F$1," ",(VLOOKUP($E7,Results!$C$2:$K$62,9,FALSE))) | P7: =IF(J7=" "," ",SUM(K7*2)+L7*1) -> 0
B8: =+$H$1 -> E11 | C8: 6 | D8: =CONCATENATE(C8,B8) -> 6E11 | E8: =CONCATENATE(C8,H8) -> 6E16 | G8: =VLOOKUP($D8,Results!$B$2:$I$62,3,FALSE) -> 46408 | H8: =VLOOKUP($D8,Results!$B$2:$I$62,8,FALSE) -> E16 | I8: =VLOOKUP(H8,Results!$N$2:$O$7,2,FALSE) -> Sharks | J8: =SUM(K8:M8) -> 0 | K8: =IF(H8="X",0,IF(N8>O8,1,0)) -> 0 | L8: =IF(OR(C8>Results!$F$1,N8="N"),0,IF(H8="X",0,IF(N8=O8,1,0))) -> 0 | M8: =IF(H8="X",0,IF(N8<O8,1,0)) -> 0 | N8: =IF($C8>Results!$F$1," ",(VLOOKUP($D8,Results!$B$2:$H$62,7,FALSE))) | O8: =IF($C8>Results!$F$1," ",(VLOOKUP($E8,Results!$C$2:$K$62,9,FALSE))) | P8: =IF(J8=" "," ",SUM(K8*2)+L8*1) -> 0
B9: =+$H$1 -> E11 | C9: 7 | D9: =CONCATENATE(C9,B9) -> 7E11 | E9: =CONCATENATE(C9,H9) -> 7E12 | G9: =VLOOKUP($D9,Results!$B$2:$I$62,3,FALSE) -> 46422 | H9: =VLOOKUP($D9,Results!$B$2:$I$62,8,FALSE) -> E12 | I9: =VLOOKUP(H9,Results!$N$2:$O$7,2,FALSE) -> Protagonists 2 | J9: =SUM(K9:M9) -> 0 | K9: =IF(H9="X",0,IF(N9>O9,1,0)) -> 0 | L9: =IF(OR(C9>Results!$F$1,N9="N"),0,IF(H9="X",0,IF(N9=O9,1,0))) -> 0 | M9: =IF(H9="X",0,IF(N9<O9,1,0)) -> 0 | N9: =IF($C9>Results!$F$1," ",(VLOOKUP($D9,Results!$B$2:$H$62,7,FALSE))) | O9: =IF($C9>Results!$F$1," ",(VLOOKUP($E9,Results!$C$2:$K$62,9,FALSE))) | P9: =IF(J9=" "," ",SUM(K9*2)+L9*1) -> 0
B10: =+$H$1 -> E11 | C10: 8 | D10: =CONCATENATE(C10,B10) -> 8E11 | E10: =CONCATENATE(C10,H10) -> 8E14 | G10: =VLOOKUP($D10,Results!$B$2:$I$62,3,FALSE) -> 46436 | H10: =VLOOKUP($D10,Results!$B$2:$I$62,8,FALSE) -> E14 | I10: =VLOOKUP(H10,Results!$N$2:$O$7,2,FALSE) -> Jokers | J10: =SUM(K10:M10) -> 0 | K10: =IF(H10="X",0,IF(N10>O10,1,0)) -> 0 | L10: =IF(OR(C10>Results!$F$1,N10="N"),0,IF(H10="X",0,IF(N10=O10,1,0))) -> 0 | M10: =IF(H10="X",0,IF(N10<O10,1,0)) -> 0 | N10: =IF($C10>Results!$F$1," ",(VLOOKUP($D10,Results!$B$2:$H$62,7,FALSE))) | O10: =IF($C10>Results!$F$1," ",(VLOOKUP($E10,Results!$C$2:$K$62,9,FALSE))) | P10: =IF(J10=" "," ",SUM(K10*2)+L10*1) -> 0
B11: =+$H$1 -> E11 | C11: 9 | D11: =CONCATENATE(C11,B11) -> 9E11 | E11: =CONCATENATE(C11,H11) -> 9E13 | G11: =VLOOKUP($D11,Results!$B$2:$I$62,3,FALSE) -> 46464 | H11: =VLOOKUP($D11,Results!$B$2:$I$62,8,FALSE) -> E13 | I11: =VLOOKUP(H11,Results!$N$2:$O$7,2,FALSE) -> Oddments | J11: =SUM(K11:M11) -> 0 | K11: =IF(H11="X",0,IF(N11>O11,1,0)) -> 0 | L11: =IF(OR(C11>Results!$F$1,N11="N"),0,IF(H11="X",0,IF(N11=O11,1,0))) -> 0 | M11: =IF(H11="X",0,IF(N11<O11,1,0)) -> 0 | N11: =IF($C11>Results!$F$1," ",(VLOOKUP($D11,Results!$B$2:$H$62,7,FALSE))) | O11: =IF($C11>Results!$F$1," ",(VLOOKUP($E11,Results!$C$2:$K$62,9,FALSE))) | P11: =IF(J11=" "," ",SUM(K11*2)+L11*1) -> 0
B12: =+$H$1 -> E11 | C12: 10 | D12: =CONCATENATE(C12,B12) -> 10E11 | E12: =CONCATENATE(C12,H12) -> 10E15 | G12: =VLOOKUP($D12,Results!$B$2:$I$62,3,FALSE) -> 46478 | H12: =VLOOKUP($D12,Results!$B$2:$I$62,8,FALSE) -> E15 | I12: =VLOOKUP(H12,Results!$N$2:$O$7,2,FALSE) -> Odd Jobs | J12: =SUM(K12:M12) -> 0 | K12: =IF(H12="X",0,IF(N12>O12,1,0)) -> 0 | L12: =IF(OR(C12>Results!$F$1,N12="N"),0,IF(H12="X",0,IF(N12=O12,1,0))) -> 0 | M12: =IF(H12="X",0,IF(N12<O12,1,0)) -> 0 | N12: =IF($C12>Results!$F$1," ",(VLOOKUP($D12,Results!$B$2:$H$62,7,FALSE))) | O12: =IF($C12>Results!$F$1," ",(VLOOKUP($E12,Results!$C$2:$K$62,9,FALSE))) | P12: =IF(J12=" "," ",SUM(K12*2)+L12*1) -> 0
I13: TOTALS | J13: =SUM(J3:J12) -> 2 | K13: =SUM(K3:K12) -> 1 | L13: =SUM(L3:L12) -> 0 | M13: =SUM(M3:M12) -> 1 | N13: =SUM(N3:N12) -> 39 | O13: =SUM(O3:O12) -> 27 | P13: =SUM(P3:P12) -> 2

Sheet E12 PROTAGONISTS 2
H1: E12 | I1: PROTAGONISTS 2
D2: F | E2: A | G2: Date | H2: Code | I2: Opponents | J2: Played | K2: Won | L2: Drawn | M2: Lost | N2: Shots For | O2: Shots Against | P2: Pts
B3: =+$H$1 -> E12 | C3: 1 | D3: =CONCATENATE(C3,B3) -> 1E12 | E3: =CONCATENATE(C3,H3) -> 1E11 | G3: =VLOOKUP($D3,Results!$B$2:$I$62,3,FALSE) -> 46310 | H3: =VLOOKUP($D3,Results!$B$2:$I$62,8,FALSE) -> E11 | I3: =VLOOKUP(H3,Results!$N$2:$O$7,2,FALSE) -> Nightingales | J3: =SUM(K3:M3) -> 1 | K3: =IF(H3="X",0,IF(N3>O3,1,0)) -> 1 | L3: =IF(OR(C3>Results!$F$1,N3="N"),0,IF(H3="X",0,IF(N3=O3,1,0))) -> 0 | M3: =IF(H3="X",0,IF(N3<O3,1,0)) -> 0 | N3: =IF($C3>Results!$F$1," ",(VLOOKUP($D3,Results!$B$2:$H$62,7,FALSE))) -> 25 | O3: =IF($C3>Results!$F$1," ",(VLOOKUP($E3,Results!$C$2:$K$62,9,FALSE))) -> 12 | P3: =IF(J3=" "," ",SUM(K3*2)+L3*1) -> 2
B4: =+$H$1 -> E12 | C4: 2 | D4: =CONCATENATE(C4,B4) -> 2E12 | E4: =CONCATENATE(C4,H4) -> 2E13 | G4: =VLOOKUP($D4,Results!$B$2:$I$62,3,FALSE) -> 46324 | H4: =VLOOKUP($D4,Results!$B$2:$I$62,8,FALSE) -> E13 | I4: =VLOOKUP(H4,Results!$N$2:$O$7,2,FALSE) -> Oddments | J4: =SUM(K4:M4) -> 1 | K4: =IF(H4="X",0,IF(N4>O4,1,0)) -> 1 | L4: =IF(OR(C4>Results!$F$1,N4="N"),0,IF(H4="X",0,IF(N4=O4,1,0))) -> 0 | M4: =IF(H4="X",0,IF(N4<O4,1,0)) -> 0 | N4: =IF($C4>Results!$F$1," ",(VLOOKUP($D4,Results!$B$2:$H$62,7,FALSE))) -> 21 | O4: =IF($C4>Results!$F$1," ",(VLOOKUP($E4,Results!$C$2:$K$62,9,FALSE))) -> 11 | P4: =IF(J4=" "," ",SUM(K4*2)+L4*1) -> 2
B5: =+$H$1 -> E12 | C5: 3 | D5: =CONCATENATE(C5,B5) -> 3E12 | E5: =CONCATENATE(C5,H5) -> 3E15 | G5: =VLOOKUP($D5,Results!$B$2:$I$62,3,FALSE) -> 46338 | H5: =VLOOKUP($D5,Results!$B$2:$I$62,8,FALSE) -> E15 | I5: =VLOOKUP(H5,Results!$N$2:$O$7,2,FALSE) -> Odd Jobs | J5: =SUM(K5:M5) -> 0 | K5: =IF(H5="X",0,IF(N5>O5,1,0)) -> 0 | L5: =IF(OR(C5>Results!$F$1,N5="N"),0,IF(H5="X",0,IF(N5=O5,1,0))) -> 0 | M5: =IF(H5="X",0,IF(N5<O5,1,0)) -> 0 | N5: =IF($C5>Results!$F$1," ",(VLOOKUP($D5,Results!$B$2:$H$62,7,FALSE))) | O5: =IF($C5>Results!$F$1," ",(VLOOKUP($E5,Results!$C$2:$K$62,9,FALSE))) | P5: =IF(J5=" "," ",SUM(K5*2)+L5*1) -> 0
B6: =+$H$1 -> E12 | C6: 4 | D6: =CONCATENATE(C6,B6) -> 4E12 | E6: =CONCATENATE(C6,H6) -> 4E16 | G6: =VLOOKUP($D6,Results!$B$2:$I$62,3,FALSE) -> 46352 | H6: =VLOOKUP($D6,Results!$B$2:$I$62,8,FALSE) -> E16 | I6: =VLOOKUP(H6,Results!$N$2:$O$7,2,FALSE) -> Sharks | J6: =SUM(K6:M6) -> 0 | K6: =IF(H6="X",0,IF(N6>O6,1,0)) -> 0 | L6: =IF(OR(C6>Results!$F$1,N6="N"),0,IF(H6="X",0,IF(N6=O6,1,0))) -> 0 | M6: =IF(H6="X",0,IF(N6<O6,1,0)) -> 0 | N6: =IF($C6>Results!$F$1," ",(VLOOKUP($D6,Results!$B$2:$H$62,7,FALSE))) | O6: =IF($C6>Results!$F$1," ",(VLOOKUP($E6,Results!$C$2:$K$62,9,FALSE))) | P6: =IF(J6=" "," ",SUM(K6*2)+L6*1) -> 0
B7: =+$H$1 -> E12 | C7: 5 | D7: =CONCATENATE(C7,B7) -> 5E12 | E7: =CONCATENATE(C7,H7) -> 5E14 | G7: =VLOOKUP($D7,Results!$B$2:$I$62,3,FALSE) -> 46366 | H7: =VLOOKUP($D7,Results!$B$2:$I$62,8,FALSE) -> E14 | I7: =VLOOKUP(H7,Results!$N$2:$O$7,2,FALSE) -> Jokers | J7: =SUM(K7:M7) -> 0 | K7: =IF(H7="X",0,IF(N7>O7,1,0)) -> 0 | L7: =IF(OR(C7>Results!$F$1,N7="N"),0,IF(H7="X",0,IF(N7=O7,1,0))) -> 0 | M7: =IF(H7="X",0,IF(N7<O7,1,0)) -> 0 | N7: =IF($C7>Results!$F$1," ",(VLOOKUP($D7,Results!$B$2:$H$62,7,FALSE))) | O7: =IF($C7>Results!$F$1," ",(VLOOKUP($E7,Results!$C$2:$K$62,9,FALSE))) | P7: =IF(J7=" "," ",SUM(K7*2)+L7*1) -> 0
B8: =+$H$1 -> E12 | C8: 6 | D8: =CONCATENATE(C8,B8) -> 6E12 | E8: =CONCATENATE(C8,H8) -> 6E13 | G8: =VLOOKUP($D8,Results!$B$2:$I$62,3,FALSE) -> 46408 | H8: =VLOOKUP($D8,Results!$B$2:$I$62,8,FALSE) -> E13 | I8: =VLOOKUP(H8,Results!$N$2:$O$7,2,FALSE) -> Oddments | J8: =SUM(K8:M8) -> 0 | K8: =IF(H8="X",0,IF(N8>O8,1,0)) -> 0 | L8: =IF(OR(C8>Results!$F$1,N8="N"),0,IF(H8="X",0,IF(N8=O8,1,0))) -> 0 | M8: =IF(H8="X",0,IF(N8<O8,1,0)) -> 0 | N8: =IF($C8>Results!$F$1," ",(VLOOKUP($D8,Results!$B$2:$H$62,7,FALSE))) | O8: =IF($C8>Results!$F$1," ",(VLOOKUP($E8,Results!$C$2:$K$62,9,FALSE))) | P8: =IF(J8=" "," ",SUM(K8*2)+L8*1) -> 0
B9: =+$H$1 -> E12 | C9: 7 | D9: =CONCATENATE(C9,B9) -> 7E12 | E9: =CONCATENATE(C9,H9) -> 7E11 | G9: =VLOOKUP($D9,Results!$B$2:$I$62,3,FALSE) -> 46422 | H9: =VLOOKUP($D9,Results!$B$2:$I$62,8,FALSE) -> E11 | I9: =VLOOKUP(H9,Results!$N$2:$O$7,2,FALSE) -> Nightingales | J9: =SUM(K9:M9) -> 0 | K9: =IF(H9="X",0,IF(N9>O9,1,0)) -> 0 | L9: =IF(OR(C9>Results!$F$1,N9="N"),0,IF(H9="X",0,IF(N9=O9,1,0))) -> 0 | M9: =IF(H9="X",0,IF(N9<O9,1,0)) -> 0 | N9: =IF($C9>Results!$F$1," ",(VLOOKUP($D9,Results!$B$2:$H$62,7,FALSE))) | O9: =IF($C9>Results!$F$1," ",(VLOOKUP($E9,Results!$C$2:$K$62,9,FALSE))) | P9: =IF(J9=" "," ",SUM(K9*2)+L9*1) -> 0
B10: =+$H$1 -> E12 | C10: 8 | D10: =CONCATENATE(C10,B10) -> 8E12 | E10: =CONCATENATE(C10,H10) -> 8E16 | G10: =VLOOKUP($D10,Results!$B$2:$I$62,3,FALSE) -> 46436 | H10: =VLOOKUP($D10,Results!$B$2:$I$62,8,FALSE) -> E16 | I10: =VLOOKUP(H10,Results!$N$2:$O$7,2,FALSE) -> Sharks | J10: =SUM(K10:M10) -> 0 | K10: =IF(H10="X",0,IF(N10>O10,1,0)) -> 0 | L10: =IF(OR(C10>Results!$F$1,N10="N"),0,IF(H10="X",0,IF(N10=O10,1,0))) -> 0 | M10: =IF(H10="X",0,IF(N10<O10,1,0)) -> 0 | N10: =IF($C10>Results!$F$1," ",(VLOOKUP($D10,Results!$B$2:$H$62,7,FALSE))) | O10: =IF($C10>Results!$F$1," ",(VLOOKUP($E10,Results!$C$2:$K$62,9,FALSE))) | P10: =IF(J10=" "," ",SUM(K10*2)+L10*1) -> 0
B11: =+$H$1 -> E12 | C11: 9 | D11: =CONCATENATE(C11,B11) -> 9E12 | E11: =CONCATENATE(C11,H11) -> 9E15 | G11: =VLOOKUP($D11,Results!$B$2:$I$62,3,FALSE) -> 46464 | H11: =VLOOKUP($D11,Results!$B$2:$I$62,8,FALSE) -> E15 | I11: =VLOOKUP(H11,Results!$N$2:$O$7,2,FALSE) -> Odd Jobs | J11: =SUM(K11:M11) -> 0 | K11: =IF(H11="X",0,IF(N11>O11,1,0)) -> 0 | L11: =IF(OR(C11>Results!$F$1,N11="N"),0,IF(H11="X",0,IF(N11=O11,1,0))) -> 0 | M11: =IF(H11="X",0,IF(N11<O11,1,0)) -> 0 | N11: =IF($C11>Results!$F$1," ",(VLOOKUP($D11,Results!$B$2:$H$62,7,FALSE))) | O11: =IF($C11>Results!$F$1," ",(VLOOKUP($E11,Results!$C$2:$K$62,9,FALSE))) | P11: =IF(J11=" "," ",SUM(K11*2)+L11*1) -> 0
B12: =+$H$1 -> E12 | C12: 10 | D12: =CONCATENATE(C12,B12) -> 10E12 | E12: =CONCATENATE(C12,H12) -> 10E14 | G12: =VLOOKUP($D12,Results!$B$2:$I$62,3,FALSE) -> 46478 | H12: =VLOOKUP($D12,Results!$B$2:$I$62,8,FALSE) -> E14 | I12: =VLOOKUP(H12,Results!$N$2:$O$7,2,FALSE) -> Jokers | J12: =SUM(K12:M12) -> 0 | K12: =IF(H12="X",0,IF(N12>O12,1,0)) -> 0 | L12: =IF(OR(C12>Results!$F$1,N12="N"),0,IF(H12="X",0,IF(N12=O12,1,0))) -> 0 | M12: =IF(H12="X",0,IF(N12<O12,1,0)) -> 0 | N12: =IF($C12>Results!$F$1," ",(VLOOKUP($D12,Results!$B$2:$H$62,7,FALSE))) | O12: =IF($C12>Results!$F$1," ",(VLOOKUP($E12,Results!$C$2:$K$62,9,FALSE))) | P12: =IF(J12=" "," ",SUM(K12*2)+L12*1) -> 0
I13: TOTALS | J13: =SUM(J3:J12) -> 2 | K13: =SUM(K3:K12) -> 2 | L13: =SUM(L3:L12) -> 0 | M13: =SUM(M3:M12) -> 0 | N13: =SUM(N3:N12) -> 46 | O13: =SUM(O3:O12) -> 23 | P13: =SUM(P3:P12) -> 4

Sheet E13 ODDMENTS
H1: E13 | I1: ODDMENTS
D2: F | E2: A | G2: Date | H2: Code | I2: Opponents | J2: Played | K2: Won | L2: Drawn | M2: Lost | N2: Shots For | O2: Shots Against | P2: Pts
B3: =+$H$1 -> E13 | C3: 1 | D3: =CONCATENATE(C3,B3) -> 1E13 | E3: =CONCATENATE(C3,H3) -> 1E14 | G3: =VLOOKUP($D3,Results!$B$2:$I$62,3,FALSE) -> 46310 | H3: =VLOOKUP($D3,Results!$B$2:$I$62,8,FALSE) -> E14 | I3: =VLOOKUP(H3,Results!$N$2:$O$7,2,FALSE) -> Jokers | J3: =SUM(K3:M3) -> 1 | K3: =IF(H3="X",0,IF(N3>O3,1,0)) -> 0 | L3: =IF(OR(C3>Results!$F$1,N3="N"),0,IF(H3="X",0,IF(N3=O3,1,0))) -> 0 | M3: =IF(H3="X",0,IF(N3<O3,1,0)) -> 1 | N3: =IF($C3>Results!$F$1," ",(VLOOKUP($D3,Results!$B$2:$H$62,7,FALSE))) -> 8 | O3: =IF($C3>Results!$F$1," ",(VLOOKUP($E3,Results!$C$2:$K$62,9,FALSE))) -> 20 | P3: =IF(J3=" "," ",SUM(K3*2)+L3*1) -> 0
B4: =+$H$1 -> E13 | C4: 2 | D4: =CONCATENATE(C4,B4) -> 2E13 | E4: =CONCATENATE(C4,H4) -> 2E12 | G4: =VLOOKUP($D4,Results!$B$2:$I$62,3,FALSE) -> 46324 | H4: =VLOOKUP($D4,Results!$B$2:$I$62,8,FALSE) -> E12 | I4: =VLOOKUP(H4,Results!$N$2:$O$7,2,FALSE) -> Protagonists 2 | J4: =SUM(K4:M4) -> 1 | K4: =IF(H4="X",0,IF(N4>O4,1,0)) -> 0 | L4: =IF(OR(C4>Results!$F$1,N4="N"),0,IF(H4="X",0,IF(N4=O4,1,0))) -> 0 | M4: =IF(H4="X",0,IF(N4<O4,1,0)) -> 1 | N4: =IF($C4>Results!$F$1," ",(VLOOKUP($D4,Results!$B$2:$H$62,7,FALSE))) -> 11 | O4: =IF($C4>Results!$F$1," ",(VLOOKUP($E4,Results!$C$2:$K$62,9,FALSE))) -> 21 | P4: =IF(J4=" "," ",SUM(K4*2)+L4*1) -> 0
B5: =+$H$1 -> E13 | C5: 3 | D5: =CONCATENATE(C5,B5) -> 3E13 | E5: =CONCATENATE(C5,H5) -> 3E11 | G5: =VLOOKUP($D5,Results!$B$2:$I$62,3,FALSE) -> 46338 | H5: =VLOOKUP($D5,Results!$B$2:$I$62,8,FALSE) -> E11 | I5: =VLOOKUP(H5,Results!$N$2:$O$7,2,FALSE) -> Nightingales | J5: =SUM(K5:M5) -> 0 | K5: =IF(H5="X",0,IF(N5>O5,1,0)) -> 0 | L5: =IF(OR(C5>Results!$F$1,N5="N"),0,IF(H5="X",0,IF(N5=O5,1,0))) -> 0 | M5: =IF(H5="X",0,IF(N5<O5,1,0)) -> 0 | N5: =IF($C5>Results!$F$1," ",(VLOOKUP($D5,Results!$B$2:$H$62,7,FALSE))) | O5: =IF($C5>Results!$F$1," ",(VLOOKUP($E5,Results!$C$2:$K$62,9,FALSE))) | P5: =IF(J5=" "," ",SUM(K5*2)+L5*1) -> 0
B6: =+$H$1 -> E13 | C6: 4 | D6: =CONCATENATE(C6,B6) -> 4E13 | E6: =CONCATENATE(C6,H6) -> 4E15 | G6: =VLOOKUP($D6,Results!$B$2:$I$62,3,FALSE) -> 46352 | H6: =VLOOKUP($D6,Results!$B$2:$I$62,8,FALSE) -> E15 | I6: =VLOOKUP(H6,Results!$N$2:$O$7,2,FALSE) -> Odd Jobs | J6: =SUM(K6:M6) -> 0 | K6: =IF(H6="X",0,IF(N6>O6,1,0)) -> 0 | L6: =IF(OR(C6>Results!$F$1,N6="N"),0,IF(H6="X",0,IF(N6=O6,1,0))) -> 0 | M6: =IF(H6="X",0,IF(N6<O6,1,0)) -> 0 | N6: =IF($C6>Results!$F$1," ",(VLOOKUP($D6,Results!$B$2:$H$62,7,FALSE))) | O6: =IF($C6>Results!$F$1," ",(VLOOKUP($E6,Results!$C$2:$K$62,9,FALSE))) | P6: =IF(J6=" "," ",SUM(K6*2)+L6*1) -> 0
B7: =+$H$1 -> E13 | C7: 5 | D7: =CONCATENATE(C7,B7) -> 5E13 | E7: =CONCATENATE(C7,H7) -> 5E16 | G7: =VLOOKUP($D7,Results!$B$2:$I$62,3,FALSE) -> 46366 | H7: =VLOOKUP($D7,Results!$B$2:$I$62,8,FALSE) -> E16 | I7: =VLOOKUP(H7,Results!$N$2:$O$7,2,FALSE) -> Sharks | J7: =SUM(K7:M7) -> 0 | K7: =IF(H7="X",0,IF(N7>O7,1,0)) -> 0 | L7: =IF(OR(C7>Results!$F$1,N7="N"),0,IF(H7="X",0,IF(N7=O7,1,0))) -> 0 | M7: =IF(H7="X",0,IF(N7<O7,1,0)) -> 0 | N7: =IF($C7>Results!$F$1," ",(VLOOKUP($D7,Results!$B$2:$H$62,7,FALSE))) | O7: =IF($C7>Results!$F$1," ",(VLOOKUP($E7,Results!$C$2:$K$62,9,FALSE))) | P7: =IF(J7=" "," ",SUM(K7*2)+L7*1) -> 0
B8: =+$H$1 -> E13 | C8: 6 | D8: =CONCATENATE(C8,B8) -> 6E13 | E8: =CONCATENATE(C8,H8) -> 6E12 | G8: =VLOOKUP($D8,Results!$B$2:$I$62,3,FALSE) -> 46408 | H8: =VLOOKUP($D8,Results!$B$2:$I$62,8,FALSE) -> E12 | I8: =VLOOKUP(H8,Results!$N$2:$O$7,2,FALSE) -> Protagonists 2 | J8: =SUM(K8:M8) -> 0 | K8: =IF(H8="X",0,IF(N8>O8,1,0)) -> 0 | L8: =IF(OR(C8>Results!$F$1,N8="N"),0,IF(H8="X",0,IF(N8=O8,1,0))) -> 0 | M8: =IF(H8="X",0,IF(N8<O8,1,0)) -> 0 | N8: =IF($C8>Results!$F$1," ",(VLOOKUP($D8,Results!$B$2:$H$62,7,FALSE))) | O8: =IF($C8>Results!$F$1," ",(VLOOKUP($E8,Results!$C$2:$K$62,9,FALSE))) | P8: =IF(J8=" "," ",SUM(K8*2)+L8*1) -> 0
B9: =+$H$1 -> E13 | C9: 7 | D9: =CONCATENATE(C9,B9) -> 7E13 | E9: =CONCATENATE(C9,H9) -> 7E14 | G9: =VLOOKUP($D9,Results!$B$2:$I$62,3,FALSE) -> 46422 | H9: =VLOOKUP($D9,Results!$B$2:$I$62,8,FALSE) -> E14 | I9: =VLOOKUP(H9,Results!$N$2:$O$7,2,FALSE) -> Jokers | J9: =SUM(K9:M9) -> 0 | K9: =IF(H9="X",0,IF(N9>O9,1,0)) -> 0 | L9: =IF(OR(C9>Results!$F$1,N9="N"),0,IF(H9="X",0,IF(N9=O9,1,0))) -> 0 | M9: =IF(H9="X",0,IF(N9<O9,1,0)) -> 0 | N9: =IF($C9>Results!$F$1," ",(VLOOKUP($D9,Results!$B$2:$H$62,7,FALSE))) | O9: =IF($C9>Results!$F$1," ",(VLOOKUP($E9,Results!$C$2:$K$62,9,FALSE))) | P9: =IF(J9=" "," ",SUM(K9*2)+L9*1) -> 0
B10: =+$H$1 -> E13 | C10: 8 | D10: =CONCATENATE(C10,B10) -> 8E13 | E10: =CONCATENATE(C10,H10) -> 8E15 | G10: =VLOOKUP($D10,Results!$B$2:$I$62,3,FALSE) -> 46436 | H10: =VLOOKUP($D10,Results!$B$2:$I$62,8,FALSE) -> E15 | I10: =VLOOKUP(H10,Results!$N$2:$O$7,2,FALSE) -> Odd Jobs | J10: =SUM(K10:M10) -> 0 | K10: =IF(H10="X",0,IF(N10>O10,1,0)) -> 0 | L10: =IF(OR(C10>Results!$F$1,N10="N"),0,IF(H10="X",0,IF(N10=O10,1,0))) -> 0 | M10: =IF(H10="X",0,IF(N10<O10,1,0)) -> 0 | N10: =IF($C10>Results!$F$1," ",(VLOOKUP($D10,Results!$B$2:$H$62,7,FALSE))) | O10: =IF($C10>Results!$F$1," ",(VLOOKUP($E10,Results!$C$2:$K$62,9,FALSE))) | P10: =IF(J10=" "," ",SUM(K10*2)+L10*1) -> 0
B11: =+$H$1 -> E13 | C11: 9 | D11: =CONCATENATE(C11,B11) -> 9E13 | E11: =CONCATENATE(C11,H11) -> 9E11 | G11: =VLOOKUP($D11,Results!$B$2:$I$62,3,FALSE) -> 46464 | H11: =VLOOKUP($D11,Results!$B$2:$I$62,8,FALSE) -> E11 | I11: =VLOOKUP(H11,Results!$N$2:$O$7,2,FALSE) -> Nightingales | J11: =SUM(K11:M11) -> 0 | K11: =IF(H11="X",0,IF(N11>O11,1,0)) -> 0 | L11: =IF(OR(C11>Results!$F$1,N11="N"),0,IF(H11="X",0,IF(N11=O11,1,0))) -> 0 | M11: =IF(H11="X",0,IF(N11<O11,1,0)) -> 0 | N11: =IF($C11>Results!$F$1," ",(VLOOKUP($D11,Results!$B$2:$H$62,7,FALSE))) | O11: =IF($C11>Results!$F$1," ",(VLOOKUP($E11,Results!$C$2:$K$62,9,FALSE))) | P11: =IF(J11=" "," ",SUM(K11*2)+L11*1) -> 0
B12: =+$H$1 -> E13 | C12: 10 | D12: =CONCATENATE(C12,B12) -> 10E13 | E12: =CONCATENATE(C12,H12) -> 10E16 | G12: =VLOOKUP($D12,Results!$B$2:$I$62,3,FALSE) -> 46478 | H12: =VLOOKUP($D12,Results!$B$2:$I$62,8,FALSE) -> E16 | I12: =VLOOKUP(H12,Results!$N$2:$O$7,2,FALSE) -> Sharks | J12: =SUM(K12:M12) -> 0 | K12: =IF(H12="X",0,IF(N12>O12,1,0)) -> 0 | L12: =IF(OR(C12>Results!$F$1,N12="N"),0,IF(H12="X",0,IF(N12=O12,1,0))) -> 0 | M12: =IF(H12="X",0,IF(N12<O12,1,0)) -> 0 | N12: =IF($C12>Results!$F$1," ",(VLOOKUP($D12,Results!$B$2:$H$62,7,FALSE))) | O12: =IF($C12>Results!$F$1," ",(VLOOKUP($E12,Results!$C$2:$K$62,9,FALSE))) | P12: =IF(J12=" "," ",SUM(K12*2)+L12*1) -> 0
I13: TOTALS | J13: =SUM(J3:J12) -> 2 | K13: =SUM(K3:K12) -> 0 | L13: =SUM(L3:L12) -> 0 | M13: =SUM(M3:M12) -> 2 | N13: =SUM(N3:N12) -> 19 | O13: =SUM(O3:O12) -> 41 | P13: =SUM(P3:P12) -> 0

Sheet E14 JOKERS
H1: E14 | I1: JOKERS
D2: F | E2: A | G2: Date | H2: Code | I2: Opponents | J2: Played | K2: Won | L2: Drawn | M2: Lost | N2: Shots For | O2: Shots Against | P2: Pts
B3: =+$H$1 -> E14 | C3: 1 | D3: =CONCATENATE(C3,B3) -> 1E14 | E3: =CONCATENATE(C3,H3) -> 1E13 | G3: =VLOOKUP($D3,Results!$B$2:$I$62,3,FALSE) -> 46310 | H3: =VLOOKUP($D3,Results!$B$2:$I$62,8,FALSE) -> E13 | I3: =VLOOKUP(H3,Results!$N$2:$O$7,2,FALSE) -> Oddments | J3: =SUM(K3:M3) -> 1 | K3: =IF(H3="X",0,IF(N3>O3,1,0)) -> 1 | L3: =IF(OR(C3>Results!$F$1,N3="N"),0,IF(H3="X",0,IF(N3=O3,1,0))) -> 0 | M3: =IF(H3="X",0,IF(N3<O3,1,0)) -> 0 | N3: =IF($C3>Results!$F$1," ",(VLOOKUP($D3,Results!$B$2:$H$62,7,FALSE))) -> 20 | O3: =IF($C3>Results!$F$1," ",(VLOOKUP($E3,Results!$C$2:$K$62,9,FALSE))) -> 8 | P3: =IF(J3=" "," ",SUM(K3*2)+L3*1) -> 2
B4: =+$H$1 -> E14 | C4: 2 | D4: =CONCATENATE(C4,B4) -> 2E14 | E4: =CONCATENATE(C4,H4) -> 2E15 | G4: =VLOOKUP($D4,Results!$B$2:$I$62,3,FALSE) -> 46324 | H4: =VLOOKUP($D4,Results!$B$2:$I$62,8,FALSE) -> E15 | I4: =VLOOKUP(H4,Results!$N$2:$O$7,2,FALSE) -> Odd Jobs | J4: =SUM(K4:M4) -> 1 | K4: =IF(H4="X",0,IF(N4>O4,1,0)) -> 1 | L4: =IF(OR(C4>Results!$F$1,N4="N"),0,IF(H4="X",0,IF(N4=O4,1,0))) -> 0 | M4: =IF(H4="X",0,IF(N4<O4,1,0)) -> 0 | N4: =IF($C4>Results!$F$1," ",(VLOOKUP($D4,Results!$B$2:$H$62,7,FALSE))) -> 27 | O4: =IF($C4>Results!$F$1," ",(VLOOKUP($E4,Results!$C$2:$K$62,9,FALSE))) -> 7 | P4: =IF(J4=" "," ",SUM(K4*2)+L4*1) -> 2
B5: =+$H$1 -> E14 | C5: 3 | D5: =CONCATENATE(C5,B5) -> 3E14 | E5: =CONCATENATE(C5,H5) -> 3E16 | G5: =VLOOKUP($D5,Results!$B$2:$I$62,3,FALSE) -> 46338 | H5: =VLOOKUP($D5,Results!$B$2:$I$62,8,FALSE) -> E16 | I5: =VLOOKUP(H5,Results!$N$2:$O$7,2,FALSE) -> Sharks | J5: =SUM(K5:M5) -> 0 | K5: =IF(H5="X",0,IF(N5>O5,1,0)) -> 0 | L5: =IF(OR(C5>Results!$F$1,N5="N"),0,IF(H5="X",0,IF(N5=O5,1,0))) -> 0 | M5: =IF(H5="X",0,IF(N5<O5,1,0)) -> 0 | N5: =IF($C5>Results!$F$1," ",(VLOOKUP($D5,Results!$B$2:$H$62,7,FALSE))) | O5: =IF($C5>Results!$F$1," ",(VLOOKUP($E5,Results!$C$2:$K$62,9,FALSE))) | P5: =IF(J5=" "," ",SUM(K5*2)+L5*1) -> 0
B6: =+$H$1 -> E14 | C6: 4 | D6: =CONCATENATE(C6,B6) -> 4E14 | E6: =CONCATENATE(C6,H6) -> 4E11 | G6: =VLOOKUP($D6,Results!$B$2:$I$62,3,FALSE) -> 46352 | H6: =VLOOKUP($D6,Results!$B$2:$I$62,8,FALSE) -> E11 | I6: =VLOOKUP(H6,Results!$N$2:$O$7,2,FALSE) -> Nightingales | J6: =SUM(K6:M6) -> 0 | K6: =IF(H6="X",0,IF(N6>O6,1,0)) -> 0 | L6: =IF(OR(C6>Results!$F$1,N6="N"),0,IF(H6="X",0,IF(N6=O6,1,0))) -> 0 | M6: =IF(H6="X",0,IF(N6<O6,1,0)) -> 0 | N6: =IF($C6>Results!$F$1," ",(VLOOKUP($D6,Results!$B$2:$H$62,7,FALSE))) | O6: =IF($C6>Results!$F$1," ",(VLOOKUP($E6,Results!$C$2:$K$62,9,FALSE))) | P6: =IF(J6=" "," ",SUM(K6*2)+L6*1) -> 0
B7: =+$H$1 -> E14 | C7: 5 | D7: =CONCATENATE(C7,B7) -> 5E14 | E7: =CONCATENATE(C7,H7) -> 5E12 | G7: =VLOOKUP($D7,Results!$B$2:$I$62,3,FALSE) -> 46366 | H7: =VLOOKUP($D7,Results!$B$2:$I$62,8,FALSE) -> E12 | I7: =VLOOKUP(H7,Results!$N$2:$O$7,2,FALSE) -> Protagonists 2 | J7: =SUM(K7:M7) -> 0 | K7: =IF(H7="X",0,IF(N7>O7,1,0)) -> 0 | L7: =IF(OR(C7>Results!$F$1,N7="N"),0,IF(H7="X",0,IF(N7=O7,1,0))) -> 0 | M7: =IF(H7="X",0,IF(N7<O7,1,0)) -> 0 | N7: =IF($C7>Results!$F$1," ",(VLOOKUP($D7,Results!$B$2:$H$62,7,FALSE))) | O7: =IF($C7>Results!$F$1," ",(VLOOKUP($E7,Results!$C$2:$K$62,9,FALSE))) | P7: =IF(J7=" "," ",SUM(K7*2)+L7*1) -> 0
B8: =+$H$1 -> E14 | C8: 6 | D8: =CONCATENATE(C8,B8) -> 6E14 | E8: =CONCATENATE(C8,H8) -> 6E15 | G8: =VLOOKUP($D8,Results!$B$2:$I$62,3,FALSE) -> 46408 | H8: =VLOOKUP($D8,Results!$B$2:$I$62,8,FALSE) -> E15 | I8: =VLOOKUP(H8,Results!$N$2:$O$7,2,FALSE) -> Odd Jobs | J8: =SUM(K8:M8) -> 0 | K8: =IF(H8="X",0,IF(N8>O8,1,0)) -> 0 | L8: =IF(OR(C8>Results!$F$1,N8="N"),0,IF(H8="X",0,IF(N8=O8,1,0))) -> 0 | M8: =IF(H8="X",0,IF(N8<O8,1,0)) -> 0 | N8: =IF($C8>Results!$F$1," ",(VLOOKUP($D8,Results!$B$2:$H$62,7,FALSE))) | O8: =IF($C8>Results!$F$1," ",(VLOOKUP($E8,Results!$C$2:$K$62,9,FALSE))) | P8: =IF(J8=" "," ",SUM(K8*2)+L8*1) -> 0
B9: =+$H$1 -> E14 | C9: 7 | D9: =CONCATENATE(C9,B9) -> 7E14 | E9: =CONCATENATE(C9,H9) -> 7E13 | G9: =VLOOKUP($D9,Results!$B$2:$I$62,3,FALSE) -> 46422 | H9: =VLOOKUP($D9,Results!$B$2:$I$62,8,FALSE) -> E13 | I9: =VLOOKUP(H9,Results!$N$2:$O$7,2,FALSE) -> Oddments | J9: =SUM(K9:M9) -> 0 | K9: =IF(H9="X",0,IF(N9>O9,1,0)) -> 0 | L9: =IF(OR(C9>Results!$F$1,N9="N"),0,IF(H9="X",0,IF(N9=O9,1,0))) -> 0 | M9: =IF(H9="X",0,IF(N9<O9,1,0)) -> 0 | N9: =IF($C9>Results!$F$1," ",(VLOOKUP($D9,Results!$B$2:$H$62,7,FALSE))) | O9: =IF($C9>Results!$F$1," ",(VLOOKUP($E9,Results!$C$2:$K$62,9,FALSE))) | P9: =IF(J9=" "," ",SUM(K9*2)+L9*1) -> 0
B10: =+$H$1 -> E14 | C10: 8 | D10: =CONCATENATE(C10,B10) -> 8E14 | E10: =CONCATENATE(C10,H10) -> 8E11 | G10: =VLOOKUP($D10,Results!$B$2:$I$62,3,FALSE) -> 46436 | H10: =VLOOKUP($D10,Results!$B$2:$I$62,8,FALSE) -> E11 | I10: =VLOOKUP(H10,Results!$N$2:$O$7,2,FALSE) -> Nightingales | J10: =SUM(K10:M10) -> 0 | K10: =IF(H10="X",0,IF(N10>O10,1,0)) -> 0 | L10: =IF(OR(C10>Results!$F$1,N10="N"),0,IF(H10="X",0,IF(N10=O10,1,0))) -> 0 | M10: =IF(H10="X",0,IF(N10<O10,1,0)) -> 0 | N10: =IF($C10>Results!$F$1," ",(VLOOKUP($D10,Results!$B$2:$H$62,7,FALSE))) | O10: =IF($C10>Results!$F$1," ",(VLOOKUP($E10,Results!$C$2:$K$62,9,FALSE))) | P10: =IF(J10=" "," ",SUM(K10*2)+L10*1) -> 0
B11: =+$H$1 -> E14 | C11: 9 | D11: =CONCATENATE(C11,B11) -> 9E14 | E11: =CONCATENATE(C11,H11) -> 9E16 | G11: =VLOOKUP($D11,Results!$B$2:$I$62,3,FALSE) -> 46464 | H11: =VLOOKUP($D11,Results!$B$2:$I$62,8,FALSE) -> E16 | I11: =VLOOKUP(H11,Results!$N$2:$O$7,2,FALSE) -> Sharks | J11: =SUM(K11:M11) -> 0 | K11: =IF(H11="X",0,IF(N11>O11,1,0)) -> 0 | L11: =IF(OR(C11>Results!$F$1,N11="N"),0,IF(H11="X",0,IF(N11=O11,1,0))) -> 0 | M11: =IF(H11="X",0,IF(N11<O11,1,0)) -> 0 | N11: =IF($C11>Results!$F$1," ",(VLOOKUP($D11,Results!$B$2:$H$62,7,FALSE))) | O11: =IF($C11>Results!$F$1," ",(VLOOKUP($E11,Results!$C$2:$K$62,9,FALSE))) | P11: =IF(J11=" "," ",SUM(K11*2)+L11*1) -> 0
B12: =+$H$1 -> E14 | C12: 10 | D12: =CONCATENATE(C12,B12) -> 10E14 | E12: =CONCATENATE(C12,H12) -> 10E12 | G12: =VLOOKUP($D12,Results!$B$2:$I$62,3,FALSE) -> 46478 | H12: =VLOOKUP($D12,Results!$B$2:$I$62,8,FALSE) -> E12 | I12: =VLOOKUP(H12,Results!$N$2:$O$7,2,FALSE) -> Protagonists 2 | J12: =SUM(K12:M12) -> 0 | K12: =IF(H12="X",0,IF(N12>O12,1,0)) -> 0 | L12: =IF(OR(C12>Results!$F$1,N12="N"),0,IF(H12="X",0,IF(N12=O12,1,0))) -> 0 | M12: =IF(H12="X",0,IF(N12<O12,1,0)) -> 0 | N12: =IF($C12>Results!$F$1," ",(VLOOKUP($D12,Results!$B$2:$H$62,7,FALSE))) | O12: =IF($C12>Results!$F$1," ",(VLOOKUP($E12,Results!$C$2:$K$62,9,FALSE))) | P12: =IF(J12=" "," ",SUM(K12*2)+L12*1) -> 0
I13: TOTALS | J13: =SUM(J3:J12) -> 2 | K13: =SUM(K3:K12) -> 2 | L13: =SUM(L3:L12) -> 0 | M13: =SUM(M3:M12) -> 0 | N13: =SUM(N3:N12) -> 47 | O13: =SUM(O3:O12) -> 15 | P13: =SUM(P3:P12) -> 4

Sheet E15 ODD JOBS
H1: E15 | I1: ODD JOBS
D2: F | E2: A | G2: Date | H2: Code | I2: Opponents | J2: Played | K2: Won | L2: Drawn | M2: Lost | N2: Shots For | O2: Shots Against | P2: Pts
B3: =+$H$1 -> E15 | C3: 1 | D3: =CONCATENATE(C3,B3) -> 1E15 | E3: =CONCATENATE(C3,H3) -> 1E16 | G3: =VLOOKUP($D3,Results!$B$2:$I$62,3,FALSE) -> 46310 | H3: =VLOOKUP($D3,Results!$B$2:$I$62,8,FALSE) -> E16 | I3: =VLOOKUP(H3,Results!$N$2:$O$7,2,FALSE) -> Sharks | J3: =SUM(K3:M3) -> 1 | K3: =IF(H3="X",0,IF(N3>O3,1,0)) -> 1 | L3: =IF(OR(C3>Results!$F$1,N3="N"),0,IF(H3="X",0,IF(N3=O3,1,0))) -> 0 | M3: =IF(H3="X",0,IF(N3<O3,1,0)) -> 0 | N3: =IF($C3>Results!$F$1," ",(VLOOKUP($D3,Results!$B$2:$H$62,7,FALSE))) -> 25 | O3: =IF($C3>Results!$F$1," ",(VLOOKUP($E3,Results!$C$2:$K$62,9,FALSE))) -> 3 | P3: =IF(J3=" "," ",SUM(K3*2)+L3*1) -> 2
B4: =+$H$1 -> E15 | C4: 2 | D4: =CONCATENATE(C4,B4) -> 2E15 | E4: =CONCATENATE(C4,H4) -> 2E14 | G4: =VLOOKUP($D4,Results!$B$2:$I$62,3,FALSE) -> 46324 | H4: =VLOOKUP($D4,Results!$B$2:$I$62,8,FALSE) -> E14 | I4: =VLOOKUP(H4,Results!$N$2:$O$7,2,FALSE) -> Jokers | J4: =SUM(K4:M4) -> 1 | K4: =IF(H4="X",0,IF(N4>O4,1,0)) -> 0 | L4: =IF(OR(C4>Results!$F$1,N4="N"),0,IF(H4="X",0,IF(N4=O4,1,0))) -> 0 | M4: =IF(H4="X",0,IF(N4<O4,1,0)) -> 1 | N4: =IF($C4>Results!$F$1," ",(VLOOKUP($D4,Results!$B$2:$H$62,7,FALSE))) -> 7 | O4: =IF($C4>Results!$F$1," ",(VLOOKUP($E4,Results!$C$2:$K$62,9,FALSE))) -> 27 | P4: =IF(J4=" "," ",SUM(K4*2)+L4*1) -> 0
B5: =+$H$1 -> E15 | C5: 3 | D5: =CONCATENATE(C5,B5) -> 3E15 | E5: =CONCATENATE(C5,H5) -> 3E12 | G5: =VLOOKUP($D5,Results!$B$2:$I$62,3,FALSE) -> 46338 | H5: =VLOOKUP($D5,Results!$B$2:$I$62,8,FALSE) -> E12 | I5: =VLOOKUP(H5,Results!$N$2:$O$7,2,FALSE) -> Protagonists 2 | J5: =SUM(K5:M5) -> 0 | K5: =IF(H5="X",0,IF(N5>O5,1,0)) -> 0 | L5: =IF(OR(C5>Results!$F$1,N5="N"),0,IF(H5="X",0,IF(N5=O5,1,0))) -> 0 | M5: =IF(H5="X",0,IF(N5<O5,1,0)) -> 0 | N5: =IF($C5>Results!$F$1," ",(VLOOKUP($D5,Results!$B$2:$H$62,7,FALSE))) | O5: =IF($C5>Results!$F$1," ",(VLOOKUP($E5,Results!$C$2:$K$62,9,FALSE))) | P5: =IF(J5=" "," ",SUM(K5*2)+L5*1) -> 0
B6: =+$H$1 -> E15 | C6: 4 | D6: =CONCATENATE(C6,B6) -> 4E15 | E6: =CONCATENATE(C6,H6) -> 4E13 | G6: =VLOOKUP($D6,Results!$B$2:$I$62,3,FALSE) -> 46352 | H6: =VLOOKUP($D6,Results!$B$2:$I$62,8,FALSE) -> E13 | I6: =VLOOKUP(H6,Results!$N$2:$O$7,2,FALSE) -> Oddments | J6: =SUM(K6:M6) -> 0 | K6: =IF(H6="X",0,IF(N6>O6,1,0)) -> 0 | L6: =IF(OR(C6>Results!$F$1,N6="N"),0,IF(H6="X",0,IF(N6=O6,1,0))) -> 0 | M6: =IF(H6="X",0,IF(N6<O6,1,0)) -> 0 | N6: =IF($C6>Results!$F$1," ",(VLOOKUP($D6,Results!$B$2:$H$62,7,FALSE))) | O6: =IF($C6>Results!$F$1," ",(VLOOKUP($E6,Results!$C$2:$K$62,9,FALSE))) | P6: =IF(J6=" "," ",SUM(K6*2)+L6*1) -> 0
B7: =+$H$1 -> E15 | C7: 5 | D7: =CONCATENATE(C7,B7) -> 5E15 | E7: =CONCATENATE(C7,H7) -> 5E11 | G7: =VLOOKUP($D7,Results!$B$2:$I$62,3,FALSE) -> 46366 | H7: =VLOOKUP($D7,Results!$B$2:$I$62,8,FALSE) -> E11 | I7: =VLOOKUP(H7,Results!$N$2:$O$7,2,FALSE) -> Nightingales | J7: =SUM(K7:M7) -> 0 | K7: =IF(H7="X",0,IF(N7>O7,1,0)) -> 0 | L7: =IF(OR(C7>Results!$F$1,N7="N"),0,IF(H7="X",0,IF(N7=O7,1,0))) -> 0 | M7: =IF(H7="X",0,IF(N7<O7,1,0)) -> 0 | N7: =IF($C7>Results!$F$1," ",(VLOOKUP($D7,Results!$B$2:$H$62,7,FALSE))) | O7: =IF($C7>Results!$F$1," ",(VLOOKUP($E7,Results!$C$2:$K$62,9,FALSE))) | P7: =IF(J7=" "," ",SUM(K7*2)+L7*1) -> 0
B8: =+$H$1 -> E15 | C8: 6 | D8: =CONCATENATE(C8,B8) -> 6E15 | E8: =CONCATENATE(C8,H8) -> 6E14 | G8: =VLOOKUP($D8,Results!$B$2:$I$62,3,FALSE) -> 46408 | H8: =VLOOKUP($D8,Results!$B$2:$I$62,8,FALSE) -> E14 | I8: =VLOOKUP(H8,Results!$N$2:$O$7,2,FALSE) -> Jokers | J8: =SUM(K8:M8) -> 0 | K8: =IF(H8="X",0,IF(N8>O8,1,0)) -> 0 | L8: =IF(OR(C8>Results!$F$1,N8="N"),0,IF(H8="X",0,IF(N8=O8,1,0))) -> 0 | M8: =IF(H8="X",0,IF(N8<O8,1,0)) -> 0 | N8: =IF($C8>Results!$F$1," ",(VLOOKUP($D8,Results!$B$2:$H$62,7,FALSE))) | O8: =IF($C8>Results!$F$1," ",(VLOOKUP($E8,Results!$C$2:$K$62,9,FALSE))) | P8: =IF(J8=" "," ",SUM(K8*2)+L8*1) -> 0
B9: =+$H$1 -> E15 | C9: 7 | D9: =CONCATENATE(C9,B9) -> 7E15 | E9: =CONCATENATE(C9,H9) -> 7E16 | G9: =VLOOKUP($D9,Results!$B$2:$I$62,3,FALSE) -> 46422 | H9: =VLOOKUP($D9,Results!$B$2:$I$62,8,FALSE) -> E16 | I9: =VLOOKUP(H9,Results!$N$2:$O$7,2,FALSE) -> Sharks | J9: =SUM(K9:M9) -> 0 | K9: =IF(H9="X",0,IF(N9>O9,1,0)) -> 0 | L9: =IF(OR(C9>Results!$F$1,N9="N"),0,IF(H9="X",0,IF(N9=O9,1,0))) -> 0 | M9: =IF(H9="X",0,IF(N9<O9,1,0)) -> 0 | N9: =IF($C9>Results!$F$1," ",(VLOOKUP($D9,Results!$B$2:$H$62,7,FALSE))) | O9: =IF($C9>Results!$F$1," ",(VLOOKUP($E9,Results!$C$2:$K$62,9,FALSE))) | P9: =IF(J9=" "," ",SUM(K9*2)+L9*1) -> 0
B10: =+$H$1 -> E15 | C10: 8 | D10: =CONCATENATE(C10,B10) -> 8E15 | E10: =CONCATENATE(C10,H10) -> 8E13 | G10: =VLOOKUP($D10,Results!$B$2:$I$62,3,FALSE) -> 46436 | H10: =VLOOKUP($D10,Results!$B$2:$I$62,8,FALSE) -> E13 | I10: =VLOOKUP(H10,Results!$N$2:$O$7,2,FALSE) -> Oddments | J10: =SUM(K10:M10) -> 0 | K10: =IF(H10="X",0,IF(N10>O10,1,0)) -> 0 | L10: =IF(OR(C10>Results!$F$1,N10="N"),0,IF(H10="X",0,IF(N10=O10,1,0))) -> 0 | M10: =IF(H10="X",0,IF(N10<O10,1,0)) -> 0 | N10: =IF($C10>Results!$F$1," ",(VLOOKUP($D10,Results!$B$2:$H$62,7,FALSE))) | O10: =IF($C10>Results!$F$1," ",(VLOOKUP($E10,Results!$C$2:$K$62,9,FALSE))) | P10: =IF(J10=" "," ",SUM(K10*2)+L10*1) -> 0
B11: =+$H$1 -> E15 | C11: 9 | D11: =CONCATENATE(C11,B11) -> 9E15 | E11: =CONCATENATE(C11,H11) -> 9E12 | G11: =VLOOKUP($D11,Results!$B$2:$I$62,3,FALSE) -> 46464 | H11: =VLOOKUP($D11,Results!$B$2:$I$62,8,FALSE) -> E12 | I11: =VLOOKUP(H11,Results!$N$2:$O$7,2,FALSE) -> Protagonists 2 | J11: =SUM(K11:M11) -> 0 | K11: =IF(H11="X",0,IF(N11>O11,1,0)) -> 0 | L11: =IF(OR(C11>Results!$F$1,N11="N"),0,IF(H11="X",0,IF(N11=O11,1,0))) -> 0 | M11: =IF(H11="X",0,IF(N11<O11,1,0)) -> 0 | N11: =IF($C11>Results!$F$1," ",(VLOOKUP($D11,Results!$B$2:$H$62,7,FALSE))) | O11: =IF($C11>Results!$F$1," ",(VLOOKUP($E11,Results!$C$2:$K$62,9,FALSE))) | P11: =IF(J11=" "," ",SUM(K11*2)+L11*1) -> 0
B12: =+$H$1 -> E15 | C12: 10 | D12: =CONCATENATE(C12,B12) -> 10E15 | E12: =CONCATENATE(C12,H12) -> 10E11 | G12: =VLOOKUP($D12,Results!$B$2:$I$62,3,FALSE) -> 46478 | H12: =VLOOKUP($D12,Results!$B$2:$I$62,8,FALSE) -> E11 | I12: =VLOOKUP(H12,Results!$N$2:$O$7,2,FALSE) -> Nightingales | J12: =SUM(K12:M12) -> 0 | K12: =IF(H12="X",0,IF(N12>O12,1,0)) -> 0 | L12: =IF(OR(C12>Results!$F$1,N12="N"),0,IF(H12="X",0,IF(N12=O12,1,0))) -> 0 | M12: =IF(H12="X",0,IF(N12<O12,1,0)) -> 0 | N12: =IF($C12>Results!$F$1," ",(VLOOKUP($D12,Results!$B$2:$H$62,7,FALSE))) | O12: =IF($C12>Results!$F$1," ",(VLOOKUP($E12,Results!$C$2:$K$62,9,FALSE))) | P12: =IF(J12=" "," ",SUM(K12*2)+L12*1) -> 0
I13: TOTALS | J13: =SUM(J3:J12) -> 2 | K13: =SUM(K3:K12) -> 1 | L13: =SUM(L3:L12) -> 0 | M13: =SUM(M3:M12) -> 1 | N13: =SUM(N3:N12) -> 32 | O13: =SUM(O3:O12) -> 30 | P13: =SUM(P3:P12) -> 2

Sheet E16 SHARKS
H1: E16 | I1: SHARKS
D2: F | E2: A | G2: Date | H2: Code | I2: Opponents | J2: Played | K2: Won | L2: Drawn | M2: Lost | N2: Shots For | O2: Shots Against | P2: Pts
B3: =+$H$1 -> E16 | C3: 1 | D3: =CONCATENATE(C3,B3) -> 1E16 | E3: =CONCATENATE(C3,H3) -> 1E15 | G3: =VLOOKUP($D3,Results!$B$2:$I$62,3,FALSE) -> 46310 | H3: =VLOOKUP($D3,Results!$B$2:$I$62,8,FALSE) -> E15 | I3: =VLOOKUP(H3,Results!$N$2:$O$7,2,FALSE) -> Odd Jobs | J3: =SUM(K3:M3) -> 1 | K3: =IF(H3="X",0,IF(N3>O3,1,0)) -> 0 | L3: =IF(OR(C3>Results!$F$1,N3="N"),0,IF(H3="X",0,IF(N3=O3,1,0))) -> 0 | M3: =IF(H3="X",0,IF(N3<O3,1,0)) -> 1 | N3: =IF($C3>Results!$F$1," ",(VLOOKUP($D3,Results!$B$2:$H$62,7,FALSE))) -> 3 | O3: =IF($C3>Results!$F$1," ",(VLOOKUP($E3,Results!$C$2:$K$62,9,FALSE))) -> 25 | P3: =IF(J3=" "," ",SUM(K3*2)+L3*1) -> 0
B4: =+$H$1 -> E16 | C4: 2 | D4: =CONCATENATE(C4,B4) -> 2E16 | E4: =CONCATENATE(C4,H4) -> 2E11 | G4: =VLOOKUP($D4,Results!$B$2:$I$62,3,FALSE) -> 46324 | H4: =VLOOKUP($D4,Results!$B$2:$I$62,8,FALSE) -> E11 | I4: =VLOOKUP(H4,Results!$N$2:$O$7,2,FALSE) -> Nightingales | J4: =SUM(K4:M4) -> 1 | K4: =IF(H4="X",0,IF(N4>O4,1,0)) -> 0 | L4: =IF(OR(C4>Results!$F$1,N4="N"),0,IF(H4="X",0,IF(N4=O4,1,0))) -> 0 | M4: =IF(H4="X",0,IF(N4<O4,1,0)) -> 1 | N4: =IF($C4>Results!$F$1," ",(VLOOKUP($D4,Results!$B$2:$H$62,7,FALSE))) -> 2 | O4: =IF($C4>Results!$F$1," ",(VLOOKUP($E4,Results!$C$2:$K$62,9,FALSE))) -> 27 | P4: =IF(J4=" "," ",SUM(K4*2)+L4*1) -> 0
B5: =+$H$1 -> E16 | C5: 3 | D5: =CONCATENATE(C5,B5) -> 3E16 | E5: =CONCATENATE(C5,H5) -> 3E14 | G5: =VLOOKUP($D5,Results!$B$2:$I$62,3,FALSE) -> 46338 | H5: =VLOOKUP($D5,Results!$B$2:$I$62,8,FALSE) -> E14 | I5: =VLOOKUP(H5,Results!$N$2:$O$7,2,FALSE) -> Jokers | J5: =SUM(K5:M5) -> 0 | K5: =IF(H5="X",0,IF(N5>O5,1,0)) -> 0 | L5: =IF(OR(C5>Results!$F$1,N5="N"),0,IF(H5="X",0,IF(N5=O5,1,0))) -> 0 | M5: =IF(H5="X",0,IF(N5<O5,1,0)) -> 0 | N5: =IF($C5>Results!$F$1," ",(VLOOKUP($D5,Results!$B$2:$H$62,7,FALSE))) | O5: =IF($C5>Results!$F$1," ",(VLOOKUP($E5,Results!$C$2:$K$62,9,FALSE))) | P5: =IF(J5=" "," ",SUM(K5*2)+L5*1) -> 0
