Workbook

Sheet Results
E1: Week | F1: =+'Results Input'!G1 -> 3
B2: =CONCATENATE(E2,F2) -> 1MAP11 | C2: =CONCATENATE(E2,I2) -> 1MAP12 | D2: =+'Results Input'!E2 -> 46282 | E2: =+'Results Input'!F2 -> 1 | F2: =+'Results Input'!G2 -> MAP11 | G2: =VLOOKUP(F2,Results!$N$2:$O$9,2,FALSE) -> Banana Skins | H2: =+'Results Input'!I2 -> 13 | I2: =+'Results Input'!J2 -> MAP12 | J2: =VLOOKUP(I2,Results!$N$2:$O$9,2,FALSE) -> R & R | K2: =+'Results Input'!L2 -> 12 | N2: MAP11 | O2: Banana Skins
B3: =CONCATENATE(E3,F3) -> 1MAP15 | C3: =CONCATENATE(E3,I3) -> 1MAP16 | D3: =+D2 -> 46282 | E3: =+E2 -> 1 | F3: =+'Results Input'!G3 -> MAP15 | G3: =VLOOKUP(F3,Results!$N$2:$O$9,2,FALSE) -> F.W.Golf | H3: =+'Results Input'!I3 -> 16 | I3: =+'Results Input'!J3 -> MAP16 | J3: =VLOOKUP(I3,Results!$N$2:$O$9,2,FALSE) -> Donuts | K3: =+'Results Input'!L3 -> 4 | N3: MAP12 | O3: R & R
B4: =CONCATENATE(E4,F4) -> 1MAP13 | C4: =CONCATENATE(E4,I4) -> 1MAP14 | D4: =+D2 -> 46282 | E4: =+E2 -> 1 | F4: =+'Results Input'!G4 -> MAP13 | G4: =VLOOKUP(F4,Results!$N$2:$O$9,2,FALSE) -> The Smites | H4: =+'Results Input'!I4 -> 8 | I4: =+'Results Input'!J4 -> MAP14 | J4: =VLOOKUP(I4,Results!$N$2:$O$9,2,FALSE) -> Wizards | K4: =+'Results Input'!L4 -> 10 | N4: MAP13 | O4: The Smites
B5: =CONCATENATE(E5,F5) -> 1MAP17 | C5: =CONCATENATE(E5,I5) -> 1X | D5: =+D2 -> 46282 | E5: =+E2 -> 1 | F5: =+'Results Input'!G5 -> MAP17 | G5: =VLOOKUP(F5,Results!$N$2:$O$9,2,FALSE) -> Dolly Mixtures | H5: =+'Results Input'!I5 -> 0 | I5: =+'Results Input'!J5 -> X | J5: =VLOOKUP(I5,Results!$N$2:$O$9,2,FALSE) -> No Match | N5: MAP14 | O5: Wizards
B6: =CONCATENATE(E6,F6) -> 1MAP12 | C6: =CONCATENATE(E6,I6) -> 1MAP11 | D6: =+D2 -> 46282 | E6: =+E2 -> 1 | F6: =+I2 -> MAP12 | G6: =VLOOKUP(F6,Results!$N$2:$O$9,2,FALSE) -> R & R | H6: =+K2 -> 12 | I6: =+F2 -> MAP11 | J6: =VLOOKUP(I6,Results!$N$2:$O$9,2,FALSE) -> Banana Skins | K6: =+H2 -> 13 | N6: MAP15 | O6: F.W.Golf
B7: =CONCATENATE(E7,F7) -> 1MAP16 | C7: =CONCATENATE(E7,I7) -> 1MAP15 | D7: =+D2 -> 46282 | E7: =+E2 -> 1 | F7: =+I3 -> MAP16 | G7: =VLOOKUP(F7,Results!$N$2:$O$9,2,FALSE) -> Donuts | H7: =+K3 -> 4 | I7: =+F3 -> MAP15 | J7: =VLOOKUP(I7,Results!$N$2:$O$9,2,FALSE) -> F.W.Golf | K7: =+H3 -> 16 | N7: MAP16 | O7: Donuts
B8: =CONCATENATE(E8,F8) -> 1MAP14 | C8: =CONCATENATE(E8,I8) -> 1MAP13 | D8: =+D2 -> 46282 | E8: =+E2 -> 1 | F8: =+I4 -> MAP14 | G8: =VLOOKUP(F8,Results!$N$2:$O$9,2,FALSE) -> Wizards | H8: =+K4 -> 10 | I8: =+F4 -> MAP13 | J8: =VLOOKUP(I8,Results!$N$2:$O$9,2,FALSE) -> The Smites | K8: =+H4 -> 8 | N8: MAP17 | O8: Dolly Mixtures
B9: =CONCATENATE(E9,F9) -> 2MAP14 | C9: =CONCATENATE(E9,I9) -> 2MAP15 | D9: =+'Results Input'!E6 -> 46289 | E9: =+'Results Input'!F6 -> 2 | F9: =+'Results Input'!G6 -> MAP14 | G9: =VLOOKUP(F9,Results!$N$2:$O$9,2,FALSE) -> Wizards | H9: =+'Results Input'!I6 -> 13 | I9: =+'Results Input'!J6 -> MAP15 | J9: =VLOOKUP(I9,Results!$N$2:$O$9,2,FALSE) -> F.W.Golf | K9: =+'Results Input'!L6 -> 10 | N9: X | O9: No Match
B10: =CONCATENATE(E10,F10) -> 2MAP17 | C10: =CONCATENATE(E10,I10) -> 2MAP11 | D10: =+D9 -> 46289 | E10: =+E9 -> 2 | F10: =+'Results Input'!G7 -> MAP17 | G10: =VLOOKUP(F10,Results!$N$2:$O$9,2,FALSE) -> Dolly Mixtures | H10: =+'Results Input'!I7 -> 10 | I10: =+'Results Input'!J7 -> MAP11 | J10: =VLOOKUP(I10,Results!$N$2:$O$9,2,FALSE) -> Banana Skins | K10: =+'Results Input'!L7 -> 16
B11: =CONCATENATE(E11,F11) -> 2MAP12 | C11: =CONCATENATE(E11,I11) -> 2MAP13 | D11: =+D9 -> 46289 | E11: =+E9 -> 2 | F11: =+'Results Input'!G8 -> MAP12 | G11: =VLOOKUP(F11,Results!$N$2:$O$9,2,FALSE) -> R & R | H11: =+'Results Input'!I8 -> N | I11: =+'Results Input'!J8 -> MAP13 | J11: =VLOOKUP(I11,Results!$N$2:$O$9,2,FALSE) -> The Smites | K11: =+'Results Input'!L8 -> N
B12: =CONCATENATE(E12,F12) -> 2MAP16 | C12: =CONCATENATE(E12,I12) -> 2X | D12: =+D9 -> 46289 | E12: =+E9 -> 2 | F12: =+'Results Input'!G9 -> MAP16 | G12: =VLOOKUP(F12,Results!$N$2:$O$9,2,FALSE) -> Donuts | H12: =+'Results Input'!I9 -> 0 | I12: =+'Results Input'!J9 -> X | J12: =VLOOKUP(I12,Results!$N$2:$O$9,2,FALSE) -> No Match
B13: =CONCATENATE(E13,F13) -> 2MAP15 | C13: =CONCATENATE(E13,I13) -> 2MAP14 | D13: =+D9 -> 46289 | E13: =+E9 -> 2 | F13: =+I9 -> MAP15 | G13: =VLOOKUP(F13,Results!$N$2:$O$9,2,FALSE) -> F.W.Golf | H13: =+K9 -> 10 | I13: =+F9 -> MAP14 | J13: =VLOOKUP(I13,Results!$N$2:$O$9,2,FALSE) -> Wizards | K13: =+H9 -> 13
B14: =CONCATENATE(E14,F14) -> 2MAP11 | C14: =CONCATENATE(E14,I14) -> 2MAP17 | D14: =+D9 -> 46289 | E14: =+E9 -> 2 | F14: =+I10 -> MAP11 | G14: =VLOOKUP(F14,Results!$N$2:$O$9,2,FALSE) -> Banana Skins | H14: =+K10 -> 16 | I14: =+F10 -> MAP17 | J14: =VLOOKUP(I14,Results!$N$2:$O$9,2,FALSE) -> Dolly Mixtures | K14: =+H10 -> 10
B15: =CONCATENATE(E15,F15) -> 2MAP13 | C15: =CONCATENATE(E15,I15) -> 2MAP12 | D15: =+D9 -> 46289 | E15: =+E9 -> 2 | F15: =+I11 -> MAP13 | G15: =VLOOKUP(F15,Results!$N$2:$O$9,2,FALSE) -> The Smites | H15: =+K11 -> N | I15: =+F11 -> MAP12 | J15: =VLOOKUP(I15,Results!$N$2:$O$9,2,FALSE) -> R & R | K15: =+H11 -> N
B16: =CONCATENATE(E16,F16) -> 3MAP16 | C16: =CONCATENATE(E16,I16) -> 3MAP17 | D16: =+'Results Input'!E10 -> 46296 | E16: =+'Results Input'!F10 -> 3 | F16: =+'Results Input'!G10 -> MAP16 | G16: =VLOOKUP(F16,Results!$N$2:$O$9,2,FALSE) -> Donuts | H16: =+'Results Input'!I10 -> 7 | I16: =+'Results Input'!J10 -> MAP17 | J16: =VLOOKUP(I16,Results!$N$2:$O$9,2,FALSE) -> Dolly Mixtures | K16: =+'Results Input'!L10 -> 15
B17: =CONCATENATE(E17,F17) -> 3MAP11 | C17: =CONCATENATE(E17,I17) -> 3MAP13 | D17: =+D16 -> 46296 | E17: =+E16 -> 3 | F17: =+'Results Input'!G11 -> MAP11 | G17: =VLOOKUP(F17,Results!$N$2:$O$9,2,FALSE) -> Banana Skins | H17: =+'Results Input'!I11 -> 4 | I17: =+'Results Input'!J11 -> MAP13 | J17: =VLOOKUP(I17,Results!$N$2:$O$9,2,FALSE) -> The Smites | K17: =+'Results Input'!L11 -> 13
B18: =CONCATENATE(E18,F18) -> 3MAP14 | C18: =CONCATENATE(E18,I18) -> 3MAP12 | D18: =+D16 -> 46296 | E18: =+E16 -> 3 | F18: =+'Results Input'!G12 -> MAP14 | G18: =VLOOKUP(F18,Results!$N$2:$O$9,2,FALSE) -> Wizards | H18: =+'Results Input'!I12 -> 10 | I18: =+'Results Input'!J12 -> MAP12 | J18: =VLOOKUP(I18,Results!$N$2:$O$9,2,FALSE) -> R & R | K18: =+'Results Input'!L12 -> 13
B19: =CONCATENATE(E19,F19) -> 3MAP15 | C19: =CONCATENATE(E19,I19) -> 3X | D19: =+D16 -> 46296 | E19: =+E16 -> 3 | F19: =+'Results Input'!G13 -> MAP15 | G19: =VLOOKUP(F19,Results!$N$2:$O$9,2,FALSE) -> F.W.Golf | H19: =+'Results Input'!I13 -> 0 | I19: =+'Results Input'!J13 -> X | J19: =VLOOKUP(I19,Results!$N$2:$O$9,2,FALSE) -> No Match
B20: =CONCATENATE(E20,F20) -> 3MAP17 | C20: =CONCATENATE(E20,I20) -> 3MAP16 | D20: =+D16 -> 46296 | E20: =+E16 -> 3 | F20: =+I16 -> MAP17 | G20: =VLOOKUP(F20,Results!$N$2:$O$9,2,FALSE) -> Dolly Mixtures | H20: =+K16 -> 15 | I20: =+F16 -> MAP16 | J20: =VLOOKUP(I20,Results!$N$2:$O$9,2,FALSE) -> Donuts | K20: =+H16 -> 7
B21: =CONCATENATE(E21,F21) -> 3MAP13 | C21: =CONCATENATE(E21,I21) -> 3MAP11 | D21: =+D16 -> 46296 | E21: =+E16 -> 3 | F21: =+I17 -> MAP13 | G21: =VLOOKUP(F21,Results!$N$2:$O$9,2,FALSE) -> The Smites | H21: =+K17 -> 13 | I21: =+F17 -> MAP11 | J21: =VLOOKUP(I21,Results!$N$2:$O$9,2,FALSE) -> Banana Skins | K21: =+H17 -> 4
B22: =CONCATENATE(E22,F22) -> 3MAP12 | C22: =CONCATENATE(E22,I22) -> 3MAP14 | D22: =+D16 -> 46296 | E22: =+E16 -> 3 | F22: =+I18 -> MAP12 | G22: =VLOOKUP(F22,Results!$N$2:$O$9,2,FALSE) -> R & R | H22: =+K18 -> 13 | I22: =+F18 -> MAP14 | J22: =VLOOKUP(I22,Results!$N$2:$O$9,2,FALSE) -> Wizards | K22: =+H18 -> 10
B23: =CONCATENATE(E23,F23) -> 4MAP12 | C23: =CONCATENATE(E23,I23) -> 4MAP16 | D23: =+'Results Input'!E14 -> 46303 | E23: =+'Results Input'!F14 -> 4 | F23: =+'Results Input'!G14 -> MAP12 | G23: =VLOOKUP(F23,Results!$N$2:$O$9,2,FALSE) -> R & R | H23: =+'Results Input'!I14 -> 0 | I23: =+'Results Input'!J14 -> MAP16 | J23: =VLOOKUP(I23,Results!$N$2:$O$9,2,FALSE) -> Donuts | K23: =+'Results Input'!L14 -> 0
B24: =CONCATENATE(E24,F24) -> 4MAP13 | C24: =CONCATENATE(E24,I24) -> 4MAP17 | D24: =+D23 -> 46303 | E24: =+E23 -> 4 | F24: =+'Results Input'!G15 -> MAP13 | G24: =VLOOKUP(F24,Results!$N$2:$O$9,2,FALSE) -> The Smites | H24: =+'Results Input'!I15 -> 0 | I24: =+'Results Input'!J15 -> MAP17 | J24: =VLOOKUP(I24,Results!$N$2:$O$9,2,FALSE) -> Dolly Mixtures | K24: =+'Results Input'!L15 -> 0
B25: =CONCATENATE(E25,F25) -> 4MAP15 | C25: =CONCATENATE(E25,I25) -> 4MAP11 | D25: =+D23 -> 46303 | E25: =+E23 -> 4 | F25: =+'Results Input'!G16 -> MAP15 | G25: =VLOOKUP(F25,Results!$N$2:$O$9,2,FALSE) -> F.W.Golf | H25: =+'Results Input'!I16 -> 0 | I25: =+'Results Input'!J16 -> MAP11 | J25: =VLOOKUP(I25,Results!$N$2:$O$9,2,FALSE) -> Banana Skins | K25: =+'Results Input'!L16 -> 0
B26: =CONCATENATE(E26,F26) -> 4MAP14 | C26: =CONCATENATE(E26,I26) -> 4X | D26: =+D23 -> 46303 | E26: =+E23 -> 4 | F26: =+'Results Input'!G17 -> MAP14 | G26: =VLOOKUP(F26,Results!$N$2:$O$9,2,FALSE) -> Wizards | H26: =+'Results Input'!I17 -> 0 | I26: =+'Results Input'!J17 -> X | J26: =VLOOKUP(I26,Results!$N$2:$O$9,2,FALSE) -> No Match
B27: =CONCATENATE(E27,F27) -> 4MAP16 | C27: =CONCATENATE(E27,I27) -> 4MAP12 | D27: =+D23 -> 46303 | E27: =+E23 -> 4 | F27: =+I23 -> MAP16 | G27: =VLOOKUP(F27,Results!$N$2:$O$9,2,FALSE) -> Donuts | H27: =+K23 -> 0 | I27: =+F23 -> MAP12 | J27: =VLOOKUP(I27,Results!$N$2:$O$9,2,FALSE) -> R & R | K27: =+H23 -> 0
B28: =CONCATENATE(E28,F28) -> 4MAP17 | C28: =CONCATENATE(E28,I28) -> 4MAP13 | D28: =+D23 -> 46303 | E28: =+E23 -> 4 | F28: =+I24 -> MAP17 | G28: =VLOOKUP(F28,Results!$N$2:$O$9,2,FALSE) -> Dolly Mixtures | H28: =+K24 -> 0 | I28: =+F24 -> MAP13 | J28: =VLOOKUP(I28,Results!$N$2:$O$9,2,FALSE) -> The Smites | K28: =+H24 -> 0
B29: =CONCATENATE(E29,F29) -> 4MAP11 | C29: =CONCATENATE(E29,I29) -> 4MAP15 | D29: =+D23 -> 46303 | E29: =+E23 -> 4 | F29: =+I25 -> MAP11 | G29: =VLOOKUP(F29,Results!$N$2:$O$9,2,FALSE) -> Banana Skins | H29: =+K25 -> 0 | I29: =+F25 -> MAP15 | J29: =VLOOKUP(I29,Results!$N$2:$O$9,2,FALSE) -> F.W.Golf | K29: =+H25 -> 0
B30: =CONCATENATE(E30,F30) -> 5MAP16 | C30: =CONCATENATE(E30,I30) -> 5MAP11 | D30: =+'Results Input'!E18 -> 46317 | E30: =+'Results Input'!F18 -> 5 | F30: =+'Results Input'!G18 -> MAP16 | G30: =VLOOKUP(F30,Results!$N$2:$O$9,2,FALSE) -> Donuts | H30: =+'Results Input'!I18 -> 0 | I30: =+'Results Input'!J18 -> MAP11 | J30: =VLOOKUP(I30,Results!$N$2:$O$9,2,FALSE) -> Banana Skins | K30: =+'Results Input'!L18 -> 0
B31: =CONCATENATE(E31,F31) -> 5MAP12 | C31: =CONCATENATE(E31,I31) -> 5MAP15 | D31: =+D30 -> 46317 | E31: =+E30 -> 5 | F31: =+'Results Input'!G19 -> MAP12 | G31: =VLOOKUP(F31,Results!$N$2:$O$9,2,FALSE) -> R & R | H31: =+'Results Input'!I19 -> 0 | I31: =+'Results Input'!J19 -> MAP15 | J31: =VLOOKUP(I31,Results!$N$2:$O$9,2,FALSE) -> F.W.Golf | K31: =+'Results Input'!L19 -> 0
B32: =CONCATENATE(E32,F32) -> 5MAP17 | C32: =CONCATENATE(E32,I32) -> 5MAP14 | D32: =+D30 -> 46317 | E32: =+E30 -> 5 | F32: =+'Results Input'!G20 -> MAP17 | G32: =VLOOKUP(F32,Results!$N$2:$O$9,2,FALSE) -> Dolly Mixtures | H32: =+'Results Input'!I20 -> 0 | I32: =+'Results Input'!J20 -> MAP14 | J32: =VLOOKUP(I32,Results!$N$2:$O$9,2,FALSE) -> Wizards | K32: =+'Results Input'!L20 -> 0
B33: =CONCATENATE(E33,F33) -> 5MAP13 | C33: =CONCATENATE(E33,I33) -> 5X | D33: =+D30 -> 46317 | E33: =+E30 -> 5 | F33: =+'Results Input'!G21 -> MAP13 | G33: =VLOOKUP(F33,Results!$N$2:$O$9,2,FALSE) -> The Smites | H33: =+'Results Input'!I21 -> 0 | I33: =+'Results Input'!J21 -> X | J33: =VLOOKUP(I33,Results!$N$2:$O$9,2,FALSE) -> No Match
B34: =CONCATENATE(E34,F34) -> 5MAP11 | C34: =CONCATENATE(E34,I34) -> 5MAP16 | D34: =+D30 -> 46317 | E34: =+E30 -> 5 | F34: =+I30 -> MAP11 | G34: =VLOOKUP(F34,Results!$N$2:$O$9,2,FALSE) -> Banana Skins | H34: =+K30 -> 0 | I34: =+F30 -> MAP16 | J34: =VLOOKUP(I34,Results!$N$2:$O$9,2,FALSE) -> Donuts | K34: =+H30 -> 0
B35: =CONCATENATE(E35,F35) -> 5MAP15 | C35: =CONCATENATE(E35,I35) -> 5MAP12 | D35: =+D30 -> 46317 | E35: =+E30 -> 5 | F35: =+I31 -> MAP15 | G35: =VLOOKUP(F35,Results!$N$2:$O$9,2,FALSE) -> F.W.Golf | H35: =+K31 -> 0 | I35: =+F31 -> MAP12 | J35: =VLOOKUP(I35,Results!$N$2:$O$9,2,FALSE) -> R & R | K35: =+H31 -> 0
B36: =CONCATENATE(E36,F36) -> 5MAP14 | C36: =CONCATENATE(E36,I36) -> 5MAP17 | D36: =+D30 -> 46317 | E36: =+E30 -> 5 | F36: =+I32 -> MAP14 | G36: =VLOOKUP(F36,Results!$N$2:$O$9,2,FALSE) -> Wizards | H36: =+K32 -> 0 | I36: =+F32 -> MAP17 | J36: =VLOOKUP(I36,Results!$N$2:$O$9,2,FALSE) -> Dolly Mixtures | K36: =+H32 -> 0
B37: =CONCATENATE(E37,F37) -> 6MAP16 | C37: =CONCATENATE(E37,I37) -> 6MAP13 | D37: =+'Results Input'!E22 -> 46324 | E37: =+'Results Input'!F22 -> 6 | F37: =+'Results Input'!G22 -> MAP16 | G37: =VLOOKUP(F37,Results!$N$2:$O$9,2,FALSE) -> Donuts | H37: =+'Results Input'!I22 -> 0 | I37: =+'Results Input'!J22 -> MAP13 | J37: =VLOOKUP(I37,Results!$N$2:$O$9,2,FALSE) -> The Smites | K37: =+'Results Input'!L22 -> 0
B38: =CONCATENATE(E38,F38) -> 6MAP15 | C38: =CONCATENATE(E38,I38) -> 6MAP17 | D38: =+D37 -> 46324 | E38: =+E37 -> 6 | F38: =+'Results Input'!G23 -> MAP15 | G38: =VLOOKUP(F38,Results!$N$2:$O$9,2,FALSE) -> F.W.Golf | H38: =+'Results Input'!I23 -> 0 | I38: =+'Results Input'!J23 -> MAP17 | J38: =VLOOKUP(I38,Results!$N$2:$O$9,2,FALSE) -> Dolly Mixtures | K38: =+'Results Input'!L23 -> 0
B39: =CONCATENATE(E39,F39) -> 6MAP11 | C39: =CONCATENATE(E39,I39) -> 6MAP14 | D39: =+D37 -> 46324 | E39: =+E37 -> 6 | F39: =+'Results Input'!G24 -> MAP11 | G39: =VLOOKUP(F39,Results!$N$2:$O$9,2,FALSE) -> Banana Skins | H39: =+'Results Input'!I24 -> 0 | I39: =+'Results Input'!J24 -> MAP14 | J39: =VLOOKUP(I39,Results!$N$2:$O$9,2,FALSE) -> Wizards | K39: =+'Results Input'!L24 -> 0
B40: =CONCATENATE(E40,F40) -> 6MAP12 | C40: =CONCATENATE(E40,I40) -> 6X | D40: =+D37 -> 46324 | E40: =+E37 -> 6 | F40: =+'Results Input'!G25 -> MAP12 | G40: =VLOOKUP(F40,Results!$N$2:$O$9,2,FALSE) -> R & R | H40: =+'Results Input'!I25 -> 0 | I40: =+'Results Input'!J25 -> X | J40: =VLOOKUP(I40,Results!$N$2:$O$9,2,FALSE) -> No Match
B41: =CONCATENATE(E41,F41) -> 6MAP13 | C41: =CONCATENATE(E41,I41) -> 6MAP16 | D41: =+D37 -> 46324 | E41: =+E37 -> 6 | F41: =+I37 -> MAP13 | G41: =VLOOKUP(F41,Results!$N$2:$O$9,2,FALSE) -> The Smites | H41: =+K37 -> 0 | I41: =+F37 -> MAP16 | J41: =VLOOKUP(I41,Results!$N$2:$O$9,2,FALSE) -> Donuts | K41: =+H37 -> 0
B42: =CONCATENATE(E42,F42) -> 6MAP17 | C42: =CONCATENATE(E42,I42) -> 6MAP15 | D42: =+D37 -> 46324 | E42: =+E37 -> 6 | F42: =+I38 -> MAP17 | G42: =VLOOKUP(F42,Results!$N$2:$O$9,2,FALSE) -> Dolly Mixtures | H42: =+K38 -> 0 | I42: =+F38 -> MAP15 | J42: =VLOOKUP(I42,Results!$N$2:$O$9,2,FALSE) -> F.W.Golf | K42: =+H38 -> 0
B43: =CONCATENATE(E43,F43) -> 6MAP14 | C43: =CONCATENATE(E43,I43) -> 6MAP11 | D43: =+D37 -> 46324 | E43: =+E37 -> 6 | F43: =+I39 -> MAP14 | G43: =VLOOKUP(F43,Results!$N$2:$O$9,2,FALSE) -> Wizards | H43: =+K39 -> 0 | I43: =+F39 -> MAP11 | J43: =VLOOKUP(I43,Results!$N$2:$O$9,2,FALSE) -> Banana Skins | K43: =+H39 -> 0
B44: =CONCATENATE(E44,F44) -> 7MAP14 | C44: =CONCATENATE(E44,I44) -> 7MAP16 | D44: =+'Results Input'!E26 -> 46338 | E44: =+'Results Input'!F26 -> 7 | F44: =+'Results Input'!G26 -> MAP14 | G44: =VLOOKUP(F44,Results!$N$2:$O$9,2,FALSE) -> Wizards | H44: =+'Results Input'!I26 -> 0 | I44: =+'Results Input'!J26 -> MAP16 | J44: =VLOOKUP(I44,Results!$N$2:$O$9,2,FALSE) -> Donuts | K44: =+'Results Input'!L26 -> 0
B45: =CONCATENATE(E45,F45) -> 7MAP15 | C45: =CONCATENATE(E45,I45) -> 7MAP13 | D45: =+D44 -> 46338 | E45: =+E44 -> 7 | F45: =+'Results Input'!G27 -> MAP15 | G45: =VLOOKUP(F45,Results!$N$2:$O$9,2,FALSE) -> F.W.Golf | H45: =+'Results Input'!I27 -> 0 | I45: =+'Results Input'!J27 -> MAP13 | J45: =VLOOKUP(I45,Results!$N$2:$O$9,2,FALSE) -> The Smites | K45: =+'Results Input'!L27 -> 0
B46: =CONCATENATE(E46,F46) -> 7MAP17 | C46: =CONCATENATE(E46,I46) -> 7MAP12 | D46: =+D44 -> 46338 | E46: =+E44 -> 7 | F46: =+'Results Input'!G28 -> MAP17 | G46: =VLOOKUP(F46,Results!$N$2:$O$9,2,FALSE) -> Dolly Mixtures | H46: =+'Results Input'!I28 -> 0 | I46: =+'Results Input'!J28 -> MAP12 | J46: =VLOOKUP(I46,Results!$N$2:$O$9,2,FALSE) -> R & R | K46: =+'Results Input'!L28 -> 0
B47: =CONCATENATE(E47,F47) -> 7MAP11 | C47: =CONCATENATE(E47,I47) -> 7X | D47: =+D44 -> 46338 | E47: =+E44 -> 7 | F47: =+'Results Input'!G29 -> MAP11 | G47: =VLOOKUP(F47,Results!$N$2:$O$9,2,FALSE) -> Banana Skins | H47: =+'Results Input'!I29 -> 0 | I47: =+'Results Input'!J29 -> X | J47: =VLOOKUP(I47,Results!$N$2:$O$9,2,FALSE) -> No Match
B48: =CONCATENATE(E48,F48) -> 7MAP16 | C48: =CONCATENATE(E48,I48) -> 7MAP14 | D48: =+D44 -> 46338 | E48: =+E44 -> 7 | F48: =+I44 -> MAP16 | G48: =VLOOKUP(F48,Results!$N$2:$O$9,2,FALSE) -> Donuts | H48: =+K44 -> 0 | I48: =+F44 -> MAP14 | J48: =VLOOKUP(I48,Results!$N$2:$O$9,2,FALSE) -> Wizards | K48: =+H44 -> 0
B49: =CONCATENATE(E49,F49) -> 7MAP13 | C49: =CONCATENATE(E49,I49) -> 7MAP15 | D49: =+D44 -> 46338 | E49: =+E44 -> 7 | F49: =+I45 -> MAP13 | G49: =VLOOKUP(F49,Results!$N$2:$O$9,2,FALSE) -> The Smites | H49: =+K45 -> 0 | I49: =+F45 -> MAP15 | J49: =VLOOKUP(I49,Results!$N$2:$O$9,2,FALSE) -> F.W.Golf | K49: =+H45 -> 0
B50: =CONCATENATE(E50,F50) -> 7MAP12 | C50: =CONCATENATE(E50,I50) -> 7MAP17 | D50: =+D44 -> 46338 | E50: =+E44 -> 7 | F50: =+I46 -> MAP12 | G50: =VLOOKUP(F50,Results!$N$2:$O$9,2,FALSE) -> R & R | H50: =+K46 -> 0 | I50: =+F46 -> MAP17 | J50: =VLOOKUP(I50,Results!$N$2:$O$9,2,FALSE) -> Dolly Mixtures | K50: =+H46 -> 0
B51: =CONCATENATE(E51,F51) -> 8MAP14 | C51: =CONCATENATE(E51,I51) -> 8MAP13 | D51: =+'Results Input'!E30 -> 46343 | E51: =+'Results Input'!F30 -> 8 | F51: =+'Results Input'!G30 -> MAP14 | G51: =VLOOKUP(F51,Results!$N$2:$O$9,2,FALSE) -> Wizards | H51: =+'Results Input'!I30 -> 0 | I51: =+'Results Input'!J30 -> MAP13 | J51: =VLOOKUP(I51,Results!$N$2:$O$9,2,FALSE) -> The Smites | K51: =+'Results Input'!L30 -> 0
B52: =CONCATENATE(E52,F52) -> 8MAP16 | C52: =CONCATENATE(E52,I52) -> 8MAP15 | D52: =+D51 -> 46343 | E52: =+E51 -> 8 | F52: =+'Results Input'!G31 -> MAP16 | G52: =VLOOKUP(F52,Results!$N$2:$O$9,2,FALSE) -> Donuts | H52: =+'Results Input'!I31 -> 0 | I52: =+'Results Input'!J31 -> MAP15 | J52: =VLOOKUP(I52,Results!$N$2:$O$9,2,FALSE) -> F.W.Golf | K52: =+'Results Input'!L31 -> 0
B53: =CONCATENATE(E53,F53) -> 8MAP12 | C53: =CONCATENATE(E53,I53) -> 8MAP11 | D53: =+D51 -> 46343 | E53: =+E51 -> 8 | F53: =+'Results Input'!G32 -> MAP12 | G53: =VLOOKUP(F53,Results!$N$2:$O$9,2,FALSE) -> R & R | H53: =+'Results Input'!I32 -> 0 | I53: =+'Results Input'!J32 -> MAP11 | J53: =VLOOKUP(I53,Results!$N$2:$O$9,2,FALSE) -> Banana Skins | K53: =+'Results Input'!L32 -> 0
B54: =CONCATENATE(E54,F54) -> 8MAP17 | C54: =CONCATENATE(E54,I54) -> 8X | D54: =+D51 -> 46343 | E54: =+E51 -> 8 | F54: =+'Results Input'!G33 -> MAP17 | G54: =VLOOKUP(F54,Results!$N$2:$O$9,2,FALSE) -> Dolly Mixtures | H54: =+'Results Input'!I33 -> 0 | I54: =+'Results Input'!J33 -> X | J54: =VLOOKUP(I54,Results!$N$2:$O$9,2,FALSE) -> No Match
B55: =CONCATENATE(E55,F55) -> 8MAP13 | C55: =CONCATENATE(E55,I55) -> 8MAP14 | D55: =+D51 -> 46343 | E55: =+E51 -> 8 | F55: =+I51 -> MAP13 | G55: =VLOOKUP(F55,Results!$N$2:$O$9,2,FALSE) -> The Smites | H55: =+K51 -> 0 | I55: =+F51 -> MAP14 | J55: =VLOOKUP(I55,Results!$N$2:$O$9,2,FALSE) -> Wizards | K55: =+H51 -> 0
B56: =CONCATENATE(E56,F56) -> 8MAP15 | C56: =CONCATENATE(E56,I56) -> 8MAP16 | D56: =+D51 -> 46343 | E56: =+E51 -> 8 | F56: =+I52 -> MAP15 | G56: =VLOOKUP(F56,Results!$N$2:$O$9,2,FALSE) -> F.W.Golf | H56: =+K52 -> 0 | I56: =+F52 -> MAP16 | J56: =VLOOKUP(I56,Results!$N$2:$O$9,2,FALSE) -> Donuts | K56: =+H52 -> 0
B57: =CONCATENATE(E57,F57) -> 8MAP11 | C57: =CONCATENATE(E57,I57) -> 8MAP12 | D57: =+D51 -> 46343 | E57: =+E51 -> 8 | F57: =+I53 -> MAP11 | G57: =VLOOKUP(F57,Results!$N$2:$O$9,2,FALSE) -> Banana Skins | H57: =+K53 -> 0 | I57: =+F53 -> MAP12 | J57: =VLOOKUP(I57,Results!$N$2:$O$9,2,FALSE) -> R & R | K57: =+H53 -> 0
B58: =CONCATENATE(E58,F58) -> 9MAP13 | C58: =CONCATENATE(E58,I58) -> 9MAP12 | D58: =+'Results Input'!E34 -> 46359 | E58: =+'Results Input'!F34 -> 9 | F58: =+'Results Input'!G34 -> MAP13 | G58: =VLOOKUP(F58,Results!$N$2:$O$9,2,FALSE) -> The Smites | H58: =+'Results Input'!I34 -> 0 | I58: =+'Results Input'!J34 -> MAP12 | J58: =VLOOKUP(I58,Results!$N$2:$O$9,2,FALSE) -> R & R | K58: =+'Results Input'!L34 -> 0
B59: =CONCATENATE(E59,F59) -> 9MAP11 | C59: =CONCATENATE(E59,I59) -> 9MAP17 | D59: =+D58 -> 46359 | E59: =+E58 -> 9 | F59: =+'Results Input'!G35 -> MAP11 | G59: =VLOOKUP(F59,Results!$N$2:$O$9,2,FALSE) -> Banana Skins | H59: =+'Results Input'!I35 -> 0 | I59: =+'Results Input'!J35 -> MAP17 | J59: =VLOOKUP(I59,Results!$N$2:$O$9,2,FALSE) -> Dolly Mixtures | K59: =+'Results Input'!L35 -> 0
B60: =CONCATENATE(E60,F60) -> 9MAP15 | C60: =CONCATENATE(E60,I60) -> 9MAP14 | D60: =+D58 -> 46359 | E60: =+E58 -> 9 | F60: =+'Results Input'!G36 -> MAP15 | G60: =VLOOKUP(F60,Results!$N$2:$O$9,2,FALSE) -> F.W.Golf | H60: =+'Results Input'!I36 -> 0 | I60: =+'Results Input'!J36 -> MAP14 | J60: =VLOOKUP(I60,Results!$N$2:$O$9,2,FALSE) -> Wizards | K60: =+'Results Input'!L36 -> 0
B61: =CONCATENATE(E61,F61) -> 9MAP16 | C61: =CONCATENATE(E61,I61) -> 9X | D61: =+D58 -> 46359 | E61: =+E58 -> 9 | F61: =+'Results Input'!G37 -> MAP16 | G61: =VLOOKUP(F61,Results!$N$2:$O$9,2,FALSE) -> Donuts | H61: =+'Results Input'!I37 -> 0 | I61: =+'Results Input'!J37 -> X | J61: =VLOOKUP(I61,Results!$N$2:$O$9,2,FALSE) -> No Match
B62: =CONCATENATE(E62,F62) -> 9MAP12 | C62: =CONCATENATE(E62,I62) -> 9MAP13 | D62: =+D58 -> 46359 | E62: =+E58 -> 9 | F62: =+I58 -> MAP12 | G62: =VLOOKUP(F62,Results!$N$2:$O$9,2,FALSE) -> R & R | H62: =+K58 -> 0 | I62: =+F58 -> MAP13 | J62: =VLOOKUP(I62,Results!$N$2:$O$9,2,FALSE) -> The Smites | K62: =+H58 -> 0
B63: =CONCATENATE(E63,F63) -> 9MAP17 | C63: =CONCATENATE(E63,I63) -> 9MAP11 | D63: =+D58 -> 46359 | E63: =+E58 -> 9 | F63: =+I59 -> MAP17 | G63: =VLOOKUP(F63,Results!$N$2:$O$9,2,FALSE) -> Dolly Mixtures | H63: =+K59 -> 0 | I63: =+F59 -> MAP11 | J63: =VLOOKUP(I63,Results!$N$2:$O$9,2,FALSE) -> Banana Skins | K63: =+H59 -> 0
B64: =CONCATENATE(E64,F64) -> 9MAP14 | C64: =CONCATENATE(E64,I64) -> 9MAP15 | D64: =+D58 -> 46359 | E64: =+E58 -> 9 | F64: =+I60 -> MAP14 | G64: =VLOOKUP(F64,Results!$N$2:$O$9,2,FALSE) -> Wizards | H64: =+K60 -> 0 | I64: =+F60 -> MAP15 | J64: =VLOOKUP(I64,Results!$N$2:$O$9,2,FALSE) -> F.W.Golf | K64: =+H60 -> 0
B65: =CONCATENATE(E65,F65) -> 10MAP12 | C65: =CONCATENATE(E65,I65) -> 10MAP14 | D65: =+'Results Input'!E38 -> 46373 | E65: =+'Results Input'!F38 -> 10 | F65: =+'Results Input'!G38 -> MAP12 | G65: =VLOOKUP(F65,Results!$N$2:$O$9,2,FALSE) -> R & R | H65: =+'Results Input'!I38 -> 0 | I65: =+'Results Input'!J38 -> MAP14 | J65: =VLOOKUP(I65,Results!$N$2:$O$9,2,FALSE) -> Wizards | K65: =+'Results Input'!L38 -> 0
B66: =CONCATENATE(E66,F66) -> 10MAP13 | C66: =CONCATENATE(E66,I66) -> 10MAP11 | D66: =+D65 -> 46373 | E66: =+E65 -> 10 | F66: =+'Results Input'!G39 -> MAP13 | G66: =VLOOKUP(F66,Results!$N$2:$O$9,2,FALSE) -> The Smites | H66: =+'Results Input'!I39 -> 0 | I66: =+'Results Input'!J39 -> MAP11 | J66: =VLOOKUP(I66,Results!$N$2:$O$9,2,FALSE) -> Banana Skins | K66: =+'Results Input'!L39 -> 0
B67: =CONCATENATE(E67,F67) -> 10MAP17 | C67: =CONCATENATE(E67,I67) -> 10MAP16 | D67: =+D65 -> 46373 | E67: =+E65 -> 10 | F67: =+'Results Input'!G40 -> MAP17 | G67: =VLOOKUP(F67,Results!$N$2:$O$9,2,FALSE) -> Dolly Mixtures | H67: =+'Results Input'!I40 -> 0 | I67: =+'Results Input'!J40 -> MAP16 | J67: =VLOOKUP(I67,Results!$N$2:$O$9,2,FALSE) -> Donuts | K67: =+'Results Input'!L40 -> 0
B68: =CONCATENATE(E68,F68) -> 10MAP15 | C68: =CONCATENATE(E68,I68) -> 10X | D68: =+D65 -> 46373 | E68: =+E65 -> 10 | F68: =+'Results Input'!G41 -> MAP15 | G68: =VLOOKUP(F68,Results!$N$2:$O$9,2,FALSE) -> F.W.Golf | H68: =+'Results Input'!I41 -> 0 | I68: =+'Results Input'!J41 -> X | J68: =VLOOKUP(I68,Results!$N$2:$O$9,2,FALSE) -> No Match
B69: =CONCATENATE(E69,F69) -> 10MAP14 | C69: =CONCATENATE(E69,I69) -> 10MAP12 | D69: =+D65 -> 46373 | E69: =+E65 -> 10 | F69: =+I65 -> MAP14 | G69: =VLOOKUP(F69,Results!$N$2:$O$9,2,FALSE) -> Wizards | H69: =+K65 -> 0 | I69: =+F65 -> MAP12 | J69: =VLOOKUP(I69,Results!$N$2:$O$9,2,FALSE) -> R & R | K69: =+H65 -> 0
B70: =CONCATENATE(E70,F70) -> 10MAP11 | C70: =CONCATENATE(E70,I70) -> 10MAP13 | D70: =+D65 -> 46373 | E70: =+E65 -> 10 | F70: =+I66 -> MAP11 | G70: =VLOOKUP(F70,Results!$N$2:$O$9,2,FALSE) -> Banana Skins | H70: =+K66 -> 0 | I70: =+F66 -> MAP13 | J70: =VLOOKUP(I70,Results!$N$2:$O$9,2,FALSE) -> The Smites | K70: =+H66 -> 0
B71: =CONCATENATE(E71,F71) -> 10MAP16 | C71: =CONCATENATE(E71,I71) -> 10MAP17 | D71: =+D65 -> 46373 | E71: =+E65 -> 10 | F71: =+I67 -> MAP16 | G71: =VLOOKUP(F71,Results!$N$2:$O$9,2,FALSE) -> Donuts | H71: =+K67 -> 0 | I71: =+F67 -> MAP17 | J71: =VLOOKUP(I71,Results!$N$2:$O$9,2,FALSE) -> Dolly Mixtures | K71: =+H67 -> 0
B72: =CONCATENATE(E72,F72) -> 11MAP16 | C72: =CONCATENATE(E72,I72) -> 11MAP12 | D72: =+'Results Input'!E42 -> 46394 | E72: =+'Results Input'!F42 -> 11 | F72: =+'Results Input'!G42 -> MAP16 | G72: =VLOOKUP(F72,Results!$N$2:$O$9,2,FALSE) -> Donuts | H72: =+'Results Input'!I42 -> 0 | I72: =+'Results Input'!J42 -> MAP12 | J72: =VLOOKUP(I72,Results!$N$2:$O$9,2,FALSE) -> R & R | K72: =+'Results Input'!L42 -> 0
B73: =CONCATENATE(E73,F73) -> 11MAP11 | C73: =CONCATENATE(E73,I73) -> 11MAP15 | D73: =+D72 -> 46394 | E73: =+E72 -> 11 | F73: =+'Results Input'!G43 -> MAP11 | G73: =VLOOKUP(F73,Results!$N$2:$O$9,2,FALSE) -> Banana Skins | H73: =+'Results Input'!I43 -> 0 | I73: =+'Results Input'!J43 -> MAP15 | J73: =VLOOKUP(I73,Results!$N$2:$O$9,2,FALSE) -> F.W.Golf | K73: =+'Results Input'!L43 -> 0
B74: =CONCATENATE(E74,F74) -> 11MAP17 | C74: =CONCATENATE(E74,I74) -> 11MAP13 | D74: =+D72 -> 46394 | E74: =+E72 -> 11 | F74: =+'Results Input'!G44 -> MAP17 | G74: =VLOOKUP(F74,Results!$N$2:$O$9,2,FALSE) -> Dolly Mixtures | H74: =+'Results Input'!I44 -> 0 | I74: =+'Results Input'!J44 -> MAP13 | J74: =VLOOKUP(I74,Results!$N$2:$O$9,2,FALSE) -> The Smites | K74: =+'Results Input'!L44 -> 0
B75: =CONCATENATE(E75,F75) -> 11MAP14 | C75: =CONCATENATE(E75,I75) -> 11X | D75: =+D72 -> 46394 | E75: =+E72 -> 11 | F75: =+'Results Input'!G45 -> MAP14 | G75: =VLOOKUP(F75,Results!$N$2:$O$9,2,FALSE) -> Wizards | H75: =+'Results Input'!I45 -> 0 | I75: =+'Results Input'!J45 -> X | J75: =VLOOKUP(I75,Results!$N$2:$O$9,2,FALSE) -> No Match
B76: =CONCATENATE(E76,F76) -> 11MAP12 | C76: =CONCATENATE(E76,I76) -> 11MAP16 | D76: =+D72 -> 46394 | E76: =+E72 -> 11 | F76: =+I72 -> MAP12 | G76: =VLOOKUP(F76,Results!$N$2:$O$9,2,FALSE) -> R & R | H76: =+K72 -> 0 | I76: =+F72 -> MAP16 | J76: =VLOOKUP(I76,Results!$N$2:$O$9,2,FALSE) -> Donuts | K76: =+H72 -> 0
B77: =CONCATENATE(E77,F77) -> 11MAP15 | C77: =CONCATENATE(E77,I77) -> 11MAP11 | D77: =+D72 -> 46394 | E77: =+E72 -> 11 | F77: =+I73 -> MAP15 | G77: =VLOOKUP(F77,Results!$N$2:$O$9,2,FALSE) -> F.W.Golf | H77: =+K73 -> 0 | I77: =+F73 -> MAP11 | J77: =VLOOKUP(I77,Results!$N$2:$O$9,2,FALSE) -> Banana Skins | K77: =+H73 -> 0
B78: =CONCATENATE(E78,F78) -> 11MAP13 | C78: =CONCATENATE(E78,I78) -> 11MAP17 | D78: =+D72 -> 46394 | E78: =+E72 -> 11 | F78: =+I74 -> MAP13 | G78: =VLOOKUP(F78,Results!$N$2:$O$9,2,FALSE) -> The Smites | H78: =+K74 -> 0 | I78: =+F74 -> MAP17 | J78: =VLOOKUP(I78,Results!$N$2:$O$9,2,FALSE) -> Dolly Mixtures | K78: =+H74 -> 0
B79: =CONCATENATE(E79,F79) -> 12MAP14 | C79: =CONCATENATE(E79,I79) -> 12MAP17 | D79: =+'Results Input'!E46 -> 46401 | E79: =+'Results Input'!F46 -> 12 | F79: =+'Results Input'!G46 -> MAP14 | G79: =VLOOKUP(F79,Results!$N$2:$O$9,2,FALSE) -> Wizards | H79: =+'Results Input'!I46 -> 0 | I79: =+'Results Input'!J46 -> MAP17 | J79: =VLOOKUP(I79,Results!$N$2:$O$9,2,FALSE) -> Dolly Mixtures | K79: =+'Results Input'!L46 -> 0
B80: =CONCATENATE(E80,F80) -> 12MAP15 | C80: =CONCATENATE(E80,I80) -> 12MAP12 | D80: =+D79 -> 46401 | E80: =+E79 -> 12 | F80: =+'Results Input'!G47 -> MAP15 | G80: =VLOOKUP(F80,Results!$N$2:$O$9,2,FALSE) -> F.W.Golf | H80: =+'Results Input'!I47 -> 0 | I80: =+'Results Input'!J47 -> MAP12 | J80: =VLOOKUP(I80,Results!$N$2:$O$9,2,FALSE) -> R & R | K80: =+'Results Input'!L47 -> 0
B81: =CONCATENATE(E81,F81) -> 12MAP11 | C81: =CONCATENATE(E81,I81) -> 12MAP16 | D81: =+D79 -> 46401 | E81: =+E79 -> 12 | F81: =+'Results Input'!G48 -> MAP11 | G81: =VLOOKUP(F81,Results!$N$2:$O$9,2,FALSE) -> Banana Skins | H81: =+'Results Input'!I48 -> 0 | I81: =+'Results Input'!J48 -> MAP16 | J81: =VLOOKUP(I81,Results!$N$2:$O$9,2,FALSE) -> Donuts | K81: =+'Results Input'!L48 -> 0
B82: =CONCATENATE(E82,F82) -> 12MAP13 | C82: =CONCATENATE(E82,I82) -> 12X | D82: =+D79 -> 46401 | E82: =+E79 -> 12 | F82: =+'Results Input'!G49 -> MAP13 | G82: =VLOOKUP(F82,Results!$N$2:$O$9,2,FALSE) -> The Smites | H82: =+'Results Input'!I49 -> 0 | I82: =+'Results Input'!J49 -> X | J82: =VLOOKUP(I82,Results!$N$2:$O$9,2,FALSE) -> No Match
B83: =CONCATENATE(E83,F83) -> 12MAP17 | C83: =CONCATENATE(E83,I83) -> 12MAP14 | D83: =+D79 -> 46401 | E83: =+E79 -> 12 | F83: =+I79 -> MAP17 | G83: =VLOOKUP(F83,Results!$N$2:$O$9,2,FALSE) -> Dolly Mixtures | H83: =+K79 -> 0 | I83: =+F79 -> MAP14 | J83: =VLOOKUP(I83,Results!$N$2:$O$9,2,FALSE) -> Wizards | K83: =+H79 -> 0
B84: =CONCATENATE(E84,F84) -> 12MAP12 | C84: =CONCATENATE(E84,I84) -> 12MAP15 | D84: =+D79 -> 46401 | E84: =+E79 -> 12 | F84: =+I80 -> MAP12 | G84: =VLOOKUP(F84,Results!$N$2:$O$9,2,FALSE) -> R & R | H84: =+K80 -> 0 | I84: =+F80 -> MAP15 | J84: =VLOOKUP(I84,Results!$N$2:$O$9,2,FALSE) -> F.W.Golf | K84: =+H80 -> 0
B85: =CONCATENATE(E85,F85) -> 12MAP16 | C85: =CONCATENATE(E85,I85) -> 12MAP11 | D85: =+D79 -> 46401 | E85: =+E79 -> 12 | F85: =+I81 -> MAP16 | G85: =VLOOKUP(F85,Results!$N$2:$O$9,2,FALSE) -> Donuts | H85: =+K81 -> 0 | I85: =+F81 -> MAP11 | J85: =VLOOKUP(I85,Results!$N$2:$O$9,2,FALSE) -> Banana Skins | K85: =+H81 -> 0
B86: =CONCATENATE(E86,F86) -> 13MAP17 | C86: =CONCATENATE(E86,I86) -> 13MAP15 | D86: =+'Results Input'!E50 -> 46408 | E86: =+'Results Input'!F50 -> 13 | F86: =+'Results Input'!G50 -> MAP17 | G86: =VLOOKUP(F86,Results!$N$2:$O$9,2,FALSE) -> Dolly Mixtures | H86: =+'Results Input'!I50 -> 0 | I86: =+'Results Input'!J50 -> MAP15 | J86: =VLOOKUP(I86,Results!$N$2:$O$9,2,FALSE) -> F.W.Golf | K86: =+'Results Input'!L50 -> 0
B87: =CONCATENATE(E87,F87) -> 13MAP13 | C87: =CONCATENATE(E87,I87) -> 13MAP16 | D87: =+D86 -> 46408 | E87: =+E86 -> 13 | F87: =+'Results Input'!G51 -> MAP13 | G87: =VLOOKUP(F87,Results!$N$2:$O$9,2,FALSE) -> The Smites | H87: =+'Results Input'!I51 -> 0 | I87: =+'Results Input'!J51 -> MAP16 | J87: =VLOOKUP(I87,Results!$N$2:$O$9,2,FALSE) -> Donuts | K87: =+'Results Input'!L51 -> 0
B88: =CONCATENATE(E88,F88) -> 13MAP14 | C88: =CONCATENATE(E88,I88) -> 13MAP11 | D88: =+D86 -> 46408 | E88: =+E86 -> 13 | F88: =+'Results Input'!G52 -> MAP14 | G88: =VLOOKUP(F88,Results!$N$2:$O$9,2,FALSE) -> Wizards | H88: =+'Results Input'!I52 -> 0 | I88: =+'Results Input'!J52 -> MAP11 | J88: =VLOOKUP(I88,Results!$N$2:$O$9,2,FALSE) -> Banana Skins | K88: =+'Results Input'!L52 -> 0
B89: =CONCATENATE(E89,F89) -> 13MAP12 | C89: =CONCATENATE(E89,I89) -> 13X | D89: =+D86 -> 46408 | E89: =+E86 -> 13 | F89: =+'Results Input'!G53 -> MAP12 | G89: =VLOOKUP(F89,Results!$N$2:$O$9,2,FALSE) -> R & R | H89: =+'Results Input'!I53 -> 0 | I89: =+'Results Input'!J53 -> X | J89: =VLOOKUP(I89,Results!$N$2:$O$9,2,FALSE) -> No Match
B90: =CONCATENATE(E90,F90) -> 13MAP15 | C90: =CONCATENATE(E90,I90) -> 13MAP17 | D90: =+D86 -> 46408 | E90: =+E86 -> 13 | F90: =+I86 -> MAP15 | G90: =VLOOKUP(F90,Results!$N$2:$O$9,2,FALSE) -> F.W.Golf | H90: =+K86 -> 0 | I90: =+F86 -> MAP17 | J90: =VLOOKUP(I90,Results!$N$2:$O$9,2,FALSE) -> Dolly Mixtures | K90: =+H86 -> 0
B91: =CONCATENATE(E91,F91) -> 13MAP16 | C91: =CONCATENATE(E91,I91) -> 13MAP13 | D91: =+D86 -> 46408 | E91: =+E86 -> 13 | F91: =+I87 -> MAP16 | G91: =VLOOKUP(F91,Results!$N$2:$O$9,2,FALSE) -> Donuts | H91: =+K87 -> 0 | I91: =+F87 -> MAP13 | J91: =VLOOKUP(I91,Results!$N$2:$O$9,2,FALSE) -> The Smites | K91: =+H87 -> 0
B92: =CONCATENATE(E92,F92) -> 13MAP11 | C92: =CONCATENATE(E92,I92) -> 13MAP14 | D92: =+D86 -> 46408 | E92: =+E86 -> 13 | F92: =+I88 -> MAP11 | G92: =VLOOKUP(F92,Results!$N$2:$O$9,2,FALSE) -> Banana Skins | H92: =+K88 -> 0 | I92: =+F88 -> MAP14 | J92: =VLOOKUP(I92,Results!$N$2:$O$9,2,FALSE) -> Wizards | K92: =+H88 -> 0
B93: =CONCATENATE(E93,F93) -> 14MAP16 | C93: =CONCATENATE(E93,I93) -> 14MAP14 | D93: =+'Results Input'!E54 -> 46443 | E93: =+'Results Input'!F54 -> 14 | F93: =+'Results Input'!G54 -> MAP16 | G93: =VLOOKUP(F93,Results!$N$2:$O$9,2,FALSE) -> Donuts | H93: =+'Results Input'!I54 -> 0 | I93: =+'Results Input'!J54 -> MAP14 | J93: =VLOOKUP(I93,Results!$N$2:$O$9,2,FALSE) -> Wizards | K93: =+'Results Input'!L54 -> 0
B94: =CONCATENATE(E94,F94) -> 14MAP12 | C94: =CONCATENATE(E94,I94) -> 14MAP17 | D94: =+D93 -> 46443 | E94: =+E93 -> 14 | F94: =+'Results Input'!G55 -> MAP12 | G94: =VLOOKUP(F94,Results!$N$2:$O$9,2,FALSE) -> R & R | H94: =+'Results Input'!I55 -> 0 | I94: =+'Results Input'!J55 -> MAP17 | J94: =VLOOKUP(I94,Results!$N$2:$O$9,2,FALSE) -> Dolly Mixtures | K94: =+'Results Input'!L55 -> 0
B95: =CONCATENATE(E95,F95) -> 14MAP15 | C95: =CONCATENATE(E95,I95) -> 14MAP13 | D95: =+D93 -> 46443 | E95: =+E93 -> 14 | F95: =+'Results Input'!G56 -> MAP15 | G95: =VLOOKUP(F95,Results!$N$2:$O$9,2,FALSE) -> F.W.Golf | H95: =+'Results Input'!I56 -> 0 | I95: =+'Results Input'!J56 -> MAP13 | J95: =VLOOKUP(I95,Results!$N$2:$O$9,2,FALSE) -> The Smites | K95: =+'Results Input'!L56 -> 0
B96: =CONCATENATE(E96,F96) -> 14MAP11 | C96: =CONCATENATE(E96,I96) -> 14X | D96: =+D93 -> 46443 | E96: =+E93 -> 14 | F96: =+'Results Input'!G57 -> MAP11 | G96: =VLOOKUP(F96,Results!$N$2:$O$9,2,FALSE) -> Banana Skins | H96: =+'Results Input'!I57 -> 0 | I96: =+'Results Input'!J57 -> X | J96: =VLOOKUP(I96,Results!$N$2:$O$9,2,FALSE) -> No Match
B97: =CONCATENATE(E97,F97) -> 14MAP14 | C97: =CONCATENATE(E97,I97) -> 14MAP16 | D97: =+D93 -> 46443 | E97: =+E93 -> 14 | F97: =+I93 -> MAP14 | G97: =VLOOKUP(F97,Results!$N$2:$O$9,2,FALSE) -> Wizards | H97: =+K93 -> 0 | I97: =+F93 -> MAP16 | J97: =VLOOKUP(I97,Results!$N$2:$O$9,2,FALSE) -> Donuts | K97: =+H93 -> 0
B98: =CONCATENATE(E98,F98) -> 14MAP17 | C98: =CONCATENATE(E98,I98) -> 14MAP12 | D98: =+D93 -> 46443 | E98: =+E93 -> 14 | F98: =+I94 -> MAP17 | G98: =VLOOKUP(F98,Results!$N$2:$O$9,2,FALSE) -> Dolly Mixtures | H98: =+K94 -> 0 | I98: =+F94 -> MAP12 | J98: =VLOOKUP(I98,Results!$N$2:$O$9,2,FALSE) -> R & R | K98: =+H94 -> 0
B99: =CONCATENATE(E99,F99) -> 14MAP13 | C99: =CONCATENATE(E99,I99) -> 14MAP15 | D99: =+D93 -> 46443 | E99: =+E93 -> 14 | F99: =+I95 -> MAP13 | G99: =VLOOKUP(F99,Results!$N$2:$O$9,2,FALSE) -> The Smites | H99: =+K95 -> 0 | I99: =+F95 -> MAP15 | J99: =VLOOKUP(I99,Results!$N$2:$O$9,2,FALSE) -> F.W.Golf | K99: =+H95 -> 0
B100: =CONCATENATE(E100,F100) -> 15MAP15 | C100: =CONCATENATE(E100,I100) -> 15MAP16 | D100: =+'Results Input'!E58 -> 46450 | E100: =+'Results Input'!F58 -> 15 | F100: =+'Results Input'!G58 -> MAP15 | G100: =VLOOKUP(F100,Results!$N$2:$O$9,2,FALSE) -> F.W.Golf | H100: =+'Results Input'!I58 -> 0 | I100: =+'Results Input'!J58 -> MAP16 | J100: =VLOOKUP(I100,Results!$N$2:$O$9,2,FALSE) -> Donuts | K100: =+'Results Input'!L58 -> 0
...

Sheet Results Input
F1: Week | G1: 3
B2: =CONCATENATE(F2,G2) -> 1MAP11 | C2: =CONCATENATE(F2,J2) -> 1MAP12 | E2: 46282 | F2: 1 | G2: MAP11 | H2: =VLOOKUP(G2,Results!$N$2:$O$9,2,FALSE) -> Banana Skins | I2: 13 | J2: MAP12 | K2: =VLOOKUP(J2,Results!$N$2:$O$9,2,FALSE) -> R & R | L2: 12
B3: =CONCATENATE(F3,G3) -> 1MAP15 | C3: =CONCATENATE(F3,J3) -> 1MAP16 | E3: =+E2 -> 46282 | F3: =+F2 -> 1 | G3: MAP15 | H3: =VLOOKUP(G3,Results!$N$2:$O$9,2,FALSE) -> F.W.Golf | I3: 16 | J3: MAP16 | K3: =VLOOKUP(J3,Results!$N$2:$O$9,2,FALSE) -> Donuts | L3: 4
B4: =CONCATENATE(F4,G4) -> 1MAP13 | C4: =CONCATENATE(F4,J4) -> 1MAP14 | E4: =+E2 -> 46282 | F4: =+F2 -> 1 | G4: MAP13 | H4: =VLOOKUP(G4,Results!$N$2:$O$9,2,FALSE) -> The Smites | I4: 8 | J4: MAP14 | K4: =VLOOKUP(J4,Results!$N$2:$O$9,2,FALSE) -> Wizards | L4: 10
B5: =CONCATENATE(F5,G5) -> 1MAP17 | C5: =CONCATENATE(F5,J5) -> 1X | E5: =+E2 -> 46282 | F5: =+F2 -> 1 | G5: MAP17 | H5: =VLOOKUP(G5,Results!$N$2:$O$9,2,FALSE) -> Dolly Mixtures | J5: X | K5: =VLOOKUP(J5,Results!$N$2:$O$9,2,FALSE) -> No Match
B6: =CONCATENATE(F6,G6) -> 2MAP14 | C6: =CONCATENATE(F6,J6) -> 2MAP15 | E6: 46289 | F6: 2 | G6: MAP14 | H6: =VLOOKUP(G6,Results!$N$2:$O$9,2,FALSE) -> Wizards | I6: 13 | J6: MAP15 | K6: =VLOOKUP(J6,Results!$N$2:$O$9,2,FALSE) -> F.W.Golf | L6: 10
B7: =CONCATENATE(F7,G7) -> 2MAP17 | C7: =CONCATENATE(F7,J7) -> 2MAP11 | E7: =+E6 -> 46289 | F7: =+F6 -> 2 | G7: MAP17 | H7: =VLOOKUP(G7,Results!$N$2:$O$9,2,FALSE) -> Dolly Mixtures | I7: 10 | J7: MAP11 | K7: =VLOOKUP(J7,Results!$N$2:$O$9,2,FALSE) -> Banana Skins | L7: 16
B8: =CONCATENATE(F8,G8) -> 2MAP12 | C8: =CONCATENATE(F8,J8) -> 2MAP13 | E8: =+E6 -> 46289 | F8: =+F6 -> 2 | G8: MAP12 | H8: =VLOOKUP(G8,Results!$N$2:$O$9,2,FALSE) -> R & R | I8: N | J8: MAP13 | K8: =VLOOKUP(J8,Results!$N$2:$O$9,2,FALSE) -> The Smites | L8: N
B9: =CONCATENATE(F9,G9) -> 2MAP16 | C9: =CONCATENATE(F9,J9) -> 2X | E9: =+E6 -> 46289 | F9: =+F6 -> 2 | G9: MAP16 | H9: =VLOOKUP(G9,Results!$N$2:$O$9,2,FALSE) -> Donuts | J9: X | K9: =VLOOKUP(J9,Results!$N$2:$O$9,2,FALSE) -> No Match
B10: =CONCATENATE(F10,G10) -> 3MAP16 | C10: =CONCATENATE(F10,J10) -> 3MAP17 | E10: 46296 | F10: 3 | G10: MAP16 | H10: =VLOOKUP(G10,Results!$N$2:$O$9,2,FALSE) -> Donuts | I10: 7 | J10: MAP17 | K10: =VLOOKUP(J10,Results!$N$2:$O$9,2,FALSE) -> Dolly Mixtures | L10: 15
B11: =CONCATENATE(F11,G11) -> 3MAP11 | C11: =CONCATENATE(F11,J11) -> 3MAP13 | E11: =+E10 -> 46296 | F11: =+F10 -> 3 | G11: MAP11 | H11: =VLOOKUP(G11,Results!$N$2:$O$9,2,FALSE) -> Banana Skins | I11: 4 | J11: MAP13 | K11: =VLOOKUP(J11,Results!$N$2:$O$9,2,FALSE) -> The Smites | L11: 13
B12: =CONCATENATE(F12,G12) -> 3MAP14 | C12: =CONCATENATE(F12,J12) -> 3MAP12 | E12: =+E10 -> 46296 | F12: =+F10 -> 3 | G12: MAP14 | H12: =VLOOKUP(G12,Results!$N$2:$O$9,2,FALSE) -> Wizards | I12: 10 | J12: MAP12 | K12: =VLOOKUP(J12,Results!$N$2:$O$9,2,FALSE) -> R & R | L12: 13
B13: =CONCATENATE(F13,G13) -> 3MAP15 | C13: =CONCATENATE(F13,J13) -> 3X | E13: =+E10 -> 46296 | F13: =+F10 -> 3 | G13: MAP15 | H13: =VLOOKUP(G13,Results!$N$2:$O$9,2,FALSE) -> F.W.Golf | J13: X | K13: =VLOOKUP(J13,Results!$N$2:$O$9,2,FALSE) -> No Match
B14: =CONCATENATE(F14,G14) -> 4MAP12 | C14: =CONCATENATE(F14,J14) -> 4MAP16 | E14: 46303 | F14: 4 | G14: MAP12 | H14: =VLOOKUP(G14,Results!$N$2:$O$9,2,FALSE) -> R & R | J14: MAP16 | K14: =VLOOKUP(J14,Results!$N$2:$O$9,2,FALSE) -> Donuts
B15: =CONCATENATE(F15,G15) -> 4MAP13 | C15: =CONCATENATE(F15,J15) -> 4MAP17 | E15: =+E14 -> 46303 | F15: =+F14 -> 4 | G15: MAP13 | H15: =VLOOKUP(G15,Results!$N$2:$O$9,2,FALSE) -> The Smites | J15: MAP17 | K15: =VLOOKUP(J15,Results!$N$2:$O$9,2,FALSE) -> Dolly Mixtures
B16: =CONCATENATE(F16,G16) -> 4MAP15 | C16: =CONCATENATE(F16,J16) -> 4MAP11 | E16: =+E14 -> 46303 | F16: =+F14 -> 4 | G16: MAP15 | H16: =VLOOKUP(G16,Results!$N$2:$O$9,2,FALSE) -> F.W.Golf | J16: MAP11 | K16: =VLOOKUP(J16,Results!$N$2:$O$9,2,FALSE) -> Banana Skins
B17: =CONCATENATE(F17,G17) -> 4MAP14 | C17: =CONCATENATE(F17,J17) -> 4X | E17: =+E14 -> 46303 | F17: =+F14 -> 4 | G17: MAP14 | H17: =VLOOKUP(G17,Results!$N$2:$O$9,2,FALSE) -> Wizards | J17: X | K17: =VLOOKUP(J17,Results!$N$2:$O$9,2,FALSE) -> No Match
B18: =CONCATENATE(F18,G18) -> 5MAP16 | C18: =CONCATENATE(F18,J18) -> 5MAP11 | E18: 46317 | F18: 5 | G18: MAP16 | H18: =VLOOKUP(G18,Results!$N$2:$O$9,2,FALSE) -> Donuts | J18: MAP11 | K18: =VLOOKUP(J18,Results!$N$2:$O$9,2,FALSE) -> Banana Skins
B19: =CONCATENATE(F19,G19) -> 5MAP12 | C19: =CONCATENATE(F19,J19) -> 5MAP15 | E19: =+E18 -> 46317 | F19: =+F18 -> 5 | G19: MAP12 | H19: =VLOOKUP(G19,Results!$N$2:$O$9,2,FALSE) -> R & R | J19: MAP15 | K19: =VLOOKUP(J19,Results!$N$2:$O$9,2,FALSE) -> F.W.Golf
B20: =CONCATENATE(F20,G20) -> 5MAP17 | C20: =CONCATENATE(F20,J20) -> 5MAP14 | E20: =+E18 -> 46317 | F20: =+F18 -> 5 | G20: MAP17 | H20: =VLOOKUP(G20,Results!$N$2:$O$9,2,FALSE) -> Dolly Mixtures | J20: MAP14 | K20: =VLOOKUP(J20,Results!$N$2:$O$9,2,FALSE) -> Wizards
B21: =CONCATENATE(F21,G21) -> 5MAP13 | C21: =CONCATENATE(F21,J21) -> 5X | E21: =+E18 -> 46317 | F21: =+F18 -> 5 | G21: MAP13 | H21: =VLOOKUP(G21,Results!$N$2:$O$9,2,FALSE) -> The Smites | J21: X | K21: =VLOOKUP(J21,Results!$N$2:$O$9,2,FALSE) -> No Match
B22: =CONCATENATE(F22,G22) -> 6MAP16 | C22: =CONCATENATE(F22,J22) -> 6MAP13 | E22: 46324 | F22: 6 | G22: MAP16 | H22: =VLOOKUP(G22,Results!$N$2:$O$9,2,FALSE) -> Donuts | J22: MAP13 | K22: =VLOOKUP(J22,Results!$N$2:$O$9,2,FALSE) -> The Smites
B23: =CONCATENATE(F23,G23) -> 6MAP15 | C23: =CONCATENATE(F23,J23) -> 6MAP17 | E23: =+E22 -> 46324 | F23: =+F22 -> 6 | G23: MAP15 | H23: =VLOOKUP(G23,Results!$N$2:$O$9,2,FALSE) -> F.W.Golf | J23: MAP17 | K23: =VLOOKUP(J23,Results!$N$2:$O$9,2,FALSE) -> Dolly Mixtures
B24: =CONCATENATE(F24,G24) -> 6MAP11 | C24: =CONCATENATE(F24,J24) -> 6MAP14 | E24: =+E22 -> 46324 | F24: =+F22 -> 6 | G24: MAP11 | H24: =VLOOKUP(G24,Results!$N$2:$O$9,2,FALSE) -> Banana Skins | J24: MAP14 | K24: =VLOOKUP(J24,Results!$N$2:$O$9,2,FALSE) -> Wizards
B25: =CONCATENATE(F25,G25) -> 6MAP12 | C25: =CONCATENATE(F25,J25) -> 6X | E25: =+E22 -> 46324 | F25: =+F22 -> 6 | G25: MAP12 | H25: =VLOOKUP(G25,Results!$N$2:$O$9,2,FALSE) -> R & R | J25: X | K25: =VLOOKUP(J25,Results!$N$2:$O$9,2,FALSE) -> No Match
B26: =CONCATENATE(F26,G26) -> 7MAP14 | C26: =CONCATENATE(F26,J26) -> 7MAP16 | E26: 46338 | F26: 7 | G26: MAP14 | H26: =VLOOKUP(G26,Results!$N$2:$O$9,2,FALSE) -> Wizards | J26: MAP16 | K26: =VLOOKUP(J26,Results!$N$2:$O$9,2,FALSE) -> Donuts
B27: =CONCATENATE(F27,G27) -> 7MAP15 | C27: =CONCATENATE(F27,J27) -> 7MAP13 | E27: =+E26 -> 46338 | F27: =+F26 -> 7 | G27: MAP15 | H27: =VLOOKUP(G27,Results!$N$2:$O$9,2,FALSE) -> F.W.Golf | J27: MAP13 | K27: =VLOOKUP(J27,Results!$N$2:$O$9,2,FALSE) -> The Smites
B28: =CONCATENATE(F28,G28) -> 7MAP17 | C28: =CONCATENATE(F28,J28) -> 7MAP12 | E28: =+E26 -> 46338 | F28: =+F26 -> 7 | G28: MAP17 | H28: =VLOOKUP(G28,Results!$N$2:$O$9,2,FALSE) -> Dolly Mixtures | J28: MAP12 | K28: =VLOOKUP(J28,Results!$N$2:$O$9,2,FALSE) -> R & R
B29: =CONCATENATE(F29,G29) -> 7MAP11 | C29: =CONCATENATE(F29,J29) -> 7X | E29: =+E26 -> 46338 | F29: =+F26 -> 7 | G29: MAP11 | H29: =VLOOKUP(G29,Results!$N$2:$O$9,2,FALSE) -> Banana Skins | J29: X | K29: =VLOOKUP(J29,Results!$N$2:$O$9,2,FALSE) -> No Match
B30: =CONCATENATE(F30,G30) -> 8MAP14 | C30: =CONCATENATE(F30,J30) -> 8MAP13 | E30: 46343 | F30: 8 | G30: MAP14 | H30: =VLOOKUP(G30,Results!$N$2:$O$9,2,FALSE) -> Wizards | J30: MAP13 | K30: =VLOOKUP(J30,Results!$N$2:$O$9,2,FALSE) -> The Smites
B31: =CONCATENATE(F31,G31) -> 8MAP16 | C31: =CONCATENATE(F31,J31) -> 8MAP15 | E31: =+E30 -> 46343 | F31: =+F30 -> 8 | G31: MAP16 | H31: =VLOOKUP(G31,Results!$N$2:$O$9,2,FALSE) -> Donuts | J31: MAP15 | K31: =VLOOKUP(J31,Results!$N$2:$O$9,2,FALSE) -> F.W.Golf
B32: =CONCATENATE(F32,G32) -> 8MAP12 | C32: =CONCATENATE(F32,J32) -> 8MAP11 | E32: =+E30 -> 46343 | F32: =+F30 -> 8 | G32: MAP12 | H32: =VLOOKUP(G32,Results!$N$2:$O$9,2,FALSE) -> R & R | J32: MAP11 | K32: =VLOOKUP(J32,Results!$N$2:$O$9,2,FALSE) -> Banana Skins
B33: =CONCATENATE(F33,G33) -> 8MAP17 | C33: =CONCATENATE(F33,J33) -> 8X | E33: =+E30 -> 46343 | F33: =+F30 -> 8 | G33: MAP17 | H33: =VLOOKUP(G33,Results!$N$2:$O$9,2,FALSE) -> Dolly Mixtures | J33: X | K33: =VLOOKUP(J33,Results!$N$2:$O$9,2,FALSE) -> No Match
B34: =CONCATENATE(F34,G34) -> 9MAP13 | C34: =CONCATENATE(F34,J34) -> 9MAP12 | E34: 46359 | F34: 9 | G34: MAP13 | H34: =VLOOKUP(G34,Results!$N$2:$O$9,2,FALSE) -> The Smites | J34: MAP12 | K34: =VLOOKUP(J34,Results!$N$2:$O$9,2,FALSE) -> R & R
B35: =CONCATENATE(F35,G35) -> 9MAP11 | C35: =CONCATENATE(F35,J35) -> 9MAP17 | E35: =+E34 -> 46359 | F35: =+F34 -> 9 | G35: MAP11 | H35: =VLOOKUP(G35,Results!$N$2:$O$9,2,FALSE) -> Banana Skins | J35: MAP17 | K35: =VLOOKUP(J35,Results!$N$2:$O$9,2,FALSE) -> Dolly Mixtures
B36: =CONCATENATE(F36,G36) -> 9MAP15 | C36: =CONCATENATE(F36,J36) -> 9MAP14 | E36: =+E34 -> 46359 | F36: =+F34 -> 9 | G36: MAP15 | H36: =VLOOKUP(G36,Results!$N$2:$O$9,2,FALSE) -> F.W.Golf | J36: MAP14 | K36: =VLOOKUP(J36,Results!$N$2:$O$9,2,FALSE) -> Wizards
B37: =CONCATENATE(F37,G37) -> 9MAP16 | C37: =CONCATENATE(F37,J37) -> 9X | E37: =+E34 -> 46359 | F37: =+F34 -> 9 | G37: MAP16 | H37: =VLOOKUP(G37,Results!$N$2:$O$9,2,FALSE) -> Donuts | J37: X | K37: =VLOOKUP(J37,Results!$N$2:$O$9,2,FALSE) -> No Match
B38: =CONCATENATE(F38,G38) -> 10MAP12 | C38: =CONCATENATE(F38,J38) -> 10MAP14 | E38: 46373 | F38: 10 | G38: MAP12 | H38: =VLOOKUP(G38,Results!$N$2:$O$9,2,FALSE) -> R & R | J38: MAP14 | K38: =VLOOKUP(J38,Results!$N$2:$O$9,2,FALSE) -> Wizards
B39: =CONCATENATE(F39,G39) -> 10MAP13 | C39: =CONCATENATE(F39,J39) -> 10MAP11 | E39: =+E38 -> 46373 | F39: =+F38 -> 10 | G39: MAP13 | H39: =VLOOKUP(G39,Results!$N$2:$O$9,2,FALSE) -> The Smites | J39: MAP11 | K39: =VLOOKUP(J39,Results!$N$2:$O$9,2,FALSE) -> Banana Skins
B40: =CONCATENATE(F40,G40) -> 10MAP17 | C40: =CONCATENATE(F40,J40) -> 10MAP16 | E40: =+E38 -> 46373 | F40: =+F38 -> 10 | G40: MAP17 | H40: =VLOOKUP(G40,Results!$N$2:$O$9,2,FALSE) -> Dolly Mixtures | J40: MAP16 | K40: =VLOOKUP(J40,Results!$N$2:$O$9,2,FALSE) -> Donuts
B41: =CONCATENATE(F41,G41) -> 10MAP15 | C41: =CONCATENATE(F41,J41) -> 10X | E41: =+E38 -> 46373 | F41: =+F38 -> 10 | G41: MAP15 | H41: =VLOOKUP(G41,Results!$N$2:$O$9,2,FALSE) -> F.W.Golf | J41: X | K41: =VLOOKUP(J41,Results!$N$2:$O$9,2,FALSE) -> No Match
B42: =CONCATENATE(F42,G42) -> 11MAP16 | C42: =CONCATENATE(F42,J42) -> 11MAP12 | E42: 46394 | F42: 11 | G42: MAP16 | H42: =VLOOKUP(G42,Results!$N$2:$O$9,2,FALSE) -> Donuts | J42: MAP12 | K42: =VLOOKUP(J42,Results!$N$2:$O$9,2,FALSE) -> R & R
B43: =CONCATENATE(F43,G43) -> 11MAP11 | C43: =CONCATENATE(F43,J43) -> 11MAP15 | E43: =+E42 -> 46394 | F43: =+F42 -> 11 | G43: MAP11 | H43: =VLOOKUP(G43,Results!$N$2:$O$9,2,FALSE) -> Banana Skins | J43: MAP15 | K43: =VLOOKUP(J43,Results!$N$2:$O$9,2,FALSE) -> F.W.Golf
B44: =CONCATENATE(F44,G44) -> 11MAP17 | C44: =CONCATENATE(F44,J44) -> 11MAP13 | E44: =+E42 -> 46394 | F44: =+F42 -> 11 | G44: MAP17 | H44: =VLOOKUP(G44,Results!$N$2:$O$9,2,FALSE) -> Dolly Mixtures | J44: MAP13 | K44: =VLOOKUP(J44,Results!$N$2:$O$9,2,FALSE) -> The Smites
B45: =CONCATENATE(F45,G45) -> 11MAP14 | C45: =CONCATENATE(F45,J45) -> 11X | E45: =+E42 -> 46394 | F45: =+F42 -> 11 | G45: MAP14 | H45: =VLOOKUP(G45,Results!$N$2:$O$9,2,FALSE) -> Wizards | J45: X | K45: =VLOOKUP(J45,Results!$N$2:$O$9,2,FALSE) -> No Match
B46: =CONCATENATE(F46,G46) -> 12MAP14 | C46: =CONCATENATE(F46,J46) -> 12MAP17 | E46: 46401 | F46: 12 | G46: MAP14 | H46: =VLOOKUP(G46,Results!$N$2:$O$9,2,FALSE) -> Wizards | J46: MAP17 | K46: =VLOOKUP(J46,Results!$N$2:$O$9,2,FALSE) -> Dolly Mixtures
B47: =CONCATENATE(F47,G47) -> 12MAP15 | C47: =CONCATENATE(F47,J47) -> 12MAP12 | E47: =+E46 -> 46401 | F47: =+F46 -> 12 | G47: MAP15 | H47: =VLOOKUP(G47,Results!$N$2:$O$9,2,FALSE) -> F.W.Golf | J47: MAP12 | K47: =VLOOKUP(J47,Results!$N$2:$O$9,2,FALSE) -> R & R
B48: =CONCATENATE(F48,G48) -> 12MAP11 | C48: =CONCATENATE(F48,J48) -> 12MAP16 | E48: =+E46 -> 46401 | F48: =+F46 -> 12 | G48: MAP11 | H48: =VLOOKUP(G48,Results!$N$2:$O$9,2,FALSE) -> Banana Skins | J48: MAP16 | K48: =VLOOKUP(J48,Results!$N$2:$O$9,2,FALSE) -> Donuts
B49: =CONCATENATE(F49,G49) -> 12MAP13 | C49: =CONCATENATE(F49,J49) -> 12X | E49: =+E46 -> 46401 | F49: =+F46 -> 12 | G49: MAP13 | H49: =VLOOKUP(G49,Results!$N$2:$O$9,2,FALSE) -> The Smites | J49: X | K49: =VLOOKUP(J49,Results!$N$2:$O$9,2,FALSE) -> No Match
B50: =CONCATENATE(F50,G50) -> 13MAP17 | C50: =CONCATENATE(F50,J50) -> 13MAP15 | E50: 46408 | F50: 13 | G50: MAP17 | H50: =VLOOKUP(G50,Results!$N$2:$O$9,2,FALSE) -> Dolly Mixtures | J50: MAP15 | K50: =VLOOKUP(J50,Results!$N$2:$O$9,2,FALSE) -> F.W.Golf
B51: =CONCATENATE(F51,G51) -> 13MAP13 | C51: =CONCATENATE(F51,J51) -> 13MAP16 | E51: =+E50 -> 46408 | F51: =+F50 -> 13 | G51: MAP13 | H51: =VLOOKUP(G51,Results!$N$2:$O$9,2,FALSE) -> The Smites | J51: MAP16 | K51: =VLOOKUP(J51,Results!$N$2:$O$9,2,FALSE) -> Donuts
B52: =CONCATENATE(F52,G52) -> 13MAP14 | C52: =CONCATENATE(F52,J52) -> 13MAP11 | E52: =+E50 -> 46408 | F52: =+F50 -> 13 | G52: MAP14 | H52: =VLOOKUP(G52,Results!$N$2:$O$9,2,FALSE) -> Wizards | J52: MAP11 | K52: =VLOOKUP(J52,Results!$N$2:$O$9,2,FALSE) -> Banana Skins
B53: =CONCATENATE(F53,G53) -> 13MAP12 | C53: =CONCATENATE(F53,J53) -> 13X | E53: =+E50 -> 46408 | F53: =+F50 -> 13 | G53: MAP12 | H53: =VLOOKUP(G53,Results!$N$2:$O$9,2,FALSE) -> R & R | J53: X | K53: =VLOOKUP(J53,Results!$N$2:$O$9,2,FALSE) -> No Match
B54: =CONCATENATE(F54,G54) -> 14MAP16 | C54: =CONCATENATE(F54,J54) -> 14MAP14 | E54: 46443 | F54: 14 | G54: MAP16 | H54: =VLOOKUP(G54,Results!$N$2:$O$9,2,FALSE) -> Donuts | J54: MAP14 | K54: =VLOOKUP(J54,Results!$N$2:$O$9,2,FALSE) -> Wizards
B55: =CONCATENATE(F55,G55) -> 14MAP12 | C55: =CONCATENATE(F55,J55) -> 14MAP17 | E55: =+E54 -> 46443 | F55: =+F54 -> 14 | G55: MAP12 | H55: =VLOOKUP(G55,Results!$N$2:$O$9,2,FALSE) -> R & R | J55: MAP17 | K55: =VLOOKUP(J55,Results!$N$2:$O$9,2,FALSE) -> Dolly Mixtures
B56: =CONCATENATE(F56,G56) -> 14MAP15 | C56: =CONCATENATE(F56,J56) -> 14MAP13 | E56: =+E54 -> 46443 | F56: =+F54 -> 14 | G56: MAP15 | H56: =VLOOKUP(G56,Results!$N$2:$O$9,2,FALSE) -> F.W.Golf | J56: MAP13 | K56: =VLOOKUP(J56,Results!$N$2:$O$9,2,FALSE) -> The Smites
B57: =CONCATENATE(F57,G57) -> 14MAP11 | C57: =CONCATENATE(F57,J57) -> 14X | E57: =+E54 -> 46443 | F57: =+F54 -> 14 | G57: MAP11 | H57: =VLOOKUP(G57,Results!$N$2:$O$9,2,FALSE) -> Banana Skins | J57: X | K57: =VLOOKUP(J57,Results!$N$2:$O$9,2,FALSE) -> No Match
B58: =CONCATENATE(F58,G58) -> 15MAP15 | C58: =CONCATENATE(F58,J58) -> 15MAP16 | E58: 46450 | F58: 15 | G58: MAP15 | H58: =VLOOKUP(G58,Results!$N$2:$O$9,2,FALSE) -> F.W.Golf | J58: MAP16 | K58: =VLOOKUP(J58,Results!$N$2:$O$9,2,FALSE) -> Donuts
B59: =CONCATENATE(F59,G59) -> 15MAP13 | C59: =CONCATENATE(F59,J59) -> 15MAP14 | E59: =+E58 -> 46450 | F59: =+F58 -> 15 | G59: MAP13 | H59: =VLOOKUP(G59,Results!$N$2:$O$9,2,FALSE) -> The Smites | J59: MAP14 | K59: =VLOOKUP(J59,Results!$N$2:$O$9,2,FALSE) -> Wizards
B60: =CONCATENATE(F60,G60) -> 15MAP11 | C60: =CONCATENATE(F60,J60) -> 15MAP12 | E60: =+E58 -> 46450 | F60: =+F58 -> 15 | G60: MAP11 | H60: =VLOOKUP(G60,Results!$N$2:$O$9,2,FALSE) -> Banana Skins | J60: MAP12 | K60: =VLOOKUP(J60,Results!$N$2:$O$9,2,FALSE) -> R & R
B61: =CONCATENATE(F61,G61) -> 15MAP17 | C61: =CONCATENATE(F61,J61) -> 15X | E61: =+E58 -> 46450 | F61: =+F58 -> 15 | G61: MAP17 | H61: =VLOOKUP(G61,Results!$N$2:$O$9,2,FALSE) -> Dolly Mixtures | J61: X | K61: =VLOOKUP(J61,Results!$N$2:$O$9,2,FALSE) -> No Match
B62: =CONCATENATE(F62,G62) -> 16MAP14 | C62: =CONCATENATE(F62,J62) -> 16MAP15 | E62: 46457 | F62: 16 | G62: MAP14 | H62: =VLOOKUP(G62,Results!$N$2:$O$9,2,FALSE) -> Wizards | J62: MAP15 | K62: =VLOOKUP(J62,Results!$N$2:$O$9,2,FALSE) -> F.W.Golf
B63: =CONCATENATE(F63,G63) -> 16MAP12 | C63: =CONCATENATE(F63,J63) -> 16MAP13 | E63: =+E62 -> 46457 | F63: =+F62 -> 16 | G63: MAP12 | H63: =VLOOKUP(G63,Results!$N$2:$O$9,2,FALSE) -> R & R | J63: MAP13 | K63: =VLOOKUP(J63,Results!$N$2:$O$9,2,FALSE) -> The Smites
B64: =CONCATENATE(F64,G64) -> 16MAP17 | C64: =CONCATENATE(F64,J64) -> 16MAP11 | E64: =+E62 -> 46457 | F64: =+F62 -> 16 | G64: MAP17 | H64: =VLOOKUP(G64,Results!$N$2:$O$9,2,FALSE) -> Dolly Mixtures | J64: MAP11 | K64: =VLOOKUP(J64,Results!$N$2:$O$9,2,FALSE) -> Banana Skins
B65: =CONCATENATE(F65,G65) -> 16MAP16 | C65: =CONCATENATE(F65,J65) -> 16X | E65: =+E62 -> 46457 | F65: =+F62 -> 16 | G65: MAP16 | H65: =VLOOKUP(G65,Results!$N$2:$O$9,2,FALSE) -> Donuts | J65: X | K65: =VLOOKUP(J65,Results!$N$2:$O$9,2,FALSE) -> No Match
B66: =CONCATENATE(F66,G66) -> 17MAP16 | C66: =CONCATENATE(F66,J66) -> 17MAP17 | E66: 46464 | F66: 17 | G66: MAP16 | H66: =VLOOKUP(G66,Results!$N$2:$O$9,2,FALSE) -> Donuts | J66: MAP17 | K66: =VLOOKUP(J66,Results!$N$2:$O$9,2,FALSE) -> Dolly Mixtures
B67: =CONCATENATE(F67,G67) -> 17MAP11 | C67: =CONCATENATE(F67,J67) -> 17MAP13 | E67: =+E66 -> 46464 | F67: =+F66 -> 17 | G67: MAP11 | H67: =VLOOKUP(G67,Results!$N$2:$O$9,2,FALSE) -> Banana Skins | J67: MAP13 | K67: =VLOOKUP(J67,Results!$N$2:$O$9,2,FALSE) -> The Smites
B68: =CONCATENATE(F68,G68) -> 17MAP14 | C68: =CONCATENATE(F68,J68) -> 17MAP12 | E68: =+E66 -> 46464 | F68: =+F66 -> 17 | G68: MAP14 | H68: =VLOOKUP(G68,Results!$N$2:$O$9,2,FALSE) -> Wizards | J68: MAP12 | K68: =VLOOKUP(J68,Results!$N$2:$O$9,2,FALSE) -> R & R
B69: =CONCATENATE(F69,G69) -> 17MAP15 | C69: =CONCATENATE(F69,J69) -> 17X | E69: =+E66 -> 46464 | F69: =+F66 -> 17 | G69: MAP15 | H69: =VLOOKUP(G69,Results!$N$2:$O$9,2,FALSE) -> F.W.Golf | J69: X | K69: =VLOOKUP(J69,Results!$N$2:$O$9,2,FALSE) -> No Match
B70: =CONCATENATE(F70,G70) -> 18MAP13 | C70: =CONCATENATE(F70,J70) -> 18MAP17 | E70: 46471 | F70: 18 | G70: MAP13 | H70: =VLOOKUP(G70,Results!$N$2:$O$9,2,FALSE) -> The Smites | J70: MAP17 | K70: =VLOOKUP(J70,Results!$N$2:$O$9,2,FALSE) -> Dolly Mixtures
B71: =CONCATENATE(F71,G71) -> 18MAP15 | C71: =CONCATENATE(F71,J71) -> 18MAP11 | E71: =+E70 -> 46471 | F71: =+F70 -> 18 | G71: MAP15 | H71: =VLOOKUP(G71,Results!$N$2:$O$9,2,FALSE) -> F.W.Golf | J71: MAP11 | K71: =VLOOKUP(J71,Results!$N$2:$O$9,2,FALSE) -> Banana Skins
B72: =CONCATENATE(F72,G72) -> 18MAP12 | C72: =CONCATENATE(F72,J72) -> 18MAP16 | E72: =+E70 -> 46471 | F72: =+F70 -> 18 | G72: MAP12 | H72: =VLOOKUP(G72,Results!$N$2:$O$9,2,FALSE) -> R & R | J72: MAP16 | K72: =VLOOKUP(J72,Results!$N$2:$O$9,2,FALSE) -> Donuts
B73: =CONCATENATE(F73,G73) -> 18MAP14 | C73: =CONCATENATE(F73,J73) -> 18X | E73: =+E70 -> 46471 | F73: =+F70 -> 18 | G73: MAP14 | H73: =VLOOKUP(G73,Results!$N$2:$O$9,2,FALSE) -> Wizards | J73: X | K73: =VLOOKUP(J73,Results!$N$2:$O$9,2,FALSE) -> No Match
B74: =CONCATENATE(F74,G74) -> 19MAP17 | C74: =CONCATENATE(F74,J74) -> 19MAP14 | E74: 46478 | F74: 19 | G74: MAP17 | H74: =VLOOKUP(G74,Results!$N$2:$O$9,2,FALSE) -> Dolly Mixtures | J74: MAP14 | K74: =VLOOKUP(J74,Results!$N$2:$O$9,2,FALSE) -> Wizards
B75: =CONCATENATE(F75,G75) -> 19MAP16 | C75: =CONCATENATE(F75,J75) -> 19MAP11 | E75: =+E74 -> 46478 | F75: =+F74 -> 19 | G75: MAP16 | H75: =VLOOKUP(G75,Results!$N$2:$O$9,2,FALSE) -> Donuts | J75: MAP11 | K75: =VLOOKUP(J75,Results!$N$2:$O$9,2,FALSE) -> Banana Skins
B76: =CONCATENATE(F76,G76) -> 19MAP12 | C76: =CONCATENATE(F76,J76) -> 19MAP15 | E76: =+E74 -> 46478 | F76: =+F74 -> 19 | G76: MAP12 | H76: =VLOOKUP(G76,Results!$N$2:$O$9,2,FALSE) -> R & R | J76: MAP15 | K76: =VLOOKUP(J76,Results!$N$2:$O$9,2,FALSE) -> F.W.Golf
B77: =CONCATENATE(F77,G77) -> 19MAP13 | C77: =CONCATENATE(F77,J77) -> 19X | E77: =+E74 -> 46478 | F77: =+F74 -> 19 | G77: MAP13 | H77: =VLOOKUP(G77,Results!$N$2:$O$9,2,FALSE) -> The Smites | J77: X | K77: =VLOOKUP(J77,Results!$N$2:$O$9,2,FALSE) -> No Match
B78: =CONCATENATE(F78,G78) -> 20MAP16 | C78: =CONCATENATE(F78,J78) -> 20MAP13 | E78: 46485 | F78: 20 | G78: MAP16 | H78: =VLOOKUP(G78,Results!$N$2:$O$9,2,FALSE) -> Donuts | J78: MAP13 | K78: =VLOOKUP(J78,Results!$N$2:$O$9,2,FALSE) -> The Smites
B79: =CONCATENATE(F79,G79) -> 20MAP15 | C79: =CONCATENATE(F79,J79) -> 20MAP17 | E79: =+E78 -> 46485 | F79: =+F78 -> 20 | G79: MAP15 | H79: =VLOOKUP(G79,Results!$N$2:$O$9,2,FALSE) -> F.W.Golf | J79: MAP17 | K79: =VLOOKUP(J79,Results!$N$2:$O$9,2,FALSE) -> Dolly Mixtures
B80: =CONCATENATE(F80,G80) -> 20MAP11 | C80: =CONCATENATE(F80,J80) -> 20MAP14 | E80: =+E78 -> 46485 | F80: =+F78 -> 20 | G80: MAP11 | H80: =VLOOKUP(G80,Results!$N$2:$O$9,2,FALSE) -> Banana Skins | J80: MAP14 | K80: =VLOOKUP(J80,Results!$N$2:$O$9,2,FALSE) -> Wizards
B81: =CONCATENATE(F81,G81) -> 20MAP12 | C81: =CONCATENATE(F81,J81) -> 20X | E81: =+E78 -> 46485 | F81: =+F78 -> 20 | G81: MAP12 | H81: =VLOOKUP(G81,Results!$N$2:$O$9,2,FALSE) -> R & R | J81: X | K81: =VLOOKUP(J81,Results!$N$2:$O$9,2,FALSE) -> No Match
B82: =CONCATENATE(F82,G82) -> 21MAP14 | C82: =CONCATENATE(F82,J82) -> 21MAP16 | E82: 46492 | F82: 21 | G82: MAP14 | H82: =VLOOKUP(G82,Results!$N$2:$O$9,2,FALSE) -> Wizards | J82: MAP16 | K82: =VLOOKUP(J82,Results!$N$2:$O$9,2,FALSE) -> Donuts
B83: =CONCATENATE(F83,G83) -> 21MAP17 | C83: =CONCATENATE(F83,J83) -> 21MAP12 | E83: =+E82 -> 46492 | F83: =+F82 -> 21 | G83: MAP17 | H83: =VLOOKUP(G83,Results!$N$2:$O$9,2,FALSE) -> Dolly Mixtures | J83: MAP12 | K83: =VLOOKUP(J83,Results!$N$2:$O$9,2,FALSE) -> R & R
B84: =CONCATENATE(F84,G84) -> 21MAP13 | C84: =CONCATENATE(F84,J84) -> 21MAP15 | E84: =+E82 -> 46492 | F84: =+F82 -> 21 | G84: MAP13 | H84: =VLOOKUP(G84,Results!$N$2:$O$9,2,FALSE) -> The Smites | J84: MAP15 | K84: =VLOOKUP(J84,Results!$N$2:$O$9,2,FALSE) -> F.W.Golf
B85: =CONCATENATE(F85,G85) -> 21MAP11 | C85: =CONCATENATE(F85,J85) -> 21X | E85: =+E82 -> 46492 | F85: =+F82 -> 21 | G85: MAP11 | H85: =VLOOKUP(G85,Results!$N$2:$O$9,2,FALSE) -> Banana Skins | J85: X | K85: =VLOOKUP(J85,Results!$N$2:$O$9,2,FALSE) -> No Match
I87: =SUM(I2:I86) -> 81 | L87: =SUM(L2:L86) -> 93
I88: =+I87+L87 -> 174

Sheet LEAGUE TABLE
B2: MORNING AUSSIE PAIRS - DIV B | F2: 2026 / 2027 | I2: As at 1st Oct
C3: Team | E3: Played | F3: Won | G3: Drawn | H3: Lost | I3: Shots For | J3: Shots Against | K3: Shots Diff | L3: Pts
B4: 1st | C4: =+'MAP14 WIZARDS'!$H$1 -> MAP14 | D4: =+'MAP14 WIZARDS'!$I$1 -> WIZARDS | E4: ='MAP14 WIZARDS'!$J$24 -> 3 | F4: ='MAP14 WIZARDS'!$K$24 -> 2 | G4: ='MAP14 WIZARDS'!$L$24 -> 0 | H4: ='MAP14 WIZARDS'!$M$24 -> 1 | I4: ='MAP14 WIZARDS'!$N$24 -> 33 | J4: ='MAP14 WIZARDS'!$O$24 -> 31 | K4: =I4-J4 -> 2 | L4: ='MAP14 WIZARDS'!$P$24 -> 4
B5: 2nd | C5: =+'MAP11 BANANA SKINS'!$H$1 -> MAP11 | D5: =+'MAP11 BANANA SKINS'!$I$1 -> BANANA SKINS | E5: ='MAP11 BANANA SKINS'!$J$24 -> 3 | F5: ='MAP11 BANANA SKINS'!$K$24 -> 2 | G5: ='MAP11 BANANA SKINS'!$L$24 -> 0 | H5: ='MAP11 BANANA SKINS'!$M$24 -> 1 | I5: ='MAP11 BANANA SKINS'!$N$24 -> 33 | J5: ='MAP11 BANANA SKINS'!$O$24 -> 35 | K5: =I5-J5 -> -2 | L5: ='MAP11 BANANA SKINS'!$P$24 -> 4
B6: 3rd | C6: =+'MAP15 F.W.GOLF'!$H$1 -> MAP15 | D6: =+'MAP15 F.W.GOLF'!$I$1 -> F.W.GOLF | E6: ='MAP15 F.W.GOLF'!$J$24 -> 2 | F6: ='MAP15 F.W.GOLF'!$K$24 -> 1 | G6: ='MAP15 F.W.GOLF'!$L$24 -> 0 | H6: ='MAP15 F.W.GOLF'!$M$24 -> 1 | I6: ='MAP15 F.W.GOLF'!$N$24 -> 26 | J6: ='MAP15 F.W.GOLF'!$O$24 -> 17 | K6: =I6-J6 -> 9 | L6: ='MAP15 F.W.GOLF'!$P$24 -> 2
B7: 4th | C7: =+'MAP13 THE SMITES'!$H$1 -> MAP13 | D7: =+'MAP13 THE SMITES'!$I$1 -> THE SMITES | E7: ='MAP13 THE SMITES'!$J$24 -> 2 | F7: ='MAP13 THE SMITES'!$K$24 -> 1 | G7: ='MAP13 THE SMITES'!$L$24 -> 0 | H7: ='MAP13 THE SMITES'!$M$24 -> 1 | I7: ='MAP13 THE SMITES'!$N$24 -> 21 | J7: ='MAP13 THE SMITES'!$O$24 -> 14 | K7: =I7-J7 -> 7 | L7: ='MAP13 THE SMITES'!$P$24 -> 2
B8: 5th | C8: =+'MAP12 R & R'!$H$1 -> MAP12 | D8: =+'MAP12 R & R'!$I$1 -> R & R | E8: ='MAP12 R & R'!$J$24 -> 2 | F8: ='MAP12 R & R'!$K$24 -> 1 | G8: ='MAP12 R & R'!$L$24 -> 0 | H8: ='MAP12 R & R'!$M$24 -> 1 | I8: ='MAP12 R & R'!$N$24 -> 25 | J8: ='MAP12 R & R'!$O$24 -> 23 | K8: =I8-J8 -> 2 | L8: ='MAP12 R & R'!$P$24 -> 2
B9: 6th | C9: =+'MAP17 DOLLY MIXTURES'!$H$1 -> MAP17 | D9: =+'MAP17 DOLLY MIXTURES'!$I$1 -> DOLLY MIXTURES | E9: ='MAP17 DOLLY MIXTURES'!$J$24 -> 2 | F9: ='MAP17 DOLLY MIXTURES'!$K$24 -> 1 | G9: ='MAP17 DOLLY MIXTURES'!$L$24 -> 0 | H9: ='MAP17 DOLLY MIXTURES'!$M$24 -> 1 | I9: ='MAP17 DOLLY MIXTURES'!$N$24 -> 25 | J9: ='MAP17 DOLLY MIXTURES'!$O$24 -> 23 | K9: =I9-J9 -> 2 | L9: ='MAP17 DOLLY MIXTURES'!$P$24 -> 2
B10: 7th | C10: =+'MAP16 DONUTS'!$H$1 -> MAP16 | D10: =+'MAP16 DONUTS'!$I$1 -> DONUTS | E10: ='MAP16 DONUTS'!$J$24 -> 2 | F10: ='MAP16 DONUTS'!$K$24 -> 0 | G10: ='MAP16 DONUTS'!$L$24 -> 0 | H10: ='MAP16 DONUTS'!$M$24 -> 2 | I10: ='MAP16 DONUTS'!$N$24 -> 11 | J10: ='MAP16 DONUTS'!$O$24 -> 31 | K10: =I10-J10 -> -20 | L10: ='MAP16 DONUTS'!$P$24 -> 0
D11: Check | E11: =SUM(E4:E10) -> 16 | F11: =SUM(F4:F10) -> 8 | G11: =SUM(G4:G10) -> 0 | H11: =SUM(H4:H10) -> 8 | I11: =SUM(I4:I10) -> 174 | J11: =SUM(J4:J10) -> 174 | K11: =SUM(K4:K10) -> 0 | L11: =SUM(L4:L10) -> 16

Sheet MAP11 BANANA SKINS
H1: MAP11 | I1: BANANA SKINS
D2: F | E2: A | G2: Date | H2: Code | I2: Opponents | J2: Played | K2: Won | L2: Drawn | M2: Lost | N2: Shots For | O2: Shots Against | P2: Pts
B3: =+$H$1 -> MAP11 | C3: 1 | D3: =CONCATENATE(C3,B3) -> 1MAP11 | E3: =CONCATENATE(C3,H3) -> 1MAP12 | G3: =+Results!D2 -> 46282 | H3: =VLOOKUP($D3,Results!$B$2:$I$148,8,FALSE) -> MAP12 | I3: =VLOOKUP(H3,Results!$N$2:$O$9,2,FALSE) -> R & R | J3: =SUM(K3:M3) -> 1 | K3: =IF(H3="X",0,IF(N3>O3,1,0)) -> 1 | L3: =IF(OR(C3>Results!$F$1,N3="N"),0,IF(H3="X",0,IF(N3=O3,1,0))) -> 0 | M3: =IF(H3="X",0,IF(N3<O3,1,0)) -> 0 | N3: =IF($C3>Results!$F$1," ",(VLOOKUP($D3,Results!$B$2:$H$148,7,FALSE))) -> 13 | O3: =IF($C3>Results!$F$1," ",(VLOOKUP($E3,Results!$C$2:$K$148,9,FALSE))) -> 12 | P3: =IF(J3=" "," ",SUM(K3*2)+L3*1) -> 2
B4: =+$H$1 -> MAP11 | C4: 2 | D4: =CONCATENATE(C4,B4) -> 2MAP11 | E4: =CONCATENATE(C4,H4) -> 2MAP17 | G4: =+Results!D9 -> 46289 | H4: =VLOOKUP($D4,Results!$B$2:$I$148,8,FALSE) -> MAP17 | I4: =VLOOKUP(H4,Results!$N$2:$O$9,2,FALSE) -> Dolly Mixtures | J4: =SUM(K4:M4) -> 1 | K4: =IF(H4="X",0,IF(N4>O4,1,0)) -> 1 | L4: =IF(OR(C4>Results!$F$1,N4="N"),0,IF(H4="X",0,IF(N4=O4,1,0))) -> 0 | M4: =IF(H4="X",0,IF(N4<O4,1,0)) -> 0 | N4: =IF($C4>Results!$F$1," ",(VLOOKUP($D4,Results!$B$2:$H$148,7,FALSE))) -> 16 | O4: =IF($C4>Results!$F$1," ",(VLOOKUP($E4,Results!$C$2:$K$148,9,FALSE))) -> 10 | P4: =IF(J4=" "," ",SUM(K4*2)+L4*1) -> 2
B5: =+$H$1 -> MAP11 | C5: 3 | D5: =CONCATENATE(C5,B5) -> 3MAP11 | E5: =CONCATENATE(C5,H5) -> 3MAP13 | G5: =+Results!D16 -> 46296 | H5: =VLOOKUP($D5,Results!$B$2:$I$148,8,FALSE) -> MAP13 | I5: =VLOOKUP(H5,Results!$N$2:$O$9,2,FALSE) -> The Smites | J5: =SUM(K5:M5) -> 1 | K5: =IF(H5="X",0,IF(N5>O5,1,0)) -> 0 | L5: =IF(OR(C5>Results!$F$1,N5="N"),0,IF(H5="X",0,IF(N5=O5,1,0))) -> 0 | M5: =IF(H5="X",0,IF(N5<O5,1,0)) -> 1 | N5: =IF($C5>Results!$F$1," ",(VLOOKUP($D5,Results!$B$2:$H$148,7,FALSE))) -> 4 | O5: =IF($C5>Results!$F$1," ",(VLOOKUP($E5,Results!$C$2:$K$148,9,FALSE))) -> 13 | P5: =IF(J5=" "," ",SUM(K5*2)+L5*1) -> 0
B6: =+$H$1 -> MAP11 | C6: 4 | D6: =CONCATENATE(C6,B6) -> 4MAP11 | E6: =CONCATENATE(C6,H6) -> 4MAP15 | G6: =+Results!D23 -> 46303 | H6: =VLOOKUP($D6,Results!$B$2:$I$148,8,FALSE) -> MAP15 | I6: =VLOOKUP(H6,Results!$N$2:$O$9,2,FALSE) -> F.W.Golf | J6: =SUM(K6:M6) -> 0 | K6: =IF(H6="X",0,IF(N6>O6,1,0)) -> 0 | L6: =IF(OR(C6>Results!$F$1,N6="N"),0,IF(H6="X",0,IF(N6=O6,1,0))) -> 0 | M6: =IF(H6="X",0,IF(N6<O6,1,0)) -> 0 | N6: =IF($C6>Results!$F$1," ",(VLOOKUP($D6,Results!$B$2:$H$148,7,FALSE))) | O6: =IF($C6>Results!$F$1," ",(VLOOKUP($E6,Results!$C$2:$K$148,9,FALSE))) | P6: =IF(J6=" "," ",SUM(K6*2)+L6*1) -> 0
B7: =+$H$1 -> MAP11 | C7: 5 | D7: =CONCATENATE(C7,B7) -> 5MAP11 | E7: =CONCATENATE(C7,H7) -> 5MAP16 | G7: =+Results!D30 -> 46317 | H7: =VLOOKUP($D7,Results!$B$2:$I$148,8,FALSE) -> MAP16 | I7: =VLOOKUP(H7,Results!$N$2:$O$9,2,FALSE) -> Donuts | J7: =SUM(K7:M7) -> 0 | K7: =IF(H7="X",0,IF(N7>O7,1,0)) -> 0 | L7: =IF(OR(C7>Results!$F$1,N7="N"),0,IF(H7="X",0,IF(N7=O7,1,0))) -> 0 | M7: =IF(H7="X",0,IF(N7<O7,1,0)) -> 0 | N7: =IF($C7>Results!$F$1," ",(VLOOKUP($D7,Results!$B$2:$H$148,7,FALSE))) | O7: =IF($C7>Results!$F$1," ",(VLOOKUP($E7,Results!$C$2:$K$148,9,FALSE))) | P7: =IF(J7=" "," ",SUM(K7*2)+L7*1) -> 0
B8: =+$H$1 -> MAP11 | C8: 6 | D8: =CONCATENATE(C8,B8) -> 6MAP11 | E8: =CONCATENATE(C8,H8) -> 6MAP14 | G8: =+Results!D37 -> 46324 | H8: =VLOOKUP($D8,Results!$B$2:$I$148,8,FALSE) -> MAP14 | I8: =VLOOKUP(H8,Results!$N$2:$O$9,2,FALSE) -> Wizards | J8: =SUM(K8:M8) -> 0 | K8: =IF(H8="X",0,IF(N8>O8,1,0)) -> 0 | L8: =IF(OR(C8>Results!$F$1,N8="N"),0,IF(H8="X",0,IF(N8=O8,1,0))) -> 0 | M8: =IF(H8="X",0,IF(N8<O8,1,0)) -> 0 | N8: =IF($C8>Results!$F$1," ",(VLOOKUP($D8,Results!$B$2:$H$148,7,FALSE))) | O8: =IF($C8>Results!$F$1," ",(VLOOKUP($E8,Results!$C$2:$K$148,9,FALSE))) | P8: =IF(J8=" "," ",SUM(K8*2)+L8*1) -> 0
B9: =+$H$1 -> MAP11 | C9: 7 | D9: =CONCATENATE(C9,B9) -> 7MAP11 | E9: =CONCATENATE(C9,H9) -> 7X | G9: =+Results!D44 -> 46338 | H9: =VLOOKUP($D9,Results!$B$2:$I$148,8,FALSE) -> X | I9: =VLOOKUP(H9,Results!$N$2:$O$9,2,FALSE) -> No Match | J9: =SUM(K9:M9) -> 0 | K9: =IF(H9="X",0,IF(N9>O9,1,0)) -> 0 | L9: =IF(OR(C9>Results!$F$1,N9="N"),0,IF(H9="X",0,IF(N9=O9,1,0))) -> 0 | M9: =IF(H9="X",0,IF(N9<O9,1,0)) -> 0 | N9: =IF($C9>Results!$F$1," ",(VLOOKUP($D9,Results!$B$2:$H$148,7,FALSE))) | O9: =IF($C9>Results!$F$1," ",(VLOOKUP($E9,Results!$C$2:$K$148,9,FALSE))) | P9: =IF(J9=" "," ",SUM(K9*2)+L9*1) -> 0
B10: =+$H$1 -> MAP11 | C10: 8 | D10: =CONCATENATE(C10,B10) -> 8MAP11 | E10: =CONCATENATE(C10,H10) -> 8MAP12 | G10: =+Results!D51 -> 46343 | H10: =VLOOKUP($D10,Results!$B$2:$I$148,8,FALSE) -> MAP12 | I10: =VLOOKUP(H10,Results!$N$2:$O$9,2,FALSE) -> R & R | J10: =SUM(K10:M10) -> 0 | K10: =IF(H10="X",0,IF(N10>O10,1,0)) -> 0 | L10: =IF(OR(C10>Results!$F$1,N10="N"),0,IF(H10="X",0,IF(N10=O10,1,0))) -> 0 | M10: =IF(H10="X",0,IF(N10<O10,1,0)) -> 0 | N10: =IF($C10>Results!$F$1," ",(VLOOKUP($D10,Results!$B$2:$H$148,7,FALSE))) | O10: =IF($C10>Results!$F$1," ",(VLOOKUP($E10,Results!$C$2:$K$148,9,FALSE))) | P10: =IF(J10=" "," ",SUM(K10*2)+L10*1) -> 0
B11: =+$H$1 -> MAP11 | C11: 9 | D11: =CONCATENATE(C11,B11) -> 9MAP11 | E11: =CONCATENATE(C11,H11) -> 9MAP17 | G11: =+Results!D58 -> 46359 | H11: =VLOOKUP($D11,Results!$B$2:$I$148,8,FALSE) -> MAP17 | I11: =VLOOKUP(H11,Results!$N$2:$O$9,2,FALSE) -> Dolly Mixtures | J11: =SUM(K11:M11) -> 0 | K11: =IF(H11="X",0,IF(N11>O11,1,0)) -> 0 | L11: =IF(OR(C11>Results!$F$1,N11="N"),0,IF(H11="X",0,IF(N11=O11,1,0))) -> 0 | M11: =IF(H11="X",0,IF(N11<O11,1,0)) -> 0 | N11: =IF($C11>Results!$F$1," ",(VLOOKUP($D11,Results!$B$2:$H$148,7,FALSE))) | O11: =IF($C11>Results!$F$1," ",(VLOOKUP($E11,Results!$C$2:$K$148,9,FALSE))) | P11: =IF(J11=" "," ",SUM(K11*2)+L11*1) -> 0
B12: =+$H$1 -> MAP11 | C12: 10 | D12: =CONCATENATE(C12,B12) -> 10MAP11 | E12: =CONCATENATE(C12,H12) -> 10MAP13 | G12: =+Results!D65 -> 46373 | H12: =VLOOKUP($D12,Results!$B$2:$I$148,8,FALSE) -> MAP13 | I12: =VLOOKUP(H12,Results!$N$2:$O$9,2,FALSE) -> The Smites | J12: =SUM(K12:M12) -> 0 | K12: =IF(H12="X",0,IF(N12>O12,1,0)) -> 0 | L12: =IF(OR(C12>Results!$F$1,N12="N"),0,IF(H12="X",0,IF(N12=O12,1,0))) -> 0 | M12: =IF(H12="X",0,IF(N12<O12,1,0)) -> 0 | N12: =IF($C12>Results!$F$1," ",(VLOOKUP($D12,Results!$B$2:$H$148,7,FALSE))) | O12: =IF($C12>Results!$F$1," ",(VLOOKUP($E12,Results!$C$2:$K$148,9,FALSE))) | P12: =IF(J12=" "," ",SUM(K12*2)+L12*1) -> 0
B13: =+$H$1 -> MAP11 | C13: 11 | D13: =CONCATENATE(C13,B13) -> 11MAP11 | E13: =CONCATENATE(C13,H13) -> 11MAP15 | G13: =+Results!D72 -> 46394 | H13: =VLOOKUP($D13,Results!$B$2:$I$148,8,FALSE) -> MAP15 | I13: =VLOOKUP(H13,Results!$N$2:$O$9,2,FALSE) -> F.W.Golf | J13: =SUM(K13:M13) -> 0 | K13: =IF(H13="X",0,IF(N13>O13,1,0)) -> 0 | L13: =IF(OR(C13>Results!$F$1,N13="N"),0,IF(H13="X",0,IF(N13=O13,1,0))) -> 0 | M13: =IF(H13="X",0,IF(N13<O13,1,0)) -> 0 | N13: =IF($C13>Results!$F$1," ",(VLOOKUP($D13,Results!$B$2:$H$148,7,FALSE))) | O13: =IF($C13>Results!$F$1," ",(VLOOKUP($E13,Results!$C$2:$K$148,9,FALSE))) | P13: =IF(J13=" "," ",SUM(K13*2)+L13*1) -> 0
B14: =+$H$1 -> MAP11 | C14: 12 | D14: =CONCATENATE(C14,B14) -> 12MAP11 | E14: =CONCATENATE(C14,H14) -> 12MAP16 | G14: =+Results!D79 -> 46401 | H14: =VLOOKUP($D14,Results!$B$2:$I$148,8,FALSE) -> MAP16 | I14: =VLOOKUP(H14,Results!$N$2:$O$9,2,FALSE) -> Donuts | J14: =SUM(K14:M14) -> 0 | K14: =IF(H14="X",0,IF(N14>O14,1,0)) -> 0 | L14: =IF(OR(C14>Results!$F$1,N14="N"),0,IF(H14="X",0,IF(N14=O14,1,0))) -> 0 | M14: =IF(H14="X",0,IF(N14<O14,1,0)) -> 0 | N14: =IF($C14>Results!$F$1," ",(VLOOKUP($D14,Results!$B$2:$H$148,7,FALSE))) | O14: =IF($C14>Results!$F$1," ",(VLOOKUP($E14,Results!$C$2:$K$148,9,FALSE))) | P14: =IF(J14=" "," ",SUM(K14*2)+L14*1) -> 0
B15: =+$H$1 -> MAP11 | C15: 13 | D15: =CONCATENATE(C15,B15) -> 13MAP11 | E15: =CONCATENATE(C15,H15) -> 13MAP14 | G15: =+Results!D86 -> 46408 | H15: =VLOOKUP($D15,Results!$B$2:$I$148,8,FALSE) -> MAP14 | I15: =VLOOKUP(H15,Results!$N$2:$O$9,2,FALSE) -> Wizards | J15: =SUM(K15:M15) -> 0 | K15: =IF(H15="X",0,IF(N15>O15,1,0)) -> 0 | L15: =IF(OR(C15>Results!$F$1,N15="N"),0,IF(H15="X",0,IF(N15=O15,1,0))) -> 0 | M15: =IF(H15="X",0,IF(N15<O15,1,0)) -> 0 | N15: =IF($C15>Results!$F$1," ",(VLOOKUP($D15,Results!$B$2:$H$148,7,FALSE))) | O15: =IF($C15>Results!$F$1," ",(VLOOKUP($E15,Results!$C$2:$K$148,9,FALSE))) | P15: =IF(J15=" "," ",SUM(K15*2)+L15*1) -> 0
B16: =+$H$1 -> MAP11 | C16: 14 | D16: =CONCATENATE(C16,B16) -> 14MAP11 | E16: =CONCATENATE(C16,H16) -> 14X | G16: =+Results!D93 -> 46443 | H16: =VLOOKUP($D16,Results!$B$2:$I$148,8,FALSE) -> X | I16: =VLOOKUP(H16,Results!$N$2:$O$9,2,FALSE) -> No Match | J16: =SUM(K16:M16) -> 0 | K16: =IF(H16="X",0,IF(N16>O16,1,0)) -> 0 | L16: =IF(OR(C16>Results!$F$1,N16="N"),0,IF(H16="X",0,IF(N16=O16,1,0))) -> 0 | M16: =IF(H16="X",0,IF(N16<O16,1,0)) -> 0 | N16: =IF($C16>Results!$F$1," ",(VLOOKUP($D16,Results!$B$2:$H$148,7,FALSE))) | O16: =IF($C16>Results!$F$1," ",(VLOOKUP($E16,Results!$C$2:$K$148,9,FALSE))) | P16: =IF(J16=" "," ",SUM(K16*2)+L16*1) -> 0
B17: =+$H$1 -> MAP11 | C17: 15 | D17: =CONCATENATE(C17,B17) -> 15MAP11 | E17: =CONCATENATE(C17,H17) -> 15MAP12 | G17: =+Results!D100 -> 46450 | H17: =VLOOKUP($D17,Results!$B$2:$I$148,8,FALSE) -> MAP12 | I17: =VLOOKUP(H17,Results!$N$2:$O$9,2,FALSE) -> R & R | J17: =SUM(K17:M17) -> 0 | K17: =IF(H17="X",0,IF(N17>O17,1,0)) -> 0 | L17: =IF(OR(C17>Results!$F$1,N17="N"),0,IF(H17="X",0,IF(N17=O17,1,0))) -> 0 | M17: =IF(H17="X",0,IF(N17<O17,1,0)) -> 0 | N17: =IF($C17>Results!$F$1," ",(VLOOKUP($D17,Results!$B$2:$H$148,7,FALSE))) | O17: =IF($C17>Results!$F$1," ",(VLOOKUP($E17,Results!$C$2:$K$148,9,FALSE))) | P17: =IF(J17=" "," ",SUM(K17*2)+L17*1) -> 0
B18: =+$H$1 -> MAP11 | C18: 16 | D18: =CONCATENATE(C18,B18) -> 16MAP11 | E18: =CONCATENATE(C18,H18) -> 16MAP17 | G18: =+Results!D107 -> 46457 | H18: =VLOOKUP($D18,Results!$B$2:$I$148,8,FALSE) -> MAP17 | I18: =VLOOKUP(H18,Results!$N$2:$O$9,2,FALSE) -> Dolly Mixtures | J18: =SUM(K18:M18) -> 0 | K18: =IF(H18="X",0,IF(N18>O18,1,0)) -> 0 | L18: =IF(OR(C18>Results!$F$1,N18="N"),0,IF(H18="X",0,IF(N18=O18,1,0))) -> 0 | M18: =IF(H18="X",0,IF(N18<O18,1,0)) -> 0 | N18: =IF($C18>Results!$F$1," ",(VLOOKUP($D18,Results!$B$2:$H$148,7,FALSE))) | O18: =IF($C18>Results!$F$1," ",(VLOOKUP($E18,Results!$C$2:$K$148,9,FALSE))) | P18: =IF(J18=" "," ",SUM(K18*2)+L18*1) -> 0
B19: =+$H$1 -> MAP11 | C19: 17 | D19: =CONCATENATE(C19,B19) -> 17MAP11 | E19: =CONCATENATE(C19,H19) -> 17MAP13 | G19: =+Results!D114 -> 46464 | H19: =VLOOKUP($D19,Results!$B$2:$I$148,8,FALSE) -> MAP13 | I19: =VLOOKUP(H19,Results!$N$2:$O$9,2,FALSE) -> The Smites | J19: =SUM(K19:M19) -> 0 | K19: =IF(H19="X",0,IF(N19>O19,1,0)) -> 0 | L19: =IF(OR(C19>Results!$F$1,N19="N"),0,IF(H19="X",0,IF(N19=O19,1,0))) -> 0 | M19: =IF(H19="X",0,IF(N19<O19,1,0)) -> 0 | N19: =IF($C19>Results!$F$1," ",(VLOOKUP($D19,Results!$B$2:$H$148,7,FALSE))) | O19: =IF($C19>Results!$F$1," ",(VLOOKUP($E19,Results!$C$2:$K$148,9,FALSE))) | P19: =IF(J19=" "," ",SUM(K19*2)+L19*1) -> 0
B20: =+$H$1 -> MAP11 | C20: 18 | D20: =CONCATENATE(C20,B20) -> 18MAP11 | E20: =CONCATENATE(C20,H20) -> 18MAP15 | G20: =+Results!D121 -> 46471 | H20: =VLOOKUP($D20,Results!$B$2:$I$148,8,FALSE) -> MAP15 | I20: =VLOOKUP(H20,Results!$N$2:$O$9,2,FALSE) -> F.W.Golf | J20: =SUM(K20:M20) -> 0 | K20: =IF(H20="X",0,IF(N20>O20,1,0)) -> 0 | L20: =IF(OR(C20>Results!$F$1,N20="N"),0,IF(H20="X",0,IF(N20=O20,1,0))) -> 0 | M20: =IF(H20="X",0,IF(N20<O20,1,0)) -> 0 | N20: =IF($C20>Results!$F$1," ",(VLOOKUP($D20,Results!$B$2:$H$148,7,FALSE))) | O20: =IF($C20>Results!$F$1," ",(VLOOKUP($E20,Results!$C$2:$K$148,9,FALSE))) | P20: =IF(J20=" "," ",SUM(K20*2)+L20*1) -> 0
B21: =+$H$1 -> MAP11 | C21: 19 | D21: =CONCATENATE(C21,B21) -> 19MAP11 | E21: =CONCATENATE(C21,H21) -> 19MAP16 | G21: =+Results!D128 -> 46478 | H21: =VLOOKUP($D21,Results!$B$2:$I$148,8,FALSE) -> MAP16 | I21: =VLOOKUP(H21,Results!$N$2:$O$9,2,FALSE) -> Donuts | J21: =SUM(K21:M21) -> 0 | K21: =IF(H21="X",0,IF(N21>O21,1,0)) -> 0 | L21: =IF(OR(C21>Results!$F$1,N21="N"),0,IF(H21="X",0,IF(N21=O21,1,0))) -> 0 | M21: =IF(H21="X",0,IF(N21<O21,1,0)) -> 0 | N21: =IF($C21>Results!$F$1," ",(VLOOKUP($D21,Results!$B$2:$H$148,7,FALSE))) | O21: =IF($C21>Results!$F$1," ",(VLOOKUP($E21,Results!$C$2:$K$148,9,FALSE))) | P21: =IF(J21=" "," ",SUM(K21*2)+L21*1) -> 0
B22: =+$H$1 -> MAP11 | C22: 20 | D22: =CONCATENATE(C22,B22) -> 20MAP11 | E22: =CONCATENATE(C22,H22) -> 20MAP14 | G22: =+Results!D135 -> 46485 | H22: =VLOOKUP($D22,Results!$B$2:$I$148,8,FALSE) -> MAP14 | I22: =VLOOKUP(H22,Results!$N$2:$O$9,2,FALSE) -> Wizards | J22: =SUM(K22:M22) -> 0 | K22: =IF(H22="X",0,IF(N22>O22,1,0)) -> 0 | L22: =IF(OR(C22>Results!$F$1,N22="N"),0,IF(H22="X",0,IF(N22=O22,1,0))) -> 0 | M22: =IF(H22="X",0,IF(N22<O22,1,0)) -> 0 | N22: =IF($C22>Results!$F$1," ",(VLOOKUP($D22,Results!$B$2:$H$148,7,FALSE))) | O22: =IF($C22>Results!$F$1," ",(VLOOKUP($E22,Results!$C$2:$K$148,9,FALSE))) | P22: =IF(J22=" "," ",SUM(K22*2)+L22*1) -> 0
B23: =+$H$1 -> MAP11 | C23: 21 | D23: =CONCATENATE(C23,B23) -> 21MAP11 | E23: =CONCATENATE(C23,H23) -> 21X | G23: =+Results!D142 -> 46492 | H23: =VLOOKUP($D23,Results!$B$2:$I$148,8,FALSE) -> X | I23: =VLOOKUP(H23,Results!$N$2:$O$9,2,FALSE) -> No Match | J23: =SUM(K23:M23) -> 0 | K23: =IF(H23="X",0,IF(N23>O23,1,0)) -> 0 | L23: =IF(OR(C23>Results!$F$1,N23="N"),0,IF(H23="X",0,IF(N23=O23,1,0))) -> 0 | M23: =IF(H23="X",0,IF(N23<O23,1,0)) -> 0 | N23: =IF($C23>Results!$F$1," ",(VLOOKUP($D23,Results!$B$2:$H$148,7,FALSE))) | O23: =IF($C23>Results!$F$1," ",(VLOOKUP($E23,Results!$C$2:$K$148,9,FALSE))) | P23: =IF(J23=" "," ",SUM(K23*2)+L23*1) -> 0
I24: TOTALS | J24: =SUM(J3:J23) -> 3 | K24: =SUM(K3:K23) -> 2 | L24: =SUM(L3:L23) -> 0 | M24: =SUM(M3:M23) -> 1 | N24: =SUM(N3:N23) -> 33 | O24: =SUM(O3:O23) -> 35 | P24: =SUM(P3:P23) -> 4

Sheet MAP12 R & R
H1: MAP12 | I1: R & R
D2: F | E2: A | G2: Date | H2: Code | I2: Opponents | J2: Played | K2: Won | L2: Drawn | M2: Lost | N2: Shots For | O2: Shots Against | P2: Pts
B3: =+$H$1 -> MAP12 | C3: 1 | D3: =CONCATENATE(C3,B3) -> 1MAP12 | E3: =CONCATENATE(C3,H3) -> 1MAP11 | G3: =+Results!D2 -> 46282 | H3: =VLOOKUP($D3,Results!$B$2:$I$148,8,FALSE) -> MAP11 | I3: =VLOOKUP(H3,Results!$N$2:$O$9,2,FALSE) -> Banana Skins | J3: =SUM(K3:M3) -> 1 | K3: =IF(H3="X",0,IF(N3>O3,1,0)) -> 0 | L3: =IF(OR(C3>Results!$F$1,N3="N"),0,IF(H3="X",0,IF(N3=O3,1,0))) -> 0 | M3: =IF(H3="X",0,IF(N3<O3,1,0)) -> 1 | N3: =IF($C3>Results!$F$1," ",(VLOOKUP($D3,Results!$B$2:$H$148,7,FALSE))) -> 12 | O3: =IF($C3>Results!$F$1," ",(VLOOKUP($E3,Results!$C$2:$K$148,9,FALSE))) -> 13 | P3: =IF(J3=" "," ",SUM(K3*2)+L3*1) -> 0
B4: =+$H$1 -> MAP12 | C4: 2 | D4: =CONCATENATE(C4,B4) -> 2MAP12 | E4: =CONCATENATE(C4,H4) -> 2MAP13 | G4: =+Results!D9 -> 46289 | H4: =VLOOKUP($D4,Results!$B$2:$I$148,8,FALSE) -> MAP13 | I4: =VLOOKUP(H4,Results!$N$2:$O$9,2,FALSE) -> The Smites | J4: =SUM(K4:M4) -> 0 | K4: =IF(H4="X",0,IF(N4>O4,1,0)) -> 0 | L4: =IF(OR(C4>Results!$F$1,N4="N"),0,IF(H4="X",0,IF(N4=O4,1,0))) -> 0 | M4: =IF(H4="X",0,IF(N4<O4,1,0)) -> 0 | N4: =IF($C4>Results!$F$1," ",(VLOOKUP($D4,Results!$B$2:$H$148,7,FALSE))) -> N | O4: =IF($C4>Results!$F$1," ",(VLOOKUP($E4,Results!$C$2:$K$148,9,FALSE))) -> N | P4: =IF(J4=" "," ",SUM(K4*2)+L4*1) -> 0
B5: =+$H$1 -> MAP12 | C5: 3 | D5: =CONCATENATE(C5,B5) -> 3MAP12 | E5: =CONCATENATE(C5,H5) -> 3MAP14 | G5: =+Results!D16 -> 46296 | H5: =VLOOKUP($D5,Results!$B$2:$I$148,8,FALSE) -> MAP14 | I5: =VLOOKUP(H5,Results!$N$2:$O$9,2,FALSE) -> Wizards | J5: =SUM(K5:M5) -> 1 | K5: =IF(H5="X",0,IF(N5>O5,1,0)) -> 1 | L5: =IF(OR(C5>Results!$F$1,N5="N"),0,IF(H5="X",0,IF(N5=O5,1,0))) -> 0 | M5: =IF(H5="X",0,IF(N5<O5,1,0)) -> 0 | N5: =IF($C5>Results!$F$1," ",(VLOOKUP($D5,Results!$B$2:$H$148,7,FALSE))) -> 13 | O5: =IF($C5>Results!$F$1," ",(VLOOKUP($E5,Results!$C$2:$K$148,9,FALSE))) -> 10 | P5: =IF(J5=" "," ",SUM(K5*2)+L5*1) -> 2
B6: =+$H$1 -> MAP12 | C6: 4 | D6: =CONCATENATE(C6,B6) -> 4MAP12 | E6: =CONCATENATE(C6,H6) -> 4MAP16 | G6: =+Results!D23 -> 46303 | H6: =VLOOKUP($D6,Results!$B$2:$I$148,8,FALSE) -> MAP16 | I6: =VLOOKUP(H6,Results!$N$2:$O$9,2,FALSE) -> Donuts | J6: =SUM(K6:M6) -> 0 | K6: =IF(H6="X",0,IF(N6>O6,1,0)) -> 0 | L6: =IF(OR(C6>Results!$F$1,N6="N"),0,IF(H6="X",0,IF(N6=O6,1,0))) -> 0 | M6: =IF(H6="X",0,IF(N6<O6,1,0)) -> 0 | N6: =IF($C6>Results!$F$1," ",(VLOOKUP($D6,Results!$B$2:$H$148,7,FALSE))) | O6: =IF($C6>Results!$F$1," ",(VLOOKUP($E6,Results!$C$2:$K$148,9,FALSE))) | P6: =IF(J6=" "," ",SUM(K6*2)+L6*1) -> 0
B7: =+$H$1 -> MAP12 | C7: 5 | D7: =CONCATENATE(C7,B7) -> 5MAP12 | E7: =CONCATENATE(C7,H7) -> 5MAP15 | G7: =+Results!D30 -> 46317 | H7: =VLOOKUP($D7,Results!$B$2:$I$148,8,FALSE) -> MAP15 | I7: =VLOOKUP(H7,Results!$N$2:$O$9,2,FALSE) -> F.W.Golf | J7: =SUM(K7:M7) -> 0 | K7: =IF(H7="X",0,IF(N7>O7,1,0)) -> 0 | L7: =IF(OR(C7>Results!$F$1,N7="N"),0,IF(H7="X",0,IF(N7=O7,1,0))) -> 0 | M7: =IF(H7="X",0,IF(N7<O7,1,0)) -> 0 | N7: =IF($C7>Results!$F$1," ",(VLOOKUP($D7,Results!$B$2:$H$148,7,FALSE))) | O7: =IF($C7>Results!$F$1," ",(VLOOKUP($E7,Results!$C$2:$K$148,9,FALSE))) | P7: =IF(J7=" "," ",SUM(K7*2)+L7*1) -> 0
B8: =+$H$1 -> MAP12 | C8: 6 | D8: =CONCATENATE(C8,B8) -> 6MAP12 | E8: =CONCATENATE(C8,H8) -> 6X | G8: =+Results!D37 -> 46324 | H8: =VLOOKUP($D8,Results!$B$2:$I$148,8,FALSE) -> X | I8: =VLOOKUP(H8,Results!$N$2:$O$9,2,FALSE) -> No Match | J8: =SUM(K8:M8) -> 0 | K8: =IF(H8="X",0,IF(N8>O8,1,0)) -> 0 | L8: =IF(OR(C8>Results!$F$1,N8="N"),0,IF(H8="X",0,IF(N8=O8,1,0))) -> 0 | M8: =IF(H8="X",0,IF(N8<O8,1,0)) -> 0 | N8: =IF($C8>Results!$F$1," ",(VLOOKUP($D8,Results!$B$2:$H$148,7,FALSE))) | O8: =IF($C8>Results!$F$1," ",(VLOOKUP($E8,Results!$C$2:$K$148,9,FALSE))) | P8: =IF(J8=" "," ",SUM(K8*2)+L8*1) -> 0
B9: =+$H$1 -> MAP12 | C9: 7 | D9: =CONCATENATE(C9,B9) -> 7MAP12 | E9: =CONCATENATE(C9,H9) -> 7MAP17 | G9: =+Results!D44 -> 46338 | H9: =VLOOKUP($D9,Results!$B$2:$I$148,8,FALSE) -> MAP17 | I9: =VLOOKUP(H9,Results!$N$2:$O$9,2,FALSE) -> Dolly Mixtures | J9: =SUM(K9:M9) -> 0 | K9: =IF(H9="X",0,IF(N9>O9,1,0)) -> 0 | L9: =IF(OR(C9>Results!$F$1,N9="N"),0,IF(H9="X",0,IF(N9=O9,1,0))) -> 0 | M9: =IF(H9="X",0,IF(N9<O9,1,0)) -> 0 | N9: =IF($C9>Results!$F$1," ",(VLOOKUP($D9,Results!$B$2:$H$148,7,FALSE))) | O9: =IF($C9>Results!$F$1," ",(VLOOKUP($E9,Results!$C$2:$K$148,9,FALSE))) | P9: =IF(J9=" "," ",SUM(K9*2)+L9*1) -> 0
B10: =+$H$1 -> MAP12 | C10: 8 | D10: =CONCATENATE(C10,B10) -> 8MAP12 | E10: =CONCATENATE(C10,H10) -> 8MAP11 | G10: =+Results!D51 -> 46343 | H10: =VLOOKUP($D10,Results!$B$2:$I$148,8,FALSE) -> MAP11 | I10: =VLOOKUP(H10,Results!$N$2:$O$9,2,FALSE) -> Banana Skins | J10: =SUM(K10:M10) -> 0 | K10: =IF(H10="X",0,IF(N10>O10,1,0)) -> 0 | L10: =IF(OR(C10>Results!$F$1,N10="N"),0,IF(H10="X",0,IF(N10=O10,1,0))) -> 0 | M10: =IF(H10="X",0,IF(N10<O10,1,0)) -> 0 | N10: =IF($C10>Results!$F$1," ",(VLOOKUP($D10,Results!$B$2:$H$148,7,FALSE))) | O10: =IF($C10>Results!$F$1," ",(VLOOKUP($E10,Results!$C$2:$K$148,9,FALSE))) | P10: =IF(J10=" "," ",SUM(K10*2)+L10*1) -> 0
B11: =+$H$1 -> MAP12 | C11: 9 | D11: =CONCATENATE(C11,B11) -> 9MAP12 | E11: =CONCATENATE(C11,H11) -> 9MAP13 | G11: =+Results!D58 -> 46359 | H11: =VLOOKUP($D11,Results!$B$2:$I$148,8,FALSE) -> MAP13 | I11: =VLOOKUP(H11,Results!$N$2:$O$9,2,FALSE) -> The Smites | J11: =SUM(K11:M11) -> 0 | K11: =IF(H11="X",0,IF(N11>O11,1,0)) -> 0 | L11: =IF(OR(C11>Results!$F$1,N11="N"),0,IF(H11="X",0,IF(N11=O11,1,0))) -> 0 | M11: =IF(H11="X",0,IF(N11<O11,1,0)) -> 0 | N11: =IF($C11>Results!$F$1," ",(VLOOKUP($D11,Results!$B$2:$H$148,7,FALSE))) | O11: =IF($C11>Results!$F$1," ",(VLOOKUP($E11,Results!$C$2:$K$148,9,FALSE))) | P11: =IF(J11=" "," ",SUM(K11*2)+L11*1) -> 0
B12: =+$H$1 -> MAP12 | C12: 10 | D12: =CONCATENATE(C12,B12) -> 10MAP12 | E12: =CONCATENATE(C12,H12) -> 10MAP14 | G12: =+Results!D65 -> 46373 | H12: =VLOOKUP($D12,Results!$B$2:$I$148,8,FALSE) -> MAP14 | I12: =VLOOKUP(H12,Results!$N$2:$O$9,2,FALSE) -> Wizards | J12: =SUM(K12:M12) -> 0 | K12: =IF(H12="X",0,IF(N12>O12,1,0)) -> 0 | L12: =IF(OR(C12>Results!$F$1,N12="N"),0,IF(H12="X",0,IF(N12=O12,1,0))) -> 0 | M12: =IF(H12="X",0,IF(N12<O12,1,0)) -> 0 | N12: =IF($C12>Results!$F$1," ",(VLOOKUP($D12,Results!$B$2:$H$148,7,FALSE))) | O12: =IF($C12>Results!$F$1," ",(VLOOKUP($E12,Results!$C$2:$K$148,9,FALSE))) | P12: =IF(J12=" "," ",SUM(K12*2)+L12*1) -> 0
B13: =+$H$1 -> MAP12 | C13: 11 | D13: =CONCATENATE(C13,B13) -> 11MAP12 | E13: =CONCATENATE(C13,H13) -> 11MAP16 | G13: =+Results!D72 -> 46394 | H13: =VLOOKUP($D13,Results!$B$2:$I$148,8,FALSE) -> MAP16 | I13: =VLOOKUP(H13,Results!$N$2:$O$9,2,FALSE) -> Donuts | J13: =SUM(K13:M13) -> 0 | K13: =IF(H13="X",0,IF(N13>O13,1,0)) -> 0 | L13: =IF(OR(C13>Results!$F$1,N13="N"),0,IF(H13="X",0,IF(N13=O13,1,0))) -> 0 | M13: =IF(H13="X",0,IF(N13<O13,1,0)) -> 0 | N13: =IF($C13>Results!$F$1," ",(VLOOKUP($D13,Results!$B$2:$H$148,7,FALSE))) | O13: =IF($C13>Results!$F$1," ",(VLOOKUP($E13,Results!$C$2:$K$148,9,FALSE))) | P13: =IF(J13=" "," ",SUM(K13*2)+L13*1) -> 0
B14: =+$H$1 -> MAP12 | C14: 12 | D14: =CONCATENATE(C14,B14) -> 12MAP12 | E14: =CONCATENATE(C14,H14) -> 12MAP15 | G14: =+Results!D79 -> 46401 | H14: =VLOOKUP($D14,Results!$B$2:$I$148,8,FALSE) -> MAP15 | I14: =VLOOKUP(H14,Results!$N$2:$O$9,2,FALSE) -> F.W.Golf | J14: =SUM(K14:M14) -> 0 | K14: =IF(H14="X",0,IF(N14>O14,1,0)) -> 0 | L14: =IF(OR(C14>Results!$F$1,N14="N"),0,IF(H14="X",0,IF(N14=O14,1,0))) -> 0 | M14: =IF(H14="X",0,IF(N14<O14,1,0)) -> 0 | N14: =IF($C14>Results!$F$1," ",(VLOOKUP($D14,Results!$B$2:$H$148,7,FALSE))) | O14: =IF($C14>Results!$F$1," ",(VLOOKUP($E14,Results!$C$2:$K$148,9,FALSE))) | P14: =IF(J14=" "," ",SUM(K14*2)+L14*1) -> 0
B15: =+$H$1 -> MAP12 | C15: 13 | D15: =CONCATENATE(C15,B15) -> 13MAP12 | E15: =CONCATENATE(C15,H15) -> 13X | G15: =+Results!D86 -> 46408 | H15: =VLOOKUP($D15,Results!$B$2:$I$148,8,FALSE) -> X | I15: =VLOOKUP(H15,Results!$N$2:$O$9,2,FALSE) -> No Match | J15: =SUM(K15:M15) -> 0 | K15: =IF(H15="X",0,IF(N15>O15,1,0)) -> 0 | L15: =IF(OR(C15>Results!$F$1,N15="N"),0,IF(H15="X",0,IF(N15=O15,1,0))) -> 0 | M15: =IF(H15="X",0,IF(N15<O15,1,0)) -> 0 | N15: =IF($C15>Results!$F$1," ",(VLOOKUP($D15,Results!$B$2:$H$148,7,FALSE))) | O15: =IF($C15>Results!$F$1," ",(VLOOKUP($E15,Results!$C$2:$K$148,9,FALSE))) | P15: =IF(J15=" "," ",SUM(K15*2)+L15*1) -> 0
B16: =+$H$1 -> MAP12 | C16: 14 | D16: =CONCATENATE(C16,B16) -> 14MAP12 | E16: =CONCATENATE(C16,H16) -> 14MAP17 | G16: =+Results!D93 -> 46443 | H16: =VLOOKUP($D16,Results!$B$2:$I$148,8,FALSE) -> MAP17 | I16: =VLOOKUP(H16,Results!$N$2:$O$9,2,FALSE) -> Dolly Mixtures | J16: =SUM(K16:M16) -> 0 | K16: =IF(H16="X",0,IF(N16>O16,1,0)) -> 0 | L16: =IF(OR(C16>Results!$F$1,N16="N"),0,IF(H16="X",0,IF(N16=O16,1,0))) -> 0 | M16: =IF(H16="X",0,IF(N16<O16,1,0)) -> 0 | N16: =IF($C16>Results!$F$1," ",(VLOOKUP($D16,Results!$B$2:$H$148,7,FALSE))) | O16: =IF($C16>Results!$F$1," ",(VLOOKUP($E16,Results!$C$2:$K$148,9,FALSE))) | P16: =IF(J16=" "," ",SUM(K16*2)+L16*1) -> 0
B17: =+$H$1 -> MAP12 | C17: 15 | D17: =CONCATENATE(C17,B17) -> 15MAP12 | E17: =CONCATENATE(C17,H17) -> 15MAP11 | G17: =+Results!D100 -> 46450 | H17: =VLOOKUP($D17,Results!$B$2:$I$148,8,FALSE) -> MAP11 | I17: =VLOOKUP(H17,Results!$N$2:$O$9,2,FALSE) -> Banana Skins | J17: =SUM(K17:M17) -> 0 | K17: =IF(H17="X",0,IF(N17>O17,1,0)) -> 0 | L17: =IF(OR(C17>Results!$F$1,N17="N"),0,IF(H17="X",0,IF(N17=O17,1,0))) -> 0 | M17: =IF(H17="X",0,IF(N17<O17,1,0)) -> 0 | N17: =IF($C17>Results!$F$1," ",(VLOOKUP($D17,Results!$B$2:$H$148,7,FALSE))) | O17: =IF($C17>Results!$F$1," ",(VLOOKUP($E17,Results!$C$2:$K$148,9,FALSE))) | P17: =IF(J17=" "," ",SUM(K17*2)+L17*1) -> 0
B18: =+$H$1 -> MAP12 | C18: 16 | D18: =CONCATENATE(C18,B18) -> 16MAP12 | E18: =CONCATENATE(C18,H18) -> 16MAP13 | G18: =+Results!D107 -> 46457 | H18: =VLOOKUP($D18,Results!$B$2:$I$148,8,FALSE) -> MAP13 | I18: =VLOOKUP(H18,Results!$N$2:$O$9,2,FALSE) -> The Smites | J18: =SUM(K18:M18) -> 0 | K18: =IF(H18="X",0,IF(N18>O18,1,0)) -> 0 | L18: =IF(OR(C18>Results!$F$1,N18="N"),0,IF(H18="X",0,IF(N18=O18,1,0))) -> 0 | M18: =IF(H18="X",0,IF(N18<O18,1,0)) -> 0 | N18: =IF($C18>Results!$F$1," ",(VLOOKUP($D18,Results!$B$2:$H$148,7,FALSE))) | O18: =IF($C18>Results!$F$1," ",(VLOOKUP($E18,Results!$C$2:$K$148,9,FALSE))) | P18: =IF(J18=" "," ",SUM(K18*2)+L18*1) -> 0
B19: =+$H$1 -> MAP12 | C19: 17 | D19: =CONCATENATE(C19,B19) -> 17MAP12 | E19: =CONCATENATE(C19,H19) -> 17MAP14 | G19: =+Results!D114 -> 46464 | H19: =VLOOKUP($D19,Results!$B$2:$I$148,8,FALSE) -> MAP14 | I19: =VLOOKUP(H19,Results!$N$2:$O$9,2,FALSE) -> Wizards | J19: =SUM(K19:M19) -> 0 | K19: =IF(H19="X",0,IF(N19>O19,1,0)) -> 0 | L19: =IF(OR(C19>Results!$F$1,N19="N"),0,IF(H19="X",0,IF(N19=O19,1,0))) -> 0 | M19: =IF(H19="X",0,IF(N19<O19,1,0)) -> 0 | N19: =IF($C19>Results!$F$1," ",(VLOOKUP($D19,Results!$B$2:$H$148,7,FALSE))) | O19: =IF($C19>Results!$F$1," ",(VLOOKUP($E19,Results!$C$2:$K$148,9,FALSE))) | P19: =IF(J19=" "," ",SUM(K19*2)+L19*1) -> 0
B20: =+$H$1 -> MAP12 | C20: 18 | D20: =CONCATENATE(C20,B20) -> 18MAP12 | E20: =CONCATENATE(C20,H20) -> 18MAP16 | G20: =+Results!D121 -> 46471 | H20: =VLOOKUP($D20,Results!$B$2:$I$148,8,FALSE) -> MAP16 | I20: =VLOOKUP(H20,Results!$N$2:$O$9,2,FALSE) -> Donuts | J20: =SUM(K20:M20) -> 0 | K20: =IF(H20="X",0,IF(N20>O20,1,0)) -> 0 | L20: =IF(OR(C20>Results!$F$1,N20="N"),0,IF(H20="X",0,IF(N20=O20,1,0))) -> 0 | M20: =IF(H20="X",0,IF(N20<O20,1,0)) -> 0 | N20: =IF($C20>Results!$F$1," ",(VLOOKUP($D20,Results!$B$2:$H$148,7,FALSE))) | O20: =IF($C20>Results!$F$1," ",(VLOOKUP($E20,Results!$C$2:$K$148,9,FALSE))) | P20: =IF(J20=" "," ",SUM(K20*2)+L20*1) -> 0
B21: =+$H$1 -> MAP12 | C21: 19 | D21: =CONCATENATE(C21,B21) -> 19MAP12 | E21: =CONCATENATE(C21,H21) -> 19MAP15 | G21: =+Results!D128 -> 46478 | H21: =VLOOKUP($D21,Results!$B$2:$I$148,8,FALSE) -> MAP15 | I21: =VLOOKUP(H21,Results!$N$2:$O$9,2,FALSE) -> F.W.Golf | J21: =SUM(K21:M21) -> 0 | K21: =IF(H21="X",0,IF(N21>O21,1,0)) -> 0 | L21: =IF(OR(C21>Results!$F$1,N21="N"),0,IF(H21="X",0,IF(N21=O21,1,0))) -> 0 | M21: =IF(H21="X",0,IF(N21<O21,1,0)) -> 0 | N21: =IF($C21>Results!$F$1," ",(VLOOKUP($D21,Results!$B$2:$H$148,7,FALSE))) | O21: =IF($C21>Results!$F$1," ",(VLOOKUP($E21,Results!$C$2:$K$148,9,FALSE))) | P21: =IF(J21=" "," ",SUM(K21*2)+L21*1) -> 0
B22: =+$H$1 -> MAP12 | C22: 20 | D22: =CONCATENATE(C22,B22) -> 20MAP12 | E22: =CONCATENATE(C22,H22) -> 20X | G22: =+Results!D135 -> 46485 | H22: =VLOOKUP($D22,Results!$B$2:$I$148,8,FALSE) -> X | I22: =VLOOKUP(H22,Results!$N$2:$O$9,2,FALSE) -> No Match | J22: =SUM(K22:M22) -> 0 | K22: =IF(H22="X",0,IF(N22>O22,1,0)) -> 0 | L22: =IF(OR(C22>Results!$F$1,N22="N"),0,IF(H22="X",0,IF(N22=O22,1,0))) -> 0 | M22: =IF(H22="X",0,IF(N22<O22,1,0)) -> 0 | N22: =IF($C22>Results!$F$1," ",(VLOOKUP($D22,Results!$B$2:$H$148,7,FALSE))) | O22: =IF($C22>Results!$F$1," ",(VLOOKUP($E22,Results!$C$2:$K$148,9,FALSE))) | P22: =IF(J22=" "," ",SUM(K22*2)+L22*1) -> 0
B23: =+$H$1 -> MAP12 | C23: 21 | D23: =CONCATENATE(C23,B23) -> 21MAP12 | E23: =CONCATENATE(C23,H23) -> 21MAP17 | G23: =+Results!D142 -> 46492 | H23: =VLOOKUP($D23,Results!$B$2:$I$148,8,FALSE) -> MAP17 | I23: =VLOOKUP(H23,Results!$N$2:$O$9,2,FALSE) -> Dolly Mixtures | J23: =SUM(K23:M23) -> 0 | K23: =IF(H23="X",0,IF(N23>O23,1,0)) -> 0 | L23: =IF(OR(C23>Results!$F$1,N23="N"),0,IF(H23="X",0,IF(N23=O23,1,0))) -> 0 | M23: =IF(H23="X",0,IF(N23<O23,1,0)) -> 0 | N23: =IF($C23>Results!$F$1," ",(VLOOKUP($D23,Results!$B$2:$H$148,7,FALSE))) | O23: =IF($C23>Results!$F$1," ",(VLOOKUP($E23,Results!$C$2:$K$148,9,FALSE))) | P23: =IF(J23=" "," ",SUM(K23*2)+L23*1) -> 0
I24: TOTALS | J24: =SUM(J3:J23) -> 2 | K24: =SUM(K3:K23) -> 1 | L24: =SUM(L3:L23) -> 0 | M24: =SUM(M3:M23) -> 1 | N24: =SUM(N3:N23) -> 25 | O24: =SUM(O3:O23) -> 23 | P24: =SUM(P3:P23) -> 2

Sheet MAP13 THE SMITES
H1: MAP13 | I1: THE SMITES
D2: F | E2: A | G2: Date | H2: Code | I2: Opponents | J2: Played | K2: Won | L2: Drawn | M2: Lost | N2: Shots For | O2: Shots Against | P2: Pts
B3: =+$H$1 -> MAP13 | C3: 1 | D3: =CONCATENATE(C3,B3) -> 1MAP13 | E3: =CONCATENATE(C3,H3) -> 1MAP14 | G3: =+Results!D2 -> 46282 | H3: =VLOOKUP($D3,Results!$B$2:$I$148,8,FALSE) -> MAP14 | I3: =VLOOKUP(H3,Results!$N$2:$O$9,2,FALSE) -> Wizards | J3: =SUM(K3:M3) -> 1 | K3: =IF(H3="X",0,IF(N3>O3,1,0)) -> 0 | L3: =IF(OR(C3>Results!$F$1,N3="N"),0,IF(H3="X",0,IF(N3=O3,1,0))) -> 0 | M3: =IF(H3="X",0,IF(N3<O3,1,0)) -> 1 | N3: =IF($C3>Results!$F$1," ",(VLOOKUP($D3,Results!$B$2:$H$148,7,FALSE))) -> 8 | O3: =IF($C3>Results!$F$1," ",(VLOOKUP($E3,Results!$C$2:$K$148,9,FALSE))) -> 10 | P3: =IF(J3=" "," ",SUM(K3*2)+L3*1) -> 0
B4: =+$H$1 -> MAP13 | C4: 2 | D4: =CONCATENATE(C4,B4) -> 2MAP13 | E4: =CONCATENATE(C4,H4) -> 2MAP12 | G4: =+Results!D9 -> 46289 | H4: =VLOOKUP($D4,Results!$B$2:$I$148,8,FALSE) -> MAP12 | I4: =VLOOKUP(H4,Results!$N$2:$O$9,2,FALSE) -> R & R | J4: =SUM(K4:M4) -> 0 | K4: =IF(H4="X",0,IF(N4>O4,1,0)) -> 0 | L4: =IF(OR(C4>Results!$F$1,N4="N"),0,IF(H4="X",0,IF(N4=O4,1,0))) -> 0 | M4: =IF(H4="X",0,IF(N4<O4,1,0)) -> 0 | N4: =IF($C4>Results!$F$1," ",(VLOOKUP($D4,Results!$B$2:$H$148,7,FALSE))) -> N | O4: =IF($C4>Results!$F$1," ",(VLOOKUP($E4,Results!$C$2:$K$148,9,FALSE))) -> N | P4: =IF(J4=" "," ",SUM(K4*2)+L4*1) -> 0
B5: =+$H$1 -> MAP13 | C5: 3 | D5: =CONCATENATE(C5,B5) -> 3MAP13 | E5: =CONCATENATE(C5,H5) -> 3MAP11 | G5: =+Results!D16 -> 46296 | H5: =VLOOKUP($D5,Results!$B$2:$I$148,8,FALSE) -> MAP11 | I5: =VLOOKUP(H5,Results!$N$2:$O$9,2,FALSE) -> Banana Skins | J5: =SUM(K5:M5) -> 1 | K5: =IF(H5="X",0,IF(N5>O5,1,0)) -> 1 | L5: =IF(OR(C5>Results!$F$1,N5="N"),0,IF(H5="X",0,IF(N5=O5,1,0))) -> 0 | M5: =IF(H5="X",0,IF(N5<O5,1,0)) -> 0 | N5: =IF($C5>Results!$F$1," ",(VLOOKUP($D5,Results!$B$2:$H$148,7,FALSE))) -> 13 | O5: =IF($C5>Results!$F$1," ",(VLOOKUP($E5,Results!$C$2:$K$148,9,FALSE))) -> 4 | P5: =IF(J5=" "," ",SUM(K5*2)+L5*1) -> 2
B6: =+$H$1 -> MAP13 | C6: 4 | D6: =CONCATENATE(C6,B6) -> 4MAP13 | E6: =CONCATENATE(C6,H6) -> 4MAP17 | G6: =+Results!D23 -> 46303 | H6: =VLOOKUP($D6,Results!$B$2:$I$148,8,FALSE) -> MAP17 | I6: =VLOOKUP(H6,Results!$N$2:$O$9,2,FALSE) -> Dolly Mixtures | J6: =SUM(K6:M6) -> 0 | K6: =IF(H6="X",0,IF(N6>O6,1,0)) -> 0 | L6: =IF(OR(C6>Results!$F$1,N6="N"),0,IF(H6="X",0,IF(N6=O6,1,0))) -> 0 | M6: =IF(H6="X",0,IF(N6<O6,1,0)) -> 0 | N6: =IF($C6>Results!$F$1," ",(VLOOKUP($D6,Results!$B$2:$H$148,7,FALSE))) | O6: =IF($C6>Results!$F$1," ",(VLOOKUP($E6,Results!$C$2:$K$148,9,FALSE))) | P6: =IF(J6=" "," ",SUM(K6*2)+L6*1) -> 0
B7: =+$H$1 -> MAP13 | C7: 5 | D7: =CONCATENATE(C7,B7) -> 5MAP13 | E7: =CONCATENATE(C7,H7) -> 5X | G7: =+Results!D30 -> 46317 | H7: =VLOOKUP($D7,Results!$B$2:$I$148,8,FALSE) -> X | I7: =VLOOKUP(H7,Results!$N$2:$O$9,2,FALSE) -> No Match | J7: =SUM(K7:M7) -> 0 | K7: =IF(H7="X",0,IF(N7>O7,1,0)) -> 0 | L7: =IF(OR(C7>Results!$F$1,N7="N"),0,IF(H7="X",0,IF(N7=O7,1,0))) -> 0 | M7: =IF(H7="X",0,IF(N7<O7,1,0)) -> 0 | N7: =IF($C7>Results!$F$1," ",(VLOOKUP($D7,Results!$B$2:$H$148,7,FALSE))) | O7: =IF($C7>Results!$F$1," ",(VLOOKUP($E7,Results!$C$2:$K$148,9,FALSE))) | P7: =IF(J7=" "," ",SUM(K7*2)+L7*1) -> 0
B8: =+$H$1 -> MAP13 | C8: 6 | D8: =CONCATENATE(C8,B8) -> 6MAP13 | E8: =CONCATENATE(C8,H8) -> 6MAP16 | G8: =+Results!D37 -> 46324 | H8: =VLOOKUP($D8,Results!$B$2:$I$148,8,FALSE) -> MAP16 | I8: =VLOOKUP(H8,Results!$N$2:$O$9,2,FALSE) -> Donuts | J8: =SUM(K8:M8) -> 0 | K8: =IF(H8="X",0,IF(N8>O8,1,0)) -> 0 | L8: =IF(OR(C8>Results!$F$1,N8="N"),0,IF(H8="X",0,IF(N8=O8,1,0))) -> 0 | M8: =IF(H8="X",0,IF(N8<O8,1,0)) -> 0 | N8: =IF($C8>Results!$F$1," ",(VLOOKUP($D8,Results!$B$2:$H$148,7,FALSE))) | O8: =IF($C8>Results!$F$1," ",(VLOOKUP($E8,Results!$C$2:$K$148,9,FALSE))) | P8: =IF(J8=" "," ",SUM(K8*2)+L8*1) -> 0
B9: =+$H$1 -> MAP13 | C9: 7 | D9: =CONCATENATE(C9,B9) -> 7MAP13 | E9: =CONCATENATE(C9,H9) -> 7MAP15 | G9: =+Results!D44 -> 46338 | H9: =VLOOKUP($D9,Results!$B$2:$I$148,8,FALSE) -> MAP15 | I9: =VLOOKUP(H9,Results!$N$2:$O$9,2,FALSE) -> F.W.Golf | J9: =SUM(K9:M9) -> 0 | K9: =IF(H9="X",0,IF(N9>O9,1,0)) -> 0 | L9: =IF(OR(C9>Results!$F$1,N9="N"),0,IF(H9="X",0,IF(N9=O9,1,0))) -> 0 | M9: =IF(H9="X",0,IF(N9<O9,1,0)) -> 0 | N9: =IF($C9>Results!$F$1," ",(VLOOKUP($D9,Results!$B$2:$H$148,7,FALSE))) | O9: =IF($C9>Results!$F$1," ",(VLOOKUP($E9,Results!$C$2:$K$148,9,FALSE))) | P9: =IF(J9=" "," ",SUM(K9*2)+L9*1) -> 0
B10: =+$H$1 -> MAP13 | C10: 8 | D10: =CONCATENATE(C10,B10) -> 8MAP13 | E10: =CONCATENATE(C10,H10) -> 8MAP14 | G10: =+Results!D51 -> 46343 | H10: =VLOOKUP($D10,Results!$B$2:$I$148,8,FALSE) -> MAP14 | I10: =VLOOKUP(H10,Results!$N$2:$O$9,2,FALSE) -> Wizards | J10: =SUM(K10:M10) -> 0 | K10: =IF(H10="X",0,IF(N10>O10,1,0)) -> 0 | L10: =IF(OR(C10>Results!$F$1,N10="N"),0,IF(H10="X",0,IF(N10=O10,1,0))) -> 0 | M10: =IF(H10="X",0,IF(N10<O10,1,0)) -> 0 | N10: =IF($C10>Results!$F$1," ",(VLOOKUP($D10,Results!$B$2:$H$148,7,FALSE))) | O10: =IF($C10>Results!$F$1," ",(VLOOKUP($E10,Results!$C$2:$K$148,9,FALSE))) | P10: =IF(J10=" "," ",SUM(K10*2)+L10*1) -> 0
B11: =+$H$1 -> MAP13 | C11: 9 | D11: =CONCATENATE(C11,B11) -> 9MAP13 | E11: =CONCATENATE(C11,H11) -> 9MAP12 | G11: =+Results!D58 -> 46359 | H11: =VLOOKUP($D11,Results!$B$2:$I$148,8,FALSE) -> MAP12 | I11: =VLOOKUP(H11,Results!$N$2:$O$9,2,FALSE) -> R & R | J11: =SUM(K11:M11) -> 0 | K11: =IF(H11="X",0,IF(N11>O11,1,0)) -> 0 | L11: =IF(OR(C11>Results!$F$1,N11="N"),0,IF(H11="X",0,IF(N11=O11,1,0))) -> 0 | M11: =IF(H11="X",0,IF(N11<O11,1,0)) -> 0 | N11: =IF($C11>Results!$F$1," ",(VLOOKUP($D11,Results!$B$2:$H$148,7,FALSE))) | O11: =IF($C11>Results!$F$1," ",(VLOOKUP($E11,Results!$C$2:$K$148,9,FALSE))) | P11: =IF(J11=" "," ",SUM(K11*2)+L11*1) -> 0
B12: =+$H$1 -> MAP13 | C12: 10 | D12: =CONCATENATE(C12,B12) -> 10MAP13 | E12: =CONCATENATE(C12,H12) -> 10MAP11 | G12: =+Results!D65 -> 46373 | H12: =VLOOKUP($D12,Results!$B$2:$I$148,8,FALSE) -> MAP11 | I12: =VLOOKUP(H12,Results!$N$2:$O$9,2,FALSE) -> Banana Skins | J12: =SUM(K12:M12) -> 0 | K12: =IF(H12="X",0,IF(N12>O12,1,0)) -> 0 | L12: =IF(OR(C12>Results!$F$1,N12="N"),0,IF(H12="X",0,IF(N12=O12,1,0))) -> 0 | M12: =IF(H12="X",0,IF(N12<O12,1,0)) -> 0 | N12: =IF($C12>Results!$F$1," ",(VLOOKUP($D12,Results!$B$2:$H$148,7,FALSE))) | O12: =IF($C12>Results!$F$1," ",(VLOOKUP($E12,Results!$C$2:$K$148,9,FALSE))) | P12: =IF(J12=" "," ",SUM(K12*2)+L12*1) -> 0
B13: =+$H$1 -> MAP13 | C13: 11 | D13: =CONCATENATE(C13,B13) -> 11MAP13 | E13: =CONCATENATE(C13,H13) -> 11MAP17 | G13: =+Results!D72 -> 46394 | H13: =VLOOKUP($D13,Results!$B$2:$I$148,8,FALSE) -> MAP17 | I13: =VLOOKUP(H13,Results!$N$2:$O$9,2,FALSE) -> Dolly Mixtures | J13: =SUM(K13:M13) -> 0 | K13: =IF(H13="X",0,IF(N13>O13,1,0)) -> 0 | L13: =IF(OR(C13>Results!$F$1,N13="N"),0,IF(H13="X",0,IF(N13=O13,1,0))) -> 0 | M13: =IF(H13="X",0,IF(N13<O13,1,0)) -> 0 | N13: =IF($C13>Results!$F$1," ",(VLOOKUP($D13,Results!$B$2:$H$148,7,FALSE))) | O13: =IF($C13>Results!$F$1," ",(VLOOKUP($E13,Results!$C$2:$K$148,9,FALSE))) | P13: =IF(J13=" "," ",SUM(K13*2)+L13*1) -> 0
B14: =+$H$1 -> MAP13 | C14: 12 | D14: =CONCATENATE(C14,B14) -> 12MAP13 | E14: =CONCATENATE(C14,H14) -> 12X | G14: =+Results!D79 -> 46401 | H14: =VLOOKUP($D14,Results!$B$2:$I$148,8,FALSE) -> X | I14: =VLOOKUP(H14,Results!$N$2:$O$9,2,FALSE) -> No Match | J14: =SUM(K14:M14) -> 0 | K14: =IF(H14="X",0,IF(N14>O14,1,0)) -> 0 | L14: =IF(OR(C14>Results!$F$1,N14="N"),0,IF(H14="X",0,IF(N14=O14,1,0))) -> 0 | M14: =IF(H14="X",0,IF(N14<O14,1,0)) -> 0 | N14: =IF($C14>Results!$F$1," ",(VLOOKUP($D14,Results!$B$2:$H$148,7,FALSE))) | O14: =IF($C14>Results!$F$1," ",(VLOOKUP($E14,Results!$C$2:$K$148,9,FALSE))) | P14: =IF(J14=" "," ",SUM(K14*2)+L14*1) -> 0
B15: =+$H$1 -> MAP13 | C15: 13 | D15: =CONCATENATE(C15,B15) -> 13MAP13 | E15: =CONCATENATE(C15,H15) -> 13MAP16 | G15: =+Results!D86 -> 46408 | H15: =VLOOKUP($D15,Results!$B$2:$I$148,8,FALSE) -> MAP16 | I15: =VLOOKUP(H15,Results!$N$2:$O$9,2,FALSE) -> Donuts | J15: =SUM(K15:M15) -> 0 | K15: =IF(H15="X",0,IF(N15>O15,1,0)) -> 0 | L15: =IF(OR(C15>Results!$F$1,N15="N"),0,IF(H15="X",0,IF(N15=O15,1,0))) -> 0 | M15: =IF(H15="X",0,IF(N15<O15,1,0)) -> 0 | N15: =IF($C15>Results!$F$1," ",(VLOOKUP($D15,Results!$B$2:$H$148,7,FALSE))) | O15: =IF($C15>Results!$F$1," ",(VLOOKUP($E15,Results!$C$2:$K$148,9,FALSE))) | P15: =IF(J15=" "," ",SUM(K15*2)+L15*1) -> 0
B16: =+$H$1 -> MAP13 | C16: 14 | D16: =CONCATENATE(C16,B16) -> 14MAP13 | E16: =CONCATENATE(C16,H16) -> 14MAP15 | G16: =+Results!D93 -> 46443 | H16: =VLOOKUP($D16,Results!$B$2:$I$148,8,FALSE) -> MAP15 | I16: =VLOOKUP(H16,Results!$N$2:$O$9,2,FALSE) -> F.W.Golf | J16: =SUM(K16:M16) -> 0 | K16: =IF(H16="X",0,IF(N16>O16,1,0)) -> 0 | L16: =IF(OR(C16>Results!$F$1,N16="N"),0,IF(H16="X",0,IF(N16=O16,1,0))) -> 0 | M16: =IF(H16="X",0,IF(N16<O16,1,0)) -> 0 | N16: =IF($C16>Results!$F$1," ",(VLOOKUP($D16,Results!$B$2:$H$148,7,FALSE))) | O16: =IF($C16>Results!$F$1," ",(VLOOKUP($E16,Results!$C$2:$K$148,9,FALSE))) | P16: =IF(J16=" "," ",SUM(K16*2)+L16*1) -> 0
B17: =+$H$1 -> MAP13 | C17: 15 | D17: =CONCATENATE(C17,B17) -> 15MAP13 | E17: =CONCATENATE(C17,H17) -> 15MAP14 | G17: =+Results!D100 -> 46450 | H17: =VLOOKUP($D17,Results!$B$2:$I$148,8,FALSE) -> MAP14 | I17: =VLOOKUP(H17,Results!$N$2:$O$9,2,FALSE) -> Wizards | J17: =SUM(K17:M17) -> 0 | K17: =IF(H17="X",0,IF(N17>O17,1,0)) -> 0 | L17: =IF(OR(C17>Results!$F$1,N17="N"),0,IF(H17="X",0,IF(N17=O17,1,0))) -> 0 | M17: =IF(H17="X",0,IF(N17<O17,1,0)) -> 0 | N17: =IF($C17>Results!$F$1," ",(VLOOKUP($D17,Results!$B$2:$H$148,7,FALSE))) | O17: =IF($C17>Results!$F$1," ",(VLOOKUP($E17,Results!$C$2:$K$148,9,FALSE))) | P17: =IF(J17=" "," ",SUM(K17*2)+L17*1) -> 0
B18: =+$H$1 -> MAP13 | C18: 16 | D18: =CONCATENATE(C18,B18) -> 16MAP13 | E18: =CONCATENATE(C18,H18) -> 16MAP12 | G18: =+Results!D107 -> 46457 | H18: =VLOOKUP($D18,Results!$B$2:$I$148,8,FALSE) -> MAP12 | I18: =VLOOKUP(H18,Results!$N$2:$O$9,2,FALSE) -> R & R | J18: =SUM(K18:M18) -> 0 | K18: =IF(H18="X",0,IF(N18>O18,1,0)) -> 0 | L18: =IF(OR(C18>Results!$F$1,N18="N"),0,IF(H18="X",0,IF(N18=O18,1,0))) -> 0 | M18: =IF(H18="X",0,IF(N18<O18,1,0)) -> 0 | N18: =IF($C18>Results!$F$1," ",(VLOOKUP($D18,Results!$B$2:$H$148,7,FALSE))) | O18: =IF($C18>Results!$F$1," ",(VLOOKUP($E18,Results!$C$2:$K$148,9,FALSE))) | P18: =IF(J18=" "," ",SUM(K18*2)+L18*1) -> 0
B19: =+$H$1 -> MAP13 | C19: 17 | D19: =CONCATENATE(C19,B19) -> 17MAP13 | E19: =CONCATENATE(C19,H19) -> 17MAP11 | G19: =+Results!D114 -> 46464 | H19: =VLOOKUP($D19,Results!$B$2:$I$148,8,FALSE) -> MAP11 | I19: =VLOOKUP(H19,Results!$N$2:$O$9,2,FALSE) -> Banana Skins | J19: =SUM(K19:M19) -> 0 | K19: =IF(H19="X",0,IF(N19>O19,1,0)) -> 0 | L19: =IF(OR(C19>Results!$F$1,N19="N"),0,IF(H19="X",0,IF(N19=O19,1,0))) -> 0 | M19: =IF(H19="X",0,IF(N19<O19,1,0)) -> 0 | N19: =IF($C19>Results!$F$1," ",(VLOOKUP($D19,Results!$B$2:$H$148,7,FALSE))) | O19: =IF($C19>Results!$F$1," ",(VLOOKUP($E19,Results!$C$2:$K$148,9,FALSE))) | P19: =IF(J19=" "," ",SUM(K19*2)+L19*1) -> 0
B20: =+$H$1 -> MAP13 | C20: 18 | D20: =CONCATENATE(C20,B20) -> 18MAP13 | E20: =CONCATENATE(C20,H20) -> 18MAP17 | G20: =+Results!D121 -> 46471 | H20: =VLOOKUP($D20,Results!$B$2:$I$148,8,FALSE) -> MAP17 | I20: =VLOOKUP(H20,Results!$N$2:$O$9,2,FALSE) -> Dolly Mixtures | J20: =SUM(K20:M20) -> 0 | K20: =IF(H20="X",0,IF(N20>O20,1,0)) -> 0 | L20: =IF(OR(C20>Results!$F$1,N20="N"),0,IF(H20="X",0,IF(N20=O20,1,0))) -> 0 | M20: =IF(H20="X",0,IF(N20<O20,1,0)) -> 0 | N20: =IF($C20>Results!$F$1," ",(VLOOKUP($D20,Results!$B$2:$H$148,7,FALSE))) | O20: =IF($C20>Results!$F$1," ",(VLOOKUP($E20,Results!$C$2:$K$148,9,FALSE))) | P20: =IF(J20=" "," ",SUM(K20*2)+L20*1) -> 0
B21: =+$H$1 -> MAP13 | C21: 19 | D21: =CONCATENATE(C21,B21) -> 19MAP13 | E21: =CONCATENATE(C21,H21) -> 19X | G21: =+Results!D128 -> 46478 | H21: =VLOOKUP($D21,Results!$B$2:$I$148,8,FALSE) -> X | I21: =VLOOKUP(H21,Results!$N$2:$O$9,2,FALSE) -> No Match | J21: =SUM(K21:M21) -> 0 | K21: =IF(H21="X",0,IF(N21>O21,1,0)) -> 0 | L21: =IF(OR(C21>Results!$F$1,N21="N"),0,IF(H21="X",0,IF(N21=O21,1,0))) -> 0 | M21: =IF(H21="X",0,IF(N21<O21,1,0)) -> 0 | N21: =IF($C21>Results!$F$1," ",(VLOOKUP($D21,Results!$B$2:$H$148,7,FALSE))) | O21: =IF($C21>Results!$F$1," ",(VLOOKUP($E21,Results!$C$2:$K$148,9,FALSE))) | P21: =IF(J21=" "," ",SUM(K21*2)+L21*1) -> 0
B22: =+$H$1 -> MAP13 | C22: 20 | D22: =CONCATENATE(C22,B22) -> 20MAP13 | E22: =CONCATENATE(C22,H22) -> 20MAP16 | G22: =+Results!D135 -> 46485 | H22: =VLOOKUP($D22,Results!$B$2:$I$148,8,FALSE) -> MAP16 | I22: =VLOOKUP(H22,Results!$N$2:$O$9,2,FALSE) -> Donuts | J22: =SUM(K22:M22) -> 0 | K22: =IF(H22="X",0,IF(N22>O22,1,0)) -> 0 | L22: =IF(OR(C22>Results!$F$1,N22="N"),0,IF(H22="X",0,IF(N22=O22,1,0))) -> 0 | M22: =IF(H22="X",0,IF(N22<O22,1,0)) -> 0 | N22: =IF($C22>Results!$F$1," ",(VLOOKUP($D22,Results!$B$2:$H$148,7,FALSE))) | O22: =IF($C22>Results!$F$1," ",(VLOOKUP($E22,Results!$C$2:$K$148,9,FALSE))) | P22: =IF(J22=" "," ",SUM(K22*2)+L22*1) -> 0
B23: =+$H$1 -> MAP13 | C23: 21 | D23: =CONCATENATE(C23,B23) -> 21MAP13 | E23: =CONCATENATE(C23,H23) -> 21MAP15 | G23: =+Results!D142 -> 46492 | H23: =VLOOKUP($D23,Results!$B$2:$I$148,8,FALSE) -> MAP15 | I23: =VLOOKUP(H23,Results!$N$2:$O$9,2,FALSE) -> F.W.Golf | J23: =SUM(K23:M23) -> 0 | K23: =IF(H23="X",0,IF(N23>O23,1,0)) -> 0 | L23: =IF(OR(C23>Results!$F$1,N23="N"),0,IF(H23="X",0,IF(N23=O23,1,0))) -> 0 | M23: =IF(H23="X",0,IF(N23<O23,1,0)) -> 0 | N23: =IF($C23>Results!$F$1," ",(VLOOKUP($D23,Results!$B$2:$H$148,7,FALSE))) | O23: =IF($C23>Results!$F$1," ",(VLOOKUP($E23,Results!$C$2:$K$148,9,FALSE))) | P23: =IF(J23=" "," ",SUM(K23*2)+L23*1) -> 0
I24: TOTALS | J24: =SUM(J3:J23) -> 2 | K24: =SUM(K3:K23) -> 1 | L24: =SUM(L3:L23) -> 0 | M24: =SUM(M3:M23) -> 1 | N24: =SUM(N3:N23) -> 21 | O24: =SUM(O3:O23) -> 14 | P24: =SUM(P3:P23) -> 2

Sheet MAP14 WIZARDS
H1: MAP14 | I1: WIZARDS
D2: F | E2: A | G2: Date | H2: Code | I2: Opponents | J2: Played | K2: Won | L2: Drawn | M2: Lost | N2: Shots For | O2: Shots Against | P2: Pts
B3: =+$H$1 -> MAP14 | C3: 1 | D3: =CONCATENATE(C3,B3) -> 1MAP14 | E3: =CONCATENATE(C3,H3) -> 1MAP13 | G3: =+Results!D2 -> 46282 | H3: =VLOOKUP($D3,Results!$B$2:$I$148,8,FALSE) -> MAP13 | I3: =VLOOKUP(H3,Results!$N$2:$O$9,2,FALSE) -> The Smites | J3: =SUM(K3:M3) -> 1 | K3: =IF(H3="X",0,IF(N3>O3,1,0)) -> 1 | L3: =IF(OR(C3>Results!$F$1,N3="N"),0,IF(H3="X",0,IF(N3=O3,1,0))) -> 0 | M3: =IF(H3="X",0,IF(N3<O3,1,0)) -> 0 | N3: =IF($C3>Results!$F$1," ",(VLOOKUP($D3,Results!$B$2:$H$148,7,FALSE))) -> 10 | O3: =IF($C3>Results!$F$1," ",(VLOOKUP($E3,Results!$C$2:$K$148,9,FALSE))) -> 8 | P3: =IF(J3=" "," ",SUM(K3*2)+L3*1) -> 2
B4: =+$H$1 -> MAP14 | C4: 2 | D4: =CONCATENATE(C4,B4) -> 2MAP14 | E4: =CONCATENATE(C4,H4) -> 2MAP15 | G4: =+Results!D9 -> 46289 | H4: =VLOOKUP($D4,Results!$B$2:$I$148,8,FALSE) -> MAP15 | I4: =VLOOKUP(H4,Results!$N$2:$O$9,2,FALSE) -> F.W.Golf | J4: =SUM(K4:M4) -> 1 | K4: =IF(H4="X",0,IF(N4>O4,1,0)) -> 1 | L4: =IF(OR(C4>Results!$F$1,N4="N"),0,IF(H4="X",0,IF(N4=O4,1,0))) -> 0 | M4: =IF(H4="X",0,IF(N4<O4,1,0)) -> 0 | N4: =IF($C4>Results!$F$1," ",(VLOOKUP($D4,Results!$B$2:$H$148,7,FALSE))) -> 13 | O4: =IF($C4>Results!$F$1," ",(VLOOKUP($E4,Results!$C$2:$K$148,9,FALSE))) -> 10 | P4: =IF(J4=" "," ",SUM(K4*2)+L4*1) -> 2
B5: =+$H$1 -> MAP14 | C5: 3 | D5: =CONCATENATE(C5,B5) -> 3MAP14 | E5: =CONCATENATE(C5,H5) -> 3MAP12 | G5: =+Results!D16 -> 46296 | H5: =VLOOKUP($D5,Results!$B$2:$I$148,8,FALSE) -> MAP12 | I5: =VLOOKUP(H5,Results!$N$2:$O$9,2,FALSE) -> R & R | J5: =SUM(K5:M5) -> 1 | K5: =IF(H5="X",0,IF(N5>O5,1,0)) -> 0 | L5: =IF(OR(C5>Results!$F$1,N5="N"),0,IF(H5="X",0,IF(N5=O5,1,0))) -> 0 | M5: =IF(H5="X",0,IF(N5<O5,1,0)) -> 1 | N5: =IF($C5>Results!$F$1," ",(VLOOKUP($D5,Results!$B$2:$H$148,7,FALSE))) -> 10 | O5: =IF($C5>Results!$F$1," ",(VLOOKUP($E5,Results!$C$2:$K$148,9,FALSE))) -> 13 | P5: =IF(J5=" "," ",SUM(K5*2)+L5*1) -> 0
B6: =+$H$1 -> MAP14 | C6: 4 | D6: =CONCATENATE(C6,B6) -> 4MAP14 | E6: =CONCATENATE(C6,H6) -> 4X | G6: =+Results!D23 -> 46303 | H6: =VLOOKUP($D6,Results!$B$2:$I$148,8,FALSE) -> X | I6: =VLOOKUP(H6,Results!$N$2:$O$9,2,FALSE) -> No Match | J6: =SUM(K6:M6) -> 0 | K6: =IF(H6="X",0,IF(N6>O6,1,0)) -> 0 | L6: =IF(OR(C6>Results!$F$1,N6="N"),0,IF(H6="X",0,IF(N6=O6,1,0))) -> 0 | M6: =IF(H6="X",0,IF(N6<O6,1,0)) -> 0 | N6: =IF($C6>Results!$F$1," ",(VLOOKUP($D6,Results!$B$2:$H$148,7,FALSE))) | O6: =IF($C6>Results!$F$1," ",(VLOOKUP($E6,Results!$C$2:$K$148,9,FALSE))) | P6: =IF(J6=" "," ",SUM(K6*2)+L6*1) -> 0
B7: =+$H$1 -> MAP14 | C7: 5 | D7: =CONCATENATE(C7,B7) -> 5MAP14 | E7: =CONCATENATE(C7,H7) -> 5MAP17 | G7: =+Results!D30 -> 46317 | H7: =VLOOKUP($D7,Results!$B$2:$I$148,8,FALSE) -> MAP17 | I7: =VLOOKUP(H7,Results!$N$2:$O$9,2,FALSE) -> Dolly Mixtures | J7: =SUM(K7:M7) -> 0 | K7: =IF(H7="X",0,IF(N7>O7,1,0)) -> 0 | L7: =IF(OR(C7>Results!$F$1,N7="N"),0,IF(H7="X",0,IF(N7=O7,1,0))) -> 0 | M7: =IF(H7="X",0,IF(N7<O7,1,0)) -> 0 | N7: =IF($C7>Results!$F$1," ",(VLOOKUP($D7,Results!$B$2:$H$148,7,FALSE))) | O7: =IF($C7>Results!$F$1," ",(VLOOKUP($E7,Results!$C$2:$K$148,9,FALSE))) | P7: =IF(J7=" "," ",SUM(K7*2)+L7*1) -> 0
B8: =+$H$1 -> MAP14 | C8: 6 | D8: =CONCATENATE(C8,B8) -> 6MAP14 | E8: =CONCATENATE(C8,H8) -> 6MAP11 | G8: =+Results!D37 -> 46324 | H8: =VLOOKUP($D8,Results!$B$2:$I$148,8,FALSE) -> MAP11 | I8: =VLOOKUP(H8,Results!$N$2:$O$9,2,FALSE) -> Banana Skins | J8: =SUM(K8:M8) -> 0 | K8: =IF(H8="X",0,IF(N8>O8,1,0)) -> 0 | L8: =IF(OR(C8>Results!$F$1,N8="N"),0,IF(H8="X",0,IF(N8=O8,1,0))) -> 0 | M8: =IF(H8="X",0,IF(N8<O8,1,0)) -> 0 | N8: =IF($C8>Results!$F$1," ",(VLOOKUP($D8,Results!$B$2:$H$148,7,FALSE))) | O8: =IF($C8>Results!$F$1," ",(VLOOKUP($E8,Results!$C$2:$K$148,9,FALSE))) | P8: =IF(J8=" "," ",SUM(K8*2)+L8*1) -> 0
B9: =+$H$1 -> MAP14 | C9: 7 | D9: =CONCATENATE(C9,B9) -> 7MAP14 | E9: =CONCATENATE(C9,H9) -> 7MAP16 | G9: =+Results!D44 -> 46338 | H9: =VLOOKUP($D9,Results!$B$2:$I$148,8,FALSE) -> MAP16 | I9: =VLOOKUP(H9,Results!$N$2:$O$9,2,FALSE) -> Donuts | J9: =SUM(K9:M9) -> 0 | K9: =IF(H9="X",0,IF(N9>O9,1,0)) -> 0 | L9: =IF(OR(C9>Results!$F$1,N9="N"),0,IF(H9="X",0,IF(N9=O9,1,0))) -> 0 | M9: =IF(H9="X",0,IF(N9<O9,1,0)) -> 0 | N9: =IF($C9>Results!$F$1," ",(VLOOKUP($D9,Results!$B$2:$H$148,7,FALSE))) | O9: =IF($C9>Results!$F$1," ",(VLOOKUP($E9,Results!$C$2:$K$148,9,FALSE))) | P9: =IF(J9=" "," ",SUM(K9*2)+L9*1) -> 0
B10: =+$H$1 -> MAP14 | C10: 8 | D10: =CONCATENATE(C10,B10) -> 8MAP14 | E10: =CONCATENATE(C10,H10) -> 8MAP13 | G10: =+Results!D51 -> 46343 | H10: =VLOOKUP($D10,Results!$B$2:$I$148,8,FALSE) -> MAP13 | I10: =VLOOKUP(H10,Results!$N$2:$O$9,2,FALSE) -> The Smites | J10: =SUM(K10:M10) -> 0 | K10: =IF(H10="X",0,IF(N10>O10,1,0)) -> 0 | L10: =IF(OR(C10>Results!$F$1,N10="N"),0,IF(H10="X",0,IF(N10=O10,1,0))) -> 0 | M10: =IF(H10="X",0,IF(N10<O10,1,0)) -> 0 | N10: =IF($C10>Results!$F$1," ",(VLOOKUP($D10,Results!$B$2:$H$148,7,FALSE))) | O10: =IF($C10>Results!$F$1," ",(VLOOKUP($E10,Results!$C$2:$K$148,9,FALSE))) | P10: =IF(J10=" "," ",SUM(K10*2)+L10*1) -> 0
B11: =+$H$1 -> MAP14 | C11: 9 | D11: =CONCATENATE(C11,B11) -> 9MAP14 | E11: =CONCATENATE(C11,H11) -> 9MAP15 | G11: =+Results!D58 -> 46359 | H11: =VLOOKUP($D11,Results!$B$2:$I$148,8,FALSE) -> MAP15 | I11: =VLOOKUP(H11,Results!$N$2:$O$9,2,FALSE) -> F.W.Golf | J11: =SUM(K11:M11) -> 0 | K11: =IF(H11="X",0,IF(N11>O11,1,0)) -> 0 | L11: =IF(OR(C11>Results!$F$1,N11="N"),0,IF(H11="X",0,IF(N11=O11,1,0))) -> 0 | M11: =IF(H11="X",0,IF(N11<O11,1,0)) -> 0 | N11: =IF($C11>Results!$F$1," ",(VLOOKUP($D11,Results!$B$2:$H$148,7,FALSE))) | O11: =IF($C11>Results!$F$1," ",(VLOOKUP($E11,Results!$C$2:$K$148,9,FALSE))) | P11: =IF(J11=" "," ",SUM(K11*2)+L11*1) -> 0
B12: =+$H$1 -> MAP14 | C12: 10 | D12: =CONCATENATE(C12,B12) -> 10MAP14 | E12: =CONCATENATE(C12,H12) -> 10MAP12 | G12: =+Results!D65 -> 46373 | H12: =VLOOKUP($D12,Results!$B$2:$I$148,8,FALSE) -> MAP12 | I12: =VLOOKUP(H12,Results!$N$2:$O$9,2,FALSE) -> R & R | J12: =SUM(K12:M12) -> 0 | K12: =IF(H12="X",0,IF(N12>O12,1,0)) -> 0 | L12: =IF(OR(C12>Results!$F$1,N12="N"),0,IF(H12="X",0,IF(N12=O12,1,0))) -> 0 | M12: =IF(H12="X",0,IF(N12<O12,1,0)) -> 0 | N12: =IF($C12>Results!$F$1," ",(VLOOKUP($D12,Results!$B$2:$H$148,7,FALSE))) | O12: =IF($C12>Results!$F$1," ",(VLOOKUP($E12,Results!$C$2:$K$148,9,FALSE))) | P12: =IF(J12=" "," ",SUM(K12*2)+L12*1) -> 0
B13: =+$H$1 -> MAP14 | C13: 11 | D13: =CONCATENATE(C13,B13) -> 11MAP14 | E13: =CONCATENATE(C13,H13) -> 11X | G13: =+Results!D72 -> 46394 | H13: =VLOOKUP($D13,Results!$B$2:$I$148,8,FALSE) -> X | I13: =VLOOKUP(H13,Results!$N$2:$O$9,2,FALSE) -> No Match | J13: =SUM(K13:M13) -> 0 | K13: =IF(H13="X",0,IF(N13>O13,1,0)) -> 0 | L13: =IF(OR(C13>Results!$F$1,N13="N"),0,IF(H13="X",0,IF(N13=O13,1,0))) -> 0 | M13: =IF(H13="X",0,IF(N13<O13,1,0)) -> 0 | N13: =IF($C13>Results!$F$1," ",(VLOOKUP($D13,Results!$B$2:$H$148,7,FALSE))) | O13: =IF($C13>Results!$F$1," ",(VLOOKUP($E13,Results!$C$2:$K$148,9,FALSE))) | P13: =IF(J13=" "," ",SUM(K13*2)+L13*1) -> 0
B14: =+$H$1 -> MAP14 | C14: 12 | D14: =CONCATENATE(C14,B14) -> 12MAP14 | E14: =CONCATENATE(C14,H14) -> 12MAP17 | G14: =+Results!D79 -> 46401 | H14: =VLOOKUP($D14,Results!$B$2:$I$148,8,FALSE) -> MAP17 | I14: =VLOOKUP(H14,Results!$N$2:$O$9,2,FALSE) -> Dolly Mixtures | J14: =SUM(K14:M14) -> 0 | K14: =IF(H14="X",0,IF(N14>O14,1,0)) -> 0 | L14: =IF(OR(C14>Results!$F$1,N14="N"),0,IF(H14="X",0,IF(N14=O14,1,0))) -> 0 | M14: =IF(H14="X",0,IF(N14<O14,1,0)) -> 0 | N14: =IF($C14>Results!$F$1," ",(VLOOKUP($D14,Results!$B$2:$H$148,7,FALSE))) | O14: =IF($C14>Results!$F$1," ",(VLOOKUP($E14,Results!$C$2:$K$148,9,FALSE))) | P14: =IF(J14=" "," ",SUM(K14*2)+L14*1) -> 0
B15: =+$H$1 -> MAP14 | C15: 13 | D15: =CONCATENATE(C15,B15) -> 13MAP14 | E15: =CONCATENATE(C15,H15) -> 13MAP11 | G15: =+Results!D86 -> 46408 | H15: =VLOOKUP($D15,Results!$B$2:$I$148,8,FALSE) -> MAP11 | I15: =VLOOKUP(H15,Results!$N$2:$O$9,2,FALSE) -> Banana Skins | J15: =SUM(K15:M15) -> 0 | K15: =IF(H15="X",0,IF(N15>O15,1,0)) -> 0 | L15: =IF(OR(C15>Results!$F$1,N15="N"),0,IF(H15="X",0,IF(N15=O15,1,0))) -> 0 | M15: =IF(H15="X",0,IF(N15<O15,1,0)) -> 0 | N15: =IF($C15>Results!$F$1," ",(VLOOKUP($D15,Results!$B$2:$H$148,7,FALSE))) | O15: =IF($C15>Results!$F$1," ",(VLOOKUP($E15,Results!$C$2:$K$148,9,FALSE))) | P15: =IF(J15=" "," ",SUM(K15*2)+L15*1) -> 0
B16: =+$H$1 -> MAP14 | C16: 14 | D16: =CONCATENATE(C16,B16) -> 14MAP14 | E16: =CONCATENATE(C16,H16) -> 14MAP16 | G16: =+Results!D93 -> 46443 | H16: =VLOOKUP($D16,Results!$B$2:$I$148,8,FALSE) -> MAP16 | I16: =VLOOKUP(H16,Results!$N$2:$O$9,2,FALSE) -> Donuts | J16: =SUM(K16:M16) -> 0 | K16: =IF(H16="X",0,IF(N16>O16,1,0)) -> 0 | L16: =IF(OR(C16>Results!$F$1,N16="N"),0,IF(H16="X",0,IF(N16=O16,1,0))) -> 0 | M16: =IF(H16="X",0,IF(N16<O16,1,0)) -> 0 | N16: =IF($C16>Results!$F$1," ",(VLOOKUP($D16,Results!$B$2:$H$148,7,FALSE))) | O16: =IF($C16>Results!$F$1," ",(VLOOKUP($E16,Results!$C$2:$K$148,9,FALSE))) | P16: =IF(J16=" "," ",SUM(K16*2)+L16*1) -> 0
B17: =+$H$1 -> MAP14 | C17: 15 | D17: =CONCATENATE(C17,B17) -> 15MAP14 | E17: =CONCATENATE(C17,H17) -> 15MAP13 | G17: =+Results!D100 -> 46450 | H17: =VLOOKUP($D17,Results!$B$2:$I$148,8,FALSE) -> MAP13 | I17: =VLOOKUP(H17,Results!$N$2:$O$9,2,FALSE) -> The Smites | J17: =SUM(K17:M17) -> 0 | K17: =IF(H17="X",0,IF(N17>O17,1,0)) -> 0 | L17: =IF(OR(C17>Results!$F$1,N17="N"),0,IF(H17="X",0,IF(N17=O17,1,0))) -> 0 | M17: =IF(H17="X",0,IF(N17<O17,1,0)) -> 0 | N17: =IF($C17>Results!$F$1," ",(VLOOKUP($D17,Results!$B$2:$H$148,7,FALSE))) | O17: =IF($C17>Results!$F$1," ",(VLOOKUP($E17,Results!$C$2:$K$148,9,FALSE))) | P17: =IF(J17=" "," ",SUM(K17*2)+L17*1) -> 0
B18: =+$H$1 -> MAP14 | C18: 16 | D18: =CONCATENATE(C18,B18) -> 16MAP14 | E18: =CONCATENATE(C18,H18) -> 16MAP15 | G18: =+Results!D107 -> 46457 | H18: =VLOOKUP($D18,Results!$B$2:$I$148,8,FALSE) -> MAP15 | I18: =VLOOKUP(H18,Results!$N$2:$O$9,2,FALSE) -> F.W.Golf | J18: =SUM(K18:M18) -> 0 | K18: =IF(H18="X",0,IF(N18>O18,1,0)) -> 0 | L18: =IF(OR(C18>Results!$F$1,N18="N"),0,IF(H18="X",0,IF(N18=O18,1,0))) -> 0 | M18: =IF(H18="X",0,IF(N18<O18,1,0)) -> 0 | N18: =IF($C18>Results!$F$1," ",(VLOOKUP($D18,Results!$B$2:$H$148,7,FALSE))) | O18: =IF($C18>Results!$F$1," ",(VLOOKUP($E18,Results!$C$2:$K$148,9,FALSE))) | P18: =IF(J18=" "," ",SUM(K18*2)+L18*1) -> 0
B19: =+$H$1 -> MAP14 | C19: 17 | D19: =CONCATENATE(C19,B19) -> 17MAP14 | E19: =CONCATENATE(C19,H19) -> 17MAP12 | G19: =+Results!D114 -> 46464 | H19: =VLOOKUP($D19,Results!$B$2:$I$148,8,FALSE) -> MAP12 | I19: =VLOOKUP(H19,Results!$N$2:$O$9,2,FALSE) -> R & R | J19: =SUM(K19:M19) -> 0 | K19: =IF(H19="X",0,IF(N19>O19,1,0)) -> 0 | L19: =IF(OR(C19>Results!$F$1,N19="N"),0,IF(H19="X",0,IF(N19=O19,1,0))) -> 0 | M19: =IF(H19="X",0,IF(N19<O19,1,0)) -> 0 | N19: =IF($C19>Results!$F$1," ",(VLOOKUP($D19,Results!$B$2:$H$148,7,FALSE))) | O19: =IF($C19>Results!$F$1," ",(VLOOKUP($E19,Results!$C$2:$K$148,9,FALSE))) | P19: =IF(J19=" "," ",SUM(K19*2)+L19*1) -> 0
B20: =+$H$1 -> MAP14 | C20: 18 | D20: =CONCATENATE(C20,B20) -> 18MAP14 | E20: =CONCATENATE(C20,H20) -> 18X | G20: =+Results!D121 -> 46471 | H20: =VLOOKUP($D20,Results!$B$2:$I$148,8,FALSE) -> X | I20: =VLOOKUP(H20,Results!$N$2:$O$9,2,FALSE) -> No Match | J20: =SUM(K20:M20) -> 0 | K20: =IF(H20="X",0,IF(N20>O20,1,0)) -> 0 | L20: =IF(OR(C20>Results!$F$1,N20="N"),0,IF(H20="X",0,IF(N20=O20,1,0))) -> 0 | M20: =IF(H20="X",0,IF(N20<O20,1,0)) -> 0 | N20: =IF($C20>Results!$F$1," ",(VLOOKUP($D20,Results!$B$2:$H$148,7,FALSE))) | O20: =IF($C20>Results!$F$1," ",(VLOOKUP($E20,Results!$C$2:$K$148,9,FALSE))) | P20: =IF(J20=" "," ",SUM(K20*2)+L20*1) -> 0
B21: =+$H$1 -> MAP14 | C21: 19 | D21: =CONCATENATE(C21,B21) -> 19MAP14 | E21: =CONCATENATE(C21,H21) -> 19MAP17 | G21: =+Results!D128 -> 46478 | H21: =VLOOKUP($D21,Results!$B$2:$I$148,8,FALSE) -> MAP17 | I21: =VLOOKUP(H21,Results!$N$2:$O$9,2,FALSE) -> Dolly Mixtures | J21: =SUM(K21:M21) -> 0 | K21: =IF(H21="X",0,IF(N21>O21,1,0)) -> 0 | L21: =IF(OR(C21>Results!$F$1,N21="N"),0,IF(H21="X",0,IF(N21=O21,1,0))) -> 0 | M21: =IF(H21="X",0,IF(N21<O21,1,0)) -> 0 | N21: =IF($C21>Results!$F$1," ",(VLOOKUP($D21,Results!$B$2:$H$148,7,FALSE))) | O21: =IF($C21>Results!$F$1," ",(VLOOKUP($E21,Results!$C$2:$K$148,9,FALSE))) | P21: =IF(J21=" "," ",SUM(K21*2)+L21*1) -> 0
B22: =+$H$1 -> MAP14 | C22: 20 | D22: =CONCATENATE(C22,B22) -> 20MAP14 | E22: =CONCATENATE(C22,H22) -> 20MAP11 | G22: =+Results!D135 -> 46485 | H22: =VLOOKUP($D22,Results!$B$2:$I$148,8,FALSE) -> MAP11 | I22: =VLOOKUP(H22,Results!$N$2:$O$9,2,FALSE) -> Banana Skins | J22: =SUM(K22:M22) -> 0 | K22: =IF(H22="X",0,IF(N22>O22,1,0)) -> 0 | L22: =IF(OR(C22>Results!$F$1,N22="N"),0,IF(H22="X",0,IF(N22=O22,1,0))) -> 0 | M22: =IF(H22="X",0,IF(N22<O22,1,0)) -> 0 | N22: =IF($C22>Results!$F$1," ",(VLOOKUP($D22,Results!$B$2:$H$148,7,FALSE))) | O22: =IF($C22>Results!$F$1," ",(VLOOKUP($E22,Results!$C$2:$K$148,9,FALSE))) | P22: =IF(J22=" "," ",SUM(K22*2)+L22*1) -> 0
B23: =+$H$1 -> MAP14 | C23: 21 | D23: =CONCATENATE(C23,B23) -> 21MAP14 | E23: =CONCATENATE(C23,H23) -> 21MAP16 | G23: =+Results!D142 -> 46492 | H23: =VLOOKUP($D23,Results!$B$2:$I$148,8,FALSE) -> MAP16 | I23: =VLOOKUP(H23,Results!$N$2:$O$9,2,FALSE) -> Donuts | J23: =SUM(K23:M23) -> 0 | K23: =IF(H23="X",0,IF(N23>O23,1,0)) -> 0 | L23: =IF(OR(C23>Results!$F$1,N23="N"),0,IF(H23="X",0,IF(N23=O23,1,0))) -> 0 | M23: =IF(H23="X",0,IF(N23<O23,1,0)) -> 0 | N23: =IF($C23>Results!$F$1," ",(VLOOKUP($D23,Results!$B$2:$H$148,7,FALSE))) | O23: =IF($C23>Results!$F$1," ",(VLOOKUP($E23,Results!$C$2:$K$148,9,FALSE))) | P23: =IF(J23=" "," ",SUM(K23*2)+L23*1) -> 0
I24: TOTALS | J24: =SUM(J3:J23) -> 3 | K24: =SUM(K3:K23) -> 2 | L24: =SUM(L3:L23) -> 0 | M24: =SUM(M3:M23) -> 1 | N24: =SUM(N3:N23) -> 33 | O24: =SUM(O3:O23) -> 31 | P24: =SUM(P3:P23) -> 4

Sheet MAP15 F.W.GOLF
H1: MAP15 | I1: F.W.GOLF
D2: F | E2: A | G2: Date | H2: Code | I2: Opponents | J2: Played | K2: Won | L2: Drawn | M2: Lost | N2: Shots For | O2: Shots Against | P2: Pts
B3: =+$H$1 -> MAP15 | C3: 1 | D3: =CONCATENATE(C3,B3) -> 1MAP15 | E3: =CONCATENATE(C3,H3) -> 1MAP16 | G3: =+Results!D2 -> 46282 | H3: =VLOOKUP($D3,Results!$B$2:$I$148,8,FALSE) -> MAP16 | I3: =VLOOKUP(H3,Results!$N$2:$O$9,2,FALSE) -> Donuts | J3: =SUM(K3:M3) -> 1 | K3: =IF(H3="X",0,IF(N3>O3,1,0)) -> 1 | L3: =IF(OR(C3>Results!$F$1,N3="N"),0,IF(H3="X",0,IF(N3=O3,1,0))) -> 0 | M3: =IF(H3="X",0,IF(N3<O3,1,0)) -> 0 | N3: =IF($C3>Results!$F$1," ",(VLOOKUP($D3,Results!$B$2:$H$148,7,FALSE))) -> 16 | O3: =IF($C3>Results!$F$1," ",(VLOOKUP($E3,Results!$C$2:$K$148,9,FALSE))) -> 4 | P3: =IF(J3=" "," ",SUM(K3*2)+L3*1) -> 2
B4: =+$H$1 -> MAP15 | C4: 2 | D4: =CONCATENATE(C4,B4) -> 2MAP15 | E4: =CONCATENATE(C4,H4) -> 2MAP14 | G4: =+Results!D9 -> 46289 | H4: =VLOOKUP($D4,Results!$B$2:$I$148,8,FALSE) -> MAP14 | I4: =VLOOKUP(H4,Results!$N$2:$O$9,2,FALSE) -> Wizards | J4: =SUM(K4:M4) -> 1 | K4: =IF(H4="X",0,IF(N4>O4,1,0)) -> 0 | L4: =IF(OR(C4>Results!$F$1,N4="N"),0,IF(H4="X",0,IF(N4=O4,1,0))) -> 0 | M4: =IF(H4="X",0,IF(N4<O4,1,0)) -> 1 | N4: =IF($C4>Results!$F$1," ",(VLOOKUP($D4,Results!$B$2:$H$148,7,FALSE))) -> 10 | O4: =IF($C4>Results!$F$1," ",(VLOOKUP($E4,Results!$C$2:$K$148,9,FALSE))) -> 13 | P4: =IF(J4=" "," ",SUM(K4*2)+L4*1) -> 0
B5: =+$H$1 -> MAP15 | C5: 3 | D5: =CONCATENATE(C5,B5) -> 3MAP15 | E5: =CONCATENATE(C5,H5) -> 3X | G5: =+Results!D16 -> 46296 | H5: =VLOOKUP($D5,Results!$B$2:$I$148,8,FALSE) -> X | I5: =VLOOKUP(H5,Results!$N$2:$O$9,2,FALSE) -> No Match | J5: =SUM(K5:M5) -> 0 | K5: =IF(H5="X",0,IF(N5>O5,1,0)) -> 0 | L5: =IF(OR(C5>Results!$F$1,N5="N"),0,IF(H5="X",0,IF(N5=O5,1,0))) -> 0 | M5: =IF(H5="X",0,IF(N5<O5,1,0)) -> 0 | N5: =IF($C5>Results!$F$1," ",(VLOOKUP($D5,Results!$B$2:$H$148,7,FALSE))) -> 0 | O5: =IF($C5>Results!$F$1," ",(VLOOKUP($E5,Results!$C$2:$K$148,9,FALSE))) -> 0 | P5: =IF(J5=" "," ",SUM(K5*2)+L5*1) -> 0
B6: =+$H$1 -> MAP15 | C6: 4 | D6: =CONCATENATE(C6,B6) -> 4MAP15 | E6: =CONCATENATE(C6,H6) -> 4MAP11 | G6: =+Results!D23 -> 46303 | H6: =VLOOKUP($D6,Results!$B$2:$I$148,8,FALSE) -> MAP11 | I6: =VLOOKUP(H6,Results!$N$2:$O$9,2,FALSE) -> Banana Skins | J6: =SUM(K6:M6) -> 0 | K6: =IF(H6="X",0,IF(N6>O6,1,0)) -> 0 | L6: =IF(OR(C6>Results!$F$1,N6="N"),0,IF(H6="X",0,IF(N6=O6,1,0))) -> 0 | M6: =IF(H6="X",0,IF(N6<O6,1,0)) -> 0 | N6: =IF($C6>Results!$F$1," ",(VLOOKUP($D6,Results!$B$2:$H$148,7,FALSE))) | O6: =IF($C6>Results!$F$1," ",(VLOOKUP($E6,Results!$C$2:$K$148,9,FALSE))) | P6: =IF(J6=" "," ",SUM(K6*2)+L6*1) -> 0
B7: =+$H$1 -> MAP15 | C7: 5 | D7: =CONCATENATE(C7,B7) -> 5MAP15 | E7: =CONCATENATE(C7,H7) -> 5MAP12 | G7: =+Results!D30 -> 46317 | H7: =VLOOKUP($D7,Results!$B$2:$I$148,8,FALSE) -> MAP12 | I7: =VLOOKUP(H7,Results!$N$2:$O$9,2,FALSE) -> R & R | J7: =SUM(K7:M7) -> 0 | K7: =IF(H7="X",0,IF(N7>O7,1,0)) -> 0 | L7: =IF(OR(C7>Results!$F$1,N7="N"),0,IF(H7="X",0,IF(N7=O7,1,0))) -> 0 | M7: =IF(H7="X",0,IF(N7<O7,1,0)) -> 0 | N7: =IF($C7>Results!$F$1," ",(VLOOKUP($D7,Results!$B$2:$H$148,7,FALSE))) | O7: =IF($C7>Results!$F$1," ",(VLOOKUP($E7,Results!$C$2:$K$148,9,FALSE))) | P7: =IF(J7=" "," ",SUM(K7*2)+L7*1) -> 0
B8: =+$H$1 -> MAP15 | C8: 6 | D8: =CONCATENATE(C8,B8) -> 6MAP15 | E8: =CONCATENATE(C8,H8) -> 6MAP17 | G8: =+Results!D37 -> 46324 | H8: =VLOOKUP($D8,Results!$B$2:$I$148,8,FALSE) -> MAP17 | I8: =VLOOKUP(H8,Results!$N$2:$O$9,2,FALSE) -> Dolly Mixtures | J8: =SUM(K8:M8) -> 0 | K8: =IF(H8="X",0,IF(N8>O8,1,0)) -> 0 | L8: =IF(OR(C8>Results!$F$1,N8="N"),0,IF(H8="X",0,IF(N8=O8,1,0))) -> 0 | M8: =IF(H8="X",0,IF(N8<O8,1,0)) -> 0 | N8: =IF($C8>Results!$F$1," ",(VLOOKUP($D8,Results!$B$2:$H$148,7,FALSE))) | O8: =IF($C8>Results!$F$1," ",(VLOOKUP($E8,Results!$C$2:$K$148,9,FALSE))) | P8: =IF(J8=" "," ",SUM(K8*2)+L8*1) -> 0
B9: =+$H$1 -> MAP15 | C9: 7 | D9: =CONCATENATE(C9,B9) -> 7MAP15 | E9: =CONCATENATE(C9,H9) -> 7MAP13 | G9: =+Results!D44 -> 46338 | H9: =VLOOKUP($D9,Results!$B$2:$I$148,8,FALSE) -> MAP13 | I9: =VLOOKUP(H9,Results!$N$2:$O$9,2,FALSE) -> The Smites | J9: =SUM(K9:M9) -> 0 | K9: =IF(H9="X",0,IF(N9>O9,1,0)) -> 0 | L9: =IF(OR(C9>Results!$F$1,N9="N"),0,IF(H9="X",0,IF(N9=O9,1,0))) -> 0 | M9: =IF(H9="X",0,IF(N9<O9,1,0)) -> 0 | N9: =IF($C9>Results!$F$1," ",(VLOOKUP($D9,Results!$B$2:$H$148,7,FALSE))) | O9: =IF($C9>Results!$F$1," ",(VLOOKUP($E9,Results!$C$2:$K$148,9,FALSE))) | P9: =IF(J9=" "," ",SUM(K9*2)+L9*1) -> 0
B10: =+$H$1 -> MAP15 | C10: 8 | D10: =CONCATENATE(C10,B10) -> 8MAP15 | E10: =CONCATENATE(C10,H10) -> 8MAP16 | G10: =+Results!D51 -> 46343 | H10: =VLOOKUP($D10,Results!$B$2:$I$148,8,FALSE) -> MAP16 | I10: =VLOOKUP(H10,Results!$N$2:$O$9,2,FALSE) -> Donuts | J10: =SUM(K10:M10) -> 0 | K10: =IF(H10="X",0,IF(N10>O10,1,0)) -> 0 | L10: =IF(OR(C10>Results!$F$1,N10="N"),0,IF(H10="X",0,IF(N10=O10,1,0))) -> 0 | M10: =IF(H10="X",0,IF(N10<O10,1,0)) -> 0 | N10: =IF($C10>Results!$F$1," ",(VLOOKUP($D10,Results!$B$2:$H$148,7,FALSE))) | O10: =IF($C10>Results!$F$1," ",(VLOOKUP($E10,Results!$C$2:$K$148,9,FALSE))) | P10: =IF(J10=" "," ",SUM(K10*2)+L10*1) -> 0
B11: =+$H$1 -> MAP15 | C11: 9 | D11: =CONCATENATE(C11,B11) -> 9MAP15 | E11: =CONCATENATE(C11,H11) -> 9MAP14 | G11: =+Results!D58 -> 46359 | H11: =VLOOKUP($D11,Results!$B$2:$I$148,8,FALSE) -> MAP14 | I11: =VLOOKUP(H11,Results!$N$2:$O$9,2,FALSE) -> Wizards | J11: =SUM(K11:M11) -> 0 | K11: =IF(H11="X",0,IF(N11>O11,1,0)) -> 0 | L11: =IF(OR(C11>Results!$F$1,N11="N"),0,IF(H11="X",0,IF(N11=O11,1,0))) -> 0 | M11: =IF(H11="X",0,IF(N11<O11,1,0)) -> 0 | N11: =IF($C11>Results!$F$1," ",(VLOOKUP($D11,Results!$B$2:$H$148,7,FALSE))) | O11: =IF($C11>Results!$F$1," ",(VLOOKUP($E11,Results!$C$2:$K$148,9,FALSE))) | P11: =IF(J11=" "," ",SUM(K11*2)+L11*1) -> 0
B12: =+$H$1 -> MAP15 | C12: 10 | D12: =CONCATENATE(C12,B12) -> 10MAP15 | E12: =CONCATENATE(C12,H12) -> 10X | G12: =+Results!D65 -> 46373 | H12: =VLOOKUP($D12,Results!$B$2:$I$148,8,FALSE) -> X | I12: =VLOOKUP(H12,Results!$N$2:$O$9,2,FALSE) -> No Match | J12: =SUM(K12:M12) -> 0 | K12: =IF(H12="X",0,IF(N12>O12,1,0)) -> 0 | L12: =IF(OR(C12>Results!$F$1,N12="N"),0,IF(H12="X",0,IF(N12=O12,1,0))) -> 0 | M12: =IF(H12="X",0,IF(N12<O12,1,0)) -> 0 | N12: =IF($C12>Results!$F$1," ",(VLOOKUP($D12,Results!$B$2:$H$148,7,FALSE))) | O12: =IF($C12>Results!$F$1," ",(VLOOKUP($E12,Results!$C$2:$K$148,9,FALSE))) | P12: =IF(J12=" "," ",SUM(K12*2)+L12*1) -> 0
B13: =+$H$1 -> MAP15 | C13: 11 | D13: =CONCATENATE(C13,B13) -> 11MAP15 | E13: =CONCATENATE(C13,H13) -> 11MAP11 | G13: =+Results!D72 -> 46394 | H13: =VLOOKUP($D13,Results!$B$2:$I$148,8,FALSE) -> MAP11 | I13: =VLOOKUP(H13,Results!$N$2:$O$9,2,FALSE) -> Banana Skins | J13: =SUM(K13:M13) -> 0 | K13: =IF(H13="X",0,IF(N13>O13,1,0)) -> 0 | L13: =IF(OR(C13>Results!$F$1,N13="N"),0,IF(H13="X",0,IF(N13=O13,1,0))) -> 0 | M13: =IF(H13="X",0,IF(N13<O13,1,0)) -> 0 | N13: =IF($C13>Results!$F$1," ",(VLOOKUP($D13,Results!$B$2:$H$148,7,FALSE))) | O13: =IF($C13>Results!$F$1," ",(VLOOKUP($E13,Results!$C$2:$K$148,9,FALSE))) | P13: =IF(J13=" "," ",SUM(K13*2)+L13*1) -> 0
B14: =+$H$1 -> MAP15 | C14: 12 | D14: =CONCATENATE(C14,B14) -> 12MAP15 | E14: =CONCATENATE(C14,H14) -> 12MAP12 | G14: =+Results!D79 -> 46401 | H14: =VLOOKUP($D14,Results!$B$2:$I$148,8,FALSE) -> MAP12 | I14: =VLOOKUP(H14,Results!$N$2:$O$9,2,FALSE) -> R & R | J14: =SUM(K14:M14) -> 0 | K14: =IF(H14="X",0,IF(N14>O14,1,0)) -> 0 | L14: =IF(OR(C14>Results!$F$1,N14="N"),0,IF(H14="X",0,IF(N14=O14,1,0))) -> 0 | M14: =IF(H14="X",0,IF(N14<O14,1,0)) -> 0 | N14: =IF($C14>Results!$F$1," ",(VLOOKUP($D14,Results!$B$2:$H$148,7,FALSE))) | O14: =IF($C14>Results!$F$1," ",(VLOOKUP($E14,Results!$C$2:$K$148,9,FALSE))) | P14: =IF(J14=" "," ",SUM(K14*2)+L14*1) -> 0
B15: =+$H$1 -> MAP15 | C15: 13 | D15: =CONCATENATE(C15,B15) -> 13MAP15 | E15: =CONCATENATE(C15,H15) -> 13MAP17 | G15: =+Results!D86 -> 46408 | H15: =VLOOKUP($D15,Results!$B$2:$I$148,8,FALSE) -> MAP17 | I15: =VLOOKUP(H15,Results!$N$2:$O$9,2,FALSE) -> Dolly Mixtures | J15: =SUM(K15:M15) -> 0 | K15: =IF(H15="X",0,IF(N15>O15,1,0)) -> 0 | L15: =IF(OR(C15>Results!$F$1,N15="N"),0,IF(H15="X",0,IF(N15=O15,1,0))) -> 0 | M15: =IF(H15="X",0,IF(N15<O15,1,0)) -> 0 | N15: =IF($C15>Results!$F$1," ",(VLOOKUP($D15,Results!$B$2:$H$148,7,FALSE))) | O15: =IF($C15>Results!$F$1," ",(VLOOKUP($E15,Results!$C$2:$K$148,9,FALSE))) | P15: =IF(J15=" "," ",SUM(K15*2)+L15*1) -> 0
B16: =+$H$1 -> MAP15 | C16: 14 | D16: =CONCATENATE(C16,B16) -> 14MAP15 | E16: =CONCATENATE(C16,H16) -> 14MAP13 | G16: =+Results!D93 -> 46443 | H16: =VLOOKUP($D16,Results!$B$2:$I$148,8,FALSE) -> MAP13 | I16: =VLOOKUP(H16,Results!$N$2:$O$9,2,FALSE) -> The Smites | J16: =SUM(K16:M16) -> 0 | K16: =IF(H16="X",0,IF(N16>O16,1,0)) -> 0 | L16: =IF(OR(C16>Results!$F$1,N16="N"),0,IF(H16="X",0,IF(N16=O16,1,0))) -> 0 | M16: =IF(H16="X",0,IF(N16<O16,1,0)) -> 0 | N16: =IF($C16>Results!$F$1," ",(VLOOKUP($D16,Results!$B$2:$H$148,7,FALSE))) | O16: =IF($C16>Results!$F$1," ",(VLOOKUP($E16,Results!$C$2:$K$148,9,FALSE))) | P16: =IF(J16=" "," ",SUM(K16*2)+L16*1) -> 0
B17: =+$H$1 -> MAP15 | C17: 15 | D17: =CONCATENATE(C17,B17) -> 15MAP15 | E17: =CONCATENATE(C17,H17) -> 15MAP16 | G17: =+Results!D100 -> 46450 | H17: =VLOOKUP($D17,Results!$B$2:$I$148,8,FALSE) -> MAP16 | I17: =VLOOKUP(H17,Results!$N$2:$O$9,2,FALSE) -> Donuts | J17: =SUM(K17:M17) -> 0 | K17: =IF(H17="X",0,IF(N17>O17,1,0)) -> 0 | L17: =IF(OR(C17>Results!$F$1,N17="N"),0,IF(H17="X",0,IF(N17=O17,1,0))) -> 0 | M17: =IF(H17="X",0,IF(N17<O17,1,0)) -> 0 | N17: =IF($C17>Results!$F$1," ",(VLOOKUP($D17,Results!$B$2:$H$148,7,FALSE))) | O17: =IF($C17>Results!$F$1," ",(VLOOKUP($E17,Results!$C$2:$K$148,9,FALSE))) | P17: =IF(J17=" "," ",SUM(K17*2)+L17*1) -> 0
B18: =+$H$1 -> MAP15 | C18: 16 | D18: =CONCATENATE(C18,B18) -> 16MAP15 | E18: =CONCATENATE(C18,H18) -> 16MAP14 | G18: =+Results!D107 -> 46457 | H18: =VLOOKUP($D18,Results!$B$2:$I$148,8,FALSE) -> MAP14 | I18: =VLOOKUP(H18,Results!$N$2:$O$9,2,FALSE) -> Wizards | J18: =SUM(K18:M18) -> 0 | K18: =IF(H18="X",0,IF(N18>O18,1,0)) -> 0 | L18: =IF(OR(C18>Results!$F$1,N18="N"),0,IF(H18="X",0,IF(N18=O18,1,0))) -> 0 | M18: =IF(H18="X",0,IF(N18<O18,1,0)) -> 0 | N18: =IF($C18>Results!$F$1," ",(VLOOKUP($D18,Results!$B$2:$H$148,7,FALSE))) | O18: =IF($C18>Results!$F$1," ",(VLOOKUP($E18,Results!$C$2:$K$148,9,FALSE))) | P18: =IF(J18=" "," ",SUM(K18*2)+L18*1) -> 0
B19: =+$H$1 -> MAP15 | C19: 17 | D19: =CONCATENATE(C19,B19) -> 17MAP15 | E19: =CONCATENATE(C19,H19) -> 17X | G19: =+Results!D114 -> 46464 | H19: =VLOOKUP($D19,Results!$B$2:$I$148,8,FALSE) -> X | I19: =VLOOKUP(H19,Results!$N$2:$O$9,2,FALSE) -> No Match | J19: =SUM(K19:M19) -> 0 | K19: =IF(H19="X",0,IF(N19>O19,1,0)) -> 0 | L19: =IF(OR(C19>Results!$F$1,N19="N"),0,IF(H19="X",0,IF(N19=O19,1,0))) -> 0 | M19: =IF(H19="X",0,IF(N19<O19,1,0)) -> 0 | N19: =IF($C19>Results!$F$1," ",(VLOOKUP($D19,Results!$B$2:$H$148,7,FALSE))) | O19: =IF($C19>Results!$F$1," ",(VLOOKUP($E19,Results!$C$2:$K$148,9,FALSE))) | P19: =IF(J19=" "," ",SUM(K19*2)+L19*1) -> 0
B20: =+$H$1 -> MAP15 | C20: 18 | D20: =CONCATENATE(C20,B20) -> 18MAP15 | E20: =CONCATENATE(C20,H20) -> 18MAP11 | G20: =+Results!D121 -> 46471 | H20: =VLOOKUP($D20,Results!$B$2:$I$148,8,FALSE) -> MAP11 | I20: =VLOOKUP(H20,Results!$N$2:$O$9,2,FALSE) -> Banana Skins | J20: =SUM(K20:M20) -> 0 | K20: =IF(H20="X",0,IF(N20>O20,1,0)) -> 0 | L20: =IF(OR(C20>Results!$F$1,N20="N"),0,IF(H20="X",0,IF(N20=O20,1,0))) -> 0 | M20: =IF(H20="X",0,IF(N20<O20,1,0)) -> 0 | N20: =IF($C20>Results!$F$1," ",(VLOOKUP($D20,Results!$B$2:$H$148,7,FALSE))) | O20: =IF($C20>Results!$F$1," ",(VLOOKUP($E20,Results!$C$2:$K$148,9,FALSE))) | P20: =IF(J20=" "," ",SUM(K20*2)+L20*1) -> 0
B21: =+$H$1 -> MAP15 | C21: 19 | D21: =CONCATENATE(C21,B21) -> 19MAP15 | E21: =CONCATENATE(C21,H21) -> 19MAP12 | G21: =+Results!D128 -> 46478 | H21: =VLOOKUP($D21,Results!$B$2:$I$148,8,FALSE) -> MAP12 | I21: =VLOOKUP(H21,Results!$N$2:$O$9,2,FALSE) -> R & R | J21: =SUM(K21:M21) -> 0 | K21: =IF(H21="X",0,IF(N21>O21,1,0)) -> 0 | L21: =IF(OR(C21>Results!$F$1,N21="N"),0,IF(H21="X",0,IF(N21=O21,1,0))) -> 0 | M21: =IF(H21="X",0,IF(N21<O21,1,0)) -> 0 | N21: =IF($C21>Results!$F$1," ",(VLOOKUP($D21,Results!$B$2:$H$148,7,FALSE))) | O21: =IF($C21>Results!$F$1," ",(VLOOKUP($E21,Results!$C$2:$K$148,9,FALSE))) | P21: =IF(J21=" "," ",SUM(K21*2)+L21*1) -> 0
B22: =+$H$1 -> MAP15 | C22: 20 | D22: =CONCATENATE(C22,B22) -> 20MAP15 | E22: =CONCATENATE(C22,H22) -> 20MAP17 | G22: =+Results!D135 -> 46485 | H22: =VLOOKUP($D22,Results!$B$2:$I$148,8,FALSE) -> MAP17 | I22: =VLOOKUP(H22,Results!$N$2:$O$9,2,FALSE) -> Dolly Mixtures | J22: =SUM(K22:M22) -> 0 | K22: =IF(H22="X",0,IF(N22>O22,1,0)) -> 0 | L22: =IF(OR(C22>Results!$F$1,N22="N"),0,IF(H22="X",0,IF(N22=O22,1,0))) -> 0 | M22: =IF(H22="X",0,IF(N22<O22,1,0)) -> 0 | N22: =IF($C22>Results!$F$1," ",(VLOOKUP($D22,Results!$B$2:$H$148,7,FALSE))) | O22: =IF($C22>Results!$F$1," ",(VLOOKUP($E22,Results!$C$2:$K$148,9,FALSE))) | P22: =IF(J22=" "," ",SUM(K22*2)+L22*1) -> 0
B23: =+$H$1 -> MAP15 | C23: 21 | D23: =CONCATENATE(C23,B23) -> 21MAP15 | E23: =CONCATENATE(C23,H23) -> 21MAP13 | G23: =+Results!D142 -> 46492 | H23: =VLOOKUP($D23,Results!$B$2:$I$148,8,FALSE) -> MAP13 | I23: =VLOOKUP(H23,Results!$N$2:$O$9,2,FALSE) -> The Smites | J23: =SUM(K23:M23) -> 0 | K23: =IF(H23="X",0,IF(N23>O23,1,0)) -> 0 | L23: =IF(OR(C23>Results!$F$1,N23="N"),0,IF(H23="X",0,IF(N23=O23,1,0))) -> 0 | M23: =IF(H23="X",0,IF(N23<O23,1,0)) -> 0 | N23: =IF($C23>Results!$F$1," ",(VLOOKUP($D23,Results!$B$2:$H$148,7,FALSE))) | O23: =IF($C23>Results!$F$1," ",(VLOOKUP($E23,Results!$C$2:$K$148,9,FALSE))) | P23: =IF(J23=" "," ",SUM(K23*2)+L23*1) -> 0
I24: TOTALS | J24: =SUM(J3:J23) -> 2 | K24: =SUM(K3:K23) -> 1 | L24: =SUM(L3:L23) -> 0 | M24: =SUM(M3:M23) -> 1 | N24: =SUM(N3:N23) -> 26 | O24: =SUM(O3:O23) -> 17 | P24: =SUM(P3:P23) -> 2

Sheet MAP16 DONUTS
H1: MAP16 | I1: DONUTS
D2: F | E2: A | G2: Date | H2: Code | I2: Opponents | J2: Played | K2: Won | L2: Drawn | M2: Lost | N2: Shots For | O2: Shots Against | P2: Pts
B3: =+$H$1 -> MAP16 | C3: 1 | D3: =CONCATENATE(C3,B3) -> 1MAP16 | E3: =CONCATENATE(C3,H3) -> 1MAP15 | G3: =+Results!D2 -> 46282 | H3: =VLOOKUP($D3,Results!$B$2:$I$148,8,FALSE) -> MAP15 | I3: =VLOOKUP(H3,Results!$N$2:$O$9,2,FALSE) -> F.W.Golf | J3: =SUM(K3:M3) -> 1 | K3: =IF(H3="X",0,IF(N3>O3,1,0)) -> 0 | L3: =IF(OR(C3>Results!$F$1,N3="N"),0,IF(H3="X",0,IF(N3=O3,1,0))) -> 0 | M3: =IF(H3="X",0,IF(N3<O3,1,0)) -> 1 | N3: =IF($C3>Results!$F$1," ",(VLOOKUP($D3,Results!$B$2:$H$148,7,FALSE))) -> 4 | O3: =IF($C3>Results!$F$1," ",(VLOOKUP($E3,Results!$C$2:$K$148,9,FALSE))) -> 16 | P3: =IF(J3=" "," ",SUM(K3*2)+L3*1) -> 0
B4: =+$H$1 -> MAP16 | C4: 2 | D4: =CONCATENATE(C4,B4) -> 2MAP16 | E4: =CONCATENATE(C4,H4) -> 2X | G4: =+Results!D9 -> 46289 | H4: =VLOOKUP($D4,Results!$B$2:$I$148,8,FALSE) -> X | I4: =VLOOKUP(H4,Results!$N$2:$O$9,2,FALSE) -> No Match | J4: =SUM(K4:M4) -> 0 | K4: =IF(H4="X",0,IF(N4>O4,1,0)) -> 0 | L4: =IF(OR(C4>Results!$F$1,N4="N"),0,IF(H4="X",0,IF(N4=O4,1,0))) -> 0 | M4: =IF(H4="X",0,IF(N4<O4,1,0)) -> 0 | N4: =IF($C4>Results!$F$1," ",(VLOOKUP($D4,Results!$B$2:$H$148,7,FALSE))) -> 0 | O4: =IF($C4>Results!$F$1," ",(VLOOKUP($E4,Results!$C$2:$K$148,9,FALSE))) -> 0 | P4: =IF(J4=" "," ",SUM(K4*2)+L4*1) -> 0
B5: =+$H$1 -> MAP16 | C5: 3 | D5: =CONCATENATE(C5,B5) -> 3MAP16 | E5: =CONCATENATE(C5,H5) -> 3MAP17 | G5: =+Results!D16 -> 46296 | H5: =VLOOKUP($D5,Results!$B$2:$I$148,8,FALSE) -> MAP17 | I5: =VLOOKUP(H5,Results!$N$2:$O$9,2,FALSE) -> Dolly Mixtures | J5: =SUM(K5:M5) -> 1 | K5: =IF(H5="X",0,IF(N5>O5,1,0)) -> 0 | L5: =IF(OR(C5>Results!$F$1,N5="N"),0,IF(H5="X",0,IF(N5=O5,1,0))) -> 0 | M5: =IF(H5="X",0,IF(N5<O5,1,0)) -> 1 | N5: =IF($C5>Results!$F$1," ",(VLOOKUP($D5,Results!$B$2:$H$148,7,FALSE))) -> 7 | O5: =IF($C5>Results!$F$1," ",(VLOOKUP($E5,Results!$C$2:$K$148,9,FALSE))) -> 15 | P5: =IF(J5=" "," ",SUM(K5*2)+L5*1) -> 0
B6: =+$H$1 -> MAP16 | C6: 4 | D6: =CONCATENATE(C6,B6) -> 4MAP16 | E6: =CONCATENATE(C6,H6) -> 4MAP12 | G6: =+Results!D23 -> 46303 | H6: =VLOOKUP($D6,Results!$B$2:$I$148,8,FALSE) -> MAP12 | I6: =VLOOKUP(H6,Results!$N$2:$O$9,2,FALSE) -> R & R | J6: =SUM(K6:M6) -> 0 | K6: =IF(H6="X",0,IF(N6>O6,1,0)) -> 0 | L6: =IF(OR(C6>Results!$F$1,N6="N"),0,IF(H6="X",0,IF(N6=O6,1,0))) -> 0 | M6: =IF(H6="X",0,IF(N6<O6,1,0)) -> 0 | N6: =IF($C6>Results!$F$1," ",(VLOOKUP($D6,Results!$B$2:$H$148,7,FALSE))) | O6: =IF($C6>Results!$F$1," ",(VLOOKUP($E6,Results!$C$2:$K$148,9,FALSE))) | P6: =IF(J6=" "," ",SUM(K6*2)+L6*1) -> 0
B7: =+$H$1 -> MAP16 | C7: 5 | D7: =CONCATENATE(C7,B7) -> 5MAP16 | E7: =CONCATENATE(C7,H7) -> 5MAP11 | G7: =+Results!D30 -> 46317 | H7: =VLOOKUP($D7,Results!$B$2:$I$148,8,FALSE) -> MAP11 | I7: =VLOOKUP(H7,Results!$N$2:$O$9,2,FALSE) -> Banana Skins | J7: =SUM(K7:M7) -> 0 | K7: =IF(H7="X",0,IF(N7>O7,1,0)) -> 0 | L7: =IF(OR(C7>Results!$F$1,N7="N"),0,IF(H7="X",0,IF(N7=O7,1,0))) -> 0 | M7: =IF(H7="X",0,IF(N7<O7,1,0)) -> 0 | N7: =IF($C7>Results!$F$1," ",(VLOOKUP($D7,Results!$B$2:$H$148,7,FALSE))) | O7: =IF($C7>Results!$F$1," ",(VLOOKUP($E7,Results!$C$2:$K$148,9,FALSE))) | P7: =IF(J7=" "," ",SUM(K7*2)+L7*1) -> 0
B8: =+$H$1 -> MAP16 | C8: 6 | D8: =CONCATENATE(C8,B8) -> 6MAP16 | E8: =CONCATENATE(C8,H8) -> 6MAP13 | G8: =+Results!D37 -> 46324 | H8: =VLOOKUP($D8,Results!$B$2:$I$148,8,FALSE) -> MAP13 | I8: =VLOOKUP(H8,Results!$N$2:$O$9,2,FALSE) -> The Smites | J8: =SUM(K8:M8) -> 0 | K8: =IF(H8="X",0,IF(N8>O8,1,0)) -> 0 | L8: =IF(OR(C8>Results!$F$1,N8="N"),0,IF(H8="X",0,IF(N8=O8,1,0))) -> 0 | M8: =IF(H8="X",0,IF(N8<O8,1,0)) -> 0 | N8: =IF($C8>Results!$F$1," ",(VLOOKUP($D8,Results!$B$2:$H$148,7,FALSE))) | O8: =IF($C8>Results!$F$1," ",(VLOOKUP($E8,Results!$C$2:$K$148,9,FALSE))) | P8: =IF(J8=" "," ",SUM(K8*2)+L8*1) -> 0
B9: =+$H$1 -> MAP16 | C9: 7 | D9: =CONCATENATE(C9,B9) -> 7MAP16 | E9: =CONCATENATE(C9,H9) -> 7MAP14 | G9: =+Results!D44 -> 46338 | H9: =VLOOKUP($D9,Results!$B$2:$I$148,8,FALSE) -> MAP14 | I9: =VLOOKUP(H9,Results!$N$2:$O$9,2,FALSE) -> Wizards | J9: =SUM(K9:M9) -> 0 | K9: =IF(H9="X",0,IF(N9>O9,1,0)) -> 0 | L9: =IF(OR(C9>Results!$F$1,N9="N"),0,IF(H9="X",0,IF(N9=O9,1,0))) -> 0 | M9: =IF(H9="X",0,IF(N9<O9,1,0)) -> 0 | N9: =IF($C9>Results!$F$1," ",(VLOOKUP($D9,Results!$B$2:$H$148,7,FALSE))) | O9: =IF($C9>Results!$F$1," ",(VLOOKUP($E9,Results!$C$2:$K$148,9,FALSE))) | P9: =IF(J9=" "," ",SUM(K9*2)+L9*1) -> 0
B10: =+$H$1 -> MAP16 | C10: 8 | D10: =CONCATENATE(C10,B10) -> 8MAP16 | E10: =CONCATENATE(C10,H10) -> 8MAP15 | G10: =+Results!D51 -> 46343 | H10: =VLOOKUP($D10,Results!$B$2:$I$148,8,FALSE) -> MAP15 | I10: =VLOOKUP(H10,Results!$N$2:$O$9,2,FALSE) -> F.W.Golf | J10: =SUM(K10:M10) -> 0 | K10: =IF(H10="X",0,IF(N10>O10,1,0)) -> 0 | L10: =IF(OR(C10>Results!$F$1,N10="N"),0,IF(H10="X",0,IF(N10=O10,1,0))) -> 0 | M10: =IF(H10="X",0,IF(N10<O10,1,0)) -> 0 | N10: =IF($C10>Results!$F$1," ",(VLOOKUP($D10,Results!$B$2:$H$148,7,FALSE))) | O10: =IF($C10>Results!$F$1," ",(VLOOKUP($E10,Results!$C$2:$K$148,9,FALSE))) | P10: =IF(J10=" "," ",SUM(K10*2)+L10*1) -> 0
B11: =+$H$1 -> MAP16 | C11: 9 | D11: =CONCATENATE(C11,B11) -> 9MAP16 | E11: =CONCATENATE(C11,H11) -> 9X | G11: =+Results!D58 -> 46359 | H11: =VLOOKUP($D11,Results!$B$2:$I$148,8,FALSE) -> X | I11: =VLOOKUP(H11,Results!$N$2:$O$9,2,FALSE) -> No Match | J11: =SUM(K11:M11) -> 0 | K11: =IF(H11="X",0,IF(N11>O11,1,0)) -> 0 | L11: =IF(OR(C11>Results!$F$1,N11="N"),0,IF(H11="X",0,IF(N11=O11,1,0))) -> 0 | M11: =IF(H11="X",0,IF(N11<O11,1,0)) -> 0 | N11: =IF($C11>Results!$F$1," ",(VLOOKUP($D11,Results!$B$2:$H$148,7,FALSE))) | O11: =IF($C11>Results!$F$1," ",(VLOOKUP($E11,Results!$C$2:$K$148,9,FALSE))) | P11: =IF(J11=" "," ",SUM(K11*2)+L11*1) -> 0
B12: =+$H$1 -> MAP16 | C12: 10 | D12: =CONCATENATE(C12,B12) -> 10MAP16 | E12: =CONCATENATE(C12,H12) -> 10MAP17 | G12: =+Results!D65 -> 46373 | H12: =VLOOKUP($D12,Results!$B$2:$I$148,8,FALSE) -> MAP17 | I12: =VLOOKUP(H12,Results!$N$2:$O$9,2,FALSE) -> Dolly Mixtures | J12: =SUM(K12:M12) -> 0 | K12: =IF(H12="X",0,IF(N12>O12,1,0)) -> 0 | L12: =IF(OR(C12>Results!$F$1,N12="N"),0,IF(H12="X",0,IF(N12=O12,1,0))) -> 0 | M12: =IF(H12="X",0,IF(N12<O12,1,0)) -> 0 | N12: =IF($C12>Results!$F$1," ",(VLOOKUP($D12,Results!$B$2:$H$148,7,FALSE))) | O12: =IF($C12>Results!$F$1," ",(VLOOKUP($E12,Results!$C$2:$K$148,9,FALSE))) | P12: =IF(J12=" "," ",SUM(K12*2)+L12*1) -> 0
B13: =+$H$1 -> MAP16 | C13: 11 | D13: =CONCATENATE(C13,B13) -> 11MAP16 | E13: =CONCATENATE(C13,H13) -> 11MAP12 | G13: =+Results!D72 -> 46394 | H13: =VLOOKUP($D13,Results!$B$2:$I$148,8,FALSE) -> MAP12 | I13: =VLOOKUP(H13,Results!$N$2:$O$9,2,FALSE) -> R & R | J13: =SUM(K13:M13) -> 0 | K13: =IF(H13="X",0,IF(N13>O13,1,0)) -> 0 | L13: =IF(OR(C13>Results!$F$1,N13="N"),0,IF(H13="X",0,IF(N13=O13,1,0))) -> 0 | M13: =IF(H13="X",0,IF(N13<O13,1,0)) -> 0 | N13: =IF($C13>Results!$F$1," ",(VLOOKUP($D13,Results!$B$2:$H$148,7,FALSE))) | O13: =IF($C13>Results!$F$1," ",(VLOOKUP($E13,Results!$C$2:$K$148,9,FALSE))) | P13: =IF(J13=" "," ",SUM(K13*2)+L13*1) -> 0
B14: =+$H$1 -> MAP16 | C14: 12 | D14: =CONCATENATE(C14,B14) -> 12MAP16 | E14: =CONCATENATE(C14,H14) -> 12MAP11 | G14: =+Results!D79 -> 46401 | H14: =VLOOKUP($D14,Results!$B$2:$I$148,8,FALSE) -> MAP11 | I14: =VLOOKUP(H14,Results!$N$2:$O$9,2,FALSE) -> Banana Skins | J14: =SUM(K14:M14) -> 0 | K14: =IF(H14="X",0,IF(N14>O14,1,0)) -> 0 | L14: =IF(OR(C14>Results!$F$1,N14="N"),0,IF(H14="X",0,IF(N14=O14,1,0))) -> 0 | M14: =IF(H14="X",0,IF(N14<O14,1,0)) -> 0 | N14: =IF($C14>Results!$F$1," ",(VLOOKUP($D14,Results!$B$2:$H$148,7,FALSE))) | O14: =IF($C14>Results!$F$1," ",(VLOOKUP($E14,Results!$C$2:$K$148,9,FALSE))) | P14: =IF(J14=" "," ",SUM(K14*2)+L14*1) -> 0
B15: =+$H$1 -> MAP16 | C15: 13 | D15: =CONCATENATE(C15,B15) -> 13MAP16 | E15: =CONCATENATE(C15,H15) -> 13MAP13 | G15: =+Results!D86 -> 46408 | H15: =VLOOKUP($D15,Results!$B$2:$I$148,8,FALSE) -> MAP13 | I15: =VLOOKUP(H15,Results!$N$2:$O$9,2,FALSE) -> The Smites | J15: =SUM(K15:M15) -> 0 | K15: =IF(H15="X",0,IF(N15>O15,1,0)) -> 0 | L15: =IF(OR(C15>Results!$F$1,N15="N"),0,IF(H15="X",0,IF(N15=O15,1,0))) -> 0 | M15: =IF(H15="X",0,IF(N15<O15,1,0)) -> 0 | N15: =IF($C15>Results!$F$1," ",(VLOOKUP($D15,Results!$B$2:$H$148,7,FALSE))) | O15: =IF($C15>Results!$F$1," ",(VLOOKUP($E15,Results!$C$2:$K$148,9,FALSE))) | P15: =IF(J15=" "," ",SUM(K15*2)+L15*1) -> 0
B16: =+$H$1 -> MAP16 | C16: 14 | D16: =CONCATENATE(C16,B16) -> 14MAP16 | E16: =CONCATENATE(C16,H16) -> 14MAP14 | G16: =+Results!D93 -> 46443 | H16: =VLOOKUP($D16,Results!$B$2:$I$148,8,FALSE) -> MAP14 | I16: =VLOOKUP(H16,Results!$N$2:$O$9,2,FALSE) -> Wizards | J16: =SUM(K16:M16) -> 0 | K16: =IF(H16="X",0,IF(N16>O16,1,0)) -> 0 | L16: =IF(OR(C16>Results!$F$1,N16="N"),0,IF(H16="X",0,IF(N16=O16,1,0))) -> 0 | M16: =IF(H16="X",0,IF(N16<O16,1,0)) -> 0 | N16: =IF($C16>Results!$F$1," ",(VLOOKUP($D16,Results!$B$2:$H$148,7,FALSE))) | O16: =IF($C16>Results!$F$1," ",(VLOOKUP($E16,Results!$C$2:$K$148,9,FALSE))) | P16: =IF(J16=" "," ",SUM(K16*2)+L16*1) -> 0
B17: =+$H$1 -> MAP16 | C17: 15 | D17: =CONCATENATE(C17,B17) -> 15MAP16 | E17: =CONCATENATE(C17,H17) -> 15MAP15 | G17: =+Results!D100 -> 46450 | H17: =VLOOKUP($D17,Results!$B$2:$I$148,8,FALSE) -> MAP15 | I17: =VLOOKUP(H17,Results!$N$2:$O$9,2,FALSE) -> F.W.Golf | J17: =SUM(K17:M17) -> 0 | K17: =IF(H17="X",0,IF(N17>O17,1,0)) -> 0 | L17: =IF(OR(C17>Results!$F$1,N17="N"),0,IF(H17="X",0,IF(N17=O17,1,0))) -> 0 | M17: =IF(H17="X",0,IF(N17<O17,1,0)) -> 0 | N17: =IF($C17>Results!$F$1," ",(VLOOKUP($D17,Results!$B$2:$H$148,7,FALSE))) | O17: =IF($C17>Results!$F$1," ",(VLOOKUP($E17,Results!$C$2:$K$148,9,FALSE))) | P17: =IF(J17=" "," ",SUM(K17*2)+L17*1) -> 0
B18: =+$H$1 -> MAP16 | C18: 16 | D18: =CONCATENATE(C18,B18) -> 16MAP16 | E18: =CONCATENATE(C18,H18) -> 16X | G18: =+Results!D107 -> 46457 | H18: =VLOOKUP($D18,Results!$B$2:$I$148,8,FALSE) -> X | I18: =VLOOKUP(H18,Results!$N$2:$O$9,2,FALSE) -> No Match | J18: =SUM(K18:M18) -> 0 | K18: =IF(H18="X",0,IF(N18>O18,1,0)) -> 0 | L18: =IF(OR(C18>Results!$F$1,N18="N"),0,IF(H18="X",0,IF(N18=O18,1,0))) -> 0 | M18: =IF(H18="X",0,IF(N18<O18,1,0)) -> 0 | N18: =IF($C18>Results!$F$1," ",(VLOOKUP($D18,Results!$B$2:$H$148,7,FALSE))) | O18: =IF($C18>Results!$F$1," ",(VLOOKUP($E18,Results!$C$2:$K$148,9,FALSE))) | P18: =IF(J18=" "," ",SUM(K18*2)+L18*1) -> 0
B19: =+$H$1 -> MAP16 | C19: 17 | D19: =CONCATENATE(C19,B19) -> 17MAP16 | E19: =CONCATENATE(C19,H19) -> 17MAP17 | G19: =+Results!D114 -> 46464 | H19: =VLOOKUP($D19,Results!$B$2:$I$148,8,FALSE) -> MAP17 | I19: =VLOOKUP(H19,Results!$N$2:$O$9,2,FALSE) -> Dolly Mixtures | J19: =SUM(K19:M19) -> 0 | K19: =IF(H19="X",0,IF(N19>O19,1,0)) -> 0 | L19: =IF(OR(C19>Results!$F$1,N19="N"),0,IF(H19="X",0,IF(N19=O19,1,0))) -> 0 | M19: =IF(H19="X",0,IF(N19<O19,1,0)) -> 0 | N19: =IF($C19>Results!$F$1," ",(VLOOKUP($D19,Results!$B$2:$H$148,7,FALSE))) | O19: =IF($C19>Results!$F$1," ",(VLOOKUP($E19,Results!$C$2:$K$148,9,FALSE))) | P19: =IF(J19=" "," ",SUM(K19*2)+L19*1) -> 0
B20: =+$H$1 -> MAP16 | C20: 18 | D20: =CONCATENATE(C20,B20) -> 18MAP16 | E20: =CONCATENATE(C20,H20) -> 18MAP12 | G20: =+Results!D121 -> 46471 | H20: =VLOOKUP($D20,Results!$B$2:$I$148,8,FALSE) -> MAP12 | I20: =VLOOKUP(H20,Results!$N$2:$O$9,2,FALSE) -> R & R | J20: =SUM(K20:M20) -> 0 | K20: =IF(H20="X",0,IF(N20>O20,1,0)) -> 0 | L20: =IF(OR(C20>Results!$F$1,N20="N"),0,IF(H20="X",0,IF(N20=O20,1,0))) -> 0 | M20: =IF(H20="X",0,IF(N20<O20,1,0)) -> 0 | N20: =IF($C20>Results!$F$1," ",(VLOOKUP($D20,Results!$B$2:$H$148,7,FALSE))) | O20: =IF($C20>Results!$F$1," ",(VLOOKUP($E20,Results!$C$2:$K$148,9,FALSE))) | P20: =IF(J20=" "," ",SUM(K20*2)+L20*1) -> 0
B21: =+$H$1 -> MAP16 | C21: 19 | D21: =CONCATENATE(C21,B21) -> 19MAP16 | E21: =CONCATENATE(C21,H21) -> 19MAP11 | G21: =+Results!D128 -> 46478 | H21: =VLOOKUP($D21,Results!$B$2:$I$148,8,FALSE) -> MAP11 | I21: =VLOOKUP(H21,Results!$N$2:$O$9,2,FALSE) -> Banana Skins | J21: =SUM(K21:M21) -> 0 | K21: =IF(H21="X",0,IF(N21>O21,1,0)) -> 0 | L21: =IF(OR(C21>Results!$F$1,N21="N"),0,IF(H21="X",0,IF(N21=O21,1,0))) -> 0 | M21: =IF(H21="X",0,IF(N21<O21,1,0)) -> 0 | N21: =IF($C21>Results!$F$1," ",(VLOOKUP($D21,Results!$B$2:$H$148,7,FALSE))) | O21: =IF($C21>Results!$F$1," ",(VLOOKUP($E21,Results!$C$2:$K$148,9,FALSE))) | P21: =IF(J21=" "," ",SUM(K21*2)+L21*1) -> 0
B22: =+$H$1 -> MAP16 | C22: 20 | D22: =CONCATENATE(C22,B22) -> 20MAP16 | E22: =CONCATENATE(C22,H22) -> 20MAP13 | G22: =+Results!D135 -> 46485 | H22: =VLOOKUP($D22,Results!$B$2:$I$148,8,FALSE) -> MAP13 | I22: =VLOOKUP(H22,Results!$N$2:$O$9,2,FALSE) -> The Smites | J22: =SUM(K22:M22) -> 0 | K22: =IF(H22="X",0,IF(N22>O22,1,0)) -> 0 | L22: =IF(OR(C22>Results!$F$1,N22="N"),0,IF(H22="X",0,IF(N22=O22,1,0))) -> 0 | M22: =IF(H22="X",0,IF(N22<O22,1,0)) -> 0 | N22: =IF($C22>Results!$F$1," ",(VLOOKUP($D22,Results!$B$2:$H$148,7,FALSE))) | O22: =IF($C22>Results!$F$1," ",(VLOOKUP($E22,Results!$C$2:$K$148,9,FALSE))) | P22: =IF(J22=" "," ",SUM(K22*2)+L22*1) -> 0
B23: =+$H$1 -> MAP16 | C23: 21 | D23: =CONCATENATE(C23,B23) -> 21MAP16 | E23: =CONCATENATE(C23,H23) -> 21MAP14 | G23: =+Results!D142 -> 46492 | H23: =VLOOKUP($D23,Results!$B$2:$I$148,8,FALSE) -> MAP14 | I23: =VLOOKUP(H23,Results!$N$2:$O$9,2,FALSE) -> Wizards | J23: =SUM(K23:M23) -> 0 | K23: =IF(H23="X",0,IF(N23>O23,1,0)) -> 0 | L23: =IF(OR(C23>Results!$F$1,N23="N"),0,IF(H23="X",0,IF(N23=O23,1,0))) -> 0 | M23: =IF(H23="X",0,IF(N23<O23,1,0)) -> 0 | N23: =IF($C23>Results!$F$1," ",(VLOOKUP($D23,Results!$B$2:$H$148,7,FALSE))) | O23: =IF($C23>Results!$F$1," ",(VLOOKUP($E23,Results!$C$2:$K$148,9,FALSE))) | P23: =IF(J23=" "," ",SUM(K23*2)+L23*1) -> 0
I24: TOTALS | J24: =SUM(J3:J23) -> 2 | K24: =SUM(K3:K23) -> 0 | L24: =SUM(L3:L23) -> 0 | M24: =SUM(M3:M23) -> 2 | N24: =SUM(N3:N23) -> 11 | O24: =SUM(O3:O23) -> 31 | P24: =SUM(P3:P23) -> 0

Sheet MAP17 DOLLY MIXTURES
H1: MAP17 | I1: DOLLY MIXTURES
D2: F | E2: A | G2: Date | H2: Code | I2: Opponents | J2: Played | K2: Won | L2: Drawn | M2: Lost | N2: Shots For | O2: Shots Against | P2: Pts
B3: =+$H$1 -> MAP17 | C3: 1 | D3: =CONCATENATE(C3,B3) -> 1MAP17 | E3: =CONCATENATE(C3,H3) -> 1X | G3: =+Results!D2 -> 46282 | H3: =VLOOKUP($D3,Results!$B$2:$I$148,8,FALSE) -> X | I3: =VLOOKUP(H3,Results!$N$2:$O$9,2,FALSE) -> No Match | J3: =SUM(K3:M3) -> 0 | K3: =IF(H3="X",0,IF(N3>O3,1,0)) -> 0 | L3: =IF(OR(C3>Results!$F$1,N3="N"),0,IF(H3="X",0,IF(N3=O3,1,0))) -> 0 | M3: =IF(H3="X",0,IF(N3<O3,1,0)) -> 0 | N3: =IF($C3>Results!$F$1," ",(VLOOKUP($D3,Results!$B$2:$H$148,7,FALSE))) -> 0 | O3: =IF($C3>Results!$F$1," ",(VLOOKUP($E3,Results!$C$2:$K$148,9,FALSE))) -> 0 | P3: =IF(J3=" "," ",SUM(K3*2)+L3*1) -> 0
B4: =+$H$1 -> MAP17 | C4: 2 | D4: =CONCATENATE(C4,B4) -> 2MAP17 | E4: =CONCATENATE(C4,H4) -> 2MAP11 | G4: =+Results!D9 -> 46289 | H4: =VLOOKUP($D4,Results!$B$2:$I$148,8,FALSE) -> MAP11 | I4: =VLOOKUP(H4,Results!$N$2:$O$9,2,FALSE) -> Banana Skins | J4: =SUM(K4:M4) -> 1 | K4: =IF(H4="X",0,IF(N4>O4,1,0)) -> 0 | L4: =IF(OR(C4>Results!$F$1,N4="N"),0,IF(H4="X",0,IF(N4=O4,1,0))) -> 0 | M4: =IF(H4="X",0,IF(N4<O4,1,0)) -> 1 | N4: =IF($C4>Results!$F$1," ",(VLOOKUP($D4,Results!$B$2:$H$148,7,FALSE))) -> 10 | O4: =IF($C4>Results!$F$1," ",(VLOOKUP($E4,Results!$C$2:$K$148,9,FALSE))) -> 16 | P4: =IF(J4=" "," ",SUM(K4*2)+L4*1) -> 0
B5: =+$H$1 -> MAP17 | C5: 3 | D5: =CONCATENATE(C5,B5) -> 3MAP17 | E5: =CONCATENATE(C5,H5) -> 3MAP16 | G5: =+Results!D16 -> 46296 | H5: =VLOOKUP($D5,Results!$B$2:$I$148,8,FALSE) -> MAP16 | I5: =VLOOKUP(H5,Results!$N$2:$O$9,2,FALSE) -> Donuts | J5: =SUM(K5:M5) -> 1 | K5: =IF(H5="X",0,IF(N5>O5,1,0)) -> 1 | L5: =IF(OR(C5>Results!$F$1,N5="N"),0,IF(H5="X",0,IF(N5=O5,1,0))) -> 0 | M5: =IF(H5="X",0,IF(N5<O5,1,0)) -> 0 | N5: =IF($C5>Results!$F$1," ",(VLOOKUP($D5,Results!$B$2:$H$148,7,FALSE))) -> 15 | O5: =IF($C5>Results!$F$1," ",(VLOOKUP($E5,Results!$C$2:$K$148,9,FALSE))) -> 7 | P5: =IF(J5=" "," ",SUM(K5*2)+L5*1) -> 2
B6: =+$H$1 -> MAP17 | C6: 4 | D6: =CONCATENATE(C6,B6) -> 4MAP17 | E6: =CONCATENATE(C6,H6) -> 4MAP13 | G6: =+Results!D23 -> 46303 | H6: =VLOOKUP($D6,Results!$B$2:$I$148,8,FALSE) -> MAP13 | I6: =VLOOKUP(H6,Results!$N$2:$O$9,2,FALSE) -> The Smites | J6: =SUM(K6:M6) -> 0 | K6: =IF(H6="X",0,IF(N6>O6,1,0)) -> 0 | L6: =IF(OR(C6>Results!$F$1,N6="N"),0,IF(H6="X",0,IF(N6=O6,1,0))) -> 0 | M6: =IF(H6="X",0,IF(N6<O6,1,0)) -> 0 | N6: =IF($C6>Results!$F$1," ",(VLOOKUP($D6,Results!$B$2:$H$148,7,FALSE))) | O6: =IF($C6>Results!$F$1," ",(VLOOKUP($E6,Results!$C$2:$K$148,9,FALSE))) | P6: =IF(J6=" "," ",SUM(K6*2)+L6*1) -> 0
B7: =+$H$1 -> MAP17 | C7: 5 | D7: =CONCATENATE(C7,B7) -> 5MAP17 | E7: =CONCATENATE(C7,H7) -> 5MAP14 | G7: =+Results!D30 -> 46317 | H7: =VLOOKUP($D7,Results!$B$2:$I$148,8,FALSE) -> MAP14 | I7: =VLOOKUP(H7,Results!$N$2:$O$9,2,FALSE) -> Wizards | J7: =SUM(K7:M7) -> 0 | K7: =IF(H7="X",0,IF(N7>O7,1,0)) -> 0 | L7: =IF(OR(C7>Results!$F$1,N7="N"),0,IF(H7="X",0,IF(N7=O7,1,0))) -> 0 | M7: =IF(H7="X",0,IF(N7<O7,1,0)) -> 0 | N7: =IF($C7>Results!$F$1," ",(VLOOKUP($D7,Results!$B$2:$H$148,7,FALSE))) | O7: =IF($C7>Results!$F$1," ",(VLOOKUP($E7,Results!$C$2:$K$148,9,FALSE))) | P7: =IF(J7=" "," ",SUM(K7*2)+L7*1) -> 0
B8: =+$H$1 -> MAP17 | C8: 6 | D8: =CONCATENATE(C8,B8) -> 6MAP17 | E8: =CONCATENATE(C8,H8) -> 6MAP15 | G8: =+Results!D37 -> 46324 | H8: =VLOOKUP($D8,Results!$B$2:$I$148,8,FALSE) -> MAP15 | I8: =VLOOKUP(H8,Results!$N$2:$O$9,2,FALSE) -> F.W.Golf | J8: =SUM(K8:M8) -> 0 | K8: =IF(H8="X",0,IF(N8>O8,1,0)) -> 0 | L8: =IF(OR(C8>Results!$F$1,N8="N"),0,IF(H8="X",0,IF(N8=O8,1,0))) -> 0 | M8: =IF(H8="X",0,IF(N8<O8,1,0)) -> 0 | N8: =IF($C8>Results!$F$1," ",(VLOOKUP($D8,Results!$B$2:$H$148,7,FALSE))) | O8: =IF($C8>Results!$F$1," ",(VLOOKUP($E8,Results!$C$2:$K$148,9,FALSE))) | P8: =IF(J8=" "," ",SUM(K8*2)+L8*1) -> 0
B9: =+$H$1 -> MAP17 | C9: 7 | D9: =CONCATENATE(C9,B9) -> 7MAP17 | E9: =CONCATENATE(C9,H9) -> 7MAP12 | G9: =+Results!D44 -> 46338 | H9: =VLOOKUP($D9,Results!$B$2:$I$148,8,FALSE) -> MAP12 | I9: =VLOOKUP(H9,Results!$N$2:$O$9,2,FALSE) -> R & R | J9: =SUM(K9:M9) -> 0 | K9: =IF(H9="X",0,IF(N9>O9,1,0)) -> 0 | L9: =IF(OR(C9>Results!$F$1,N9="N"),0,IF(H9="X",0,IF(N9=O9,1,0))) -> 0 | M9: =IF(H9="X",0,IF(N9<O9,1,0)) -> 0 | N9: =IF($C9>Results!$F$1," ",(VLOOKUP($D9,Results!$B$2:$H$148,7,FALSE))) | O9: =IF($C9>Results!$F$1," ",(VLOOKUP($E9,Results!$C$2:$K$148,9,FALSE))) | P9: =IF(J9=" "," ",SUM(K9*2)+L9*1) -> 0
B10: =+$H$1 -> MAP17 | C10: 8 | D10: =CONCATENATE(C10,B10) -> 8MAP17 | E10: =CONCATENATE(C10,H10) -> 8X | G10: =+Results!D51 -> 46343 | H10: =VLOOKUP($D10,Results!$B$2:$I$148,8,FALSE) -> X | I10: =VLOOKUP(H10,Results!$N$2:$O$9,2,FALSE) -> No Match | J10: =SUM(K10:M10) -> 0 | K10: =IF(H10="X",0,IF(N10>O10,1,0)) -> 0 | L10: =IF(OR(C10>Results!$F$1,N10="N"),0,IF(H10="X",0,IF(N10=O10,1,0))) -> 0 | M10: =IF(H10="X",0,IF(N10<O10,1,0)) -> 0 | N10: =IF($C10>Results!$F$1," ",(VLOOKUP($D10,Results!$B$2:$H$148,7,FALSE))) | O10: =IF($C10>Results!$F$1," ",(VLOOKUP($E10,Results!$C$2:$K$148,9,FALSE))) | P10: =IF(J10=" "," ",SUM(K10*2)+L10*1) -> 0
B11: =+$H$1 -> MAP17 | C11: 9 | D11: =CONCATENATE(C11,B11) -> 9MAP17 | E11: =CONCATENATE(C11,H11) -> 9MAP11 | G11: =+Results!D58 -> 46359 | H11: =VLOOKUP($D11,Results!$B$2:$I$148,8,FALSE) -> MAP11 | I11: =VLOOKUP(H11,Results!$N$2:$O$9,2,FALSE) -> Banana Skins | J11: =SUM(K11:M11) -> 0 | K11: =IF(H11="X",0,IF(N11>O11,1,0)) -> 0 | L11: =IF(OR(C11>Results!$F$1,N11="N"),0,IF(H11="X",0,IF(N11=O11,1,0))) -> 0 | M11: =IF(H11="X",0,IF(N11<O11,1,0)) -> 0 | N11: =IF($C11>Results!$F$1," ",(VLOOKUP($D11,Results!$B$2:$H$148,7,FALSE))) | O11: =IF($C11>Results!$F$1," ",(VLOOKUP($E11,Results!$C$2:$K$148,9,FALSE))) | P11: =IF(J11=" "," ",SUM(K11*2)+L11*1) -> 0
B12: =+$H$1 -> MAP17 | C12: 10 | D12: =CONCATENATE(C12,B12) -> 10MAP17 | E12: =CONCATENATE(C12,H12) -> 10MAP16 | G12: =+Results!D65 -> 46373 | H12: =VLOOKUP($D12,Results!$B$2:$I$148,8,FALSE) -> MAP16 | I12: =VLOOKUP(H12,Results!$N$2:$O$9,2,FALSE) -> Donuts | J12: =SUM(K12:M12) -> 0 | K12: =IF(H12="X",0,IF(N12>O12,1,0)) -> 0 | L12: =IF(OR(C12>Results!$F$1,N12="N"),0,IF(H12="X",0,IF(N12=O12,1,0))) -> 0 | M12: =IF(H12="X",0,IF(N12<O12,1,0)) -> 0 | N12: =IF($C12>Results!$F$1," ",(VLOOKUP($D12,Results!$B$2:$H$148,7,FALSE))) | O12: =IF($C12>Results!$F$1," ",(VLOOKUP($E12,Results!$C$2:$K$148,9,FALSE))) | P12: =IF(J12=" "," ",SUM(K12*2)+L12*1) -> 0
B13: =+$H$1 -> MAP17 | C13: 11 | D13: =CONCATENATE(C13,B13) -> 11MAP17 | E13: =CONCATENATE(C13,H13) -> 11MAP13 | G13: =+Results!D72 -> 46394 | H13: =VLOOKUP($D13,Results!$B$2:$I$148,8,FALSE) -> MAP13 | I13: =VLOOKUP(H13,Results!$N$2:$O$9,2,FALSE) -> The Smites | J13: =SUM(K13:M13) -> 0 | K13: =IF(H13="X",0,IF(N13>O13,1,0)) -> 0 | L13: =IF(OR(C13>Results!$F$1,N13="N"),0,IF(H13="X",0,IF(N13=O13,1,0))) -> 0 | M13: =IF(H13="X",0,IF(N13<O13,1,0)) -> 0 | N13: =IF($C13>Results!$F$1," ",(VLOOKUP($D13,Results!$B$2:$H$148,7,FALSE))) | O13: =IF($C13>Results!$F$1," ",(VLOOKUP($E13,Results!$C$2:$K$148,9,FALSE))) | P13: =IF(J13=" "," ",SUM(K13*2)+L13*1) -> 0
B14: =+$H$1 -> MAP17 | C14: 12 | D14: =CONCATENATE(C14,B14) -> 12MAP17 | E14: =CONCATENATE(C14,H14) -> 12MAP14 | G14: =+Results!D79 -> 46401 | H14: =VLOOKUP($D14,Results!$B$2:$I$148,8,FALSE) -> MAP14 | I14: =VLOOKUP(H14,Results!$N$2:$O$9,2,FALSE) -> Wizards | J14: =SUM(K14:M14) -> 0 | K14: =IF(H14="X",0,IF(N14>O14,1,0)) -> 0 | L14: =IF(OR(C14>Results!$F$1,N14="N"),0,IF(H14="X",0,IF(N14=O14,1,0))) -> 0 | M14: =IF(H14="X",0,IF(N14<O14,1,0)) -> 0 | N14: =IF($C14>Results!$F$1," ",(VLOOKUP($D14,Results!$B$2:$H$148,7,FALSE))) | O14: =IF($C14>Results!$F$1," ",(VLOOKUP($E14,Results!$C$2:$K$148,9,FALSE))) | P14: =IF(J14=" "," ",SUM(K14*2)+L14*1) -> 0
B15: =+$H$1 -> MAP17 | C15: 13 | D15: =CONCATENATE(C15,B15) -> 13MAP17 | E15: =CONCATENATE(C15,H15) -> 13MAP15 | G15: =+Results!D86 -> 46408 | H15: =VLOOKUP($D15,Results!$B$2:$I$148,8,FALSE) -> MAP15 | I15: =VLOOKUP(H15,Results!$N$2:$O$9,2,FALSE) -> F.W.Golf | J15: =SUM(K15:M15) -> 0 | K15: =IF(H15="X",0,IF(N15>O15,1,0)) -> 0 | L15: =IF(OR(C15>Results!$F$1,N15="N"),0,IF(H15="X",0,IF(N15=O15,1,0))) -> 0 | M15: =IF(H15="X",0,IF(N15<O15,1,0)) -> 0 | N15: =IF($C15>Results!$F$1," ",(VLOOKUP($D15,Results!$B$2:$H$148,7,FALSE))) | O15: =IF($C15>Results!$F$1," ",(VLOOKUP($E15,Results!$C$2:$K$148,9,FALSE))) | P15: =IF(J15=" "," ",SUM(K15*2)+L15*1) -> 0
B16: =+$H$1 -> MAP17 | C16: 14 | D16: =CONCATENATE(C16,B16) -> 14MAP17 | E16: =CONCATENATE(C16,H16) -> 14MAP12 | G16: =+Results!D93 -> 46443 | H16: =VLOOKUP($D16,Results!$B$2:$I$148,8,FALSE) -> MAP12 | I16: =VLOOKUP(H16,Results!$N$2:$O$9,2,FALSE) -> R & R | J16: =SUM(K16:M16) -> 0 | K16: =IF(H16="X",0,IF(N16>O16,1,0)) -> 0 | L16: =IF(OR(C16>Results!$F$1,N16="N"),0,IF(H16="X",0,IF(N16=O16,1,0))) -> 0 | M16: =IF(H16="X",0,IF(N16<O16,1,0)) -> 0 | N16: =IF($C16>Results!$F$1," ",(VLOOKUP($D16,Results!$B$2:$H$148,7,FALSE))) | O16: =IF($C16>Results!$F$1," ",(VLOOKUP($E16,Results!$C$2:$K$148,9,FALSE))) | P16: =IF(J16=" "," ",SUM(K16*2)+L16*1) -> 0
B17: =+$H$1 -> MAP17 | C17: 15 | D17: =CONCATENATE(C17,B17) -> 15MAP17 | E17: =CONCATENATE(C17,H17) -> 15X | G17: =+Results!D100 -> 46450 | H17: =VLOOKUP($D17,Results!$B$2:$I$148,8,FALSE) -> X | I17: =VLOOKUP(H17,Results!$N$2:$O$9,2,FALSE) -> No Match | J17: =SUM(K17:M17) -> 0 | K17: =IF(H17="X",0,IF(N17>O17,1,0)) -> 0 | L17: =IF(OR(C17>Results!$F$1,N17="N"),0,IF(H17="X",0,IF(N17=O17,1,0))) -> 0 | M17: =IF(H17="X",0,IF(N17<O17,1,0)) -> 0 | N17: =IF($C17>Results!$F$1," ",(VLOOKUP($D17,Results!$B$2:$H$148,7,FALSE))) | O17: =IF($C17>Results!$F$1," ",(VLOOKUP($E17,Results!$C$2:$K$148,9,FALSE))) | P17: =IF(J17=" "," ",SUM(K17*2)+L17*1) -> 0
B18: =+$H$1 -> MAP17 | C18: 16 | D18: =CONCATENATE(C18,B18) -> 16MAP17 | E18: =CONCATENATE(C18,H18) -> 16MAP11 | G18: =+Results!D107 -> 46457 | H18: =VLOOKUP($D18,Results!$B$2:$I$148,8,FALSE) -> MAP11 | I18: =VLOOKUP(H18,Results!$N$2:$O$9,2,FALSE) -> Banana Skins | J18: =SUM(K18:M18) -> 0 | K18: =IF(H18="X",0,IF(N18>O18,1,0)) -> 0 | L18: =IF(OR(C18>Results!$F$1,N18="N"),0,IF(H18="X",0,IF(N18=O18,1,0))) -> 0 | M18: =IF(H18="X",0,IF(N18<O18,1,0)) -> 0 | N18: =IF($C18>Results!$F$1," ",(VLOOKUP($D18,Results!$B$2:$H$148,7,FALSE))) | O18: =IF($C18>Results!$F$1," ",(VLOOKUP($E18,Results!$C$2:$K$148,9,FALSE))) | P18: =IF(J18=" "," ",SUM(K18*2)+L18*1) -> 0
B19: =+$H$1 -> MAP17 | C19: 17 | D19: =CONCATENATE(C19,B19) -> 17MAP17 | E19: =CONCATENATE(C19,H19) -> 17MAP16 | G19: =+Results!D114 -> 46464 | H19: =VLOOKUP($D19,Results!$B$2:$I$148,8,FALSE) -> MAP16 | I19: =VLOOKUP(H19,Results!$N$2:$O$9,2,FALSE) -> Donuts | J19: =SUM(K19:M19) -> 0 | K19: =IF(H19="X",0,IF(N19>O19,1,0)) -> 0 | L19: =IF(OR(C19>Results!$F$1,N19="N"),0,IF(H19="X",0,IF(N19=O19,1,0))) -> 0 | M19: =IF(H19="X",0,IF(N19<O19,1,0)) -> 0 | N19: =IF($C19>Results!$F$1," ",(VLOOKUP($D19,Results!$B$2:$H$148,7,FALSE))) | O19: =IF($C19>Results!$F$1," ",(VLOOKUP($E19,Results!$C$2:$K$148,9,FALSE))) | P19: =IF(J19=" "," ",SUM(K19*2)+L19*1) -> 0
B20: =+$H$1 -> MAP17 | C20: 18 | D20: =CONCATENATE(C20,B20) -> 18MAP17 | E20: =CONCATENATE(C20,H20) -> 18MAP13 | G20: =+Results!D121 -> 46471 | H20: =VLOOKUP($D20,Results!$B$2:$I$148,8,FALSE) -> MAP13 | I20: =VLOOKUP(H20,Results!$N$2:$O$9,2,FALSE) -> The Smites | J20: =SUM(K20:M20) -> 0 | K20: =IF(H20="X",0,IF(N20>O20,1,0)) -> 0 | L20: =IF(OR(C20>Results!$F$1,N20="N"),0,IF(H20="X",0,IF(N20=O20,1,0))) -> 0 | M20: =IF(H20="X",0,IF(N20<O20,1,0)) -> 0 | N20: =IF($C20>Results!$F$1," ",(VLOOKUP($D20,Results!$B$2:$H$148,7,FALSE))) | O20: =IF($C20>Results!$F$1," ",(VLOOKUP($E20,Results!$C$2:$K$148,9,FALSE))) | P20: =IF(J20=" "," ",SUM(K20*2)+L20*1) -> 0
B21: =+$H$1 -> MAP17 | C21: 19 | D21: =CONCATENATE(C21,B21) -> 19MAP17 | E21: =CONCATENATE(C21,H21) -> 19MAP14 | G21: =+Results!D128 -> 46478 | H21: =VLOOKUP($D21,Results!$B$2:$I$148,8,FALSE) -> MAP14 | I21: =VLOOKUP(H21,Results!$N$2:$O$9,2,FALSE) -> Wizards | J21: =SUM(K21:M21) -> 0 | K21: =IF(H21="X",0,IF(N21>O21,1,0)) -> 0 | L21: =IF(OR(C21>Results!$F$1,N21="N"),0,IF(H21="X",0,IF(N21=O21,1,0))) -> 0 | M21: =IF(H21="X",0,IF(N21<O21,1,0)) -> 0 | N21: =IF($C21>Results!$F$1," ",(VLOOKUP($D21,Results!$B$2:$H$148,7,FALSE))) | O21: =IF($C21>Results!$F$1," ",(VLOOKUP($E21,Results!$C$2:$K$148,9,FALSE))) | P21: =IF(J21=" "," ",SUM(K21*2)+L21*1) -> 0
B22: =+$H$1 -> MAP17 | C22: 20 | D22: =CONCATENATE(C22,B22) -> 20MAP17 | E22: =CONCATENATE(C22,H22) -> 20MAP15 | G22: =+Results!D135 -> 46485 | H22: =VLOOKUP($D22,Results!$B$2:$I$148,8,FALSE) -> MAP15 | I22: =VLOOKUP(H22,Results!$N$2:$O$9,2,FALSE) -> F.W.Golf | J22: =SUM(K22:M22) -> 0 | K22: =IF(H22="X",0,IF(N22>O22,1,0)) -> 0 | L22: =IF(OR(C22>Results!$F$1,N22="N"),0,IF(H22="X",0,IF(N22=O22,1,0))) -> 0 | M22: =IF(H22="X",0,IF(N22<O22,1,0)) -> 0 | N22: =IF($C22>Results!$F$1," ",(VLOOKUP($D22,Results!$B$2:$H$148,7,FALSE))) | O22: =IF($C22>Results!$F$1," ",(VLOOKUP($E22,Results!$C$2:$K$148,9,FALSE))) | P22: =IF(J22=" "," ",SUM(K22*2)+L22*1) -> 0
B23: =+$H$1 -> MAP17 | C23: 21 | D23: =CONCATENATE(C23,B23) -> 21MAP17 | E23: =CONCATENATE(C23,H23) -> 21MAP12 | G23: =+Results!D142 -> 46492 | H23: =VLOOKUP($D23,Results!$B$2:$I$148,8,FALSE) -> MAP12 | I23: =VLOOKUP(H23,Results!$N$2:$O$9,2,FALSE) -> R & R | J23: =SUM(K23:M23) -> 0 | K23: =IF(H23="X",0,IF(N23>O23,1,0)) -> 0 | L23: =IF(OR(C23>Results!$F$1,N23="N"),0,IF(H23="X",0,IF(N23=O23,1,0))) -> 0 | M23: =IF(H23="X",0,IF(N23<O23,1,0)) -> 0 | N23: =IF($C23>Results!$F$1," ",(VLOOKUP($D23,Results!$B$2:$H$148,7,FALSE))) | O23: =IF($C23>Results!$F$1," ",(VLOOKUP($E23,Results!$C$2:$K$148,9,FALSE))) | P23: =IF(J23=" "," ",SUM(K23*2)+L23*1) -> 0
I24: TOTALS | J24: =SUM(J3:J23) -> 2 | K24: =SUM(K3:K23) -> 1 | L24: =SUM(L3:L23) -> 0 | M24: =SUM(M3:M23) -> 1 | N24: =SUM(N3:N23) -> 25 | O24: =SUM(O3:O23) -> 23 | P24: =SUM(P3:P23) -> 2
