Workbook

Sheet Results
D2: Cumulative | J2: 18/10/26 | L2: 25/10/26 | N2: 23/11/26 | P2: 07/12/26 | R2: 14/12/26 | T2: 21/12/26 | V2: 04/01/27 | X2: 11/01/27 | Z2: 18/01/27 | AB2: 25/01/27 | AD2: 01/02/27 | AE2: 08/02/27 | AG2: 15/02/27 | AI2: 22/02/27 | AK2: 01/03/27 | AM2: 08/03/27 | AO2: 15/03/27 | AQ2: 22/03/27 | AS2: 29/03/27 | AU2: 12/04/27 | AW2: 19/04/27 | AY2: 26/04/27
D3: Pts | E3: W | F3: D | G3: L | H3: F | I3: A | J3: F | K3: A | L3: F | M3: A | N3: F | O3: A | P3: F | Q3: A | R3: F | S3: A | T3: F | U3: A | V3: F | W3: A | X3: F | Y3: A | Z3: F | AA3: A | AB3: F | AC3: A | AD3: Pts | AE3: F | AF3: A | AG3: F | AH3: A | AI3: F | AJ3: A | AK3: F | AL3: A | AM3: F | AN3: A | AO3: F | AP3: A | AQ3: F | AR3: A | AS3: F | AT3: A | AU3: F | AV3: A | AW3: F | AX3: A | AY3: F | AZ3: A
B4: MO | C4: ANDERSON | D4: =SUM(E4)*2+SUM(F4)+AD4 -> 0 | E4: =IF($J4>$K4,1,0)+IF($L4>$M4,1,0)+IF($N4>$O4,1,0)+IF($P4>$Q4,1,0)+IF($R4>$S4,1,0)+IF($T4>$U4,1,0)+IF($V4>$W4,1,0)+IF($X4>$Y4,1,0)+IF($Z4>$AA4,1,0)+IF($AB4>$AC4,1,0)+IF($AE4>$AF4,1,0)+IF($AG4>$AH4,1,0)+IF($AI4>$AJ4,1,0)+IF($AK4>$AL4,1,0)+IF($AM4>$AN4,1,0)+IF($AO4>$AP4,1,0)+IF($AQ4>$AR4,1,0)+IF($AS4>$AT4,1,0)+IF($AU4>$AV4,1,0)+IF($AW4>$AX4,1,0)+IF($AY4>$AZ4,1,0) -> 0 | F4: =SUM(IF(SUM(J4:K4)>0,SUM(+IF($J4=$K4,1,0),0)))+SUM(IF(SUM(L4:M4)>0,SUM(+IF($L4=$M4,1,0),0)))+SUM(IF(SUM(N4:O4)>0,SUM(+IF($N4=$O4,1,0),0)))+SUM(IF(SUM(P4:Q4)>0,SUM(+IF($P4=$Q4,1,0),0)))+SUM(IF(SUM(R4:S4)>0,SUM(+IF($R4=$S4,1,0),0)))+SUM(IF(SUM(T4:U4)>0,SUM(+IF($T4=$U4,1,0),0)))+SUM(IF(SUM(V4:W4)>0,SUM(+IF($V4=$W4,1,0),0)))+SUM(IF(SUM(X4:Y4)>0,SUM(+IF($X4=$Y4,1,0),0)))+SUM(IF(SUM(Z4:AA4)>0,SUM(+IF($Z4=$AA4,1,0),0)))+SUM(IF(SUM(AB4:AC4)>0,SUM(+IF($AB4=$AC4,1,0),0)))+SUM(IF(SUM(AE4:AF4)>0,SUM(+IF($AE4=$AF4,1,0),0)))+SUM(IF(SUM(AG4:AH4)>0,SUM(+IF($AG4=$AH4,1,0),0)))+SUM(IF(SUM(AI4:AJ4)>0,SUM(+IF($AI4=$AJ4,1,0),0)))+SUM(IF(SUM(AK4:AL4)>0,SUM(+IF($AK4=$AL4,1,0),0)))+SUM(IF(SUM(AM4:AN4)>0,SUM(+IF($AM4=$AN4,1,0),0)))+SUM(IF(SUM(AO4:AP4)>0,SUM(+IF($AO4=$AP4,1,0),0)))+SUM(IF(SUM(AQ4:AR4)>0,SUM(+IF($AQ4=$AR4,1,0),0)))+SUM(IF(SUM(AS4:AT4)>0,SUM(+IF($AS4=$AT4,1,0),0)))+SUM(IF(SUM(AU4:AV4)>0,SUM(+IF($AU4=$AV4,1,0),0)))+SUM(IF(SUM(AW4:AX4)>0,SUM(+IF($AW4=$AX4,1,0),0)))+SUM(IF(SUM(AY4:AZ4)>0,SUM(+IF($AY4=$AZ4,1,0),0))) -> 0 | G4: =IF($J4<$K4,1,0)+IF($L4<$M4,1,0)+IF($N4<$O4,1,0)+IF($P4<$Q4,1,0)+IF($R4<$S4,1,0)+IF($T4<$U4,1,0)+IF($V4<$W4,1,0)+IF($X4<$Y4,1,0)+IF($Z4<$AA4,1,0)+IF($AB4<$AC4,1,0)+IF($AE4<$AF4,1,0)+IF($AG4<$AH4,1,0)+IF($AI4<$AJ4,1,0)+IF($AK4<$AL4,1,0)+IF($AM4<$AN4,1,0)+IF($AO4<$AP4,1,0)+IF($AQ4<$AR4,1,0)+IF($AS4<$AT4,1,0)+IF($AU4<$AV4,1,0)+IF($AW4<$AX4,1,0)+IF($AY4<$AZ4,1,0) -> 1 | H4: =+J4+L4+N4+P4+R4+T4+V4+X4+Z4+AB4+AE4+AG4+AI4+AK4+AM4+AO4+AQ4+AS4+AU4+AW4+AY4 -> 1 | I4: =+K4+M4+O4+Q4+S4+U4+W4+Y4+AA4+AC4+AF4+AH4+AJ4+AL4+AN4+AP4+AR4+AT4+AV4+AX4+AZ4 -> 23 | L4: 1 | M4: 23
B5: CHARLOTTE | C5: BAILEY | D5: =SUM(E5)*2+SUM(F5)+AD5 -> 2 | E5: =IF($J5>$K5,1,0)+IF($L5>$M5,1,0)+IF($N5>$O5,1,0)+IF($P5>$Q5,1,0)+IF($R5>$S5,1,0)+IF($T5>$U5,1,0)+IF($V5>$W5,1,0)+IF($X5>$Y5,1,0)+IF($Z5>$AA5,1,0)+IF($AB5>$AC5,1,0)+IF($AE5>$AF5,1,0)+IF($AG5>$AH5,1,0)+IF($AI5>$AJ5,1,0)+IF($AK5>$AL5,1,0)+IF($AM5>$AN5,1,0)+IF($AO5>$AP5,1,0)+IF($AQ5>$AR5,1,0)+IF($AS5>$AT5,1,0)+IF($AU5>$AV5,1,0)+IF($AW5>$AX5,1,0)+IF($AY5>$AZ5,1,0) -> 1 | F5: =SUM(IF(SUM(J5:K5)>0,SUM(+IF($J5=$K5,1,0),0)))+SUM(IF(SUM(L5:M5)>0,SUM(+IF($L5=$M5,1,0),0)))+SUM(IF(SUM(N5:O5)>0,SUM(+IF($N5=$O5,1,0),0)))+SUM(IF(SUM(P5:Q5)>0,SUM(+IF($P5=$Q5,1,0),0)))+SUM(IF(SUM(R5:S5)>0,SUM(+IF($R5=$S5,1,0),0)))+SUM(IF(SUM(T5:U5)>0,SUM(+IF($T5=$U5,1,0),0)))+SUM(IF(SUM(V5:W5)>0,SUM(+IF($V5=$W5,1,0),0)))+SUM(IF(SUM(X5:Y5)>0,SUM(+IF($X5=$Y5,1,0),0)))+SUM(IF(SUM(Z5:AA5)>0,SUM(+IF($Z5=$AA5,1,0),0)))+SUM(IF(SUM(AB5:AC5)>0,SUM(+IF($AB5=$AC5,1,0),0)))+SUM(IF(SUM(AE5:AF5)>0,SUM(+IF($AE5=$AF5,1,0),0)))+SUM(IF(SUM(AG5:AH5)>0,SUM(+IF($AG5=$AH5,1,0),0)))+SUM(IF(SUM(AI5:AJ5)>0,SUM(+IF($AI5=$AJ5,1,0),0)))+SUM(IF(SUM(AK5:AL5)>0,SUM(+IF($AK5=$AL5,1,0),0)))+SUM(IF(SUM(AM5:AN5)>0,SUM(+IF($AM5=$AN5,1,0),0)))+SUM(IF(SUM(AO5:AP5)>0,SUM(+IF($AO5=$AP5,1,0),0)))+SUM(IF(SUM(AQ5:AR5)>0,SUM(+IF($AQ5=$AR5,1,0),0)))+SUM(IF(SUM(AS5:AT5)>0,SUM(+IF($AS5=$AT5,1,0),0)))+SUM(IF(SUM(AU5:AV5)>0,SUM(+IF($AU5=$AV5,1,0),0)))+SUM(IF(SUM(AW5:AX5)>0,SUM(+IF($AW5=$AX5,1,0),0)))+SUM(IF(SUM(AY5:AZ5)>0,SUM(+IF($AY5=$AZ5,1,0),0))) -> 0 | G5: =IF($J5<$K5,1,0)+IF($L5<$M5,1,0)+IF($N5<$O5,1,0)+IF($P5<$Q5,1,0)+IF($R5<$S5,1,0)+IF($T5<$U5,1,0)+IF($V5<$W5,1,0)+IF($X5<$Y5,1,0)+IF($Z5<$AA5,1,0)+IF($AB5<$AC5,1,0)+IF($AE5<$AF5,1,0)+IF($AG5<$AH5,1,0)+IF($AI5<$AJ5,1,0)+IF($AK5<$AL5,1,0)+IF($AM5<$AN5,1,0)+IF($AO5<$AP5,1,0)+IF($AQ5<$AR5,1,0)+IF($AS5<$AT5,1,0)+IF($AU5<$AV5,1,0)+IF($AW5<$AX5,1,0)+IF($AY5<$AZ5,1,0) -> 0 | H5: =+J5+L5+N5+P5+R5+T5+V5+X5+Z5+AB5+AE5+AG5+AI5+AK5+AM5+AO5+AQ5+AS5+AU5+AW5+AY5 -> 13 | I5: =+K5+M5+O5+Q5+S5+U5+W5+Y5+AA5+AC5+AF5+AH5+AJ5+AL5+AN5+AP5+AR5+AT5+AV5+AX5+AZ5 -> 7 | L5: 13 | M5: 7
B6: OWEN | C6: BAILEY | D6: =SUM(E6)*2+SUM(F6)+AD6 -> 2 | E6: =IF($J6>$K6,1,0)+IF($L6>$M6,1,0)+IF($N6>$O6,1,0)+IF($P6>$Q6,1,0)+IF($R6>$S6,1,0)+IF($T6>$U6,1,0)+IF($V6>$W6,1,0)+IF($X6>$Y6,1,0)+IF($Z6>$AA6,1,0)+IF($AB6>$AC6,1,0)+IF($AE6>$AF6,1,0)+IF($AG6>$AH6,1,0)+IF($AI6>$AJ6,1,0)+IF($AK6>$AL6,1,0)+IF($AM6>$AN6,1,0)+IF($AO6>$AP6,1,0)+IF($AQ6>$AR6,1,0)+IF($AS6>$AT6,1,0)+IF($AU6>$AV6,1,0)+IF($AW6>$AX6,1,0)+IF($AY6>$AZ6,1,0) -> 1 | F6: =SUM(IF(SUM(J6:K6)>0,SUM(+IF($J6=$K6,1,0),0)))+SUM(IF(SUM(L6:M6)>0,SUM(+IF($L6=$M6,1,0),0)))+SUM(IF(SUM(N6:O6)>0,SUM(+IF($N6=$O6,1,0),0)))+SUM(IF(SUM(P6:Q6)>0,SUM(+IF($P6=$Q6,1,0),0)))+SUM(IF(SUM(R6:S6)>0,SUM(+IF($R6=$S6,1,0),0)))+SUM(IF(SUM(T6:U6)>0,SUM(+IF($T6=$U6,1,0),0)))+SUM(IF(SUM(V6:W6)>0,SUM(+IF($V6=$W6,1,0),0)))+SUM(IF(SUM(X6:Y6)>0,SUM(+IF($X6=$Y6,1,0),0)))+SUM(IF(SUM(Z6:AA6)>0,SUM(+IF($Z6=$AA6,1,0),0)))+SUM(IF(SUM(AB6:AC6)>0,SUM(+IF($AB6=$AC6,1,0),0)))+SUM(IF(SUM(AE6:AF6)>0,SUM(+IF($AE6=$AF6,1,0),0)))+SUM(IF(SUM(AG6:AH6)>0,SUM(+IF($AG6=$AH6,1,0),0)))+SUM(IF(SUM(AI6:AJ6)>0,SUM(+IF($AI6=$AJ6,1,0),0)))+SUM(IF(SUM(AK6:AL6)>0,SUM(+IF($AK6=$AL6,1,0),0)))+SUM(IF(SUM(AM6:AN6)>0,SUM(+IF($AM6=$AN6,1,0),0)))+SUM(IF(SUM(AO6:AP6)>0,SUM(+IF($AO6=$AP6,1,0),0)))+SUM(IF(SUM(AQ6:AR6)>0,SUM(+IF($AQ6=$AR6,1,0),0)))+SUM(IF(SUM(AS6:AT6)>0,SUM(+IF($AS6=$AT6,1,0),0)))+SUM(IF(SUM(AU6:AV6)>0,SUM(+IF($AU6=$AV6,1,0),0)))+SUM(IF(SUM(AW6:AX6)>0,SUM(+IF($AW6=$AX6,1,0),0)))+SUM(IF(SUM(AY6:AZ6)>0,SUM(+IF($AY6=$AZ6,1,0),0))) -> 0 | G6: =IF($J6<$K6,1,0)+IF($L6<$M6,1,0)+IF($N6<$O6,1,0)+IF($P6<$Q6,1,0)+IF($R6<$S6,1,0)+IF($T6<$U6,1,0)+IF($V6<$W6,1,0)+IF($X6<$Y6,1,0)+IF($Z6<$AA6,1,0)+IF($AB6<$AC6,1,0)+IF($AE6<$AF6,1,0)+IF($AG6<$AH6,1,0)+IF($AI6<$AJ6,1,0)+IF($AK6<$AL6,1,0)+IF($AM6<$AN6,1,0)+IF($AO6<$AP6,1,0)+IF($AQ6<$AR6,1,0)+IF($AS6<$AT6,1,0)+IF($AU6<$AV6,1,0)+IF($AW6<$AX6,1,0)+IF($AY6<$AZ6,1,0) -> 0 | H6: =+J6+L6+N6+P6+R6+T6+V6+X6+Z6+AB6+AE6+AG6+AI6+AK6+AM6+AO6+AQ6+AS6+AU6+AW6+AY6 -> 15 | I6: =+K6+M6+O6+Q6+S6+U6+W6+Y6+AA6+AC6+AF6+AH6+AJ6+AL6+AN6+AP6+AR6+AT6+AV6+AX6+AZ6 -> 7 | J6: 15 | K6: 7
B7: CHRIS | C7: BROWN | D7: =SUM(E7)*2+SUM(F7)+AD7 -> 2 | E7: =IF($J7>$K7,1,0)+IF($L7>$M7,1,0)+IF($N7>$O7,1,0)+IF($P7>$Q7,1,0)+IF($R7>$S7,1,0)+IF($T7>$U7,1,0)+IF($V7>$W7,1,0)+IF($X7>$Y7,1,0)+IF($Z7>$AA7,1,0)+IF($AB7>$AC7,1,0)+IF($AE7>$AF7,1,0)+IF($AG7>$AH7,1,0)+IF($AI7>$AJ7,1,0)+IF($AK7>$AL7,1,0)+IF($AM7>$AN7,1,0)+IF($AO7>$AP7,1,0)+IF($AQ7>$AR7,1,0)+IF($AS7>$AT7,1,0)+IF($AU7>$AV7,1,0)+IF($AW7>$AX7,1,0)+IF($AY7>$AZ7,1,0) -> 1 | F7: =SUM(IF(SUM(J7:K7)>0,SUM(+IF($J7=$K7,1,0),0)))+SUM(IF(SUM(L7:M7)>0,SUM(+IF($L7=$M7,1,0),0)))+SUM(IF(SUM(N7:O7)>0,SUM(+IF($N7=$O7,1,0),0)))+SUM(IF(SUM(P7:Q7)>0,SUM(+IF($P7=$Q7,1,0),0)))+SUM(IF(SUM(R7:S7)>0,SUM(+IF($R7=$S7,1,0),0)))+SUM(IF(SUM(T7:U7)>0,SUM(+IF($T7=$U7,1,0),0)))+SUM(IF(SUM(V7:W7)>0,SUM(+IF($V7=$W7,1,0),0)))+SUM(IF(SUM(X7:Y7)>0,SUM(+IF($X7=$Y7,1,0),0)))+SUM(IF(SUM(Z7:AA7)>0,SUM(+IF($Z7=$AA7,1,0),0)))+SUM(IF(SUM(AB7:AC7)>0,SUM(+IF($AB7=$AC7,1,0),0)))+SUM(IF(SUM(AE7:AF7)>0,SUM(+IF($AE7=$AF7,1,0),0)))+SUM(IF(SUM(AG7:AH7)>0,SUM(+IF($AG7=$AH7,1,0),0)))+SUM(IF(SUM(AI7:AJ7)>0,SUM(+IF($AI7=$AJ7,1,0),0)))+SUM(IF(SUM(AK7:AL7)>0,SUM(+IF($AK7=$AL7,1,0),0)))+SUM(IF(SUM(AM7:AN7)>0,SUM(+IF($AM7=$AN7,1,0),0)))+SUM(IF(SUM(AO7:AP7)>0,SUM(+IF($AO7=$AP7,1,0),0)))+SUM(IF(SUM(AQ7:AR7)>0,SUM(+IF($AQ7=$AR7,1,0),0)))+SUM(IF(SUM(AS7:AT7)>0,SUM(+IF($AS7=$AT7,1,0),0)))+SUM(IF(SUM(AU7:AV7)>0,SUM(+IF($AU7=$AV7,1,0),0)))+SUM(IF(SUM(AW7:AX7)>0,SUM(+IF($AW7=$AX7,1,0),0)))+SUM(IF(SUM(AY7:AZ7)>0,SUM(+IF($AY7=$AZ7,1,0),0))) -> 0 | G7: =IF($J7<$K7,1,0)+IF($L7<$M7,1,0)+IF($N7<$O7,1,0)+IF($P7<$Q7,1,0)+IF($R7<$S7,1,0)+IF($T7<$U7,1,0)+IF($V7<$W7,1,0)+IF($X7<$Y7,1,0)+IF($Z7<$AA7,1,0)+IF($AB7<$AC7,1,0)+IF($AE7<$AF7,1,0)+IF($AG7<$AH7,1,0)+IF($AI7<$AJ7,1,0)+IF($AK7<$AL7,1,0)+IF($AM7<$AN7,1,0)+IF($AO7<$AP7,1,0)+IF($AQ7<$AR7,1,0)+IF($AS7<$AT7,1,0)+IF($AU7<$AV7,1,0)+IF($AW7<$AX7,1,0)+IF($AY7<$AZ7,1,0) -> 1 | H7: =+J7+L7+N7+P7+R7+T7+V7+X7+Z7+AB7+AE7+AG7+AI7+AK7+AM7+AO7+AQ7+AS7+AU7+AW7+AY7 -> 24 | I7: =+K7+M7+O7+Q7+S7+U7+W7+Y7+AA7+AC7+AF7+AH7+AJ7+AL7+AN7+AP7+AR7+AT7+AV7+AX7+AZ7 -> 30 | J7: 19 | K7: 10 | L7: 5 | M7: 20
B8: JIMMY | C8: CARR | D8: =SUM(E8)*2+SUM(F8)+AD8 -> 0 | E8: =IF($J8>$K8,1,0)+IF($L8>$M8,1,0)+IF($N8>$O8,1,0)+IF($P8>$Q8,1,0)+IF($R8>$S8,1,0)+IF($T8>$U8,1,0)+IF($V8>$W8,1,0)+IF($X8>$Y8,1,0)+IF($Z8>$AA8,1,0)+IF($AB8>$AC8,1,0)+IF($AE8>$AF8,1,0)+IF($AG8>$AH8,1,0)+IF($AI8>$AJ8,1,0)+IF($AK8>$AL8,1,0)+IF($AM8>$AN8,1,0)+IF($AO8>$AP8,1,0)+IF($AQ8>$AR8,1,0)+IF($AS8>$AT8,1,0)+IF($AU8>$AV8,1,0)+IF($AW8>$AX8,1,0)+IF($AY8>$AZ8,1,0) -> 0 | F8: =SUM(IF(SUM(J8:K8)>0,SUM(+IF($J8=$K8,1,0),0)))+SUM(IF(SUM(L8:M8)>0,SUM(+IF($L8=$M8,1,0),0)))+SUM(IF(SUM(N8:O8)>0,SUM(+IF($N8=$O8,1,0),0)))+SUM(IF(SUM(P8:Q8)>0,SUM(+IF($P8=$Q8,1,0),0)))+SUM(IF(SUM(R8:S8)>0,SUM(+IF($R8=$S8,1,0),0)))+SUM(IF(SUM(T8:U8)>0,SUM(+IF($T8=$U8,1,0),0)))+SUM(IF(SUM(V8:W8)>0,SUM(+IF($V8=$W8,1,0),0)))+SUM(IF(SUM(X8:Y8)>0,SUM(+IF($X8=$Y8,1,0),0)))+SUM(IF(SUM(Z8:AA8)>0,SUM(+IF($Z8=$AA8,1,0),0)))+SUM(IF(SUM(AB8:AC8)>0,SUM(+IF($AB8=$AC8,1,0),0)))+SUM(IF(SUM(AE8:AF8)>0,SUM(+IF($AE8=$AF8,1,0),0)))+SUM(IF(SUM(AG8:AH8)>0,SUM(+IF($AG8=$AH8,1,0),0)))+SUM(IF(SUM(AI8:AJ8)>0,SUM(+IF($AI8=$AJ8,1,0),0)))+SUM(IF(SUM(AK8:AL8)>0,SUM(+IF($AK8=$AL8,1,0),0)))+SUM(IF(SUM(AM8:AN8)>0,SUM(+IF($AM8=$AN8,1,0),0)))+SUM(IF(SUM(AO8:AP8)>0,SUM(+IF($AO8=$AP8,1,0),0)))+SUM(IF(SUM(AQ8:AR8)>0,SUM(+IF($AQ8=$AR8,1,0),0)))+SUM(IF(SUM(AS8:AT8)>0,SUM(+IF($AS8=$AT8,1,0),0)))+SUM(IF(SUM(AU8:AV8)>0,SUM(+IF($AU8=$AV8,1,0),0)))+SUM(IF(SUM(AW8:AX8)>0,SUM(+IF($AW8=$AX8,1,0),0)))+SUM(IF(SUM(AY8:AZ8)>0,SUM(+IF($AY8=$AZ8,1,0),0))) -> 0 | G8: =IF($J8<$K8,1,0)+IF($L8<$M8,1,0)+IF($N8<$O8,1,0)+IF($P8<$Q8,1,0)+IF($R8<$S8,1,0)+IF($T8<$U8,1,0)+IF($V8<$W8,1,0)+IF($X8<$Y8,1,0)+IF($Z8<$AA8,1,0)+IF($AB8<$AC8,1,0)+IF($AE8<$AF8,1,0)+IF($AG8<$AH8,1,0)+IF($AI8<$AJ8,1,0)+IF($AK8<$AL8,1,0)+IF($AM8<$AN8,1,0)+IF($AO8<$AP8,1,0)+IF($AQ8<$AR8,1,0)+IF($AS8<$AT8,1,0)+IF($AU8<$AV8,1,0)+IF($AW8<$AX8,1,0)+IF($AY8<$AZ8,1,0) -> 2 | H8: =+J8+L8+N8+P8+R8+T8+V8+X8+Z8+AB8+AE8+AG8+AI8+AK8+AM8+AO8+AQ8+AS8+AU8+AW8+AY8 -> 15 | I8: =+K8+M8+O8+Q8+S8+U8+W8+Y8+AA8+AC8+AF8+AH8+AJ8+AL8+AN8+AP8+AR8+AT8+AV8+AX8+AZ8 -> 29 | J8: 9 | K8: 10 | L8: 6 | M8: 19
B9: KARL | C9: CARTHEW | D9: =SUM(E9)*2+SUM(F9)+AD9 -> 2 | E9: =IF($J9>$K9,1,0)+IF($L9>$M9,1,0)+IF($N9>$O9,1,0)+IF($P9>$Q9,1,0)+IF($R9>$S9,1,0)+IF($T9>$U9,1,0)+IF($V9>$W9,1,0)+IF($X9>$Y9,1,0)+IF($Z9>$AA9,1,0)+IF($AB9>$AC9,1,0)+IF($AE9>$AF9,1,0)+IF($AG9>$AH9,1,0)+IF($AI9>$AJ9,1,0)+IF($AK9>$AL9,1,0)+IF($AM9>$AN9,1,0)+IF($AO9>$AP9,1,0)+IF($AQ9>$AR9,1,0)+IF($AS9>$AT9,1,0)+IF($AU9>$AV9,1,0)+IF($AW9>$AX9,1,0)+IF($AY9>$AZ9,1,0) -> 1 | F9: =SUM(IF(SUM(J9:K9)>0,SUM(+IF($J9=$K9,1,0),0)))+SUM(IF(SUM(L9:M9)>0,SUM(+IF($L9=$M9,1,0),0)))+SUM(IF(SUM(N9:O9)>0,SUM(+IF($N9=$O9,1,0),0)))+SUM(IF(SUM(P9:Q9)>0,SUM(+IF($P9=$Q9,1,0),0)))+SUM(IF(SUM(R9:S9)>0,SUM(+IF($R9=$S9,1,0),0)))+SUM(IF(SUM(T9:U9)>0,SUM(+IF($T9=$U9,1,0),0)))+SUM(IF(SUM(V9:W9)>0,SUM(+IF($V9=$W9,1,0),0)))+SUM(IF(SUM(X9:Y9)>0,SUM(+IF($X9=$Y9,1,0),0)))+SUM(IF(SUM(Z9:AA9)>0,SUM(+IF($Z9=$AA9,1,0),0)))+SUM(IF(SUM(AB9:AC9)>0,SUM(+IF($AB9=$AC9,1,0),0)))+SUM(IF(SUM(AE9:AF9)>0,SUM(+IF($AE9=$AF9,1,0),0)))+SUM(IF(SUM(AG9:AH9)>0,SUM(+IF($AG9=$AH9,1,0),0)))+SUM(IF(SUM(AI9:AJ9)>0,SUM(+IF($AI9=$AJ9,1,0),0)))+SUM(IF(SUM(AK9:AL9)>0,SUM(+IF($AK9=$AL9,1,0),0)))+SUM(IF(SUM(AM9:AN9)>0,SUM(+IF($AM9=$AN9,1,0),0)))+SUM(IF(SUM(AO9:AP9)>0,SUM(+IF($AO9=$AP9,1,0),0)))+SUM(IF(SUM(AQ9:AR9)>0,SUM(+IF($AQ9=$AR9,1,0),0)))+SUM(IF(SUM(AS9:AT9)>0,SUM(+IF($AS9=$AT9,1,0),0)))+SUM(IF(SUM(AU9:AV9)>0,SUM(+IF($AU9=$AV9,1,0),0)))+SUM(IF(SUM(AW9:AX9)>0,SUM(+IF($AW9=$AX9,1,0),0)))+SUM(IF(SUM(AY9:AZ9)>0,SUM(+IF($AY9=$AZ9,1,0),0))) -> 0 | G9: =IF($J9<$K9,1,0)+IF($L9<$M9,1,0)+IF($N9<$O9,1,0)+IF($P9<$Q9,1,0)+IF($R9<$S9,1,0)+IF($T9<$U9,1,0)+IF($V9<$W9,1,0)+IF($X9<$Y9,1,0)+IF($Z9<$AA9,1,0)+IF($AB9<$AC9,1,0)+IF($AE9<$AF9,1,0)+IF($AG9<$AH9,1,0)+IF($AI9<$AJ9,1,0)+IF($AK9<$AL9,1,0)+IF($AM9<$AN9,1,0)+IF($AO9<$AP9,1,0)+IF($AQ9<$AR9,1,0)+IF($AS9<$AT9,1,0)+IF($AU9<$AV9,1,0)+IF($AW9<$AX9,1,0)+IF($AY9<$AZ9,1,0) -> 0 | H9: =+J9+L9+N9+P9+R9+T9+V9+X9+Z9+AB9+AE9+AG9+AI9+AK9+AM9+AO9+AQ9+AS9+AU9+AW9+AY9 -> 19 | I9: =+K9+M9+O9+Q9+S9+U9+W9+Y9+AA9+AC9+AF9+AH9+AJ9+AL9+AN9+AP9+AR9+AT9+AV9+AX9+AZ9 -> 10 | J9: 19 | K9: 10
B10: MIKE | C10: COLE | D10: =SUM(E10)*2+SUM(F10)+AD10 -> 1 | E10: =IF($J10>$K10,1,0)+IF($L10>$M10,1,0)+IF($N10>$O10,1,0)+IF($P10>$Q10,1,0)+IF($R10>$S10,1,0)+IF($T10>$U10,1,0)+IF($V10>$W10,1,0)+IF($X10>$Y10,1,0)+IF($Z10>$AA10,1,0)+IF($AB10>$AC10,1,0)+IF($AE10>$AF10,1,0)+IF($AG10>$AH10,1,0)+IF($AI10>$AJ10,1,0)+IF($AK10>$AL10,1,0)+IF($AM10>$AN10,1,0)+IF($AO10>$AP10,1,0)+IF($AQ10>$AR10,1,0)+IF($AS10>$AT10,1,0)+IF($AU10>$AV10,1,0)+IF($AW10>$AX10,1,0)+IF($AY10>$AZ10,1,0) -> 0 | F10: =SUM(IF(SUM(J10:K10)>0,SUM(+IF($J10=$K10,1,0),0)))+SUM(IF(SUM(L10:M10)>0,SUM(+IF($L10=$M10,1,0),0)))+SUM(IF(SUM(N10:O10)>0,SUM(+IF($N10=$O10,1,0),0)))+SUM(IF(SUM(P10:Q10)>0,SUM(+IF($P10=$Q10,1,0),0)))+SUM(IF(SUM(R10:S10)>0,SUM(+IF($R10=$S10,1,0),0)))+SUM(IF(SUM(T10:U10)>0,SUM(+IF($T10=$U10,1,0),0)))+SUM(IF(SUM(V10:W10)>0,SUM(+IF($V10=$W10,1,0),0)))+SUM(IF(SUM(X10:Y10)>0,SUM(+IF($X10=$Y10,1,0),0)))+SUM(IF(SUM(Z10:AA10)>0,SUM(+IF($Z10=$AA10,1,0),0)))+SUM(IF(SUM(AB10:AC10)>0,SUM(+IF($AB10=$AC10,1,0),0)))+SUM(IF(SUM(AE10:AF10)>0,SUM(+IF($AE10=$AF10,1,0),0)))+SUM(IF(SUM(AG10:AH10)>0,SUM(+IF($AG10=$AH10,1,0),0)))+SUM(IF(SUM(AI10:AJ10)>0,SUM(+IF($AI10=$AJ10,1,0),0)))+SUM(IF(SUM(AK10:AL10)>0,SUM(+IF($AK10=$AL10,1,0),0)))+SUM(IF(SUM(AM10:AN10)>0,SUM(+IF($AM10=$AN10,1,0),0)))+SUM(IF(SUM(AO10:AP10)>0,SUM(+IF($AO10=$AP10,1,0),0)))+SUM(IF(SUM(AQ10:AR10)>0,SUM(+IF($AQ10=$AR10,1,0),0)))+SUM(IF(SUM(AS10:AT10)>0,SUM(+IF($AS10=$AT10,1,0),0)))+SUM(IF(SUM(AU10:AV10)>0,SUM(+IF($AU10=$AV10,1,0),0)))+SUM(IF(SUM(AW10:AX10)>0,SUM(+IF($AW10=$AX10,1,0),0)))+SUM(IF(SUM(AY10:AZ10)>0,SUM(+IF($AY10=$AZ10,1,0),0))) -> 1 | G10: =IF($J10<$K10,1,0)+IF($L10<$M10,1,0)+IF($N10<$O10,1,0)+IF($P10<$Q10,1,0)+IF($R10<$S10,1,0)+IF($T10<$U10,1,0)+IF($V10<$W10,1,0)+IF($X10<$Y10,1,0)+IF($Z10<$AA10,1,0)+IF($AB10<$AC10,1,0)+IF($AE10<$AF10,1,0)+IF($AG10<$AH10,1,0)+IF($AI10<$AJ10,1,0)+IF($AK10<$AL10,1,0)+IF($AM10<$AN10,1,0)+IF($AO10<$AP10,1,0)+IF($AQ10<$AR10,1,0)+IF($AS10<$AT10,1,0)+IF($AU10<$AV10,1,0)+IF($AW10<$AX10,1,0)+IF($AY10<$AZ10,1,0) -> 1 | H10: =+J10+L10+N10+P10+R10+T10+V10+X10+Z10+AB10+AE10+AG10+AI10+AK10+AM10+AO10+AQ10+AS10+AU10+AW10+AY10 -> 19 | I10: =+K10+M10+O10+Q10+S10+U10+W10+Y10+AA10+AC10+AF10+AH10+AJ10+AL10+AN10+AP10+AR10+AT10+AV10+AX10+AZ10 -> 28 | J10: 10 | K10: 19 | L10: 9 | M10: 9
B11: GREG | C11: COLEBOURN | D11: =SUM(E11)*2+SUM(F11)+AD11 -> 0 | E11: =IF($J11>$K11,1,0)+IF($L11>$M11,1,0)+IF($N11>$O11,1,0)+IF($P11>$Q11,1,0)+IF($R11>$S11,1,0)+IF($T11>$U11,1,0)+IF($V11>$W11,1,0)+IF($X11>$Y11,1,0)+IF($Z11>$AA11,1,0)+IF($AB11>$AC11,1,0)+IF($AE11>$AF11,1,0)+IF($AG11>$AH11,1,0)+IF($AI11>$AJ11,1,0)+IF($AK11>$AL11,1,0)+IF($AM11>$AN11,1,0)+IF($AO11>$AP11,1,0)+IF($AQ11>$AR11,1,0)+IF($AS11>$AT11,1,0)+IF($AU11>$AV11,1,0)+IF($AW11>$AX11,1,0)+IF($AY11>$AZ11,1,0) -> 0 | F11: =SUM(IF(SUM(J11:K11)>0,SUM(+IF($J11=$K11,1,0),0)))+SUM(IF(SUM(L11:M11)>0,SUM(+IF($L11=$M11,1,0),0)))+SUM(IF(SUM(N11:O11)>0,SUM(+IF($N11=$O11,1,0),0)))+SUM(IF(SUM(P11:Q11)>0,SUM(+IF($P11=$Q11,1,0),0)))+SUM(IF(SUM(R11:S11)>0,SUM(+IF($R11=$S11,1,0),0)))+SUM(IF(SUM(T11:U11)>0,SUM(+IF($T11=$U11,1,0),0)))+SUM(IF(SUM(V11:W11)>0,SUM(+IF($V11=$W11,1,0),0)))+SUM(IF(SUM(X11:Y11)>0,SUM(+IF($X11=$Y11,1,0),0)))+SUM(IF(SUM(Z11:AA11)>0,SUM(+IF($Z11=$AA11,1,0),0)))+SUM(IF(SUM(AB11:AC11)>0,SUM(+IF($AB11=$AC11,1,0),0)))+SUM(IF(SUM(AE11:AF11)>0,SUM(+IF($AE11=$AF11,1,0),0)))+SUM(IF(SUM(AG11:AH11)>0,SUM(+IF($AG11=$AH11,1,0),0)))+SUM(IF(SUM(AI11:AJ11)>0,SUM(+IF($AI11=$AJ11,1,0),0)))+SUM(IF(SUM(AK11:AL11)>0,SUM(+IF($AK11=$AL11,1,0),0)))+SUM(IF(SUM(AM11:AN11)>0,SUM(+IF($AM11=$AN11,1,0),0)))+SUM(IF(SUM(AO11:AP11)>0,SUM(+IF($AO11=$AP11,1,0),0)))+SUM(IF(SUM(AQ11:AR11)>0,SUM(+IF($AQ11=$AR11,1,0),0)))+SUM(IF(SUM(AS11:AT11)>0,SUM(+IF($AS11=$AT11,1,0),0)))+SUM(IF(SUM(AU11:AV11)>0,SUM(+IF($AU11=$AV11,1,0),0)))+SUM(IF(SUM(AW11:AX11)>0,SUM(+IF($AW11=$AX11,1,0),0)))+SUM(IF(SUM(AY11:AZ11)>0,SUM(+IF($AY11=$AZ11,1,0),0))) -> 0 | G11: =IF($J11<$K11,1,0)+IF($L11<$M11,1,0)+IF($N11<$O11,1,0)+IF($P11<$Q11,1,0)+IF($R11<$S11,1,0)+IF($T11<$U11,1,0)+IF($V11<$W11,1,0)+IF($X11<$Y11,1,0)+IF($Z11<$AA11,1,0)+IF($AB11<$AC11,1,0)+IF($AE11<$AF11,1,0)+IF($AG11<$AH11,1,0)+IF($AI11<$AJ11,1,0)+IF($AK11<$AL11,1,0)+IF($AM11<$AN11,1,0)+IF($AO11<$AP11,1,0)+IF($AQ11<$AR11,1,0)+IF($AS11<$AT11,1,0)+IF($AU11<$AV11,1,0)+IF($AW11<$AX11,1,0)+IF($AY11<$AZ11,1,0) -> 1 | H11: =+J11+L11+N11+P11+R11+T11+V11+X11+Z11+AB11+AE11+AG11+AI11+AK11+AM11+AO11+AQ11+AS11+AU11+AW11+AY11 -> 9 | I11: =+K11+M11+O11+Q11+S11+U11+W11+Y11+AA11+AC11+AF11+AH11+AJ11+AL11+AN11+AP11+AR11+AT11+AV11+AX11+AZ11 -> 10 | J11: 9 | K11: 10
B12: CATHY | C12: COLLINS | D12: =SUM(E12)*2+SUM(F12)+AD12 -> 2 | E12: =IF($J12>$K12,1,0)+IF($L12>$M12,1,0)+IF($N12>$O12,1,0)+IF($P12>$Q12,1,0)+IF($R12>$S12,1,0)+IF($T12>$U12,1,0)+IF($V12>$W12,1,0)+IF($X12>$Y12,1,0)+IF($Z12>$AA12,1,0)+IF($AB12>$AC12,1,0)+IF($AE12>$AF12,1,0)+IF($AG12>$AH12,1,0)+IF($AI12>$AJ12,1,0)+IF($AK12>$AL12,1,0)+IF($AM12>$AN12,1,0)+IF($AO12>$AP12,1,0)+IF($AQ12>$AR12,1,0)+IF($AS12>$AT12,1,0)+IF($AU12>$AV12,1,0)+IF($AW12>$AX12,1,0)+IF($AY12>$AZ12,1,0) -> 1 | F12: =SUM(IF(SUM(J12:K12)>0,SUM(+IF($J12=$K12,1,0),0)))+SUM(IF(SUM(L12:M12)>0,SUM(+IF($L12=$M12,1,0),0)))+SUM(IF(SUM(N12:O12)>0,SUM(+IF($N12=$O12,1,0),0)))+SUM(IF(SUM(P12:Q12)>0,SUM(+IF($P12=$Q12,1,0),0)))+SUM(IF(SUM(R12:S12)>0,SUM(+IF($R12=$S12,1,0),0)))+SUM(IF(SUM(T12:U12)>0,SUM(+IF($T12=$U12,1,0),0)))+SUM(IF(SUM(V12:W12)>0,SUM(+IF($V12=$W12,1,0),0)))+SUM(IF(SUM(X12:Y12)>0,SUM(+IF($X12=$Y12,1,0),0)))+SUM(IF(SUM(Z12:AA12)>0,SUM(+IF($Z12=$AA12,1,0),0)))+SUM(IF(SUM(AB12:AC12)>0,SUM(+IF($AB12=$AC12,1,0),0)))+SUM(IF(SUM(AE12:AF12)>0,SUM(+IF($AE12=$AF12,1,0),0)))+SUM(IF(SUM(AG12:AH12)>0,SUM(+IF($AG12=$AH12,1,0),0)))+SUM(IF(SUM(AI12:AJ12)>0,SUM(+IF($AI12=$AJ12,1,0),0)))+SUM(IF(SUM(AK12:AL12)>0,SUM(+IF($AK12=$AL12,1,0),0)))+SUM(IF(SUM(AM12:AN12)>0,SUM(+IF($AM12=$AN12,1,0),0)))+SUM(IF(SUM(AO12:AP12)>0,SUM(+IF($AO12=$AP12,1,0),0)))+SUM(IF(SUM(AQ12:AR12)>0,SUM(+IF($AQ12=$AR12,1,0),0)))+SUM(IF(SUM(AS12:AT12)>0,SUM(+IF($AS12=$AT12,1,0),0)))+SUM(IF(SUM(AU12:AV12)>0,SUM(+IF($AU12=$AV12,1,0),0)))+SUM(IF(SUM(AW12:AX12)>0,SUM(+IF($AW12=$AX12,1,0),0)))+SUM(IF(SUM(AY12:AZ12)>0,SUM(+IF($AY12=$AZ12,1,0),0))) -> 0 | G12: =IF($J12<$K12,1,0)+IF($L12<$M12,1,0)+IF($N12<$O12,1,0)+IF($P12<$Q12,1,0)+IF($R12<$S12,1,0)+IF($T12<$U12,1,0)+IF($V12<$W12,1,0)+IF($X12<$Y12,1,0)+IF($Z12<$AA12,1,0)+IF($AB12<$AC12,1,0)+IF($AE12<$AF12,1,0)+IF($AG12<$AH12,1,0)+IF($AI12<$AJ12,1,0)+IF($AK12<$AL12,1,0)+IF($AM12<$AN12,1,0)+IF($AO12<$AP12,1,0)+IF($AQ12<$AR12,1,0)+IF($AS12<$AT12,1,0)+IF($AU12<$AV12,1,0)+IF($AW12<$AX12,1,0)+IF($AY12<$AZ12,1,0) -> 0 | H12: =+J12+L12+N12+P12+R12+T12+V12+X12+Z12+AB12+AE12+AG12+AI12+AK12+AM12+AO12+AQ12+AS12+AU12+AW12+AY12 -> 13 | I12: =+K12+M12+O12+Q12+S12+U12+W12+Y12+AA12+AC12+AF12+AH12+AJ12+AL12+AN12+AP12+AR12+AT12+AV12+AX12+AZ12 -> 6 | J12: 13 | K12: 6
B13: MIKE | C13: COLLINS | D13: =SUM(E13)*2+SUM(F13)+AD13 -> 0 | E13: =IF($J13>$K13,1,0)+IF($L13>$M13,1,0)+IF($N13>$O13,1,0)+IF($P13>$Q13,1,0)+IF($R13>$S13,1,0)+IF($T13>$U13,1,0)+IF($V13>$W13,1,0)+IF($X13>$Y13,1,0)+IF($Z13>$AA13,1,0)+IF($AB13>$AC13,1,0)+IF($AE13>$AF13,1,0)+IF($AG13>$AH13,1,0)+IF($AI13>$AJ13,1,0)+IF($AK13>$AL13,1,0)+IF($AM13>$AN13,1,0)+IF($AO13>$AP13,1,0)+IF($AQ13>$AR13,1,0)+IF($AS13>$AT13,1,0)+IF($AU13>$AV13,1,0)+IF($AW13>$AX13,1,0)+IF($AY13>$AZ13,1,0) -> 0 | F13: =SUM(IF(SUM(J13:K13)>0,SUM(+IF($J13=$K13,1,0),0)))+SUM(IF(SUM(L13:M13)>0,SUM(+IF($L13=$M13,1,0),0)))+SUM(IF(SUM(N13:O13)>0,SUM(+IF($N13=$O13,1,0),0)))+SUM(IF(SUM(P13:Q13)>0,SUM(+IF($P13=$Q13,1,0),0)))+SUM(IF(SUM(R13:S13)>0,SUM(+IF($R13=$S13,1,0),0)))+SUM(IF(SUM(T13:U13)>0,SUM(+IF($T13=$U13,1,0),0)))+SUM(IF(SUM(V13:W13)>0,SUM(+IF($V13=$W13,1,0),0)))+SUM(IF(SUM(X13:Y13)>0,SUM(+IF($X13=$Y13,1,0),0)))+SUM(IF(SUM(Z13:AA13)>0,SUM(+IF($Z13=$AA13,1,0),0)))+SUM(IF(SUM(AB13:AC13)>0,SUM(+IF($AB13=$AC13,1,0),0)))+SUM(IF(SUM(AE13:AF13)>0,SUM(+IF($AE13=$AF13,1,0),0)))+SUM(IF(SUM(AG13:AH13)>0,SUM(+IF($AG13=$AH13,1,0),0)))+SUM(IF(SUM(AI13:AJ13)>0,SUM(+IF($AI13=$AJ13,1,0),0)))+SUM(IF(SUM(AK13:AL13)>0,SUM(+IF($AK13=$AL13,1,0),0)))+SUM(IF(SUM(AM13:AN13)>0,SUM(+IF($AM13=$AN13,1,0),0)))+SUM(IF(SUM(AO13:AP13)>0,SUM(+IF($AO13=$AP13,1,0),0)))+SUM(IF(SUM(AQ13:AR13)>0,SUM(+IF($AQ13=$AR13,1,0),0)))+SUM(IF(SUM(AS13:AT13)>0,SUM(+IF($AS13=$AT13,1,0),0)))+SUM(IF(SUM(AU13:AV13)>0,SUM(+IF($AU13=$AV13,1,0),0)))+SUM(IF(SUM(AW13:AX13)>0,SUM(+IF($AW13=$AX13,1,0),0)))+SUM(IF(SUM(AY13:AZ13)>0,SUM(+IF($AY13=$AZ13,1,0),0))) -> 0 | G13: =IF($J13<$K13,1,0)+IF($L13<$M13,1,0)+IF($N13<$O13,1,0)+IF($P13<$Q13,1,0)+IF($R13<$S13,1,0)+IF($T13<$U13,1,0)+IF($V13<$W13,1,0)+IF($X13<$Y13,1,0)+IF($Z13<$AA13,1,0)+IF($AB13<$AC13,1,0)+IF($AE13<$AF13,1,0)+IF($AG13<$AH13,1,0)+IF($AI13<$AJ13,1,0)+IF($AK13<$AL13,1,0)+IF($AM13<$AN13,1,0)+IF($AO13<$AP13,1,0)+IF($AQ13<$AR13,1,0)+IF($AS13<$AT13,1,0)+IF($AU13<$AV13,1,0)+IF($AW13<$AX13,1,0)+IF($AY13<$AZ13,1,0) -> 1 | H13: =+J13+L13+N13+P13+R13+T13+V13+X13+Z13+AB13+AE13+AG13+AI13+AK13+AM13+AO13+AQ13+AS13+AU13+AW13+AY13 -> 7 | I13: =+K13+M13+O13+Q13+S13+U13+W13+Y13+AA13+AC13+AF13+AH13+AJ13+AL13+AN13+AP13+AR13+AT13+AV13+AX13+AZ13 -> 15 | J13: 7 | K13: 15
B14: JIMMY | C14: COOK | D14: =SUM(E14)*2+SUM(F14)+AD14 -> 0 | E14: =IF($J14>$K14,1,0)+IF($L14>$M14,1,0)+IF($N14>$O14,1,0)+IF($P14>$Q14,1,0)+IF($R14>$S14,1,0)+IF($T14>$U14,1,0)+IF($V14>$W14,1,0)+IF($X14>$Y14,1,0)+IF($Z14>$AA14,1,0)+IF($AB14>$AC14,1,0)+IF($AE14>$AF14,1,0)+IF($AG14>$AH14,1,0)+IF($AI14>$AJ14,1,0)+IF($AK14>$AL14,1,0)+IF($AM14>$AN14,1,0)+IF($AO14>$AP14,1,0)+IF($AQ14>$AR14,1,0)+IF($AS14>$AT14,1,0)+IF($AU14>$AV14,1,0)+IF($AW14>$AX14,1,0)+IF($AY14>$AZ14,1,0) -> 0 | F14: =SUM(IF(SUM(J14:K14)>0,SUM(+IF($J14=$K14,1,0),0)))+SUM(IF(SUM(L14:M14)>0,SUM(+IF($L14=$M14,1,0),0)))+SUM(IF(SUM(N14:O14)>0,SUM(+IF($N14=$O14,1,0),0)))+SUM(IF(SUM(P14:Q14)>0,SUM(+IF($P14=$Q14,1,0),0)))+SUM(IF(SUM(R14:S14)>0,SUM(+IF($R14=$S14,1,0),0)))+SUM(IF(SUM(T14:U14)>0,SUM(+IF($T14=$U14,1,0),0)))+SUM(IF(SUM(V14:W14)>0,SUM(+IF($V14=$W14,1,0),0)))+SUM(IF(SUM(X14:Y14)>0,SUM(+IF($X14=$Y14,1,0),0)))+SUM(IF(SUM(Z14:AA14)>0,SUM(+IF($Z14=$AA14,1,0),0)))+SUM(IF(SUM(AB14:AC14)>0,SUM(+IF($AB14=$AC14,1,0),0)))+SUM(IF(SUM(AE14:AF14)>0,SUM(+IF($AE14=$AF14,1,0),0)))+SUM(IF(SUM(AG14:AH14)>0,SUM(+IF($AG14=$AH14,1,0),0)))+SUM(IF(SUM(AI14:AJ14)>0,SUM(+IF($AI14=$AJ14,1,0),0)))+SUM(IF(SUM(AK14:AL14)>0,SUM(+IF($AK14=$AL14,1,0),0)))+SUM(IF(SUM(AM14:AN14)>0,SUM(+IF($AM14=$AN14,1,0),0)))+SUM(IF(SUM(AO14:AP14)>0,SUM(+IF($AO14=$AP14,1,0),0)))+SUM(IF(SUM(AQ14:AR14)>0,SUM(+IF($AQ14=$AR14,1,0),0)))+SUM(IF(SUM(AS14:AT14)>0,SUM(+IF($AS14=$AT14,1,0),0)))+SUM(IF(SUM(AU14:AV14)>0,SUM(+IF($AU14=$AV14,1,0),0)))+SUM(IF(SUM(AW14:AX14)>0,SUM(+IF($AW14=$AX14,1,0),0)))+SUM(IF(SUM(AY14:AZ14)>0,SUM(+IF($AY14=$AZ14,1,0),0))) -> 0 | G14: =IF($J14<$K14,1,0)+IF($L14<$M14,1,0)+IF($N14<$O14,1,0)+IF($P14<$Q14,1,0)+IF($R14<$S14,1,0)+IF($T14<$U14,1,0)+IF($V14<$W14,1,0)+IF($X14<$Y14,1,0)+IF($Z14<$AA14,1,0)+IF($AB14<$AC14,1,0)+IF($AE14<$AF14,1,0)+IF($AG14<$AH14,1,0)+IF($AI14<$AJ14,1,0)+IF($AK14<$AL14,1,0)+IF($AM14<$AN14,1,0)+IF($AO14<$AP14,1,0)+IF($AQ14<$AR14,1,0)+IF($AS14<$AT14,1,0)+IF($AU14<$AV14,1,0)+IF($AW14<$AX14,1,0)+IF($AY14<$AZ14,1,0) -> 1 | H14: =+J14+L14+N14+P14+R14+T14+V14+X14+Z14+AB14+AE14+AG14+AI14+AK14+AM14+AO14+AQ14+AS14+AU14+AW14+AY14 -> 7 | I14: =+K14+M14+O14+Q14+S14+U14+W14+Y14+AA14+AC14+AF14+AH14+AJ14+AL14+AN14+AP14+AR14+AT14+AV14+AX14+AZ14 -> 15 | J14: 7 | K14: 15
B15: MANDY | C15: COX | D15: =SUM(E15)*2+SUM(F15)+AD15 -> 0 | E15: =IF($J15>$K15,1,0)+IF($L15>$M15,1,0)+IF($N15>$O15,1,0)+IF($P15>$Q15,1,0)+IF($R15>$S15,1,0)+IF($T15>$U15,1,0)+IF($V15>$W15,1,0)+IF($X15>$Y15,1,0)+IF($Z15>$AA15,1,0)+IF($AB15>$AC15,1,0)+IF($AE15>$AF15,1,0)+IF($AG15>$AH15,1,0)+IF($AI15>$AJ15,1,0)+IF($AK15>$AL15,1,0)+IF($AM15>$AN15,1,0)+IF($AO15>$AP15,1,0)+IF($AQ15>$AR15,1,0)+IF($AS15>$AT15,1,0)+IF($AU15>$AV15,1,0)+IF($AW15>$AX15,1,0)+IF($AY15>$AZ15,1,0) -> 0 | F15: =SUM(IF(SUM(J15:K15)>0,SUM(+IF($J15=$K15,1,0),0)))+SUM(IF(SUM(L15:M15)>0,SUM(+IF($L15=$M15,1,0),0)))+SUM(IF(SUM(N15:O15)>0,SUM(+IF($N15=$O15,1,0),0)))+SUM(IF(SUM(P15:Q15)>0,SUM(+IF($P15=$Q15,1,0),0)))+SUM(IF(SUM(R15:S15)>0,SUM(+IF($R15=$S15,1,0),0)))+SUM(IF(SUM(T15:U15)>0,SUM(+IF($T15=$U15,1,0),0)))+SUM(IF(SUM(V15:W15)>0,SUM(+IF($V15=$W15,1,0),0)))+SUM(IF(SUM(X15:Y15)>0,SUM(+IF($X15=$Y15,1,0),0)))+SUM(IF(SUM(Z15:AA15)>0,SUM(+IF($Z15=$AA15,1,0),0)))+SUM(IF(SUM(AB15:AC15)>0,SUM(+IF($AB15=$AC15,1,0),0)))+SUM(IF(SUM(AE15:AF15)>0,SUM(+IF($AE15=$AF15,1,0),0)))+SUM(IF(SUM(AG15:AH15)>0,SUM(+IF($AG15=$AH15,1,0),0)))+SUM(IF(SUM(AI15:AJ15)>0,SUM(+IF($AI15=$AJ15,1,0),0)))+SUM(IF(SUM(AK15:AL15)>0,SUM(+IF($AK15=$AL15,1,0),0)))+SUM(IF(SUM(AM15:AN15)>0,SUM(+IF($AM15=$AN15,1,0),0)))+SUM(IF(SUM(AO15:AP15)>0,SUM(+IF($AO15=$AP15,1,0),0)))+SUM(IF(SUM(AQ15:AR15)>0,SUM(+IF($AQ15=$AR15,1,0),0)))+SUM(IF(SUM(AS15:AT15)>0,SUM(+IF($AS15=$AT15,1,0),0)))+SUM(IF(SUM(AU15:AV15)>0,SUM(+IF($AU15=$AV15,1,0),0)))+SUM(IF(SUM(AW15:AX15)>0,SUM(+IF($AW15=$AX15,1,0),0)))+SUM(IF(SUM(AY15:AZ15)>0,SUM(+IF($AY15=$AZ15,1,0),0))) -> 0 | G15: =IF($J15<$K15,1,0)+IF($L15<$M15,1,0)+IF($N15<$O15,1,0)+IF($P15<$Q15,1,0)+IF($R15<$S15,1,0)+IF($T15<$U15,1,0)+IF($V15<$W15,1,0)+IF($X15<$Y15,1,0)+IF($Z15<$AA15,1,0)+IF($AB15<$AC15,1,0)+IF($AE15<$AF15,1,0)+IF($AG15<$AH15,1,0)+IF($AI15<$AJ15,1,0)+IF($AK15<$AL15,1,0)+IF($AM15<$AN15,1,0)+IF($AO15<$AP15,1,0)+IF($AQ15<$AR15,1,0)+IF($AS15<$AT15,1,0)+IF($AU15<$AV15,1,0)+IF($AW15<$AX15,1,0)+IF($AY15<$AZ15,1,0) -> 2 | H15: =+J15+L15+N15+P15+R15+T15+V15+X15+Z15+AB15+AE15+AG15+AI15+AK15+AM15+AO15+AQ15+AS15+AU15+AW15+AY15 -> 8 | I15: =+K15+M15+O15+Q15+S15+U15+W15+Y15+AA15+AC15+AF15+AH15+AJ15+AL15+AN15+AP15+AR15+AT15+AV15+AX15+AZ15 -> 38 | J15: 7 | K15: 15 | L15: 1 | M15: 23
B16: ROLY | C16: COX | D16: =SUM(E16)*2+SUM(F16)+AD16 -> 0 | E16: =IF($J16>$K16,1,0)+IF($L16>$M16,1,0)+IF($N16>$O16,1,0)+IF($P16>$Q16,1,0)+IF($R16>$S16,1,0)+IF($T16>$U16,1,0)+IF($V16>$W16,1,0)+IF($X16>$Y16,1,0)+IF($Z16>$AA16,1,0)+IF($AB16>$AC16,1,0)+IF($AE16>$AF16,1,0)+IF($AG16>$AH16,1,0)+IF($AI16>$AJ16,1,0)+IF($AK16>$AL16,1,0)+IF($AM16>$AN16,1,0)+IF($AO16>$AP16,1,0)+IF($AQ16>$AR16,1,0)+IF($AS16>$AT16,1,0)+IF($AU16>$AV16,1,0)+IF($AW16>$AX16,1,0)+IF($AY16>$AZ16,1,0) -> 0 | F16: =SUM(IF(SUM(J16:K16)>0,SUM(+IF($J16=$K16,1,0),0)))+SUM(IF(SUM(L16:M16)>0,SUM(+IF($L16=$M16,1,0),0)))+SUM(IF(SUM(N16:O16)>0,SUM(+IF($N16=$O16,1,0),0)))+SUM(IF(SUM(P16:Q16)>0,SUM(+IF($P16=$Q16,1,0),0)))+SUM(IF(SUM(R16:S16)>0,SUM(+IF($R16=$S16,1,0),0)))+SUM(IF(SUM(T16:U16)>0,SUM(+IF($T16=$U16,1,0),0)))+SUM(IF(SUM(V16:W16)>0,SUM(+IF($V16=$W16,1,0),0)))+SUM(IF(SUM(X16:Y16)>0,SUM(+IF($X16=$Y16,1,0),0)))+SUM(IF(SUM(Z16:AA16)>0,SUM(+IF($Z16=$AA16,1,0),0)))+SUM(IF(SUM(AB16:AC16)>0,SUM(+IF($AB16=$AC16,1,0),0)))+SUM(IF(SUM(AE16:AF16)>0,SUM(+IF($AE16=$AF16,1,0),0)))+SUM(IF(SUM(AG16:AH16)>0,SUM(+IF($AG16=$AH16,1,0),0)))+SUM(IF(SUM(AI16:AJ16)>0,SUM(+IF($AI16=$AJ16,1,0),0)))+SUM(IF(SUM(AK16:AL16)>0,SUM(+IF($AK16=$AL16,1,0),0)))+SUM(IF(SUM(AM16:AN16)>0,SUM(+IF($AM16=$AN16,1,0),0)))+SUM(IF(SUM(AO16:AP16)>0,SUM(+IF($AO16=$AP16,1,0),0)))+SUM(IF(SUM(AQ16:AR16)>0,SUM(+IF($AQ16=$AR16,1,0),0)))+SUM(IF(SUM(AS16:AT16)>0,SUM(+IF($AS16=$AT16,1,0),0)))+SUM(IF(SUM(AU16:AV16)>0,SUM(+IF($AU16=$AV16,1,0),0)))+SUM(IF(SUM(AW16:AX16)>0,SUM(+IF($AW16=$AX16,1,0),0)))+SUM(IF(SUM(AY16:AZ16)>0,SUM(+IF($AY16=$AZ16,1,0),0))) -> 0 | G16: =IF($J16<$K16,1,0)+IF($L16<$M16,1,0)+IF($N16<$O16,1,0)+IF($P16<$Q16,1,0)+IF($R16<$S16,1,0)+IF($T16<$U16,1,0)+IF($V16<$W16,1,0)+IF($X16<$Y16,1,0)+IF($Z16<$AA16,1,0)+IF($AB16<$AC16,1,0)+IF($AE16<$AF16,1,0)+IF($AG16<$AH16,1,0)+IF($AI16<$AJ16,1,0)+IF($AK16<$AL16,1,0)+IF($AM16<$AN16,1,0)+IF($AO16<$AP16,1,0)+IF($AQ16<$AR16,1,0)+IF($AS16<$AT16,1,0)+IF($AU16<$AV16,1,0)+IF($AW16<$AX16,1,0)+IF($AY16<$AZ16,1,0) -> 2 | H16: =+J16+L16+N16+P16+R16+T16+V16+X16+Z16+AB16+AE16+AG16+AI16+AK16+AM16+AO16+AQ16+AS16+AU16+AW16+AY16 -> 14 | I16: =+K16+M16+O16+Q16+S16+U16+W16+Y16+AA16+AC16+AF16+AH16+AJ16+AL16+AN16+AP16+AR16+AT16+AV16+AX16+AZ16 -> 28 | J16: 7 | K16: 15 | L16: 7 | M16: 13
B17: MARK | C17: CRAGG | D17: =SUM(E17)*2+SUM(F17)+AD17 -> 1 | E17: =IF($J17>$K17,1,0)+IF($L17>$M17,1,0)+IF($N17>$O17,1,0)+IF($P17>$Q17,1,0)+IF($R17>$S17,1,0)+IF($T17>$U17,1,0)+IF($V17>$W17,1,0)+IF($X17>$Y17,1,0)+IF($Z17>$AA17,1,0)+IF($AB17>$AC17,1,0)+IF($AE17>$AF17,1,0)+IF($AG17>$AH17,1,0)+IF($AI17>$AJ17,1,0)+IF($AK17>$AL17,1,0)+IF($AM17>$AN17,1,0)+IF($AO17>$AP17,1,0)+IF($AQ17>$AR17,1,0)+IF($AS17>$AT17,1,0)+IF($AU17>$AV17,1,0)+IF($AW17>$AX17,1,0)+IF($AY17>$AZ17,1,0) -> 0 | F17: =SUM(IF(SUM(J17:K17)>0,SUM(+IF($J17=$K17,1,0),0)))+SUM(IF(SUM(L17:M17)>0,SUM(+IF($L17=$M17,1,0),0)))+SUM(IF(SUM(N17:O17)>0,SUM(+IF($N17=$O17,1,0),0)))+SUM(IF(SUM(P17:Q17)>0,SUM(+IF($P17=$Q17,1,0),0)))+SUM(IF(SUM(R17:S17)>0,SUM(+IF($R17=$S17,1,0),0)))+SUM(IF(SUM(T17:U17)>0,SUM(+IF($T17=$U17,1,0),0)))+SUM(IF(SUM(V17:W17)>0,SUM(+IF($V17=$W17,1,0),0)))+SUM(IF(SUM(X17:Y17)>0,SUM(+IF($X17=$Y17,1,0),0)))+SUM(IF(SUM(Z17:AA17)>0,SUM(+IF($Z17=$AA17,1,0),0)))+SUM(IF(SUM(AB17:AC17)>0,SUM(+IF($AB17=$AC17,1,0),0)))+SUM(IF(SUM(AE17:AF17)>0,SUM(+IF($AE17=$AF17,1,0),0)))+SUM(IF(SUM(AG17:AH17)>0,SUM(+IF($AG17=$AH17,1,0),0)))+SUM(IF(SUM(AI17:AJ17)>0,SUM(+IF($AI17=$AJ17,1,0),0)))+SUM(IF(SUM(AK17:AL17)>0,SUM(+IF($AK17=$AL17,1,0),0)))+SUM(IF(SUM(AM17:AN17)>0,SUM(+IF($AM17=$AN17,1,0),0)))+SUM(IF(SUM(AO17:AP17)>0,SUM(+IF($AO17=$AP17,1,0),0)))+SUM(IF(SUM(AQ17:AR17)>0,SUM(+IF($AQ17=$AR17,1,0),0)))+SUM(IF(SUM(AS17:AT17)>0,SUM(+IF($AS17=$AT17,1,0),0)))+SUM(IF(SUM(AU17:AV17)>0,SUM(+IF($AU17=$AV17,1,0),0)))+SUM(IF(SUM(AW17:AX17)>0,SUM(+IF($AW17=$AX17,1,0),0)))+SUM(IF(SUM(AY17:AZ17)>0,SUM(+IF($AY17=$AZ17,1,0),0))) -> 1 | G17: =IF($J17<$K17,1,0)+IF($L17<$M17,1,0)+IF($N17<$O17,1,0)+IF($P17<$Q17,1,0)+IF($R17<$S17,1,0)+IF($T17<$U17,1,0)+IF($V17<$W17,1,0)+IF($X17<$Y17,1,0)+IF($Z17<$AA17,1,0)+IF($AB17<$AC17,1,0)+IF($AE17<$AF17,1,0)+IF($AG17<$AH17,1,0)+IF($AI17<$AJ17,1,0)+IF($AK17<$AL17,1,0)+IF($AM17<$AN17,1,0)+IF($AO17<$AP17,1,0)+IF($AQ17<$AR17,1,0)+IF($AS17<$AT17,1,0)+IF($AU17<$AV17,1,0)+IF($AW17<$AX17,1,0)+IF($AY17<$AZ17,1,0) -> 1 | H17: =+J17+L17+N17+P17+R17+T17+V17+X17+Z17+AB17+AE17+AG17+AI17+AK17+AM17+AO17+AQ17+AS17+AU17+AW17+AY17 -> 11 | I17: =+K17+M17+O17+Q17+S17+U17+W17+Y17+AA17+AC17+AF17+AH17+AJ17+AL17+AN17+AP17+AR17+AT17+AV17+AX17+AZ17 -> 26 | J17: 2 | K17: 17 | L17: 9 | M17: 9
B18: MIKE | C18: CULLEN | D18: =SUM(E18)*2+SUM(F18)+AD18 -> 4 | E18: =IF($J18>$K18,1,0)+IF($L18>$M18,1,0)+IF($N18>$O18,1,0)+IF($P18>$Q18,1,0)+IF($R18>$S18,1,0)+IF($T18>$U18,1,0)+IF($V18>$W18,1,0)+IF($X18>$Y18,1,0)+IF($Z18>$AA18,1,0)+IF($AB18>$AC18,1,0)+IF($AE18>$AF18,1,0)+IF($AG18>$AH18,1,0)+IF($AI18>$AJ18,1,0)+IF($AK18>$AL18,1,0)+IF($AM18>$AN18,1,0)+IF($AO18>$AP18,1,0)+IF($AQ18>$AR18,1,0)+IF($AS18>$AT18,1,0)+IF($AU18>$AV18,1,0)+IF($AW18>$AX18,1,0)+IF($AY18>$AZ18,1,0) -> 2 | F18: =SUM(IF(SUM(J18:K18)>0,SUM(+IF($J18=$K18,1,0),0)))+SUM(IF(SUM(L18:M18)>0,SUM(+IF($L18=$M18,1,0),0)))+SUM(IF(SUM(N18:O18)>0,SUM(+IF($N18=$O18,1,0),0)))+SUM(IF(SUM(P18:Q18)>0,SUM(+IF($P18=$Q18,1,0),0)))+SUM(IF(SUM(R18:S18)>0,SUM(+IF($R18=$S18,1,0),0)))+SUM(IF(SUM(T18:U18)>0,SUM(+IF($T18=$U18,1,0),0)))+SUM(IF(SUM(V18:W18)>0,SUM(+IF($V18=$W18,1,0),0)))+SUM(IF(SUM(X18:Y18)>0,SUM(+IF($X18=$Y18,1,0),0)))+SUM(IF(SUM(Z18:AA18)>0,SUM(+IF($Z18=$AA18,1,0),0)))+SUM(IF(SUM(AB18:AC18)>0,SUM(+IF($AB18=$AC18,1,0),0)))+SUM(IF(SUM(AE18:AF18)>0,SUM(+IF($AE18=$AF18,1,0),0)))+SUM(IF(SUM(AG18:AH18)>0,SUM(+IF($AG18=$AH18,1,0),0)))+SUM(IF(SUM(AI18:AJ18)>0,SUM(+IF($AI18=$AJ18,1,0),0)))+SUM(IF(SUM(AK18:AL18)>0,SUM(+IF($AK18=$AL18,1,0),0)))+SUM(IF(SUM(AM18:AN18)>0,SUM(+IF($AM18=$AN18,1,0),0)))+SUM(IF(SUM(AO18:AP18)>0,SUM(+IF($AO18=$AP18,1,0),0)))+SUM(IF(SUM(AQ18:AR18)>0,SUM(+IF($AQ18=$AR18,1,0),0)))+SUM(IF(SUM(AS18:AT18)>0,SUM(+IF($AS18=$AT18,1,0),0)))+SUM(IF(SUM(AU18:AV18)>0,SUM(+IF($AU18=$AV18,1,0),0)))+SUM(IF(SUM(AW18:AX18)>0,SUM(+IF($AW18=$AX18,1,0),0)))+SUM(IF(SUM(AY18:AZ18)>0,SUM(+IF($AY18=$AZ18,1,0),0))) -> 0 | G18: =IF($J18<$K18,1,0)+IF($L18<$M18,1,0)+IF($N18<$O18,1,0)+IF($P18<$Q18,1,0)+IF($R18<$S18,1,0)+IF($T18<$U18,1,0)+IF($V18<$W18,1,0)+IF($X18<$Y18,1,0)+IF($Z18<$AA18,1,0)+IF($AB18<$AC18,1,0)+IF($AE18<$AF18,1,0)+IF($AG18<$AH18,1,0)+IF($AI18<$AJ18,1,0)+IF($AK18<$AL18,1,0)+IF($AM18<$AN18,1,0)+IF($AO18<$AP18,1,0)+IF($AQ18<$AR18,1,0)+IF($AS18<$AT18,1,0)+IF($AU18<$AV18,1,0)+IF($AW18<$AX18,1,0)+IF($AY18<$AZ18,1,0) -> 0 | H18: =+J18+L18+N18+P18+R18+T18+V18+X18+Z18+AB18+AE18+AG18+AI18+AK18+AM18+AO18+AQ18+AS18+AU18+AW18+AY18 -> 29 | I18: =+K18+M18+O18+Q18+S18+U18+W18+Y18+AA18+AC18+AF18+AH18+AJ18+AL18+AN18+AP18+AR18+AT18+AV18+AX18+AZ18 -> 15 | J18: 10 | K18: 9 | L18: 19 | M18: 6
B19: SARAH | C19: CULLEN | D19: =SUM(E19)*2+SUM(F19)+AD19 -> 2 | E19: =IF($J19>$K19,1,0)+IF($L19>$M19,1,0)+IF($N19>$O19,1,0)+IF($P19>$Q19,1,0)+IF($R19>$S19,1,0)+IF($T19>$U19,1,0)+IF($V19>$W19,1,0)+IF($X19>$Y19,1,0)+IF($Z19>$AA19,1,0)+IF($AB19>$AC19,1,0)+IF($AE19>$AF19,1,0)+IF($AG19>$AH19,1,0)+IF($AI19>$AJ19,1,0)+IF($AK19>$AL19,1,0)+IF($AM19>$AN19,1,0)+IF($AO19>$AP19,1,0)+IF($AQ19>$AR19,1,0)+IF($AS19>$AT19,1,0)+IF($AU19>$AV19,1,0)+IF($AW19>$AX19,1,0)+IF($AY19>$AZ19,1,0) -> 1 | F19: =SUM(IF(SUM(J19:K19)>0,SUM(+IF($J19=$K19,1,0),0)))+SUM(IF(SUM(L19:M19)>0,SUM(+IF($L19=$M19,1,0),0)))+SUM(IF(SUM(N19:O19)>0,SUM(+IF($N19=$O19,1,0),0)))+SUM(IF(SUM(P19:Q19)>0,SUM(+IF($P19=$Q19,1,0),0)))+SUM(IF(SUM(R19:S19)>0,SUM(+IF($R19=$S19,1,0),0)))+SUM(IF(SUM(T19:U19)>0,SUM(+IF($T19=$U19,1,0),0)))+SUM(IF(SUM(V19:W19)>0,SUM(+IF($V19=$W19,1,0),0)))+SUM(IF(SUM(X19:Y19)>0,SUM(+IF($X19=$Y19,1,0),0)))+SUM(IF(SUM(Z19:AA19)>0,SUM(+IF($Z19=$AA19,1,0),0)))+SUM(IF(SUM(AB19:AC19)>0,SUM(+IF($AB19=$AC19,1,0),0)))+SUM(IF(SUM(AE19:AF19)>0,SUM(+IF($AE19=$AF19,1,0),0)))+SUM(IF(SUM(AG19:AH19)>0,SUM(+IF($AG19=$AH19,1,0),0)))+SUM(IF(SUM(AI19:AJ19)>0,SUM(+IF($AI19=$AJ19,1,0),0)))+SUM(IF(SUM(AK19:AL19)>0,SUM(+IF($AK19=$AL19,1,0),0)))+SUM(IF(SUM(AM19:AN19)>0,SUM(+IF($AM19=$AN19,1,0),0)))+SUM(IF(SUM(AO19:AP19)>0,SUM(+IF($AO19=$AP19,1,0),0)))+SUM(IF(SUM(AQ19:AR19)>0,SUM(+IF($AQ19=$AR19,1,0),0)))+SUM(IF(SUM(AS19:AT19)>0,SUM(+IF($AS19=$AT19,1,0),0)))+SUM(IF(SUM(AU19:AV19)>0,SUM(+IF($AU19=$AV19,1,0),0)))+SUM(IF(SUM(AW19:AX19)>0,SUM(+IF($AW19=$AX19,1,0),0)))+SUM(IF(SUM(AY19:AZ19)>0,SUM(+IF($AY19=$AZ19,1,0),0))) -> 0 | G19: =IF($J19<$K19,1,0)+IF($L19<$M19,1,0)+IF($N19<$O19,1,0)+IF($P19<$Q19,1,0)+IF($R19<$S19,1,0)+IF($T19<$U19,1,0)+IF($V19<$W19,1,0)+IF($X19<$Y19,1,0)+IF($Z19<$AA19,1,0)+IF($AB19<$AC19,1,0)+IF($AE19<$AF19,1,0)+IF($AG19<$AH19,1,0)+IF($AI19<$AJ19,1,0)+IF($AK19<$AL19,1,0)+IF($AM19<$AN19,1,0)+IF($AO19<$AP19,1,0)+IF($AQ19<$AR19,1,0)+IF($AS19<$AT19,1,0)+IF($AU19<$AV19,1,0)+IF($AW19<$AX19,1,0)+IF($AY19<$AZ19,1,0) -> 1 | H19: =+J19+L19+N19+P19+R19+T19+V19+X19+Z19+AB19+AE19+AG19+AI19+AK19+AM19+AO19+AQ19+AS19+AU19+AW19+AY19 -> 22 | I19: =+K19+M19+O19+Q19+S19+U19+W19+Y19+AA19+AC19+AF19+AH19+AJ19+AL19+AN19+AP19+AR19+AT19+AV19+AX19+AZ19 -> 25 | J19: 17 | K19: 5 | L19: 5 | M19: 20
B20: NICOLE | C20: DIRMAITE | D20: =SUM(E20)*2+SUM(F20)+AD20 -> 0 | E20: =IF($J20>$K20,1,0)+IF($L20>$M20,1,0)+IF($N20>$O20,1,0)+IF($P20>$Q20,1,0)+IF($R20>$S20,1,0)+IF($T20>$U20,1,0)+IF($V20>$W20,1,0)+IF($X20>$Y20,1,0)+IF($Z20>$AA20,1,0)+IF($AB20>$AC20,1,0)+IF($AE20>$AF20,1,0)+IF($AG20>$AH20,1,0)+IF($AI20>$AJ20,1,0)+IF($AK20>$AL20,1,0)+IF($AM20>$AN20,1,0)+IF($AO20>$AP20,1,0)+IF($AQ20>$AR20,1,0)+IF($AS20>$AT20,1,0)+IF($AU20>$AV20,1,0)+IF($AW20>$AX20,1,0)+IF($AY20>$AZ20,1,0) -> 0 | F20: =SUM(IF(SUM(J20:K20)>0,SUM(+IF($J20=$K20,1,0),0)))+SUM(IF(SUM(L20:M20)>0,SUM(+IF($L20=$M20,1,0),0)))+SUM(IF(SUM(N20:O20)>0,SUM(+IF($N20=$O20,1,0),0)))+SUM(IF(SUM(P20:Q20)>0,SUM(+IF($P20=$Q20,1,0),0)))+SUM(IF(SUM(R20:S20)>0,SUM(+IF($R20=$S20,1,0),0)))+SUM(IF(SUM(T20:U20)>0,SUM(+IF($T20=$U20,1,0),0)))+SUM(IF(SUM(V20:W20)>0,SUM(+IF($V20=$W20,1,0),0)))+SUM(IF(SUM(X20:Y20)>0,SUM(+IF($X20=$Y20,1,0),0)))+SUM(IF(SUM(Z20:AA20)>0,SUM(+IF($Z20=$AA20,1,0),0)))+SUM(IF(SUM(AB20:AC20)>0,SUM(+IF($AB20=$AC20,1,0),0)))+SUM(IF(SUM(AE20:AF20)>0,SUM(+IF($AE20=$AF20,1,0),0)))+SUM(IF(SUM(AG20:AH20)>0,SUM(+IF($AG20=$AH20,1,0),0)))+SUM(IF(SUM(AI20:AJ20)>0,SUM(+IF($AI20=$AJ20,1,0),0)))+SUM(IF(SUM(AK20:AL20)>0,SUM(+IF($AK20=$AL20,1,0),0)))+SUM(IF(SUM(AM20:AN20)>0,SUM(+IF($AM20=$AN20,1,0),0)))+SUM(IF(SUM(AO20:AP20)>0,SUM(+IF($AO20=$AP20,1,0),0)))+SUM(IF(SUM(AQ20:AR20)>0,SUM(+IF($AQ20=$AR20,1,0),0)))+SUM(IF(SUM(AS20:AT20)>0,SUM(+IF($AS20=$AT20,1,0),0)))+SUM(IF(SUM(AU20:AV20)>0,SUM(+IF($AU20=$AV20,1,0),0)))+SUM(IF(SUM(AW20:AX20)>0,SUM(+IF($AW20=$AX20,1,0),0)))+SUM(IF(SUM(AY20:AZ20)>0,SUM(+IF($AY20=$AZ20,1,0),0))) -> 0 | G20: =IF($J20<$K20,1,0)+IF($L20<$M20,1,0)+IF($N20<$O20,1,0)+IF($P20<$Q20,1,0)+IF($R20<$S20,1,0)+IF($T20<$U20,1,0)+IF($V20<$W20,1,0)+IF($X20<$Y20,1,0)+IF($Z20<$AA20,1,0)+IF($AB20<$AC20,1,0)+IF($AE20<$AF20,1,0)+IF($AG20<$AH20,1,0)+IF($AI20<$AJ20,1,0)+IF($AK20<$AL20,1,0)+IF($AM20<$AN20,1,0)+IF($AO20<$AP20,1,0)+IF($AQ20<$AR20,1,0)+IF($AS20<$AT20,1,0)+IF($AU20<$AV20,1,0)+IF($AW20<$AX20,1,0)+IF($AY20<$AZ20,1,0) -> 1 | H20: =+J20+L20+N20+P20+R20+T20+V20+X20+Z20+AB20+AE20+AG20+AI20+AK20+AM20+AO20+AQ20+AS20+AU20+AW20+AY20 -> 9 | I20: =+K20+M20+O20+Q20+S20+U20+W20+Y20+AA20+AC20+AF20+AH20+AJ20+AL20+AN20+AP20+AR20+AT20+AV20+AX20+AZ20 -> 10 | J20: 9 | K20: 10
B21: SUE | C21: DIXON | D21: =SUM(E21)*2+SUM(F21)+AD21 -> 0 | E21: =IF($J21>$K21,1,0)+IF($L21>$M21,1,0)+IF($N21>$O21,1,0)+IF($P21>$Q21,1,0)+IF($R21>$S21,1,0)+IF($T21>$U21,1,0)+IF($V21>$W21,1,0)+IF($X21>$Y21,1,0)+IF($Z21>$AA21,1,0)+IF($AB21>$AC21,1,0)+IF($AE21>$AF21,1,0)+IF($AG21>$AH21,1,0)+IF($AI21>$AJ21,1,0)+IF($AK21>$AL21,1,0)+IF($AM21>$AN21,1,0)+IF($AO21>$AP21,1,0)+IF($AQ21>$AR21,1,0)+IF($AS21>$AT21,1,0)+IF($AU21>$AV21,1,0)+IF($AW21>$AX21,1,0)+IF($AY21>$AZ21,1,0) -> 0 | F21: =SUM(IF(SUM(J21:K21)>0,SUM(+IF($J21=$K21,1,0),0)))+SUM(IF(SUM(L21:M21)>0,SUM(+IF($L21=$M21,1,0),0)))+SUM(IF(SUM(N21:O21)>0,SUM(+IF($N21=$O21,1,0),0)))+SUM(IF(SUM(P21:Q21)>0,SUM(+IF($P21=$Q21,1,0),0)))+SUM(IF(SUM(R21:S21)>0,SUM(+IF($R21=$S21,1,0),0)))+SUM(IF(SUM(T21:U21)>0,SUM(+IF($T21=$U21,1,0),0)))+SUM(IF(SUM(V21:W21)>0,SUM(+IF($V21=$W21,1,0),0)))+SUM(IF(SUM(X21:Y21)>0,SUM(+IF($X21=$Y21,1,0),0)))+SUM(IF(SUM(Z21:AA21)>0,SUM(+IF($Z21=$AA21,1,0),0)))+SUM(IF(SUM(AB21:AC21)>0,SUM(+IF($AB21=$AC21,1,0),0)))+SUM(IF(SUM(AE21:AF21)>0,SUM(+IF($AE21=$AF21,1,0),0)))+SUM(IF(SUM(AG21:AH21)>0,SUM(+IF($AG21=$AH21,1,0),0)))+SUM(IF(SUM(AI21:AJ21)>0,SUM(+IF($AI21=$AJ21,1,0),0)))+SUM(IF(SUM(AK21:AL21)>0,SUM(+IF($AK21=$AL21,1,0),0)))+SUM(IF(SUM(AM21:AN21)>0,SUM(+IF($AM21=$AN21,1,0),0)))+SUM(IF(SUM(AO21:AP21)>0,SUM(+IF($AO21=$AP21,1,0),0)))+SUM(IF(SUM(AQ21:AR21)>0,SUM(+IF($AQ21=$AR21,1,0),0)))+SUM(IF(SUM(AS21:AT21)>0,SUM(+IF($AS21=$AT21,1,0),0)))+SUM(IF(SUM(AU21:AV21)>0,SUM(+IF($AU21=$AV21,1,0),0)))+SUM(IF(SUM(AW21:AX21)>0,SUM(+IF($AW21=$AX21,1,0),0)))+SUM(IF(SUM(AY21:AZ21)>0,SUM(+IF($AY21=$AZ21,1,0),0))) -> 0 | G21: =IF($J21<$K21,1,0)+IF($L21<$M21,1,0)+IF($N21<$O21,1,0)+IF($P21<$Q21,1,0)+IF($R21<$S21,1,0)+IF($T21<$U21,1,0)+IF($V21<$W21,1,0)+IF($X21<$Y21,1,0)+IF($Z21<$AA21,1,0)+IF($AB21<$AC21,1,0)+IF($AE21<$AF21,1,0)+IF($AG21<$AH21,1,0)+IF($AI21<$AJ21,1,0)+IF($AK21<$AL21,1,0)+IF($AM21<$AN21,1,0)+IF($AO21<$AP21,1,0)+IF($AQ21<$AR21,1,0)+IF($AS21<$AT21,1,0)+IF($AU21<$AV21,1,0)+IF($AW21<$AX21,1,0)+IF($AY21<$AZ21,1,0) -> 1 | H21: =+J21+L21+N21+P21+R21+T21+V21+X21+Z21+AB21+AE21+AG21+AI21+AK21+AM21+AO21+AQ21+AS21+AU21+AW21+AY21 -> 5 | I21: =+K21+M21+O21+Q21+S21+U21+W21+Y21+AA21+AC21+AF21+AH21+AJ21+AL21+AN21+AP21+AR21+AT21+AV21+AX21+AZ21 -> 17 | J21: 5 | K21: 17
B22: BIB | C22: EWING | D22: =SUM(E22)*2+SUM(F22)+AD22 -> 1 | E22: =IF($J22>$K22,1,0)+IF($L22>$M22,1,0)+IF($N22>$O22,1,0)+IF($P22>$Q22,1,0)+IF($R22>$S22,1,0)+IF($T22>$U22,1,0)+IF($V22>$W22,1,0)+IF($X22>$Y22,1,0)+IF($Z22>$AA22,1,0)+IF($AB22>$AC22,1,0)+IF($AE22>$AF22,1,0)+IF($AG22>$AH22,1,0)+IF($AI22>$AJ22,1,0)+IF($AK22>$AL22,1,0)+IF($AM22>$AN22,1,0)+IF($AO22>$AP22,1,0)+IF($AQ22>$AR22,1,0)+IF($AS22>$AT22,1,0)+IF($AU22>$AV22,1,0)+IF($AW22>$AX22,1,0)+IF($AY22>$AZ22,1,0) -> 0 | F22: =SUM(IF(SUM(J22:K22)>0,SUM(+IF($J22=$K22,1,0),0)))+SUM(IF(SUM(L22:M22)>0,SUM(+IF($L22=$M22,1,0),0)))+SUM(IF(SUM(N22:O22)>0,SUM(+IF($N22=$O22,1,0),0)))+SUM(IF(SUM(P22:Q22)>0,SUM(+IF($P22=$Q22,1,0),0)))+SUM(IF(SUM(R22:S22)>0,SUM(+IF($R22=$S22,1,0),0)))+SUM(IF(SUM(T22:U22)>0,SUM(+IF($T22=$U22,1,0),0)))+SUM(IF(SUM(V22:W22)>0,SUM(+IF($V22=$W22,1,0),0)))+SUM(IF(SUM(X22:Y22)>0,SUM(+IF($X22=$Y22,1,0),0)))+SUM(IF(SUM(Z22:AA22)>0,SUM(+IF($Z22=$AA22,1,0),0)))+SUM(IF(SUM(AB22:AC22)>0,SUM(+IF($AB22=$AC22,1,0),0)))+SUM(IF(SUM(AE22:AF22)>0,SUM(+IF($AE22=$AF22,1,0),0)))+SUM(IF(SUM(AG22:AH22)>0,SUM(+IF($AG22=$AH22,1,0),0)))+SUM(IF(SUM(AI22:AJ22)>0,SUM(+IF($AI22=$AJ22,1,0),0)))+SUM(IF(SUM(AK22:AL22)>0,SUM(+IF($AK22=$AL22,1,0),0)))+SUM(IF(SUM(AM22:AN22)>0,SUM(+IF($AM22=$AN22,1,0),0)))+SUM(IF(SUM(AO22:AP22)>0,SUM(+IF($AO22=$AP22,1,0),0)))+SUM(IF(SUM(AQ22:AR22)>0,SUM(+IF($AQ22=$AR22,1,0),0)))+SUM(IF(SUM(AS22:AT22)>0,SUM(+IF($AS22=$AT22,1,0),0)))+SUM(IF(SUM(AU22:AV22)>0,SUM(+IF($AU22=$AV22,1,0),0)))+SUM(IF(SUM(AW22:AX22)>0,SUM(+IF($AW22=$AX22,1,0),0)))+SUM(IF(SUM(AY22:AZ22)>0,SUM(+IF($AY22=$AZ22,1,0),0))) -> 1 | G22: =IF($J22<$K22,1,0)+IF($L22<$M22,1,0)+IF($N22<$O22,1,0)+IF($P22<$Q22,1,0)+IF($R22<$S22,1,0)+IF($T22<$U22,1,0)+IF($V22<$W22,1,0)+IF($X22<$Y22,1,0)+IF($Z22<$AA22,1,0)+IF($AB22<$AC22,1,0)+IF($AE22<$AF22,1,0)+IF($AG22<$AH22,1,0)+IF($AI22<$AJ22,1,0)+IF($AK22<$AL22,1,0)+IF($AM22<$AN22,1,0)+IF($AO22<$AP22,1,0)+IF($AQ22<$AR22,1,0)+IF($AS22<$AT22,1,0)+IF($AU22<$AV22,1,0)+IF($AW22<$AX22,1,0)+IF($AY22<$AZ22,1,0) -> 1 | H22: =+J22+L22+N22+P22+R22+T22+V22+X22+Z22+AB22+AE22+AG22+AI22+AK22+AM22+AO22+AQ22+AS22+AU22+AW22+AY22 -> 15 | I22: =+K22+M22+O22+Q22+S22+U22+W22+Y22+AA22+AC22+AF22+AH22+AJ22+AL22+AN22+AP22+AR22+AT22+AV22+AX22+AZ22 -> 22 | J22: 6 | K22: 13 | L22: 9 | M22: 9
B23: KEITH | C23: FISHER | D23: =SUM(E23)*2+SUM(F23)+AD23 -> 0 | E23: =IF($J23>$K23,1,0)+IF($L23>$M23,1,0)+IF($N23>$O23,1,0)+IF($P23>$Q23,1,0)+IF($R23>$S23,1,0)+IF($T23>$U23,1,0)+IF($V23>$W23,1,0)+IF($X23>$Y23,1,0)+IF($Z23>$AA23,1,0)+IF($AB23>$AC23,1,0)+IF($AE23>$AF23,1,0)+IF($AG23>$AH23,1,0)+IF($AI23>$AJ23,1,0)+IF($AK23>$AL23,1,0)+IF($AM23>$AN23,1,0)+IF($AO23>$AP23,1,0)+IF($AQ23>$AR23,1,0)+IF($AS23>$AT23,1,0)+IF($AU23>$AV23,1,0)+IF($AW23>$AX23,1,0)+IF($AY23>$AZ23,1,0) -> 0 | F23: =SUM(IF(SUM(J23:K23)>0,SUM(+IF($J23=$K23,1,0),0)))+SUM(IF(SUM(L23:M23)>0,SUM(+IF($L23=$M23,1,0),0)))+SUM(IF(SUM(N23:O23)>0,SUM(+IF($N23=$O23,1,0),0)))+SUM(IF(SUM(P23:Q23)>0,SUM(+IF($P23=$Q23,1,0),0)))+SUM(IF(SUM(R23:S23)>0,SUM(+IF($R23=$S23,1,0),0)))+SUM(IF(SUM(T23:U23)>0,SUM(+IF($T23=$U23,1,0),0)))+SUM(IF(SUM(V23:W23)>0,SUM(+IF($V23=$W23,1,0),0)))+SUM(IF(SUM(X23:Y23)>0,SUM(+IF($X23=$Y23,1,0),0)))+SUM(IF(SUM(Z23:AA23)>0,SUM(+IF($Z23=$AA23,1,0),0)))+SUM(IF(SUM(AB23:AC23)>0,SUM(+IF($AB23=$AC23,1,0),0)))+SUM(IF(SUM(AE23:AF23)>0,SUM(+IF($AE23=$AF23,1,0),0)))+SUM(IF(SUM(AG23:AH23)>0,SUM(+IF($AG23=$AH23,1,0),0)))+SUM(IF(SUM(AI23:AJ23)>0,SUM(+IF($AI23=$AJ23,1,0),0)))+SUM(IF(SUM(AK23:AL23)>0,SUM(+IF($AK23=$AL23,1,0),0)))+SUM(IF(SUM(AM23:AN23)>0,SUM(+IF($AM23=$AN23,1,0),0)))+SUM(IF(SUM(AO23:AP23)>0,SUM(+IF($AO23=$AP23,1,0),0)))+SUM(IF(SUM(AQ23:AR23)>0,SUM(+IF($AQ23=$AR23,1,0),0)))+SUM(IF(SUM(AS23:AT23)>0,SUM(+IF($AS23=$AT23,1,0),0)))+SUM(IF(SUM(AU23:AV23)>0,SUM(+IF($AU23=$AV23,1,0),0)))+SUM(IF(SUM(AW23:AX23)>0,SUM(+IF($AW23=$AX23,1,0),0)))+SUM(IF(SUM(AY23:AZ23)>0,SUM(+IF($AY23=$AZ23,1,0),0))) -> 0 | G23: =IF($J23<$K23,1,0)+IF($L23<$M23,1,0)+IF($N23<$O23,1,0)+IF($P23<$Q23,1,0)+IF($R23<$S23,1,0)+IF($T23<$U23,1,0)+IF($V23<$W23,1,0)+IF($X23<$Y23,1,0)+IF($Z23<$AA23,1,0)+IF($AB23<$AC23,1,0)+IF($AE23<$AF23,1,0)+IF($AG23<$AH23,1,0)+IF($AI23<$AJ23,1,0)+IF($AK23<$AL23,1,0)+IF($AM23<$AN23,1,0)+IF($AO23<$AP23,1,0)+IF($AQ23<$AR23,1,0)+IF($AS23<$AT23,1,0)+IF($AU23<$AV23,1,0)+IF($AW23<$AX23,1,0)+IF($AY23<$AZ23,1,0) -> 1 | H23: =+J23+L23+N23+P23+R23+T23+V23+X23+Z23+AB23+AE23+AG23+AI23+AK23+AM23+AO23+AQ23+AS23+AU23+AW23+AY23 -> 5 | I23: =+K23+M23+O23+Q23+S23+U23+W23+Y23+AA23+AC23+AF23+AH23+AJ23+AL23+AN23+AP23+AR23+AT23+AV23+AX23+AZ23 -> 17 | J23: 5 | K23: 17
B24: RICK | C24: GALVIN | D24: =SUM(E24)*2+SUM(F24)+AD24 -> 4 | E24: =IF($J24>$K24,1,0)+IF($L24>$M24,1,0)+IF($N24>$O24,1,0)+IF($P24>$Q24,1,0)+IF($R24>$S24,1,0)+IF($T24>$U24,1,0)+IF($V24>$W24,1,0)+IF($X24>$Y24,1,0)+IF($Z24>$AA24,1,0)+IF($AB24>$AC24,1,0)+IF($AE24>$AF24,1,0)+IF($AG24>$AH24,1,0)+IF($AI24>$AJ24,1,0)+IF($AK24>$AL24,1,0)+IF($AM24>$AN24,1,0)+IF($AO24>$AP24,1,0)+IF($AQ24>$AR24,1,0)+IF($AS24>$AT24,1,0)+IF($AU24>$AV24,1,0)+IF($AW24>$AX24,1,0)+IF($AY24>$AZ24,1,0) -> 2 | F24: =SUM(IF(SUM(J24:K24)>0,SUM(+IF($J24=$K24,1,0),0)))+SUM(IF(SUM(L24:M24)>0,SUM(+IF($L24=$M24,1,0),0)))+SUM(IF(SUM(N24:O24)>0,SUM(+IF($N24=$O24,1,0),0)))+SUM(IF(SUM(P24:Q24)>0,SUM(+IF($P24=$Q24,1,0),0)))+SUM(IF(SUM(R24:S24)>0,SUM(+IF($R24=$S24,1,0),0)))+SUM(IF(SUM(T24:U24)>0,SUM(+IF($T24=$U24,1,0),0)))+SUM(IF(SUM(V24:W24)>0,SUM(+IF($V24=$W24,1,0),0)))+SUM(IF(SUM(X24:Y24)>0,SUM(+IF($X24=$Y24,1,0),0)))+SUM(IF(SUM(Z24:AA24)>0,SUM(+IF($Z24=$AA24,1,0),0)))+SUM(IF(SUM(AB24:AC24)>0,SUM(+IF($AB24=$AC24,1,0),0)))+SUM(IF(SUM(AE24:AF24)>0,SUM(+IF($AE24=$AF24,1,0),0)))+SUM(IF(SUM(AG24:AH24)>0,SUM(+IF($AG24=$AH24,1,0),0)))+SUM(IF(SUM(AI24:AJ24)>0,SUM(+IF($AI24=$AJ24,1,0),0)))+SUM(IF(SUM(AK24:AL24)>0,SUM(+IF($AK24=$AL24,1,0),0)))+SUM(IF(SUM(AM24:AN24)>0,SUM(+IF($AM24=$AN24,1,0),0)))+SUM(IF(SUM(AO24:AP24)>0,SUM(+IF($AO24=$AP24,1,0),0)))+SUM(IF(SUM(AQ24:AR24)>0,SUM(+IF($AQ24=$AR24,1,0),0)))+SUM(IF(SUM(AS24:AT24)>0,SUM(+IF($AS24=$AT24,1,0),0)))+SUM(IF(SUM(AU24:AV24)>0,SUM(+IF($AU24=$AV24,1,0),0)))+SUM(IF(SUM(AW24:AX24)>0,SUM(+IF($AW24=$AX24,1,0),0)))+SUM(IF(SUM(AY24:AZ24)>0,SUM(+IF($AY24=$AZ24,1,0),0))) -> 0 | G24: =IF($J24<$K24,1,0)+IF($L24<$M24,1,0)+IF($N24<$O24,1,0)+IF($P24<$Q24,1,0)+IF($R24<$S24,1,0)+IF($T24<$U24,1,0)+IF($V24<$W24,1,0)+IF($X24<$Y24,1,0)+IF($Z24<$AA24,1,0)+IF($AB24<$AC24,1,0)+IF($AE24<$AF24,1,0)+IF($AG24<$AH24,1,0)+IF($AI24<$AJ24,1,0)+IF($AK24<$AL24,1,0)+IF($AM24<$AN24,1,0)+IF($AO24<$AP24,1,0)+IF($AQ24<$AR24,1,0)+IF($AS24<$AT24,1,0)+IF($AU24<$AV24,1,0)+IF($AW24<$AX24,1,0)+IF($AY24<$AZ24,1,0) -> 0 | H24: =+J24+L24+N24+P24+R24+T24+V24+X24+Z24+AB24+AE24+AG24+AI24+AK24+AM24+AO24+AQ24+AS24+AU24+AW24+AY24 -> 36 | I24: =+K24+M24+O24+Q24+S24+U24+W24+Y24+AA24+AC24+AF24+AH24+AJ24+AL24+AN24+AP24+AR24+AT24+AV24+AX24+AZ24 -> 8 | J24: 17 | K24: 2 | L24: 19 | M24: 6
B25: JENNIE | C25: HENLEY | D25: =SUM(E25)*2+SUM(F25)+AD25 -> 2 | E25: =IF($J25>$K25,1,0)+IF($L25>$M25,1,0)+IF($N25>$O25,1,0)+IF($P25>$Q25,1,0)+IF($R25>$S25,1,0)+IF($T25>$U25,1,0)+IF($V25>$W25,1,0)+IF($X25>$Y25,1,0)+IF($Z25>$AA25,1,0)+IF($AB25>$AC25,1,0)+IF($AE25>$AF25,1,0)+IF($AG25>$AH25,1,0)+IF($AI25>$AJ25,1,0)+IF($AK25>$AL25,1,0)+IF($AM25>$AN25,1,0)+IF($AO25>$AP25,1,0)+IF($AQ25>$AR25,1,0)+IF($AS25>$AT25,1,0)+IF($AU25>$AV25,1,0)+IF($AW25>$AX25,1,0)+IF($AY25>$AZ25,1,0) -> 1 | F25: =SUM(IF(SUM(J25:K25)>0,SUM(+IF($J25=$K25,1,0),0)))+SUM(IF(SUM(L25:M25)>0,SUM(+IF($L25=$M25,1,0),0)))+SUM(IF(SUM(N25:O25)>0,SUM(+IF($N25=$O25,1,0),0)))+SUM(IF(SUM(P25:Q25)>0,SUM(+IF($P25=$Q25,1,0),0)))+SUM(IF(SUM(R25:S25)>0,SUM(+IF($R25=$S25,1,0),0)))+SUM(IF(SUM(T25:U25)>0,SUM(+IF($T25=$U25,1,0),0)))+SUM(IF(SUM(V25:W25)>0,SUM(+IF($V25=$W25,1,0),0)))+SUM(IF(SUM(X25:Y25)>0,SUM(+IF($X25=$Y25,1,0),0)))+SUM(IF(SUM(Z25:AA25)>0,SUM(+IF($Z25=$AA25,1,0),0)))+SUM(IF(SUM(AB25:AC25)>0,SUM(+IF($AB25=$AC25,1,0),0)))+SUM(IF(SUM(AE25:AF25)>0,SUM(+IF($AE25=$AF25,1,0),0)))+SUM(IF(SUM(AG25:AH25)>0,SUM(+IF($AG25=$AH25,1,0),0)))+SUM(IF(SUM(AI25:AJ25)>0,SUM(+IF($AI25=$AJ25,1,0),0)))+SUM(IF(SUM(AK25:AL25)>0,SUM(+IF($AK25=$AL25,1,0),0)))+SUM(IF(SUM(AM25:AN25)>0,SUM(+IF($AM25=$AN25,1,0),0)))+SUM(IF(SUM(AO25:AP25)>0,SUM(+IF($AO25=$AP25,1,0),0)))+SUM(IF(SUM(AQ25:AR25)>0,SUM(+IF($AQ25=$AR25,1,0),0)))+SUM(IF(SUM(AS25:AT25)>0,SUM(+IF($AS25=$AT25,1,0),0)))+SUM(IF(SUM(AU25:AV25)>0,SUM(+IF($AU25=$AV25,1,0),0)))+SUM(IF(SUM(AW25:AX25)>0,SUM(+IF($AW25=$AX25,1,0),0)))+SUM(IF(SUM(AY25:AZ25)>0,SUM(+IF($AY25=$AZ25,1,0),0))) -> 0 | G25: =IF($J25<$K25,1,0)+IF($L25<$M25,1,0)+IF($N25<$O25,1,0)+IF($P25<$Q25,1,0)+IF($R25<$S25,1,0)+IF($T25<$U25,1,0)+IF($V25<$W25,1,0)+IF($X25<$Y25,1,0)+IF($Z25<$AA25,1,0)+IF($AB25<$AC25,1,0)+IF($AE25<$AF25,1,0)+IF($AG25<$AH25,1,0)+IF($AI25<$AJ25,1,0)+IF($AK25<$AL25,1,0)+IF($AM25<$AN25,1,0)+IF($AO25<$AP25,1,0)+IF($AQ25<$AR25,1,0)+IF($AS25<$AT25,1,0)+IF($AU25<$AV25,1,0)+IF($AW25<$AX25,1,0)+IF($AY25<$AZ25,1,0) -> 0 | H25: =+J25+L25+N25+P25+R25+T25+V25+X25+Z25+AB25+AE25+AG25+AI25+AK25+AM25+AO25+AQ25+AS25+AU25+AW25+AY25 -> 10 | I25: =+K25+M25+O25+Q25+S25+U25+W25+Y25+AA25+AC25+AF25+AH25+AJ25+AL25+AN25+AP25+AR25+AT25+AV25+AX25+AZ25 -> 9 | J25: 10 | K25: 9
B26: KEITH | C26: HUGHES | D26: =SUM(E26)*2+SUM(F26)+AD26 -> 2 | E26: =IF($J26>$K26,1,0)+IF($L26>$M26,1,0)+IF($N26>$O26,1,0)+IF($P26>$Q26,1,0)+IF($R26>$S26,1,0)+IF($T26>$U26,1,0)+IF($V26>$W26,1,0)+IF($X26>$Y26,1,0)+IF($Z26>$AA26,1,0)+IF($AB26>$AC26,1,0)+IF($AE26>$AF26,1,0)+IF($AG26>$AH26,1,0)+IF($AI26>$AJ26,1,0)+IF($AK26>$AL26,1,0)+IF($AM26>$AN26,1,0)+IF($AO26>$AP26,1,0)+IF($AQ26>$AR26,1,0)+IF($AS26>$AT26,1,0)+IF($AU26>$AV26,1,0)+IF($AW26>$AX26,1,0)+IF($AY26>$AZ26,1,0) -> 1 | F26: =SUM(IF(SUM(J26:K26)>0,SUM(+IF($J26=$K26,1,0),0)))+SUM(IF(SUM(L26:M26)>0,SUM(+IF($L26=$M26,1,0),0)))+SUM(IF(SUM(N26:O26)>0,SUM(+IF($N26=$O26,1,0),0)))+SUM(IF(SUM(P26:Q26)>0,SUM(+IF($P26=$Q26,1,0),0)))+SUM(IF(SUM(R26:S26)>0,SUM(+IF($R26=$S26,1,0),0)))+SUM(IF(SUM(T26:U26)>0,SUM(+IF($T26=$U26,1,0),0)))+SUM(IF(SUM(V26:W26)>0,SUM(+IF($V26=$W26,1,0),0)))+SUM(IF(SUM(X26:Y26)>0,SUM(+IF($X26=$Y26,1,0),0)))+SUM(IF(SUM(Z26:AA26)>0,SUM(+IF($Z26=$AA26,1,0),0)))+SUM(IF(SUM(AB26:AC26)>0,SUM(+IF($AB26=$AC26,1,0),0)))+SUM(IF(SUM(AE26:AF26)>0,SUM(+IF($AE26=$AF26,1,0),0)))+SUM(IF(SUM(AG26:AH26)>0,SUM(+IF($AG26=$AH26,1,0),0)))+SUM(IF(SUM(AI26:AJ26)>0,SUM(+IF($AI26=$AJ26,1,0),0)))+SUM(IF(SUM(AK26:AL26)>0,SUM(+IF($AK26=$AL26,1,0),0)))+SUM(IF(SUM(AM26:AN26)>0,SUM(+IF($AM26=$AN26,1,0),0)))+SUM(IF(SUM(AO26:AP26)>0,SUM(+IF($AO26=$AP26,1,0),0)))+SUM(IF(SUM(AQ26:AR26)>0,SUM(+IF($AQ26=$AR26,1,0),0)))+SUM(IF(SUM(AS26:AT26)>0,SUM(+IF($AS26=$AT26,1,0),0)))+SUM(IF(SUM(AU26:AV26)>0,SUM(+IF($AU26=$AV26,1,0),0)))+SUM(IF(SUM(AW26:AX26)>0,SUM(+IF($AW26=$AX26,1,0),0)))+SUM(IF(SUM(AY26:AZ26)>0,SUM(+IF($AY26=$AZ26,1,0),0))) -> 0 | G26: =IF($J26<$K26,1,0)+IF($L26<$M26,1,0)+IF($N26<$O26,1,0)+IF($P26<$Q26,1,0)+IF($R26<$S26,1,0)+IF($T26<$U26,1,0)+IF($V26<$W26,1,0)+IF($X26<$Y26,1,0)+IF($Z26<$AA26,1,0)+IF($AB26<$AC26,1,0)+IF($AE26<$AF26,1,0)+IF($AG26<$AH26,1,0)+IF($AI26<$AJ26,1,0)+IF($AK26<$AL26,1,0)+IF($AM26<$AN26,1,0)+IF($AO26<$AP26,1,0)+IF($AQ26<$AR26,1,0)+IF($AS26<$AT26,1,0)+IF($AU26<$AV26,1,0)+IF($AW26<$AX26,1,0)+IF($AY26<$AZ26,1,0) -> 1 | H26: =+J26+L26+N26+P26+R26+T26+V26+X26+Z26+AB26+AE26+AG26+AI26+AK26+AM26+AO26+AQ26+AS26+AU26+AW26+AY26 -> 22 | I26: =+K26+M26+O26+Q26+S26+U26+W26+Y26+AA26+AC26+AF26+AH26+AJ26+AL26+AN26+AP26+AR26+AT26+AV26+AX26+AZ26 -> 22 | J26: 2 | K26: 17 | L26: 20 | M26: 5
B27: N | C27: JOLLA | D27: =SUM(E27)*2+SUM(F27)+AD27 -> 0 | E27: =IF($J27>$K27,1,0)+IF($L27>$M27,1,0)+IF($N27>$O27,1,0)+IF($P27>$Q27,1,0)+IF($R27>$S27,1,0)+IF($T27>$U27,1,0)+IF($V27>$W27,1,0)+IF($X27>$Y27,1,0)+IF($Z27>$AA27,1,0)+IF($AB27>$AC27,1,0)+IF($AE27>$AF27,1,0)+IF($AG27>$AH27,1,0)+IF($AI27>$AJ27,1,0)+IF($AK27>$AL27,1,0)+IF($AM27>$AN27,1,0)+IF($AO27>$AP27,1,0)+IF($AQ27>$AR27,1,0)+IF($AS27>$AT27,1,0)+IF($AU27>$AV27,1,0)+IF($AW27>$AX27,1,0)+IF($AY27>$AZ27,1,0) -> 0 | F27: =SUM(IF(SUM(J27:K27)>0,SUM(+IF($J27=$K27,1,0),0)))+SUM(IF(SUM(L27:M27)>0,SUM(+IF($L27=$M27,1,0),0)))+SUM(IF(SUM(N27:O27)>0,SUM(+IF($N27=$O27,1,0),0)))+SUM(IF(SUM(P27:Q27)>0,SUM(+IF($P27=$Q27,1,0),0)))+SUM(IF(SUM(R27:S27)>0,SUM(+IF($R27=$S27,1,0),0)))+SUM(IF(SUM(T27:U27)>0,SUM(+IF($T27=$U27,1,0),0)))+SUM(IF(SUM(V27:W27)>0,SUM(+IF($V27=$W27,1,0),0)))+SUM(IF(SUM(X27:Y27)>0,SUM(+IF($X27=$Y27,1,0),0)))+SUM(IF(SUM(Z27:AA27)>0,SUM(+IF($Z27=$AA27,1,0),0)))+SUM(IF(SUM(AB27:AC27)>0,SUM(+IF($AB27=$AC27,1,0),0)))+SUM(IF(SUM(AE27:AF27)>0,SUM(+IF($AE27=$AF27,1,0),0)))+SUM(IF(SUM(AG27:AH27)>0,SUM(+IF($AG27=$AH27,1,0),0)))+SUM(IF(SUM(AI27:AJ27)>0,SUM(+IF($AI27=$AJ27,1,0),0)))+SUM(IF(SUM(AK27:AL27)>0,SUM(+IF($AK27=$AL27,1,0),0)))+SUM(IF(SUM(AM27:AN27)>0,SUM(+IF($AM27=$AN27,1,0),0)))+SUM(IF(SUM(AO27:AP27)>0,SUM(+IF($AO27=$AP27,1,0),0)))+SUM(IF(SUM(AQ27:AR27)>0,SUM(+IF($AQ27=$AR27,1,0),0)))+SUM(IF(SUM(AS27:AT27)>0,SUM(+IF($AS27=$AT27,1,0),0)))+SUM(IF(SUM(AU27:AV27)>0,SUM(+IF($AU27=$AV27,1,0),0)))+SUM(IF(SUM(AW27:AX27)>0,SUM(+IF($AW27=$AX27,1,0),0)))+SUM(IF(SUM(AY27:AZ27)>0,SUM(+IF($AY27=$AZ27,1,0),0))) -> 0 | G27: =IF($J27<$K27,1,0)+IF($L27<$M27,1,0)+IF($N27<$O27,1,0)+IF($P27<$Q27,1,0)+IF($R27<$S27,1,0)+IF($T27<$U27,1,0)+IF($V27<$W27,1,0)+IF($X27<$Y27,1,0)+IF($Z27<$AA27,1,0)+IF($AB27<$AC27,1,0)+IF($AE27<$AF27,1,0)+IF($AG27<$AH27,1,0)+IF($AI27<$AJ27,1,0)+IF($AK27<$AL27,1,0)+IF($AM27<$AN27,1,0)+IF($AO27<$AP27,1,0)+IF($AQ27<$AR27,1,0)+IF($AS27<$AT27,1,0)+IF($AU27<$AV27,1,0)+IF($AW27<$AX27,1,0)+IF($AY27<$AZ27,1,0) -> 1 | H27: =+J27+L27+N27+P27+R27+T27+V27+X27+Z27+AB27+AE27+AG27+AI27+AK27+AM27+AO27+AQ27+AS27+AU27+AW27+AY27 -> 5 | I27: =+K27+M27+O27+Q27+S27+U27+W27+Y27+AA27+AC27+AF27+AH27+AJ27+AL27+AN27+AP27+AR27+AT27+AV27+AX27+AZ27 -> 20 | L27: 5 | M27: 20
B28: ALAN | C28: KEARSEY | D28: =SUM(E28)*2+SUM(F28)+AD28 -> 4 | E28: =IF($J28>$K28,1,0)+IF($L28>$M28,1,0)+IF($N28>$O28,1,0)+IF($P28>$Q28,1,0)+IF($R28>$S28,1,0)+IF($T28>$U28,1,0)+IF($V28>$W28,1,0)+IF($X28>$Y28,1,0)+IF($Z28>$AA28,1,0)+IF($AB28>$AC28,1,0)+IF($AE28>$AF28,1,0)+IF($AG28>$AH28,1,0)+IF($AI28>$AJ28,1,0)+IF($AK28>$AL28,1,0)+IF($AM28>$AN28,1,0)+IF($AO28>$AP28,1,0)+IF($AQ28>$AR28,1,0)+IF($AS28>$AT28,1,0)+IF($AU28>$AV28,1,0)+IF($AW28>$AX28,1,0)+IF($AY28>$AZ28,1,0) -> 2 | F28: =SUM(IF(SUM(J28:K28)>0,SUM(+IF($J28=$K28,1,0),0)))+SUM(IF(SUM(L28:M28)>0,SUM(+IF($L28=$M28,1,0),0)))+SUM(IF(SUM(N28:O28)>0,SUM(+IF($N28=$O28,1,0),0)))+SUM(IF(SUM(P28:Q28)>0,SUM(+IF($P28=$Q28,1,0),0)))+SUM(IF(SUM(R28:S28)>0,SUM(+IF($R28=$S28,1,0),0)))+SUM(IF(SUM(T28:U28)>0,SUM(+IF($T28=$U28,1,0),0)))+SUM(IF(SUM(V28:W28)>0,SUM(+IF($V28=$W28,1,0),0)))+SUM(IF(SUM(X28:Y28)>0,SUM(+IF($X28=$Y28,1,0),0)))+SUM(IF(SUM(Z28:AA28)>0,SUM(+IF($Z28=$AA28,1,0),0)))+SUM(IF(SUM(AB28:AC28)>0,SUM(+IF($AB28=$AC28,1,0),0)))+SUM(IF(SUM(AE28:AF28)>0,SUM(+IF($AE28=$AF28,1,0),0)))+SUM(IF(SUM(AG28:AH28)>0,SUM(+IF($AG28=$AH28,1,0),0)))+SUM(IF(SUM(AI28:AJ28)>0,SUM(+IF($AI28=$AJ28,1,0),0)))+SUM(IF(SUM(AK28:AL28)>0,SUM(+IF($AK28=$AL28,1,0),0)))+SUM(IF(SUM(AM28:AN28)>0,SUM(+IF($AM28=$AN28,1,0),0)))+SUM(IF(SUM(AO28:AP28)>0,SUM(+IF($AO28=$AP28,1,0),0)))+SUM(IF(SUM(AQ28:AR28)>0,SUM(+IF($AQ28=$AR28,1,0),0)))+SUM(IF(SUM(AS28:AT28)>0,SUM(+IF($AS28=$AT28,1,0),0)))+SUM(IF(SUM(AU28:AV28)>0,SUM(+IF($AU28=$AV28,1,0),0)))+SUM(IF(SUM(AW28:AX28)>0,SUM(+IF($AW28=$AX28,1,0),0)))+SUM(IF(SUM(AY28:AZ28)>0,SUM(+IF($AY28=$AZ28,1,0),0))) -> 0 | G28: =IF($J28<$K28,1,0)+IF($L28<$M28,1,0)+IF($N28<$O28,1,0)+IF($P28<$Q28,1,0)+IF($R28<$S28,1,0)+IF($T28<$U28,1,0)+IF($V28<$W28,1,0)+IF($X28<$Y28,1,0)+IF($Z28<$AA28,1,0)+IF($AB28<$AC28,1,0)+IF($AE28<$AF28,1,0)+IF($AG28<$AH28,1,0)+IF($AI28<$AJ28,1,0)+IF($AK28<$AL28,1,0)+IF($AM28<$AN28,1,0)+IF($AO28<$AP28,1,0)+IF($AQ28<$AR28,1,0)+IF($AS28<$AT28,1,0)+IF($AU28<$AV28,1,0)+IF($AW28<$AX28,1,0)+IF($AY28<$AZ28,1,0) -> 0 | H28: =+J28+L28+N28+P28+R28+T28+V28+X28+Z28+AB28+AE28+AG28+AI28+AK28+AM28+AO28+AQ28+AS28+AU28+AW28+AY28 -> 38 | I28: =+K28+M28+O28+Q28+S28+U28+W28+Y28+AA28+AC28+AF28+AH28+AJ28+AL28+AN28+AP28+AR28+AT28+AV28+AX28+AZ28 -> 8 | J28: 15 | K28: 7 | L28: 23 | M28: 1
B29: CHRIS | C29: KEARSEY | D29: =SUM(E29)*2+SUM(F29)+AD29 -> 2 | E29: =IF($J29>$K29,1,0)+IF($L29>$M29,1,0)+IF($N29>$O29,1,0)+IF($P29>$Q29,1,0)+IF($R29>$S29,1,0)+IF($T29>$U29,1,0)+IF($V29>$W29,1,0)+IF($X29>$Y29,1,0)+IF($Z29>$AA29,1,0)+IF($AB29>$AC29,1,0)+IF($AE29>$AF29,1,0)+IF($AG29>$AH29,1,0)+IF($AI29>$AJ29,1,0)+IF($AK29>$AL29,1,0)+IF($AM29>$AN29,1,0)+IF($AO29>$AP29,1,0)+IF($AQ29>$AR29,1,0)+IF($AS29>$AT29,1,0)+IF($AU29>$AV29,1,0)+IF($AW29>$AX29,1,0)+IF($AY29>$AZ29,1,0) -> 1 | F29: =SUM(IF(SUM(J29:K29)>0,SUM(+IF($J29=$K29,1,0),0)))+SUM(IF(SUM(L29:M29)>0,SUM(+IF($L29=$M29,1,0),0)))+SUM(IF(SUM(N29:O29)>0,SUM(+IF($N29=$O29,1,0),0)))+SUM(IF(SUM(P29:Q29)>0,SUM(+IF($P29=$Q29,1,0),0)))+SUM(IF(SUM(R29:S29)>0,SUM(+IF($R29=$S29,1,0),0)))+SUM(IF(SUM(T29:U29)>0,SUM(+IF($T29=$U29,1,0),0)))+SUM(IF(SUM(V29:W29)>0,SUM(+IF($V29=$W29,1,0),0)))+SUM(IF(SUM(X29:Y29)>0,SUM(+IF($X29=$Y29,1,0),0)))+SUM(IF(SUM(Z29:AA29)>0,SUM(+IF($Z29=$AA29,1,0),0)))+SUM(IF(SUM(AB29:AC29)>0,SUM(+IF($AB29=$AC29,1,0),0)))+SUM(IF(SUM(AE29:AF29)>0,SUM(+IF($AE29=$AF29,1,0),0)))+SUM(IF(SUM(AG29:AH29)>0,SUM(+IF($AG29=$AH29,1,0),0)))+SUM(IF(SUM(AI29:AJ29)>0,SUM(+IF($AI29=$AJ29,1,0),0)))+SUM(IF(SUM(AK29:AL29)>0,SUM(+IF($AK29=$AL29,1,0),0)))+SUM(IF(SUM(AM29:AN29)>0,SUM(+IF($AM29=$AN29,1,0),0)))+SUM(IF(SUM(AO29:AP29)>0,SUM(+IF($AO29=$AP29,1,0),0)))+SUM(IF(SUM(AQ29:AR29)>0,SUM(+IF($AQ29=$AR29,1,0),0)))+SUM(IF(SUM(AS29:AT29)>0,SUM(+IF($AS29=$AT29,1,0),0)))+SUM(IF(SUM(AU29:AV29)>0,SUM(+IF($AU29=$AV29,1,0),0)))+SUM(IF(SUM(AW29:AX29)>0,SUM(+IF($AW29=$AX29,1,0),0)))+SUM(IF(SUM(AY29:AZ29)>0,SUM(+IF($AY29=$AZ29,1,0),0))) -> 0 | G29: =IF($J29<$K29,1,0)+IF($L29<$M29,1,0)+IF($N29<$O29,1,0)+IF($P29<$Q29,1,0)+IF($R29<$S29,1,0)+IF($T29<$U29,1,0)+IF($V29<$W29,1,0)+IF($X29<$Y29,1,0)+IF($Z29<$AA29,1,0)+IF($AB29<$AC29,1,0)+IF($AE29<$AF29,1,0)+IF($AG29<$AH29,1,0)+IF($AI29<$AJ29,1,0)+IF($AK29<$AL29,1,0)+IF($AM29<$AN29,1,0)+IF($AO29<$AP29,1,0)+IF($AQ29<$AR29,1,0)+IF($AS29<$AT29,1,0)+IF($AU29<$AV29,1,0)+IF($AW29<$AX29,1,0)+IF($AY29<$AZ29,1,0) -> 1 | H29: =+J29+L29+N29+P29+R29+T29+V29+X29+Z29+AB29+AE29+AG29+AI29+AK29+AM29+AO29+AQ29+AS29+AU29+AW29+AY29 -> 24 | I29: =+K29+M29+O29+Q29+S29+U29+W29+Y29+AA29+AC29+AF29+AH29+AJ29+AL29+AN29+AP29+AR29+AT29+AV29+AX29+AZ29 -> 18 | J29: 17 | K29: 5 | L29: 7 | M29: 13
