Workbook

Sheet Results
D2: Cumulative | J2: 18/10/26 | L2: 25/10/26 | N2: 23/11/26 | P2: 07/12/26 | R2: 14/12/26 | T2: 21/12/26 | V2: 04/01/27 | X2: 11/01/27 | Z2: 18/01/27 | AB2: 25/01/27 | AD2: 01/02/27 | AE2: 08/02/27 | AG2: 15/02/27 | AI2: 22/02/27 | AK2: 01/03/27 | AM2: 08/03/27 | AO2: 15/03/27 | AQ2: 22/03/27 | AS2: 29/03/27 | AU2: 12/04/27 | AW2: 19/04/27 | AY2: 26/04/27
D3: Pts | E3: W | F3: D | G3: L | H3: F | I3: A | J3: F | K3: A | L3: F | M3: A | N3: F | O3: A | P3: F | Q3: A | R3: F | S3: A | T3: F | U3: A | V3: F | W3: A | X3: F | Y3: A | Z3: F | AA3: A | AB3: F | AC3: A | AD3: Pts | AE3: F | AF3: A | AG3: F | AH3: A | AI3: F | AJ3: A | AK3: F | AL3: A | AM3: F | AN3: A | AO3: F | AP3: A | AQ3: F | AR3: A | AS3: F | AT3: A | AU3: F | AV3: A | AW3: F | AX3: A | AY3: F | AZ3: A
B4: MO | C4: ANDERSON | D4: =SUM(E4)*2+SUM(F4)+AD4 -> 0 | E4: =IF($J4>$K4,1,0)+IF($L4>$M4,1,0)+IF($N4>$O4,1,0)+IF($P4>$Q4,1,0)+IF($R4>$S4,1,0)+IF($T4>$U4,1,0)+IF($V4>$W4,1,0)+IF($X4>$Y4,1,0)+IF($Z4>$AA4,1,0)+IF($AB4>$AC4,1,0)+IF($AE4>$AF4,1,0)+IF($AG4>$AH4,1,0)+IF($AI4>$AJ4,1,0)+IF($AK4>$AL4,1,0)+IF($AM4>$AN4,1,0)+IF($AO4>$AP4,1,0)+IF($AQ4>$AR4,1,0)+IF($AS4>$AT4,1,0)+IF($AU4>$AV4,1,0)+IF($AW4>$AX4,1,0)+IF($AY4>$AZ4,1,0) -> 0 | F4: =SUM(IF(SUM(J4:K4)>0,SUM(+IF($J4=$K4,1,0),0)))+SUM(IF(SUM(L4:M4)>0,SUM(+IF($L4=$M4,1,0),0)))+SUM(IF(SUM(N4:O4)>0,SUM(+IF($N4=$O4,1,0),0)))+SUM(IF(SUM(P4:Q4)>0,SUM(+IF($P4=$Q4,1,0),0)))+SUM(IF(SUM(R4:S4)>0,SUM(+IF($R4=$S4,1,0),0)))+SUM(IF(SUM(T4:U4)>0,SUM(+IF($T4=$U4,1,0),0)))+SUM(IF(SUM(V4:W4)>0,SUM(+IF($V4=$W4,1,0),0)))+SUM(IF(SUM(X4:Y4)>0,SUM(+IF($X4=$Y4,1,0),0)))+SUM(IF(SUM(Z4:AA4)>0,SUM(+IF($Z4=$AA4,1,0),0)))+SUM(IF(SUM(AB4:AC4)>0,SUM(+IF($AB4=$AC4,1,0),0)))+SUM(IF(SUM(AE4:AF4)>0,SUM(+IF($AE4=$AF4,1,0),0)))+SUM(IF(SUM(AG4:AH4)>0,SUM(+IF($AG4=$AH4,1,0),0)))+SUM(IF(SUM(AI4:AJ4)>0,SUM(+IF($AI4=$AJ4,1,0),0)))+SUM(IF(SUM(AK4:AL4)>0,SUM(+IF($AK4=$AL4,1,0),0)))+SUM(IF(SUM(AM4:AN4)>0,SUM(+IF($AM4=$AN4,1,0),0)))+SUM(IF(SUM(AO4:AP4)>0,SUM(+IF($AO4=$AP4,1,0),0)))+SUM(IF(SUM(AQ4:AR4)>0,SUM(+IF($AQ4=$AR4,1,0),0)))+SUM(IF(SUM(AS4:AT4)>0,SUM(+IF($AS4=$AT4,1,0),0)))+SUM(IF(SUM(AU4:AV4)>0,SUM(+IF($AU4=$AV4,1,0),0)))+SUM(IF(SUM(AW4:AX4)>0,SUM(+IF($AW4=$AX4,1,0),0)))+SUM(IF(SUM(AY4:AZ4)>0,SUM(+IF($AY4=$AZ4,1,0),0))) -> 0 | G4: =IF($J4<$K4,1,0)+IF($L4<$M4,1,0)+IF($N4<$O4,1,0)+IF($P4<$Q4,1,0)+IF($R4<$S4,1,0)+IF($T4<$U4,1,0)+IF($V4<$W4,1,0)+IF($X4<$Y4,1,0)+IF($Z4<$AA4,1,0)+IF($AB4<$AC4,1,0)+IF($AE4<$AF4,1,0)+IF($AG4<$AH4,1,0)+IF($AI4<$AJ4,1,0)+IF($AK4<$AL4,1,0)+IF($AM4<$AN4,1,0)+IF($AO4<$AP4,1,0)+IF($AQ4<$AR4,1,0)+IF($AS4<$AT4,1,0)+IF($AU4<$AV4,1,0)+IF($AW4<$AX4,1,0)+IF($AY4<$AZ4,1,0) -> 1 | H4: =+J4+L4+N4+P4+R4+T4+V4+X4+Z4+AB4+AE4+AG4+AI4+AK4+AM4+AO4+AQ4+AS4+AU4+AW4+AY4 -> 1 | I4: =+K4+M4+O4+Q4+S4+U4+W4+Y4+AA4+AC4+AF4+AH4+AJ4+AL4+AN4+AP4+AR4+AT4+AV4+AX4+AZ4 -> 23 | L4: 1 | M4: 23
B5: CHARLOTTE | C5: BAILEY | D5: =SUM(E5)*2+SUM(F5)+AD5 -> 2 | E5: =IF($J5>$K5,1,0)+IF($L5>$M5,1,0)+IF($N5>$O5,1,0)+IF($P5>$Q5,1,0)+IF($R5>$S5,1,0)+IF($T5>$U5,1,0)+IF($V5>$W5,1,0)+IF($X5>$Y5,1,0)+IF($Z5>$AA5,1,0)+IF($AB5>$AC5,1,0)+IF($AE5>$AF5,1,0)+IF($AG5>$AH5,1,0)+IF($AI5>$AJ5,1,0)+IF($AK5>$AL5,1,0)+IF($AM5>$AN5,1,0)+IF($AO5>$AP5,1,0)+IF($AQ5>$AR5,1,0)+IF($AS5>$AT5,1,0)+IF($AU5>$AV5,1,0)+IF($AW5>$AX5,1,0)+IF($AY5>$AZ5,1,0) -> 1 | F5: =SUM(IF(SUM(J5:K5)>0,SUM(+IF($J5=$K5,1,0),0)))+SUM(IF(SUM(L5:M5)>0,SUM(+IF($L5=$M5,1,0),0)))+SUM(IF(SUM(N5:O5)>0,SUM(+IF($N5=$O5,1,0),0)))+SUM(IF(SUM(P5:Q5)>0,SUM(+IF($P5=$Q5,1,0),0)))+SUM(IF(SUM(R5:S5)>0,SUM(+IF($R5=$S5,1,0),0)))+SUM(IF(SUM(T5:U5)>0,SUM(+IF($T5=$U5,1,0),0)))+SUM(IF(SUM(V5:W5)>0,SUM(+IF($V5=$W5,1,0),0)))+SUM(IF(SUM(X5:Y5)>0,SUM(+IF($X5=$Y5,1,0),0)))+SUM(IF(SUM(Z5:AA5)>0,SUM(+IF($Z5=$AA5,1,0),0)))+SUM(IF(SUM(AB5:AC5)>0,SUM(+IF($AB5=$AC5,1,0),0)))+SUM(IF(SUM(AE5:AF5)>0,SUM(+IF($AE5=$AF5,1,0),0)))+SUM(IF(SUM(AG5:AH5)>0,SUM(+IF($AG5=$AH5,1,0),0)))+SUM(IF(SUM(AI5:AJ5)>0,SUM(+IF($AI5=$AJ5,1,0),0)))+SUM(IF(SUM(AK5:AL5)>0,SUM(+IF($AK5=$AL5,1,0),0)))+SUM(IF(SUM(AM5:AN5)>0,SUM(+IF($AM5=$AN5,1,0),0)))+SUM(IF(SUM(AO5:AP5)>0,SUM(+IF($AO5=$AP5,1,0),0)))+SUM(IF(SUM(AQ5:AR5)>0,SUM(+IF($AQ5=$AR5,1,0),0)))+SUM(IF(SUM(AS5:AT5)>0,SUM(+IF($AS5=$AT5,1,0),0)))+SUM(IF(SUM(AU5:AV5)>0,SUM(+IF($AU5=$AV5,1,0),0)))+SUM(IF(SUM(AW5:AX5)>0,SUM(+IF($AW5=$AX5,1,0),0)))+SUM(IF(SUM(AY5:AZ5)>0,SUM(+IF($AY5=$AZ5,1,0),0))) -> 0 | G5: =IF($J5<$K5,1,0)+IF($L5<$M5,1,0)+IF($N5<$O5,1,0)+IF($P5<$Q5,1,0)+IF($R5<$S5,1,0)+IF($T5<$U5,1,0)+IF($V5<$W5,1,0)+IF($X5<$Y5,1,0)+IF($Z5<$AA5,1,0)+IF($AB5<$AC5,1,0)+IF($AE5<$AF5,1,0)+IF($AG5<$AH5,1,0)+IF($AI5<$AJ5,1,0)+IF($AK5<$AL5,1,0)+IF($AM5<$AN5,1,0)+IF($AO5<$AP5,1,0)+IF($AQ5<$AR5,1,0)+IF($AS5<$AT5,1,0)+IF($AU5<$AV5,1,0)+IF($AW5<$AX5,1,0)+IF($AY5<$AZ5,1,0) -> 0 | H5: =+J5+L5+N5+P5+R5+T5+V5+X5+Z5+AB5+AE5+AG5+AI5+AK5+AM5+AO5+AQ5+AS5+AU5+AW5+AY5 -> 13 | I5: =+K5+M5+O5+Q5+S5+U5+W5+Y5+AA5+AC5+AF5+AH5+AJ5+AL5+AN5+AP5+AR5+AT5+AV5+AX5+AZ5 -> 7 | L5: 13 | M5: 7
B6: OWEN | C6: BAILEY | D6: =SUM(E6)*2+SUM(F6)+AD6 -> 2 | E6: =IF($J6>$K6,1,0)+IF($L6>$M6,1,0)+IF($N6>$O6,1,0)+IF($P6>$Q6,1,0)+IF($R6>$S6,1,0)+IF($T6>$U6,1,0)+IF($V6>$W6,1,0)+IF($X6>$Y6,1,0)+IF($Z6>$AA6,1,0)+IF($AB6>$AC6,1,0)+IF($AE6>$AF6,1,0)+IF($AG6>$AH6,1,0)+IF($AI6>$AJ6,1,0)+IF($AK6>$AL6,1,0)+IF($AM6>$AN6,1,0)+IF($AO6>$AP6,1,0)+IF($AQ6>$AR6,1,0)+IF($AS6>$AT6,1,0)+IF($AU6>$AV6,1,0)+IF($AW6>$AX6,1,0)+IF($AY6>$AZ6,1,0) -> 1 | F6: =SUM(IF(SUM(J6:K6)>0,SUM(+IF($J6=$K6,1,0),0)))+SUM(IF(SUM(L6:M6)>0,SUM(+IF($L6=$M6,1,0),0)))+SUM(IF(SUM(N6:O6)>0,SUM(+IF($N6=$O6,1,0),0)))+SUM(IF(SUM(P6:Q6)>0,SUM(+IF($P6=$Q6,1,0),0)))+SUM(IF(SUM(R6:S6)>0,SUM(+IF($R6=$S6,1,0),0)))+SUM(IF(SUM(T6:U6)>0,SUM(+IF($T6=$U6,1,0),0)))+SUM(IF(SUM(V6:W6)>0,SUM(+IF($V6=$W6,1,0),0)))+SUM(IF(SUM(X6:Y6)>0,SUM(+IF($X6=$Y6,1,0),0)))+SUM(IF(SUM(Z6:AA6)>0,SUM(+IF($Z6=$AA6,1,0),0)))+SUM(IF(SUM(AB6:AC6)>0,SUM(+IF($AB6=$AC6,1,0),0)))+SUM(IF(SUM(AE6:AF6)>0,SUM(+IF($AE6=$AF6,1,0),0)))+SUM(IF(SUM(AG6:AH6)>0,SUM(+IF($AG6=$AH6,1,0),0)))+SUM(IF(SUM(AI6:AJ6)>0,SUM(+IF($AI6=$AJ6,1,0),0)))+SUM(IF(SUM(AK6:AL6)>0,SUM(+IF($AK6=$AL6,1,0),0)))+SUM(IF(SUM(AM6:AN6)>0,SUM(+IF($AM6=$AN6,1,0),0)))+SUM(IF(SUM(AO6:AP6)>0,SUM(+IF($AO6=$AP6,1,0),0)))+SUM(IF(SUM(AQ6:AR6)>0,SUM(+IF($AQ6=$AR6,1,0),0)))+SUM(IF(SUM(AS6:AT6)>0,SUM(+IF($AS6=$AT6,1,0),0)))+SUM(IF(SUM(AU6:AV6)>0,SUM(+IF($AU6=$AV6,1,0),0)))+SUM(IF(SUM(AW6:AX6)>0,SUM(+IF($AW6=$AX6,1,0),0)))+SUM(IF(SUM(AY6:AZ6)>0,SUM(+IF($AY6=$AZ6,1,0),0))) -> 0 | G6: =IF($J6<$K6,1,0)+IF($L6<$M6,1,0)+IF($N6<$O6,1,0)+IF($P6<$Q6,1,0)+IF($R6<$S6,1,0)+IF($T6<$U6,1,0)+IF($V6<$W6,1,0)+IF($X6<$Y6,1,0)+IF($Z6<$AA6,1,0)+IF($AB6<$AC6,1,0)+IF($AE6<$AF6,1,0)+IF($AG6<$AH6,1,0)+IF($AI6<$AJ6,1,0)+IF($AK6<$AL6,1,0)+IF($AM6<$AN6,1,0)+IF($AO6<$AP6,1,0)+IF($AQ6<$AR6,1,0)+IF($AS6<$AT6,1,0)+IF($AU6<$AV6,1,0)+IF($AW6<$AX6,1,0)+IF($AY6<$AZ6,1,0) -> 0 | H6: =+J6+L6+N6+P6+R6+T6+V6+X6+Z6+AB6+AE6+AG6+AI6+AK6+AM6+AO6+AQ6+AS6+AU6+AW6+AY6 -> 15 | I6: =+K6+M6+O6+Q6+S6+U6+W6+Y6+AA6+AC6+AF6+AH6+AJ6+AL6+AN6+AP6+AR6+AT6+AV6+AX6+AZ6 -> 7 | J6: 15 | K6: 7
B7: CHRIS | C7: BROWN | D7: =SUM(E7)*2+SUM(F7)+AD7 -> 2 | E7: =IF($J7>$K7,1,0)+IF($L7>$M7,1,0)+IF($N7>$O7,1,0)+IF($P7>$Q7,1,0)+IF($R7>$S7,1,0)+IF($T7>$U7,1,0)+IF($V7>$W7,1,0)+IF($X7>$Y7,1,0)+IF($Z7>$AA7,1,0)+IF($AB7>$AC7,1,0)+IF($AE7>$AF7,1,0)+IF($AG7>$AH7,1,0)+IF($AI7>$AJ7,1,0)+IF($AK7>$AL7,1,0)+IF($AM7>$AN7,1,0)+IF($AO7>$AP7,1,0)+IF($AQ7>$AR7,1,0)+IF($AS7>$AT7,1,0)+IF($AU7>$AV7,1,0)+IF($AW7>$AX7,1,0)+IF($AY7>$AZ7,1,0) -> 1 | F7: =SUM(IF(SUM(J7:K7)>0,SUM(+IF($J7=$K7,1,0),0)))+SUM(IF(SUM(L7:M7)>0,SUM(+IF($L7=$M7,1,0),0)))+SUM(IF(SUM(N7:O7)>0,SUM(+IF($N7=$O7,1,0),0)))+SUM(IF(SUM(P7:Q7)>0,SUM(+IF($P7=$Q7,1,0),0)))+SUM(IF(SUM(R7:S7)>0,SUM(+IF($R7=$S7,1,0),0)))+SUM(IF(SUM(T7:U7)>0,SUM(+IF($T7=$U7,1,0),0)))+SUM(IF(SUM(V7:W7)>0,SUM(+IF($V7=$W7,1,0),0)))+SUM(IF(SUM(X7:Y7)>0,SUM(+IF($X7=$Y7,1,0),0)))+SUM(IF(SUM(Z7:AA7)>0,SUM(+IF($Z7=$AA7,1,0),0)))+SUM(IF(SUM(AB7:AC7)>0,SUM(+IF($AB7=$AC7,1,0),0)))+SUM(IF(SUM(AE7:AF7)>0,SUM(+IF($AE7=$AF7,1,0),0)))+SUM(IF(SUM(AG7:AH7)>0,SUM(+IF($AG7=$AH7,1,0),0)))+SUM(IF(SUM(AI7:AJ7)>0,SUM(+IF($AI7=$AJ7,1,0),0)))+SUM(IF(SUM(AK7:AL7)>0,SUM(+IF($AK7=$AL7,1,0),0)))+SUM(IF(SUM(AM7:AN7)>0,SUM(+IF($AM7=$AN7,1,0),0)))+SUM(IF(SUM(AO7:AP7)>0,SUM(+IF($AO7=$AP7,1,0),0)))+SUM(IF(SUM(AQ7:AR7)>0,SUM(+IF($AQ7=$AR7,1,0),0)))+SUM(IF(SUM(AS7:AT7)>0,SUM(+IF($AS7=$AT7,1,0),0)))+SUM(IF(SUM(AU7:AV7)>0,SUM(+IF($AU7=$AV7,1,0),0)))+SUM(IF(SUM(AW7:AX7)>0,SUM(+IF($AW7=$AX7,1,0),0)))+SUM(IF(SUM(AY7:AZ7)>0,SUM(+IF($AY7=$AZ7,1,0),0))) -> 0 | G7: =IF($J7<$K7,1,0)+IF($L7<$M7,1,0)+IF($N7<$O7,1,0)+IF($P7<$Q7,1,0)+IF($R7<$S7,1,0)+IF($T7<$U7,1,0)+IF($V7<$W7,1,0)+IF($X7<$Y7,1,0)+IF($Z7<$AA7,1,0)+IF($AB7<$AC7,1,0)+IF($AE7<$AF7,1,0)+IF($AG7<$AH7,1,0)+IF($AI7<$AJ7,1,0)+IF($AK7<$AL7,1,0)+IF($AM7<$AN7,1,0)+IF($AO7<$AP7,1,0)+IF($AQ7<$AR7,1,0)+IF($AS7<$AT7,1,0)+IF($AU7<$AV7,1,0)+IF($AW7<$AX7,1,0)+IF($AY7<$AZ7,1,0) -> 1 | H7: =+J7+L7+N7+P7+R7+T7+V7+X7+Z7+AB7+AE7+AG7+AI7+AK7+AM7+AO7+AQ7+AS7+AU7+AW7+AY7 -> 24 | I7: =+K7+M7+O7+Q7+S7+U7+W7+Y7+AA7+AC7+AF7+AH7+AJ7+AL7+AN7+AP7+AR7+AT7+AV7+AX7+AZ7 -> 30 | J7: 19 | K7: 10 | L7: 5 | M7: 20
B8: JIMMY | C8: CARR | D8: =SUM(E8)*2+SUM(F8)+AD8 -> 0 | E8: =IF($J8>$K8,1,0)+IF($L8>$M8,1,0)+IF($N8>$O8,1,0)+IF($P8>$Q8,1,0)+IF($R8>$S8,1,0)+IF($T8>$U8,1,0)+IF($V8>$W8,1,0)+IF($X8>$Y8,1,0)+IF($Z8>$AA8,1,0)+IF($AB8>$AC8,1,0)+IF($AE8>$AF8,1,0)+IF($AG8>$AH8,1,0)+IF($AI8>$AJ8,1,0)+IF($AK8>$AL8,1,0)+IF($AM8>$AN8,1,0)+IF($AO8>$AP8,1,0)+IF($AQ8>$AR8,1,0)+IF($AS8>$AT8,1,0)+IF($AU8>$AV8,1,0)+IF($AW8>$AX8,1,0)+IF($AY8>$AZ8,1,0) -> 0 | F8: =SUM(IF(SUM(J8:K8)>0,SUM(+IF($J8=$K8,1,0),0)))+SUM(IF(SUM(L8:M8)>0,SUM(+IF($L8=$M8,1,0),0)))+SUM(IF(SUM(N8:O8)>0,SUM(+IF($N8=$O8,1,0),0)))+SUM(IF(SUM(P8:Q8)>0,SUM(+IF($P8=$Q8,1,0),0)))+SUM(IF(SUM(R8:S8)>0,SUM(+IF($R8=$S8,1,0),0)))+SUM(IF(SUM(T8:U8)>0,SUM(+IF($T8=$U8,1,0),0)))+SUM(IF(SUM(V8:W8)>0,SUM(+IF($V8=$W8,1,0),0)))+SUM(IF(SUM(X8:Y8)>0,SUM(+IF($X8=$Y8,1,0),0)))+SUM(IF(SUM(Z8:AA8)>0,SUM(+IF($Z8=$AA8,1,0),0)))+SUM(IF(SUM(AB8:AC8)>0,SUM(+IF($AB8=$AC8,1,0),0)))+SUM(IF(SUM(AE8:AF8)>0,SUM(+IF($AE8=$AF8,1,0),0)))+SUM(IF(SUM(AG8:AH8)>0,SUM(+IF($AG8=$AH8,1,0),0)))+SUM(IF(SUM(AI8:AJ8)>0,SUM(+IF($AI8=$AJ8,1,0),0)))+SUM(IF(SUM(AK8:AL8)>0,SUM(+IF($AK8=$AL8,1,0),0)))+SUM(IF(SUM(AM8:AN8)>0,SUM(+IF($AM8=$AN8,1,0),0)))+SUM(IF(SUM(AO8:AP8)>0,SUM(+IF($AO8=$AP8,1,0),0)))+SUM(IF(SUM(AQ8:AR8)>0,SUM(+IF($AQ8=$AR8,1,0),0)))+SUM(IF(SUM(AS8:AT8)>0,SUM(+IF($AS8=$AT8,1,0),0)))+SUM(IF(SUM(AU8:AV8)>0,SUM(+IF($AU8=$AV8,1,0),0)))+SUM(IF(SUM(AW8:AX8)>0,SUM(+IF($AW8=$AX8,1,0),0)))+SUM(IF(SUM(AY8:AZ8)>0,SUM(+IF($AY8=$AZ8,1,0),0))) -> 0 | G8: =IF($J8<$K8,1,0)+IF($L8<$M8,1,0)+IF($N8<$O8,1,0)+IF($P8<$Q8,1,0)+IF($R8<$S8,1,0)+IF($T8<$U8,1,0)+IF($V8<$W8,1,0)+IF($X8<$Y8,1,0)+IF($Z8<$AA8,1,0)+IF($AB8<$AC8,1,0)+IF($AE8<$AF8,1,0)+IF($AG8<$AH8,1,0)+IF($AI8<$AJ8,1,0)+IF($AK8<$AL8,1,0)+IF($AM8<$AN8,1,0)+IF($AO8<$AP8,1,0)+IF($AQ8<$AR8,1,0)+IF($AS8<$AT8,1,0)+IF($AU8<$AV8,1,0)+IF($AW8<$AX8,1,0)+IF($AY8<$AZ8,1,0) -> 2 | H8: =+J8+L8+N8+P8+R8+T8+V8+X8+Z8+AB8+AE8+AG8+AI8+AK8+AM8+AO8+AQ8+AS8+AU8+AW8+AY8 -> 15 | I8: =+K8+M8+O8+Q8+S8+U8+W8+Y8+AA8+AC8+AF8+AH8+AJ8+AL8+AN8+AP8+AR8+AT8+AV8+AX8+AZ8 -> 29 | J8: 9 | K8: 10 | L8: 6 | M8: 19
B9: KARL | C9: CARTHEW | D9: =SUM(E9)*2+SUM(F9)+AD9 -> 2 | E9: =IF($J9>$K9,1,0)+IF($L9>$M9,1,0)+IF($N9>$O9,1,0)+IF($P9>$Q9,1,0)+IF($R9>$S9,1,0)+IF($T9>$U9,1,0)+IF($V9>$W9,1,0)+IF($X9>$Y9,1,0)+IF($Z9>$AA9,1,0)+IF($AB9>$AC9,1,0)+IF($AE9>$AF9,1,0)+IF($AG9>$AH9,1,0)+IF($AI9>$AJ9,1,0)+IF($AK9>$AL9,1,0)+IF($AM9>$AN9,1,0)+IF($AO9>$AP9,1,0)+IF($AQ9>$AR9,1,0)+IF($AS9>$AT9,1,0)+IF($AU9>$AV9,1,0)+IF($AW9>$AX9,1,0)+IF($AY9>$AZ9,1,0) -> 1 | F9: =SUM(IF(SUM(J9:K9)>0,SUM(+IF($J9=$K9,1,0),0)))+SUM(IF(SUM(L9:M9)>0,SUM(+IF($L9=$M9,1,0),0)))+SUM(IF(SUM(N9:O9)>0,SUM(+IF($N9=$O9,1,0),0)))+SUM(IF(SUM(P9:Q9)>0,SUM(+IF($P9=$Q9,1,0),0)))+SUM(IF(SUM(R9:S9)>0,SUM(+IF($R9=$S9,1,0),0)))+SUM(IF(SUM(T9:U9)>0,SUM(+IF($T9=$U9,1,0),0)))+SUM(IF(SUM(V9:W9)>0,SUM(+IF($V9=$W9,1,0),0)))+SUM(IF(SUM(X9:Y9)>0,SUM(+IF($X9=$Y9,1,0),0)))+SUM(IF(SUM(Z9:AA9)>0,SUM(+IF($Z9=$AA9,1,0),0)))+SUM(IF(SUM(AB9:AC9)>0,SUM(+IF($AB9=$AC9,1,0),0)))+SUM(IF(SUM(AE9:AF9)>0,SUM(+IF($AE9=$AF9,1,0),0)))+SUM(IF(SUM(AG9:AH9)>0,SUM(+IF($AG9=$AH9,1,0),0)))+SUM(IF(SUM(AI9:AJ9)>0,SUM(+IF($AI9=$AJ9,1,0),0)))+SUM(IF(SUM(AK9:AL9)>0,SUM(+IF($AK9=$AL9,1,0),0)))+SUM(IF(SUM(AM9:AN9)>0,SUM(+IF($AM9=$AN9,1,0),0)))+SUM(IF(SUM(AO9:AP9)>0,SUM(+IF($AO9=$AP9,1,0),0)))+SUM(IF(SUM(AQ9:AR9)>0,SUM(+IF($AQ9=$AR9,1,0),0)))+SUM(IF(SUM(AS9:AT9)>0,SUM(+IF($AS9=$AT9,1,0),0)))+SUM(IF(SUM(AU9:AV9)>0,SUM(+IF($AU9=$AV9,1,0),0)))+SUM(IF(SUM(AW9:AX9)>0,SUM(+IF($AW9=$AX9,1,0),0)))+SUM(IF(SUM(AY9:AZ9)>0,SUM(+IF($AY9=$AZ9,1,0),0))) -> 0 | G9: =IF($J9<$K9,1,0)+IF($L9<$M9,1,0)+IF($N9<$O9,1,0)+IF($P9<$Q9,1,0)+IF($R9<$S9,1,0)+IF($T9<$U9,1,0)+IF($V9<$W9,1,0)+IF($X9<$Y9,1,0)+IF($Z9<$AA9,1,0)+IF($AB9<$AC9,1,0)+IF($AE9<$AF9,1,0)+IF($AG9<$AH9,1,0)+IF($AI9<$AJ9,1,0)+IF($AK9<$AL9,1,0)+IF($AM9<$AN9,1,0)+IF($AO9<$AP9,1,0)+IF($AQ9<$AR9,1,0)+IF($AS9<$AT9,1,0)+IF($AU9<$AV9,1,0)+IF($AW9<$AX9,1,0)+IF($AY9<$AZ9,1,0) -> 0 | H9: =+J9+L9+N9+P9+R9+T9+V9+X9+Z9+AB9+AE9+AG9+AI9+AK9+AM9+AO9+AQ9+AS9+AU9+AW9+AY9 -> 19 | I9: =+K9+M9+O9+Q9+S9+U9+W9+Y9+AA9+AC9+AF9+AH9+AJ9+AL9+AN9+AP9+AR9+AT9+AV9+AX9+AZ9 -> 10 | J9: 19 | K9: 10
B10: MIKE | C10: COLE | D10: =SUM(E10)*2+SUM(F10)+AD10 -> 1 | E10: =IF($J10>$K10,1,0)+IF($L10>$M10,1,0)+IF($N10>$O10,1,0)+IF($P10>$Q10,1,0)+IF($R10>$S10,1,0)+IF($T10>$U10,1,0)+IF($V10>$W10,1,0)+IF($X10>$Y10,1,0)+IF($Z10>$AA10,1,0)+IF($AB10>$AC10,1,0)+IF($AE10>$AF10,1,0)+IF($AG10>$AH10,1,0)+IF($AI10>$AJ10,1,0)+IF($AK10>$AL10,1,0)+IF($AM10>$AN10,1,0)+IF($AO10>$AP10,1,0)+IF($AQ10>$AR10,1,0)+IF($AS10>$AT10,1,0)+IF($AU10>$AV10,1,0)+IF($AW10>$AX10,1,0)+IF($AY10>$AZ10,1,0) -> 0 | F10: =SUM(IF(SUM(J10:K10)>0,SUM(+IF($J10=$K10,1,0),0)))+SUM(IF(SUM(L10:M10)>0,SUM(+IF($L10=$M10,1,0),0)))+SUM(IF(SUM(N10:O10)>0,SUM(+IF($N10=$O10,1,0),0)))+SUM(IF(SUM(P10:Q10)>0,SUM(+IF($P10=$Q10,1,0),0)))+SUM(IF(SUM(R10:S10)>0,SUM(+IF($R10=$S10,1,0),0)))+SUM(IF(SUM(T10:U10)>0,SUM(+IF($T10=$U10,1,0),0)))+SUM(IF(SUM(V10:W10)>0,SUM(+IF($V10=$W10,1,0),0)))+SUM(IF(SUM(X10:Y10)>0,SUM(+IF($X10=$Y10,1,0),0)))+SUM(IF(SUM(Z10:AA10)>0,SUM(+IF($Z10=$AA10,1,0),0)))+SUM(IF(SUM(AB10:AC10)>0,SUM(+IF($AB10=$AC10,1,0),0)))+SUM(IF(SUM(AE10:AF10)>0,SUM(+IF($AE10=$AF10,1,0),0)))+SUM(IF(SUM(AG10:AH10)>0,SUM(+IF($AG10=$AH10,1,0),0)))+SUM(IF(SUM(AI10:AJ10)>0,SUM(+IF($AI10=$AJ10,1,0),0)))+SUM(IF(SUM(AK10:AL10)>0,SUM(+IF($AK10=$AL10,1,0),0)))+SUM(IF(SUM(AM10:AN10)>0,SUM(+IF($AM10=$AN10,1,0),0)))+SUM(IF(SUM(AO10:AP10)>0,SUM(+IF($AO10=$AP10,1,0),0)))+SUM(IF(SUM(AQ10:AR10)>0,SUM(+IF($AQ10=$AR10,1,0),0)))+SUM(IF(SUM(AS10:AT10)>0,SUM(+IF($AS10=$AT10,1,0),0)))+SUM(IF(SUM(AU10:AV10)>0,SUM(+IF($AU10=$AV10,1,0),0)))+SUM(IF(SUM(AW10:AX10)>0,SUM(+IF($AW10=$AX10,1,0),0)))+SUM(IF(SUM(AY10:AZ10)>0,SUM(+IF($AY10=$AZ10,1,0),0))) -> 1 | G10: =IF($J10<$K10,1,0)+IF($L10<$M10,1,0)+IF($N10<$O10,1,0)+IF($P10<$Q10,1,0)+IF($R10<$S10,1,0)+IF($T10<$U10,1,0)+IF($V10<$W10,1,0)+IF($X10<$Y10,1,0)+IF($Z10<$AA10,1,0)+IF($AB10<$AC10,1,0)+IF($AE10<$AF10,1,0)+IF($AG10<$AH10,1,0)+IF($AI10<$AJ10,1,0)+IF($AK10<$AL10,1,0)+IF($AM10<$AN10,1,0)+IF($AO10<$AP10,1,0)+IF($AQ10<$AR10,1,0)+IF($AS10<$AT10,1,0)+IF($AU10<$AV10,1,0)+IF($AW10<$AX10,1,0)+IF($AY10<$AZ10,1,0) -> 1 | H10: =+J10+L10+N10+P10+R10+T10+V10+X10+Z10+AB10+AE10+AG10+AI10+AK10+AM10+AO10+AQ10+AS10+AU10+AW10+AY10 -> 19 | I10: =+K10+M10+O10+Q10+S10+U10+W10+Y10+AA10+AC10+AF10+AH10+AJ10+AL10+AN10+AP10+AR10+AT10+AV10+AX10+AZ10 -> 28 | J10: 10 | K10: 19 | L10: 9 | M10: 9
B11: GREG | C11: COLEBOURN | D11: =SUM(E11)*2+SUM(F11)+AD11 -> 0 | E11: =IF($J11>$K11,1,0)+IF($L11>$M11,1,0)+IF($N11>$O11,1,0)+IF($P11>$Q11,1,0)+IF($R11>$S11,1,0)+IF($T11>$U11,1,0)+IF($V11>$W11,1,0)+IF($X11>$Y11,1,0)+IF($Z11>$AA11,1,0)+IF($AB11>$AC11,1,0)+IF($AE11>$AF11,1,0)+IF($AG11>$AH11,1,0)+IF($AI11>$AJ11,1,0)+IF($AK11>$AL11,1,0)+IF($AM11>$AN11,1,0)+IF($AO11>$AP11,1,0)+IF($AQ11>$AR11,1,0)+IF($AS11>$AT11,1,0)+IF($AU11>$AV11,1,0)+IF($AW11>$AX11,1,0)+IF($AY11>$AZ11,1,0) -> 0 | F11: =SUM(IF(SUM(J11:K11)>0,SUM(+IF($J11=$K11,1,0),0)))+SUM(IF(SUM(L11:M11)>0,SUM(+IF($L11=$M11,1,0),0)))+SUM(IF(SUM(N11:O11)>0,SUM(+IF($N11=$O11,1,0),0)))+SUM(IF(SUM(P11:Q11)>0,SUM(+IF($P11=$Q11,1,0),0)))+SUM(IF(SUM(R11:S11)>0,SUM(+IF($R11=$S11,1,0),0)))+SUM(IF(SUM(T11:U11)>0,SUM(+IF($T11=$U11,1,0),0)))+SUM(IF(SUM(V11:W11)>0,SUM(+IF($V11=$W11,1,0),0)))+SUM(IF(SUM(X11:Y11)>0,SUM(+IF($X11=$Y11,1,0),0)))+SUM(IF(SUM(Z11:AA11)>0,SUM(+IF($Z11=$AA11,1,0),0)))+SUM(IF(SUM(AB11:AC11)>0,SUM(+IF($AB11=$AC11,1,0),0)))+SUM(IF(SUM(AE11:AF11)>0,SUM(+IF($AE11=$AF11,1,0),0)))+SUM(IF(SUM(AG11:AH11)>0,SUM(+IF($AG11=$AH11,1,0),0)))+SUM(IF(SUM(AI11:AJ11)>0,SUM(+IF($AI11=$AJ11,1,0),0)))+SUM(IF(SUM(AK11:AL11)>0,SUM(+IF($AK11=$AL11,1,0),0)))+SUM(IF(SUM(AM11:AN11)>0,SUM(+IF($AM11=$AN11,1,0),0)))+SUM(IF(SUM(AO11:AP11)>0,SUM(+IF($AO11=$AP11,1,0),0)))+SUM(IF(SUM(AQ11:AR11)>0,SUM(+IF($AQ11=$AR11,1,0),0)))+SUM(IF(SUM(AS11:AT11)>0,SUM(+IF($AS11=$AT11,1,0),0)))+SUM(IF(SUM(AU11:AV11)>0,SUM(+IF($AU11=$AV11,1,0),0)))+SUM(IF(SUM(AW11:AX11)>0,SUM(+IF($AW11=$AX11,1,0),0)))+SUM(IF(SUM(AY11:AZ11)>0,SUM(+IF($AY11=$AZ11,1,0),0))) -> 0 | G11: =IF($J11<$K11,1,0)+IF($L11<$M11,1,0)+IF($N11<$O11,1,0)+IF($P11<$Q11,1,0)+IF($R11<$S11,1,0)+IF($T11<$U11,1,0)+IF($V11<$W11,1,0)+IF($X11<$Y11,1,0)+IF($Z11<$AA11,1,0)+IF($AB11<$AC11,1,0)+IF($AE11<$AF11,1,0)+IF($AG11<$AH11,1,0)+IF($AI11<$AJ11,1,0)+IF($AK11<$AL11,1,0)+IF($AM11<$AN11,1,0)+IF($AO11<$AP11,1,0)+IF($AQ11<$AR11,1,0)+IF($AS11<$AT11,1,0)+IF($AU11<$AV11,1,0)+IF($AW11<$AX11,1,0)+IF($AY11<$AZ11,1,0) -> 1 | H11: =+J11+L11+N11+P11+R11+T11+V11+X11+Z11+AB11+AE11+AG11+AI11+AK11+AM11+AO11+AQ11+AS11+AU11+AW11+AY11 -> 9 | I11: =+K11+M11+O11+Q11+S11+U11+W11+Y11+AA11+AC11+AF11+AH11+AJ11+AL11+AN11+AP11+AR11+AT11+AV11+AX11+AZ11 -> 10 | J11: 9 | K11: 10
B12: CATHY | C12: COLLINS | D12: =SUM(E12)*2+SUM(F12)+AD12 -> 2 | E12: =IF($J12>$K12,1,0)+IF($L12>$M12,1,0)+IF($N12>$O12,1,0)+IF($P12>$Q12,1,0)+IF($R12>$S12,1,0)+IF($T12>$U12,1,0)+IF($V12>$W12,1,0)+IF($X12>$Y12,1,0)+IF($Z12>$AA12,1,0)+IF($AB12>$AC12,1,0)+IF($AE12>$AF12,1,0)+IF($AG12>$AH12,1,0)+IF($AI12>$AJ12,1,0)+IF($AK12>$AL12,1,0)+IF($AM12>$AN12,1,0)+IF($AO12>$AP12,1,0)+IF($AQ12>$AR12,1,0)+IF($AS12>$AT12,1,0)+IF($AU12>$AV12,1,0)+IF($AW12>$AX12,1,0)+IF($AY12>$AZ12,1,0) -> 1 | F12: =SUM(IF(SUM(J12:K12)>0,SUM(+IF($J12=$K12,1,0),0)))+SUM(IF(SUM(L12:M12)>0,SUM(+IF($L12=$M12,1,0),0)))+SUM(IF(SUM(N12:O12)>0,SUM(+IF($N12=$O12,1,0),0)))+SUM(IF(SUM(P12:Q12)>0,SUM(+IF($P12=$Q12,1,0),0)))+SUM(IF(SUM(R12:S12)>0,SUM(+IF($R12=$S12,1,0),0)))+SUM(IF(SUM(T12:U12)>0,SUM(+IF($T12=$U12,1,0),0)))+SUM(IF(SUM(V12:W12)>0,SUM(+IF($V12=$W12,1,0),0)))+SUM(IF(SUM(X12:Y12)>0,SUM(+IF($X12=$Y12,1,0),0)))+SUM(IF(SUM(Z12:AA12)>0,SUM(+IF($Z12=$AA12,1,0),0)))+SUM(IF(SUM(AB12:AC12)>0,SUM(+IF($AB12=$AC12,1,0),0)))+SUM(IF(SUM(AE12:AF12)>0,SUM(+IF($AE12=$AF12,1,0),0)))+SUM(IF(SUM(AG12:AH12)>0,SUM(+IF($AG12=$AH12,1,0),0)))+SUM(IF(SUM(AI12:AJ12)>0,SUM(+IF($AI12=$AJ12,1,0),0)))+SUM(IF(SUM(AK12:AL12)>0,SUM(+IF($AK12=$AL12,1,0),0)))+SUM(IF(SUM(AM12:AN12)>0,SUM(+IF($AM12=$AN12,1,0),0)))+SUM(IF(SUM(AO12:AP12)>0,SUM(+IF($AO12=$AP12,1,0),0)))+SUM(IF(SUM(AQ12:AR12)>0,SUM(+IF($AQ12=$AR12,1,0),0)))+SUM(IF(SUM(AS12:AT12)>0,SUM(+IF($AS12=$AT12,1,0),0)))+SUM(IF(SUM(AU12:AV12)>0,SUM(+IF($AU12=$AV12,1,0),0)))+SUM(IF(SUM(AW12:AX12)>0,SUM(+IF($AW12=$AX12,1,0),0)))+SUM(IF(SUM(AY12:AZ12)>0,SUM(+IF($AY12=$AZ12,1,0),0))) -> 0 | G12: =IF($J12<$K12,1,0)+IF($L12<$M12,1,0)+IF($N12<$O12,1,0)+IF($P12<$Q12,1,0)+IF($R12<$S12,1,0)+IF($T12<$U12,1,0)+IF($V12<$W12,1,0)+IF($X12<$Y12,1,0)+IF($Z12<$AA12,1,0)+IF($AB12<$AC12,1,0)+IF($AE12<$AF12,1,0)+IF($AG12<$AH12,1,0)+IF($AI12<$AJ12,1,0)+IF($AK12<$AL12,1,0)+IF($AM12<$AN12,1,0)+IF($AO12<$AP12,1,0)+IF($AQ12<$AR12,1,0)+IF($AS12<$AT12,1,0)+IF($AU12<$AV12,1,0)+IF($AW12<$AX12,1,0)+IF($AY12<$AZ12,1,0) -> 0 | H12: =+J12+L12+N12+P12+R12+T12+V12+X12+Z12+AB12+AE12+AG12+AI12+AK12+AM12+AO12+AQ12+AS12+AU12+AW12+AY12 -> 13 | I12: =+K12+M12+O12+Q12+S12+U12+W12+Y12+AA12+AC12+AF12+AH12+AJ12+AL12+AN12+AP12+AR12+AT12+AV12+AX12+AZ12 -> 6 | J12: 13 | K12: 6
B13: MIKE | C13: COLLINS | D13: =SUM(E13)*2+SUM(F13)+AD13 -> 0 | E13: =IF($J13>$K13,1,0)+IF($L13>$M13,1,0)+IF($N13>$O13,1,0)+IF($P13>$Q13,1,0)+IF($R13>$S13,1,0)+IF($T13>$U13,1,0)+IF($V13>$W13,1,0)+IF($X13>$Y13,1,0)+IF($Z13>$AA13,1,0)+IF($AB13>$AC13,1,0)+IF($AE13>$AF13,1,0)+IF($AG13>$AH13,1,0)+IF($AI13>$AJ13,1,0)+IF($AK13>$AL13,1,0)+IF($AM13>$AN13,1,0)+IF($AO13>$AP13,1,0)+IF($AQ13>$AR13,1,0)+IF($AS13>$AT13,1,0)+IF($AU13>$AV13,1,0)+IF($AW13>$AX13,1,0)+IF($AY13>$AZ13,1,0) -> 0 | F13: =SUM(IF(SUM(J13:K13)>0,SUM(+IF($J13=$K13,1,0),0)))+SUM(IF(SUM(L13:M13)>0,SUM(+IF($L13=$M13,1,0),0)))+SUM(IF(SUM(N13:O13)>0,SUM(+IF($N13=$O13,1,0),0)))+SUM(IF(SUM(P13:Q13)>0,SUM(+IF($P13=$Q13,1,0),0)))+SUM(IF(SUM(R13:S13)>0,SUM(+IF($R13=$S13,1,0),0)))+SUM(IF(SUM(T13:U13)>0,SUM(+IF($T13=$U13,1,0),0)))+SUM(IF(SUM(V13:W13)>0,SUM(+IF($V13=$W13,1,0),0)))+SUM(IF(SUM(X13:Y13)>0,SUM(+IF($X13=$Y13,1,0),0)))+SUM(IF(SUM(Z13:AA13)>0,SUM(+IF($Z13=$AA13,1,0),0)))+SUM(IF(SUM(AB13:AC13)>0,SUM(+IF($AB13=$AC13,1,0),0)))+SUM(IF(SUM(AE13:AF13)>0,SUM(+IF($AE13=$AF13,1,0),0)))+SUM(IF(SUM(AG13:AH13)>0,SUM(+IF($AG13=$AH13,1,0),0)))+SUM(IF(SUM(AI13:AJ13)>0,SUM(+IF($AI13=$AJ13,1,0),0)))+SUM(IF(SUM(AK13:AL13)>0,SUM(+IF($AK13=$AL13,1,0),0)))+SUM(IF(SUM(AM13:AN13)>0,SUM(+IF($AM13=$AN13,1,0),0)))+SUM(IF(SUM(AO13:AP13)>0,SUM(+IF($AO13=$AP13,1,0),0)))+SUM(IF(SUM(AQ13:AR13)>0,SUM(+IF($AQ13=$AR13,1,0),0)))+SUM(IF(SUM(AS13:AT13)>0,SUM(+IF($AS13=$AT13,1,0),0)))+SUM(IF(SUM(AU13:AV13)>0,SUM(+IF($AU13=$AV13,1,0),0)))+SUM(IF(SUM(AW13:AX13)>0,SUM(+IF($AW13=$AX13,1,0),0)))+SUM(IF(SUM(AY13:AZ13)>0,SUM(+IF($AY13=$AZ13,1,0),0))) -> 0 | G13: =IF($J13<$K13,1,0)+IF($L13<$M13,1,0)+IF($N13<$O13,1,0)+IF($P13<$Q13,1,0)+IF($R13<$S13,1,0)+IF($T13<$U13,1,0)+IF($V13<$W13,1,0)+IF($X13<$Y13,1,0)+IF($Z13<$AA13,1,0)+IF($AB13<$AC13,1,0)+IF($AE13<$AF13,1,0)+IF($AG13<$AH13,1,0)+IF($AI13<$AJ13,1,0)+IF($AK13<$AL13,1,0)+IF($AM13<$AN13,1,0)+IF($AO13<$AP13,1,0)+IF($AQ13<$AR13,1,0)+IF($AS13<$AT13,1,0)+IF($AU13<$AV13,1,0)+IF($AW13<$AX13,1,0)+IF($AY13<$AZ13,1,0) -> 1 | H13: =+J13+L13+N13+P13+R13+T13+V13+X13+Z13+AB13+AE13+AG13+AI13+AK13+AM13+AO13+AQ13+AS13+AU13+AW13+AY13 -> 7 | I13: =+K13+M13+O13+Q13+S13+U13+W13+Y13+AA13+AC13+AF13+AH13+AJ13+AL13+AN13+AP13+AR13+AT13+AV13+AX13+AZ13 -> 15 | J13: 7 | K13: 15
B14: JIMMY | C14: COOK | D14: =SUM(E14)*2+SUM(F14)+AD14 -> 0 | E14: =IF($J14>$K14,1,0)+IF($L14>$M14,1,0)+IF($N14>$O14,1,0)+IF($P14>$Q14,1,0)+IF($R14>$S14,1,0)+IF($T14>$U14,1,0)+IF($V14>$W14,1,0)+IF($X14>$Y14,1,0)+IF($Z14>$AA14,1,0)+IF($AB14>$AC14,1,0)+IF($AE14>$AF14,1,0)+IF($AG14>$AH14,1,0)+IF($AI14>$AJ14,1,0)+IF($AK14>$AL14,1,0)+IF($AM14>$AN14,1,0)+IF($AO14>$AP14,1,0)+IF($AQ14>$AR14,1,0)+IF($AS14>$AT14,1,0)+IF($AU14>$AV14,1,0)+IF($AW14>$AX14,1,0)+IF($AY14>$AZ14,1,0) -> 0 | F14: =SUM(IF(SUM(J14:K14)>0,SUM(+IF($J14=$K14,1,0),0)))+SUM(IF(SUM(L14:M14)>0,SUM(+IF($L14=$M14,1,0),0)))+SUM(IF(SUM(N14:O14)>0,SUM(+IF($N14=$O14,1,0),0)))+SUM(IF(SUM(P14:Q14)>0,SUM(+IF($P14=$Q14,1,0),0)))+SUM(IF(SUM(R14:S14)>0,SUM(+IF($R14=$S14,1,0),0)))+SUM(IF(SUM(T14:U14)>0,SUM(+IF($T14=$U14,1,0),0)))+SUM(IF(SUM(V14:W14)>0,SUM(+IF($V14=$W14,1,0),0)))+SUM(IF(SUM(X14:Y14)>0,SUM(+IF($X14=$Y14,1,0),0)))+SUM(IF(SUM(Z14:AA14)>0,SUM(+IF($Z14=$AA14,1,0),0)))+SUM(IF(SUM(AB14:AC14)>0,SUM(+IF($AB14=$AC14,1,0),0)))+SUM(IF(SUM(AE14:AF14)>0,SUM(+IF($AE14=$AF14,1,0),0)))+SUM(IF(SUM(AG14:AH14)>0,SUM(+IF($AG14=$AH14,1,0),0)))+SUM(IF(SUM(AI14:AJ14)>0,SUM(+IF($AI14=$AJ14,1,0),0)))+SUM(IF(SUM(AK14:AL14)>0,SUM(+IF($AK14=$AL14,1,0),0)))+SUM(IF(SUM(AM14:AN14)>0,SUM(+IF($AM14=$AN14,1,0),0)))+SUM(IF(SUM(AO14:AP14)>0,SUM(+IF($AO14=$AP14,1,0),0)))+SUM(IF(SUM(AQ14:AR14)>0,SUM(+IF($AQ14=$AR14,1,0),0)))+SUM(IF(SUM(AS14:AT14)>0,SUM(+IF($AS14=$AT14,1,0),0)))+SUM(IF(SUM(AU14:AV14)>0,SUM(+IF($AU14=$AV14,1,0),0)))+SUM(IF(SUM(AW14:AX14)>0,SUM(+IF($AW14=$AX14,1,0),0)))+SUM(IF(SUM(AY14:AZ14)>0,SUM(+IF($AY14=$AZ14,1,0),0))) -> 0 | G14: =IF($J14<$K14,1,0)+IF($L14<$M14,1,0)+IF($N14<$O14,1,0)+IF($P14<$Q14,1,0)+IF($R14<$S14,1,0)+IF($T14<$U14,1,0)+IF($V14<$W14,1,0)+IF($X14<$Y14,1,0)+IF($Z14<$AA14,1,0)+IF($AB14<$AC14,1,0)+IF($AE14<$AF14,1,0)+IF($AG14<$AH14,1,0)+IF($AI14<$AJ14,1,0)+IF($AK14<$AL14,1,0)+IF($AM14<$AN14,1,0)+IF($AO14<$AP14,1,0)+IF($AQ14<$AR14,1,0)+IF($AS14<$AT14,1,0)+IF($AU14<$AV14,1,0)+IF($AW14<$AX14,1,0)+IF($AY14<$AZ14,1,0) -> 1 | H14: =+J14+L14+N14+P14+R14+T14+V14+X14+Z14+AB14+AE14+AG14+AI14+AK14+AM14+AO14+AQ14+AS14+AU14+AW14+AY14 -> 7 | I14: =+K14+M14+O14+Q14+S14+U14+W14+Y14+AA14+AC14+AF14+AH14+AJ14+AL14+AN14+AP14+AR14+AT14+AV14+AX14+AZ14 -> 15 | J14: 7 | K14: 15
B15: MANDY | C15: COX | D15: =SUM(E15)*2+SUM(F15)+AD15 -> 0 | E15: =IF($J15>$K15,1,0)+IF($L15>$M15,1,0)+IF($N15>$O15,1,0)+IF($P15>$Q15,1,0)+IF($R15>$S15,1,0)+IF($T15>$U15,1,0)+IF($V15>$W15,1,0)+IF($X15>$Y15,1,0)+IF($Z15>$AA15,1,0)+IF($AB15>$AC15,1,0)+IF($AE15>$AF15,1,0)+IF($AG15>$AH15,1,0)+IF($AI15>$AJ15,1,0)+IF($AK15>$AL15,1,0)+IF($AM15>$AN15,1,0)+IF($AO15>$AP15,1,0)+IF($AQ15>$AR15,1,0)+IF($AS15>$AT15,1,0)+IF($AU15>$AV15,1,0)+IF($AW15>$AX15,1,0)+IF($AY15>$AZ15,1,0) -> 0 | F15: =SUM(IF(SUM(J15:K15)>0,SUM(+IF($J15=$K15,1,0),0)))+SUM(IF(SUM(L15:M15)>0,SUM(+IF($L15=$M15,1,0),0)))+SUM(IF(SUM(N15:O15)>0,SUM(+IF($N15=$O15,1,0),0)))+SUM(IF(SUM(P15:Q15)>0,SUM(+IF($P15=$Q15,1,0),0)))+SUM(IF(SUM(R15:S15)>0,SUM(+IF($R15=$S15,1,0),0)))+SUM(IF(SUM(T15:U15)>0,SUM(+IF($T15=$U15,1,0),0)))+SUM(IF(SUM(V15:W15)>0,SUM(+IF($V15=$W15,1,0),0)))+SUM(IF(SUM(X15:Y15)>0,SUM(+IF($X15=$Y15,1,0),0)))+SUM(IF(SUM(Z15:AA15)>0,SUM(+IF($Z15=$AA15,1,0),0)))+SUM(IF(SUM(AB15:AC15)>0,SUM(+IF($AB15=$AC15,1,0),0)))+SUM(IF(SUM(AE15:AF15)>0,SUM(+IF($AE15=$AF15,1,0),0)))+SUM(IF(SUM(AG15:AH15)>0,SUM(+IF($AG15=$AH15,1,0),0)))+SUM(IF(SUM(AI15:AJ15)>0,SUM(+IF($AI15=$AJ15,1,0),0)))+SUM(IF(SUM(AK15:AL15)>0,SUM(+IF($AK15=$AL15,1,0),0)))+SUM(IF(SUM(AM15:AN15)>0,SUM(+IF($AM15=$AN15,1,0),0)))+SUM(IF(SUM(AO15:AP15)>0,SUM(+IF($AO15=$AP15,1,0),0)))+SUM(IF(SUM(AQ15:AR15)>0,SUM(+IF($AQ15=$AR15,1,0),0)))+SUM(IF(SUM(AS15:AT15)>0,SUM(+IF($AS15=$AT15,1,0),0)))+SUM(IF(SUM(AU15:AV15)>0,SUM(+IF($AU15=$AV15,1,0),0)))+SUM(IF(SUM(AW15:AX15)>0,SUM(+IF($AW15=$AX15,1,0),0)))+SUM(IF(SUM(AY15:AZ15)>0,SUM(+IF($AY15=$AZ15,1,0),0))) -> 0 | G15: =IF($J15<$K15,1,0)+IF($L15<$M15,1,0)+IF($N15<$O15,1,0)+IF($P15<$Q15,1,0)+IF($R15<$S15,1,0)+IF($T15<$U15,1,0)+IF($V15<$W15,1,0)+IF($X15<$Y15,1,0)+IF($Z15<$AA15,1,0)+IF($AB15<$AC15,1,0)+IF($AE15<$AF15,1,0)+IF($AG15<$AH15,1,0)+IF($AI15<$AJ15,1,0)+IF($AK15<$AL15,1,0)+IF($AM15<$AN15,1,0)+IF($AO15<$AP15,1,0)+IF($AQ15<$AR15,1,0)+IF($AS15<$AT15,1,0)+IF($AU15<$AV15,1,0)+IF($AW15<$AX15,1,0)+IF($AY15<$AZ15,1,0) -> 2 | H15: =+J15+L15+N15+P15+R15+T15+V15+X15+Z15+AB15+AE15+AG15+AI15+AK15+AM15+AO15+AQ15+AS15+AU15+AW15+AY15 -> 8 | I15: =+K15+M15+O15+Q15+S15+U15+W15+Y15+AA15+AC15+AF15+AH15+AJ15+AL15+AN15+AP15+AR15+AT15+AV15+AX15+AZ15 -> 38 | J15: 7 | K15: 15 | L15: 1 | M15: 23
B16: ROLY | C16: COX | D16: =SUM(E16)*2+SUM(F16)+AD16 -> 0 | E16: =IF($J16>$K16,1,0)+IF($L16>$M16,1,0)+IF($N16>$O16,1,0)+IF($P16>$Q16,1,0)+IF($R16>$S16,1,0)+IF($T16>$U16,1,0)+IF($V16>$W16,1,0)+IF($X16>$Y16,1,0)+IF($Z16>$AA16,1,0)+IF($AB16>$AC16,1,0)+IF($AE16>$AF16,1,0)+IF($AG16>$AH16,1,0)+IF($AI16>$AJ16,1,0)+IF($AK16>$AL16,1,0)+IF($AM16>$AN16,1,0)+IF($AO16>$AP16,1,0)+IF($AQ16>$AR16,1,0)+IF($AS16>$AT16,1,0)+IF($AU16>$AV16,1,0)+IF($AW16>$AX16,1,0)+IF($AY16>$AZ16,1,0) -> 0 | F16: =SUM(IF(SUM(J16:K16)>0,SUM(+IF($J16=$K16,1,0),0)))+SUM(IF(SUM(L16:M16)>0,SUM(+IF($L16=$M16,1,0),0)))+SUM(IF(SUM(N16:O16)>0,SUM(+IF($N16=$O16,1,0),0)))+SUM(IF(SUM(P16:Q16)>0,SUM(+IF($P16=$Q16,1,0),0)))+SUM(IF(SUM(R16:S16)>0,SUM(+IF($R16=$S16,1,0),0)))+SUM(IF(SUM(T16:U16)>0,SUM(+IF($T16=$U16,1,0),0)))+SUM(IF(SUM(V16:W16)>0,SUM(+IF($V16=$W16,1,0),0)))+SUM(IF(SUM(X16:Y16)>0,SUM(+IF($X16=$Y16,1,0),0)))+SUM(IF(SUM(Z16:AA16)>0,SUM(+IF($Z16=$AA16,1,0),0)))+SUM(IF(SUM(AB16:AC16)>0,SUM(+IF($AB16=$AC16,1,0),0)))+SUM(IF(SUM(AE16:AF16)>0,SUM(+IF($AE16=$AF16,1,0),0)))+SUM(IF(SUM(AG16:AH16)>0,SUM(+IF($AG16=$AH16,1,0),0)))+SUM(IF(SUM(AI16:AJ16)>0,SUM(+IF($AI16=$AJ16,1,0),0)))+SUM(IF(SUM(AK16:AL16)>0,SUM(+IF($AK16=$AL16,1,0),0)))+SUM(IF(SUM(AM16:AN16)>0,SUM(+IF($AM16=$AN16,1,0),0)))+SUM(IF(SUM(AO16:AP16)>0,SUM(+IF($AO16=$AP16,1,0),0)))+SUM(IF(SUM(AQ16:AR16)>0,SUM(+IF($AQ16=$AR16,1,0),0)))+SUM(IF(SUM(AS16:AT16)>0,SUM(+IF($AS16=$AT16,1,0),0)))+SUM(IF(SUM(AU16:AV16)>0,SUM(+IF($AU16=$AV16,1,0),0)))+SUM(IF(SUM(AW16:AX16)>0,SUM(+IF($AW16=$AX16,1,0),0)))+SUM(IF(SUM(AY16:AZ16)>0,SUM(+IF($AY16=$AZ16,1,0),0))) -> 0 | G16: =IF($J16<$K16,1,0)+IF($L16<$M16,1,0)+IF($N16<$O16,1,0)+IF($P16<$Q16,1,0)+IF($R16<$S16,1,0)+IF($T16<$U16,1,0)+IF($V16<$W16,1,0)+IF($X16<$Y16,1,0)+IF($Z16<$AA16,1,0)+IF($AB16<$AC16,1,0)+IF($AE16<$AF16,1,0)+IF($AG16<$AH16,1,0)+IF($AI16<$AJ16,1,0)+IF($AK16<$AL16,1,0)+IF($AM16<$AN16,1,0)+IF($AO16<$AP16,1,0)+IF($AQ16<$AR16,1,0)+IF($AS16<$AT16,1,0)+IF($AU16<$AV16,1,0)+IF($AW16<$AX16,1,0)+IF($AY16<$AZ16,1,0) -> 2 | H16: =+J16+L16+N16+P16+R16+T16+V16+X16+Z16+AB16+AE16+AG16+AI16+AK16+AM16+AO16+AQ16+AS16+AU16+AW16+AY16 -> 14 | I16: =+K16+M16+O16+Q16+S16+U16+W16+Y16+AA16+AC16+AF16+AH16+AJ16+AL16+AN16+AP16+AR16+AT16+AV16+AX16+AZ16 -> 28 | J16: 7 | K16: 15 | L16: 7 | M16: 13
B17: MARK | C17: CRAGG | D17: =SUM(E17)*2+SUM(F17)+AD17 -> 1 | E17: =IF($J17>$K17,1,0)+IF($L17>$M17,1,0)+IF($N17>$O17,1,0)+IF($P17>$Q17,1,0)+IF($R17>$S17,1,0)+IF($T17>$U17,1,0)+IF($V17>$W17,1,0)+IF($X17>$Y17,1,0)+IF($Z17>$AA17,1,0)+IF($AB17>$AC17,1,0)+IF($AE17>$AF17,1,0)+IF($AG17>$AH17,1,0)+IF($AI17>$AJ17,1,0)+IF($AK17>$AL17,1,0)+IF($AM17>$AN17,1,0)+IF($AO17>$AP17,1,0)+IF($AQ17>$AR17,1,0)+IF($AS17>$AT17,1,0)+IF($AU17>$AV17,1,0)+IF($AW17>$AX17,1,0)+IF($AY17>$AZ17,1,0) -> 0 | F17: =SUM(IF(SUM(J17:K17)>0,SUM(+IF($J17=$K17,1,0),0)))+SUM(IF(SUM(L17:M17)>0,SUM(+IF($L17=$M17,1,0),0)))+SUM(IF(SUM(N17:O17)>0,SUM(+IF($N17=$O17,1,0),0)))+SUM(IF(SUM(P17:Q17)>0,SUM(+IF($P17=$Q17,1,0),0)))+SUM(IF(SUM(R17:S17)>0,SUM(+IF($R17=$S17,1,0),0)))+SUM(IF(SUM(T17:U17)>0,SUM(+IF($T17=$U17,1,0),0)))+SUM(IF(SUM(V17:W17)>0,SUM(+IF($V17=$W17,1,0),0)))+SUM(IF(SUM(X17:Y17)>0,SUM(+IF($X17=$Y17,1,0),0)))+SUM(IF(SUM(Z17:AA17)>0,SUM(+IF($Z17=$AA17,1,0),0)))+SUM(IF(SUM(AB17:AC17)>0,SUM(+IF($AB17=$AC17,1,0),0)))+SUM(IF(SUM(AE17:AF17)>0,SUM(+IF($AE17=$AF17,1,0),0)))+SUM(IF(SUM(AG17:AH17)>0,SUM(+IF($AG17=$AH17,1,0),0)))+SUM(IF(SUM(AI17:AJ17)>0,SUM(+IF($AI17=$AJ17,1,0),0)))+SUM(IF(SUM(AK17:AL17)>0,SUM(+IF($AK17=$AL17,1,0),0)))+SUM(IF(SUM(AM17:AN17)>0,SUM(+IF($AM17=$AN17,1,0),0)))+SUM(IF(SUM(AO17:AP17)>0,SUM(+IF($AO17=$AP17,1,0),0)))+SUM(IF(SUM(AQ17:AR17)>0,SUM(+IF($AQ17=$AR17,1,0),0)))+SUM(IF(SUM(AS17:AT17)>0,SUM(+IF($AS17=$AT17,1,0),0)))+SUM(IF(SUM(AU17:AV17)>0,SUM(+IF($AU17=$AV17,1,0),0)))+SUM(IF(SUM(AW17:AX17)>0,SUM(+IF($AW17=$AX17,1,0),0)))+SUM(IF(SUM(AY17:AZ17)>0,SUM(+IF($AY17=$AZ17,1,0),0))) -> 1 | G17: =IF($J17<$K17,1,0)+IF($L17<$M17,1,0)+IF($N17<$O17,1,0)+IF($P17<$Q17,1,0)+IF($R17<$S17,1,0)+IF($T17<$U17,1,0)+IF($V17<$W17,1,0)+IF($X17<$Y17,1,0)+IF($Z17<$AA17,1,0)+IF($AB17<$AC17,1,0)+IF($AE17<$AF17,1,0)+IF($AG17<$AH17,1,0)+IF($AI17<$AJ17,1,0)+IF($AK17<$AL17,1,0)+IF($AM17<$AN17,1,0)+IF($AO17<$AP17,1,0)+IF($AQ17<$AR17,1,0)+IF($AS17<$AT17,1,0)+IF($AU17<$AV17,1,0)+IF($AW17<$AX17,1,0)+IF($AY17<$AZ17,1,0) -> 1 | H17: =+J17+L17+N17+P17+R17+T17+V17+X17+Z17+AB17+AE17+AG17+AI17+AK17+AM17+AO17+AQ17+AS17+AU17+AW17+AY17 -> 11 | I17: =+K17+M17+O17+Q17+S17+U17+W17+Y17+AA17+AC17+AF17+AH17+AJ17+AL17+AN17+AP17+AR17+AT17+AV17+AX17+AZ17 -> 26 | J17: 2 | K17: 17 | L17: 9 | M17: 9
B18: MIKE | C18: CULLEN | D18: =SUM(E18)*2+SUM(F18)+AD18 -> 4 | E18: =IF($J18>$K18,1,0)+IF($L18>$M18,1,0)+IF($N18>$O18,1,0)+IF($P18>$Q18,1,0)+IF($R18>$S18,1,0)+IF($T18>$U18,1,0)+IF($V18>$W18,1,0)+IF($X18>$Y18,1,0)+IF($Z18>$AA18,1,0)+IF($AB18>$AC18,1,0)+IF($AE18>$AF18,1,0)+IF($AG18>$AH18,1,0)+IF($AI18>$AJ18,1,0)+IF($AK18>$AL18,1,0)+IF($AM18>$AN18,1,0)+IF($AO18>$AP18,1,0)+IF($AQ18>$AR18,1,0)+IF($AS18>$AT18,1,0)+IF($AU18>$AV18,1,0)+IF($AW18>$AX18,1,0)+IF($AY18>$AZ18,1,0) -> 2 | F18: =SUM(IF(SUM(J18:K18)>0,SUM(+IF($J18=$K18,1,0),0)))+SUM(IF(SUM(L18:M18)>0,SUM(+IF($L18=$M18,1,0),0)))+SUM(IF(SUM(N18:O18)>0,SUM(+IF($N18=$O18,1,0),0)))+SUM(IF(SUM(P18:Q18)>0,SUM(+IF($P18=$Q18,1,0),0)))+SUM(IF(SUM(R18:S18)>0,SUM(+IF($R18=$S18,1,0),0)))+SUM(IF(SUM(T18:U18)>0,SUM(+IF($T18=$U18,1,0),0)))+SUM(IF(SUM(V18:W18)>0,SUM(+IF($V18=$W18,1,0),0)))+SUM(IF(SUM(X18:Y18)>0,SUM(+IF($X18=$Y18,1,0),0)))+SUM(IF(SUM(Z18:AA18)>0,SUM(+IF($Z18=$AA18,1,0),0)))+SUM(IF(SUM(AB18:AC18)>0,SUM(+IF($AB18=$AC18,1,0),0)))+SUM(IF(SUM(AE18:AF18)>0,SUM(+IF($AE18=$AF18,1,0),0)))+SUM(IF(SUM(AG18:AH18)>0,SUM(+IF($AG18=$AH18,1,0),0)))+SUM(IF(SUM(AI18:AJ18)>0,SUM(+IF($AI18=$AJ18,1,0),0)))+SUM(IF(SUM(AK18:AL18)>0,SUM(+IF($AK18=$AL18,1,0),0)))+SUM(IF(SUM(AM18:AN18)>0,SUM(+IF($AM18=$AN18,1,0),0)))+SUM(IF(SUM(AO18:AP18)>0,SUM(+IF($AO18=$AP18,1,0),0)))+SUM(IF(SUM(AQ18:AR18)>0,SUM(+IF($AQ18=$AR18,1,0),0)))+SUM(IF(SUM(AS18:AT18)>0,SUM(+IF($AS18=$AT18,1,0),0)))+SUM(IF(SUM(AU18:AV18)>0,SUM(+IF($AU18=$AV18,1,0),0)))+SUM(IF(SUM(AW18:AX18)>0,SUM(+IF($AW18=$AX18,1,0),0)))+SUM(IF(SUM(AY18:AZ18)>0,SUM(+IF($AY18=$AZ18,1,0),0))) -> 0 | G18: =IF($J18<$K18,1,0)+IF($L18<$M18,1,0)+IF($N18<$O18,1,0)+IF($P18<$Q18,1,0)+IF($R18<$S18,1,0)+IF($T18<$U18,1,0)+IF($V18<$W18,1,0)+IF($X18<$Y18,1,0)+IF($Z18<$AA18,1,0)+IF($AB18<$AC18,1,0)+IF($AE18<$AF18,1,0)+IF($AG18<$AH18,1,0)+IF($AI18<$AJ18,1,0)+IF($AK18<$AL18,1,0)+IF($AM18<$AN18,1,0)+IF($AO18<$AP18,1,0)+IF($AQ18<$AR18,1,0)+IF($AS18<$AT18,1,0)+IF($AU18<$AV18,1,0)+IF($AW18<$AX18,1,0)+IF($AY18<$AZ18,1,0) -> 0 | H18: =+J18+L18+N18+P18+R18+T18+V18+X18+Z18+AB18+AE18+AG18+AI18+AK18+AM18+AO18+AQ18+AS18+AU18+AW18+AY18 -> 29 | I18: =+K18+M18+O18+Q18+S18+U18+W18+Y18+AA18+AC18+AF18+AH18+AJ18+AL18+AN18+AP18+AR18+AT18+AV18+AX18+AZ18 -> 15 | J18: 10 | K18: 9 | L18: 19 | M18: 6
B19: SARAH | C19: CULLEN | D19: =SUM(E19)*2+SUM(F19)+AD19 -> 2 | E19: =IF($J19>$K19,1,0)+IF($L19>$M19,1,0)+IF($N19>$O19,1,0)+IF($P19>$Q19,1,0)+IF($R19>$S19,1,0)+IF($T19>$U19,1,0)+IF($V19>$W19,1,0)+IF($X19>$Y19,1,0)+IF($Z19>$AA19,1,0)+IF($AB19>$AC19,1,0)+IF($AE19>$AF19,1,0)+IF($AG19>$AH19,1,0)+IF($AI19>$AJ19,1,0)+IF($AK19>$AL19,1,0)+IF($AM19>$AN19,1,0)+IF($AO19>$AP19,1,0)+IF($AQ19>$AR19,1,0)+IF($AS19>$AT19,1,0)+IF($AU19>$AV19,1,0)+IF($AW19>$AX19,1,0)+IF($AY19>$AZ19,1,0) -> 1 | F19: =SUM(IF(SUM(J19:K19)>0,SUM(+IF($J19=$K19,1,0),0)))+SUM(IF(SUM(L19:M19)>0,SUM(+IF($L19=$M19,1,0),0)))+SUM(IF(SUM(N19:O19)>0,SUM(+IF($N19=$O19,1,0),0)))+SUM(IF(SUM(P19:Q19)>0,SUM(+IF($P19=$Q19,1,0),0)))+SUM(IF(SUM(R19:S19)>0,SUM(+IF($R19=$S19,1,0),0)))+SUM(IF(SUM(T19:U19)>0,SUM(+IF($T19=$U19,1,0),0)))+SUM(IF(SUM(V19:W19)>0,SUM(+IF($V19=$W19,1,0),0)))+SUM(IF(SUM(X19:Y19)>0,SUM(+IF($X19=$Y19,1,0),0)))+SUM(IF(SUM(Z19:AA19)>0,SUM(+IF($Z19=$AA19,1,0),0)))+SUM(IF(SUM(AB19:AC19)>0,SUM(+IF($AB19=$AC19,1,0),0)))+SUM(IF(SUM(AE19:AF19)>0,SUM(+IF($AE19=$AF19,1,0),0)))+SUM(IF(SUM(AG19:AH19)>0,SUM(+IF($AG19=$AH19,1,0),0)))+SUM(IF(SUM(AI19:AJ19)>0,SUM(+IF($AI19=$AJ19,1,0),0)))+SUM(IF(SUM(AK19:AL19)>0,SUM(+IF($AK19=$AL19,1,0),0)))+SUM(IF(SUM(AM19:AN19)>0,SUM(+IF($AM19=$AN19,1,0),0)))+SUM(IF(SUM(AO19:AP19)>0,SUM(+IF($AO19=$AP19,1,0),0)))+SUM(IF(SUM(AQ19:AR19)>0,SUM(+IF($AQ19=$AR19,1,0),0)))+SUM(IF(SUM(AS19:AT19)>0,SUM(+IF($AS19=$AT19,1,0),0)))+SUM(IF(SUM(AU19:AV19)>0,SUM(+IF($AU19=$AV19,1,0),0)))+SUM(IF(SUM(AW19:AX19)>0,SUM(+IF($AW19=$AX19,1,0),0)))+SUM(IF(SUM(AY19:AZ19)>0,SUM(+IF($AY19=$AZ19,1,0),0))) -> 0 | G19: =IF($J19<$K19,1,0)+IF($L19<$M19,1,0)+IF($N19<$O19,1,0)+IF($P19<$Q19,1,0)+IF($R19<$S19,1,0)+IF($T19<$U19,1,0)+IF($V19<$W19,1,0)+IF($X19<$Y19,1,0)+IF($Z19<$AA19,1,0)+IF($AB19<$AC19,1,0)+IF($AE19<$AF19,1,0)+IF($AG19<$AH19,1,0)+IF($AI19<$AJ19,1,0)+IF($AK19<$AL19,1,0)+IF($AM19<$AN19,1,0)+IF($AO19<$AP19,1,0)+IF($AQ19<$AR19,1,0)+IF($AS19<$AT19,1,0)+IF($AU19<$AV19,1,0)+IF($AW19<$AX19,1,0)+IF($AY19<$AZ19,1,0) -> 1 | H19: =+J19+L19+N19+P19+R19+T19+V19+X19+Z19+AB19+AE19+AG19+AI19+AK19+AM19+AO19+AQ19+AS19+AU19+AW19+AY19 -> 22 | I19: =+K19+M19+O19+Q19+S19+U19+W19+Y19+AA19+AC19+AF19+AH19+AJ19+AL19+AN19+AP19+AR19+AT19+AV19+AX19+AZ19 -> 25 | J19: 17 | K19: 5 | L19: 5 | M19: 20
B20: NICOLE | C20: DIRMAITE | D20: =SUM(E20)*2+SUM(F20)+AD20 -> 0 | E20: =IF($J20>$K20,1,0)+IF($L20>$M20,1,0)+IF($N20>$O20,1,0)+IF($P20>$Q20,1,0)+IF($R20>$S20,1,0)+IF($T20>$U20,1,0)+IF($V20>$W20,1,0)+IF($X20>$Y20,1,0)+IF($Z20>$AA20,1,0)+IF($AB20>$AC20,1,0)+IF($AE20>$AF20,1,0)+IF($AG20>$AH20,1,0)+IF($AI20>$AJ20,1,0)+IF($AK20>$AL20,1,0)+IF($AM20>$AN20,1,0)+IF($AO20>$AP20,1,0)+IF($AQ20>$AR20,1,0)+IF($AS20>$AT20,1,0)+IF($AU20>$AV20,1,0)+IF($AW20>$AX20,1,0)+IF($AY20>$AZ20,1,0) -> 0 | F20: =SUM(IF(SUM(J20:K20)>0,SUM(+IF($J20=$K20,1,0),0)))+SUM(IF(SUM(L20:M20)>0,SUM(+IF($L20=$M20,1,0),0)))+SUM(IF(SUM(N20:O20)>0,SUM(+IF($N20=$O20,1,0),0)))+SUM(IF(SUM(P20:Q20)>0,SUM(+IF($P20=$Q20,1,0),0)))+SUM(IF(SUM(R20:S20)>0,SUM(+IF($R20=$S20,1,0),0)))+SUM(IF(SUM(T20:U20)>0,SUM(+IF($T20=$U20,1,0),0)))+SUM(IF(SUM(V20:W20)>0,SUM(+IF($V20=$W20,1,0),0)))+SUM(IF(SUM(X20:Y20)>0,SUM(+IF($X20=$Y20,1,0),0)))+SUM(IF(SUM(Z20:AA20)>0,SUM(+IF($Z20=$AA20,1,0),0)))+SUM(IF(SUM(AB20:AC20)>0,SUM(+IF($AB20=$AC20,1,0),0)))+SUM(IF(SUM(AE20:AF20)>0,SUM(+IF($AE20=$AF20,1,0),0)))+SUM(IF(SUM(AG20:AH20)>0,SUM(+IF($AG20=$AH20,1,0),0)))+SUM(IF(SUM(AI20:AJ20)>0,SUM(+IF($AI20=$AJ20,1,0),0)))+SUM(IF(SUM(AK20:AL20)>0,SUM(+IF($AK20=$AL20,1,0),0)))+SUM(IF(SUM(AM20:AN20)>0,SUM(+IF($AM20=$AN20,1,0),0)))+SUM(IF(SUM(AO20:AP20)>0,SUM(+IF($AO20=$AP20,1,0),0)))+SUM(IF(SUM(AQ20:AR20)>0,SUM(+IF($AQ20=$AR20,1,0),0)))+SUM(IF(SUM(AS20:AT20)>0,SUM(+IF($AS20=$AT20,1,0),0)))+SUM(IF(SUM(AU20:AV20)>0,SUM(+IF($AU20=$AV20,1,0),0)))+SUM(IF(SUM(AW20:AX20)>0,SUM(+IF($AW20=$AX20,1,0),0)))+SUM(IF(SUM(AY20:AZ20)>0,SUM(+IF($AY20=$AZ20,1,0),0))) -> 0 | G20: =IF($J20<$K20,1,0)+IF($L20<$M20,1,0)+IF($N20<$O20,1,0)+IF($P20<$Q20,1,0)+IF($R20<$S20,1,0)+IF($T20<$U20,1,0)+IF($V20<$W20,1,0)+IF($X20<$Y20,1,0)+IF($Z20<$AA20,1,0)+IF($AB20<$AC20,1,0)+IF($AE20<$AF20,1,0)+IF($AG20<$AH20,1,0)+IF($AI20<$AJ20,1,0)+IF($AK20<$AL20,1,0)+IF($AM20<$AN20,1,0)+IF($AO20<$AP20,1,0)+IF($AQ20<$AR20,1,0)+IF($AS20<$AT20,1,0)+IF($AU20<$AV20,1,0)+IF($AW20<$AX20,1,0)+IF($AY20<$AZ20,1,0) -> 1 | H20: =+J20+L20+N20+P20+R20+T20+V20+X20+Z20+AB20+AE20+AG20+AI20+AK20+AM20+AO20+AQ20+AS20+AU20+AW20+AY20 -> 9 | I20: =+K20+M20+O20+Q20+S20+U20+W20+Y20+AA20+AC20+AF20+AH20+AJ20+AL20+AN20+AP20+AR20+AT20+AV20+AX20+AZ20 -> 10 | J20: 9 | K20: 10
B21: SUE | C21: DIXON | D21: =SUM(E21)*2+SUM(F21)+AD21 -> 0 | E21: =IF($J21>$K21,1,0)+IF($L21>$M21,1,0)+IF($N21>$O21,1,0)+IF($P21>$Q21,1,0)+IF($R21>$S21,1,0)+IF($T21>$U21,1,0)+IF($V21>$W21,1,0)+IF($X21>$Y21,1,0)+IF($Z21>$AA21,1,0)+IF($AB21>$AC21,1,0)+IF($AE21>$AF21,1,0)+IF($AG21>$AH21,1,0)+IF($AI21>$AJ21,1,0)+IF($AK21>$AL21,1,0)+IF($AM21>$AN21,1,0)+IF($AO21>$AP21,1,0)+IF($AQ21>$AR21,1,0)+IF($AS21>$AT21,1,0)+IF($AU21>$AV21,1,0)+IF($AW21>$AX21,1,0)+IF($AY21>$AZ21,1,0) -> 0 | F21: =SUM(IF(SUM(J21:K21)>0,SUM(+IF($J21=$K21,1,0),0)))+SUM(IF(SUM(L21:M21)>0,SUM(+IF($L21=$M21,1,0),0)))+SUM(IF(SUM(N21:O21)>0,SUM(+IF($N21=$O21,1,0),0)))+SUM(IF(SUM(P21:Q21)>0,SUM(+IF($P21=$Q21,1,0),0)))+SUM(IF(SUM(R21:S21)>0,SUM(+IF($R21=$S21,1,0),0)))+SUM(IF(SUM(T21:U21)>0,SUM(+IF($T21=$U21,1,0),0)))+SUM(IF(SUM(V21:W21)>0,SUM(+IF($V21=$W21,1,0),0)))+SUM(IF(SUM(X21:Y21)>0,SUM(+IF($X21=$Y21,1,0),0)))+SUM(IF(SUM(Z21:AA21)>0,SUM(+IF($Z21=$AA21,1,0),0)))+SUM(IF(SUM(AB21:AC21)>0,SUM(+IF($AB21=$AC21,1,0),0)))+SUM(IF(SUM(AE21:AF21)>0,SUM(+IF($AE21=$AF21,1,0),0)))+SUM(IF(SUM(AG21:AH21)>0,SUM(+IF($AG21=$AH21,1,0),0)))+SUM(IF(SUM(AI21:AJ21)>0,SUM(+IF($AI21=$AJ21,1,0),0)))+SUM(IF(SUM(AK21:AL21)>0,SUM(+IF($AK21=$AL21,1,0),0)))+SUM(IF(SUM(AM21:AN21)>0,SUM(+IF($AM21=$AN21,1,0),0)))+SUM(IF(SUM(AO21:AP21)>0,SUM(+IF($AO21=$AP21,1,0),0)))+SUM(IF(SUM(AQ21:AR21)>0,SUM(+IF($AQ21=$AR21,1,0),0)))+SUM(IF(SUM(AS21:AT21)>0,SUM(+IF($AS21=$AT21,1,0),0)))+SUM(IF(SUM(AU21:AV21)>0,SUM(+IF($AU21=$AV21,1,0),0)))+SUM(IF(SUM(AW21:AX21)>0,SUM(+IF($AW21=$AX21,1,0),0)))+SUM(IF(SUM(AY21:AZ21)>0,SUM(+IF($AY21=$AZ21,1,0),0))) -> 0 | G21: =IF($J21<$K21,1,0)+IF($L21<$M21,1,0)+IF($N21<$O21,1,0)+IF($P21<$Q21,1,0)+IF($R21<$S21,1,0)+IF($T21<$U21,1,0)+IF($V21<$W21,1,0)+IF($X21<$Y21,1,0)+IF($Z21<$AA21,1,0)+IF($AB21<$AC21,1,0)+IF($AE21<$AF21,1,0)+IF($AG21<$AH21,1,0)+IF($AI21<$AJ21,1,0)+IF($AK21<$AL21,1,0)+IF($AM21<$AN21,1,0)+IF($AO21<$AP21,1,0)+IF($AQ21<$AR21,1,0)+IF($AS21<$AT21,1,0)+IF($AU21<$AV21,1,0)+IF($AW21<$AX21,1,0)+IF($AY21<$AZ21,1,0) -> 1 | H21: =+J21+L21+N21+P21+R21+T21+V21+X21+Z21+AB21+AE21+AG21+AI21+AK21+AM21+AO21+AQ21+AS21+AU21+AW21+AY21 -> 5 | I21: =+K21+M21+O21+Q21+S21+U21+W21+Y21+AA21+AC21+AF21+AH21+AJ21+AL21+AN21+AP21+AR21+AT21+AV21+AX21+AZ21 -> 17 | J21: 5 | K21: 17
B22: BIB | C22: EWING | D22: =SUM(E22)*2+SUM(F22)+AD22 -> 1 | E22: =IF($J22>$K22,1,0)+IF($L22>$M22,1,0)+IF($N22>$O22,1,0)+IF($P22>$Q22,1,0)+IF($R22>$S22,1,0)+IF($T22>$U22,1,0)+IF($V22>$W22,1,0)+IF($X22>$Y22,1,0)+IF($Z22>$AA22,1,0)+IF($AB22>$AC22,1,0)+IF($AE22>$AF22,1,0)+IF($AG22>$AH22,1,0)+IF($AI22>$AJ22,1,0)+IF($AK22>$AL22,1,0)+IF($AM22>$AN22,1,0)+IF($AO22>$AP22,1,0)+IF($AQ22>$AR22,1,0)+IF($AS22>$AT22,1,0)+IF($AU22>$AV22,1,0)+IF($AW22>$AX22,1,0)+IF($AY22>$AZ22,1,0) -> 0 | F22: =SUM(IF(SUM(J22:K22)>0,SUM(+IF($J22=$K22,1,0),0)))+SUM(IF(SUM(L22:M22)>0,SUM(+IF($L22=$M22,1,0),0)))+SUM(IF(SUM(N22:O22)>0,SUM(+IF($N22=$O22,1,0),0)))+SUM(IF(SUM(P22:Q22)>0,SUM(+IF($P22=$Q22,1,0),0)))+SUM(IF(SUM(R22:S22)>0,SUM(+IF($R22=$S22,1,0),0)))+SUM(IF(SUM(T22:U22)>0,SUM(+IF($T22=$U22,1,0),0)))+SUM(IF(SUM(V22:W22)>0,SUM(+IF($V22=$W22,1,0),0)))+SUM(IF(SUM(X22:Y22)>0,SUM(+IF($X22=$Y22,1,0),0)))+SUM(IF(SUM(Z22:AA22)>0,SUM(+IF($Z22=$AA22,1,0),0)))+SUM(IF(SUM(AB22:AC22)>0,SUM(+IF($AB22=$AC22,1,0),0)))+SUM(IF(SUM(AE22:AF22)>0,SUM(+IF($AE22=$AF22,1,0),0)))+SUM(IF(SUM(AG22:AH22)>0,SUM(+IF($AG22=$AH22,1,0),0)))+SUM(IF(SUM(AI22:AJ22)>0,SUM(+IF($AI22=$AJ22,1,0),0)))+SUM(IF(SUM(AK22:AL22)>0,SUM(+IF($AK22=$AL22,1,0),0)))+SUM(IF(SUM(AM22:AN22)>0,SUM(+IF($AM22=$AN22,1,0),0)))+SUM(IF(SUM(AO22:AP22)>0,SUM(+IF($AO22=$AP22,1,0),0)))+SUM(IF(SUM(AQ22:AR22)>0,SUM(+IF($AQ22=$AR22,1,0),0)))+SUM(IF(SUM(AS22:AT22)>0,SUM(+IF($AS22=$AT22,1,0),0)))+SUM(IF(SUM(AU22:AV22)>0,SUM(+IF($AU22=$AV22,1,0),0)))+SUM(IF(SUM(AW22:AX22)>0,SUM(+IF($AW22=$AX22,1,0),0)))+SUM(IF(SUM(AY22:AZ22)>0,SUM(+IF($AY22=$AZ22,1,0),0))) -> 1 | G22: =IF($J22<$K22,1,0)+IF($L22<$M22,1,0)+IF($N22<$O22,1,0)+IF($P22<$Q22,1,0)+IF($R22<$S22,1,0)+IF($T22<$U22,1,0)+IF($V22<$W22,1,0)+IF($X22<$Y22,1,0)+IF($Z22<$AA22,1,0)+IF($AB22<$AC22,1,0)+IF($AE22<$AF22,1,0)+IF($AG22<$AH22,1,0)+IF($AI22<$AJ22,1,0)+IF($AK22<$AL22,1,0)+IF($AM22<$AN22,1,0)+IF($AO22<$AP22,1,0)+IF($AQ22<$AR22,1,0)+IF($AS22<$AT22,1,0)+IF($AU22<$AV22,1,0)+IF($AW22<$AX22,1,0)+IF($AY22<$AZ22,1,0) -> 1 | H22: =+J22+L22+N22+P22+R22+T22+V22+X22+Z22+AB22+AE22+AG22+AI22+AK22+AM22+AO22+AQ22+AS22+AU22+AW22+AY22 -> 15 | I22: =+K22+M22+O22+Q22+S22+U22+W22+Y22+AA22+AC22+AF22+AH22+AJ22+AL22+AN22+AP22+AR22+AT22+AV22+AX22+AZ22 -> 22 | J22: 6 | K22: 13 | L22: 9 | M22: 9
B23: KEITH | C23: FISHER | D23: =SUM(E23)*2+SUM(F23)+AD23 -> 0 | E23: =IF($J23>$K23,1,0)+IF($L23>$M23,1,0)+IF($N23>$O23,1,0)+IF($P23>$Q23,1,0)+IF($R23>$S23,1,0)+IF($T23>$U23,1,0)+IF($V23>$W23,1,0)+IF($X23>$Y23,1,0)+IF($Z23>$AA23,1,0)+IF($AB23>$AC23,1,0)+IF($AE23>$AF23,1,0)+IF($AG23>$AH23,1,0)+IF($AI23>$AJ23,1,0)+IF($AK23>$AL23,1,0)+IF($AM23>$AN23,1,0)+IF($AO23>$AP23,1,0)+IF($AQ23>$AR23,1,0)+IF($AS23>$AT23,1,0)+IF($AU23>$AV23,1,0)+IF($AW23>$AX23,1,0)+IF($AY23>$AZ23,1,0) -> 0 | F23: =SUM(IF(SUM(J23:K23)>0,SUM(+IF($J23=$K23,1,0),0)))+SUM(IF(SUM(L23:M23)>0,SUM(+IF($L23=$M23,1,0),0)))+SUM(IF(SUM(N23:O23)>0,SUM(+IF($N23=$O23,1,0),0)))+SUM(IF(SUM(P23:Q23)>0,SUM(+IF($P23=$Q23,1,0),0)))+SUM(IF(SUM(R23:S23)>0,SUM(+IF($R23=$S23,1,0),0)))+SUM(IF(SUM(T23:U23)>0,SUM(+IF($T23=$U23,1,0),0)))+SUM(IF(SUM(V23:W23)>0,SUM(+IF($V23=$W23,1,0),0)))+SUM(IF(SUM(X23:Y23)>0,SUM(+IF($X23=$Y23,1,0),0)))+SUM(IF(SUM(Z23:AA23)>0,SUM(+IF($Z23=$AA23,1,0),0)))+SUM(IF(SUM(AB23:AC23)>0,SUM(+IF($AB23=$AC23,1,0),0)))+SUM(IF(SUM(AE23:AF23)>0,SUM(+IF($AE23=$AF23,1,0),0)))+SUM(IF(SUM(AG23:AH23)>0,SUM(+IF($AG23=$AH23,1,0),0)))+SUM(IF(SUM(AI23:AJ23)>0,SUM(+IF($AI23=$AJ23,1,0),0)))+SUM(IF(SUM(AK23:AL23)>0,SUM(+IF($AK23=$AL23,1,0),0)))+SUM(IF(SUM(AM23:AN23)>0,SUM(+IF($AM23=$AN23,1,0),0)))+SUM(IF(SUM(AO23:AP23)>0,SUM(+IF($AO23=$AP23,1,0),0)))+SUM(IF(SUM(AQ23:AR23)>0,SUM(+IF($AQ23=$AR23,1,0),0)))+SUM(IF(SUM(AS23:AT23)>0,SUM(+IF($AS23=$AT23,1,0),0)))+SUM(IF(SUM(AU23:AV23)>0,SUM(+IF($AU23=$AV23,1,0),0)))+SUM(IF(SUM(AW23:AX23)>0,SUM(+IF($AW23=$AX23,1,0),0)))+SUM(IF(SUM(AY23:AZ23)>0,SUM(+IF($AY23=$AZ23,1,0),0))) -> 0 | G23: =IF($J23<$K23,1,0)+IF($L23<$M23,1,0)+IF($N23<$O23,1,0)+IF($P23<$Q23,1,0)+IF($R23<$S23,1,0)+IF($T23<$U23,1,0)+IF($V23<$W23,1,0)+IF($X23<$Y23,1,0)+IF($Z23<$AA23,1,0)+IF($AB23<$AC23,1,0)+IF($AE23<$AF23,1,0)+IF($AG23<$AH23,1,0)+IF($AI23<$AJ23,1,0)+IF($AK23<$AL23,1,0)+IF($AM23<$AN23,1,0)+IF($AO23<$AP23,1,0)+IF($AQ23<$AR23,1,0)+IF($AS23<$AT23,1,0)+IF($AU23<$AV23,1,0)+IF($AW23<$AX23,1,0)+IF($AY23<$AZ23,1,0) -> 1 | H23: =+J23+L23+N23+P23+R23+T23+V23+X23+Z23+AB23+AE23+AG23+AI23+AK23+AM23+AO23+AQ23+AS23+AU23+AW23+AY23 -> 5 | I23: =+K23+M23+O23+Q23+S23+U23+W23+Y23+AA23+AC23+AF23+AH23+AJ23+AL23+AN23+AP23+AR23+AT23+AV23+AX23+AZ23 -> 17 | J23: 5 | K23: 17
B24: RICK | C24: GALVIN | D24: =SUM(E24)*2+SUM(F24)+AD24 -> 4 | E24: =IF($J24>$K24,1,0)+IF($L24>$M24,1,0)+IF($N24>$O24,1,0)+IF($P24>$Q24,1,0)+IF($R24>$S24,1,0)+IF($T24>$U24,1,0)+IF($V24>$W24,1,0)+IF($X24>$Y24,1,0)+IF($Z24>$AA24,1,0)+IF($AB24>$AC24,1,0)+IF($AE24>$AF24,1,0)+IF($AG24>$AH24,1,0)+IF($AI24>$AJ24,1,0)+IF($AK24>$AL24,1,0)+IF($AM24>$AN24,1,0)+IF($AO24>$AP24,1,0)+IF($AQ24>$AR24,1,0)+IF($AS24>$AT24,1,0)+IF($AU24>$AV24,1,0)+IF($AW24>$AX24,1,0)+IF($AY24>$AZ24,1,0) -> 2 | F24: =SUM(IF(SUM(J24:K24)>0,SUM(+IF($J24=$K24,1,0),0)))+SUM(IF(SUM(L24:M24)>0,SUM(+IF($L24=$M24,1,0),0)))+SUM(IF(SUM(N24:O24)>0,SUM(+IF($N24=$O24,1,0),0)))+SUM(IF(SUM(P24:Q24)>0,SUM(+IF($P24=$Q24,1,0),0)))+SUM(IF(SUM(R24:S24)>0,SUM(+IF($R24=$S24,1,0),0)))+SUM(IF(SUM(T24:U24)>0,SUM(+IF($T24=$U24,1,0),0)))+SUM(IF(SUM(V24:W24)>0,SUM(+IF($V24=$W24,1,0),0)))+SUM(IF(SUM(X24:Y24)>0,SUM(+IF($X24=$Y24,1,0),0)))+SUM(IF(SUM(Z24:AA24)>0,SUM(+IF($Z24=$AA24,1,0),0)))+SUM(IF(SUM(AB24:AC24)>0,SUM(+IF($AB24=$AC24,1,0),0)))+SUM(IF(SUM(AE24:AF24)>0,SUM(+IF($AE24=$AF24,1,0),0)))+SUM(IF(SUM(AG24:AH24)>0,SUM(+IF($AG24=$AH24,1,0),0)))+SUM(IF(SUM(AI24:AJ24)>0,SUM(+IF($AI24=$AJ24,1,0),0)))+SUM(IF(SUM(AK24:AL24)>0,SUM(+IF($AK24=$AL24,1,0),0)))+SUM(IF(SUM(AM24:AN24)>0,SUM(+IF($AM24=$AN24,1,0),0)))+SUM(IF(SUM(AO24:AP24)>0,SUM(+IF($AO24=$AP24,1,0),0)))+SUM(IF(SUM(AQ24:AR24)>0,SUM(+IF($AQ24=$AR24,1,0),0)))+SUM(IF(SUM(AS24:AT24)>0,SUM(+IF($AS24=$AT24,1,0),0)))+SUM(IF(SUM(AU24:AV24)>0,SUM(+IF($AU24=$AV24,1,0),0)))+SUM(IF(SUM(AW24:AX24)>0,SUM(+IF($AW24=$AX24,1,0),0)))+SUM(IF(SUM(AY24:AZ24)>0,SUM(+IF($AY24=$AZ24,1,0),0))) -> 0 | G24: =IF($J24<$K24,1,0)+IF($L24<$M24,1,0)+IF($N24<$O24,1,0)+IF($P24<$Q24,1,0)+IF($R24<$S24,1,0)+IF($T24<$U24,1,0)+IF($V24<$W24,1,0)+IF($X24<$Y24,1,0)+IF($Z24<$AA24,1,0)+IF($AB24<$AC24,1,0)+IF($AE24<$AF24,1,0)+IF($AG24<$AH24,1,0)+IF($AI24<$AJ24,1,0)+IF($AK24<$AL24,1,0)+IF($AM24<$AN24,1,0)+IF($AO24<$AP24,1,0)+IF($AQ24<$AR24,1,0)+IF($AS24<$AT24,1,0)+IF($AU24<$AV24,1,0)+IF($AW24<$AX24,1,0)+IF($AY24<$AZ24,1,0) -> 0 | H24: =+J24+L24+N24+P24+R24+T24+V24+X24+Z24+AB24+AE24+AG24+AI24+AK24+AM24+AO24+AQ24+AS24+AU24+AW24+AY24 -> 36 | I24: =+K24+M24+O24+Q24+S24+U24+W24+Y24+AA24+AC24+AF24+AH24+AJ24+AL24+AN24+AP24+AR24+AT24+AV24+AX24+AZ24 -> 8 | J24: 17 | K24: 2 | L24: 19 | M24: 6
B25: JENNIE | C25: HENLEY | D25: =SUM(E25)*2+SUM(F25)+AD25 -> 2 | E25: =IF($J25>$K25,1,0)+IF($L25>$M25,1,0)+IF($N25>$O25,1,0)+IF($P25>$Q25,1,0)+IF($R25>$S25,1,0)+IF($T25>$U25,1,0)+IF($V25>$W25,1,0)+IF($X25>$Y25,1,0)+IF($Z25>$AA25,1,0)+IF($AB25>$AC25,1,0)+IF($AE25>$AF25,1,0)+IF($AG25>$AH25,1,0)+IF($AI25>$AJ25,1,0)+IF($AK25>$AL25,1,0)+IF($AM25>$AN25,1,0)+IF($AO25>$AP25,1,0)+IF($AQ25>$AR25,1,0)+IF($AS25>$AT25,1,0)+IF($AU25>$AV25,1,0)+IF($AW25>$AX25,1,0)+IF($AY25>$AZ25,1,0) -> 1 | F25: =SUM(IF(SUM(J25:K25)>0,SUM(+IF($J25=$K25,1,0),0)))+SUM(IF(SUM(L25:M25)>0,SUM(+IF($L25=$M25,1,0),0)))+SUM(IF(SUM(N25:O25)>0,SUM(+IF($N25=$O25,1,0),0)))+SUM(IF(SUM(P25:Q25)>0,SUM(+IF($P25=$Q25,1,0),0)))+SUM(IF(SUM(R25:S25)>0,SUM(+IF($R25=$S25,1,0),0)))+SUM(IF(SUM(T25:U25)>0,SUM(+IF($T25=$U25,1,0),0)))+SUM(IF(SUM(V25:W25)>0,SUM(+IF($V25=$W25,1,0),0)))+SUM(IF(SUM(X25:Y25)>0,SUM(+IF($X25=$Y25,1,0),0)))+SUM(IF(SUM(Z25:AA25)>0,SUM(+IF($Z25=$AA25,1,0),0)))+SUM(IF(SUM(AB25:AC25)>0,SUM(+IF($AB25=$AC25,1,0),0)))+SUM(IF(SUM(AE25:AF25)>0,SUM(+IF($AE25=$AF25,1,0),0)))+SUM(IF(SUM(AG25:AH25)>0,SUM(+IF($AG25=$AH25,1,0),0)))+SUM(IF(SUM(AI25:AJ25)>0,SUM(+IF($AI25=$AJ25,1,0),0)))+SUM(IF(SUM(AK25:AL25)>0,SUM(+IF($AK25=$AL25,1,0),0)))+SUM(IF(SUM(AM25:AN25)>0,SUM(+IF($AM25=$AN25,1,0),0)))+SUM(IF(SUM(AO25:AP25)>0,SUM(+IF($AO25=$AP25,1,0),0)))+SUM(IF(SUM(AQ25:AR25)>0,SUM(+IF($AQ25=$AR25,1,0),0)))+SUM(IF(SUM(AS25:AT25)>0,SUM(+IF($AS25=$AT25,1,0),0)))+SUM(IF(SUM(AU25:AV25)>0,SUM(+IF($AU25=$AV25,1,0),0)))+SUM(IF(SUM(AW25:AX25)>0,SUM(+IF($AW25=$AX25,1,0),0)))+SUM(IF(SUM(AY25:AZ25)>0,SUM(+IF($AY25=$AZ25,1,0),0))) -> 0 | G25: =IF($J25<$K25,1,0)+IF($L25<$M25,1,0)+IF($N25<$O25,1,0)+IF($P25<$Q25,1,0)+IF($R25<$S25,1,0)+IF($T25<$U25,1,0)+IF($V25<$W25,1,0)+IF($X25<$Y25,1,0)+IF($Z25<$AA25,1,0)+IF($AB25<$AC25,1,0)+IF($AE25<$AF25,1,0)+IF($AG25<$AH25,1,0)+IF($AI25<$AJ25,1,0)+IF($AK25<$AL25,1,0)+IF($AM25<$AN25,1,0)+IF($AO25<$AP25,1,0)+IF($AQ25<$AR25,1,0)+IF($AS25<$AT25,1,0)+IF($AU25<$AV25,1,0)+IF($AW25<$AX25,1,0)+IF($AY25<$AZ25,1,0) -> 0 | H25: =+J25+L25+N25+P25+R25+T25+V25+X25+Z25+AB25+AE25+AG25+AI25+AK25+AM25+AO25+AQ25+AS25+AU25+AW25+AY25 -> 10 | I25: =+K25+M25+O25+Q25+S25+U25+W25+Y25+AA25+AC25+AF25+AH25+AJ25+AL25+AN25+AP25+AR25+AT25+AV25+AX25+AZ25 -> 9 | J25: 10 | K25: 9
B26: KEITH | C26: HUGHES | D26: =SUM(E26)*2+SUM(F26)+AD26 -> 2 | E26: =IF($J26>$K26,1,0)+IF($L26>$M26,1,0)+IF($N26>$O26,1,0)+IF($P26>$Q26,1,0)+IF($R26>$S26,1,0)+IF($T26>$U26,1,0)+IF($V26>$W26,1,0)+IF($X26>$Y26,1,0)+IF($Z26>$AA26,1,0)+IF($AB26>$AC26,1,0)+IF($AE26>$AF26,1,0)+IF($AG26>$AH26,1,0)+IF($AI26>$AJ26,1,0)+IF($AK26>$AL26,1,0)+IF($AM26>$AN26,1,0)+IF($AO26>$AP26,1,0)+IF($AQ26>$AR26,1,0)+IF($AS26>$AT26,1,0)+IF($AU26>$AV26,1,0)+IF($AW26>$AX26,1,0)+IF($AY26>$AZ26,1,0) -> 1 | F26: =SUM(IF(SUM(J26:K26)>0,SUM(+IF($J26=$K26,1,0),0)))+SUM(IF(SUM(L26:M26)>0,SUM(+IF($L26=$M26,1,0),0)))+SUM(IF(SUM(N26:O26)>0,SUM(+IF($N26=$O26,1,0),0)))+SUM(IF(SUM(P26:Q26)>0,SUM(+IF($P26=$Q26,1,0),0)))+SUM(IF(SUM(R26:S26)>0,SUM(+IF($R26=$S26,1,0),0)))+SUM(IF(SUM(T26:U26)>0,SUM(+IF($T26=$U26,1,0),0)))+SUM(IF(SUM(V26:W26)>0,SUM(+IF($V26=$W26,1,0),0)))+SUM(IF(SUM(X26:Y26)>0,SUM(+IF($X26=$Y26,1,0),0)))+SUM(IF(SUM(Z26:AA26)>0,SUM(+IF($Z26=$AA26,1,0),0)))+SUM(IF(SUM(AB26:AC26)>0,SUM(+IF($AB26=$AC26,1,0),0)))+SUM(IF(SUM(AE26:AF26)>0,SUM(+IF($AE26=$AF26,1,0),0)))+SUM(IF(SUM(AG26:AH26)>0,SUM(+IF($AG26=$AH26,1,0),0)))+SUM(IF(SUM(AI26:AJ26)>0,SUM(+IF($AI26=$AJ26,1,0),0)))+SUM(IF(SUM(AK26:AL26)>0,SUM(+IF($AK26=$AL26,1,0),0)))+SUM(IF(SUM(AM26:AN26)>0,SUM(+IF($AM26=$AN26,1,0),0)))+SUM(IF(SUM(AO26:AP26)>0,SUM(+IF($AO26=$AP26,1,0),0)))+SUM(IF(SUM(AQ26:AR26)>0,SUM(+IF($AQ26=$AR26,1,0),0)))+SUM(IF(SUM(AS26:AT26)>0,SUM(+IF($AS26=$AT26,1,0),0)))+SUM(IF(SUM(AU26:AV26)>0,SUM(+IF($AU26=$AV26,1,0),0)))+SUM(IF(SUM(AW26:AX26)>0,SUM(+IF($AW26=$AX26,1,0),0)))+SUM(IF(SUM(AY26:AZ26)>0,SUM(+IF($AY26=$AZ26,1,0),0))) -> 0 | G26: =IF($J26<$K26,1,0)+IF($L26<$M26,1,0)+IF($N26<$O26,1,0)+IF($P26<$Q26,1,0)+IF($R26<$S26,1,0)+IF($T26<$U26,1,0)+IF($V26<$W26,1,0)+IF($X26<$Y26,1,0)+IF($Z26<$AA26,1,0)+IF($AB26<$AC26,1,0)+IF($AE26<$AF26,1,0)+IF($AG26<$AH26,1,0)+IF($AI26<$AJ26,1,0)+IF($AK26<$AL26,1,0)+IF($AM26<$AN26,1,0)+IF($AO26<$AP26,1,0)+IF($AQ26<$AR26,1,0)+IF($AS26<$AT26,1,0)+IF($AU26<$AV26,1,0)+IF($AW26<$AX26,1,0)+IF($AY26<$AZ26,1,0) -> 1 | H26: =+J26+L26+N26+P26+R26+T26+V26+X26+Z26+AB26+AE26+AG26+AI26+AK26+AM26+AO26+AQ26+AS26+AU26+AW26+AY26 -> 22 | I26: =+K26+M26+O26+Q26+S26+U26+W26+Y26+AA26+AC26+AF26+AH26+AJ26+AL26+AN26+AP26+AR26+AT26+AV26+AX26+AZ26 -> 22 | J26: 2 | K26: 17 | L26: 20 | M26: 5
B27: N | C27: JOLLA | D27: =SUM(E27)*2+SUM(F27)+AD27 -> 0 | E27: =IF($J27>$K27,1,0)+IF($L27>$M27,1,0)+IF($N27>$O27,1,0)+IF($P27>$Q27,1,0)+IF($R27>$S27,1,0)+IF($T27>$U27,1,0)+IF($V27>$W27,1,0)+IF($X27>$Y27,1,0)+IF($Z27>$AA27,1,0)+IF($AB27>$AC27,1,0)+IF($AE27>$AF27,1,0)+IF($AG27>$AH27,1,0)+IF($AI27>$AJ27,1,0)+IF($AK27>$AL27,1,0)+IF($AM27>$AN27,1,0)+IF($AO27>$AP27,1,0)+IF($AQ27>$AR27,1,0)+IF($AS27>$AT27,1,0)+IF($AU27>$AV27,1,0)+IF($AW27>$AX27,1,0)+IF($AY27>$AZ27,1,0) -> 0 | F27: =SUM(IF(SUM(J27:K27)>0,SUM(+IF($J27=$K27,1,0),0)))+SUM(IF(SUM(L27:M27)>0,SUM(+IF($L27=$M27,1,0),0)))+SUM(IF(SUM(N27:O27)>0,SUM(+IF($N27=$O27,1,0),0)))+SUM(IF(SUM(P27:Q27)>0,SUM(+IF($P27=$Q27,1,0),0)))+SUM(IF(SUM(R27:S27)>0,SUM(+IF($R27=$S27,1,0),0)))+SUM(IF(SUM(T27:U27)>0,SUM(+IF($T27=$U27,1,0),0)))+SUM(IF(SUM(V27:W27)>0,SUM(+IF($V27=$W27,1,0),0)))+SUM(IF(SUM(X27:Y27)>0,SUM(+IF($X27=$Y27,1,0),0)))+SUM(IF(SUM(Z27:AA27)>0,SUM(+IF($Z27=$AA27,1,0),0)))+SUM(IF(SUM(AB27:AC27)>0,SUM(+IF($AB27=$AC27,1,0),0)))+SUM(IF(SUM(AE27:AF27)>0,SUM(+IF($AE27=$AF27,1,0),0)))+SUM(IF(SUM(AG27:AH27)>0,SUM(+IF($AG27=$AH27,1,0),0)))+SUM(IF(SUM(AI27:AJ27)>0,SUM(+IF($AI27=$AJ27,1,0),0)))+SUM(IF(SUM(AK27:AL27)>0,SUM(+IF($AK27=$AL27,1,0),0)))+SUM(IF(SUM(AM27:AN27)>0,SUM(+IF($AM27=$AN27,1,0),0)))+SUM(IF(SUM(AO27:AP27)>0,SUM(+IF($AO27=$AP27,1,0),0)))+SUM(IF(SUM(AQ27:AR27)>0,SUM(+IF($AQ27=$AR27,1,0),0)))+SUM(IF(SUM(AS27:AT27)>0,SUM(+IF($AS27=$AT27,1,0),0)))+SUM(IF(SUM(AU27:AV27)>0,SUM(+IF($AU27=$AV27,1,0),0)))+SUM(IF(SUM(AW27:AX27)>0,SUM(+IF($AW27=$AX27,1,0),0)))+SUM(IF(SUM(AY27:AZ27)>0,SUM(+IF($AY27=$AZ27,1,0),0))) -> 0 | G27: =IF($J27<$K27,1,0)+IF($L27<$M27,1,0)+IF($N27<$O27,1,0)+IF($P27<$Q27,1,0)+IF($R27<$S27,1,0)+IF($T27<$U27,1,0)+IF($V27<$W27,1,0)+IF($X27<$Y27,1,0)+IF($Z27<$AA27,1,0)+IF($AB27<$AC27,1,0)+IF($AE27<$AF27,1,0)+IF($AG27<$AH27,1,0)+IF($AI27<$AJ27,1,0)+IF($AK27<$AL27,1,0)+IF($AM27<$AN27,1,0)+IF($AO27<$AP27,1,0)+IF($AQ27<$AR27,1,0)+IF($AS27<$AT27,1,0)+IF($AU27<$AV27,1,0)+IF($AW27<$AX27,1,0)+IF($AY27<$AZ27,1,0) -> 1 | H27: =+J27+L27+N27+P27+R27+T27+V27+X27+Z27+AB27+AE27+AG27+AI27+AK27+AM27+AO27+AQ27+AS27+AU27+AW27+AY27 -> 5 | I27: =+K27+M27+O27+Q27+S27+U27+W27+Y27+AA27+AC27+AF27+AH27+AJ27+AL27+AN27+AP27+AR27+AT27+AV27+AX27+AZ27 -> 20 | L27: 5 | M27: 20
B28: ALAN | C28: KEARSEY | D28: =SUM(E28)*2+SUM(F28)+AD28 -> 4 | E28: =IF($J28>$K28,1,0)+IF($L28>$M28,1,0)+IF($N28>$O28,1,0)+IF($P28>$Q28,1,0)+IF($R28>$S28,1,0)+IF($T28>$U28,1,0)+IF($V28>$W28,1,0)+IF($X28>$Y28,1,0)+IF($Z28>$AA28,1,0)+IF($AB28>$AC28,1,0)+IF($AE28>$AF28,1,0)+IF($AG28>$AH28,1,0)+IF($AI28>$AJ28,1,0)+IF($AK28>$AL28,1,0)+IF($AM28>$AN28,1,0)+IF($AO28>$AP28,1,0)+IF($AQ28>$AR28,1,0)+IF($AS28>$AT28,1,0)+IF($AU28>$AV28,1,0)+IF($AW28>$AX28,1,0)+IF($AY28>$AZ28,1,0) -> 2 | F28: =SUM(IF(SUM(J28:K28)>0,SUM(+IF($J28=$K28,1,0),0)))+SUM(IF(SUM(L28:M28)>0,SUM(+IF($L28=$M28,1,0),0)))+SUM(IF(SUM(N28:O28)>0,SUM(+IF($N28=$O28,1,0),0)))+SUM(IF(SUM(P28:Q28)>0,SUM(+IF($P28=$Q28,1,0),0)))+SUM(IF(SUM(R28:S28)>0,SUM(+IF($R28=$S28,1,0),0)))+SUM(IF(SUM(T28:U28)>0,SUM(+IF($T28=$U28,1,0),0)))+SUM(IF(SUM(V28:W28)>0,SUM(+IF($V28=$W28,1,0),0)))+SUM(IF(SUM(X28:Y28)>0,SUM(+IF($X28=$Y28,1,0),0)))+SUM(IF(SUM(Z28:AA28)>0,SUM(+IF($Z28=$AA28,1,0),0)))+SUM(IF(SUM(AB28:AC28)>0,SUM(+IF($AB28=$AC28,1,0),0)))+SUM(IF(SUM(AE28:AF28)>0,SUM(+IF($AE28=$AF28,1,0),0)))+SUM(IF(SUM(AG28:AH28)>0,SUM(+IF($AG28=$AH28,1,0),0)))+SUM(IF(SUM(AI28:AJ28)>0,SUM(+IF($AI28=$AJ28,1,0),0)))+SUM(IF(SUM(AK28:AL28)>0,SUM(+IF($AK28=$AL28,1,0),0)))+SUM(IF(SUM(AM28:AN28)>0,SUM(+IF($AM28=$AN28,1,0),0)))+SUM(IF(SUM(AO28:AP28)>0,SUM(+IF($AO28=$AP28,1,0),0)))+SUM(IF(SUM(AQ28:AR28)>0,SUM(+IF($AQ28=$AR28,1,0),0)))+SUM(IF(SUM(AS28:AT28)>0,SUM(+IF($AS28=$AT28,1,0),0)))+SUM(IF(SUM(AU28:AV28)>0,SUM(+IF($AU28=$AV28,1,0),0)))+SUM(IF(SUM(AW28:AX28)>0,SUM(+IF($AW28=$AX28,1,0),0)))+SUM(IF(SUM(AY28:AZ28)>0,SUM(+IF($AY28=$AZ28,1,0),0))) -> 0 | G28: =IF($J28<$K28,1,0)+IF($L28<$M28,1,0)+IF($N28<$O28,1,0)+IF($P28<$Q28,1,0)+IF($R28<$S28,1,0)+IF($T28<$U28,1,0)+IF($V28<$W28,1,0)+IF($X28<$Y28,1,0)+IF($Z28<$AA28,1,0)+IF($AB28<$AC28,1,0)+IF($AE28<$AF28,1,0)+IF($AG28<$AH28,1,0)+IF($AI28<$AJ28,1,0)+IF($AK28<$AL28,1,0)+IF($AM28<$AN28,1,0)+IF($AO28<$AP28,1,0)+IF($AQ28<$AR28,1,0)+IF($AS28<$AT28,1,0)+IF($AU28<$AV28,1,0)+IF($AW28<$AX28,1,0)+IF($AY28<$AZ28,1,0) -> 0 | H28: =+J28+L28+N28+P28+R28+T28+V28+X28+Z28+AB28+AE28+AG28+AI28+AK28+AM28+AO28+AQ28+AS28+AU28+AW28+AY28 -> 38 | I28: =+K28+M28+O28+Q28+S28+U28+W28+Y28+AA28+AC28+AF28+AH28+AJ28+AL28+AN28+AP28+AR28+AT28+AV28+AX28+AZ28 -> 8 | J28: 15 | K28: 7 | L28: 23 | M28: 1
B29: CHRIS | C29: KEARSEY | D29: =SUM(E29)*2+SUM(F29)+AD29 -> 2 | E29: =IF($J29>$K29,1,0)+IF($L29>$M29,1,0)+IF($N29>$O29,1,0)+IF($P29>$Q29,1,0)+IF($R29>$S29,1,0)+IF($T29>$U29,1,0)+IF($V29>$W29,1,0)+IF($X29>$Y29,1,0)+IF($Z29>$AA29,1,0)+IF($AB29>$AC29,1,0)+IF($AE29>$AF29,1,0)+IF($AG29>$AH29,1,0)+IF($AI29>$AJ29,1,0)+IF($AK29>$AL29,1,0)+IF($AM29>$AN29,1,0)+IF($AO29>$AP29,1,0)+IF($AQ29>$AR29,1,0)+IF($AS29>$AT29,1,0)+IF($AU29>$AV29,1,0)+IF($AW29>$AX29,1,0)+IF($AY29>$AZ29,1,0) -> 1 | F29: =SUM(IF(SUM(J29:K29)>0,SUM(+IF($J29=$K29,1,0),0)))+SUM(IF(SUM(L29:M29)>0,SUM(+IF($L29=$M29,1,0),0)))+SUM(IF(SUM(N29:O29)>0,SUM(+IF($N29=$O29,1,0),0)))+SUM(IF(SUM(P29:Q29)>0,SUM(+IF($P29=$Q29,1,0),0)))+SUM(IF(SUM(R29:S29)>0,SUM(+IF($R29=$S29,1,0),0)))+SUM(IF(SUM(T29:U29)>0,SUM(+IF($T29=$U29,1,0),0)))+SUM(IF(SUM(V29:W29)>0,SUM(+IF($V29=$W29,1,0),0)))+SUM(IF(SUM(X29:Y29)>0,SUM(+IF($X29=$Y29,1,0),0)))+SUM(IF(SUM(Z29:AA29)>0,SUM(+IF($Z29=$AA29,1,0),0)))+SUM(IF(SUM(AB29:AC29)>0,SUM(+IF($AB29=$AC29,1,0),0)))+SUM(IF(SUM(AE29:AF29)>0,SUM(+IF($AE29=$AF29,1,0),0)))+SUM(IF(SUM(AG29:AH29)>0,SUM(+IF($AG29=$AH29,1,0),0)))+SUM(IF(SUM(AI29:AJ29)>0,SUM(+IF($AI29=$AJ29,1,0),0)))+SUM(IF(SUM(AK29:AL29)>0,SUM(+IF($AK29=$AL29,1,0),0)))+SUM(IF(SUM(AM29:AN29)>0,SUM(+IF($AM29=$AN29,1,0),0)))+SUM(IF(SUM(AO29:AP29)>0,SUM(+IF($AO29=$AP29,1,0),0)))+SUM(IF(SUM(AQ29:AR29)>0,SUM(+IF($AQ29=$AR29,1,0),0)))+SUM(IF(SUM(AS29:AT29)>0,SUM(+IF($AS29=$AT29,1,0),0)))+SUM(IF(SUM(AU29:AV29)>0,SUM(+IF($AU29=$AV29,1,0),0)))+SUM(IF(SUM(AW29:AX29)>0,SUM(+IF($AW29=$AX29,1,0),0)))+SUM(IF(SUM(AY29:AZ29)>0,SUM(+IF($AY29=$AZ29,1,0),0))) -> 0 | G29: =IF($J29<$K29,1,0)+IF($L29<$M29,1,0)+IF($N29<$O29,1,0)+IF($P29<$Q29,1,0)+IF($R29<$S29,1,0)+IF($T29<$U29,1,0)+IF($V29<$W29,1,0)+IF($X29<$Y29,1,0)+IF($Z29<$AA29,1,0)+IF($AB29<$AC29,1,0)+IF($AE29<$AF29,1,0)+IF($AG29<$AH29,1,0)+IF($AI29<$AJ29,1,0)+IF($AK29<$AL29,1,0)+IF($AM29<$AN29,1,0)+IF($AO29<$AP29,1,0)+IF($AQ29<$AR29,1,0)+IF($AS29<$AT29,1,0)+IF($AU29<$AV29,1,0)+IF($AW29<$AX29,1,0)+IF($AY29<$AZ29,1,0) -> 1 | H29: =+J29+L29+N29+P29+R29+T29+V29+X29+Z29+AB29+AE29+AG29+AI29+AK29+AM29+AO29+AQ29+AS29+AU29+AW29+AY29 -> 24 | I29: =+K29+M29+O29+Q29+S29+U29+W29+Y29+AA29+AC29+AF29+AH29+AJ29+AL29+AN29+AP29+AR29+AT29+AV29+AX29+AZ29 -> 18 | J29: 17 | K29: 5 | L29: 7 | M29: 13
B30: TRACY | C30: KEY | D30: =SUM(E30)*2+SUM(F30)+AD30 -> 2 | E30: =IF($J30>$K30,1,0)+IF($L30>$M30,1,0)+IF($N30>$O30,1,0)+IF($P30>$Q30,1,0)+IF($R30>$S30,1,0)+IF($T30>$U30,1,0)+IF($V30>$W30,1,0)+IF($X30>$Y30,1,0)+IF($Z30>$AA30,1,0)+IF($AB30>$AC30,1,0)+IF($AE30>$AF30,1,0)+IF($AG30>$AH30,1,0)+IF($AI30>$AJ30,1,0)+IF($AK30>$AL30,1,0)+IF($AM30>$AN30,1,0)+IF($AO30>$AP30,1,0)+IF($AQ30>$AR30,1,0)+IF($AS30>$AT30,1,0)+IF($AU30>$AV30,1,0)+IF($AW30>$AX30,1,0)+IF($AY30>$AZ30,1,0) -> 1 | F30: =SUM(IF(SUM(J30:K30)>0,SUM(+IF($J30=$K30,1,0),0)))+SUM(IF(SUM(L30:M30)>0,SUM(+IF($L30=$M30,1,0),0)))+SUM(IF(SUM(N30:O30)>0,SUM(+IF($N30=$O30,1,0),0)))+SUM(IF(SUM(P30:Q30)>0,SUM(+IF($P30=$Q30,1,0),0)))+SUM(IF(SUM(R30:S30)>0,SUM(+IF($R30=$S30,1,0),0)))+SUM(IF(SUM(T30:U30)>0,SUM(+IF($T30=$U30,1,0),0)))+SUM(IF(SUM(V30:W30)>0,SUM(+IF($V30=$W30,1,0),0)))+SUM(IF(SUM(X30:Y30)>0,SUM(+IF($X30=$Y30,1,0),0)))+SUM(IF(SUM(Z30:AA30)>0,SUM(+IF($Z30=$AA30,1,0),0)))+SUM(IF(SUM(AB30:AC30)>0,SUM(+IF($AB30=$AC30,1,0),0)))+SUM(IF(SUM(AE30:AF30)>0,SUM(+IF($AE30=$AF30,1,0),0)))+SUM(IF(SUM(AG30:AH30)>0,SUM(+IF($AG30=$AH30,1,0),0)))+SUM(IF(SUM(AI30:AJ30)>0,SUM(+IF($AI30=$AJ30,1,0),0)))+SUM(IF(SUM(AK30:AL30)>0,SUM(+IF($AK30=$AL30,1,0),0)))+SUM(IF(SUM(AM30:AN30)>0,SUM(+IF($AM30=$AN30,1,0),0)))+SUM(IF(SUM(AO30:AP30)>0,SUM(+IF($AO30=$AP30,1,0),0)))+SUM(IF(SUM(AQ30:AR30)>0,SUM(+IF($AQ30=$AR30,1,0),0)))+SUM(IF(SUM(AS30:AT30)>0,SUM(+IF($AS30=$AT30,1,0),0)))+SUM(IF(SUM(AU30:AV30)>0,SUM(+IF($AU30=$AV30,1,0),0)))+SUM(IF(SUM(AW30:AX30)>0,SUM(+IF($AW30=$AX30,1,0),0)))+SUM(IF(SUM(AY30:AZ30)>0,SUM(+IF($AY30=$AZ30,1,0),0))) -> 0 | G30: =IF($J30<$K30,1,0)+IF($L30<$M30,1,0)+IF($N30<$O30,1,0)+IF($P30<$Q30,1,0)+IF($R30<$S30,1,0)+IF($T30<$U30,1,0)+IF($V30<$W30,1,0)+IF($X30<$Y30,1,0)+IF($Z30<$AA30,1,0)+IF($AB30<$AC30,1,0)+IF($AE30<$AF30,1,0)+IF($AG30<$AH30,1,0)+IF($AI30<$AJ30,1,0)+IF($AK30<$AL30,1,0)+IF($AM30<$AN30,1,0)+IF($AO30<$AP30,1,0)+IF($AQ30<$AR30,1,0)+IF($AS30<$AT30,1,0)+IF($AU30<$AV30,1,0)+IF($AW30<$AX30,1,0)+IF($AY30<$AZ30,1,0) -> 0 | H30: =+J30+L30+N30+P30+R30+T30+V30+X30+Z30+AB30+AE30+AG30+AI30+AK30+AM30+AO30+AQ30+AS30+AU30+AW30+AY30 -> 17 | I30: =+K30+M30+O30+Q30+S30+U30+W30+Y30+AA30+AC30+AF30+AH30+AJ30+AL30+AN30+AP30+AR30+AT30+AV30+AX30+AZ30 -> 2 | J30: 17 | K30: 2
B31: DES | C31: LAMBERT | D31: =SUM(E31)*2+SUM(F31)+AD31 -> 4 | E31: =IF($J31>$K31,1,0)+IF($L31>$M31,1,0)+IF($N31>$O31,1,0)+IF($P31>$Q31,1,0)+IF($R31>$S31,1,0)+IF($T31>$U31,1,0)+IF($V31>$W31,1,0)+IF($X31>$Y31,1,0)+IF($Z31>$AA31,1,0)+IF($AB31>$AC31,1,0)+IF($AE31>$AF31,1,0)+IF($AG31>$AH31,1,0)+IF($AI31>$AJ31,1,0)+IF($AK31>$AL31,1,0)+IF($AM31>$AN31,1,0)+IF($AO31>$AP31,1,0)+IF($AQ31>$AR31,1,0)+IF($AS31>$AT31,1,0)+IF($AU31>$AV31,1,0)+IF($AW31>$AX31,1,0)+IF($AY31>$AZ31,1,0) -> 2 | F31: =SUM(IF(SUM(J31:K31)>0,SUM(+IF($J31=$K31,1,0),0)))+SUM(IF(SUM(L31:M31)>0,SUM(+IF($L31=$M31,1,0),0)))+SUM(IF(SUM(N31:O31)>0,SUM(+IF($N31=$O31,1,0),0)))+SUM(IF(SUM(P31:Q31)>0,SUM(+IF($P31=$Q31,1,0),0)))+SUM(IF(SUM(R31:S31)>0,SUM(+IF($R31=$S31,1,0),0)))+SUM(IF(SUM(T31:U31)>0,SUM(+IF($T31=$U31,1,0),0)))+SUM(IF(SUM(V31:W31)>0,SUM(+IF($V31=$W31,1,0),0)))+SUM(IF(SUM(X31:Y31)>0,SUM(+IF($X31=$Y31,1,0),0)))+SUM(IF(SUM(Z31:AA31)>0,SUM(+IF($Z31=$AA31,1,0),0)))+SUM(IF(SUM(AB31:AC31)>0,SUM(+IF($AB31=$AC31,1,0),0)))+SUM(IF(SUM(AE31:AF31)>0,SUM(+IF($AE31=$AF31,1,0),0)))+SUM(IF(SUM(AG31:AH31)>0,SUM(+IF($AG31=$AH31,1,0),0)))+SUM(IF(SUM(AI31:AJ31)>0,SUM(+IF($AI31=$AJ31,1,0),0)))+SUM(IF(SUM(AK31:AL31)>0,SUM(+IF($AK31=$AL31,1,0),0)))+SUM(IF(SUM(AM31:AN31)>0,SUM(+IF($AM31=$AN31,1,0),0)))+SUM(IF(SUM(AO31:AP31)>0,SUM(+IF($AO31=$AP31,1,0),0)))+SUM(IF(SUM(AQ31:AR31)>0,SUM(+IF($AQ31=$AR31,1,0),0)))+SUM(IF(SUM(AS31:AT31)>0,SUM(+IF($AS31=$AT31,1,0),0)))+SUM(IF(SUM(AU31:AV31)>0,SUM(+IF($AU31=$AV31,1,0),0)))+SUM(IF(SUM(AW31:AX31)>0,SUM(+IF($AW31=$AX31,1,0),0)))+SUM(IF(SUM(AY31:AZ31)>0,SUM(+IF($AY31=$AZ31,1,0),0))) -> 0 | G31: =IF($J31<$K31,1,0)+IF($L31<$M31,1,0)+IF($N31<$O31,1,0)+IF($P31<$Q31,1,0)+IF($R31<$S31,1,0)+IF($T31<$U31,1,0)+IF($V31<$W31,1,0)+IF($X31<$Y31,1,0)+IF($Z31<$AA31,1,0)+IF($AB31<$AC31,1,0)+IF($AE31<$AF31,1,0)+IF($AG31<$AH31,1,0)+IF($AI31<$AJ31,1,0)+IF($AK31<$AL31,1,0)+IF($AM31<$AN31,1,0)+IF($AO31<$AP31,1,0)+IF($AQ31<$AR31,1,0)+IF($AS31<$AT31,1,0)+IF($AU31<$AV31,1,0)+IF($AW31<$AX31,1,0)+IF($AY31<$AZ31,1,0) -> 0 | H31: =+J31+L31+N31+P31+R31+T31+V31+X31+Z31+AB31+AE31+AG31+AI31+AK31+AM31+AO31+AQ31+AS31+AU31+AW31+AY31 -> 30 | I31: =+K31+M31+O31+Q31+S31+U31+W31+Y31+AA31+AC31+AF31+AH31+AJ31+AL31+AN31+AP31+AR31+AT31+AV31+AX31+AZ31 -> 12 | J31: 17 | K31: 5 | L31: 13 | M31: 7
B32: ANDREW | C32: LOWE | D32: =SUM(E32)*2+SUM(F32)+AD32 -> 2 | E32: =IF($J32>$K32,1,0)+IF($L32>$M32,1,0)+IF($N32>$O32,1,0)+IF($P32>$Q32,1,0)+IF($R32>$S32,1,0)+IF($T32>$U32,1,0)+IF($V32>$W32,1,0)+IF($X32>$Y32,1,0)+IF($Z32>$AA32,1,0)+IF($AB32>$AC32,1,0)+IF($AE32>$AF32,1,0)+IF($AG32>$AH32,1,0)+IF($AI32>$AJ32,1,0)+IF($AK32>$AL32,1,0)+IF($AM32>$AN32,1,0)+IF($AO32>$AP32,1,0)+IF($AQ32>$AR32,1,0)+IF($AS32>$AT32,1,0)+IF($AU32>$AV32,1,0)+IF($AW32>$AX32,1,0)+IF($AY32>$AZ32,1,0) -> 1 | F32: =SUM(IF(SUM(J32:K32)>0,SUM(+IF($J32=$K32,1,0),0)))+SUM(IF(SUM(L32:M32)>0,SUM(+IF($L32=$M32,1,0),0)))+SUM(IF(SUM(N32:O32)>0,SUM(+IF($N32=$O32,1,0),0)))+SUM(IF(SUM(P32:Q32)>0,SUM(+IF($P32=$Q32,1,0),0)))+SUM(IF(SUM(R32:S32)>0,SUM(+IF($R32=$S32,1,0),0)))+SUM(IF(SUM(T32:U32)>0,SUM(+IF($T32=$U32,1,0),0)))+SUM(IF(SUM(V32:W32)>0,SUM(+IF($V32=$W32,1,0),0)))+SUM(IF(SUM(X32:Y32)>0,SUM(+IF($X32=$Y32,1,0),0)))+SUM(IF(SUM(Z32:AA32)>0,SUM(+IF($Z32=$AA32,1,0),0)))+SUM(IF(SUM(AB32:AC32)>0,SUM(+IF($AB32=$AC32,1,0),0)))+SUM(IF(SUM(AE32:AF32)>0,SUM(+IF($AE32=$AF32,1,0),0)))+SUM(IF(SUM(AG32:AH32)>0,SUM(+IF($AG32=$AH32,1,0),0)))+SUM(IF(SUM(AI32:AJ32)>0,SUM(+IF($AI32=$AJ32,1,0),0)))+SUM(IF(SUM(AK32:AL32)>0,SUM(+IF($AK32=$AL32,1,0),0)))+SUM(IF(SUM(AM32:AN32)>0,SUM(+IF($AM32=$AN32,1,0),0)))+SUM(IF(SUM(AO32:AP32)>0,SUM(+IF($AO32=$AP32,1,0),0)))+SUM(IF(SUM(AQ32:AR32)>0,SUM(+IF($AQ32=$AR32,1,0),0)))+SUM(IF(SUM(AS32:AT32)>0,SUM(+IF($AS32=$AT32,1,0),0)))+SUM(IF(SUM(AU32:AV32)>0,SUM(+IF($AU32=$AV32,1,0),0)))+SUM(IF(SUM(AW32:AX32)>0,SUM(+IF($AW32=$AX32,1,0),0)))+SUM(IF(SUM(AY32:AZ32)>0,SUM(+IF($AY32=$AZ32,1,0),0))) -> 0 | G32: =IF($J32<$K32,1,0)+IF($L32<$M32,1,0)+IF($N32<$O32,1,0)+IF($P32<$Q32,1,0)+IF($R32<$S32,1,0)+IF($T32<$U32,1,0)+IF($V32<$W32,1,0)+IF($X32<$Y32,1,0)+IF($Z32<$AA32,1,0)+IF($AB32<$AC32,1,0)+IF($AE32<$AF32,1,0)+IF($AG32<$AH32,1,0)+IF($AI32<$AJ32,1,0)+IF($AK32<$AL32,1,0)+IF($AM32<$AN32,1,0)+IF($AO32<$AP32,1,0)+IF($AQ32<$AR32,1,0)+IF($AS32<$AT32,1,0)+IF($AU32<$AV32,1,0)+IF($AW32<$AX32,1,0)+IF($AY32<$AZ32,1,0) -> 0 | H32: =+J32+L32+N32+P32+R32+T32+V32+X32+Z32+AB32+AE32+AG32+AI32+AK32+AM32+AO32+AQ32+AS32+AU32+AW32+AY32 -> 17 | I32: =+K32+M32+O32+Q32+S32+U32+W32+Y32+AA32+AC32+AF32+AH32+AJ32+AL32+AN32+AP32+AR32+AT32+AV32+AX32+AZ32 -> 2 | J32: 17 | K32: 2
B33: PAUL | C33: NICHOLSON | D33: =SUM(E33)*2+SUM(F33)+AD33 -> 0 | E33: =IF($J33>$K33,1,0)+IF($L33>$M33,1,0)+IF($N33>$O33,1,0)+IF($P33>$Q33,1,0)+IF($R33>$S33,1,0)+IF($T33>$U33,1,0)+IF($V33>$W33,1,0)+IF($X33>$Y33,1,0)+IF($Z33>$AA33,1,0)+IF($AB33>$AC33,1,0)+IF($AE33>$AF33,1,0)+IF($AG33>$AH33,1,0)+IF($AI33>$AJ33,1,0)+IF($AK33>$AL33,1,0)+IF($AM33>$AN33,1,0)+IF($AO33>$AP33,1,0)+IF($AQ33>$AR33,1,0)+IF($AS33>$AT33,1,0)+IF($AU33>$AV33,1,0)+IF($AW33>$AX33,1,0)+IF($AY33>$AZ33,1,0) -> 0 | F33: =SUM(IF(SUM(J33:K33)>0,SUM(+IF($J33=$K33,1,0),0)))+SUM(IF(SUM(L33:M33)>0,SUM(+IF($L33=$M33,1,0),0)))+SUM(IF(SUM(N33:O33)>0,SUM(+IF($N33=$O33,1,0),0)))+SUM(IF(SUM(P33:Q33)>0,SUM(+IF($P33=$Q33,1,0),0)))+SUM(IF(SUM(R33:S33)>0,SUM(+IF($R33=$S33,1,0),0)))+SUM(IF(SUM(T33:U33)>0,SUM(+IF($T33=$U33,1,0),0)))+SUM(IF(SUM(V33:W33)>0,SUM(+IF($V33=$W33,1,0),0)))+SUM(IF(SUM(X33:Y33)>0,SUM(+IF($X33=$Y33,1,0),0)))+SUM(IF(SUM(Z33:AA33)>0,SUM(+IF($Z33=$AA33,1,0),0)))+SUM(IF(SUM(AB33:AC33)>0,SUM(+IF($AB33=$AC33,1,0),0)))+SUM(IF(SUM(AE33:AF33)>0,SUM(+IF($AE33=$AF33,1,0),0)))+SUM(IF(SUM(AG33:AH33)>0,SUM(+IF($AG33=$AH33,1,0),0)))+SUM(IF(SUM(AI33:AJ33)>0,SUM(+IF($AI33=$AJ33,1,0),0)))+SUM(IF(SUM(AK33:AL33)>0,SUM(+IF($AK33=$AL33,1,0),0)))+SUM(IF(SUM(AM33:AN33)>0,SUM(+IF($AM33=$AN33,1,0),0)))+SUM(IF(SUM(AO33:AP33)>0,SUM(+IF($AO33=$AP33,1,0),0)))+SUM(IF(SUM(AQ33:AR33)>0,SUM(+IF($AQ33=$AR33,1,0),0)))+SUM(IF(SUM(AS33:AT33)>0,SUM(+IF($AS33=$AT33,1,0),0)))+SUM(IF(SUM(AU33:AV33)>0,SUM(+IF($AU33=$AV33,1,0),0)))+SUM(IF(SUM(AW33:AX33)>0,SUM(+IF($AW33=$AX33,1,0),0)))+SUM(IF(SUM(AY33:AZ33)>0,SUM(+IF($AY33=$AZ33,1,0),0))) -> 0 | G33: =IF($J33<$K33,1,0)+IF($L33<$M33,1,0)+IF($N33<$O33,1,0)+IF($P33<$Q33,1,0)+IF($R33<$S33,1,0)+IF($T33<$U33,1,0)+IF($V33<$W33,1,0)+IF($X33<$Y33,1,0)+IF($Z33<$AA33,1,0)+IF($AB33<$AC33,1,0)+IF($AE33<$AF33,1,0)+IF($AG33<$AH33,1,0)+IF($AI33<$AJ33,1,0)+IF($AK33<$AL33,1,0)+IF($AM33<$AN33,1,0)+IF($AO33<$AP33,1,0)+IF($AQ33<$AR33,1,0)+IF($AS33<$AT33,1,0)+IF($AU33<$AV33,1,0)+IF($AW33<$AX33,1,0)+IF($AY33<$AZ33,1,0) -> 2 | H33: =+J33+L33+N33+P33+R33+T33+V33+X33+Z33+AB33+AE33+AG33+AI33+AK33+AM33+AO33+AQ33+AS33+AU33+AW33+AY33 -> 7 | I33: =+K33+M33+O33+Q33+S33+U33+W33+Y33+AA33+AC33+AF33+AH33+AJ33+AL33+AN33+AP33+AR33+AT33+AV33+AX33+AZ33 -> 36 | J33: 6 | K33: 13 | L33: 1 | M33: 23
B34: DEE | C34: O'HAGEN | D34: =SUM(E34)*2+SUM(F34)+AD34 -> 0 | E34: =IF($J34>$K34,1,0)+IF($L34>$M34,1,0)+IF($N34>$O34,1,0)+IF($P34>$Q34,1,0)+IF($R34>$S34,1,0)+IF($T34>$U34,1,0)+IF($V34>$W34,1,0)+IF($X34>$Y34,1,0)+IF($Z34>$AA34,1,0)+IF($AB34>$AC34,1,0)+IF($AE34>$AF34,1,0)+IF($AG34>$AH34,1,0)+IF($AI34>$AJ34,1,0)+IF($AK34>$AL34,1,0)+IF($AM34>$AN34,1,0)+IF($AO34>$AP34,1,0)+IF($AQ34>$AR34,1,0)+IF($AS34>$AT34,1,0)+IF($AU34>$AV34,1,0)+IF($AW34>$AX34,1,0)+IF($AY34>$AZ34,1,0) -> 0 | F34: =SUM(IF(SUM(J34:K34)>0,SUM(+IF($J34=$K34,1,0),0)))+SUM(IF(SUM(L34:M34)>0,SUM(+IF($L34=$M34,1,0),0)))+SUM(IF(SUM(N34:O34)>0,SUM(+IF($N34=$O34,1,0),0)))+SUM(IF(SUM(P34:Q34)>0,SUM(+IF($P34=$Q34,1,0),0)))+SUM(IF(SUM(R34:S34)>0,SUM(+IF($R34=$S34,1,0),0)))+SUM(IF(SUM(T34:U34)>0,SUM(+IF($T34=$U34,1,0),0)))+SUM(IF(SUM(V34:W34)>0,SUM(+IF($V34=$W34,1,0),0)))+SUM(IF(SUM(X34:Y34)>0,SUM(+IF($X34=$Y34,1,0),0)))+SUM(IF(SUM(Z34:AA34)>0,SUM(+IF($Z34=$AA34,1,0),0)))+SUM(IF(SUM(AB34:AC34)>0,SUM(+IF($AB34=$AC34,1,0),0)))+SUM(IF(SUM(AE34:AF34)>0,SUM(+IF($AE34=$AF34,1,0),0)))+SUM(IF(SUM(AG34:AH34)>0,SUM(+IF($AG34=$AH34,1,0),0)))+SUM(IF(SUM(AI34:AJ34)>0,SUM(+IF($AI34=$AJ34,1,0),0)))+SUM(IF(SUM(AK34:AL34)>0,SUM(+IF($AK34=$AL34,1,0),0)))+SUM(IF(SUM(AM34:AN34)>0,SUM(+IF($AM34=$AN34,1,0),0)))+SUM(IF(SUM(AO34:AP34)>0,SUM(+IF($AO34=$AP34,1,0),0)))+SUM(IF(SUM(AQ34:AR34)>0,SUM(+IF($AQ34=$AR34,1,0),0)))+SUM(IF(SUM(AS34:AT34)>0,SUM(+IF($AS34=$AT34,1,0),0)))+SUM(IF(SUM(AU34:AV34)>0,SUM(+IF($AU34=$AV34,1,0),0)))+SUM(IF(SUM(AW34:AX34)>0,SUM(+IF($AW34=$AX34,1,0),0)))+SUM(IF(SUM(AY34:AZ34)>0,SUM(+IF($AY34=$AZ34,1,0),0))) -> 0 | G34: =IF($J34<$K34,1,0)+IF($L34<$M34,1,0)+IF($N34<$O34,1,0)+IF($P34<$Q34,1,0)+IF($R34<$S34,1,0)+IF($T34<$U34,1,0)+IF($V34<$W34,1,0)+IF($X34<$Y34,1,0)+IF($Z34<$AA34,1,0)+IF($AB34<$AC34,1,0)+IF($AE34<$AF34,1,0)+IF($AG34<$AH34,1,0)+IF($AI34<$AJ34,1,0)+IF($AK34<$AL34,1,0)+IF($AM34<$AN34,1,0)+IF($AO34<$AP34,1,0)+IF($AQ34<$AR34,1,0)+IF($AS34<$AT34,1,0)+IF($AU34<$AV34,1,0)+IF($AW34<$AX34,1,0)+IF($AY34<$AZ34,1,0) -> 1 | H34: =+J34+L34+N34+P34+R34+T34+V34+X34+Z34+AB34+AE34+AG34+AI34+AK34+AM34+AO34+AQ34+AS34+AU34+AW34+AY34 -> 6 | I34: =+K34+M34+O34+Q34+S34+U34+W34+Y34+AA34+AC34+AF34+AH34+AJ34+AL34+AN34+AP34+AR34+AT34+AV34+AX34+AZ34 -> 19 | L34: 6 | M34: 19
B35: ROB | C35: POOLE | D35: =SUM(E35)*2+SUM(F35)+AD35 -> 1 | E35: =IF($J35>$K35,1,0)+IF($L35>$M35,1,0)+IF($N35>$O35,1,0)+IF($P35>$Q35,1,0)+IF($R35>$S35,1,0)+IF($T35>$U35,1,0)+IF($V35>$W35,1,0)+IF($X35>$Y35,1,0)+IF($Z35>$AA35,1,0)+IF($AB35>$AC35,1,0)+IF($AE35>$AF35,1,0)+IF($AG35>$AH35,1,0)+IF($AI35>$AJ35,1,0)+IF($AK35>$AL35,1,0)+IF($AM35>$AN35,1,0)+IF($AO35>$AP35,1,0)+IF($AQ35>$AR35,1,0)+IF($AS35>$AT35,1,0)+IF($AU35>$AV35,1,0)+IF($AW35>$AX35,1,0)+IF($AY35>$AZ35,1,0) -> 0 | F35: =SUM(IF(SUM(J35:K35)>0,SUM(+IF($J35=$K35,1,0),0)))+SUM(IF(SUM(L35:M35)>0,SUM(+IF($L35=$M35,1,0),0)))+SUM(IF(SUM(N35:O35)>0,SUM(+IF($N35=$O35,1,0),0)))+SUM(IF(SUM(P35:Q35)>0,SUM(+IF($P35=$Q35,1,0),0)))+SUM(IF(SUM(R35:S35)>0,SUM(+IF($R35=$S35,1,0),0)))+SUM(IF(SUM(T35:U35)>0,SUM(+IF($T35=$U35,1,0),0)))+SUM(IF(SUM(V35:W35)>0,SUM(+IF($V35=$W35,1,0),0)))+SUM(IF(SUM(X35:Y35)>0,SUM(+IF($X35=$Y35,1,0),0)))+SUM(IF(SUM(Z35:AA35)>0,SUM(+IF($Z35=$AA35,1,0),0)))+SUM(IF(SUM(AB35:AC35)>0,SUM(+IF($AB35=$AC35,1,0),0)))+SUM(IF(SUM(AE35:AF35)>0,SUM(+IF($AE35=$AF35,1,0),0)))+SUM(IF(SUM(AG35:AH35)>0,SUM(+IF($AG35=$AH35,1,0),0)))+SUM(IF(SUM(AI35:AJ35)>0,SUM(+IF($AI35=$AJ35,1,0),0)))+SUM(IF(SUM(AK35:AL35)>0,SUM(+IF($AK35=$AL35,1,0),0)))+SUM(IF(SUM(AM35:AN35)>0,SUM(+IF($AM35=$AN35,1,0),0)))+SUM(IF(SUM(AO35:AP35)>0,SUM(+IF($AO35=$AP35,1,0),0)))+SUM(IF(SUM(AQ35:AR35)>0,SUM(+IF($AQ35=$AR35,1,0),0)))+SUM(IF(SUM(AS35:AT35)>0,SUM(+IF($AS35=$AT35,1,0),0)))+SUM(IF(SUM(AU35:AV35)>0,SUM(+IF($AU35=$AV35,1,0),0)))+SUM(IF(SUM(AW35:AX35)>0,SUM(+IF($AW35=$AX35,1,0),0)))+SUM(IF(SUM(AY35:AZ35)>0,SUM(+IF($AY35=$AZ35,1,0),0))) -> 1 | G35: =IF($J35<$K35,1,0)+IF($L35<$M35,1,0)+IF($N35<$O35,1,0)+IF($P35<$Q35,1,0)+IF($R35<$S35,1,0)+IF($T35<$U35,1,0)+IF($V35<$W35,1,0)+IF($X35<$Y35,1,0)+IF($Z35<$AA35,1,0)+IF($AB35<$AC35,1,0)+IF($AE35<$AF35,1,0)+IF($AG35<$AH35,1,0)+IF($AI35<$AJ35,1,0)+IF($AK35<$AL35,1,0)+IF($AM35<$AN35,1,0)+IF($AO35<$AP35,1,0)+IF($AQ35<$AR35,1,0)+IF($AS35<$AT35,1,0)+IF($AU35<$AV35,1,0)+IF($AW35<$AX35,1,0)+IF($AY35<$AZ35,1,0) -> 1 | H35: =+J35+L35+N35+P35+R35+T35+V35+X35+Z35+AB35+AE35+AG35+AI35+AK35+AM35+AO35+AQ35+AS35+AU35+AW35+AY35 -> 15 | I35: =+K35+M35+O35+Q35+S35+U35+W35+Y35+AA35+AC35+AF35+AH35+AJ35+AL35+AN35+AP35+AR35+AT35+AV35+AX35+AZ35 -> 22 | J35: 6 | K35: 13 | L35: 9 | M35: 9
B36: JACKIE | C36: REED | D36: =SUM(E36)*2+SUM(F36)+AD36 -> 0 | E36: =IF($J36>$K36,1,0)+IF($L36>$M36,1,0)+IF($N36>$O36,1,0)+IF($P36>$Q36,1,0)+IF($R36>$S36,1,0)+IF($T36>$U36,1,0)+IF($V36>$W36,1,0)+IF($X36>$Y36,1,0)+IF($Z36>$AA36,1,0)+IF($AB36>$AC36,1,0)+IF($AE36>$AF36,1,0)+IF($AG36>$AH36,1,0)+IF($AI36>$AJ36,1,0)+IF($AK36>$AL36,1,0)+IF($AM36>$AN36,1,0)+IF($AO36>$AP36,1,0)+IF($AQ36>$AR36,1,0)+IF($AS36>$AT36,1,0)+IF($AU36>$AV36,1,0)+IF($AW36>$AX36,1,0)+IF($AY36>$AZ36,1,0) -> 0 | F36: =SUM(IF(SUM(J36:K36)>0,SUM(+IF($J36=$K36,1,0),0)))+SUM(IF(SUM(L36:M36)>0,SUM(+IF($L36=$M36,1,0),0)))+SUM(IF(SUM(N36:O36)>0,SUM(+IF($N36=$O36,1,0),0)))+SUM(IF(SUM(P36:Q36)>0,SUM(+IF($P36=$Q36,1,0),0)))+SUM(IF(SUM(R36:S36)>0,SUM(+IF($R36=$S36,1,0),0)))+SUM(IF(SUM(T36:U36)>0,SUM(+IF($T36=$U36,1,0),0)))+SUM(IF(SUM(V36:W36)>0,SUM(+IF($V36=$W36,1,0),0)))+SUM(IF(SUM(X36:Y36)>0,SUM(+IF($X36=$Y36,1,0),0)))+SUM(IF(SUM(Z36:AA36)>0,SUM(+IF($Z36=$AA36,1,0),0)))+SUM(IF(SUM(AB36:AC36)>0,SUM(+IF($AB36=$AC36,1,0),0)))+SUM(IF(SUM(AE36:AF36)>0,SUM(+IF($AE36=$AF36,1,0),0)))+SUM(IF(SUM(AG36:AH36)>0,SUM(+IF($AG36=$AH36,1,0),0)))+SUM(IF(SUM(AI36:AJ36)>0,SUM(+IF($AI36=$AJ36,1,0),0)))+SUM(IF(SUM(AK36:AL36)>0,SUM(+IF($AK36=$AL36,1,0),0)))+SUM(IF(SUM(AM36:AN36)>0,SUM(+IF($AM36=$AN36,1,0),0)))+SUM(IF(SUM(AO36:AP36)>0,SUM(+IF($AO36=$AP36,1,0),0)))+SUM(IF(SUM(AQ36:AR36)>0,SUM(+IF($AQ36=$AR36,1,0),0)))+SUM(IF(SUM(AS36:AT36)>0,SUM(+IF($AS36=$AT36,1,0),0)))+SUM(IF(SUM(AU36:AV36)>0,SUM(+IF($AU36=$AV36,1,0),0)))+SUM(IF(SUM(AW36:AX36)>0,SUM(+IF($AW36=$AX36,1,0),0)))+SUM(IF(SUM(AY36:AZ36)>0,SUM(+IF($AY36=$AZ36,1,0),0))) -> 0 | G36: =IF($J36<$K36,1,0)+IF($L36<$M36,1,0)+IF($N36<$O36,1,0)+IF($P36<$Q36,1,0)+IF($R36<$S36,1,0)+IF($T36<$U36,1,0)+IF($V36<$W36,1,0)+IF($X36<$Y36,1,0)+IF($Z36<$AA36,1,0)+IF($AB36<$AC36,1,0)+IF($AE36<$AF36,1,0)+IF($AG36<$AH36,1,0)+IF($AI36<$AJ36,1,0)+IF($AK36<$AL36,1,0)+IF($AM36<$AN36,1,0)+IF($AO36<$AP36,1,0)+IF($AQ36<$AR36,1,0)+IF($AS36<$AT36,1,0)+IF($AU36<$AV36,1,0)+IF($AW36<$AX36,1,0)+IF($AY36<$AZ36,1,0) -> 1 | H36: =+J36+L36+N36+P36+R36+T36+V36+X36+Z36+AB36+AE36+AG36+AI36+AK36+AM36+AO36+AQ36+AS36+AU36+AW36+AY36 -> 7 | I36: =+K36+M36+O36+Q36+S36+U36+W36+Y36+AA36+AC36+AF36+AH36+AJ36+AL36+AN36+AP36+AR36+AT36+AV36+AX36+AZ36 -> 13 | L36: 7 | M36: 13
B37: MARTYN | C37: ROWE | D37: =SUM(E37)*2+SUM(F37)+AD37 -> 2 | E37: =IF($J37>$K37,1,0)+IF($L37>$M37,1,0)+IF($N37>$O37,1,0)+IF($P37>$Q37,1,0)+IF($R37>$S37,1,0)+IF($T37>$U37,1,0)+IF($V37>$W37,1,0)+IF($X37>$Y37,1,0)+IF($Z37>$AA37,1,0)+IF($AB37>$AC37,1,0)+IF($AE37>$AF37,1,0)+IF($AG37>$AH37,1,0)+IF($AI37>$AJ37,1,0)+IF($AK37>$AL37,1,0)+IF($AM37>$AN37,1,0)+IF($AO37>$AP37,1,0)+IF($AQ37>$AR37,1,0)+IF($AS37>$AT37,1,0)+IF($AU37>$AV37,1,0)+IF($AW37>$AX37,1,0)+IF($AY37>$AZ37,1,0) -> 1 | F37: =SUM(IF(SUM(J37:K37)>0,SUM(+IF($J37=$K37,1,0),0)))+SUM(IF(SUM(L37:M37)>0,SUM(+IF($L37=$M37,1,0),0)))+SUM(IF(SUM(N37:O37)>0,SUM(+IF($N37=$O37,1,0),0)))+SUM(IF(SUM(P37:Q37)>0,SUM(+IF($P37=$Q37,1,0),0)))+SUM(IF(SUM(R37:S37)>0,SUM(+IF($R37=$S37,1,0),0)))+SUM(IF(SUM(T37:U37)>0,SUM(+IF($T37=$U37,1,0),0)))+SUM(IF(SUM(V37:W37)>0,SUM(+IF($V37=$W37,1,0),0)))+SUM(IF(SUM(X37:Y37)>0,SUM(+IF($X37=$Y37,1,0),0)))+SUM(IF(SUM(Z37:AA37)>0,SUM(+IF($Z37=$AA37,1,0),0)))+SUM(IF(SUM(AB37:AC37)>0,SUM(+IF($AB37=$AC37,1,0),0)))+SUM(IF(SUM(AE37:AF37)>0,SUM(+IF($AE37=$AF37,1,0),0)))+SUM(IF(SUM(AG37:AH37)>0,SUM(+IF($AG37=$AH37,1,0),0)))+SUM(IF(SUM(AI37:AJ37)>0,SUM(+IF($AI37=$AJ37,1,0),0)))+SUM(IF(SUM(AK37:AL37)>0,SUM(+IF($AK37=$AL37,1,0),0)))+SUM(IF(SUM(AM37:AN37)>0,SUM(+IF($AM37=$AN37,1,0),0)))+SUM(IF(SUM(AO37:AP37)>0,SUM(+IF($AO37=$AP37,1,0),0)))+SUM(IF(SUM(AQ37:AR37)>0,SUM(+IF($AQ37=$AR37,1,0),0)))+SUM(IF(SUM(AS37:AT37)>0,SUM(+IF($AS37=$AT37,1,0),0)))+SUM(IF(SUM(AU37:AV37)>0,SUM(+IF($AU37=$AV37,1,0),0)))+SUM(IF(SUM(AW37:AX37)>0,SUM(+IF($AW37=$AX37,1,0),0)))+SUM(IF(SUM(AY37:AZ37)>0,SUM(+IF($AY37=$AZ37,1,0),0))) -> 0 | G37: =IF($J37<$K37,1,0)+IF($L37<$M37,1,0)+IF($N37<$O37,1,0)+IF($P37<$Q37,1,0)+IF($R37<$S37,1,0)+IF($T37<$U37,1,0)+IF($V37<$W37,1,0)+IF($X37<$Y37,1,0)+IF($Z37<$AA37,1,0)+IF($AB37<$AC37,1,0)+IF($AE37<$AF37,1,0)+IF($AG37<$AH37,1,0)+IF($AI37<$AJ37,1,0)+IF($AK37<$AL37,1,0)+IF($AM37<$AN37,1,0)+IF($AO37<$AP37,1,0)+IF($AQ37<$AR37,1,0)+IF($AS37<$AT37,1,0)+IF($AU37<$AV37,1,0)+IF($AW37<$AX37,1,0)+IF($AY37<$AZ37,1,0) -> 0 | H37: =+J37+L37+N37+P37+R37+T37+V37+X37+Z37+AB37+AE37+AG37+AI37+AK37+AM37+AO37+AQ37+AS37+AU37+AW37+AY37 -> 13 | I37: =+K37+M37+O37+Q37+S37+U37+W37+Y37+AA37+AC37+AF37+AH37+AJ37+AL37+AN37+AP37+AR37+AT37+AV37+AX37+AZ37 -> 6 | J37: 13 | K37: 6
B38: ADRIAN | C38: SCOTT | D38: =SUM(E38)*2+SUM(F38)+AD38 -> 2 | E38: =IF($J38>$K38,1,0)+IF($L38>$M38,1,0)+IF($N38>$O38,1,0)+IF($P38>$Q38,1,0)+IF($R38>$S38,1,0)+IF($T38>$U38,1,0)+IF($V38>$W38,1,0)+IF($X38>$Y38,1,0)+IF($Z38>$AA38,1,0)+IF($AB38>$AC38,1,0)+IF($AE38>$AF38,1,0)+IF($AG38>$AH38,1,0)+IF($AI38>$AJ38,1,0)+IF($AK38>$AL38,1,0)+IF($AM38>$AN38,1,0)+IF($AO38>$AP38,1,0)+IF($AQ38>$AR38,1,0)+IF($AS38>$AT38,1,0)+IF($AU38>$AV38,1,0)+IF($AW38>$AX38,1,0)+IF($AY38>$AZ38,1,0) -> 1 | F38: =SUM(IF(SUM(J38:K38)>0,SUM(+IF($J38=$K38,1,0),0)))+SUM(IF(SUM(L38:M38)>0,SUM(+IF($L38=$M38,1,0),0)))+SUM(IF(SUM(N38:O38)>0,SUM(+IF($N38=$O38,1,0),0)))+SUM(IF(SUM(P38:Q38)>0,SUM(+IF($P38=$Q38,1,0),0)))+SUM(IF(SUM(R38:S38)>0,SUM(+IF($R38=$S38,1,0),0)))+SUM(IF(SUM(T38:U38)>0,SUM(+IF($T38=$U38,1,0),0)))+SUM(IF(SUM(V38:W38)>0,SUM(+IF($V38=$W38,1,0),0)))+SUM(IF(SUM(X38:Y38)>0,SUM(+IF($X38=$Y38,1,0),0)))+SUM(IF(SUM(Z38:AA38)>0,SUM(+IF($Z38=$AA38,1,0),0)))+SUM(IF(SUM(AB38:AC38)>0,SUM(+IF($AB38=$AC38,1,0),0)))+SUM(IF(SUM(AE38:AF38)>0,SUM(+IF($AE38=$AF38,1,0),0)))+SUM(IF(SUM(AG38:AH38)>0,SUM(+IF($AG38=$AH38,1,0),0)))+SUM(IF(SUM(AI38:AJ38)>0,SUM(+IF($AI38=$AJ38,1,0),0)))+SUM(IF(SUM(AK38:AL38)>0,SUM(+IF($AK38=$AL38,1,0),0)))+SUM(IF(SUM(AM38:AN38)>0,SUM(+IF($AM38=$AN38,1,0),0)))+SUM(IF(SUM(AO38:AP38)>0,SUM(+IF($AO38=$AP38,1,0),0)))+SUM(IF(SUM(AQ38:AR38)>0,SUM(+IF($AQ38=$AR38,1,0),0)))+SUM(IF(SUM(AS38:AT38)>0,SUM(+IF($AS38=$AT38,1,0),0)))+SUM(IF(SUM(AU38:AV38)>0,SUM(+IF($AU38=$AV38,1,0),0)))+SUM(IF(SUM(AW38:AX38)>0,SUM(+IF($AW38=$AX38,1,0),0)))+SUM(IF(SUM(AY38:AZ38)>0,SUM(+IF($AY38=$AZ38,1,0),0))) -> 0 | G38: =IF($J38<$K38,1,0)+IF($L38<$M38,1,0)+IF($N38<$O38,1,0)+IF($P38<$Q38,1,0)+IF($R38<$S38,1,0)+IF($T38<$U38,1,0)+IF($V38<$W38,1,0)+IF($X38<$Y38,1,0)+IF($Z38<$AA38,1,0)+IF($AB38<$AC38,1,0)+IF($AE38<$AF38,1,0)+IF($AG38<$AH38,1,0)+IF($AI38<$AJ38,1,0)+IF($AK38<$AL38,1,0)+IF($AM38<$AN38,1,0)+IF($AO38<$AP38,1,0)+IF($AQ38<$AR38,1,0)+IF($AS38<$AT38,1,0)+IF($AU38<$AV38,1,0)+IF($AW38<$AX38,1,0)+IF($AY38<$AZ38,1,0) -> 0 | H38: =+J38+L38+N38+P38+R38+T38+V38+X38+Z38+AB38+AE38+AG38+AI38+AK38+AM38+AO38+AQ38+AS38+AU38+AW38+AY38 -> 13 | I38: =+K38+M38+O38+Q38+S38+U38+W38+Y38+AA38+AC38+AF38+AH38+AJ38+AL38+AN38+AP38+AR38+AT38+AV38+AX38+AZ38 -> 6 | J38: 13 | K38: 6
B39: LIZ | C39: SCOTT | D39: =SUM(E39)*2+SUM(F39)+AD39 -> 4 | E39: =IF($J39>$K39,1,0)+IF($L39>$M39,1,0)+IF($N39>$O39,1,0)+IF($P39>$Q39,1,0)+IF($R39>$S39,1,0)+IF($T39>$U39,1,0)+IF($V39>$W39,1,0)+IF($X39>$Y39,1,0)+IF($Z39>$AA39,1,0)+IF($AB39>$AC39,1,0)+IF($AE39>$AF39,1,0)+IF($AG39>$AH39,1,0)+IF($AI39>$AJ39,1,0)+IF($AK39>$AL39,1,0)+IF($AM39>$AN39,1,0)+IF($AO39>$AP39,1,0)+IF($AQ39>$AR39,1,0)+IF($AS39>$AT39,1,0)+IF($AU39>$AV39,1,0)+IF($AW39>$AX39,1,0)+IF($AY39>$AZ39,1,0) -> 2 | F39: =SUM(IF(SUM(J39:K39)>0,SUM(+IF($J39=$K39,1,0),0)))+SUM(IF(SUM(L39:M39)>0,SUM(+IF($L39=$M39,1,0),0)))+SUM(IF(SUM(N39:O39)>0,SUM(+IF($N39=$O39,1,0),0)))+SUM(IF(SUM(P39:Q39)>0,SUM(+IF($P39=$Q39,1,0),0)))+SUM(IF(SUM(R39:S39)>0,SUM(+IF($R39=$S39,1,0),0)))+SUM(IF(SUM(T39:U39)>0,SUM(+IF($T39=$U39,1,0),0)))+SUM(IF(SUM(V39:W39)>0,SUM(+IF($V39=$W39,1,0),0)))+SUM(IF(SUM(X39:Y39)>0,SUM(+IF($X39=$Y39,1,0),0)))+SUM(IF(SUM(Z39:AA39)>0,SUM(+IF($Z39=$AA39,1,0),0)))+SUM(IF(SUM(AB39:AC39)>0,SUM(+IF($AB39=$AC39,1,0),0)))+SUM(IF(SUM(AE39:AF39)>0,SUM(+IF($AE39=$AF39,1,0),0)))+SUM(IF(SUM(AG39:AH39)>0,SUM(+IF($AG39=$AH39,1,0),0)))+SUM(IF(SUM(AI39:AJ39)>0,SUM(+IF($AI39=$AJ39,1,0),0)))+SUM(IF(SUM(AK39:AL39)>0,SUM(+IF($AK39=$AL39,1,0),0)))+SUM(IF(SUM(AM39:AN39)>0,SUM(+IF($AM39=$AN39,1,0),0)))+SUM(IF(SUM(AO39:AP39)>0,SUM(+IF($AO39=$AP39,1,0),0)))+SUM(IF(SUM(AQ39:AR39)>0,SUM(+IF($AQ39=$AR39,1,0),0)))+SUM(IF(SUM(AS39:AT39)>0,SUM(+IF($AS39=$AT39,1,0),0)))+SUM(IF(SUM(AU39:AV39)>0,SUM(+IF($AU39=$AV39,1,0),0)))+SUM(IF(SUM(AW39:AX39)>0,SUM(+IF($AW39=$AX39,1,0),0)))+SUM(IF(SUM(AY39:AZ39)>0,SUM(+IF($AY39=$AZ39,1,0),0))) -> 0 | G39: =IF($J39<$K39,1,0)+IF($L39<$M39,1,0)+IF($N39<$O39,1,0)+IF($P39<$Q39,1,0)+IF($R39<$S39,1,0)+IF($T39<$U39,1,0)+IF($V39<$W39,1,0)+IF($X39<$Y39,1,0)+IF($Z39<$AA39,1,0)+IF($AB39<$AC39,1,0)+IF($AE39<$AF39,1,0)+IF($AG39<$AH39,1,0)+IF($AI39<$AJ39,1,0)+IF($AK39<$AL39,1,0)+IF($AM39<$AN39,1,0)+IF($AO39<$AP39,1,0)+IF($AQ39<$AR39,1,0)+IF($AS39<$AT39,1,0)+IF($AU39<$AV39,1,0)+IF($AW39<$AX39,1,0)+IF($AY39<$AZ39,1,0) -> 0 | H39: =+J39+L39+N39+P39+R39+T39+V39+X39+Z39+AB39+AE39+AG39+AI39+AK39+AM39+AO39+AQ39+AS39+AU39+AW39+AY39 -> 33 | I39: =+K39+M39+O39+Q39+S39+U39+W39+Y39+AA39+AC39+AF39+AH39+AJ39+AL39+AN39+AP39+AR39+AT39+AV39+AX39+AZ39 -> 10 | J39: 10 | K39: 9 | L39: 23 | M39: 1
B40: LES | C40: SCRIMSHAW | D40: =SUM(E40)*2+SUM(F40)+AD40 -> 4 | E40: =IF($J40>$K40,1,0)+IF($L40>$M40,1,0)+IF($N40>$O40,1,0)+IF($P40>$Q40,1,0)+IF($R40>$S40,1,0)+IF($T40>$U40,1,0)+IF($V40>$W40,1,0)+IF($X40>$Y40,1,0)+IF($Z40>$AA40,1,0)+IF($AB40>$AC40,1,0)+IF($AE40>$AF40,1,0)+IF($AG40>$AH40,1,0)+IF($AI40>$AJ40,1,0)+IF($AK40>$AL40,1,0)+IF($AM40>$AN40,1,0)+IF($AO40>$AP40,1,0)+IF($AQ40>$AR40,1,0)+IF($AS40>$AT40,1,0)+IF($AU40>$AV40,1,0)+IF($AW40>$AX40,1,0)+IF($AY40>$AZ40,1,0) -> 2 | F40: =SUM(IF(SUM(J40:K40)>0,SUM(+IF($J40=$K40,1,0),0)))+SUM(IF(SUM(L40:M40)>0,SUM(+IF($L40=$M40,1,0),0)))+SUM(IF(SUM(N40:O40)>0,SUM(+IF($N40=$O40,1,0),0)))+SUM(IF(SUM(P40:Q40)>0,SUM(+IF($P40=$Q40,1,0),0)))+SUM(IF(SUM(R40:S40)>0,SUM(+IF($R40=$S40,1,0),0)))+SUM(IF(SUM(T40:U40)>0,SUM(+IF($T40=$U40,1,0),0)))+SUM(IF(SUM(V40:W40)>0,SUM(+IF($V40=$W40,1,0),0)))+SUM(IF(SUM(X40:Y40)>0,SUM(+IF($X40=$Y40,1,0),0)))+SUM(IF(SUM(Z40:AA40)>0,SUM(+IF($Z40=$AA40,1,0),0)))+SUM(IF(SUM(AB40:AC40)>0,SUM(+IF($AB40=$AC40,1,0),0)))+SUM(IF(SUM(AE40:AF40)>0,SUM(+IF($AE40=$AF40,1,0),0)))+SUM(IF(SUM(AG40:AH40)>0,SUM(+IF($AG40=$AH40,1,0),0)))+SUM(IF(SUM(AI40:AJ40)>0,SUM(+IF($AI40=$AJ40,1,0),0)))+SUM(IF(SUM(AK40:AL40)>0,SUM(+IF($AK40=$AL40,1,0),0)))+SUM(IF(SUM(AM40:AN40)>0,SUM(+IF($AM40=$AN40,1,0),0)))+SUM(IF(SUM(AO40:AP40)>0,SUM(+IF($AO40=$AP40,1,0),0)))+SUM(IF(SUM(AQ40:AR40)>0,SUM(+IF($AQ40=$AR40,1,0),0)))+SUM(IF(SUM(AS40:AT40)>0,SUM(+IF($AS40=$AT40,1,0),0)))+SUM(IF(SUM(AU40:AV40)>0,SUM(+IF($AU40=$AV40,1,0),0)))+SUM(IF(SUM(AW40:AX40)>0,SUM(+IF($AW40=$AX40,1,0),0)))+SUM(IF(SUM(AY40:AZ40)>0,SUM(+IF($AY40=$AZ40,1,0),0))) -> 0 | G40: =IF($J40<$K40,1,0)+IF($L40<$M40,1,0)+IF($N40<$O40,1,0)+IF($P40<$Q40,1,0)+IF($R40<$S40,1,0)+IF($T40<$U40,1,0)+IF($V40<$W40,1,0)+IF($X40<$Y40,1,0)+IF($Z40<$AA40,1,0)+IF($AB40<$AC40,1,0)+IF($AE40<$AF40,1,0)+IF($AG40<$AH40,1,0)+IF($AI40<$AJ40,1,0)+IF($AK40<$AL40,1,0)+IF($AM40<$AN40,1,0)+IF($AO40<$AP40,1,0)+IF($AQ40<$AR40,1,0)+IF($AS40<$AT40,1,0)+IF($AU40<$AV40,1,0)+IF($AW40<$AX40,1,0)+IF($AY40<$AZ40,1,0) -> 0 | H40: =+J40+L40+N40+P40+R40+T40+V40+X40+Z40+AB40+AE40+AG40+AI40+AK40+AM40+AO40+AQ40+AS40+AU40+AW40+AY40 -> 30 | I40: =+K40+M40+O40+Q40+S40+U40+W40+Y40+AA40+AC40+AF40+AH40+AJ40+AL40+AN40+AP40+AR40+AT40+AV40+AX40+AZ40 -> 12 | J40: 17 | K40: 5 | L40: 13 | M40: 7
B41: JANE | C41: SPEECHLEY | D41: =SUM(E41)*2+SUM(F41)+AD41 -> 0 | E41: =IF($J41>$K41,1,0)+IF($L41>$M41,1,0)+IF($N41>$O41,1,0)+IF($P41>$Q41,1,0)+IF($R41>$S41,1,0)+IF($T41>$U41,1,0)+IF($V41>$W41,1,0)+IF($X41>$Y41,1,0)+IF($Z41>$AA41,1,0)+IF($AB41>$AC41,1,0)+IF($AE41>$AF41,1,0)+IF($AG41>$AH41,1,0)+IF($AI41>$AJ41,1,0)+IF($AK41>$AL41,1,0)+IF($AM41>$AN41,1,0)+IF($AO41>$AP41,1,0)+IF($AQ41>$AR41,1,0)+IF($AS41>$AT41,1,0)+IF($AU41>$AV41,1,0)+IF($AW41>$AX41,1,0)+IF($AY41>$AZ41,1,0) -> 0 | F41: =SUM(IF(SUM(J41:K41)>0,SUM(+IF($J41=$K41,1,0),0)))+SUM(IF(SUM(L41:M41)>0,SUM(+IF($L41=$M41,1,0),0)))+SUM(IF(SUM(N41:O41)>0,SUM(+IF($N41=$O41,1,0),0)))+SUM(IF(SUM(P41:Q41)>0,SUM(+IF($P41=$Q41,1,0),0)))+SUM(IF(SUM(R41:S41)>0,SUM(+IF($R41=$S41,1,0),0)))+SUM(IF(SUM(T41:U41)>0,SUM(+IF($T41=$U41,1,0),0)))+SUM(IF(SUM(V41:W41)>0,SUM(+IF($V41=$W41,1,0),0)))+SUM(IF(SUM(X41:Y41)>0,SUM(+IF($X41=$Y41,1,0),0)))+SUM(IF(SUM(Z41:AA41)>0,SUM(+IF($Z41=$AA41,1,0),0)))+SUM(IF(SUM(AB41:AC41)>0,SUM(+IF($AB41=$AC41,1,0),0)))+SUM(IF(SUM(AE41:AF41)>0,SUM(+IF($AE41=$AF41,1,0),0)))+SUM(IF(SUM(AG41:AH41)>0,SUM(+IF($AG41=$AH41,1,0),0)))+SUM(IF(SUM(AI41:AJ41)>0,SUM(+IF($AI41=$AJ41,1,0),0)))+SUM(IF(SUM(AK41:AL41)>0,SUM(+IF($AK41=$AL41,1,0),0)))+SUM(IF(SUM(AM41:AN41)>0,SUM(+IF($AM41=$AN41,1,0),0)))+SUM(IF(SUM(AO41:AP41)>0,SUM(+IF($AO41=$AP41,1,0),0)))+SUM(IF(SUM(AQ41:AR41)>0,SUM(+IF($AQ41=$AR41,1,0),0)))+SUM(IF(SUM(AS41:AT41)>0,SUM(+IF($AS41=$AT41,1,0),0)))+SUM(IF(SUM(AU41:AV41)>0,SUM(+IF($AU41=$AV41,1,0),0)))+SUM(IF(SUM(AW41:AX41)>0,SUM(+IF($AW41=$AX41,1,0),0)))+SUM(IF(SUM(AY41:AZ41)>0,SUM(+IF($AY41=$AZ41,1,0),0))) -> 0 | G41: =IF($J41<$K41,1,0)+IF($L41<$M41,1,0)+IF($N41<$O41,1,0)+IF($P41<$Q41,1,0)+IF($R41<$S41,1,0)+IF($T41<$U41,1,0)+IF($V41<$W41,1,0)+IF($X41<$Y41,1,0)+IF($Z41<$AA41,1,0)+IF($AB41<$AC41,1,0)+IF($AE41<$AF41,1,0)+IF($AG41<$AH41,1,0)+IF($AI41<$AJ41,1,0)+IF($AK41<$AL41,1,0)+IF($AM41<$AN41,1,0)+IF($AO41<$AP41,1,0)+IF($AQ41<$AR41,1,0)+IF($AS41<$AT41,1,0)+IF($AU41<$AV41,1,0)+IF($AW41<$AX41,1,0)+IF($AY41<$AZ41,1,0) -> 2 | H41: =+J41+L41+N41+P41+R41+T41+V41+X41+Z41+AB41+AE41+AG41+AI41+AK41+AM41+AO41+AQ41+AS41+AU41+AW41+AY41 -> 16 | I41: =+K41+M41+O41+Q41+S41+U41+W41+Y41+AA41+AC41+AF41+AH41+AJ41+AL41+AN41+AP41+AR41+AT41+AV41+AX41+AZ41 -> 38 | J41: 10 | K41: 19 | L41: 6 | M41: 19
B42: TIM | C42: TAYLOR | D42: =SUM(E42)*2+SUM(F42)+AD42 -> 4 | E42: =IF($J42>$K42,1,0)+IF($L42>$M42,1,0)+IF($N42>$O42,1,0)+IF($P42>$Q42,1,0)+IF($R42>$S42,1,0)+IF($T42>$U42,1,0)+IF($V42>$W42,1,0)+IF($X42>$Y42,1,0)+IF($Z42>$AA42,1,0)+IF($AB42>$AC42,1,0)+IF($AE42>$AF42,1,0)+IF($AG42>$AH42,1,0)+IF($AI42>$AJ42,1,0)+IF($AK42>$AL42,1,0)+IF($AM42>$AN42,1,0)+IF($AO42>$AP42,1,0)+IF($AQ42>$AR42,1,0)+IF($AS42>$AT42,1,0)+IF($AU42>$AV42,1,0)+IF($AW42>$AX42,1,0)+IF($AY42>$AZ42,1,0) -> 2 | F42: =SUM(IF(SUM(J42:K42)>0,SUM(+IF($J42=$K42,1,0),0)))+SUM(IF(SUM(L42:M42)>0,SUM(+IF($L42=$M42,1,0),0)))+SUM(IF(SUM(N42:O42)>0,SUM(+IF($N42=$O42,1,0),0)))+SUM(IF(SUM(P42:Q42)>0,SUM(+IF($P42=$Q42,1,0),0)))+SUM(IF(SUM(R42:S42)>0,SUM(+IF($R42=$S42,1,0),0)))+SUM(IF(SUM(T42:U42)>0,SUM(+IF($T42=$U42,1,0),0)))+SUM(IF(SUM(V42:W42)>0,SUM(+IF($V42=$W42,1,0),0)))+SUM(IF(SUM(X42:Y42)>0,SUM(+IF($X42=$Y42,1,0),0)))+SUM(IF(SUM(Z42:AA42)>0,SUM(+IF($Z42=$AA42,1,0),0)))+SUM(IF(SUM(AB42:AC42)>0,SUM(+IF($AB42=$AC42,1,0),0)))+SUM(IF(SUM(AE42:AF42)>0,SUM(+IF($AE42=$AF42,1,0),0)))+SUM(IF(SUM(AG42:AH42)>0,SUM(+IF($AG42=$AH42,1,0),0)))+SUM(IF(SUM(AI42:AJ42)>0,SUM(+IF($AI42=$AJ42,1,0),0)))+SUM(IF(SUM(AK42:AL42)>0,SUM(+IF($AK42=$AL42,1,0),0)))+SUM(IF(SUM(AM42:AN42)>0,SUM(+IF($AM42=$AN42,1,0),0)))+SUM(IF(SUM(AO42:AP42)>0,SUM(+IF($AO42=$AP42,1,0),0)))+SUM(IF(SUM(AQ42:AR42)>0,SUM(+IF($AQ42=$AR42,1,0),0)))+SUM(IF(SUM(AS42:AT42)>0,SUM(+IF($AS42=$AT42,1,0),0)))+SUM(IF(SUM(AU42:AV42)>0,SUM(+IF($AU42=$AV42,1,0),0)))+SUM(IF(SUM(AW42:AX42)>0,SUM(+IF($AW42=$AX42,1,0),0)))+SUM(IF(SUM(AY42:AZ42)>0,SUM(+IF($AY42=$AZ42,1,0),0))) -> 0 | G42: =IF($J42<$K42,1,0)+IF($L42<$M42,1,0)+IF($N42<$O42,1,0)+IF($P42<$Q42,1,0)+IF($R42<$S42,1,0)+IF($T42<$U42,1,0)+IF($V42<$W42,1,0)+IF($X42<$Y42,1,0)+IF($Z42<$AA42,1,0)+IF($AB42<$AC42,1,0)+IF($AE42<$AF42,1,0)+IF($AG42<$AH42,1,0)+IF($AI42<$AJ42,1,0)+IF($AK42<$AL42,1,0)+IF($AM42<$AN42,1,0)+IF($AO42<$AP42,1,0)+IF($AQ42<$AR42,1,0)+IF($AS42<$AT42,1,0)+IF($AU42<$AV42,1,0)+IF($AW42<$AX42,1,0)+IF($AY42<$AZ42,1,0) -> 0 | H42: =+J42+L42+N42+P42+R42+T42+V42+X42+Z42+AB42+AE42+AG42+AI42+AK42+AM42+AO42+AQ42+AS42+AU42+AW42+AY42 -> 39 | I42: =+K42+M42+O42+Q42+S42+U42+W42+Y42+AA42+AC42+AF42+AH42+AJ42+AL42+AN42+AP42+AR42+AT42+AV42+AX42+AZ42 -> 15 | J42: 19 | K42: 10 | L42: 20 | M42: 5
B43: S | C43: TYSOE | D43: =SUM(E43)*2+SUM(F43)+AD43 -> 1 | E43: =IF($J43>$K43,1,0)+IF($L43>$M43,1,0)+IF($N43>$O43,1,0)+IF($P43>$Q43,1,0)+IF($R43>$S43,1,0)+IF($T43>$U43,1,0)+IF($V43>$W43,1,0)+IF($X43>$Y43,1,0)+IF($Z43>$AA43,1,0)+IF($AB43>$AC43,1,0)+IF($AE43>$AF43,1,0)+IF($AG43>$AH43,1,0)+IF($AI43>$AJ43,1,0)+IF($AK43>$AL43,1,0)+IF($AM43>$AN43,1,0)+IF($AO43>$AP43,1,0)+IF($AQ43>$AR43,1,0)+IF($AS43>$AT43,1,0)+IF($AU43>$AV43,1,0)+IF($AW43>$AX43,1,0)+IF($AY43>$AZ43,1,0) -> 0 | F43: =SUM(IF(SUM(J43:K43)>0,SUM(+IF($J43=$K43,1,0),0)))+SUM(IF(SUM(L43:M43)>0,SUM(+IF($L43=$M43,1,0),0)))+SUM(IF(SUM(N43:O43)>0,SUM(+IF($N43=$O43,1,0),0)))+SUM(IF(SUM(P43:Q43)>0,SUM(+IF($P43=$Q43,1,0),0)))+SUM(IF(SUM(R43:S43)>0,SUM(+IF($R43=$S43,1,0),0)))+SUM(IF(SUM(T43:U43)>0,SUM(+IF($T43=$U43,1,0),0)))+SUM(IF(SUM(V43:W43)>0,SUM(+IF($V43=$W43,1,0),0)))+SUM(IF(SUM(X43:Y43)>0,SUM(+IF($X43=$Y43,1,0),0)))+SUM(IF(SUM(Z43:AA43)>0,SUM(+IF($Z43=$AA43,1,0),0)))+SUM(IF(SUM(AB43:AC43)>0,SUM(+IF($AB43=$AC43,1,0),0)))+SUM(IF(SUM(AE43:AF43)>0,SUM(+IF($AE43=$AF43,1,0),0)))+SUM(IF(SUM(AG43:AH43)>0,SUM(+IF($AG43=$AH43,1,0),0)))+SUM(IF(SUM(AI43:AJ43)>0,SUM(+IF($AI43=$AJ43,1,0),0)))+SUM(IF(SUM(AK43:AL43)>0,SUM(+IF($AK43=$AL43,1,0),0)))+SUM(IF(SUM(AM43:AN43)>0,SUM(+IF($AM43=$AN43,1,0),0)))+SUM(IF(SUM(AO43:AP43)>0,SUM(+IF($AO43=$AP43,1,0),0)))+SUM(IF(SUM(AQ43:AR43)>0,SUM(+IF($AQ43=$AR43,1,0),0)))+SUM(IF(SUM(AS43:AT43)>0,SUM(+IF($AS43=$AT43,1,0),0)))+SUM(IF(SUM(AU43:AV43)>0,SUM(+IF($AU43=$AV43,1,0),0)))+SUM(IF(SUM(AW43:AX43)>0,SUM(+IF($AW43=$AX43,1,0),0)))+SUM(IF(SUM(AY43:AZ43)>0,SUM(+IF($AY43=$AZ43,1,0),0))) -> 1 | G43: =IF($J43<$K43,1,0)+IF($L43<$M43,1,0)+IF($N43<$O43,1,0)+IF($P43<$Q43,1,0)+IF($R43<$S43,1,0)+IF($T43<$U43,1,0)+IF($V43<$W43,1,0)+IF($X43<$Y43,1,0)+IF($Z43<$AA43,1,0)+IF($AB43<$AC43,1,0)+IF($AE43<$AF43,1,0)+IF($AG43<$AH43,1,0)+IF($AI43<$AJ43,1,0)+IF($AK43<$AL43,1,0)+IF($AM43<$AN43,1,0)+IF($AO43<$AP43,1,0)+IF($AQ43<$AR43,1,0)+IF($AS43<$AT43,1,0)+IF($AU43<$AV43,1,0)+IF($AW43<$AX43,1,0)+IF($AY43<$AZ43,1,0) -> 0 | H43: =+J43+L43+N43+P43+R43+T43+V43+X43+Z43+AB43+AE43+AG43+AI43+AK43+AM43+AO43+AQ43+AS43+AU43+AW43+AY43 -> 9 | I43: =+K43+M43+O43+Q43+S43+U43+W43+Y43+AA43+AC43+AF43+AH43+AJ43+AL43+AN43+AP43+AR43+AT43+AV43+AX43+AZ43 -> 9 | L43: 9 | M43: 9
B44: ANN | C44: WEAVERS | D44: =SUM(E44)*2+SUM(F44)+AD44 -> 2 | E44: =IF($J44>$K44,1,0)+IF($L44>$M44,1,0)+IF($N44>$O44,1,0)+IF($P44>$Q44,1,0)+IF($R44>$S44,1,0)+IF($T44>$U44,1,0)+IF($V44>$W44,1,0)+IF($X44>$Y44,1,0)+IF($Z44>$AA44,1,0)+IF($AB44>$AC44,1,0)+IF($AE44>$AF44,1,0)+IF($AG44>$AH44,1,0)+IF($AI44>$AJ44,1,0)+IF($AK44>$AL44,1,0)+IF($AM44>$AN44,1,0)+IF($AO44>$AP44,1,0)+IF($AQ44>$AR44,1,0)+IF($AS44>$AT44,1,0)+IF($AU44>$AV44,1,0)+IF($AW44>$AX44,1,0)+IF($AY44>$AZ44,1,0) -> 1 | F44: =SUM(IF(SUM(J44:K44)>0,SUM(+IF($J44=$K44,1,0),0)))+SUM(IF(SUM(L44:M44)>0,SUM(+IF($L44=$M44,1,0),0)))+SUM(IF(SUM(N44:O44)>0,SUM(+IF($N44=$O44,1,0),0)))+SUM(IF(SUM(P44:Q44)>0,SUM(+IF($P44=$Q44,1,0),0)))+SUM(IF(SUM(R44:S44)>0,SUM(+IF($R44=$S44,1,0),0)))+SUM(IF(SUM(T44:U44)>0,SUM(+IF($T44=$U44,1,0),0)))+SUM(IF(SUM(V44:W44)>0,SUM(+IF($V44=$W44,1,0),0)))+SUM(IF(SUM(X44:Y44)>0,SUM(+IF($X44=$Y44,1,0),0)))+SUM(IF(SUM(Z44:AA44)>0,SUM(+IF($Z44=$AA44,1,0),0)))+SUM(IF(SUM(AB44:AC44)>0,SUM(+IF($AB44=$AC44,1,0),0)))+SUM(IF(SUM(AE44:AF44)>0,SUM(+IF($AE44=$AF44,1,0),0)))+SUM(IF(SUM(AG44:AH44)>0,SUM(+IF($AG44=$AH44,1,0),0)))+SUM(IF(SUM(AI44:AJ44)>0,SUM(+IF($AI44=$AJ44,1,0),0)))+SUM(IF(SUM(AK44:AL44)>0,SUM(+IF($AK44=$AL44,1,0),0)))+SUM(IF(SUM(AM44:AN44)>0,SUM(+IF($AM44=$AN44,1,0),0)))+SUM(IF(SUM(AO44:AP44)>0,SUM(+IF($AO44=$AP44,1,0),0)))+SUM(IF(SUM(AQ44:AR44)>0,SUM(+IF($AQ44=$AR44,1,0),0)))+SUM(IF(SUM(AS44:AT44)>0,SUM(+IF($AS44=$AT44,1,0),0)))+SUM(IF(SUM(AU44:AV44)>0,SUM(+IF($AU44=$AV44,1,0),0)))+SUM(IF(SUM(AW44:AX44)>0,SUM(+IF($AW44=$AX44,1,0),0)))+SUM(IF(SUM(AY44:AZ44)>0,SUM(+IF($AY44=$AZ44,1,0),0))) -> 0 | G44: =IF($J44<$K44,1,0)+IF($L44<$M44,1,0)+IF($N44<$O44,1,0)+IF($P44<$Q44,1,0)+IF($R44<$S44,1,0)+IF($T44<$U44,1,0)+IF($V44<$W44,1,0)+IF($X44<$Y44,1,0)+IF($Z44<$AA44,1,0)+IF($AB44<$AC44,1,0)+IF($AE44<$AF44,1,0)+IF($AG44<$AH44,1,0)+IF($AI44<$AJ44,1,0)+IF($AK44<$AL44,1,0)+IF($AM44<$AN44,1,0)+IF($AO44<$AP44,1,0)+IF($AQ44<$AR44,1,0)+IF($AS44<$AT44,1,0)+IF($AU44<$AV44,1,0)+IF($AW44<$AX44,1,0)+IF($AY44<$AZ44,1,0) -> 1 | H44: =+J44+L44+N44+P44+R44+T44+V44+X44+Z44+AB44+AE44+AG44+AI44+AK44+AM44+AO44+AQ44+AS44+AU44+AW44+AY44 -> 24 | I44: =+K44+M44+O44+Q44+S44+U44+W44+Y44+AA44+AC44+AF44+AH44+AJ44+AL44+AN44+AP44+AR44+AT44+AV44+AX44+AZ44 -> 23 | J44: 5 | K44: 17 | L44: 19 | M44: 6
B45: ROGER | C45: WEAVERS | D45: =SUM(E45)*2+SUM(F45)+AD45 -> 1 | E45: =IF($J45>$K45,1,0)+IF($L45>$M45,1,0)+IF($N45>$O45,1,0)+IF($P45>$Q45,1,0)+IF($R45>$S45,1,0)+IF($T45>$U45,1,0)+IF($V45>$W45,1,0)+IF($X45>$Y45,1,0)+IF($Z45>$AA45,1,0)+IF($AB45>$AC45,1,0)+IF($AE45>$AF45,1,0)+IF($AG45>$AH45,1,0)+IF($AI45>$AJ45,1,0)+IF($AK45>$AL45,1,0)+IF($AM45>$AN45,1,0)+IF($AO45>$AP45,1,0)+IF($AQ45>$AR45,1,0)+IF($AS45>$AT45,1,0)+IF($AU45>$AV45,1,0)+IF($AW45>$AX45,1,0)+IF($AY45>$AZ45,1,0) -> 0 | F45: =SUM(IF(SUM(J45:K45)>0,SUM(+IF($J45=$K45,1,0),0)))+SUM(IF(SUM(L45:M45)>0,SUM(+IF($L45=$M45,1,0),0)))+SUM(IF(SUM(N45:O45)>0,SUM(+IF($N45=$O45,1,0),0)))+SUM(IF(SUM(P45:Q45)>0,SUM(+IF($P45=$Q45,1,0),0)))+SUM(IF(SUM(R45:S45)>0,SUM(+IF($R45=$S45,1,0),0)))+SUM(IF(SUM(T45:U45)>0,SUM(+IF($T45=$U45,1,0),0)))+SUM(IF(SUM(V45:W45)>0,SUM(+IF($V45=$W45,1,0),0)))+SUM(IF(SUM(X45:Y45)>0,SUM(+IF($X45=$Y45,1,0),0)))+SUM(IF(SUM(Z45:AA45)>0,SUM(+IF($Z45=$AA45,1,0),0)))+SUM(IF(SUM(AB45:AC45)>0,SUM(+IF($AB45=$AC45,1,0),0)))+SUM(IF(SUM(AE45:AF45)>0,SUM(+IF($AE45=$AF45,1,0),0)))+SUM(IF(SUM(AG45:AH45)>0,SUM(+IF($AG45=$AH45,1,0),0)))+SUM(IF(SUM(AI45:AJ45)>0,SUM(+IF($AI45=$AJ45,1,0),0)))+SUM(IF(SUM(AK45:AL45)>0,SUM(+IF($AK45=$AL45,1,0),0)))+SUM(IF(SUM(AM45:AN45)>0,SUM(+IF($AM45=$AN45,1,0),0)))+SUM(IF(SUM(AO45:AP45)>0,SUM(+IF($AO45=$AP45,1,0),0)))+SUM(IF(SUM(AQ45:AR45)>0,SUM(+IF($AQ45=$AR45,1,0),0)))+SUM(IF(SUM(AS45:AT45)>0,SUM(+IF($AS45=$AT45,1,0),0)))+SUM(IF(SUM(AU45:AV45)>0,SUM(+IF($AU45=$AV45,1,0),0)))+SUM(IF(SUM(AW45:AX45)>0,SUM(+IF($AW45=$AX45,1,0),0)))+SUM(IF(SUM(AY45:AZ45)>0,SUM(+IF($AY45=$AZ45,1,0),0))) -> 1 | G45: =IF($J45<$K45,1,0)+IF($L45<$M45,1,0)+IF($N45<$O45,1,0)+IF($P45<$Q45,1,0)+IF($R45<$S45,1,0)+IF($T45<$U45,1,0)+IF($V45<$W45,1,0)+IF($X45<$Y45,1,0)+IF($Z45<$AA45,1,0)+IF($AB45<$AC45,1,0)+IF($AE45<$AF45,1,0)+IF($AG45<$AH45,1,0)+IF($AI45<$AJ45,1,0)+IF($AK45<$AL45,1,0)+IF($AM45<$AN45,1,0)+IF($AO45<$AP45,1,0)+IF($AQ45<$AR45,1,0)+IF($AS45<$AT45,1,0)+IF($AU45<$AV45,1,0)+IF($AW45<$AX45,1,0)+IF($AY45<$AZ45,1,0) -> 1 | H45: =+J45+L45+N45+P45+R45+T45+V45+X45+Z45+AB45+AE45+AG45+AI45+AK45+AM45+AO45+AQ45+AS45+AU45+AW45+AY45 -> 11 | I45: =+K45+M45+O45+Q45+S45+U45+W45+Y45+AA45+AC45+AF45+AH45+AJ45+AL45+AN45+AP45+AR45+AT45+AV45+AX45+AZ45 -> 26 | J45: 2 | K45: 17 | L45: 9 | M45: 9
B46: PHIL | C46: WHITE | D46: =SUM(E46)*2+SUM(F46)+AD46 -> 0 | E46: =IF($J46>$K46,1,0)+IF($L46>$M46,1,0)+IF($N46>$O46,1,0)+IF($P46>$Q46,1,0)+IF($R46>$S46,1,0)+IF($T46>$U46,1,0)+IF($V46>$W46,1,0)+IF($X46>$Y46,1,0)+IF($Z46>$AA46,1,0)+IF($AB46>$AC46,1,0)+IF($AE46>$AF46,1,0)+IF($AG46>$AH46,1,0)+IF($AI46>$AJ46,1,0)+IF($AK46>$AL46,1,0)+IF($AM46>$AN46,1,0)+IF($AO46>$AP46,1,0)+IF($AQ46>$AR46,1,0)+IF($AS46>$AT46,1,0)+IF($AU46>$AV46,1,0)+IF($AW46>$AX46,1,0)+IF($AY46>$AZ46,1,0) -> 0 | F46: =SUM(IF(SUM(J46:K46)>0,SUM(+IF($J46=$K46,1,0),0)))+SUM(IF(SUM(L46:M46)>0,SUM(+IF($L46=$M46,1,0),0)))+SUM(IF(SUM(N46:O46)>0,SUM(+IF($N46=$O46,1,0),0)))+SUM(IF(SUM(P46:Q46)>0,SUM(+IF($P46=$Q46,1,0),0)))+SUM(IF(SUM(R46:S46)>0,SUM(+IF($R46=$S46,1,0),0)))+SUM(IF(SUM(T46:U46)>0,SUM(+IF($T46=$U46,1,0),0)))+SUM(IF(SUM(V46:W46)>0,SUM(+IF($V46=$W46,1,0),0)))+SUM(IF(SUM(X46:Y46)>0,SUM(+IF($X46=$Y46,1,0),0)))+SUM(IF(SUM(Z46:AA46)>0,SUM(+IF($Z46=$AA46,1,0),0)))+SUM(IF(SUM(AB46:AC46)>0,SUM(+IF($AB46=$AC46,1,0),0)))+SUM(IF(SUM(AE46:AF46)>0,SUM(+IF($AE46=$AF46,1,0),0)))+SUM(IF(SUM(AG46:AH46)>0,SUM(+IF($AG46=$AH46,1,0),0)))+SUM(IF(SUM(AI46:AJ46)>0,SUM(+IF($AI46=$AJ46,1,0),0)))+SUM(IF(SUM(AK46:AL46)>0,SUM(+IF($AK46=$AL46,1,0),0)))+SUM(IF(SUM(AM46:AN46)>0,SUM(+IF($AM46=$AN46,1,0),0)))+SUM(IF(SUM(AO46:AP46)>0,SUM(+IF($AO46=$AP46,1,0),0)))+SUM(IF(SUM(AQ46:AR46)>0,SUM(+IF($AQ46=$AR46,1,0),0)))+SUM(IF(SUM(AS46:AT46)>0,SUM(+IF($AS46=$AT46,1,0),0)))+SUM(IF(SUM(AU46:AV46)>0,SUM(+IF($AU46=$AV46,1,0),0)))+SUM(IF(SUM(AW46:AX46)>0,SUM(+IF($AW46=$AX46,1,0),0)))+SUM(IF(SUM(AY46:AZ46)>0,SUM(+IF($AY46=$AZ46,1,0),0))) -> 0 | G46: =IF($J46<$K46,1,0)+IF($L46<$M46,1,0)+IF($N46<$O46,1,0)+IF($P46<$Q46,1,0)+IF($R46<$S46,1,0)+IF($T46<$U46,1,0)+IF($V46<$W46,1,0)+IF($X46<$Y46,1,0)+IF($Z46<$AA46,1,0)+IF($AB46<$AC46,1,0)+IF($AE46<$AF46,1,0)+IF($AG46<$AH46,1,0)+IF($AI46<$AJ46,1,0)+IF($AK46<$AL46,1,0)+IF($AM46<$AN46,1,0)+IF($AO46<$AP46,1,0)+IF($AQ46<$AR46,1,0)+IF($AS46<$AT46,1,0)+IF($AU46<$AV46,1,0)+IF($AW46<$AX46,1,0)+IF($AY46<$AZ46,1,0) -> 1 | H46: =+J46+L46+N46+P46+R46+T46+V46+X46+Z46+AB46+AE46+AG46+AI46+AK46+AM46+AO46+AQ46+AS46+AU46+AW46+AY46 -> 10 | I46: =+K46+M46+O46+Q46+S46+U46+W46+Y46+AA46+AC46+AF46+AH46+AJ46+AL46+AN46+AP46+AR46+AT46+AV46+AX46+AZ46 -> 19 | J46: 10 | K46: 19
D47: =SUM(E47)*2+SUM(F47)+AD47 -> 0 | E47: =IF($J47>$K47,1,0)+IF($L47>$M47,1,0)+IF($N47>$O47,1,0)+IF($P47>$Q47,1,0)+IF($R47>$S47,1,0)+IF($T47>$U47,1,0)+IF($V47>$W47,1,0)+IF($X47>$Y47,1,0)+IF($Z47>$AA47,1,0)+IF($AB47>$AC47,1,0)+IF($AE47>$AF47,1,0)+IF($AG47>$AH47,1,0)+IF($AI47>$AJ47,1,0)+IF($AK47>$AL47,1,0)+IF($AM47>$AN47,1,0)+IF($AO47>$AP47,1,0)+IF($AQ47>$AR47,1,0)+IF($AS47>$AT47,1,0)+IF($AU47>$AV47,1,0)+IF($AW47>$AX47,1,0)+IF($AY47>$AZ47,1,0) -> 0 | F47: =SUM(IF(SUM(J47:K47)>0,SUM(+IF($J47=$K47,1,0),0)))+SUM(IF(SUM(L47:M47)>0,SUM(+IF($L47=$M47,1,0),0)))+SUM(IF(SUM(N47:O47)>0,SUM(+IF($N47=$O47,1,0),0)))+SUM(IF(SUM(P47:Q47)>0,SUM(+IF($P47=$Q47,1,0),0)))+SUM(IF(SUM(R47:S47)>0,SUM(+IF($R47=$S47,1,0),0)))+SUM(IF(SUM(T47:U47)>0,SUM(+IF($T47=$U47,1,0),0)))+SUM(IF(SUM(V47:W47)>0,SUM(+IF($V47=$W47,1,0),0)))+SUM(IF(SUM(X47:Y47)>0,SUM(+IF($X47=$Y47,1,0),0)))+SUM(IF(SUM(Z47:AA47)>0,SUM(+IF($Z47=$AA47,1,0),0)))+SUM(IF(SUM(AB47:AC47)>0,SUM(+IF($AB47=$AC47,1,0),0)))+SUM(IF(SUM(AE47:AF47)>0,SUM(+IF($AE47=$AF47,1,0),0)))+SUM(IF(SUM(AG47:AH47)>0,SUM(+IF($AG47=$AH47,1,0),0)))+SUM(IF(SUM(AI47:AJ47)>0,SUM(+IF($AI47=$AJ47,1,0),0)))+SUM(IF(SUM(AK47:AL47)>0,SUM(+IF($AK47=$AL47,1,0),0)))+SUM(IF(SUM(AM47:AN47)>0,SUM(+IF($AM47=$AN47,1,0),0)))+SUM(IF(SUM(AO47:AP47)>0,SUM(+IF($AO47=$AP47,1,0),0)))+SUM(IF(SUM(AQ47:AR47)>0,SUM(+IF($AQ47=$AR47,1,0),0)))+SUM(IF(SUM(AS47:AT47)>0,SUM(+IF($AS47=$AT47,1,0),0)))+SUM(IF(SUM(AU47:AV47)>0,SUM(+IF($AU47=$AV47,1,0),0)))+SUM(IF(SUM(AW47:AX47)>0,SUM(+IF($AW47=$AX47,1,0),0)))+SUM(IF(SUM(AY47:AZ47)>0,SUM(+IF($AY47=$AZ47,1,0),0))) -> 0 | G47: =IF($J47<$K47,1,0)+IF($L47<$M47,1,0)+IF($N47<$O47,1,0)+IF($P47<$Q47,1,0)+IF($R47<$S47,1,0)+IF($T47<$U47,1,0)+IF($V47<$W47,1,0)+IF($X47<$Y47,1,0)+IF($Z47<$AA47,1,0)+IF($AB47<$AC47,1,0)+IF($AE47<$AF47,1,0)+IF($AG47<$AH47,1,0)+IF($AI47<$AJ47,1,0)+IF($AK47<$AL47,1,0)+IF($AM47<$AN47,1,0)+IF($AO47<$AP47,1,0)+IF($AQ47<$AR47,1,0)+IF($AS47<$AT47,1,0)+IF($AU47<$AV47,1,0)+IF($AW47<$AX47,1,0)+IF($AY47<$AZ47,1,0) -> 0 | H47: =+J47+L47+N47+P47+R47+T47+V47+X47+Z47+AB47+AE47+AG47+AI47+AK47+AM47+AO47+AQ47+AS47+AU47+AW47+AY47 -> 0 | I47: =+K47+M47+O47+Q47+S47+U47+W47+Y47+AA47+AC47+AF47+AH47+AJ47+AL47+AN47+AP47+AR47+AT47+AV47+AX47+AZ47 -> 0
D48: =SUM(E48)*2+SUM(F48)+AD48 -> 0 | E48: =IF($J48>$K48,1,0)+IF($L48>$M48,1,0)+IF($N48>$O48,1,0)+IF($P48>$Q48,1,0)+IF($R48>$S48,1,0)+IF($T48>$U48,1,0)+IF($V48>$W48,1,0)+IF($X48>$Y48,1,0)+IF($Z48>$AA48,1,0)+IF($AB48>$AC48,1,0)+IF($AE48>$AF48,1,0)+IF($AG48>$AH48,1,0)+IF($AI48>$AJ48,1,0)+IF($AK48>$AL48,1,0)+IF($AM48>$AN48,1,0)+IF($AO48>$AP48,1,0)+IF($AQ48>$AR48,1,0)+IF($AS48>$AT48,1,0)+IF($AU48>$AV48,1,0)+IF($AW48>$AX48,1,0)+IF($AY48>$AZ48,1,0) -> 0 | F48: =SUM(IF(SUM(J48:K48)>0,SUM(+IF($J48=$K48,1,0),0)))+SUM(IF(SUM(L48:M48)>0,SUM(+IF($L48=$M48,1,0),0)))+SUM(IF(SUM(N48:O48)>0,SUM(+IF($N48=$O48,1,0),0)))+SUM(IF(SUM(P48:Q48)>0,SUM(+IF($P48=$Q48,1,0),0)))+SUM(IF(SUM(R48:S48)>0,SUM(+IF($R48=$S48,1,0),0)))+SUM(IF(SUM(T48:U48)>0,SUM(+IF($T48=$U48,1,0),0)))+SUM(IF(SUM(V48:W48)>0,SUM(+IF($V48=$W48,1,0),0)))+SUM(IF(SUM(X48:Y48)>0,SUM(+IF($X48=$Y48,1,0),0)))+SUM(IF(SUM(Z48:AA48)>0,SUM(+IF($Z48=$AA48,1,0),0)))+SUM(IF(SUM(AB48:AC48)>0,SUM(+IF($AB48=$AC48,1,0),0)))+SUM(IF(SUM(AE48:AF48)>0,SUM(+IF($AE48=$AF48,1,0),0)))+SUM(IF(SUM(AG48:AH48)>0,SUM(+IF($AG48=$AH48,1,0),0)))+SUM(IF(SUM(AI48:AJ48)>0,SUM(+IF($AI48=$AJ48,1,0),0)))+SUM(IF(SUM(AK48:AL48)>0,SUM(+IF($AK48=$AL48,1,0),0)))+SUM(IF(SUM(AM48:AN48)>0,SUM(+IF($AM48=$AN48,1,0),0)))+SUM(IF(SUM(AO48:AP48)>0,SUM(+IF($AO48=$AP48,1,0),0)))+SUM(IF(SUM(AQ48:AR48)>0,SUM(+IF($AQ48=$AR48,1,0),0)))+SUM(IF(SUM(AS48:AT48)>0,SUM(+IF($AS48=$AT48,1,0),0)))+SUM(IF(SUM(AU48:AV48)>0,SUM(+IF($AU48=$AV48,1,0),0)))+SUM(IF(SUM(AW48:AX48)>0,SUM(+IF($AW48=$AX48,1,0),0)))+SUM(IF(SUM(AY48:AZ48)>0,SUM(+IF($AY48=$AZ48,1,0),0))) -> 0 | G48: =IF($J48<$K48,1,0)+IF($L48<$M48,1,0)+IF($N48<$O48,1,0)+IF($P48<$Q48,1,0)+IF($R48<$S48,1,0)+IF($T48<$U48,1,0)+IF($V48<$W48,1,0)+IF($X48<$Y48,1,0)+IF($Z48<$AA48,1,0)+IF($AB48<$AC48,1,0)+IF($AE48<$AF48,1,0)+IF($AG48<$AH48,1,0)+IF($AI48<$AJ48,1,0)+IF($AK48<$AL48,1,0)+IF($AM48<$AN48,1,0)+IF($AO48<$AP48,1,0)+IF($AQ48<$AR48,1,0)+IF($AS48<$AT48,1,0)+IF($AU48<$AV48,1,0)+IF($AW48<$AX48,1,0)+IF($AY48<$AZ48,1,0) -> 0 | H48: =+J48+L48+N48+P48+R48+T48+V48+X48+Z48+AB48+AE48+AG48+AI48+AK48+AM48+AO48+AQ48+AS48+AU48+AW48+AY48 -> 0 | I48: =+K48+M48+O48+Q48+S48+U48+W48+Y48+AA48+AC48+AF48+AH48+AJ48+AL48+AN48+AP48+AR48+AT48+AV48+AX48+AZ48 -> 0
D49: =SUM(D4:D48) -> 62 | E49: =SUM(E4:E48) -> 28 | F49: =SUM(F4:F48) -> 6 | G49: =SUM(G4:G48) -> 31 | H49: =SUM(H4:H48) -> 692 | I49: =SUM(I4:I48) -> 733 | J49: =SUM(J4:J48) -> 399 | K49: =SUM(K4:K48) -> 403 | ... AZ49: =SUM(AZ4:AZ48) -> 0
D51: =SUM(E51)*2+SUM(F51)+AD51 -> 4 | E51: =IF($J51>$K51,1,0)+IF($L51>$M51,1,0)+IF($N51>$O51,1,0)+IF($P51>$Q51,1,0)+IF($R51>$S51,1,0)+IF($T51>$U51,1,0)+IF($V51>$W51,1,0)+IF($X51>$Y51,1,0)+IF($Z51>$AA51,1,0)+IF($AB51>$AC51,1,0)+IF($AE51>$AF51,1,0)+IF($AG51>$AH51,1,0)+IF($AI51>$AJ51,1,0)+IF($AK51>$AL51,1,0)+IF($AM51>$AN51,1,0)+IF($AO51>$AP51,1,0)+IF($AQ51>$AR51,1,0)+IF($AS51>$AT51,1,0)+IF($AU51>$AV51,1,0)+IF($AW51>$AX51,1,0)+IF($AY51>$AZ51,1,0) -> 2 | F51: =SUM(IF(SUM(J51:K51)>0,SUM(+IF($J51=$K51,1,0),0)))+SUM(IF(SUM(L51:M51)>0,SUM(+IF($L51=$M51,1,0),0)))+SUM(IF(SUM(N51:O51)>0,SUM(+IF($N51=$O51,1,0),0)))+SUM(IF(SUM(P51:Q51)>0,SUM(+IF($P51=$Q51,1,0),0)))+SUM(IF(SUM(R51:S51)>0,SUM(+IF($R51=$S51,1,0),0)))+SUM(IF(SUM(T51:U51)>0,SUM(+IF($T51=$U51,1,0),0)))+SUM(IF(SUM(V51:W51)>0,SUM(+IF($V51=$W51,1,0),0)))+SUM(IF(SUM(X51:Y51)>0,SUM(+IF($X51=$Y51,1,0),0)))+SUM(IF(SUM(Z51:AA51)>0,SUM(+IF($Z51=$AA51,1,0),0)))+SUM(IF(SUM(AB51:AC51)>0,SUM(+IF($AB51=$AC51,1,0),0)))+SUM(IF(SUM(AE51:AF51)>0,SUM(+IF($AE51=$AF51,1,0),0)))+SUM(IF(SUM(AG51:AH51)>0,SUM(+IF($AG51=$AH51,1,0),0)))+SUM(IF(SUM(AI51:AJ51)>0,SUM(+IF($AI51=$AJ51,1,0),0)))+SUM(IF(SUM(AK51:AL51)>0,SUM(+IF($AK51=$AL51,1,0),0)))+SUM(IF(SUM(AM51:AN51)>0,SUM(+IF($AM51=$AN51,1,0),0)))+SUM(IF(SUM(AO51:AP51)>0,SUM(+IF($AO51=$AP51,1,0),0)))+SUM(IF(SUM(AQ51:AR51)>0,SUM(+IF($AQ51=$AR51,1,0),0)))+SUM(IF(SUM(AS51:AT51)>0,SUM(+IF($AS51=$AT51,1,0),0)))+SUM(IF(SUM(AU51:AV51)>0,SUM(+IF($AU51=$AV51,1,0),0)))+SUM(IF(SUM(AW51:AX51)>0,SUM(+IF($AW51=$AX51,1,0),0)))+SUM(IF(SUM(AY51:AZ51)>0,SUM(+IF($AY51=$AZ51,1,0),0))) -> 0 | G51: =IF($J51<$K51,1,0)+IF($L51<$M51,1,0)+IF($N51<$O51,1,0)+IF($P51<$Q51,1,0)+IF($R51<$S51,1,0)+IF($T51<$U51,1,0)+IF($V51<$W51,1,0)+IF($X51<$Y51,1,0)+IF($Z51<$AA51,1,0)+IF($AB51<$AC51,1,0)+IF($AE51<$AF51,1,0)+IF($AG51<$AH51,1,0)+IF($AI51<$AJ51,1,0)+IF($AK51<$AL51,1,0)+IF($AM51<$AN51,1,0)+IF($AO51<$AP51,1,0)+IF($AQ51<$AR51,1,0)+IF($AS51<$AT51,1,0)+IF($AU51<$AV51,1,0)+IF($AW51<$AX51,1,0)+IF($AY51<$AZ51,1,0) -> 0 | H51: =+J51+L51+N51+P51+R51+T51+V51+X51+Z51+AB51+AE51+AG51+AI51+AK51+AM51+AO51+AQ51+AS51+AU51+AW51+AY51 -> 38 | I51: =+K51+M51+O51+Q51+S51+U51+W51+Y51+AA51+AC51+AF51+AH51+AJ51+AL51+AN51+AP51+AR51+AT51+AV51+AX51+AZ51 -> 8 | J51: 15 | K51: 7 | L51: 23 | M51: 1
D52: =SUM(E52)*2+SUM(F52)+AD52 -> 2 | E52: =IF($J52>$K52,1,0)+IF($L52>$M52,1,0)+IF($N52>$O52,1,0)+IF($P52>$Q52,1,0)+IF($R52>$S52,1,0)+IF($T52>$U52,1,0)+IF($V52>$W52,1,0)+IF($X52>$Y52,1,0)+IF($Z52>$AA52,1,0)+IF($AB52>$AC52,1,0)+IF($AE52>$AF52,1,0)+IF($AG52>$AH52,1,0)+IF($AI52>$AJ52,1,0)+IF($AK52>$AL52,1,0)+IF($AM52>$AN52,1,0)+IF($AO52>$AP52,1,0)+IF($AQ52>$AR52,1,0)+IF($AS52>$AT52,1,0)+IF($AU52>$AV52,1,0)+IF($AW52>$AX52,1,0)+IF($AY52>$AZ52,1,0) -> 1 | F52: =SUM(IF(SUM(J52:K52)>0,SUM(+IF($J52=$K52,1,0),0)))+SUM(IF(SUM(L52:M52)>0,SUM(+IF($L52=$M52,1,0),0)))+SUM(IF(SUM(N52:O52)>0,SUM(+IF($N52=$O52,1,0),0)))+SUM(IF(SUM(P52:Q52)>0,SUM(+IF($P52=$Q52,1,0),0)))+SUM(IF(SUM(R52:S52)>0,SUM(+IF($R52=$S52,1,0),0)))+SUM(IF(SUM(T52:U52)>0,SUM(+IF($T52=$U52,1,0),0)))+SUM(IF(SUM(V52:W52)>0,SUM(+IF($V52=$W52,1,0),0)))+SUM(IF(SUM(X52:Y52)>0,SUM(+IF($X52=$Y52,1,0),0)))+SUM(IF(SUM(Z52:AA52)>0,SUM(+IF($Z52=$AA52,1,0),0)))+SUM(IF(SUM(AB52:AC52)>0,SUM(+IF($AB52=$AC52,1,0),0)))+SUM(IF(SUM(AE52:AF52)>0,SUM(+IF($AE52=$AF52,1,0),0)))+SUM(IF(SUM(AG52:AH52)>0,SUM(+IF($AG52=$AH52,1,0),0)))+SUM(IF(SUM(AI52:AJ52)>0,SUM(+IF($AI52=$AJ52,1,0),0)))+SUM(IF(SUM(AK52:AL52)>0,SUM(+IF($AK52=$AL52,1,0),0)))+SUM(IF(SUM(AM52:AN52)>0,SUM(+IF($AM52=$AN52,1,0),0)))+SUM(IF(SUM(AO52:AP52)>0,SUM(+IF($AO52=$AP52,1,0),0)))+SUM(IF(SUM(AQ52:AR52)>0,SUM(+IF($AQ52=$AR52,1,0),0)))+SUM(IF(SUM(AS52:AT52)>0,SUM(+IF($AS52=$AT52,1,0),0)))+SUM(IF(SUM(AU52:AV52)>0,SUM(+IF($AU52=$AV52,1,0),0)))+SUM(IF(SUM(AW52:AX52)>0,SUM(+IF($AW52=$AX52,1,0),0)))+SUM(IF(SUM(AY52:AZ52)>0,SUM(+IF($AY52=$AZ52,1,0),0))) -> 0 | G52: =IF($J52<$K52,1,0)+IF($L52<$M52,1,0)+IF($N52<$O52,1,0)+IF($P52<$Q52,1,0)+IF($R52<$S52,1,0)+IF($T52<$U52,1,0)+IF($V52<$W52,1,0)+IF($X52<$Y52,1,0)+IF($Z52<$AA52,1,0)+IF($AB52<$AC52,1,0)+IF($AE52<$AF52,1,0)+IF($AG52<$AH52,1,0)+IF($AI52<$AJ52,1,0)+IF($AK52<$AL52,1,0)+IF($AM52<$AN52,1,0)+IF($AO52<$AP52,1,0)+IF($AQ52<$AR52,1,0)+IF($AS52<$AT52,1,0)+IF($AU52<$AV52,1,0)+IF($AW52<$AX52,1,0)+IF($AY52<$AZ52,1,0) -> 1 | H52: =+J52+L52+N52+P52+R52+T52+V52+X52+Z52+AB52+AE52+AG52+AI52+AK52+AM52+AO52+AQ52+AS52+AU52+AW52+AY52 -> 25 | I52: =+K52+M52+O52+Q52+S52+U52+W52+Y52+AA52+AC52+AF52+AH52+AJ52+AL52+AN52+AP52+AR52+AT52+AV52+AX52+AZ52 -> 22 | J52: 5 | K52: 17 | L52: 20 | M52: 5
D53: =SUM(E53)*2+SUM(F53)+AD53 -> 2 | E53: =IF($J53>$K53,1,0)+IF($L53>$M53,1,0)+IF($N53>$O53,1,0)+IF($P53>$Q53,1,0)+IF($R53>$S53,1,0)+IF($T53>$U53,1,0)+IF($V53>$W53,1,0)+IF($X53>$Y53,1,0)+IF($Z53>$AA53,1,0)+IF($AB53>$AC53,1,0)+IF($AE53>$AF53,1,0)+IF($AG53>$AH53,1,0)+IF($AI53>$AJ53,1,0)+IF($AK53>$AL53,1,0)+IF($AM53>$AN53,1,0)+IF($AO53>$AP53,1,0)+IF($AQ53>$AR53,1,0)+IF($AS53>$AT53,1,0)+IF($AU53>$AV53,1,0)+IF($AW53>$AX53,1,0)+IF($AY53>$AZ53,1,0) -> 1 | F53: =SUM(IF(SUM(J53:K53)>0,SUM(+IF($J53=$K53,1,0),0)))+SUM(IF(SUM(L53:M53)>0,SUM(+IF($L53=$M53,1,0),0)))+SUM(IF(SUM(N53:O53)>0,SUM(+IF($N53=$O53,1,0),0)))+SUM(IF(SUM(P53:Q53)>0,SUM(+IF($P53=$Q53,1,0),0)))+SUM(IF(SUM(R53:S53)>0,SUM(+IF($R53=$S53,1,0),0)))+SUM(IF(SUM(T53:U53)>0,SUM(+IF($T53=$U53,1,0),0)))+SUM(IF(SUM(V53:W53)>0,SUM(+IF($V53=$W53,1,0),0)))+SUM(IF(SUM(X53:Y53)>0,SUM(+IF($X53=$Y53,1,0),0)))+SUM(IF(SUM(Z53:AA53)>0,SUM(+IF($Z53=$AA53,1,0),0)))+SUM(IF(SUM(AB53:AC53)>0,SUM(+IF($AB53=$AC53,1,0),0)))+SUM(IF(SUM(AE53:AF53)>0,SUM(+IF($AE53=$AF53,1,0),0)))+SUM(IF(SUM(AG53:AH53)>0,SUM(+IF($AG53=$AH53,1,0),0)))+SUM(IF(SUM(AI53:AJ53)>0,SUM(+IF($AI53=$AJ53,1,0),0)))+SUM(IF(SUM(AK53:AL53)>0,SUM(+IF($AK53=$AL53,1,0),0)))+SUM(IF(SUM(AM53:AN53)>0,SUM(+IF($AM53=$AN53,1,0),0)))+SUM(IF(SUM(AO53:AP53)>0,SUM(+IF($AO53=$AP53,1,0),0)))+SUM(IF(SUM(AQ53:AR53)>0,SUM(+IF($AQ53=$AR53,1,0),0)))+SUM(IF(SUM(AS53:AT53)>0,SUM(+IF($AS53=$AT53,1,0),0)))+SUM(IF(SUM(AU53:AV53)>0,SUM(+IF($AU53=$AV53,1,0),0)))+SUM(IF(SUM(AW53:AX53)>0,SUM(+IF($AW53=$AX53,1,0),0)))+SUM(IF(SUM(AY53:AZ53)>0,SUM(+IF($AY53=$AZ53,1,0),0))) -> 0 | G53: =IF($J53<$K53,1,0)+IF($L53<$M53,1,0)+IF($N53<$O53,1,0)+IF($P53<$Q53,1,0)+IF($R53<$S53,1,0)+IF($T53<$U53,1,0)+IF($V53<$W53,1,0)+IF($X53<$Y53,1,0)+IF($Z53<$AA53,1,0)+IF($AB53<$AC53,1,0)+IF($AE53<$AF53,1,0)+IF($AG53<$AH53,1,0)+IF($AI53<$AJ53,1,0)+IF($AK53<$AL53,1,0)+IF($AM53<$AN53,1,0)+IF($AO53<$AP53,1,0)+IF($AQ53<$AR53,1,0)+IF($AS53<$AT53,1,0)+IF($AU53<$AV53,1,0)+IF($AW53<$AX53,1,0)+IF($AY53<$AZ53,1,0) -> 0 | H53: =+J53+L53+N53+P53+R53+T53+V53+X53+Z53+AB53+AE53+AG53+AI53+AK53+AM53+AO53+AQ53+AS53+AU53+AW53+AY53 -> 15 | I53: =+K53+M53+O53+Q53+S53+U53+W53+Y53+AA53+AC53+AF53+AH53+AJ53+AL53+AN53+AP53+AR53+AT53+AV53+AX53+AZ53 -> 7 | J53: 15 | K53: 7
D54: =SUM(D51:D53) -> 8 | E54: =SUM(E51:E53) -> 4 | F54: =SUM(F51:F53) -> 0 | G54: =SUM(G51:G53) -> 1 | H54: =+J54+L54+N54+P54+R54+T54+V54+X54+Z54+AB54+AE54+AG54+AI54+AK54+AM54+AO54+AQ54+AY54+AY55 -> 78 | I54: =+K54+M54+O54+Q54+S54+U54+W54+Y54+AA54+AC54+AF54+AH54+AJ54+AL54+AN54+AP54+AR54+AZ54+AZ55 -> 37 | J54: =SUM(J51:J53) -> 35 | K54: =SUM(K51:K53) -> 31 | L54: =SUM(L51:L53) -> 43 | M54: =SUM(M51:M53) -> 6
H55: =+H54+H49 -> 770 | I55: =+I54+I49 -> 770 | J55: =+J54+J49 -> 434 | K55: =+K54+K49 -> 434 | L55: =+L54+L49 -> 336 | M55: =+M54+M49 -> 336 | N55: =+N54+N49 -> 0 | O55: =+O54+O49 -> 0 | ... AZ55: =+AZ54+AZ49 -> 0

Sheet League Table
B2: ROOKIE RUMBLE LEAGUE | F2: 2026 / 2027 | J2: As at 25th Oct
C3: Player | E3: Played | F3: Won | G3: Drawn | H3: Lost | I3: Skills Pts | J3: Shots For | K3: Shots Against | L3: Shots Diff | M3: Pts
B4: 1st | C4: =+Results!B28 -> ALAN | D4: =+Results!C28 -> KEARSEY | E4: =SUM(Results!E28:G28) -> 2 | F4: =+Results!E28 -> 2 | G4: =+Results!F28 -> 0 | H4: =+Results!G28 -> 0 | I4: =SUM(Results!AD28:AD28) -> 0 | J4: =+Results!H28 -> 38 | K4: =+Results!I28 -> 8 | L4: =J4-K4 -> 30 | M4: =+Results!D28 -> 4
B5: 2nd | C5: =+Results!B24 -> RICK | D5: =+Results!C24 -> GALVIN | E5: =SUM(Results!E24:G24) -> 2 | F5: =+Results!E24 -> 2 | G5: =+Results!F24 -> 0 | H5: =+Results!G24 -> 0 | I5: =SUM(Results!AD24:AD24) -> 0 | J5: =+Results!H24 -> 36 | K5: =+Results!I24 -> 8 | L5: =J5-K5 -> 28 | M5: =+Results!D24 -> 4
B6: 3rd | C6: =+Results!B42 -> TIM | D6: =+Results!C42 -> TAYLOR | E6: =SUM(Results!E42:G42) -> 2 | F6: =+Results!E42 -> 2 | G6: =+Results!F42 -> 0 | H6: =+Results!G42 -> 0 | I6: =SUM(Results!AD42:AD42) -> 0 | J6: =+Results!H42 -> 39 | K6: =+Results!I42 -> 15 | L6: =J6-K6 -> 24 | M6: =+Results!D42 -> 4
B7: 4th | C7: =+Results!B39 -> LIZ | D7: =+Results!C39 -> SCOTT | E7: =SUM(Results!E39:G39) -> 2 | F7: =+Results!E39 -> 2 | G7: =+Results!F39 -> 0 | H7: =+Results!G39 -> 0 | I7: =SUM(Results!AD39:AD39) -> 0 | J7: =+Results!H39 -> 33 | K7: =+Results!I39 -> 10 | L7: =J7-K7 -> 23 | M7: =+Results!D39 -> 4
B8: 5th = | C8: =+Results!B31 -> DES | D8: =+Results!C31 -> LAMBERT | E8: =SUM(Results!E31:G31) -> 2 | F8: =+Results!E31 -> 2 | G8: =+Results!F31 -> 0 | H8: =+Results!G31 -> 0 | I8: =SUM(Results!AD31:AD31) -> 0 | J8: =+Results!H31 -> 30 | K8: =+Results!I31 -> 12 | L8: =J8-K8 -> 18 | M8: =+Results!D31 -> 4
B9: 5th = | C9: =+Results!B40 -> LES | D9: =+Results!C40 -> SCRIMSHAW | E9: =SUM(Results!E40:G40) -> 2 | F9: =+Results!E40 -> 2 | G9: =+Results!F40 -> 0 | H9: =+Results!G40 -> 0 | I9: =SUM(Results!AD40:AD40) -> 0 | J9: =+Results!H40 -> 30 | K9: =+Results!I40 -> 12 | L9: =J9-K9 -> 18 | M9: =+Results!D40 -> 4
B10: 7th | C10: =+Results!B18 -> MIKE | D10: =+Results!C18 -> CULLEN | E10: =SUM(Results!E18:G18) -> 2 | F10: =+Results!E18 -> 2 | G10: =+Results!F18 -> 0 | H10: =+Results!G18 -> 0 | I10: =SUM(Results!AD18:AD18) -> 0 | J10: =+Results!H18 -> 29 | K10: =+Results!I18 -> 15 | L10: =J10-K10 -> 14 | M10: =+Results!D18 -> 4
B11: 8th = | C11: =+Results!B30 -> TRACY | D11: =+Results!C30 -> KEY | E11: =SUM(Results!E30:G30) -> 1 | F11: =+Results!E30 -> 1 | G11: =+Results!F30 -> 0 | H11: =+Results!G30 -> 0 | I11: =SUM(Results!AD30:AD30) -> 0 | J11: =+Results!H30 -> 17 | K11: =+Results!I30 -> 2 | L11: =J11-K11 -> 15 | M11: =+Results!D30 -> 2
B12: 8th = | C12: =+Results!B32 -> ANDREW | D12: =+Results!C32 -> LOWE | E12: =SUM(Results!E32:G32) -> 1 | F12: =+Results!E32 -> 1 | G12: =+Results!F32 -> 0 | H12: =+Results!G32 -> 0 | I12: =SUM(Results!AD32:AD32) -> 0 | J12: =+Results!H32 -> 17 | K12: =+Results!I32 -> 2 | L12: =J12-K12 -> 15 | M12: =+Results!D32 -> 2
B13: 10th | C13: =+Results!B9 -> KARL | D13: =+Results!C9 -> CARTHEW | E13: =SUM(Results!E9:G9) -> 1 | F13: =+Results!E9 -> 1 | G13: =+Results!F9 -> 0 | H13: =+Results!G9 -> 0 | I13: =SUM(Results!AD9:AD9) -> 0 | J13: =+Results!H9 -> 19 | K13: =+Results!I9 -> 10 | L13: =J13-K13 -> 9 | M13: =+Results!D9 -> 2
B14: 11th | C14: =+Results!B6 -> OWEN | D14: =+Results!C6 -> BAILEY | E14: =SUM(Results!E6:G6) -> 1 | F14: =+Results!E6 -> 1 | G14: =+Results!F6 -> 0 | H14: =+Results!G6 -> 0 | I14: =SUM(Results!AD6:AD6) -> 0 | J14: =+Results!H6 -> 15 | K14: =+Results!I6 -> 7 | L14: =J14-K14 -> 8 | M14: =+Results!D6 -> 2
B15: 12th = | C15: =+Results!B12 -> CATHY | D15: =+Results!C12 -> COLLINS | E15: =SUM(Results!E12:G12) -> 1 | F15: =+Results!E12 -> 1 | G15: =+Results!F12 -> 0 | H15: =+Results!G12 -> 0 | I15: =SUM(Results!AD12:AD12) -> 0 | J15: =+Results!H12 -> 13 | K15: =+Results!I12 -> 6 | L15: =J15-K15 -> 7 | M15: =+Results!D12 -> 2
B16: 12th = | C16: =+Results!B37 -> MARTYN | D16: =+Results!C37 -> ROWE | E16: =SUM(Results!E37:G37) -> 1 | F16: =+Results!E37 -> 1 | G16: =+Results!F37 -> 0 | H16: =+Results!G37 -> 0 | I16: =SUM(Results!AD37:AD37) -> 0 | J16: =+Results!H37 -> 13 | K16: =+Results!I37 -> 6 | L16: =J16-K16 -> 7 | M16: =+Results!D37 -> 2
B17: 12th = | C17: =+Results!B38 -> ADRIAN | D17: =+Results!C38 -> SCOTT | E17: =SUM(Results!E38:G38) -> 1 | F17: =+Results!E38 -> 1 | G17: =+Results!F38 -> 0 | H17: =+Results!G38 -> 0 | I17: =SUM(Results!AD38:AD38) -> 0 | J17: =+Results!H38 -> 13 | K17: =+Results!I38 -> 6 | L17: =J17-K17 -> 7 | M17: =+Results!D38 -> 2
B18: 15th = | C18: =+Results!B29 -> CHRIS | D18: =+Results!C29 -> KEARSEY | E18: =SUM(Results!E29:G29) -> 2 | F18: =+Results!E29 -> 1 | G18: =+Results!F29 -> 0 | H18: =+Results!G29 -> 1 | I18: =SUM(Results!AD29:AD29) -> 0 | J18: =+Results!H29 -> 24 | K18: =+Results!I29 -> 18 | L18: =J18-K18 -> 6 | M18: =+Results!D29 -> 2
B19: 15th = | C19: =+Results!B5 -> CHARLOTTE | D19: =+Results!C5 -> BAILEY | E19: =SUM(Results!E5:G5) -> 1 | F19: =+Results!E5 -> 1 | G19: =+Results!F5 -> 0 | H19: =+Results!G5 -> 0 | I19: =SUM(Results!AD5:AD5) -> 0 | J19: =+Results!H5 -> 13 | K19: =+Results!I5 -> 7 | L19: =J19-K19 -> 6 | M19: =+Results!D5 -> 2
B20: 17th = | C20: =+Results!B44 -> ANN | D20: =+Results!C44 -> WEAVERS | E20: =SUM(Results!E44:G44) -> 2 | F20: =+Results!E44 -> 1 | G20: =+Results!F44 -> 0 | H20: =+Results!G44 -> 1 | I20: =SUM(Results!AD44:AD44) -> 0 | J20: =+Results!H44 -> 24 | K20: =+Results!I44 -> 23 | L20: =J20-K20 -> 1 | M20: =+Results!D44 -> 2
B21: 17th = | C21: =+Results!B25 -> JENNIE | D21: =+Results!C25 -> HENLEY | E21: =SUM(Results!E25:G25) -> 1 | F21: =+Results!E25 -> 1 | G21: =+Results!F25 -> 0 | H21: =+Results!G25 -> 0 | I21: =SUM(Results!AD25:AD25) -> 0 | J21: =+Results!H25 -> 10 | K21: =+Results!I25 -> 9 | L21: =J21-K21 -> 1 | M21: =+Results!D25 -> 2
B22: 19th | C22: =+Results!B26 -> KEITH | D22: =+Results!C26 -> HUGHES | E22: =SUM(Results!E26:G26) -> 2 | F22: =+Results!E26 -> 1 | G22: =+Results!F26 -> 0 | H22: =+Results!G26 -> 1 | I22: =SUM(Results!AD26:AD26) -> 0 | J22: =+Results!H26 -> 22 | K22: =+Results!I26 -> 22 | L22: =J22-K22 -> 0 | M22: =+Results!D26 -> 2
B23: 20th | C23: =+Results!B19 -> SARAH | D23: =+Results!C19 -> CULLEN | E23: =SUM(Results!E19:G19) -> 2 | F23: =+Results!E19 -> 1 | G23: =+Results!F19 -> 0 | H23: =+Results!G19 -> 1 | I23: =SUM(Results!AD19:AD19) -> 0 | J23: =+Results!H19 -> 22 | K23: =+Results!I19 -> 25 | L23: =J23-K23 -> -3 | M23: =+Results!D19 -> 2
B24: 21st | C24: =+Results!B7 -> CHRIS | D24: =+Results!C7 -> BROWN | E24: =SUM(Results!E7:G7) -> 2 | F24: =+Results!E7 -> 1 | G24: =+Results!F7 -> 0 | H24: =+Results!G7 -> 1 | I24: =SUM(Results!AD7:AD7) -> 0 | J24: =+Results!H7 -> 24 | K24: =+Results!I7 -> 30 | L24: =J24-K24 -> -6 | M24: =+Results!D7 -> 2
B25: 22nd | C25: =+Results!B43 -> S | D25: =+Results!C43 -> TYSOE | E25: =SUM(Results!E43:G43) -> 1 | F25: =+Results!E43 -> 0 | G25: =+Results!F43 -> 1 | H25: =+Results!G43 -> 0 | I25: =SUM(Results!AD43:AD43) -> 0 | J25: =+Results!H43 -> 9 | K25: =+Results!I43 -> 9 | L25: =J25-K25 -> 0 | M25: =+Results!D43 -> 1
B26: 23rd = | C26: =+Results!B22 -> BIB | D26: =+Results!C22 -> EWING | E26: =SUM(Results!E22:G22) -> 2 | F26: =+Results!E22 -> 0 | G26: =+Results!F22 -> 1 | H26: =+Results!G22 -> 1 | I26: =SUM(Results!AD22:AD22) -> 0 | J26: =+Results!H22 -> 15 | K26: =+Results!I22 -> 22 | L26: =J26-K26 -> -7 | M26: =+Results!D22 -> 1
B27: 23rd = | C27: =+Results!B35 -> ROB | D27: =+Results!C35 -> POOLE | E27: =SUM(Results!E35:G35) -> 2 | F27: =+Results!E35 -> 0 | G27: =+Results!F35 -> 1 | H27: =+Results!G35 -> 1 | I27: =SUM(Results!AD35:AD35) -> 0 | J27: =+Results!H35 -> 15 | K27: =+Results!I35 -> 22 | L27: =J27-K27 -> -7 | M27: =+Results!D35 -> 1
B28: 25th | C28: =+Results!B10 -> MIKE | D28: =+Results!C10 -> COLE | E28: =SUM(Results!E10:G10) -> 2 | F28: =+Results!E10 -> 0 | G28: =+Results!F10 -> 1 | H28: =+Results!G10 -> 1 | I28: =SUM(Results!AD10:AD10) -> 0 | J28: =+Results!H10 -> 19 | K28: =+Results!I10 -> 28 | L28: =J28-K28 -> -9 | M28: =+Results!D10 -> 1
B29: 26th = | C29: =+Results!B17 -> MARK | D29: =+Results!C17 -> CRAGG | E29: =SUM(Results!E17:G17) -> 2 | F29: =+Results!E17 -> 0 | G29: =+Results!F17 -> 1 | H29: =+Results!G17 -> 1 | I29: =SUM(Results!AD17:AD17) -> 0 | J29: =+Results!H17 -> 11 | K29: =+Results!I17 -> 26 | L29: =J29-K29 -> -15 | M29: =+Results!D17 -> 1
B30: 26th = | C30: =+Results!B45 -> ROGER | D30: =+Results!C45 -> WEAVERS | E30: =SUM(Results!E45:G45) -> 2 | F30: =+Results!E45 -> 0 | G30: =+Results!F45 -> 1 | H30: =+Results!G45 -> 1 | I30: =SUM(Results!AD45:AD45) -> 0 | J30: =+Results!H45 -> 11 | K30: =+Results!I45 -> 26 | L30: =J30-K30 -> -15 | M30: =+Results!D45 -> 1
B31: 28th = | C31: =+Results!B11 -> GREG | D31: =+Results!C11 -> COLEBOURN | E31: =SUM(Results!E11:G11) -> 1 | F31: =+Results!E11 -> 0 | G31: =+Results!F11 -> 0 | H31: =+Results!G11 -> 1 | I31: =SUM(Results!AD11:AD11) -> 0 | J31: =+Results!H11 -> 9 | K31: =+Results!I11 -> 10 | L31: =J31-K31 -> -1 | M31: =+Results!D11 -> 0
B32: 28th = | C32: =+Results!B20 -> NICOLE | D32: =+Results!C20 -> DIRMAITE | E32: =SUM(Results!E20:G20) -> 1 | F32: =+Results!E20 -> 0 | G32: =+Results!F20 -> 0 | H32: =+Results!G20 -> 1 | I32: =SUM(Results!AD20:AD20) -> 0 | J32: =+Results!H20 -> 9 | K32: =+Results!I20 -> 10 | L32: =J32-K32 -> -1 | M32: =+Results!D20 -> 0
B33: 30th | C33: =+Results!B36 -> JACKIE | D33: =+Results!C36 -> REED | E33: =SUM(Results!E36:G36) -> 1 | F33: =+Results!E36 -> 0 | G33: =+Results!F36 -> 0 | H33: =+Results!G36 -> 1 | I33: =SUM(Results!AD36:AD36) -> 0 | J33: =+Results!H36 -> 7 | K33: =+Results!I36 -> 13 | L33: =J33-K33 -> -6 | M33: =+Results!D36 -> 0
B34: 31st = | C34: =+Results!B13 -> MIKE | D34: =+Results!C13 -> COLLINS | E34: =SUM(Results!E13:G13) -> 1 | F34: =+Results!E13 -> 0 | G34: =+Results!F13 -> 0 | H34: =+Results!G13 -> 1 | I34: =SUM(Results!AD13:AD13) -> 0 | J34: =+Results!H13 -> 7 | K34: =+Results!I13 -> 15 | L34: =J34-K34 -> -8 | M34: =+Results!D13 -> 0
B35: 31st = | C35: =+Results!B14 -> JIMMY | D35: =+Results!C14 -> COOK | E35: =SUM(Results!E14:G14) -> 1 | F35: =+Results!E14 -> 0 | G35: =+Results!F14 -> 0 | H35: =+Results!G14 -> 1 | I35: =SUM(Results!AD14:AD14) -> 0 | J35: =+Results!H14 -> 7 | K35: =+Results!I14 -> 15 | L35: =J35-K35 -> -8 | M35: =+Results!D14 -> 0
B36: 33rd | C36: =+Results!B46 -> PHIL | D36: =+Results!C46 -> WHITE | E36: =SUM(Results!E46:G46) -> 1 | F36: =+Results!E46 -> 0 | G36: =+Results!F46 -> 0 | H36: =+Results!G46 -> 1 | I36: =SUM(Results!AD46:AD46) -> 0 | J36: =+Results!H46 -> 10 | K36: =+Results!I46 -> 19 | L36: =J36-K36 -> -9 | M36: =+Results!D46 -> 0
B37: 34th = | C37: =+Results!B21 -> SUE | D37: =+Results!C21 -> DIXON | E37: =SUM(Results!E21:G21) -> 1 | F37: =+Results!E21 -> 0 | G37: =+Results!F21 -> 0 | H37: =+Results!G21 -> 1 | I37: =SUM(Results!AD21:AD21) -> 0 | J37: =+Results!H21 -> 5 | K37: =+Results!I21 -> 17 | L37: =J37-K37 -> -12 | M37: =+Results!D21 -> 0
B38: 34th = | C38: =+Results!B23 -> KEITH | D38: =+Results!C23 -> FISHER | E38: =SUM(Results!E23:G23) -> 1 | F38: =+Results!E23 -> 0 | G38: =+Results!F23 -> 0 | H38: =+Results!G23 -> 1 | I38: =SUM(Results!AD23:AD23) -> 0 | J38: =+Results!H23 -> 5 | K38: =+Results!I23 -> 17 | L38: =J38-K38 -> -12 | M38: =+Results!D23 -> 0
B39: 36th | C39: =+Results!B34 -> DEE | D39: =+Results!C34 -> O'HAGEN | E39: =SUM(Results!E34:G34) -> 1 | F39: =+Results!E34 -> 0 | G39: =+Results!F34 -> 0 | H39: =+Results!G34 -> 1 | I39: =SUM(Results!AD34:AD34) -> 0 | J39: =+Results!H34 -> 6 | K39: =+Results!I34 -> 19 | L39: =J39-K39 -> -13 | M39: =+Results!D34 -> 0
B40: 37th = | C40: =+Results!B8 -> JIMMY | D40: =+Results!C8 -> CARR | E40: =SUM(Results!E8:G8) -> 2 | F40: =+Results!E8 -> 0 | G40: =+Results!F8 -> 0 | H40: =+Results!G8 -> 2 | I40: =SUM(Results!AD8:AD8) -> 0 | J40: =+Results!H8 -> 15 | K40: =+Results!I8 -> 29 | L40: =J40-K40 -> -14 | M40: =+Results!D8 -> 0
B41: 37th = | C41: =+Results!B16 -> ROLY | D41: =+Results!C16 -> COX | E41: =SUM(Results!E16:G16) -> 2 | F41: =+Results!E16 -> 0 | G41: =+Results!F16 -> 0 | H41: =+Results!G16 -> 2 | I41: =SUM(Results!AD16:AD16) -> 0 | J41: =+Results!H16 -> 14 | K41: =+Results!I16 -> 28 | L41: =J41-K41 -> -14 | M41: =+Results!D16 -> 0
B42: 39th | C42: =+Results!B27 -> N | D42: =+Results!C27 -> JOLLA | E42: =SUM(Results!E27:G27) -> 1 | F42: =+Results!E27 -> 0 | G42: =+Results!F27 -> 0 | H42: =+Results!G27 -> 1 | I42: =SUM(Results!AD27:AD27) -> 0 | J42: =+Results!H27 -> 5 | K42: =+Results!I27 -> 20 | L42: =J42-K42 -> -15 | M42: =+Results!D27 -> 0
B43: 40th = | C43: =+Results!B41 -> JANE | D43: =+Results!C41 -> SPEECHLEY | E43: =SUM(Results!E41:G41) -> 2 | F43: =+Results!E41 -> 0 | G43: =+Results!F41 -> 0 | H43: =+Results!G41 -> 2 | I43: =SUM(Results!AD41:AD41) -> 0 | J43: =+Results!H41 -> 16 | K43: =+Results!I41 -> 38 | L43: =J43-K43 -> -22 | M43: =+Results!D41 -> 0
B44: 40th = | C44: =+Results!B4 -> MO | D44: =+Results!C4 -> ANDERSON | E44: =SUM(Results!E4:G4) -> 1 | F44: =+Results!E4 -> 0 | G44: =+Results!F4 -> 0 | H44: =+Results!G4 -> 1 | I44: =SUM(Results!AD4:AD4) -> 0 | J44: =+Results!H4 -> 1 | K44: =+Results!I4 -> 23 | L44: =J44-K44 -> -22 | M44: =+Results!D4 -> 0
B45: 42nd | C45: =+Results!B33 -> PAUL | D45: =+Results!C33 -> NICHOLSON | E45: =SUM(Results!E33:G33) -> 2 | F45: =+Results!E33 -> 0 | G45: =+Results!F33 -> 0 | H45: =+Results!G33 -> 2 | I45: =SUM(Results!AD33:AD33) -> 0 | J45: =+Results!H33 -> 7 | K45: =+Results!I33 -> 36 | L45: =J45-K45 -> -29 | M45: =+Results!D33 -> 0
B46: 43rd | C46: =+Results!B15 -> MANDY | D46: =+Results!C15 -> COX | E46: =SUM(Results!E15:G15) -> 2 | F46: =+Results!E15 -> 0 | G46: =+Results!F15 -> 0 | H46: =+Results!G15 -> 2 | I46: =SUM(Results!AD15:AD15) -> 0 | J46: =+Results!H15 -> 8 | K46: =+Results!I15 -> 38 | L46: =J46-K46 -> -30 | M46: =+Results!D15 -> 0
C48: STAND INS | E48: =SUM(Results!E54:G54) -> 5 | F48: =+Results!E54 -> 4 | G48: =+Results!F54 -> 0 | H48: =+Results!G54 -> 1 | I48: =SUM(Results!AD54:AD54) -> 0 | J48: =+Results!H54 -> 78 | K48: =+Results!I54 -> 37 | L48: =J48-K48 -> 41 | M48: =+Results!D54 -> 8
D49: Check | E49: =SUM(E4:E48) -> 70 | F49: =SUM(F4:F48) -> 32 | G49: =SUM(G4:G48) -> 6 | H49: =SUM(H4:H48) -> 32 | I49: =SUM(I4:I48) -> 0 | J49: =SUM(J4:J48) -> 770 | K49: =SUM(K4:K48) -> 770 | L49: =SUM(L4:L48) -> 0 | M49: =SUM(M4:M48) -> 70
