Workbook

Sheet Results
E1: Week | F1: =+'Results Input'!G1 -> 6
B2: =CONCATENATE(E2,F2) -> 1E1 | C2: =CONCATENATE(E2,I2) -> 1E2 | D2: =+'Results Input'!E2 -> 46283 | E2: =+'Results Input'!F2 -> 1 | F2: =+'Results Input'!G2 -> E1 | G2: =VLOOKUP(F2,Results!$N$2:$O$11,2,FALSE) -> Misfits | H2: =+'Results Input'!I2 -> 15 | I2: =+'Results Input'!J2 -> E2 | J2: =VLOOKUP(I2,Results!$N$2:$O$11,2,FALSE) -> Team Krewna | K2: =+'Results Input'!L2 -> 18 | N2: E1 | O2: Misfits
B3: =CONCATENATE(E3,F3) -> 1E3 | C3: =CONCATENATE(E3,I3) -> 1E4 | D3: =+D2 -> 46283 | E3: =+'Results Input'!F3 -> 1 | F3: =+'Results Input'!G3 -> E3 | G3: =VLOOKUP(F3,Results!$N$2:$O$11,2,FALSE) -> Riches Rollers | H3: =+'Results Input'!I3 -> 19 | I3: =+'Results Input'!J3 -> E4 | J3: =VLOOKUP(I3,Results!$N$2:$O$11,2,FALSE) -> Bullets | K3: =+'Results Input'!L3 -> 13 | N3: E2 | O3: Team Krewna
B4: =CONCATENATE(E4,F4) -> 1E5 | C4: =CONCATENATE(E4,I4) -> 1E6 | D4: =+D2 -> 46283 | E4: =+'Results Input'!F4 -> 1 | F4: =+'Results Input'!G4 -> E5 | G4: =VLOOKUP(F4,Results!$N$2:$O$11,2,FALSE) -> New Builds | H4: =+'Results Input'!I4 -> N | I4: =+'Results Input'!J4 -> E6 | J4: =VLOOKUP(I4,Results!$N$2:$O$11,2,FALSE) -> Starlite | K4: =+'Results Input'!L4 -> N | N4: E3 | O4: Riches Rollers
B5: =CONCATENATE(E5,F5) -> 1E7 | C5: =CONCATENATE(E5,I5) -> 1E8 | D5: =+D2 -> 46283 | E5: =+'Results Input'!F5 -> 1 | F5: =+'Results Input'!G5 -> E7 | G5: =VLOOKUP(F5,Results!$N$2:$O$11,2,FALSE) -> Golfers | H5: =+'Results Input'!I5 -> 23 | I5: =+'Results Input'!J5 -> E8 | J5: =VLOOKUP(I5,Results!$N$2:$O$11,2,FALSE) -> Green Wizards | K5: =+'Results Input'!L5 -> 7 | N5: E4 | O5: Bullets
B6: =CONCATENATE(E6,F6) -> 1E9 | C6: =CONCATENATE(E6,I6) -> 1X | D6: =+D2 -> 46283 | E6: =+'Results Input'!F6 -> 1 | F6: =+'Results Input'!G6 -> E9 | G6: =VLOOKUP(F6,Results!$N$2:$O$11,2,FALSE) -> Biased Boys | H6: =+'Results Input'!I6 -> 0 | I6: =+'Results Input'!J6 -> X | J6: =VLOOKUP(I6,Results!$N$2:$O$11,2,FALSE) -> No Match | N6: E5 | O6: New Builds
B7: =CONCATENATE(E7,F7) -> 1E2 | C7: =CONCATENATE(E7,I7) -> 1E1 | D7: =+D2 -> 46283 | E7: =+E2 -> 1 | F7: =+I2 -> E2 | G7: =VLOOKUP(F7,Results!$N$2:$O$11,2,FALSE) -> Team Krewna | H7: =+K2 -> 18 | I7: =+F2 -> E1 | J7: =VLOOKUP(I7,Results!$N$2:$O$11,2,FALSE) -> Misfits | K7: =+H2 -> 15 | N7: E6 | O7: Starlite
B8: =CONCATENATE(E8,F8) -> 1E4 | C8: =CONCATENATE(E8,I8) -> 1E3 | D8: =+D2 -> 46283 | E8: =+E3 -> 1 | F8: =+I3 -> E4 | G8: =VLOOKUP(F8,Results!$N$2:$O$11,2,FALSE) -> Bullets | H8: =+K3 -> 13 | I8: =+F3 -> E3 | J8: =VLOOKUP(I8,Results!$N$2:$O$11,2,FALSE) -> Riches Rollers | K8: =+H3 -> 19 | N8: E7 | O8: Golfers
B9: =CONCATENATE(E9,F9) -> 1E6 | C9: =CONCATENATE(E9,I9) -> 1E5 | D9: =+D2 -> 46283 | E9: =+E4 -> 1 | F9: =+I4 -> E6 | G9: =VLOOKUP(F9,Results!$N$2:$O$11,2,FALSE) -> Starlite | H9: =+K4 -> N | I9: =+F4 -> E5 | J9: =VLOOKUP(I9,Results!$N$2:$O$11,2,FALSE) -> New Builds | K9: =+H4 -> N | N9: E8 | O9: Green Wizards
B10: =CONCATENATE(E10,F10) -> 1E8 | C10: =CONCATENATE(E10,I10) -> 1E7 | D10: =+D2 -> 46283 | E10: =+E5 -> 1 | F10: =+I5 -> E8 | G10: =VLOOKUP(F10,Results!$N$2:$O$11,2,FALSE) -> Green Wizards | H10: =+K5 -> 7 | I10: =+F5 -> E7 | J10: =VLOOKUP(I10,Results!$N$2:$O$11,2,FALSE) -> Golfers | K10: =+H5 -> 23 | N10: E9 | O10: Biased Boys
B11: =CONCATENATE(E11,F11) -> 2E6 | C11: =CONCATENATE(E11,I11) -> 2E7 | D11: =+'Results Input'!E7 -> 46289 | E11: =+'Results Input'!F7 -> 2 | F11: =+'Results Input'!G7 -> E6 | G11: =VLOOKUP(F11,Results!$N$2:$O$11,2,FALSE) -> Starlite | H11: =+'Results Input'!I7 -> 17 | I11: =+'Results Input'!J7 -> E7 | J11: =VLOOKUP(I11,Results!$N$2:$O$11,2,FALSE) -> Golfers | K11: =+'Results Input'!L7 -> 13 | N11: X | O11: No Match
B12: =CONCATENATE(E12,F12) -> 2E9 | C12: =CONCATENATE(E12,I12) -> 2E1 | D12: =+D11 -> 46289 | E12: =+'Results Input'!F8 -> 2 | F12: =+'Results Input'!G8 -> E9 | G12: =VLOOKUP(F12,Results!$N$2:$O$11,2,FALSE) -> Biased Boys | H12: =+'Results Input'!I8 -> 14 | I12: =+'Results Input'!J8 -> E1 | J12: =VLOOKUP(I12,Results!$N$2:$O$11,2,FALSE) -> Misfits | K12: =+'Results Input'!L8 -> 13
B13: =CONCATENATE(E13,F13) -> 2E2 | C13: =CONCATENATE(E13,I13) -> 2E3 | D13: =+D11 -> 46289 | E13: =+'Results Input'!F9 -> 2 | F13: =+'Results Input'!G9 -> E2 | G13: =VLOOKUP(F13,Results!$N$2:$O$11,2,FALSE) -> Team Krewna | H13: =+'Results Input'!I9 -> 9 | I13: =+'Results Input'!J9 -> E3 | J13: =VLOOKUP(I13,Results!$N$2:$O$11,2,FALSE) -> Riches Rollers | K13: =+'Results Input'!L9 -> 17
B14: =CONCATENATE(E14,F14) -> 2E4 | C14: =CONCATENATE(E14,I14) -> 2E5 | D14: =+D11 -> 46289 | E14: =+'Results Input'!F10 -> 2 | F14: =+'Results Input'!G10 -> E4 | G14: =VLOOKUP(F14,Results!$N$2:$O$11,2,FALSE) -> Bullets | H14: =+'Results Input'!I10 -> 15 | I14: =+'Results Input'!J10 -> E5 | J14: =VLOOKUP(I14,Results!$N$2:$O$11,2,FALSE) -> New Builds | K14: =+'Results Input'!L10 -> 12
B15: =CONCATENATE(E15,F15) -> 2E8 | C15: =CONCATENATE(E15,I15) -> 2X | D15: =+D11 -> 46289 | E15: =+'Results Input'!F11 -> 2 | F15: =+'Results Input'!G11 -> E8 | G15: =VLOOKUP(F15,Results!$N$2:$O$11,2,FALSE) -> Green Wizards | H15: =+'Results Input'!I11 -> 0 | I15: =+'Results Input'!J11 -> X | J15: =VLOOKUP(I15,Results!$N$2:$O$11,2,FALSE) -> No Match
B16: =CONCATENATE(E16,F16) -> 2E7 | C16: =CONCATENATE(E16,I16) -> 2E6 | D16: =+D11 -> 46289 | E16: =+E11 -> 2 | F16: =+I11 -> E7 | G16: =VLOOKUP(F16,Results!$N$2:$O$11,2,FALSE) -> Golfers | H16: =+K11 -> 13 | I16: =+F11 -> E6 | J16: =VLOOKUP(I16,Results!$N$2:$O$11,2,FALSE) -> Starlite | K16: =+H11 -> 17
B17: =CONCATENATE(E17,F17) -> 2E1 | C17: =CONCATENATE(E17,I17) -> 2E9 | D17: =+D11 -> 46289 | E17: =+E12 -> 2 | F17: =+I12 -> E1 | G17: =VLOOKUP(F17,Results!$N$2:$O$11,2,FALSE) -> Misfits | H17: =+K12 -> 13 | I17: =+F12 -> E9 | J17: =VLOOKUP(I17,Results!$N$2:$O$11,2,FALSE) -> Biased Boys | K17: =+H12 -> 14
B18: =CONCATENATE(E18,F18) -> 2E3 | C18: =CONCATENATE(E18,I18) -> 2E2 | D18: =+D11 -> 46289 | E18: =+E13 -> 2 | F18: =+I13 -> E3 | G18: =VLOOKUP(F18,Results!$N$2:$O$11,2,FALSE) -> Riches Rollers | H18: =+K13 -> 17 | I18: =+F13 -> E2 | J18: =VLOOKUP(I18,Results!$N$2:$O$11,2,FALSE) -> Team Krewna | K18: =+H13 -> 9
B19: =CONCATENATE(E19,F19) -> 2E5 | C19: =CONCATENATE(E19,I19) -> 2E4 | D19: =+D11 -> 46289 | E19: =+E14 -> 2 | F19: =+I14 -> E5 | G19: =VLOOKUP(F19,Results!$N$2:$O$11,2,FALSE) -> New Builds | H19: =+K14 -> 12 | I19: =+F14 -> E4 | J19: =VLOOKUP(I19,Results!$N$2:$O$11,2,FALSE) -> Bullets | K19: =+H14 -> 15
B20: =CONCATENATE(E20,F20) -> 3E6 | C20: =CONCATENATE(E20,I20) -> 3E9 | D20: =+'Results Input'!E12 -> 46297 | E20: =+'Results Input'!F12 -> 3 | F20: =+'Results Input'!G12 -> E6 | G20: =VLOOKUP(F20,Results!$N$2:$O$11,2,FALSE) -> Starlite | H20: =+'Results Input'!I12 -> 20 | I20: =+'Results Input'!J12 -> E9 | J20: =VLOOKUP(I20,Results!$N$2:$O$11,2,FALSE) -> Biased Boys | K20: =+'Results Input'!L12 -> 7
B21: =CONCATENATE(E21,F21) -> 3E1 | C21: =CONCATENATE(E21,I21) -> 3E3 | D21: =+D20 -> 46297 | E21: =+'Results Input'!F13 -> 3 | F21: =+'Results Input'!G13 -> E1 | G21: =VLOOKUP(F21,Results!$N$2:$O$11,2,FALSE) -> Misfits | H21: =+'Results Input'!I13 -> 13 | I21: =+'Results Input'!J13 -> E3 | J21: =VLOOKUP(I21,Results!$N$2:$O$11,2,FALSE) -> Riches Rollers | K21: =+'Results Input'!L13 -> 8
B22: =CONCATENATE(E22,F22) -> 3E2 | C22: =CONCATENATE(E22,I22) -> 3E4 | D22: =+D20 -> 46297 | E22: =+'Results Input'!F14 -> 3 | F22: =+'Results Input'!G14 -> E2 | G22: =VLOOKUP(F22,Results!$N$2:$O$11,2,FALSE) -> Team Krewna | H22: =+'Results Input'!I14 -> 18 | I22: =+'Results Input'!J14 -> E4 | J22: =VLOOKUP(I22,Results!$N$2:$O$11,2,FALSE) -> Bullets | K22: =+'Results Input'!L14 -> 15
B23: =CONCATENATE(E23,F23) -> 3E5 | C23: =CONCATENATE(E23,I23) -> 3E8 | D23: =+D20 -> 46297 | E23: =+'Results Input'!F15 -> 3 | F23: =+'Results Input'!G15 -> E5 | G23: =VLOOKUP(F23,Results!$N$2:$O$11,2,FALSE) -> New Builds | H23: =+'Results Input'!I15 -> 12 | I23: =+'Results Input'!J15 -> E8 | J23: =VLOOKUP(I23,Results!$N$2:$O$11,2,FALSE) -> Green Wizards | K23: =+'Results Input'!L15 -> 18
B24: =CONCATENATE(E24,F24) -> 3E7 | C24: =CONCATENATE(E24,I24) -> 3X | D24: =+D20 -> 46297 | E24: =+'Results Input'!F16 -> 3 | F24: =+'Results Input'!G16 -> E7 | G24: =VLOOKUP(F24,Results!$N$2:$O$11,2,FALSE) -> Golfers | H24: =+'Results Input'!I16 -> 0 | I24: =+'Results Input'!J16 -> X | J24: =VLOOKUP(I24,Results!$N$2:$O$11,2,FALSE) -> No Match
B25: =CONCATENATE(E25,F25) -> 3E9 | C25: =CONCATENATE(E25,I25) -> 3E6 | D25: =+D20 -> 46297 | E25: =+E20 -> 3 | F25: =+I20 -> E9 | G25: =VLOOKUP(F25,Results!$N$2:$O$11,2,FALSE) -> Biased Boys | H25: =+K20 -> 7 | I25: =+F20 -> E6 | J25: =VLOOKUP(I25,Results!$N$2:$O$11,2,FALSE) -> Starlite | K25: =+H20 -> 20
B26: =CONCATENATE(E26,F26) -> 3E3 | C26: =CONCATENATE(E26,I26) -> 3E1 | D26: =+D20 -> 46297 | E26: =+E21 -> 3 | F26: =+I21 -> E3 | G26: =VLOOKUP(F26,Results!$N$2:$O$11,2,FALSE) -> Riches Rollers | H26: =+K21 -> 8 | I26: =+F21 -> E1 | J26: =VLOOKUP(I26,Results!$N$2:$O$11,2,FALSE) -> Misfits | K26: =+H21 -> 13
B27: =CONCATENATE(E27,F27) -> 3E4 | C27: =CONCATENATE(E27,I27) -> 3E2 | D27: =+D20 -> 46297 | E27: =+E22 -> 3 | F27: =+I22 -> E4 | G27: =VLOOKUP(F27,Results!$N$2:$O$11,2,FALSE) -> Bullets | H27: =+K22 -> 15 | I27: =+F22 -> E2 | J27: =VLOOKUP(I27,Results!$N$2:$O$11,2,FALSE) -> Team Krewna | K27: =+H22 -> 18
B28: =CONCATENATE(E28,F28) -> 3E8 | C28: =CONCATENATE(E28,I28) -> 3E5 | D28: =+D20 -> 46297 | E28: =+E23 -> 3 | F28: =+I23 -> E8 | G28: =VLOOKUP(F28,Results!$N$2:$O$11,2,FALSE) -> Green Wizards | H28: =+K23 -> 18 | I28: =+F23 -> E5 | J28: =VLOOKUP(I28,Results!$N$2:$O$11,2,FALSE) -> New Builds | K28: =+H23 -> 12
B29: =CONCATENATE(E29,F29) -> 4E8 | C29: =CONCATENATE(E29,I29) -> 4E9 | D29: =+'Results Input'!E17 -> 46303 | E29: =+'Results Input'!F17 -> 4 | F29: =+'Results Input'!G17 -> E8 | G29: =VLOOKUP(F29,Results!$N$2:$O$11,2,FALSE) -> Green Wizards | H29: =+'Results Input'!I17 -> 4 | I29: =+'Results Input'!J17 -> E9 | J29: =VLOOKUP(I29,Results!$N$2:$O$11,2,FALSE) -> Biased Boys | K29: =+'Results Input'!L17 -> 22
B30: =CONCATENATE(E30,F30) -> 4E7 | C30: =CONCATENATE(E30,I30) -> 4E2 | D30: =+D29 -> 46303 | E30: =+'Results Input'!F18 -> 4 | F30: =+'Results Input'!G18 -> E7 | G30: =VLOOKUP(F30,Results!$N$2:$O$11,2,FALSE) -> Golfers | H30: =+'Results Input'!I18 -> 13 | I30: =+'Results Input'!J18 -> E2 | J30: =VLOOKUP(I30,Results!$N$2:$O$11,2,FALSE) -> Team Krewna | K30: =+'Results Input'!L18 -> 17
B31: =CONCATENATE(E31,F31) -> 4E3 | C31: =CONCATENATE(E31,I31) -> 4E5 | D31: =+D29 -> 46303 | E31: =+'Results Input'!F19 -> 4 | F31: =+'Results Input'!G19 -> E3 | G31: =VLOOKUP(F31,Results!$N$2:$O$11,2,FALSE) -> Riches Rollers | H31: =+'Results Input'!I19 -> 13 | I31: =+'Results Input'!J19 -> E5 | J31: =VLOOKUP(I31,Results!$N$2:$O$11,2,FALSE) -> New Builds | K31: =+'Results Input'!L19 -> 14
B32: =CONCATENATE(E32,F32) -> 4E1 | C32: =CONCATENATE(E32,I32) -> 4E4 | D32: =+D29 -> 46303 | E32: =+'Results Input'!F20 -> 4 | F32: =+'Results Input'!G20 -> E1 | G32: =VLOOKUP(F32,Results!$N$2:$O$11,2,FALSE) -> Misfits | H32: =+'Results Input'!I20 -> 11 | I32: =+'Results Input'!J20 -> E4 | J32: =VLOOKUP(I32,Results!$N$2:$O$11,2,FALSE) -> Bullets | K32: =+'Results Input'!L20 -> 20
B33: =CONCATENATE(E33,F33) -> 4E6 | C33: =CONCATENATE(E33,I33) -> 4X | D33: =+D29 -> 46303 | E33: =+'Results Input'!F21 -> 4 | F33: =+'Results Input'!G21 -> E6 | G33: =VLOOKUP(F33,Results!$N$2:$O$11,2,FALSE) -> Starlite | H33: =+'Results Input'!I21 -> 0 | I33: =+'Results Input'!J21 -> X | J33: =VLOOKUP(I33,Results!$N$2:$O$11,2,FALSE) -> No Match
B34: =CONCATENATE(E34,F34) -> 4E9 | C34: =CONCATENATE(E34,I34) -> 4E8 | D34: =+D29 -> 46303 | E34: =+E29 -> 4 | F34: =+I29 -> E9 | G34: =VLOOKUP(F34,Results!$N$2:$O$11,2,FALSE) -> Biased Boys | H34: =+K29 -> 22 | I34: =+F29 -> E8 | J34: =VLOOKUP(I34,Results!$N$2:$O$11,2,FALSE) -> Green Wizards | K34: =+H29 -> 4
B35: =CONCATENATE(E35,F35) -> 4E2 | C35: =CONCATENATE(E35,I35) -> 4E7 | D35: =+D29 -> 46303 | E35: =+E30 -> 4 | F35: =+I30 -> E2 | G35: =VLOOKUP(F35,Results!$N$2:$O$11,2,FALSE) -> Team Krewna | H35: =+K30 -> 17 | I35: =+F30 -> E7 | J35: =VLOOKUP(I35,Results!$N$2:$O$11,2,FALSE) -> Golfers | K35: =+H30 -> 13
B36: =CONCATENATE(E36,F36) -> 4E5 | C36: =CONCATENATE(E36,I36) -> 4E3 | D36: =+D29 -> 46303 | E36: =+E31 -> 4 | F36: =+I31 -> E5 | G36: =VLOOKUP(F36,Results!$N$2:$O$11,2,FALSE) -> New Builds | H36: =+K31 -> 14 | I36: =+F31 -> E3 | J36: =VLOOKUP(I36,Results!$N$2:$O$11,2,FALSE) -> Riches Rollers | K36: =+H31 -> 13
B37: =CONCATENATE(E37,F37) -> 4E4 | C37: =CONCATENATE(E37,I37) -> 4E1 | D37: =+D29 -> 46303 | E37: =+E32 -> 4 | F37: =+I32 -> E4 | G37: =VLOOKUP(F37,Results!$N$2:$O$11,2,FALSE) -> Bullets | H37: =+K32 -> 20 | I37: =+F32 -> E1 | J37: =VLOOKUP(I37,Results!$N$2:$O$11,2,FALSE) -> Misfits | K37: =+H32 -> 11
B38: =CONCATENATE(E38,F38) -> 5E9 | C38: =CONCATENATE(E38,I38) -> 5E3 | D38: =+'Results Input'!E22 -> 46311 | E38: =+'Results Input'!F22 -> 5 | F38: =+'Results Input'!G22 -> E9 | G38: =VLOOKUP(F38,Results!$N$2:$O$11,2,FALSE) -> Biased Boys | H38: =+'Results Input'!I22 -> 9 | I38: =+'Results Input'!J22 -> E3 | J38: =VLOOKUP(I38,Results!$N$2:$O$11,2,FALSE) -> Riches Rollers | K38: =+'Results Input'!L22 -> 16
B39: =CONCATENATE(E39,F39) -> 5E4 | C39: =CONCATENATE(E39,I39) -> 5E7 | D39: =+D38 -> 46311 | E39: =+'Results Input'!F23 -> 5 | F39: =+'Results Input'!G23 -> E4 | G39: =VLOOKUP(F39,Results!$N$2:$O$11,2,FALSE) -> Bullets | H39: =+'Results Input'!I23 -> 28 | I39: =+'Results Input'!J23 -> E7 | J39: =VLOOKUP(I39,Results!$N$2:$O$11,2,FALSE) -> Golfers | K39: =+'Results Input'!L23 -> 4
B40: =CONCATENATE(E40,F40) -> 5E6 | C40: =CONCATENATE(E40,I40) -> 5E1 | D40: =+D38 -> 46311 | E40: =+'Results Input'!F24 -> 5 | F40: =+'Results Input'!G24 -> E6 | G40: =VLOOKUP(F40,Results!$N$2:$O$11,2,FALSE) -> Starlite | H40: =+'Results Input'!I24 -> 26 | I40: =+'Results Input'!J24 -> E1 | J40: =VLOOKUP(I40,Results!$N$2:$O$11,2,FALSE) -> Misfits | K40: =+'Results Input'!L24 -> 7
B41: =CONCATENATE(E41,F41) -> 5E8 | C41: =CONCATENATE(E41,I41) -> 5E2 | D41: =+D38 -> 46311 | E41: =+'Results Input'!F25 -> 5 | F41: =+'Results Input'!G25 -> E8 | G41: =VLOOKUP(F41,Results!$N$2:$O$11,2,FALSE) -> Green Wizards | H41: =+'Results Input'!I25 -> 9 | I41: =+'Results Input'!J25 -> E2 | J41: =VLOOKUP(I41,Results!$N$2:$O$11,2,FALSE) -> Team Krewna | K41: =+'Results Input'!L25 -> 21
B42: =CONCATENATE(E42,F42) -> 5E5 | C42: =CONCATENATE(E42,I42) -> 5X | D42: =+D38 -> 46311 | E42: =+'Results Input'!F26 -> 5 | F42: =+'Results Input'!G26 -> E5 | G42: =VLOOKUP(F42,Results!$N$2:$O$11,2,FALSE) -> New Builds | H42: =+'Results Input'!I26 -> 0 | I42: =+'Results Input'!J26 -> X | J42: =VLOOKUP(I42,Results!$N$2:$O$11,2,FALSE) -> No Match
B43: =CONCATENATE(E43,F43) -> 5E3 | C43: =CONCATENATE(E43,I43) -> 5E9 | D43: =+D38 -> 46311 | E43: =+E38 -> 5 | F43: =+I38 -> E3 | G43: =VLOOKUP(F43,Results!$N$2:$O$11,2,FALSE) -> Riches Rollers | H43: =+K38 -> 16 | I43: =+F38 -> E9 | J43: =VLOOKUP(I43,Results!$N$2:$O$11,2,FALSE) -> Biased Boys | K43: =+H38 -> 9
B44: =CONCATENATE(E44,F44) -> 5E7 | C44: =CONCATENATE(E44,I44) -> 5E4 | D44: =+D38 -> 46311 | E44: =+E39 -> 5 | F44: =+I39 -> E7 | G44: =VLOOKUP(F44,Results!$N$2:$O$11,2,FALSE) -> Golfers | H44: =+K39 -> 4 | I44: =+F39 -> E4 | J44: =VLOOKUP(I44,Results!$N$2:$O$11,2,FALSE) -> Bullets | K44: =+H39 -> 28
B45: =CONCATENATE(E45,F45) -> 5E1 | C45: =CONCATENATE(E45,I45) -> 5E6 | D45: =+D38 -> 46311 | E45: =+E40 -> 5 | F45: =+I40 -> E1 | G45: =VLOOKUP(F45,Results!$N$2:$O$11,2,FALSE) -> Misfits | H45: =+K40 -> 7 | I45: =+F40 -> E6 | J45: =VLOOKUP(I45,Results!$N$2:$O$11,2,FALSE) -> Starlite | K45: =+H40 -> 26
B46: =CONCATENATE(E46,F46) -> 5E2 | C46: =CONCATENATE(E46,I46) -> 5E8 | D46: =+D38 -> 46311 | E46: =+E41 -> 5 | F46: =+I41 -> E2 | G46: =VLOOKUP(F46,Results!$N$2:$O$11,2,FALSE) -> Team Krewna | H46: =+K41 -> 21 | I46: =+F41 -> E8 | J46: =VLOOKUP(I46,Results!$N$2:$O$11,2,FALSE) -> Green Wizards | K46: =+H41 -> 9
B47: =CONCATENATE(E47,F47) -> 6E8 | C47: =CONCATENATE(E47,I47) -> 6E3 | D47: =+'Results Input'!E27 -> 46317 | E47: =+'Results Input'!F27 -> 6 | F47: =+'Results Input'!G27 -> E8 | G47: =VLOOKUP(F47,Results!$N$2:$O$11,2,FALSE) -> Green Wizards | H47: =+'Results Input'!I27 -> 5 | I47: =+'Results Input'!J27 -> E3 | J47: =VLOOKUP(I47,Results!$N$2:$O$11,2,FALSE) -> Riches Rollers | K47: =+'Results Input'!L27 -> 22
B48: =CONCATENATE(E48,F48) -> 6E5 | C48: =CONCATENATE(E48,I48) -> 6E9 | D48: =+D47 -> 46317 | E48: =+'Results Input'!F28 -> 6 | F48: =+'Results Input'!G28 -> E5 | G48: =VLOOKUP(F48,Results!$N$2:$O$11,2,FALSE) -> New Builds | H48: =+'Results Input'!I28 -> 15 | I48: =+'Results Input'!J28 -> E9 | J48: =VLOOKUP(I48,Results!$N$2:$O$11,2,FALSE) -> Biased Boys | K48: =+'Results Input'!L28 -> 15
B49: =CONCATENATE(E49,F49) -> 6E7 | C49: =CONCATENATE(E49,I49) -> 6E1 | D49: =+D47 -> 46317 | E49: =+'Results Input'!F29 -> 6 | F49: =+'Results Input'!G29 -> E7 | G49: =VLOOKUP(F49,Results!$N$2:$O$11,2,FALSE) -> Golfers | H49: =+'Results Input'!I29 -> 15 | I49: =+'Results Input'!J29 -> E1 | J49: =VLOOKUP(I49,Results!$N$2:$O$11,2,FALSE) -> Misfits | K49: =+'Results Input'!L29 -> 11
B50: =CONCATENATE(E50,F50) -> 6E2 | C50: =CONCATENATE(E50,I50) -> 6E6 | D50: =+D47 -> 46317 | E50: =+'Results Input'!F30 -> 6 | F50: =+'Results Input'!G30 -> E2 | G50: =VLOOKUP(F50,Results!$N$2:$O$11,2,FALSE) -> Team Krewna | H50: =+'Results Input'!I30 -> N | I50: =+'Results Input'!J30 -> E6 | J50: =VLOOKUP(I50,Results!$N$2:$O$11,2,FALSE) -> Starlite | K50: =+'Results Input'!L30 -> N
B51: =CONCATENATE(E51,F51) -> 6E4 | C51: =CONCATENATE(E51,I51) -> 6X | D51: =+D47 -> 46317 | E51: =+'Results Input'!F31 -> 6 | F51: =+'Results Input'!G31 -> E4 | G51: =VLOOKUP(F51,Results!$N$2:$O$11,2,FALSE) -> Bullets | H51: =+'Results Input'!I31 -> 0 | I51: =+'Results Input'!J31 -> X | J51: =VLOOKUP(I51,Results!$N$2:$O$11,2,FALSE) -> No Match
B52: =CONCATENATE(E52,F52) -> 6E3 | C52: =CONCATENATE(E52,I52) -> 6E8 | D52: =+D47 -> 46317 | E52: =+E47 -> 6 | F52: =+I47 -> E3 | G52: =VLOOKUP(F52,Results!$N$2:$O$11,2,FALSE) -> Riches Rollers | H52: =+K47 -> 22 | I52: =+F47 -> E8 | J52: =VLOOKUP(I52,Results!$N$2:$O$11,2,FALSE) -> Green Wizards | K52: =+H47 -> 5
B53: =CONCATENATE(E53,F53) -> 6E9 | C53: =CONCATENATE(E53,I53) -> 6E5 | D53: =+D47 -> 46317 | E53: =+E48 -> 6 | F53: =+I48 -> E9 | G53: =VLOOKUP(F53,Results!$N$2:$O$11,2,FALSE) -> Biased Boys | H53: =+K48 -> 15 | I53: =+F48 -> E5 | J53: =VLOOKUP(I53,Results!$N$2:$O$11,2,FALSE) -> New Builds | K53: =+H48 -> 15
B54: =CONCATENATE(E54,F54) -> 6E1 | C54: =CONCATENATE(E54,I54) -> 6E7 | D54: =+D47 -> 46317 | E54: =+E49 -> 6 | F54: =+I49 -> E1 | G54: =VLOOKUP(F54,Results!$N$2:$O$11,2,FALSE) -> Misfits | H54: =+K49 -> 11 | I54: =+F49 -> E7 | J54: =VLOOKUP(I54,Results!$N$2:$O$11,2,FALSE) -> Golfers | K54: =+H49 -> 15
B55: =CONCATENATE(E55,F55) -> 6E6 | C55: =CONCATENATE(E55,I55) -> 6E2 | D55: =+D47 -> 46317 | E55: =+E50 -> 6 | F55: =+I50 -> E6 | G55: =VLOOKUP(F55,Results!$N$2:$O$11,2,FALSE) -> Starlite | H55: =+K50 -> N | I55: =+F50 -> E2 | J55: =VLOOKUP(I55,Results!$N$2:$O$11,2,FALSE) -> Team Krewna | K55: =+H50 -> N
B56: =CONCATENATE(E56,F56) -> 7E4 | C56: =CONCATENATE(E56,I56) -> 7E6 | D56: =+'Results Input'!E32 -> 46325 | E56: =+'Results Input'!F32 -> 7 | F56: =+'Results Input'!G32 -> E4 | G56: =VLOOKUP(F56,Results!$N$2:$O$11,2,FALSE) -> Bullets | H56: =+'Results Input'!I32 -> 0 | I56: =+'Results Input'!J32 -> E6 | J56: =VLOOKUP(I56,Results!$N$2:$O$11,2,FALSE) -> Starlite | K56: =+'Results Input'!L32 -> 0
B57: =CONCATENATE(E57,F57) -> 7E2 | C57: =CONCATENATE(E57,I57) -> 7E5 | D57: =+D56 -> 46325 | E57: =+'Results Input'!F33 -> 7 | F57: =+'Results Input'!G33 -> E2 | G57: =VLOOKUP(F57,Results!$N$2:$O$11,2,FALSE) -> Team Krewna | H57: =+'Results Input'!I33 -> 0 | I57: =+'Results Input'!J33 -> E5 | J57: =VLOOKUP(I57,Results!$N$2:$O$11,2,FALSE) -> New Builds | K57: =+'Results Input'!L33 -> 0
B58: =CONCATENATE(E58,F58) -> 7E7 | C58: =CONCATENATE(E58,I58) -> 7E9 | D58: =+D56 -> 46325 | E58: =+'Results Input'!F34 -> 7 | F58: =+'Results Input'!G34 -> E7 | G58: =VLOOKUP(F58,Results!$N$2:$O$11,2,FALSE) -> Golfers | H58: =+'Results Input'!I34 -> 0 | I58: =+'Results Input'!J34 -> E9 | J58: =VLOOKUP(I58,Results!$N$2:$O$11,2,FALSE) -> Biased Boys | K58: =+'Results Input'!L34 -> 0
B59: =CONCATENATE(E59,F59) -> 7E8 | C59: =CONCATENATE(E59,I59) -> 7E1 | D59: =+D56 -> 46325 | E59: =+'Results Input'!F35 -> 7 | F59: =+'Results Input'!G35 -> E8 | G59: =VLOOKUP(F59,Results!$N$2:$O$11,2,FALSE) -> Green Wizards | H59: =+'Results Input'!I35 -> 0 | I59: =+'Results Input'!J35 -> E1 | J59: =VLOOKUP(I59,Results!$N$2:$O$11,2,FALSE) -> Misfits | K59: =+'Results Input'!L35 -> 0
B60: =CONCATENATE(E60,F60) -> 7E3 | C60: =CONCATENATE(E60,I60) -> 7X | D60: =+D56 -> 46325 | E60: =+'Results Input'!F36 -> 7 | F60: =+'Results Input'!G36 -> E3 | G60: =VLOOKUP(F60,Results!$N$2:$O$11,2,FALSE) -> Riches Rollers | H60: =+'Results Input'!I36 -> 0 | I60: =+'Results Input'!J36 -> X | J60: =VLOOKUP(I60,Results!$N$2:$O$11,2,FALSE) -> No Match
B61: =CONCATENATE(E61,F61) -> 7E6 | C61: =CONCATENATE(E61,I61) -> 7E4 | D61: =+D56 -> 46325 | E61: =+E56 -> 7 | F61: =+I56 -> E6 | G61: =VLOOKUP(F61,Results!$N$2:$O$11,2,FALSE) -> Starlite | H61: =+K56 -> 0 | I61: =+F56 -> E4 | J61: =VLOOKUP(I61,Results!$N$2:$O$11,2,FALSE) -> Bullets | K61: =+H56 -> 0
B62: =CONCATENATE(E62,F62) -> 7E5 | C62: =CONCATENATE(E62,I62) -> 7E2 | D62: =+D56 -> 46325 | E62: =+E57 -> 7 | F62: =+I57 -> E5 | G62: =VLOOKUP(F62,Results!$N$2:$O$11,2,FALSE) -> New Builds | H62: =+K57 -> 0 | I62: =+F57 -> E2 | J62: =VLOOKUP(I62,Results!$N$2:$O$11,2,FALSE) -> Team Krewna | K62: =+H57 -> 0
B63: =CONCATENATE(E63,F63) -> 7E9 | C63: =CONCATENATE(E63,I63) -> 7E7 | D63: =+D56 -> 46325 | E63: =+E58 -> 7 | F63: =+I58 -> E9 | G63: =VLOOKUP(F63,Results!$N$2:$O$11,2,FALSE) -> Biased Boys | H63: =+K58 -> 0 | I63: =+F58 -> E7 | J63: =VLOOKUP(I63,Results!$N$2:$O$11,2,FALSE) -> Golfers | K63: =+H58 -> 0
B64: =CONCATENATE(E64,F64) -> 7E1 | C64: =CONCATENATE(E64,I64) -> 7E8 | D64: =+D56 -> 46325 | E64: =+E59 -> 7 | F64: =+I59 -> E1 | G64: =VLOOKUP(F64,Results!$N$2:$O$11,2,FALSE) -> Misfits | H64: =+K59 -> 0 | I64: =+F59 -> E8 | J64: =VLOOKUP(I64,Results!$N$2:$O$11,2,FALSE) -> Green Wizards | K64: =+H59 -> 0
B65: =CONCATENATE(E65,F65) -> 8E1 | C65: =CONCATENATE(E65,I65) -> 8E5 | D65: =+'Results Input'!E37 -> 46331 | E65: =+'Results Input'!F37 -> 8 | F65: =+'Results Input'!G37 -> E1 | G65: =VLOOKUP(F65,Results!$N$2:$O$11,2,FALSE) -> Misfits | H65: =+'Results Input'!I37 -> 0 | I65: =+'Results Input'!J37 -> E5 | J65: =VLOOKUP(I65,Results!$N$2:$O$11,2,FALSE) -> New Builds | K65: =+'Results Input'!L37 -> 0
B66: =CONCATENATE(E66,F66) -> 8E6 | C66: =CONCATENATE(E66,I66) -> 8E8 | D66: =+D65 -> 46331 | E66: =+'Results Input'!F38 -> 8 | F66: =+'Results Input'!G38 -> E6 | G66: =VLOOKUP(F66,Results!$N$2:$O$11,2,FALSE) -> Starlite | H66: =+'Results Input'!I38 -> 0 | I66: =+'Results Input'!J38 -> E8 | J66: =VLOOKUP(I66,Results!$N$2:$O$11,2,FALSE) -> Green Wizards | K66: =+'Results Input'!L38 -> 0
B67: =CONCATENATE(E67,F67) -> 8E9 | C67: =CONCATENATE(E67,I67) -> 8E4 | D67: =+D65 -> 46331 | E67: =+'Results Input'!F39 -> 8 | F67: =+'Results Input'!G39 -> E9 | G67: =VLOOKUP(F67,Results!$N$2:$O$11,2,FALSE) -> Biased Boys | H67: =+'Results Input'!I39 -> 0 | I67: =+'Results Input'!J39 -> E4 | J67: =VLOOKUP(I67,Results!$N$2:$O$11,2,FALSE) -> Bullets | K67: =+'Results Input'!L39 -> 0
B68: =CONCATENATE(E68,F68) -> 8E3 | C68: =CONCATENATE(E68,I68) -> 8E7 | D68: =+D65 -> 46331 | E68: =+'Results Input'!F40 -> 8 | F68: =+'Results Input'!G40 -> E3 | G68: =VLOOKUP(F68,Results!$N$2:$O$11,2,FALSE) -> Riches Rollers | H68: =+'Results Input'!I40 -> 0 | I68: =+'Results Input'!J40 -> E7 | J68: =VLOOKUP(I68,Results!$N$2:$O$11,2,FALSE) -> Golfers | K68: =+'Results Input'!L40 -> 0
B69: =CONCATENATE(E69,F69) -> 8E2 | C69: =CONCATENATE(E69,I69) -> 8X | D69: =+D65 -> 46331 | E69: =+'Results Input'!F41 -> 8 | F69: =+'Results Input'!G41 -> E2 | G69: =VLOOKUP(F69,Results!$N$2:$O$11,2,FALSE) -> Team Krewna | H69: =+'Results Input'!I41 -> 0 | I69: =+'Results Input'!J41 -> X | J69: =VLOOKUP(I69,Results!$N$2:$O$11,2,FALSE) -> No Match
B70: =CONCATENATE(E70,F70) -> 8E5 | C70: =CONCATENATE(E70,I70) -> 8E1 | D70: =+D65 -> 46331 | E70: =+E65 -> 8 | F70: =+I65 -> E5 | G70: =VLOOKUP(F70,Results!$N$2:$O$11,2,FALSE) -> New Builds | H70: =+K65 -> 0 | I70: =+F65 -> E1 | J70: =VLOOKUP(I70,Results!$N$2:$O$11,2,FALSE) -> Misfits | K70: =+H65 -> 0
B71: =CONCATENATE(E71,F71) -> 8E8 | C71: =CONCATENATE(E71,I71) -> 8E6 | D71: =+D65 -> 46331 | E71: =+E66 -> 8 | F71: =+I66 -> E8 | G71: =VLOOKUP(F71,Results!$N$2:$O$11,2,FALSE) -> Green Wizards | H71: =+K66 -> 0 | I71: =+F66 -> E6 | J71: =VLOOKUP(I71,Results!$N$2:$O$11,2,FALSE) -> Starlite | K71: =+H66 -> 0
B72: =CONCATENATE(E72,F72) -> 8E4 | C72: =CONCATENATE(E72,I72) -> 8E9 | D72: =+D65 -> 46331 | E72: =+E67 -> 8 | F72: =+I67 -> E4 | G72: =VLOOKUP(F72,Results!$N$2:$O$11,2,FALSE) -> Bullets | H72: =+K67 -> 0 | I72: =+F67 -> E9 | J72: =VLOOKUP(I72,Results!$N$2:$O$11,2,FALSE) -> Biased Boys | K72: =+H67 -> 0
B73: =CONCATENATE(E73,F73) -> 8E7 | C73: =CONCATENATE(E73,I73) -> 8E3 | D73: =+D65 -> 46331 | E73: =+E68 -> 8 | F73: =+I68 -> E7 | G73: =VLOOKUP(F73,Results!$N$2:$O$11,2,FALSE) -> Golfers | H73: =+K68 -> 0 | I73: =+F68 -> E3 | J73: =VLOOKUP(I73,Results!$N$2:$O$11,2,FALSE) -> Riches Rollers | K73: =+H68 -> 0
B74: =CONCATENATE(E74,F74) -> 9E5 | C74: =CONCATENATE(E74,I74) -> 9E7 | D74: =+'Results Input'!E42 -> 46339 | E74: =+'Results Input'!F42 -> 9 | F74: =+'Results Input'!G42 -> E5 | G74: =VLOOKUP(F74,Results!$N$2:$O$11,2,FALSE) -> New Builds | H74: =+'Results Input'!I42 -> 0 | I74: =+'Results Input'!J42 -> E7 | J74: =VLOOKUP(I74,Results!$N$2:$O$11,2,FALSE) -> Golfers | K74: =+'Results Input'!L42 -> 0
B75: =CONCATENATE(E75,F75) -> 9E4 | C75: =CONCATENATE(E75,I75) -> 9E8 | D75: =+D74 -> 46339 | E75: =+'Results Input'!F43 -> 9 | F75: =+'Results Input'!G43 -> E4 | G75: =VLOOKUP(F75,Results!$N$2:$O$11,2,FALSE) -> Bullets | H75: =+'Results Input'!I43 -> 0 | I75: =+'Results Input'!J43 -> E8 | J75: =VLOOKUP(I75,Results!$N$2:$O$11,2,FALSE) -> Green Wizards | K75: =+'Results Input'!L43 -> 0
B76: =CONCATENATE(E76,F76) -> 9E9 | C76: =CONCATENATE(E76,I76) -> 9E2 | D76: =+D74 -> 46339 | E76: =+'Results Input'!F44 -> 9 | F76: =+'Results Input'!G44 -> E9 | G76: =VLOOKUP(F76,Results!$N$2:$O$11,2,FALSE) -> Biased Boys | H76: =+'Results Input'!I44 -> 0 | I76: =+'Results Input'!J44 -> E2 | J76: =VLOOKUP(I76,Results!$N$2:$O$11,2,FALSE) -> Team Krewna | K76: =+'Results Input'!L44 -> 0
B77: =CONCATENATE(E77,F77) -> 9E3 | C77: =CONCATENATE(E77,I77) -> 9E6 | D77: =+D74 -> 46339 | E77: =+'Results Input'!F45 -> 9 | F77: =+'Results Input'!G45 -> E3 | G77: =VLOOKUP(F77,Results!$N$2:$O$11,2,FALSE) -> Riches Rollers | H77: =+'Results Input'!I45 -> 0 | I77: =+'Results Input'!J45 -> E6 | J77: =VLOOKUP(I77,Results!$N$2:$O$11,2,FALSE) -> Starlite | K77: =+'Results Input'!L45 -> 0
B78: =CONCATENATE(E78,F78) -> 9E1 | C78: =CONCATENATE(E78,I78) -> 9X | D78: =+D74 -> 46339 | E78: =+'Results Input'!F46 -> 9 | F78: =+'Results Input'!G46 -> E1 | G78: =VLOOKUP(F78,Results!$N$2:$O$11,2,FALSE) -> Misfits | H78: =+'Results Input'!I46 -> 0 | I78: =+'Results Input'!J46 -> X | J78: =VLOOKUP(I78,Results!$N$2:$O$11,2,FALSE) -> No Match
B79: =CONCATENATE(E79,F79) -> 9E7 | C79: =CONCATENATE(E79,I79) -> 9E5 | D79: =+D74 -> 46339 | E79: =+E74 -> 9 | F79: =+I74 -> E7 | G79: =VLOOKUP(F79,Results!$N$2:$O$11,2,FALSE) -> Golfers | H79: =+K74 -> 0 | I79: =+F74 -> E5 | J79: =VLOOKUP(I79,Results!$N$2:$O$11,2,FALSE) -> New Builds | K79: =+H74 -> 0
B80: =CONCATENATE(E80,F80) -> 9E8 | C80: =CONCATENATE(E80,I80) -> 9E4 | D80: =+D74 -> 46339 | E80: =+E75 -> 9 | F80: =+I75 -> E8 | G80: =VLOOKUP(F80,Results!$N$2:$O$11,2,FALSE) -> Green Wizards | H80: =+K75 -> 0 | I80: =+F75 -> E4 | J80: =VLOOKUP(I80,Results!$N$2:$O$11,2,FALSE) -> Bullets | K80: =+H75 -> 0
B81: =CONCATENATE(E81,F81) -> 9E2 | C81: =CONCATENATE(E81,I81) -> 9E9 | D81: =+D74 -> 46339 | E81: =+E76 -> 9 | F81: =+I76 -> E2 | G81: =VLOOKUP(F81,Results!$N$2:$O$11,2,FALSE) -> Team Krewna | H81: =+K76 -> 0 | I81: =+F76 -> E9 | J81: =VLOOKUP(I81,Results!$N$2:$O$11,2,FALSE) -> Biased Boys | K81: =+H76 -> 0
B82: =CONCATENATE(E82,F82) -> 9E6 | C82: =CONCATENATE(E82,I82) -> 9E3 | D82: =+D74 -> 46339 | E82: =+E77 -> 9 | F82: =+I77 -> E6 | G82: =VLOOKUP(F82,Results!$N$2:$O$11,2,FALSE) -> Starlite | H82: =+K77 -> 0 | I82: =+F77 -> E3 | J82: =VLOOKUP(I82,Results!$N$2:$O$11,2,FALSE) -> Riches Rollers | K82: =+H77 -> 0
B83: =CONCATENATE(E83,F83) -> 10E8 | C83: =CONCATENATE(E83,I83) -> 10E7 | D83: =+'Results Input'!E47 -> 46345 | E83: =+'Results Input'!F47 -> 10 | F83: =+'Results Input'!G47 -> E8 | G83: =VLOOKUP(F83,Results!$N$2:$O$11,2,FALSE) -> Green Wizards | H83: =+'Results Input'!I47 -> 0 | I83: =+'Results Input'!J47 -> E7 | J83: =VLOOKUP(I83,Results!$N$2:$O$11,2,FALSE) -> Golfers | K83: =+'Results Input'!L47 -> 0
B84: =CONCATENATE(E84,F84) -> 10E6 | C84: =CONCATENATE(E84,I84) -> 10E5 | D84: =+D83 -> 46345 | E84: =+'Results Input'!F48 -> 10 | F84: =+'Results Input'!G48 -> E6 | G84: =VLOOKUP(F84,Results!$N$2:$O$11,2,FALSE) -> Starlite | H84: =+'Results Input'!I48 -> 0 | I84: =+'Results Input'!J48 -> E5 | J84: =VLOOKUP(I84,Results!$N$2:$O$11,2,FALSE) -> New Builds | K84: =+'Results Input'!L48 -> 0
B85: =CONCATENATE(E85,F85) -> 10E4 | C85: =CONCATENATE(E85,I85) -> 10E3 | D85: =+D83 -> 46345 | E85: =+'Results Input'!F49 -> 10 | F85: =+'Results Input'!G49 -> E4 | G85: =VLOOKUP(F85,Results!$N$2:$O$11,2,FALSE) -> Bullets | H85: =+'Results Input'!I49 -> 0 | I85: =+'Results Input'!J49 -> E3 | J85: =VLOOKUP(I85,Results!$N$2:$O$11,2,FALSE) -> Riches Rollers | K85: =+'Results Input'!L49 -> 0
B86: =CONCATENATE(E86,F86) -> 10E2 | C86: =CONCATENATE(E86,I86) -> 10E1 | D86: =+D83 -> 46345 | E86: =+'Results Input'!F50 -> 10 | F86: =+'Results Input'!G50 -> E2 | G86: =VLOOKUP(F86,Results!$N$2:$O$11,2,FALSE) -> Team Krewna | H86: =+'Results Input'!I50 -> 0 | I86: =+'Results Input'!J50 -> E1 | J86: =VLOOKUP(I86,Results!$N$2:$O$11,2,FALSE) -> Misfits | K86: =+'Results Input'!L50 -> 0
B87: =CONCATENATE(E87,F87) -> 10E9 | C87: =CONCATENATE(E87,I87) -> 10X | D87: =+D83 -> 46345 | E87: =+'Results Input'!F51 -> 10 | F87: =+'Results Input'!G51 -> E9 | G87: =VLOOKUP(F87,Results!$N$2:$O$11,2,FALSE) -> Biased Boys | H87: =+'Results Input'!I51 -> 0 | I87: =+'Results Input'!J51 -> X | J87: =VLOOKUP(I87,Results!$N$2:$O$11,2,FALSE) -> No Match
B88: =CONCATENATE(E88,F88) -> 10E7 | C88: =CONCATENATE(E88,I88) -> 10E8 | D88: =+D83 -> 46345 | E88: =+E83 -> 10 | F88: =+I83 -> E7 | G88: =VLOOKUP(F88,Results!$N$2:$O$11,2,FALSE) -> Golfers | H88: =+K83 -> 0 | I88: =+F83 -> E8 | J88: =VLOOKUP(I88,Results!$N$2:$O$11,2,FALSE) -> Green Wizards | K88: =+H83 -> 0
B89: =CONCATENATE(E89,F89) -> 10E5 | C89: =CONCATENATE(E89,I89) -> 10E6 | D89: =+D83 -> 46345 | E89: =+E84 -> 10 | F89: =+I84 -> E5 | G89: =VLOOKUP(F89,Results!$N$2:$O$11,2,FALSE) -> New Builds | H89: =+K84 -> 0 | I89: =+F84 -> E6 | J89: =VLOOKUP(I89,Results!$N$2:$O$11,2,FALSE) -> Starlite | K89: =+H84 -> 0
B90: =CONCATENATE(E90,F90) -> 10E3 | C90: =CONCATENATE(E90,I90) -> 10E4 | D90: =+D83 -> 46345 | E90: =+E85 -> 10 | F90: =+I85 -> E3 | G90: =VLOOKUP(F90,Results!$N$2:$O$11,2,FALSE) -> Riches Rollers | H90: =+K85 -> 0 | I90: =+F85 -> E4 | J90: =VLOOKUP(I90,Results!$N$2:$O$11,2,FALSE) -> Bullets | K90: =+H85 -> 0
B91: =CONCATENATE(E91,F91) -> 10E1 | C91: =CONCATENATE(E91,I91) -> 10E2 | D91: =+D83 -> 46345 | E91: =+E86 -> 10 | F91: =+I86 -> E1 | G91: =VLOOKUP(F91,Results!$N$2:$O$11,2,FALSE) -> Misfits | H91: =+K86 -> 0 | I91: =+F86 -> E2 | J91: =VLOOKUP(I91,Results!$N$2:$O$11,2,FALSE) -> Team Krewna | K91: =+H86 -> 0
B92: =CONCATENATE(E92,F92) -> 11E5 | C92: =CONCATENATE(E92,I92) -> 11E4 | D92: =+'Results Input'!E52 -> 46353 | E92: =+'Results Input'!F52 -> 11 | F92: =+'Results Input'!G52 -> E5 | G92: =VLOOKUP(F92,Results!$N$2:$O$11,2,FALSE) -> New Builds | H92: =+'Results Input'!I52 -> 0 | I92: =+'Results Input'!J52 -> E4 | J92: =VLOOKUP(I92,Results!$N$2:$O$11,2,FALSE) -> Bullets | K92: =+'Results Input'!L52 -> 0
B93: =CONCATENATE(E93,F93) -> 11E3 | C93: =CONCATENATE(E93,I93) -> 11E2 | D93: =+D92 -> 46353 | E93: =+'Results Input'!F53 -> 11 | F93: =+'Results Input'!G53 -> E3 | G93: =VLOOKUP(F93,Results!$N$2:$O$11,2,FALSE) -> Riches Rollers | H93: =+'Results Input'!I53 -> 0 | I93: =+'Results Input'!J53 -> E2 | J93: =VLOOKUP(I93,Results!$N$2:$O$11,2,FALSE) -> Team Krewna | K93: =+'Results Input'!L53 -> 0
B94: =CONCATENATE(E94,F94) -> 11E1 | C94: =CONCATENATE(E94,I94) -> 11E9 | D94: =+D92 -> 46353 | E94: =+'Results Input'!F54 -> 11 | F94: =+'Results Input'!G54 -> E1 | G94: =VLOOKUP(F94,Results!$N$2:$O$11,2,FALSE) -> Misfits | H94: =+'Results Input'!I54 -> 0 | I94: =+'Results Input'!J54 -> E9 | J94: =VLOOKUP(I94,Results!$N$2:$O$11,2,FALSE) -> Biased Boys | K94: =+'Results Input'!L54 -> 0
B95: =CONCATENATE(E95,F95) -> 11E7 | C95: =CONCATENATE(E95,I95) -> 11E6 | D95: =+D92 -> 46353 | E95: =+'Results Input'!F55 -> 11 | F95: =+'Results Input'!G55 -> E7 | G95: =VLOOKUP(F95,Results!$N$2:$O$11,2,FALSE) -> Golfers | H95: =+'Results Input'!I55 -> 0 | I95: =+'Results Input'!J55 -> E6 | J95: =VLOOKUP(I95,Results!$N$2:$O$11,2,FALSE) -> Starlite | K95: =+'Results Input'!L55 -> 0
B96: =CONCATENATE(E96,F96) -> 11E8 | C96: =CONCATENATE(E96,I96) -> 11X | D96: =+D92 -> 46353 | E96: =+'Results Input'!F56 -> 11 | F96: =+'Results Input'!G56 -> E8 | G96: =VLOOKUP(F96,Results!$N$2:$O$11,2,FALSE) -> Green Wizards | H96: =+'Results Input'!I56 -> 0 | I96: =+'Results Input'!J56 -> X | J96: =VLOOKUP(I96,Results!$N$2:$O$11,2,FALSE) -> No Match
B97: =CONCATENATE(E97,F97) -> 11E4 | C97: =CONCATENATE(E97,I97) -> 11E5 | D97: =+D92 -> 46353 | E97: =+E92 -> 11 | F97: =+I92 -> E4 | G97: =VLOOKUP(F97,Results!$N$2:$O$11,2,FALSE) -> Bullets | H97: =+K92 -> 0 | I97: =+F92 -> E5 | J97: =VLOOKUP(I97,Results!$N$2:$O$11,2,FALSE) -> New Builds | K97: =+H92 -> 0
B98: =CONCATENATE(E98,F98) -> 11E2 | C98: =CONCATENATE(E98,I98) -> 11E3 | D98: =+D92 -> 46353 | E98: =+E93 -> 11 | F98: =+I93 -> E2 | G98: =VLOOKUP(F98,Results!$N$2:$O$11,2,FALSE) -> Team Krewna | H98: =+K93 -> 0 | I98: =+F93 -> E3 | J98: =VLOOKUP(I98,Results!$N$2:$O$11,2,FALSE) -> Riches Rollers | K98: =+H93 -> 0
B99: =CONCATENATE(E99,F99) -> 11E9 | C99: =CONCATENATE(E99,I99) -> 11E1 | D99: =+D92 -> 46353 | E99: =+E94 -> 11 | F99: =+I94 -> E9 | G99: =VLOOKUP(F99,Results!$N$2:$O$11,2,FALSE) -> Biased Boys | H99: =+K94 -> 0 | I99: =+F94 -> E1 | J99: =VLOOKUP(I99,Results!$N$2:$O$11,2,FALSE) -> Misfits | K99: =+H94 -> 0
B100: =CONCATENATE(E100,F100) -> 11E6 | C100: =CONCATENATE(E100,I100) -> 11E7 | D100: =+D92 -> 46353 | E100: =+E95 -> 11 | F100: =+I95 -> E6 | G100: =VLOOKUP(F100,Results!$N$2:$O$11,2,FALSE) -> Starlite | H100: =+K95 -> 0 | I100: =+F95 -> E7 | J100: =VLOOKUP(I100,Results!$N$2:$O$11,2,FALSE) -> Golfers | K100: =+H95 -> 0
...

Sheet Results Input
F1: Week | G1: 6
B2: =CONCATENATE(F2,G2) -> 1E1 | C2: =CONCATENATE(F2,J2) -> 1E2 | E2: 46283 | F2: 1 | G2: E1 | H2: =VLOOKUP(G2,Results!$N$2:$O$11,2,FALSE) -> Misfits | I2: 15 | J2: E2 | K2: =VLOOKUP(J2,Results!$N$2:$O$11,2,FALSE) -> Team Krewna | L2: 18 | M2: Played 15th Oct
B3: =CONCATENATE(F3,G3) -> 1E3 | C3: =CONCATENATE(F3,J3) -> 1E4 | E3: =+E2 -> 46283 | F3: =+F2 -> 1 | G3: E3 | H3: =VLOOKUP(G3,Results!$N$2:$O$11,2,FALSE) -> Riches Rollers | I3: 19 | J3: E4 | K3: =VLOOKUP(J3,Results!$N$2:$O$11,2,FALSE) -> Bullets | L3: 13
B4: =CONCATENATE(F4,G4) -> 1E5 | C4: =CONCATENATE(F4,J4) -> 1E6 | E4: =+E2 -> 46283 | F4: =+F2 -> 1 | G4: E5 | H4: =VLOOKUP(G4,Results!$N$2:$O$11,2,FALSE) -> New Builds | I4: N | J4: E6 | K4: =VLOOKUP(J4,Results!$N$2:$O$11,2,FALSE) -> Starlite | L4: N
B5: =CONCATENATE(F5,G5) -> 1E7 | C5: =CONCATENATE(F5,J5) -> 1E8 | E5: =+E2 -> 46283 | F5: =+F2 -> 1 | G5: E7 | H5: =VLOOKUP(G5,Results!$N$2:$O$11,2,FALSE) -> Golfers | I5: 23 | J5: E8 | K5: =VLOOKUP(J5,Results!$N$2:$O$11,2,FALSE) -> Green Wizards | L5: 7
B6: =CONCATENATE(F6,G6) -> 1E9 | C6: =CONCATENATE(F6,J6) -> 1X | E6: =+E2 -> 46283 | F6: =+F2 -> 1 | G6: E9 | H6: =VLOOKUP(G6,Results!$N$2:$O$11,2,FALSE) -> Biased Boys | J6: X | K6: =VLOOKUP(J6,Results!$N$2:$O$11,2,FALSE) -> No Match
B7: =CONCATENATE(F7,G7) -> 2E6 | C7: =CONCATENATE(F7,J7) -> 2E7 | E7: 46289 | F7: 2 | G7: E6 | H7: =VLOOKUP(G7,Results!$N$2:$O$11,2,FALSE) -> Starlite | I7: 17 | J7: E7 | K7: =VLOOKUP(J7,Results!$N$2:$O$11,2,FALSE) -> Golfers | L7: 13
B8: =CONCATENATE(F8,G8) -> 2E9 | C8: =CONCATENATE(F8,J8) -> 2E1 | E8: =+E7 -> 46289 | F8: =+F7 -> 2 | G8: E9 | H8: =VLOOKUP(G8,Results!$N$2:$O$11,2,FALSE) -> Biased Boys | I8: 14 | J8: E1 | K8: =VLOOKUP(J8,Results!$N$2:$O$11,2,FALSE) -> Misfits | L8: 13
B9: =CONCATENATE(F9,G9) -> 2E2 | C9: =CONCATENATE(F9,J9) -> 2E3 | E9: =+E7 -> 46289 | F9: =+F7 -> 2 | G9: E2 | H9: =VLOOKUP(G9,Results!$N$2:$O$11,2,FALSE) -> Team Krewna | I9: 9 | J9: E3 | K9: =VLOOKUP(J9,Results!$N$2:$O$11,2,FALSE) -> Riches Rollers | L9: 17
B10: =CONCATENATE(F10,G10) -> 2E4 | C10: =CONCATENATE(F10,J10) -> 2E5 | E10: =+E7 -> 46289 | F10: =+F7 -> 2 | G10: E4 | H10: =VLOOKUP(G10,Results!$N$2:$O$11,2,FALSE) -> Bullets | I10: 15 | J10: E5 | K10: =VLOOKUP(J10,Results!$N$2:$O$11,2,FALSE) -> New Builds | L10: 12
B11: =CONCATENATE(F11,G11) -> 2E8 | C11: =CONCATENATE(F11,J11) -> 2X | E11: =+E7 -> 46289 | F11: =+F7 -> 2 | G11: E8 | H11: =VLOOKUP(G11,Results!$N$2:$O$11,2,FALSE) -> Green Wizards | J11: X | K11: =VLOOKUP(J11,Results!$N$2:$O$11,2,FALSE) -> No Match
B12: =CONCATENATE(F12,G12) -> 3E6 | C12: =CONCATENATE(F12,J12) -> 3E9 | E12: 46297 | F12: 3 | G12: E6 | H12: =VLOOKUP(G12,Results!$N$2:$O$11,2,FALSE) -> Starlite | I12: 20 | J12: E9 | K12: =VLOOKUP(J12,Results!$N$2:$O$11,2,FALSE) -> Biased Boys | L12: 7
B13: =CONCATENATE(F13,G13) -> 3E1 | C13: =CONCATENATE(F13,J13) -> 3E3 | E13: =+E12 -> 46297 | F13: =+F12 -> 3 | G13: E1 | H13: =VLOOKUP(G13,Results!$N$2:$O$11,2,FALSE) -> Misfits | I13: 13 | J13: E3 | K13: =VLOOKUP(J13,Results!$N$2:$O$11,2,FALSE) -> Riches Rollers | L13: 8 | M13: Played 29th Oct
B14: =CONCATENATE(F14,G14) -> 3E2 | C14: =CONCATENATE(F14,J14) -> 3E4 | E14: =+E12 -> 46297 | F14: =+F12 -> 3 | G14: E2 | H14: =VLOOKUP(G14,Results!$N$2:$O$11,2,FALSE) -> Team Krewna | I14: 18 | J14: E4 | K14: =VLOOKUP(J14,Results!$N$2:$O$11,2,FALSE) -> Bullets | L14: 15
B15: =CONCATENATE(F15,G15) -> 3E5 | C15: =CONCATENATE(F15,J15) -> 3E8 | E15: =+E12 -> 46297 | F15: =+F12 -> 3 | G15: E5 | H15: =VLOOKUP(G15,Results!$N$2:$O$11,2,FALSE) -> New Builds | I15: 12 | J15: E8 | K15: =VLOOKUP(J15,Results!$N$2:$O$11,2,FALSE) -> Green Wizards | L15: 18
B16: =CONCATENATE(F16,G16) -> 3E7 | C16: =CONCATENATE(F16,J16) -> 3X | E16: =+E12 -> 46297 | F16: =+F12 -> 3 | G16: E7 | H16: =VLOOKUP(G16,Results!$N$2:$O$11,2,FALSE) -> Golfers | J16: X | K16: =VLOOKUP(J16,Results!$N$2:$O$11,2,FALSE) -> No Match
B17: =CONCATENATE(F17,G17) -> 4E8 | C17: =CONCATENATE(F17,J17) -> 4E9 | E17: 46303 | F17: 4 | G17: E8 | H17: =VLOOKUP(G17,Results!$N$2:$O$11,2,FALSE) -> Green Wizards | I17: 4 | J17: E9 | K17: =VLOOKUP(J17,Results!$N$2:$O$11,2,FALSE) -> Biased Boys | L17: 22
B18: =CONCATENATE(F18,G18) -> 4E7 | C18: =CONCATENATE(F18,J18) -> 4E2 | E18: =+E17 -> 46303 | F18: =+F17 -> 4 | G18: E7 | H18: =VLOOKUP(G18,Results!$N$2:$O$11,2,FALSE) -> Golfers | I18: 13 | J18: E2 | K18: =VLOOKUP(J18,Results!$N$2:$O$11,2,FALSE) -> Team Krewna | L18: 17
B19: =CONCATENATE(F19,G19) -> 4E3 | C19: =CONCATENATE(F19,J19) -> 4E5 | E19: =+E17 -> 46303 | F19: =+F17 -> 4 | G19: E3 | H19: =VLOOKUP(G19,Results!$N$2:$O$11,2,FALSE) -> Riches Rollers | I19: 13 | J19: E5 | K19: =VLOOKUP(J19,Results!$N$2:$O$11,2,FALSE) -> New Builds | L19: 14
B20: =CONCATENATE(F20,G20) -> 4E1 | C20: =CONCATENATE(F20,J20) -> 4E4 | E20: =+E17 -> 46303 | F20: =+F17 -> 4 | G20: E1 | H20: =VLOOKUP(G20,Results!$N$2:$O$11,2,FALSE) -> Misfits | I20: 11 | J20: E4 | K20: =VLOOKUP(J20,Results!$N$2:$O$11,2,FALSE) -> Bullets | L20: 20
B21: =CONCATENATE(F21,G21) -> 4E6 | C21: =CONCATENATE(F21,J21) -> 4X | E21: =+E17 -> 46303 | F21: =+F17 -> 4 | G21: E6 | H21: =VLOOKUP(G21,Results!$N$2:$O$11,2,FALSE) -> Starlite | J21: X | K21: =VLOOKUP(J21,Results!$N$2:$O$11,2,FALSE) -> No Match
B22: =CONCATENATE(F22,G22) -> 5E9 | C22: =CONCATENATE(F22,J22) -> 5E3 | E22: 46311 | F22: 5 | G22: E9 | H22: =VLOOKUP(G22,Results!$N$2:$O$11,2,FALSE) -> Biased Boys | I22: 9 | J22: E3 | K22: =VLOOKUP(J22,Results!$N$2:$O$11,2,FALSE) -> Riches Rollers | L22: 16
B23: =CONCATENATE(F23,G23) -> 5E4 | C23: =CONCATENATE(F23,J23) -> 5E7 | E23: =+E22 -> 46311 | F23: =+F22 -> 5 | G23: E4 | H23: =VLOOKUP(G23,Results!$N$2:$O$11,2,FALSE) -> Bullets | I23: 28 | J23: E7 | K23: =VLOOKUP(J23,Results!$N$2:$O$11,2,FALSE) -> Golfers | L23: 4
B24: =CONCATENATE(F24,G24) -> 5E6 | C24: =CONCATENATE(F24,J24) -> 5E1 | E24: =+E22 -> 46311 | F24: =+F22 -> 5 | G24: E6 | H24: =VLOOKUP(G24,Results!$N$2:$O$11,2,FALSE) -> Starlite | I24: 26 | J24: E1 | K24: =VLOOKUP(J24,Results!$N$2:$O$11,2,FALSE) -> Misfits | L24: 7
B25: =CONCATENATE(F25,G25) -> 5E8 | C25: =CONCATENATE(F25,J25) -> 5E2 | E25: =+E22 -> 46311 | F25: =+F22 -> 5 | G25: E8 | H25: =VLOOKUP(G25,Results!$N$2:$O$11,2,FALSE) -> Green Wizards | I25: 9 | J25: E2 | K25: =VLOOKUP(J25,Results!$N$2:$O$11,2,FALSE) -> Team Krewna | L25: 21
B26: =CONCATENATE(F26,G26) -> 5E5 | C26: =CONCATENATE(F26,J26) -> 5X | E26: =+E22 -> 46311 | F26: =+F22 -> 5 | G26: E5 | H26: =VLOOKUP(G26,Results!$N$2:$O$11,2,FALSE) -> New Builds | J26: X | K26: =VLOOKUP(J26,Results!$N$2:$O$11,2,FALSE) -> No Match
B27: =CONCATENATE(F27,G27) -> 6E8 | C27: =CONCATENATE(F27,J27) -> 6E3 | E27: 46317 | F27: 6 | G27: E8 | H27: =VLOOKUP(G27,Results!$N$2:$O$11,2,FALSE) -> Green Wizards | I27: 5 | J27: E3 | K27: =VLOOKUP(J27,Results!$N$2:$O$11,2,FALSE) -> Riches Rollers | L27: 22
B28: =CONCATENATE(F28,G28) -> 6E5 | C28: =CONCATENATE(F28,J28) -> 6E9 | E28: =+E27 -> 46317 | F28: =+F27 -> 6 | G28: E5 | H28: =VLOOKUP(G28,Results!$N$2:$O$11,2,FALSE) -> New Builds | I28: 15 | J28: E9 | K28: =VLOOKUP(J28,Results!$N$2:$O$11,2,FALSE) -> Biased Boys | L28: 15
B29: =CONCATENATE(F29,G29) -> 6E7 | C29: =CONCATENATE(F29,J29) -> 6E1 | E29: =+E27 -> 46317 | F29: =+F27 -> 6 | G29: E7 | H29: =VLOOKUP(G29,Results!$N$2:$O$11,2,FALSE) -> Golfers | I29: 15 | J29: E1 | K29: =VLOOKUP(J29,Results!$N$2:$O$11,2,FALSE) -> Misfits | L29: 11
B30: =CONCATENATE(F30,G30) -> 6E2 | C30: =CONCATENATE(F30,J30) -> 6E6 | E30: =+E27 -> 46317 | F30: =+F27 -> 6 | G30: E2 | H30: =VLOOKUP(G30,Results!$N$2:$O$11,2,FALSE) -> Team Krewna | I30: N | J30: E6 | K30: =VLOOKUP(J30,Results!$N$2:$O$11,2,FALSE) -> Starlite | L30: N
B31: =CONCATENATE(F31,G31) -> 6E4 | C31: =CONCATENATE(F31,J31) -> 6X | E31: =+E27 -> 46317 | F31: =+F27 -> 6 | G31: E4 | H31: =VLOOKUP(G31,Results!$N$2:$O$11,2,FALSE) -> Bullets | J31: X | K31: =VLOOKUP(J31,Results!$N$2:$O$11,2,FALSE) -> No Match
B32: =CONCATENATE(F32,G32) -> 7E4 | C32: =CONCATENATE(F32,J32) -> 7E6 | E32: 46325 | F32: 7 | G32: E4 | H32: =VLOOKUP(G32,Results!$N$2:$O$11,2,FALSE) -> Bullets | J32: E6 | K32: =VLOOKUP(J32,Results!$N$2:$O$11,2,FALSE) -> Starlite
B33: =CONCATENATE(F33,G33) -> 7E2 | C33: =CONCATENATE(F33,J33) -> 7E5 | E33: =+E32 -> 46325 | F33: =+F32 -> 7 | G33: E2 | H33: =VLOOKUP(G33,Results!$N$2:$O$11,2,FALSE) -> Team Krewna | J33: E5 | K33: =VLOOKUP(J33,Results!$N$2:$O$11,2,FALSE) -> New Builds
B34: =CONCATENATE(F34,G34) -> 7E7 | C34: =CONCATENATE(F34,J34) -> 7E9 | E34: =+E32 -> 46325 | F34: =+F32 -> 7 | G34: E7 | H34: =VLOOKUP(G34,Results!$N$2:$O$11,2,FALSE) -> Golfers | J34: E9 | K34: =VLOOKUP(J34,Results!$N$2:$O$11,2,FALSE) -> Biased Boys
B35: =CONCATENATE(F35,G35) -> 7E8 | C35: =CONCATENATE(F35,J35) -> 7E1 | E35: =+E32 -> 46325 | F35: =+F32 -> 7 | G35: E8 | H35: =VLOOKUP(G35,Results!$N$2:$O$11,2,FALSE) -> Green Wizards | J35: E1 | K35: =VLOOKUP(J35,Results!$N$2:$O$11,2,FALSE) -> Misfits
B36: =CONCATENATE(F36,G36) -> 7E3 | C36: =CONCATENATE(F36,J36) -> 7X | E36: =+E32 -> 46325 | F36: =+F32 -> 7 | G36: E3 | H36: =VLOOKUP(G36,Results!$N$2:$O$11,2,FALSE) -> Riches Rollers | J36: X | K36: =VLOOKUP(J36,Results!$N$2:$O$11,2,FALSE) -> No Match
B37: =CONCATENATE(F37,G37) -> 8E1 | C37: =CONCATENATE(F37,J37) -> 8E5 | E37: 46331 | F37: 8 | G37: E1 | H37: =VLOOKUP(G37,Results!$N$2:$O$11,2,FALSE) -> Misfits | J37: E5 | K37: =VLOOKUP(J37,Results!$N$2:$O$11,2,FALSE) -> New Builds
B38: =CONCATENATE(F38,G38) -> 8E6 | C38: =CONCATENATE(F38,J38) -> 8E8 | E38: =+E37 -> 46331 | F38: =+F37 -> 8 | G38: E6 | H38: =VLOOKUP(G38,Results!$N$2:$O$11,2,FALSE) -> Starlite | J38: E8 | K38: =VLOOKUP(J38,Results!$N$2:$O$11,2,FALSE) -> Green Wizards
B39: =CONCATENATE(F39,G39) -> 8E9 | C39: =CONCATENATE(F39,J39) -> 8E4 | E39: =+E37 -> 46331 | F39: =+F37 -> 8 | G39: E9 | H39: =VLOOKUP(G39,Results!$N$2:$O$11,2,FALSE) -> Biased Boys | J39: E4 | K39: =VLOOKUP(J39,Results!$N$2:$O$11,2,FALSE) -> Bullets
B40: =CONCATENATE(F40,G40) -> 8E3 | C40: =CONCATENATE(F40,J40) -> 8E7 | E40: =+E37 -> 46331 | F40: =+F37 -> 8 | G40: E3 | H40: =VLOOKUP(G40,Results!$N$2:$O$11,2,FALSE) -> Riches Rollers | J40: E7 | K40: =VLOOKUP(J40,Results!$N$2:$O$11,2,FALSE) -> Golfers
B41: =CONCATENATE(F41,G41) -> 8E2 | C41: =CONCATENATE(F41,J41) -> 8X | E41: =+E37 -> 46331 | F41: =+F37 -> 8 | G41: E2 | H41: =VLOOKUP(G41,Results!$N$2:$O$11,2,FALSE) -> Team Krewna | J41: X | K41: =VLOOKUP(J41,Results!$N$2:$O$11,2,FALSE) -> No Match
B42: =CONCATENATE(F42,G42) -> 9E5 | C42: =CONCATENATE(F42,J42) -> 9E7 | E42: 46339 | F42: 9 | G42: E5 | H42: =VLOOKUP(G42,Results!$N$2:$O$11,2,FALSE) -> New Builds | J42: E7 | K42: =VLOOKUP(J42,Results!$N$2:$O$11,2,FALSE) -> Golfers
B43: =CONCATENATE(F43,G43) -> 9E4 | C43: =CONCATENATE(F43,J43) -> 9E8 | E43: =+E42 -> 46339 | F43: =+F42 -> 9 | G43: E4 | H43: =VLOOKUP(G43,Results!$N$2:$O$11,2,FALSE) -> Bullets | J43: E8 | K43: =VLOOKUP(J43,Results!$N$2:$O$11,2,FALSE) -> Green Wizards
B44: =CONCATENATE(F44,G44) -> 9E9 | C44: =CONCATENATE(F44,J44) -> 9E2 | E44: =+E42 -> 46339 | F44: =+F42 -> 9 | G44: E9 | H44: =VLOOKUP(G44,Results!$N$2:$O$11,2,FALSE) -> Biased Boys | J44: E2 | K44: =VLOOKUP(J44,Results!$N$2:$O$11,2,FALSE) -> Team Krewna
B45: =CONCATENATE(F45,G45) -> 9E3 | C45: =CONCATENATE(F45,J45) -> 9E6 | E45: =+E42 -> 46339 | F45: =+F42 -> 9 | G45: E3 | H45: =VLOOKUP(G45,Results!$N$2:$O$11,2,FALSE) -> Riches Rollers | J45: E6 | K45: =VLOOKUP(J45,Results!$N$2:$O$11,2,FALSE) -> Starlite
B46: =CONCATENATE(F46,G46) -> 9E1 | C46: =CONCATENATE(F46,J46) -> 9X | E46: =+E42 -> 46339 | F46: =+F42 -> 9 | G46: E1 | H46: =VLOOKUP(G46,Results!$N$2:$O$11,2,FALSE) -> Misfits | J46: X | K46: =VLOOKUP(J46,Results!$N$2:$O$11,2,FALSE) -> No Match
B47: =CONCATENATE(F47,G47) -> 10E8 | C47: =CONCATENATE(F47,J47) -> 10E7 | E47: 46345 | F47: 10 | G47: E8 | H47: =VLOOKUP(G47,Results!$N$2:$O$11,2,FALSE) -> Green Wizards | J47: E7 | K47: =VLOOKUP(J47,Results!$N$2:$O$11,2,FALSE) -> Golfers
B48: =CONCATENATE(F48,G48) -> 10E6 | C48: =CONCATENATE(F48,J48) -> 10E5 | E48: =+E47 -> 46345 | F48: =+F47 -> 10 | G48: E6 | H48: =VLOOKUP(G48,Results!$N$2:$O$11,2,FALSE) -> Starlite | J48: E5 | K48: =VLOOKUP(J48,Results!$N$2:$O$11,2,FALSE) -> New Builds
B49: =CONCATENATE(F49,G49) -> 10E4 | C49: =CONCATENATE(F49,J49) -> 10E3 | E49: =+E47 -> 46345 | F49: =+F47 -> 10 | G49: E4 | H49: =VLOOKUP(G49,Results!$N$2:$O$11,2,FALSE) -> Bullets | J49: E3 | K49: =VLOOKUP(J49,Results!$N$2:$O$11,2,FALSE) -> Riches Rollers
B50: =CONCATENATE(F50,G50) -> 10E2 | C50: =CONCATENATE(F50,J50) -> 10E1 | E50: =+E47 -> 46345 | F50: =+F47 -> 10 | G50: E2 | H50: =VLOOKUP(G50,Results!$N$2:$O$11,2,FALSE) -> Team Krewna | J50: E1 | K50: =VLOOKUP(J50,Results!$N$2:$O$11,2,FALSE) -> Misfits
B51: =CONCATENATE(F51,G51) -> 10E9 | C51: =CONCATENATE(F51,J51) -> 10X | E51: =+E47 -> 46345 | F51: =+F47 -> 10 | G51: E9 | H51: =VLOOKUP(G51,Results!$N$2:$O$11,2,FALSE) -> Biased Boys | J51: X | K51: =VLOOKUP(J51,Results!$N$2:$O$11,2,FALSE) -> No Match
B52: =CONCATENATE(F52,G52) -> 11E5 | C52: =CONCATENATE(F52,J52) -> 11E4 | E52: 46353 | F52: 11 | G52: E5 | H52: =VLOOKUP(G52,Results!$N$2:$O$11,2,FALSE) -> New Builds | J52: E4 | K52: =VLOOKUP(J52,Results!$N$2:$O$11,2,FALSE) -> Bullets
B53: =CONCATENATE(F53,G53) -> 11E3 | C53: =CONCATENATE(F53,J53) -> 11E2 | E53: =+E52 -> 46353 | F53: =+F52 -> 11 | G53: E3 | H53: =VLOOKUP(G53,Results!$N$2:$O$11,2,FALSE) -> Riches Rollers | J53: E2 | K53: =VLOOKUP(J53,Results!$N$2:$O$11,2,FALSE) -> Team Krewna
B54: =CONCATENATE(F54,G54) -> 11E1 | C54: =CONCATENATE(F54,J54) -> 11E9 | E54: =+E52 -> 46353 | F54: =+F52 -> 11 | G54: E1 | H54: =VLOOKUP(G54,Results!$N$2:$O$11,2,FALSE) -> Misfits | J54: E9 | K54: =VLOOKUP(J54,Results!$N$2:$O$11,2,FALSE) -> Biased Boys
B55: =CONCATENATE(F55,G55) -> 11E7 | C55: =CONCATENATE(F55,J55) -> 11E6 | E55: =+E52 -> 46353 | F55: =+F52 -> 11 | G55: E7 | H55: =VLOOKUP(G55,Results!$N$2:$O$11,2,FALSE) -> Golfers | J55: E6 | K55: =VLOOKUP(J55,Results!$N$2:$O$11,2,FALSE) -> Starlite
B56: =CONCATENATE(F56,G56) -> 11E8 | C56: =CONCATENATE(F56,J56) -> 11X | E56: =+E52 -> 46353 | F56: =+F52 -> 11 | G56: E8 | H56: =VLOOKUP(G56,Results!$N$2:$O$11,2,FALSE) -> Green Wizards | J56: X | K56: =VLOOKUP(J56,Results!$N$2:$O$11,2,FALSE) -> No Match
B57: =CONCATENATE(F57,G57) -> 12E8 | C57: =CONCATENATE(F57,J57) -> 12E5 | E57: 46359 | F57: 12 | G57: E8 | H57: =VLOOKUP(G57,Results!$N$2:$O$11,2,FALSE) -> Green Wizards | J57: E5 | K57: =VLOOKUP(J57,Results!$N$2:$O$11,2,FALSE) -> New Builds
B58: =CONCATENATE(F58,G58) -> 12E4 | C58: =CONCATENATE(F58,J58) -> 12E2 | E58: =+E57 -> 46359 | F58: =+F57 -> 12 | G58: E4 | H58: =VLOOKUP(G58,Results!$N$2:$O$11,2,FALSE) -> Bullets | J58: E2 | K58: =VLOOKUP(J58,Results!$N$2:$O$11,2,FALSE) -> Team Krewna
B59: =CONCATENATE(F59,G59) -> 12E3 | C59: =CONCATENATE(F59,J59) -> 12E1 | E59: =+E57 -> 46359 | F59: =+F57 -> 12 | G59: E3 | H59: =VLOOKUP(G59,Results!$N$2:$O$11,2,FALSE) -> Riches Rollers | J59: E1 | K59: =VLOOKUP(J59,Results!$N$2:$O$11,2,FALSE) -> Misfits
B60: =CONCATENATE(F60,G60) -> 12E9 | C60: =CONCATENATE(F60,J60) -> 12E6 | E60: =+E57 -> 46359 | F60: =+F57 -> 12 | G60: E9 | H60: =VLOOKUP(G60,Results!$N$2:$O$11,2,FALSE) -> Biased Boys | J60: E6 | K60: =VLOOKUP(J60,Results!$N$2:$O$11,2,FALSE) -> Starlite
B61: =CONCATENATE(F61,G61) -> 12E7 | C61: =CONCATENATE(F61,J61) -> 12X | E61: =+E57 -> 46359 | F61: =+F57 -> 12 | G61: E7 | H61: =VLOOKUP(G61,Results!$N$2:$O$11,2,FALSE) -> Golfers | J61: X | K61: =VLOOKUP(J61,Results!$N$2:$O$11,2,FALSE) -> No Match
B62: =CONCATENATE(F62,G62) -> 13E4 | C62: =CONCATENATE(F62,J62) -> 13E1 | E62: 46367 | F62: 13 | G62: E4 | H62: =VLOOKUP(G62,Results!$N$2:$O$11,2,FALSE) -> Bullets | J62: E1 | K62: =VLOOKUP(J62,Results!$N$2:$O$11,2,FALSE) -> Misfits
B63: =CONCATENATE(F63,G63) -> 13E5 | C63: =CONCATENATE(F63,J63) -> 13E3 | E63: =+E62 -> 46367 | F63: =+F62 -> 13 | G63: E5 | H63: =VLOOKUP(G63,Results!$N$2:$O$11,2,FALSE) -> New Builds | J63: E3 | K63: =VLOOKUP(J63,Results!$N$2:$O$11,2,FALSE) -> Riches Rollers
B64: =CONCATENATE(F64,G64) -> 13E2 | C64: =CONCATENATE(F64,J64) -> 13E7 | E64: =+E62 -> 46367 | F64: =+F62 -> 13 | G64: E2 | H64: =VLOOKUP(G64,Results!$N$2:$O$11,2,FALSE) -> Team Krewna | J64: E7 | K64: =VLOOKUP(J64,Results!$N$2:$O$11,2,FALSE) -> Golfers
B65: =CONCATENATE(F65,G65) -> 13E9 | C65: =CONCATENATE(F65,J65) -> 13E8 | E65: =+E62 -> 46367 | F65: =+F62 -> 13 | G65: E9 | H65: =VLOOKUP(G65,Results!$N$2:$O$11,2,FALSE) -> Biased Boys | J65: E8 | K65: =VLOOKUP(J65,Results!$N$2:$O$11,2,FALSE) -> Green Wizards
B66: =CONCATENATE(F66,G66) -> 13E6 | C66: =CONCATENATE(F66,J66) -> 13X | E66: =+E62 -> 46367 | F66: =+F62 -> 13 | G66: E6 | H66: =VLOOKUP(G66,Results!$N$2:$O$11,2,FALSE) -> Starlite | J66: X | K66: =VLOOKUP(J66,Results!$N$2:$O$11,2,FALSE) -> No Match
B67: =CONCATENATE(F67,G67) -> 14E2 | C67: =CONCATENATE(F67,J67) -> 14E8 | E67: 46373 | F67: 14 | G67: E2 | H67: =VLOOKUP(G67,Results!$N$2:$O$11,2,FALSE) -> Team Krewna | J67: E8 | K67: =VLOOKUP(J67,Results!$N$2:$O$11,2,FALSE) -> Green Wizards
B68: =CONCATENATE(F68,G68) -> 14E1 | C68: =CONCATENATE(F68,J68) -> 14E6 | E68: =+E67 -> 46373 | F68: =+F67 -> 14 | G68: E1 | H68: =VLOOKUP(G68,Results!$N$2:$O$11,2,FALSE) -> Misfits | J68: E6 | K68: =VLOOKUP(J68,Results!$N$2:$O$11,2,FALSE) -> Starlite
B69: =CONCATENATE(F69,G69) -> 14E7 | C69: =CONCATENATE(F69,J69) -> 14E4 | E69: =+E67 -> 46373 | F69: =+F67 -> 14 | G69: E7 | H69: =VLOOKUP(G69,Results!$N$2:$O$11,2,FALSE) -> Golfers | J69: E4 | K69: =VLOOKUP(J69,Results!$N$2:$O$11,2,FALSE) -> Bullets
B70: =CONCATENATE(F70,G70) -> 14E3 | C70: =CONCATENATE(F70,J70) -> 14E9 | E70: =+E67 -> 46373 | F70: =+F69 -> 14 | G70: E3 | H70: =VLOOKUP(G70,Results!$N$2:$O$11,2,FALSE) -> Riches Rollers | J70: E9 | K70: =VLOOKUP(J70,Results!$N$2:$O$11,2,FALSE) -> Biased Boys
B71: =CONCATENATE(F71,G71) -> 14E5 | C71: =CONCATENATE(F71,J71) -> 14X | E71: =+E67 -> 46373 | F71: =+F67 -> 14 | G71: E5 | H71: =VLOOKUP(G71,Results!$N$2:$O$11,2,FALSE) -> New Builds | J71: X | K71: =VLOOKUP(J71,Results!$N$2:$O$11,2,FALSE) -> No Match
B72: =CONCATENATE(F72,G72) -> 15E9 | C72: =CONCATENATE(F72,J72) -> 15E5 | E72: 46395 | F72: 15 | G72: E9 | H72: =VLOOKUP(G72,Results!$N$2:$O$11,2,FALSE) -> Biased Boys | J72: E5 | K72: =VLOOKUP(J72,Results!$N$2:$O$11,2,FALSE) -> New Builds
B73: =CONCATENATE(F73,G73) -> 15E6 | C73: =CONCATENATE(F73,J73) -> 15E2 | E73: =+E72 -> 46395 | F73: =+F72 -> 15 | G73: E6 | H73: =VLOOKUP(G73,Results!$N$2:$O$11,2,FALSE) -> Starlite | J73: E2 | K73: =VLOOKUP(J73,Results!$N$2:$O$11,2,FALSE) -> Team Krewna
B74: =CONCATENATE(F74,G74) -> 15E1 | C74: =CONCATENATE(F74,J74) -> 15E7 | E74: =+E72 -> 46395 | F74: =+F72 -> 15 | G74: E1 | H74: =VLOOKUP(G74,Results!$N$2:$O$11,2,FALSE) -> Misfits | J74: E7 | K74: =VLOOKUP(J74,Results!$N$2:$O$11,2,FALSE) -> Golfers
B75: =CONCATENATE(F75,G75) -> 15E3 | C75: =CONCATENATE(F75,J75) -> 15E8 | E75: =+E72 -> 46395 | F75: =+F72 -> 15 | G75: E3 | H75: =VLOOKUP(G75,Results!$N$2:$O$11,2,FALSE) -> Riches Rollers | J75: E8 | K75: =VLOOKUP(J75,Results!$N$2:$O$11,2,FALSE) -> Green Wizards
B76: =CONCATENATE(F76,G76) -> 15E4 | C76: =CONCATENATE(F76,J76) -> 15X | E76: =+E72 -> 46395 | F76: =+F72 -> 15 | G76: E4 | H76: =VLOOKUP(G76,Results!$N$2:$O$11,2,FALSE) -> Bullets | J76: X | K76: =VLOOKUP(J76,Results!$N$2:$O$11,2,FALSE) -> No Match
B77: =CONCATENATE(F77,G77) -> 16E1 | C77: =CONCATENATE(F77,J77) -> 16E8 | E77: 46401 | F77: 16 | G77: E1 | H77: =VLOOKUP(G77,Results!$N$2:$O$11,2,FALSE) -> Misfits | J77: E8 | K77: =VLOOKUP(J77,Results!$N$2:$O$11,2,FALSE) -> Green Wizards
B78: =CONCATENATE(F78,G78) -> 16E9 | C78: =CONCATENATE(F78,J78) -> 16E7 | E78: =+E77 -> 46401 | F78: =+F77 -> 16 | G78: E9 | H78: =VLOOKUP(G78,Results!$N$2:$O$11,2,FALSE) -> Biased Boys | J78: E7 | K78: =VLOOKUP(J78,Results!$N$2:$O$11,2,FALSE) -> Golfers
B79: =CONCATENATE(F79,G79) -> 16E5 | C79: =CONCATENATE(F79,J79) -> 16E2 | E79: =+E77 -> 46401 | F79: =+F77 -> 16 | G79: E5 | H79: =VLOOKUP(G79,Results!$N$2:$O$11,2,FALSE) -> New Builds | J79: E2 | K79: =VLOOKUP(J79,Results!$N$2:$O$11,2,FALSE) -> Team Krewna
B80: =CONCATENATE(F80,G80) -> 16E6 | C80: =CONCATENATE(F80,J80) -> 16E4 | E80: =+E77 -> 46401 | F80: =+F77 -> 16 | G80: E6 | H80: =VLOOKUP(G80,Results!$N$2:$O$11,2,FALSE) -> Starlite | J80: E4 | K80: =VLOOKUP(J80,Results!$N$2:$O$11,2,FALSE) -> Bullets
B81: =CONCATENATE(F81,G81) -> 16E3 | C81: =CONCATENATE(F81,J81) -> 16X | E81: =+E77 -> 46401 | F81: =+F77 -> 16 | G81: E3 | H81: =VLOOKUP(G81,Results!$N$2:$O$11,2,FALSE) -> Riches Rollers | J81: X | K81: =VLOOKUP(J81,Results!$N$2:$O$11,2,FALSE) -> No Match
B82: =CONCATENATE(F82,G82) -> 17E7 | C82: =CONCATENATE(F82,J82) -> 17E3 | E82: 46409 | F82: 17 | G82: E7 | H82: =VLOOKUP(G82,Results!$N$2:$O$11,2,FALSE) -> Golfers | J82: E3 | K82: =VLOOKUP(J82,Results!$N$2:$O$11,2,FALSE) -> Riches Rollers
B83: =CONCATENATE(F83,G83) -> 17E4 | C83: =CONCATENATE(F83,J83) -> 17E9 | E83: =+E82 -> 46409 | F83: =+F82 -> 17 | G83: E4 | H83: =VLOOKUP(G83,Results!$N$2:$O$11,2,FALSE) -> Bullets | J83: E9 | K83: =VLOOKUP(J83,Results!$N$2:$O$11,2,FALSE) -> Biased Boys
B84: =CONCATENATE(F84,G84) -> 17E8 | C84: =CONCATENATE(F84,J84) -> 17E6 | E84: =+E82 -> 46409 | F84: =+F82 -> 17 | G84: E8 | H84: =VLOOKUP(G84,Results!$N$2:$O$11,2,FALSE) -> Green Wizards | J84: E6 | K84: =VLOOKUP(J84,Results!$N$2:$O$11,2,FALSE) -> Starlite
B85: =CONCATENATE(F85,G85) -> 17E5 | C85: =CONCATENATE(F85,J85) -> 17E1 | E85: =+E82 -> 46409 | F85: =+F82 -> 17 | G85: E5 | H85: =VLOOKUP(G85,Results!$N$2:$O$11,2,FALSE) -> New Builds | J85: E1 | K85: =VLOOKUP(J85,Results!$N$2:$O$11,2,FALSE) -> Misfits
B86: =CONCATENATE(F86,G86) -> 17E2 | C86: =CONCATENATE(F86,J86) -> 17X | E86: =+E82 -> 46409 | F86: =+F82 -> 17 | G86: E2 | H86: =VLOOKUP(G86,Results!$N$2:$O$11,2,FALSE) -> Team Krewna | J86: X | K86: =VLOOKUP(J86,Results!$N$2:$O$11,2,FALSE) -> No Match
B87: =CONCATENATE(F87,G87) -> 18E6 | C87: =CONCATENATE(F87,J87) -> 18E3 | E87: 46415 | F87: 18 | G87: E6 | H87: =VLOOKUP(G87,Results!$N$2:$O$11,2,FALSE) -> Starlite | J87: E3 | K87: =VLOOKUP(J87,Results!$N$2:$O$11,2,FALSE) -> Riches Rollers
B88: =CONCATENATE(F88,G88) -> 18E2 | C88: =CONCATENATE(F88,J88) -> 18E9 | E88: =+E87 -> 46415 | F88: =+F87 -> 18 | G88: E2 | H88: =VLOOKUP(G88,Results!$N$2:$O$11,2,FALSE) -> Team Krewna | J88: E9 | K88: =VLOOKUP(J88,Results!$N$2:$O$11,2,FALSE) -> Biased Boys
B89: =CONCATENATE(F89,G89) -> 18E8 | C89: =CONCATENATE(F89,J89) -> 18E4 | E89: =+E87 -> 46415 | F89: =+F87 -> 18 | G89: E8 | H89: =VLOOKUP(G89,Results!$N$2:$O$11,2,FALSE) -> Green Wizards | J89: E4 | K89: =VLOOKUP(J89,Results!$N$2:$O$11,2,FALSE) -> Bullets
B90: =CONCATENATE(F90,G90) -> 18E7 | C90: =CONCATENATE(F90,J90) -> 18E5 | E90: =+E87 -> 46415 | F90: =+F87 -> 18 | G90: E7 | H90: =VLOOKUP(G90,Results!$N$2:$O$11,2,FALSE) -> Golfers | J90: E5 | K90: =VLOOKUP(J90,Results!$N$2:$O$11,2,FALSE) -> New Builds
B91: =CONCATENATE(F91,G91) -> 18E1 | C91: =CONCATENATE(F91,J91) -> 18X | E91: =+E87 -> 46415 | F91: =+F87 -> 18 | G91: E1 | H91: =VLOOKUP(G91,Results!$N$2:$O$11,2,FALSE) -> Misfits | J91: X | K91: =VLOOKUP(J91,Results!$N$2:$O$11,2,FALSE) -> No Match
B92: =CONCATENATE(F92,G92) -> 19E1 | C92: =CONCATENATE(F92,J92) -> 19E2 | E92: 46423 | F92: 19 | G92: E1 | H92: =VLOOKUP(G92,Results!$N$2:$O$11,2,FALSE) -> Misfits | J92: E2 | K92: =VLOOKUP(J92,Results!$N$2:$O$11,2,FALSE) -> Team Krewna
B93: =CONCATENATE(F93,G93) -> 19E3 | C93: =CONCATENATE(F93,J93) -> 19E4 | E93: =+E92 -> 46423 | F93: =+F92 -> 19 | G93: E3 | H93: =VLOOKUP(G93,Results!$N$2:$O$11,2,FALSE) -> Riches Rollers | J93: E4 | K93: =VLOOKUP(J93,Results!$N$2:$O$11,2,FALSE) -> Bullets
B94: =CONCATENATE(F94,G94) -> 19E5 | C94: =CONCATENATE(F94,J94) -> 19E6 | E94: =+E92 -> 46423 | F94: =+F92 -> 19 | G94: E5 | H94: =VLOOKUP(G94,Results!$N$2:$O$11,2,FALSE) -> New Builds | J94: E6 | K94: =VLOOKUP(J94,Results!$N$2:$O$11,2,FALSE) -> Starlite
B95: =CONCATENATE(F95,G95) -> 19E7 | C95: =CONCATENATE(F95,J95) -> 19E8 | E95: =+E92 -> 46423 | F95: =+F92 -> 19 | G95: E7 | H95: =VLOOKUP(G95,Results!$N$2:$O$11,2,FALSE) -> Golfers | J95: E8 | K95: =VLOOKUP(J95,Results!$N$2:$O$11,2,FALSE) -> Green Wizards
B96: =CONCATENATE(F96,G96) -> 19E9 | C96: =CONCATENATE(F96,J96) -> 19X | E96: =+E92 -> 46423 | F96: =+F92 -> 19 | G96: E9 | H96: =VLOOKUP(G96,Results!$N$2:$O$11,2,FALSE) -> Biased Boys | J96: X | K96: =VLOOKUP(J96,Results!$N$2:$O$11,2,FALSE) -> No Match
B97: =CONCATENATE(F97,G97) -> 20E6 | C97: =CONCATENATE(F97,J97) -> 20E7 | E97: 46429 | F97: 20 | G97: E6 | H97: =VLOOKUP(G97,Results!$N$2:$O$11,2,FALSE) -> Starlite | J97: E7 | K97: =VLOOKUP(J97,Results!$N$2:$O$11,2,FALSE) -> Golfers
B98: =CONCATENATE(F98,G98) -> 20E9 | C98: =CONCATENATE(F98,J98) -> 20E1 | E98: =+E97 -> 46429 | F98: =+F97 -> 20 | G98: E9 | H98: =VLOOKUP(G98,Results!$N$2:$O$11,2,FALSE) -> Biased Boys | J98: E1 | K98: =VLOOKUP(J98,Results!$N$2:$O$11,2,FALSE) -> Misfits
B99: =CONCATENATE(F99,G99) -> 20E2 | C99: =CONCATENATE(F99,J99) -> 20E3 | E99: =+E97 -> 46429 | F99: =+F97 -> 20 | G99: E2 | H99: =VLOOKUP(G99,Results!$N$2:$O$11,2,FALSE) -> Team Krewna | J99: E3 | K99: =VLOOKUP(J99,Results!$N$2:$O$11,2,FALSE) -> Riches Rollers
B100: =CONCATENATE(F100,G100) -> 20E4 | C100: =CONCATENATE(F100,J100) -> 20E5 | E100: =+E97 -> 46429 | F100: =+F97 -> 20 | G100: E4 | H100: =VLOOKUP(G100,Results!$N$2:$O$11,2,FALSE) -> Bullets | J100: E5 | K100: =VLOOKUP(J100,Results!$N$2:$O$11,2,FALSE) -> New Builds
...

Sheet LEAGUE TABLE
B2: EARLY EVENING - DIV 1 | F2: 2026 / 2027 | I2: As at 29th Oct
C3: Team | E3: Played | F3: Won | G3: Drawn | H3: Lost | I3: Shots For | J3: Shots Against | K3: Shots Diff | L3: Pts
B4: 1st | C4: =+'E3 RICHES ROLLERS'!$H$1 -> E3 | D4: =+'E3 RICHES ROLLERS'!$I$1 -> RICHES ROLLERS | E4: ='E3 RICHES ROLLERS'!$J$30 -> 6 | F4: ='E3 RICHES ROLLERS'!$K$30 -> 4 | G4: ='E3 RICHES ROLLERS'!$L$30 -> 0 | H4: ='E3 RICHES ROLLERS'!$M$30 -> 2 | I4: ='E3 RICHES ROLLERS'!$N$30 -> 95 | J4: ='E3 RICHES ROLLERS'!$O$30 -> 63 | K4: =I4-J4 -> 32 | L4: ='E3 RICHES ROLLERS'!$P$30 -> 8
B5: 2nd | C5: =+'E2 TEAM KREWNA'!$H$1 -> E2 | D5: =+'E2 TEAM KREWNA'!$I$1 -> TEAM KREWNA | E5: ='E2 TEAM KREWNA'!$J$30 -> 5 | F5: ='E2 TEAM KREWNA'!$K$30 -> 4 | G5: ='E2 TEAM KREWNA'!$L$30 -> 0 | H5: ='E2 TEAM KREWNA'!$M$30 -> 1 | I5: ='E2 TEAM KREWNA'!$N$30 -> 83 | J5: ='E2 TEAM KREWNA'!$O$30 -> 69 | K5: =I5-J5 -> 14 | L5: ='E2 TEAM KREWNA'!$P$30 -> 8
B6: 3rd | C6: =+'E6 STARLITE'!$H$1 -> E6 | D6: =+'E6 STARLITE'!$I$1 -> STARLITE | E6: ='E6 STARLITE'!$J$30 -> 3 | F6: ='E6 STARLITE'!$K$30 -> 3 | G6: ='E6 STARLITE'!$L$30 -> 0 | H6: ='E6 STARLITE'!$M$30 -> 0 | I6: ='E6 STARLITE'!$N$30 -> 63 | J6: ='E6 STARLITE'!$O$30 -> 27 | K6: =I6-J6 -> 36 | L6: ='E6 STARLITE'!$P$30 -> 6
B7: 4th | C7: =+'E4 BULLETS'!$H$1 -> E4 | D7: =+'E4 BULLETS'!$I$1 -> BULLETS | E7: ='E4 BULLETS'!$J$30 -> 5 | F7: ='E4 BULLETS'!$K$30 -> 3 | G7: ='E4 BULLETS'!$L$30 -> 0 | H7: ='E4 BULLETS'!$M$30 -> 2 | I7: ='E4 BULLETS'!$N$30 -> 91 | J7: ='E4 BULLETS'!$O$30 -> 64 | K7: =I7-J7 -> 27 | L7: ='E4 BULLETS'!$P$30 -> 6
B8: 5th | C8: =+'E9 BIASED BOYS'!$H$1 -> E9 | D8: =+'E9 BIASED BOYS'!$I$1 -> BIASED BOYS | E8: ='E9 BIASED BOYS'!$J$30 -> 5 | F8: ='E9 BIASED BOYS'!$K$30 -> 2 | G8: ='E9 BIASED BOYS'!$L$30 -> 1 | H8: ='E9 BIASED BOYS'!$M$30 -> 2 | I8: ='E9 BIASED BOYS'!$N$30 -> 67 | J8: ='E9 BIASED BOYS'!$O$30 -> 68 | K8: =I8-J8 -> -1 | L8: ='E9 BIASED BOYS'!$P$30 -> 5
B9: 6th | C9: =+'E7 GOLFERS'!$H$1 -> E7 | D9: =+'E7 GOLFERS'!$I$1 -> GOLFERS | E9: ='E7 GOLFERS'!$J$30 -> 5 | F9: ='E7 GOLFERS'!$K$30 -> 2 | G9: ='E7 GOLFERS'!$L$30 -> 0 | H9: ='E7 GOLFERS'!$M$30 -> 3 | I9: ='E7 GOLFERS'!$N$30 -> 68 | J9: ='E7 GOLFERS'!$O$30 -> 80 | K9: =I9-J9 -> -12 | L9: ='E7 GOLFERS'!$P$30 -> 4
B10: 7th | C10: =+'E5 NEW BUILDS'!$H$1 -> E5 | D10: =+'E5 NEW BUILDS'!$I$1 -> NEW BUILDS | E10: ='E5 NEW BUILDS'!$J$30 -> 4 | F10: ='E5 NEW BUILDS'!$K$30 -> 1 | G10: ='E5 NEW BUILDS'!$L$30 -> 1 | H10: ='E5 NEW BUILDS'!$M$30 -> 2 | I10: ='E5 NEW BUILDS'!$N$30 -> 53 | J10: ='E5 NEW BUILDS'!$O$30 -> 61 | K10: =I10-J10 -> -8 | L10: ='E5 NEW BUILDS'!$P$30 -> 3
B11: 8th | C11: =+'E1 MISFITS'!$H$1 -> E1 | D11: =+'E1 MISFITS'!$I$1 -> MISFITS | E11: ='E1 MISFITS'!$J$30 -> 6 | F11: ='E1 MISFITS'!$K$30 -> 1 | G11: ='E1 MISFITS'!$L$30 -> 0 | H11: ='E1 MISFITS'!$M$30 -> 5 | I11: ='E1 MISFITS'!$N$30 -> 70 | J11: ='E1 MISFITS'!$O$30 -> 101 | K11: =I11-J11 -> -31 | L11: ='E1 MISFITS'!$P$30 -> 2
B12: 9th | C12: =+'E8 GREEN WIZARDS'!$H$1 -> E8 | D12: =+'E8 GREEN WIZARDS'!$I$1 -> GREEN WIZARDS | E12: ='E8 GREEN WIZARDS'!$J$30 -> 5 | F12: ='E8 GREEN WIZARDS'!$K$30 -> 1 | G12: ='E8 GREEN WIZARDS'!$L$30 -> 0 | H12: ='E8 GREEN WIZARDS'!$M$30 -> 4 | I12: ='E8 GREEN WIZARDS'!$N$30 -> 43 | J12: ='E8 GREEN WIZARDS'!$O$30 -> 100 | K12: =I12-J12 -> -57 | L12: ='E8 GREEN WIZARDS'!$P$30 -> 2
D13: Check | E13: =SUM(E4:E12) -> 44 | F13: =SUM(F4:F12) -> 21 | G13: =SUM(G4:G12) -> 2 | H13: =SUM(H4:H12) -> 21 | I13: =SUM(I4:I12) -> 633 | J13: =SUM(J4:J12) -> 633 | K13: =SUM(K4:K12) -> 0 | L13: =SUM(L4:L12) -> 44

Sheet E1 MISFITS
H1: E1 | I1: MISFITS
D2: F | E2: A | G2: Date | H2: Code | I2: Opponents | J2: Played | K2: Won | L2: Drawn | M2: Lost | N2: Shots For | O2: Shots Against | P2: Pts
B3: =+$H$1 -> E1 | C3: 1 | D3: =CONCATENATE(C3,B3) -> 1E1 | E3: =CONCATENATE(C3,H3) -> 1E2 | G3: =+Results!D2 -> 46283 | H3: =VLOOKUP($D3,Results!$B$2:$I$244,8,FALSE) -> E2 | I3: =VLOOKUP(H3,Results!$N$2:$O$11,2,FALSE) -> Team Krewna | J3: =SUM(K3:M3) -> 1 | K3: =IF(H3="X",0,IF(N3>O3,1,0)) -> 0 | L3: =IF(OR(C3>Results!$F$1,N3="N"),0,IF(H3="X",0,IF(N3=O3,1,0))) -> 0 | M3: =IF(H3="X",0,IF(N3<O3,1,0)) -> 1 | N3: =IF($C3>Results!$F$1," ",(VLOOKUP($D3,Results!$B$2:$H$244,7,FALSE))) -> 15 | O3: =IF($C3>Results!$F$1," ",(VLOOKUP($E3,Results!$C$2:$K$244,9,FALSE))) -> 18 | P3: =IF(J3=" "," ",SUM(K3*2)+L3*1) -> 0 | R3: Played 15th Oct
B4: =+$H$1 -> E1 | C4: 2 | D4: =CONCATENATE(C4,B4) -> 2E1 | E4: =CONCATENATE(C4,H4) -> 2E9 | G4: =+Results!D11 -> 46289 | H4: =VLOOKUP($D4,Results!$B$2:$I$244,8,FALSE) -> E9 | I4: =VLOOKUP(H4,Results!$N$2:$O$11,2,FALSE) -> Biased Boys | J4: =SUM(K4:M4) -> 1 | K4: =IF(H4="X",0,IF(N4>O4,1,0)) -> 0 | L4: =IF(OR(C4>Results!$F$1,N4="N"),0,IF(H4="X",0,IF(N4=O4,1,0))) -> 0 | M4: =IF(H4="X",0,IF(N4<O4,1,0)) -> 1 | N4: =IF($C4>Results!$F$1," ",(VLOOKUP($D4,Results!$B$2:$H$244,7,FALSE))) -> 13 | O4: =IF($C4>Results!$F$1," ",(VLOOKUP($E4,Results!$C$2:$K$244,9,FALSE))) -> 14 | P4: =IF(J4=" "," ",SUM(K4*2)+L4*1) -> 0
B5: =+$H$1 -> E1 | C5: 3 | D5: =CONCATENATE(C5,B5) -> 3E1 | E5: =CONCATENATE(C5,H5) -> 3E3 | G5: =+Results!D20 -> 46297 | H5: =VLOOKUP($D5,Results!$B$2:$I$244,8,FALSE) -> E3 | I5: =VLOOKUP(H5,Results!$N$2:$O$11,2,FALSE) -> Riches Rollers | J5: =SUM(K5:M5) -> 1 | K5: =IF(H5="X",0,IF(N5>O5,1,0)) -> 1 | L5: =IF(OR(C5>Results!$F$1,N5="N"),0,IF(H5="X",0,IF(N5=O5,1,0))) -> 0 | M5: =IF(H5="X",0,IF(N5<O5,1,0)) -> 0 | N5: =IF($C5>Results!$F$1," ",(VLOOKUP($D5,Results!$B$2:$H$244,7,FALSE))) -> 13 | O5: =IF($C5>Results!$F$1," ",(VLOOKUP($E5,Results!$C$2:$K$244,9,FALSE))) -> 8 | P5: =IF(J5=" "," ",SUM(K5*2)+L5*1) -> 2 | R5: Played 29th Oct
B6: =+$H$1 -> E1 | C6: 4 | D6: =CONCATENATE(C6,B6) -> 4E1 | E6: =CONCATENATE(C6,H6) -> 4E4 | G6: =+Results!D29 -> 46303 | H6: =VLOOKUP($D6,Results!$B$2:$I$244,8,FALSE) -> E4 | I6: =VLOOKUP(H6,Results!$N$2:$O$11,2,FALSE) -> Bullets | J6: =SUM(K6:M6) -> 1 | K6: =IF(H6="X",0,IF(N6>O6,1,0)) -> 0 | L6: =IF(OR(C6>Results!$F$1,N6="N"),0,IF(H6="X",0,IF(N6=O6,1,0))) -> 0 | M6: =IF(H6="X",0,IF(N6<O6,1,0)) -> 1 | N6: =IF($C6>Results!$F$1," ",(VLOOKUP($D6,Results!$B$2:$H$244,7,FALSE))) -> 11 | O6: =IF($C6>Results!$F$1," ",(VLOOKUP($E6,Results!$C$2:$K$244,9,FALSE))) -> 20 | P6: =IF(J6=" "," ",SUM(K6*2)+L6*1) -> 0
B7: =+$H$1 -> E1 | C7: 5 | D7: =CONCATENATE(C7,B7) -> 5E1 | E7: =CONCATENATE(C7,H7) -> 5E6 | G7: =+Results!D38 -> 46311 | H7: =VLOOKUP($D7,Results!$B$2:$I$244,8,FALSE) -> E6 | I7: =VLOOKUP(H7,Results!$N$2:$O$11,2,FALSE) -> Starlite | J7: =SUM(K7:M7) -> 1 | K7: =IF(H7="X",0,IF(N7>O7,1,0)) -> 0 | L7: =IF(OR(C7>Results!$F$1,N7="N"),0,IF(H7="X",0,IF(N7=O7,1,0))) -> 0 | M7: =IF(H7="X",0,IF(N7<O7,1,0)) -> 1 | N7: =IF($C7>Results!$F$1," ",(VLOOKUP($D7,Results!$B$2:$H$244,7,FALSE))) -> 7 | O7: =IF($C7>Results!$F$1," ",(VLOOKUP($E7,Results!$C$2:$K$244,9,FALSE))) -> 26 | P7: =IF(J7=" "," ",SUM(K7*2)+L7*1) -> 0
B8: =+$H$1 -> E1 | C8: 6 | D8: =CONCATENATE(C8,B8) -> 6E1 | E8: =CONCATENATE(C8,H8) -> 6E7 | G8: =+Results!D47 -> 46317 | H8: =VLOOKUP($D8,Results!$B$2:$I$244,8,FALSE) -> E7 | I8: =VLOOKUP(H8,Results!$N$2:$O$11,2,FALSE) -> Golfers | J8: =SUM(K8:M8) -> 1 | K8: =IF(H8="X",0,IF(N8>O8,1,0)) -> 0 | L8: =IF(OR(C8>Results!$F$1,N8="N"),0,IF(H8="X",0,IF(N8=O8,1,0))) -> 0 | M8: =IF(H8="X",0,IF(N8<O8,1,0)) -> 1 | N8: =IF($C8>Results!$F$1," ",(VLOOKUP($D8,Results!$B$2:$H$244,7,FALSE))) -> 11 | O8: =IF($C8>Results!$F$1," ",(VLOOKUP($E8,Results!$C$2:$K$244,9,FALSE))) -> 15 | P8: =IF(J8=" "," ",SUM(K8*2)+L8*1) -> 0
B9: =+$H$1 -> E1 | C9: 7 | D9: =CONCATENATE(C9,B9) -> 7E1 | E9: =CONCATENATE(C9,H9) -> 7E8 | G9: =+Results!D56 -> 46325 | H9: =VLOOKUP($D9,Results!$B$2:$I$244,8,FALSE) -> E8 | I9: =VLOOKUP(H9,Results!$N$2:$O$11,2,FALSE) -> Green Wizards | J9: =SUM(K9:M9) -> 0 | K9: =IF(H9="X",0,IF(N9>O9,1,0)) -> 0 | L9: =IF(OR(C9>Results!$F$1,N9="N"),0,IF(H9="X",0,IF(N9=O9,1,0))) -> 0 | M9: =IF(H9="X",0,IF(N9<O9,1,0)) -> 0 | N9: =IF($C9>Results!$F$1," ",(VLOOKUP($D9,Results!$B$2:$H$244,7,FALSE))) | O9: =IF($C9>Results!$F$1," ",(VLOOKUP($E9,Results!$C$2:$K$244,9,FALSE))) | P9: =IF(J9=" "," ",SUM(K9*2)+L9*1) -> 0
B10: =+$H$1 -> E1 | C10: 8 | D10: =CONCATENATE(C10,B10) -> 8E1 | E10: =CONCATENATE(C10,H10) -> 8E5 | G10: =+Results!D65 -> 46331 | H10: =VLOOKUP($D10,Results!$B$2:$I$244,8,FALSE) -> E5 | I10: =VLOOKUP(H10,Results!$N$2:$O$11,2,FALSE) -> New Builds | J10: =SUM(K10:M10) -> 0 | K10: =IF(H10="X",0,IF(N10>O10,1,0)) -> 0 | L10: =IF(OR(C10>Results!$F$1,N10="N"),0,IF(H10="X",0,IF(N10=O10,1,0))) -> 0 | M10: =IF(H10="X",0,IF(N10<O10,1,0)) -> 0 | N10: =IF($C10>Results!$F$1," ",(VLOOKUP($D10,Results!$B$2:$H$244,7,FALSE))) | O10: =IF($C10>Results!$F$1," ",(VLOOKUP($E10,Results!$C$2:$K$244,9,FALSE))) | P10: =IF(J10=" "," ",SUM(K10*2)+L10*1) -> 0
B11: =+$H$1 -> E1 | C11: 9 | D11: =CONCATENATE(C11,B11) -> 9E1 | E11: =CONCATENATE(C11,H11) -> 9X | G11: =+Results!D74 -> 46339 | H11: =VLOOKUP($D11,Results!$B$2:$I$244,8,FALSE) -> X | I11: =VLOOKUP(H11,Results!$N$2:$O$11,2,FALSE) -> No Match | J11: =SUM(K11:M11) -> 0 | K11: =IF(H11="X",0,IF(N11>O11,1,0)) -> 0 | L11: =IF(OR(C11>Results!$F$1,N11="N"),0,IF(H11="X",0,IF(N11=O11,1,0))) -> 0 | M11: =IF(H11="X",0,IF(N11<O11,1,0)) -> 0 | N11: =IF($C11>Results!$F$1," ",(VLOOKUP($D11,Results!$B$2:$H$244,7,FALSE))) | O11: =IF($C11>Results!$F$1," ",(VLOOKUP($E11,Results!$C$2:$K$244,9,FALSE))) | P11: =IF(J11=" "," ",SUM(K11*2)+L11*1) -> 0
B12: =+$H$1 -> E1 | C12: 10 | D12: =CONCATENATE(C12,B12) -> 10E1 | E12: =CONCATENATE(C12,H12) -> 10E2 | G12: =+Results!D83 -> 46345 | H12: =VLOOKUP($D12,Results!$B$2:$I$244,8,FALSE) -> E2 | I12: =VLOOKUP(H12,Results!$N$2:$O$11,2,FALSE) -> Team Krewna | J12: =SUM(K12:M12) -> 0 | K12: =IF(H12="X",0,IF(N12>O12,1,0)) -> 0 | L12: =IF(OR(C12>Results!$F$1,N12="N"),0,IF(H12="X",0,IF(N12=O12,1,0))) -> 0 | M12: =IF(H12="X",0,IF(N12<O12,1,0)) -> 0 | N12: =IF($C12>Results!$F$1," ",(VLOOKUP($D12,Results!$B$2:$H$244,7,FALSE))) | O12: =IF($C12>Results!$F$1," ",(VLOOKUP($E12,Results!$C$2:$K$244,9,FALSE))) | P12: =IF(J12=" "," ",SUM(K12*2)+L12*1) -> 0
B13: =+$H$1 -> E1 | C13: 11 | D13: =CONCATENATE(C13,B13) -> 11E1 | E13: =CONCATENATE(C13,H13) -> 11E9 | G13: =+Results!D92 -> 46353 | H13: =VLOOKUP($D13,Results!$B$2:$I$244,8,FALSE) -> E9 | I13: =VLOOKUP(H13,Results!$N$2:$O$11,2,FALSE) -> Biased Boys | J13: =SUM(K13:M13) -> 0 | K13: =IF(H13="X",0,IF(N13>O13,1,0)) -> 0 | L13: =IF(OR(C13>Results!$F$1,N13="N"),0,IF(H13="X",0,IF(N13=O13,1,0))) -> 0 | M13: =IF(H13="X",0,IF(N13<O13,1,0)) -> 0 | N13: =IF($C13>Results!$F$1," ",(VLOOKUP($D13,Results!$B$2:$H$244,7,FALSE))) | O13: =IF($C13>Results!$F$1," ",(VLOOKUP($E13,Results!$C$2:$K$244,9,FALSE))) | P13: =IF(J13=" "," ",SUM(K13*2)+L13*1) -> 0
B14: =+$H$1 -> E1 | C14: 12 | D14: =CONCATENATE(C14,B14) -> 12E1 | E14: =CONCATENATE(C14,H14) -> 12E3 | G14: =+Results!D101 -> 46359 | H14: =VLOOKUP($D14,Results!$B$2:$I$244,8,FALSE) -> E3 | I14: =VLOOKUP(H14,Results!$N$2:$O$11,2,FALSE) -> Riches Rollers | J14: =SUM(K14:M14) -> 0 | K14: =IF(H14="X",0,IF(N14>O14,1,0)) -> 0 | L14: =IF(OR(C14>Results!$F$1,N14="N"),0,IF(H14="X",0,IF(N14=O14,1,0))) -> 0 | M14: =IF(H14="X",0,IF(N14<O14,1,0)) -> 0 | N14: =IF($C14>Results!$F$1," ",(VLOOKUP($D14,Results!$B$2:$H$244,7,FALSE))) | O14: =IF($C14>Results!$F$1," ",(VLOOKUP($E14,Results!$C$2:$K$244,9,FALSE))) | P14: =IF(J14=" "," ",SUM(K14*2)+L14*1) -> 0
B15: =+$H$1 -> E1 | C15: 13 | D15: =CONCATENATE(C15,B15) -> 13E1 | E15: =CONCATENATE(C15,H15) -> 13E4 | G15: =+Results!D110 -> 46367 | H15: =VLOOKUP($D15,Results!$B$2:$I$244,8,FALSE) -> E4 | I15: =VLOOKUP(H15,Results!$N$2:$O$11,2,FALSE) -> Bullets | J15: =SUM(K15:M15) -> 0 | K15: =IF(H15="X",0,IF(N15>O15,1,0)) -> 0 | L15: =IF(OR(C15>Results!$F$1,N15="N"),0,IF(H15="X",0,IF(N15=O15,1,0))) -> 0 | M15: =IF(H15="X",0,IF(N15<O15,1,0)) -> 0 | N15: =IF($C15>Results!$F$1," ",(VLOOKUP($D15,Results!$B$2:$H$244,7,FALSE))) | O15: =IF($C15>Results!$F$1," ",(VLOOKUP($E15,Results!$C$2:$K$244,9,FALSE))) | P15: =IF(J15=" "," ",SUM(K15*2)+L15*1) -> 0
B16: =+$H$1 -> E1 | C16: 14 | D16: =CONCATENATE(C16,B16) -> 14E1 | E16: =CONCATENATE(C16,H16) -> 14E6 | G16: =+Results!D119 -> 46373 | H16: =VLOOKUP($D16,Results!$B$2:$I$244,8,FALSE) -> E6 | I16: =VLOOKUP(H16,Results!$N$2:$O$11,2,FALSE) -> Starlite | J16: =SUM(K16:M16) -> 0 | K16: =IF(H16="X",0,IF(N16>O16,1,0)) -> 0 | L16: =IF(OR(C16>Results!$F$1,N16="N"),0,IF(H16="X",0,IF(N16=O16,1,0))) -> 0 | M16: =IF(H16="X",0,IF(N16<O16,1,0)) -> 0 | N16: =IF($C16>Results!$F$1," ",(VLOOKUP($D16,Results!$B$2:$H$244,7,FALSE))) | O16: =IF($C16>Results!$F$1," ",(VLOOKUP($E16,Results!$C$2:$K$244,9,FALSE))) | P16: =IF(J16=" "," ",SUM(K16*2)+L16*1) -> 0
B17: =+$H$1 -> E1 | C17: 15 | D17: =CONCATENATE(C17,B17) -> 15E1 | E17: =CONCATENATE(C17,H17) -> 15E7 | G17: =+Results!D128 -> 46395 | H17: =VLOOKUP($D17,Results!$B$2:$I$244,8,FALSE) -> E7 | I17: =VLOOKUP(H17,Results!$N$2:$O$11,2,FALSE) -> Golfers | J17: =SUM(K17:M17) -> 0 | K17: =IF(H17="X",0,IF(N17>O17,1,0)) -> 0 | L17: =IF(OR(C17>Results!$F$1,N17="N"),0,IF(H17="X",0,IF(N17=O17,1,0))) -> 0 | M17: =IF(H17="X",0,IF(N17<O17,1,0)) -> 0 | N17: =IF($C17>Results!$F$1," ",(VLOOKUP($D17,Results!$B$2:$H$244,7,FALSE))) | O17: =IF($C17>Results!$F$1," ",(VLOOKUP($E17,Results!$C$2:$K$244,9,FALSE))) | P17: =IF(J17=" "," ",SUM(K17*2)+L17*1) -> 0
B18: =+$H$1 -> E1 | C18: 16 | D18: =CONCATENATE(C18,B18) -> 16E1 | E18: =CONCATENATE(C18,H18) -> 16E8 | G18: =+Results!D137 -> 46401 | H18: =VLOOKUP($D18,Results!$B$2:$I$244,8,FALSE) -> E8 | I18: =VLOOKUP(H18,Results!$N$2:$O$11,2,FALSE) -> Green Wizards | J18: =SUM(K18:M18) -> 0 | K18: =IF(H18="X",0,IF(N18>O18,1,0)) -> 0 | L18: =IF(OR(C18>Results!$F$1,N18="N"),0,IF(H18="X",0,IF(N18=O18,1,0))) -> 0 | M18: =IF(H18="X",0,IF(N18<O18,1,0)) -> 0 | N18: =IF($C18>Results!$F$1," ",(VLOOKUP($D18,Results!$B$2:$H$244,7,FALSE))) | O18: =IF($C18>Results!$F$1," ",(VLOOKUP($E18,Results!$C$2:$K$244,9,FALSE))) | P18: =IF(J18=" "," ",SUM(K18*2)+L18*1) -> 0
B19: =+$H$1 -> E1 | C19: 17 | D19: =CONCATENATE(C19,B19) -> 17E1 | E19: =CONCATENATE(C19,H19) -> 17E5 | G19: =+Results!D146 -> 46409 | H19: =VLOOKUP($D19,Results!$B$2:$I$244,8,FALSE) -> E5 | I19: =VLOOKUP(H19,Results!$N$2:$O$11,2,FALSE) -> New Builds | J19: =SUM(K19:M19) -> 0 | K19: =IF(H19="X",0,IF(N19>O19,1,0)) -> 0 | L19: =IF(OR(C19>Results!$F$1,N19="N"),0,IF(H19="X",0,IF(N19=O19,1,0))) -> 0 | M19: =IF(H19="X",0,IF(N19<O19,1,0)) -> 0 | N19: =IF($C19>Results!$F$1," ",(VLOOKUP($D19,Results!$B$2:$H$244,7,FALSE))) | O19: =IF($C19>Results!$F$1," ",(VLOOKUP($E19,Results!$C$2:$K$244,9,FALSE))) | P19: =IF(J19=" "," ",SUM(K19*2)+L19*1) -> 0
B20: =+$H$1 -> E1 | C20: 18 | D20: =CONCATENATE(C20,B20) -> 18E1 | E20: =CONCATENATE(C20,H20) -> 18X | G20: =+Results!D155 -> 46415 | H20: =VLOOKUP($D20,Results!$B$2:$I$244,8,FALSE) -> X | I20: =VLOOKUP(H20,Results!$N$2:$O$11,2,FALSE) -> No Match | J20: =SUM(K20:M20) -> 0 | K20: =IF(H20="X",0,IF(N20>O20,1,0)) -> 0 | L20: =IF(OR(C20>Results!$F$1,N20="N"),0,IF(H20="X",0,IF(N20=O20,1,0))) -> 0 | M20: =IF(H20="X",0,IF(N20<O20,1,0)) -> 0 | N20: =IF($C20>Results!$F$1," ",(VLOOKUP($D20,Results!$B$2:$H$244,7,FALSE))) | O20: =IF($C20>Results!$F$1," ",(VLOOKUP($E20,Results!$C$2:$K$244,9,FALSE))) | P20: =IF(J20=" "," ",SUM(K20*2)+L20*1) -> 0
B21: =+$H$1 -> E1 | C21: 19 | D21: =CONCATENATE(C21,B21) -> 19E1 | E21: =CONCATENATE(C21,H21) -> 19E2 | G21: =+Results!D164 -> 46423 | H21: =VLOOKUP($D21,Results!$B$2:$I$244,8,FALSE) -> E2 | I21: =VLOOKUP(H21,Results!$N$2:$O$11,2,FALSE) -> Team Krewna | J21: =SUM(K21:M21) -> 0 | K21: =IF(H21="X",0,IF(N21>O21,1,0)) -> 0 | L21: =IF(OR(C21>Results!$F$1,N21="N"),0,IF(H21="X",0,IF(N21=O21,1,0))) -> 0 | M21: =IF(H21="X",0,IF(N21<O21,1,0)) -> 0 | N21: =IF($C21>Results!$F$1," ",(VLOOKUP($D21,Results!$B$2:$H$244,7,FALSE))) | O21: =IF($C21>Results!$F$1," ",(VLOOKUP($E21,Results!$C$2:$K$244,9,FALSE))) | P21: =IF(J21=" "," ",SUM(K21*2)+L21*1) -> 0
B22: =+$H$1 -> E1 | C22: 20 | D22: =CONCATENATE(C22,B22) -> 20E1 | E22: =CONCATENATE(C22,H22) -> 20E9 | G22: =+Results!D173 -> 46429 | H22: =VLOOKUP($D22,Results!$B$2:$I$244,8,FALSE) -> E9 | I22: =VLOOKUP(H22,Results!$N$2:$O$11,2,FALSE) -> Biased Boys | J22: =SUM(K22:M22) -> 0 | K22: =IF(H22="X",0,IF(N22>O22,1,0)) -> 0 | L22: =IF(OR(C22>Results!$F$1,N22="N"),0,IF(H22="X",0,IF(N22=O22,1,0))) -> 0 | M22: =IF(H22="X",0,IF(N22<O22,1,0)) -> 0 | N22: =IF($C22>Results!$F$1," ",(VLOOKUP($D22,Results!$B$2:$H$244,7,FALSE))) | O22: =IF($C22>Results!$F$1," ",(VLOOKUP($E22,Results!$C$2:$K$244,9,FALSE))) | P22: =IF(J22=" "," ",SUM(K22*2)+L22*1) -> 0
B23: =+$H$1 -> E1 | C23: 21 | D23: =CONCATENATE(C23,B23) -> 21E1 | E23: =CONCATENATE(C23,H23) -> 21E3 | G23: =+Results!D182 -> 46437 | H23: =VLOOKUP($D23,Results!$B$2:$I$244,8,FALSE) -> E3 | I23: =VLOOKUP(H23,Results!$N$2:$O$11,2,FALSE) -> Riches Rollers | J23: =SUM(K23:M23) -> 0 | K23: =IF(H23="X",0,IF(N23>O23,1,0)) -> 0 | L23: =IF(OR(C23>Results!$F$1,N23="N"),0,IF(H23="X",0,IF(N23=O23,1,0))) -> 0 | M23: =IF(H23="X",0,IF(N23<O23,1,0)) -> 0 | N23: =IF($C23>Results!$F$1," ",(VLOOKUP($D23,Results!$B$2:$H$244,7,FALSE))) | O23: =IF($C23>Results!$F$1," ",(VLOOKUP($E23,Results!$C$2:$K$244,9,FALSE))) | P23: =IF(J23=" "," ",SUM(K23*2)+L23*1) -> 0
B24: =+$H$1 -> E1 | C24: 22 | D24: =CONCATENATE(C24,B24) -> 22E1 | E24: =CONCATENATE(C24,H24) -> 22E4 | G24: =+Results!D191 -> 46443 | H24: =VLOOKUP($D24,Results!$B$2:$I$244,8,FALSE) -> E4 | I24: =VLOOKUP(H24,Results!$N$2:$O$11,2,FALSE) -> Bullets | J24: =SUM(K24:M24) -> 0 | K24: =IF(H24="X",0,IF(N24>O24,1,0)) -> 0 | L24: =IF(OR(C24>Results!$F$1,N24="N"),0,IF(H24="X",0,IF(N24=O24,1,0))) -> 0 | M24: =IF(H24="X",0,IF(N24<O24,1,0)) -> 0 | N24: =IF($C24>Results!$F$1," ",(VLOOKUP($D24,Results!$B$2:$H$244,7,FALSE))) | O24: =IF($C24>Results!$F$1," ",(VLOOKUP($E24,Results!$C$2:$K$244,9,FALSE))) | P24: =IF(J24=" "," ",SUM(K24*2)+L24*1) -> 0
B25: =+$H$1 -> E1 | C25: 23 | D25: =CONCATENATE(C25,B25) -> 23E1 | E25: =CONCATENATE(C25,H25) -> 23E6 | G25: =+Results!D200 -> 46451 | H25: =VLOOKUP($D25,Results!$B$2:$I$244,8,FALSE) -> E6 | I25: =VLOOKUP(H25,Results!$N$2:$O$11,2,FALSE) -> Starlite | J25: =SUM(K25:M25) -> 0 | K25: =IF(H25="X",0,IF(N25>O25,1,0)) -> 0 | L25: =IF(OR(C25>Results!$F$1,N25="N"),0,IF(H25="X",0,IF(N25=O25,1,0))) -> 0 | M25: =IF(H25="X",0,IF(N25<O25,1,0)) -> 0 | N25: =IF($C25>Results!$F$1," ",(VLOOKUP($D25,Results!$B$2:$H$244,7,FALSE))) | O25: =IF($C25>Results!$F$1," ",(VLOOKUP($E25,Results!$C$2:$K$244,9,FALSE))) | P25: =IF(J25=" "," ",SUM(K25*2)+L25*1) -> 0
B26: =+$H$1 -> E1 | C26: 24 | D26: =CONCATENATE(C26,B26) -> 24E1 | E26: =CONCATENATE(C26,H26) -> 24E7 | G26: =+Results!D209 -> 46457 | H26: =VLOOKUP($D26,Results!$B$2:$I$244,8,FALSE) -> E7 | I26: =VLOOKUP(H26,Results!$N$2:$O$11,2,FALSE) -> Golfers | J26: =SUM(K26:M26) -> 0 | K26: =IF(H26="X",0,IF(N26>O26,1,0)) -> 0 | L26: =IF(OR(C26>Results!$F$1,N26="N"),0,IF(H26="X",0,IF(N26=O26,1,0))) -> 0 | M26: =IF(H26="X",0,IF(N26<O26,1,0)) -> 0 | N26: =IF($C26>Results!$F$1," ",(VLOOKUP($D26,Results!$B$2:$H$244,7,FALSE))) | O26: =IF($C26>Results!$F$1," ",(VLOOKUP($E26,Results!$C$2:$K$244,9,FALSE))) | P26: =IF(J26=" "," ",SUM(K26*2)+L26*1) -> 0
B27: =+$H$1 -> E1 | C27: 25 | D27: =CONCATENATE(C27,B27) -> 25E1 | E27: =CONCATENATE(C27,H27) -> 25E8 | G27: =+Results!D218 -> 46465 | H27: =VLOOKUP($D27,Results!$B$2:$I$244,8,FALSE) -> E8 | I27: =VLOOKUP(H27,Results!$N$2:$O$11,2,FALSE) -> Green Wizards | J27: =SUM(K27:M27) -> 0 | K27: =IF(H27="X",0,IF(N27>O27,1,0)) -> 0 | L27: =IF(OR(C27>Results!$F$1,N27="N"),0,IF(H27="X",0,IF(N27=O27,1,0))) -> 0 | M27: =IF(H27="X",0,IF(N27<O27,1,0)) -> 0 | N27: =IF($C27>Results!$F$1," ",(VLOOKUP($D27,Results!$B$2:$H$244,7,FALSE))) | O27: =IF($C27>Results!$F$1," ",(VLOOKUP($E27,Results!$C$2:$K$244,9,FALSE))) | P27: =IF(J27=" "," ",SUM(K27*2)+L27*1) -> 0
B28: =+$H$1 -> E1 | C28: 26 | D28: =CONCATENATE(C28,B28) -> 26E1 | E28: =CONCATENATE(C28,H28) -> 26E5 | G28: =+Results!D227 -> 46471 | H28: =VLOOKUP($D28,Results!$B$2:$I$244,8,FALSE) -> E5 | I28: =VLOOKUP(H28,Results!$N$2:$O$11,2,FALSE) -> New Builds | J28: =SUM(K28:M28) -> 0 | K28: =IF(H28="X",0,IF(N28>O28,1,0)) -> 0 | L28: =IF(OR(C28>Results!$F$1,N28="N"),0,IF(H28="X",0,IF(N28=O28,1,0))) -> 0 | M28: =IF(H28="X",0,IF(N28<O28,1,0)) -> 0 | N28: =IF($C28>Results!$F$1," ",(VLOOKUP($D28,Results!$B$2:$H$244,7,FALSE))) | O28: =IF($C28>Results!$F$1," ",(VLOOKUP($E28,Results!$C$2:$K$244,9,FALSE))) | P28: =IF(J28=" "," ",SUM(K28*2)+L28*1) -> 0
B29: =+$H$1 -> E1 | C29: 27 | D29: =CONCATENATE(C29,B29) -> 27E1 | E29: =CONCATENATE(C29,H29) -> 27X | G29: =+Results!D236 -> 46479 | H29: =VLOOKUP($D29,Results!$B$2:$I$244,8,FALSE) -> X | I29: =VLOOKUP(H29,Results!$N$2:$O$11,2,FALSE) -> No Match | J29: =SUM(K29:M29) -> 0 | K29: =IF(H29="X",0,IF(N29>O29,1,0)) -> 0 | L29: =IF(OR(C29>Results!$F$1,N29="N"),0,IF(H29="X",0,IF(N29=O29,1,0))) -> 0 | M29: =IF(H29="X",0,IF(N29<O29,1,0)) -> 0 | N29: =IF($C29>Results!$F$1," ",(VLOOKUP($D29,Results!$B$2:$H$244,7,FALSE))) | O29: =IF($C29>Results!$F$1," ",(VLOOKUP($E29,Results!$C$2:$K$244,9,FALSE))) | P29: =IF(J29=" "," ",SUM(K29*2)+L29*1) -> 0
I30: TOTALS | J30: =SUM(J3:J29) -> 6 | K30: =SUM(K3:K29) -> 1 | L30: =SUM(L3:L29) -> 0 | M30: =SUM(M3:M29) -> 5 | N30: =SUM(N3:N29) -> 70 | O30: =SUM(O3:O29) -> 101 | P30: =SUM(P3:P29) -> 2

Sheet E2 TEAM KREWNA
H1: E2 | I1: TEAM KREWNA
D2: F | E2: A | G2: Date | H2: Code | I2: Opponents | J2: Played | K2: Won | L2: Drawn | M2: Lost | N2: Shots For | O2: Shots Against | P2: Pts
B3: =+$H$1 -> E2 | C3: 1 | D3: =CONCATENATE(C3,B3) -> 1E2 | E3: =CONCATENATE(C3,H3) -> 1E1 | G3: =+Results!D2 -> 46283 | H3: =VLOOKUP($D3,Results!$B$2:$I$244,8,FALSE) -> E1 | I3: =VLOOKUP(H3,Results!$N$2:$O$11,2,FALSE) -> Misfits | J3: =SUM(K3:M3) -> 1 | K3: =IF(H3="X",0,IF(N3>O3,1,0)) -> 1 | L3: =IF(OR(C3>Results!$F$1,N3="N"),0,IF(H3="X",0,IF(N3=O3,1,0))) -> 0 | M3: =IF(H3="X",0,IF(N3<O3,1,0)) -> 0 | N3: =IF($C3>Results!$F$1," ",(VLOOKUP($D3,Results!$B$2:$H$244,7,FALSE))) -> 18 | O3: =IF($C3>Results!$F$1," ",(VLOOKUP($E3,Results!$C$2:$K$244,9,FALSE))) -> 15 | P3: =IF(J3=" "," ",SUM(K3*2)+L3*1) -> 2 | R3: Played 15th Oct
B4: =+$H$1 -> E2 | C4: 2 | D4: =CONCATENATE(C4,B4) -> 2E2 | E4: =CONCATENATE(C4,H4) -> 2E3 | G4: =+Results!D11 -> 46289 | H4: =VLOOKUP($D4,Results!$B$2:$I$244,8,FALSE) -> E3 | I4: =VLOOKUP(H4,Results!$N$2:$O$11,2,FALSE) -> Riches Rollers | J4: =SUM(K4:M4) -> 1 | K4: =IF(H4="X",0,IF(N4>O4,1,0)) -> 0 | L4: =IF(OR(C4>Results!$F$1,N4="N"),0,IF(H4="X",0,IF(N4=O4,1,0))) -> 0 | M4: =IF(H4="X",0,IF(N4<O4,1,0)) -> 1 | N4: =IF($C4>Results!$F$1," ",(VLOOKUP($D4,Results!$B$2:$H$244,7,FALSE))) -> 9 | O4: =IF($C4>Results!$F$1," ",(VLOOKUP($E4,Results!$C$2:$K$244,9,FALSE))) -> 17 | P4: =IF(J4=" "," ",SUM(K4*2)+L4*1) -> 0
B5: =+$H$1 -> E2 | C5: 3 | D5: =CONCATENATE(C5,B5) -> 3E2 | E5: =CONCATENATE(C5,H5) -> 3E4 | G5: =+Results!D20 -> 46297 | H5: =VLOOKUP($D5,Results!$B$2:$I$244,8,FALSE) -> E4 | I5: =VLOOKUP(H5,Results!$N$2:$O$11,2,FALSE) -> Bullets | J5: =SUM(K5:M5) -> 1 | K5: =IF(H5="X",0,IF(N5>O5,1,0)) -> 1 | L5: =IF(OR(C5>Results!$F$1,N5="N"),0,IF(H5="X",0,IF(N5=O5,1,0))) -> 0 | M5: =IF(H5="X",0,IF(N5<O5,1,0)) -> 0 | N5: =IF($C5>Results!$F$1," ",(VLOOKUP($D5,Results!$B$2:$H$244,7,FALSE))) -> 18 | O5: =IF($C5>Results!$F$1," ",(VLOOKUP($E5,Results!$C$2:$K$244,9,FALSE))) -> 15 | P5: =IF(J5=" "," ",SUM(K5*2)+L5*1) -> 2
B6: =+$H$1 -> E2 | C6: 4 | D6: =CONCATENATE(C6,B6) -> 4E2 | E6: =CONCATENATE(C6,H6) -> 4E7 | G6: =+Results!D29 -> 46303 | H6: =VLOOKUP($D6,Results!$B$2:$I$244,8,FALSE) -> E7 | I6: =VLOOKUP(H6,Results!$N$2:$O$11,2,FALSE) -> Golfers | J6: =SUM(K6:M6) -> 1 | K6: =IF(H6="X",0,IF(N6>O6,1,0)) -> 1 | L6: =IF(OR(C6>Results!$F$1,N6="N"),0,IF(H6="X",0,IF(N6=O6,1,0))) -> 0 | M6: =IF(H6="X",0,IF(N6<O6,1,0)) -> 0 | N6: =IF($C6>Results!$F$1," ",(VLOOKUP($D6,Results!$B$2:$H$244,7,FALSE))) -> 17 | O6: =IF($C6>Results!$F$1," ",(VLOOKUP($E6,Results!$C$2:$K$244,9,FALSE))) -> 13 | P6: =IF(J6=" "," ",SUM(K6*2)+L6*1) -> 2
B7: =+$H$1 -> E2 | C7: 5 | D7: =CONCATENATE(C7,B7) -> 5E2 | E7: =CONCATENATE(C7,H7) -> 5E8 | G7: =+Results!D38 -> 46311 | H7: =VLOOKUP($D7,Results!$B$2:$I$244,8,FALSE) -> E8 | I7: =VLOOKUP(H7,Results!$N$2:$O$11,2,FALSE) -> Green Wizards | J7: =SUM(K7:M7) -> 1 | K7: =IF(H7="X",0,IF(N7>O7,1,0)) -> 1 | L7: =IF(OR(C7>Results!$F$1,N7="N"),0,IF(H7="X",0,IF(N7=O7,1,0))) -> 0 | M7: =IF(H7="X",0,IF(N7<O7,1,0)) -> 0 | N7: =IF($C7>Results!$F$1," ",(VLOOKUP($D7,Results!$B$2:$H$244,7,FALSE))) -> 21 | O7: =IF($C7>Results!$F$1," ",(VLOOKUP($E7,Results!$C$2:$K$244,9,FALSE))) -> 9 | P7: =IF(J7=" "," ",SUM(K7*2)+L7*1) -> 2
B8: =+$H$1 -> E2 | C8: 6 | D8: =CONCATENATE(C8,B8) -> 6E2 | E8: =CONCATENATE(C8,H8) -> 6E6 | G8: =+Results!D47 -> 46317 | H8: =VLOOKUP($D8,Results!$B$2:$I$244,8,FALSE) -> E6 | I8: =VLOOKUP(H8,Results!$N$2:$O$11,2,FALSE) -> Starlite | J8: =SUM(K8:M8) -> 0 | K8: =IF(H8="X",0,IF(N8>O8,1,0)) -> 0 | L8: =IF(OR(C8>Results!$F$1,N8="N"),0,IF(H8="X",0,IF(N8=O8,1,0))) -> 0 | M8: =IF(H8="X",0,IF(N8<O8,1,0)) -> 0 | N8: =IF($C8>Results!$F$1," ",(VLOOKUP($D8,Results!$B$2:$H$244,7,FALSE))) -> N | O8: =IF($C8>Results!$F$1," ",(VLOOKUP($E8,Results!$C$2:$K$244,9,FALSE))) -> N | P8: =IF(J8=" "," ",SUM(K8*2)+L8*1) -> 0
B9: =+$H$1 -> E2 | C9: 7 | D9: =CONCATENATE(C9,B9) -> 7E2 | E9: =CONCATENATE(C9,H9) -> 7E5 | G9: =+Results!D56 -> 46325 | H9: =VLOOKUP($D9,Results!$B$2:$I$244,8,FALSE) -> E5 | I9: =VLOOKUP(H9,Results!$N$2:$O$11,2,FALSE) -> New Builds | J9: =SUM(K9:M9) -> 0 | K9: =IF(H9="X",0,IF(N9>O9,1,0)) -> 0 | L9: =IF(OR(C9>Results!$F$1,N9="N"),0,IF(H9="X",0,IF(N9=O9,1,0))) -> 0 | M9: =IF(H9="X",0,IF(N9<O9,1,0)) -> 0 | N9: =IF($C9>Results!$F$1," ",(VLOOKUP($D9,Results!$B$2:$H$244,7,FALSE))) | O9: =IF($C9>Results!$F$1," ",(VLOOKUP($E9,Results!$C$2:$K$244,9,FALSE))) | P9: =IF(J9=" "," ",SUM(K9*2)+L9*1) -> 0
B10: =+$H$1 -> E2 | C10: 8 | D10: =CONCATENATE(C10,B10) -> 8E2 | E10: =CONCATENATE(C10,H10) -> 8X | G10: =+Results!D65 -> 46331 | H10: =VLOOKUP($D10,Results!$B$2:$I$244,8,FALSE) -> X | I10: =VLOOKUP(H10,Results!$N$2:$O$11,2,FALSE) -> No Match | J10: =SUM(K10:M10) -> 0 | K10: =IF(H10="X",0,IF(N10>O10,1,0)) -> 0 | L10: =IF(OR(C10>Results!$F$1,N10="N"),0,IF(H10="X",0,IF(N10=O10,1,0))) -> 0 | M10: =IF(H10="X",0,IF(N10<O10,1,0)) -> 0 | N10: =IF($C10>Results!$F$1," ",(VLOOKUP($D10,Results!$B$2:$H$244,7,FALSE))) | O10: =IF($C10>Results!$F$1," ",(VLOOKUP($E10,Results!$C$2:$K$244,9,FALSE))) | P10: =IF(J10=" "," ",SUM(K10*2)+L10*1) -> 0
B11: =+$H$1 -> E2 | C11: 9 | D11: =CONCATENATE(C11,B11) -> 9E2 | E11: =CONCATENATE(C11,H11) -> 9E9 | G11: =+Results!D74 -> 46339 | H11: =VLOOKUP($D11,Results!$B$2:$I$244,8,FALSE) -> E9 | I11: =VLOOKUP(H11,Results!$N$2:$O$11,2,FALSE) -> Biased Boys | J11: =SUM(K11:M11) -> 0 | K11: =IF(H11="X",0,IF(N11>O11,1,0)) -> 0 | L11: =IF(OR(C11>Results!$F$1,N11="N"),0,IF(H11="X",0,IF(N11=O11,1,0))) -> 0 | M11: =IF(H11="X",0,IF(N11<O11,1,0)) -> 0 | N11: =IF($C11>Results!$F$1," ",(VLOOKUP($D11,Results!$B$2:$H$244,7,FALSE))) | O11: =IF($C11>Results!$F$1," ",(VLOOKUP($E11,Results!$C$2:$K$244,9,FALSE))) | P11: =IF(J11=" "," ",SUM(K11*2)+L11*1) -> 0
B12: =+$H$1 -> E2 | C12: 10 | D12: =CONCATENATE(C12,B12) -> 10E2 | E12: =CONCATENATE(C12,H12) -> 10E1 | G12: =+Results!D83 -> 46345 | H12: =VLOOKUP($D12,Results!$B$2:$I$244,8,FALSE) -> E1 | I12: =VLOOKUP(H12,Results!$N$2:$O$11,2,FALSE) -> Misfits | J12: =SUM(K12:M12) -> 0 | K12: =IF(H12="X",0,IF(N12>O12,1,0)) -> 0 | L12: =IF(OR(C12>Results!$F$1,N12="N"),0,IF(H12="X",0,IF(N12=O12,1,0))) -> 0 | M12: =IF(H12="X",0,IF(N12<O12,1,0)) -> 0 | N12: =IF($C12>Results!$F$1," ",(VLOOKUP($D12,Results!$B$2:$H$244,7,FALSE))) | O12: =IF($C12>Results!$F$1," ",(VLOOKUP($E12,Results!$C$2:$K$244,9,FALSE))) | P12: =IF(J12=" "," ",SUM(K12*2)+L12*1) -> 0
B13: =+$H$1 -> E2 | C13: 11 | D13: =CONCATENATE(C13,B13) -> 11E2 | E13: =CONCATENATE(C13,H13) -> 11E3 | G13: =+Results!D92 -> 46353 | H13: =VLOOKUP($D13,Results!$B$2:$I$244,8,FALSE) -> E3 | I13: =VLOOKUP(H13,Results!$N$2:$O$11,2,FALSE) -> Riches Rollers | J13: =SUM(K13:M13) -> 0 | K13: =IF(H13="X",0,IF(N13>O13,1,0)) -> 0 | L13: =IF(OR(C13>Results!$F$1,N13="N"),0,IF(H13="X",0,IF(N13=O13,1,0))) -> 0 | M13: =IF(H13="X",0,IF(N13<O13,1,0)) -> 0 | N13: =IF($C13>Results!$F$1," ",(VLOOKUP($D13,Results!$B$2:$H$244,7,FALSE))) | O13: =IF($C13>Results!$F$1," ",(VLOOKUP($E13,Results!$C$2:$K$244,9,FALSE))) | P13: =IF(J13=" "," ",SUM(K13*2)+L13*1) -> 0
B14: =+$H$1 -> E2 | C14: 12 | D14: =CONCATENATE(C14,B14) -> 12E2 | E14: =CONCATENATE(C14,H14) -> 12E4 | G14: =+Results!D101 -> 46359 | H14: =VLOOKUP($D14,Results!$B$2:$I$244,8,FALSE) -> E4 | I14: =VLOOKUP(H14,Results!$N$2:$O$11,2,FALSE) -> Bullets | J14: =SUM(K14:M14) -> 0 | K14: =IF(H14="X",0,IF(N14>O14,1,0)) -> 0 | L14: =IF(OR(C14>Results!$F$1,N14="N"),0,IF(H14="X",0,IF(N14=O14,1,0))) -> 0 | M14: =IF(H14="X",0,IF(N14<O14,1,0)) -> 0 | N14: =IF($C14>Results!$F$1," ",(VLOOKUP($D14,Results!$B$2:$H$244,7,FALSE))) | O14: =IF($C14>Results!$F$1," ",(VLOOKUP($E14,Results!$C$2:$K$244,9,FALSE))) | P14: =IF(J14=" "," ",SUM(K14*2)+L14*1) -> 0
B15: =+$H$1 -> E2 | C15: 13 | D15: =CONCATENATE(C15,B15) -> 13E2 | E15: =CONCATENATE(C15,H15) -> 13E7 | G15: =+Results!D110 -> 46367 | H15: =VLOOKUP($D15,Results!$B$2:$I$244,8,FALSE) -> E7 | I15: =VLOOKUP(H15,Results!$N$2:$O$11,2,FALSE) -> Golfers | J15: =SUM(K15:M15) -> 0 | K15: =IF(H15="X",0,IF(N15>O15,1,0)) -> 0 | L15: =IF(OR(C15>Results!$F$1,N15="N"),0,IF(H15="X",0,IF(N15=O15,1,0))) -> 0 | M15: =IF(H15="X",0,IF(N15<O15,1,0)) -> 0 | N15: =IF($C15>Results!$F$1," ",(VLOOKUP($D15,Results!$B$2:$H$244,7,FALSE))) | O15: =IF($C15>Results!$F$1," ",(VLOOKUP($E15,Results!$C$2:$K$244,9,FALSE))) | P15: =IF(J15=" "," ",SUM(K15*2)+L15*1) -> 0
B16: =+$H$1 -> E2 | C16: 14 | D16: =CONCATENATE(C16,B16) -> 14E2 | E16: =CONCATENATE(C16,H16) -> 14E8 | G16: =+Results!D119 -> 46373 | H16: =VLOOKUP($D16,Results!$B$2:$I$244,8,FALSE) -> E8 | I16: =VLOOKUP(H16,Results!$N$2:$O$11,2,FALSE) -> Green Wizards | J16: =SUM(K16:M16) -> 0 | K16: =IF(H16="X",0,IF(N16>O16,1,0)) -> 0 | L16: =IF(OR(C16>Results!$F$1,N16="N"),0,IF(H16="X",0,IF(N16=O16,1,0))) -> 0 | M16: =IF(H16="X",0,IF(N16<O16,1,0)) -> 0 | N16: =IF($C16>Results!$F$1," ",(VLOOKUP($D16,Results!$B$2:$H$244,7,FALSE))) | O16: =IF($C16>Results!$F$1," ",(VLOOKUP($E16,Results!$C$2:$K$244,9,FALSE))) | P16: =IF(J16=" "," ",SUM(K16*2)+L16*1) -> 0
B17: =+$H$1 -> E2 | C17: 15 | D17: =CONCATENATE(C17,B17) -> 15E2 | E17: =CONCATENATE(C17,H17) -> 15E6 | G17: =+Results!D128 -> 46395 | H17: =VLOOKUP($D17,Results!$B$2:$I$244,8,FALSE) -> E6 | I17: =VLOOKUP(H17,Results!$N$2:$O$11,2,FALSE) -> Starlite | J17: =SUM(K17:M17) -> 0 | K17: =IF(H17="X",0,IF(N17>O17,1,0)) -> 0 | L17: =IF(OR(C17>Results!$F$1,N17="N"),0,IF(H17="X",0,IF(N17=O17,1,0))) -> 0 | M17: =IF(H17="X",0,IF(N17<O17,1,0)) -> 0 | N17: =IF($C17>Results!$F$1," ",(VLOOKUP($D17,Results!$B$2:$H$244,7,FALSE))) | O17: =IF($C17>Results!$F$1," ",(VLOOKUP($E17,Results!$C$2:$K$244,9,FALSE))) | P17: =IF(J17=" "," ",SUM(K17*2)+L17*1) -> 0
B18: =+$H$1 -> E2 | C18: 16 | D18: =CONCATENATE(C18,B18) -> 16E2 | E18: =CONCATENATE(C18,H18) -> 16E5 | G18: =+Results!D137 -> 46401 | H18: =VLOOKUP($D18,Results!$B$2:$I$244,8,FALSE) -> E5 | I18: =VLOOKUP(H18,Results!$N$2:$O$11,2,FALSE) -> New Builds | J18: =SUM(K18:M18) -> 0 | K18: =IF(H18="X",0,IF(N18>O18,1,0)) -> 0 | L18: =IF(OR(C18>Results!$F$1,N18="N"),0,IF(H18="X",0,IF(N18=O18,1,0))) -> 0 | M18: =IF(H18="X",0,IF(N18<O18,1,0)) -> 0 | N18: =IF($C18>Results!$F$1," ",(VLOOKUP($D18,Results!$B$2:$H$244,7,FALSE))) | O18: =IF($C18>Results!$F$1," ",(VLOOKUP($E18,Results!$C$2:$K$244,9,FALSE))) | P18: =IF(J18=" "," ",SUM(K18*2)+L18*1) -> 0
B19: =+$H$1 -> E2 | C19: 17 | D19: =CONCATENATE(C19,B19) -> 17E2 | E19: =CONCATENATE(C19,H19) -> 17X | G19: =+Results!D146 -> 46409 | H19: =VLOOKUP($D19,Results!$B$2:$I$244,8,FALSE) -> X | I19: =VLOOKUP(H19,Results!$N$2:$O$11,2,FALSE) -> No Match | J19: =SUM(K19:M19) -> 0 | K19: =IF(H19="X",0,IF(N19>O19,1,0)) -> 0 | L19: =IF(OR(C19>Results!$F$1,N19="N"),0,IF(H19="X",0,IF(N19=O19,1,0))) -> 0 | M19: =IF(H19="X",0,IF(N19<O19,1,0)) -> 0 | N19: =IF($C19>Results!$F$1," ",(VLOOKUP($D19,Results!$B$2:$H$244,7,FALSE))) | O19: =IF($C19>Results!$F$1," ",(VLOOKUP($E19,Results!$C$2:$K$244,9,FALSE))) | P19: =IF(J19=" "," ",SUM(K19*2)+L19*1) -> 0
B20: =+$H$1 -> E2 | C20: 18 | D20: =CONCATENATE(C20,B20) -> 18E2 | E20: =CONCATENATE(C20,H20) -> 18E9 | G20: =+Results!D155 -> 46415 | H20: =VLOOKUP($D20,Results!$B$2:$I$244,8,FALSE) -> E9 | I20: =VLOOKUP(H20,Results!$N$2:$O$11,2,FALSE) -> Biased Boys | J20: =SUM(K20:M20) -> 0 | K20: =IF(H20="X",0,IF(N20>O20,1,0)) -> 0 | L20: =IF(OR(C20>Results!$F$1,N20="N"),0,IF(H20="X",0,IF(N20=O20,1,0))) -> 0 | M20: =IF(H20="X",0,IF(N20<O20,1,0)) -> 0 | N20: =IF($C20>Results!$F$1," ",(VLOOKUP($D20,Results!$B$2:$H$244,7,FALSE))) | O20: =IF($C20>Results!$F$1," ",(VLOOKUP($E20,Results!$C$2:$K$244,9,FALSE))) | P20: =IF(J20=" "," ",SUM(K20*2)+L20*1) -> 0
B21: =+$H$1 -> E2 | C21: 19 | D21: =CONCATENATE(C21,B21) -> 19E2 | E21: =CONCATENATE(C21,H21) -> 19E1 | G21: =+Results!D164 -> 46423 | H21: =VLOOKUP($D21,Results!$B$2:$I$244,8,FALSE) -> E1 | I21: =VLOOKUP(H21,Results!$N$2:$O$11,2,FALSE) -> Misfits | J21: =SUM(K21:M21) -> 0 | K21: =IF(H21="X",0,IF(N21>O21,1,0)) -> 0 | L21: =IF(OR(C21>Results!$F$1,N21="N"),0,IF(H21="X",0,IF(N21=O21,1,0))) -> 0 | M21: =IF(H21="X",0,IF(N21<O21,1,0)) -> 0 | N21: =IF($C21>Results!$F$1," ",(VLOOKUP($D21,Results!$B$2:$H$244,7,FALSE))) | O21: =IF($C21>Results!$F$1," ",(VLOOKUP($E21,Results!$C$2:$K$244,9,FALSE))) | P21: =IF(J21=" "," ",SUM(K21*2)+L21*1) -> 0
B22: =+$H$1 -> E2 | C22: 20 | D22: =CONCATENATE(C22,B22) -> 20E2 | E22: =CONCATENATE(C22,H22) -> 20E3 | G22: =+Results!D173 -> 46429 | H22: =VLOOKUP($D22,Results!$B$2:$I$244,8,FALSE) -> E3 | I22: =VLOOKUP(H22,Results!$N$2:$O$11,2,FALSE) -> Riches Rollers | J22: =SUM(K22:M22) -> 0 | K22: =IF(H22="X",0,IF(N22>O22,1,0)) -> 0 | L22: =IF(OR(C22>Results!$F$1,N22="N"),0,IF(H22="X",0,IF(N22=O22,1,0))) -> 0 | M22: =IF(H22="X",0,IF(N22<O22,1,0)) -> 0 | N22: =IF($C22>Results!$F$1," ",(VLOOKUP($D22,Results!$B$2:$H$244,7,FALSE))) | O22: =IF($C22>Results!$F$1," ",(VLOOKUP($E22,Results!$C$2:$K$244,9,FALSE))) | P22: =IF(J22=" "," ",SUM(K22*2)+L22*1) -> 0
B23: =+$H$1 -> E2 | C23: 21 | D23: =CONCATENATE(C23,B23) -> 21E2 | E23: =CONCATENATE(C23,H23) -> 21E4 | G23: =+Results!D182 -> 46437 | H23: =VLOOKUP($D23,Results!$B$2:$I$244,8,FALSE) -> E4 | I23: =VLOOKUP(H23,Results!$N$2:$O$11,2,FALSE) -> Bullets | J23: =SUM(K23:M23) -> 0 | K23: =IF(H23="X",0,IF(N23>O23,1,0)) -> 0 | L23: =IF(OR(C23>Results!$F$1,N23="N"),0,IF(H23="X",0,IF(N23=O23,1,0))) -> 0 | M23: =IF(H23="X",0,IF(N23<O23,1,0)) -> 0 | N23: =IF($C23>Results!$F$1," ",(VLOOKUP($D23,Results!$B$2:$H$244,7,FALSE))) | O23: =IF($C23>Results!$F$1," ",(VLOOKUP($E23,Results!$C$2:$K$244,9,FALSE))) | P23: =IF(J23=" "," ",SUM(K23*2)+L23*1) -> 0
B24: =+$H$1 -> E2 | C24: 22 | D24: =CONCATENATE(C24,B24) -> 22E2 | E24: =CONCATENATE(C24,H24) -> 22E7 | G24: =+Results!D191 -> 46443 | H24: =VLOOKUP($D24,Results!$B$2:$I$244,8,FALSE) -> E7 | I24: =VLOOKUP(H24,Results!$N$2:$O$11,2,FALSE) -> Golfers | J24: =SUM(K24:M24) -> 0 | K24: =IF(H24="X",0,IF(N24>O24,1,0)) -> 0 | L24: =IF(OR(C24>Results!$F$1,N24="N"),0,IF(H24="X",0,IF(N24=O24,1,0))) -> 0 | M24: =IF(H24="X",0,IF(N24<O24,1,0)) -> 0 | N24: =IF($C24>Results!$F$1," ",(VLOOKUP($D24,Results!$B$2:$H$244,7,FALSE))) | O24: =IF($C24>Results!$F$1," ",(VLOOKUP($E24,Results!$C$2:$K$244,9,FALSE))) | P24: =IF(J24=" "," ",SUM(K24*2)+L24*1) -> 0
B25: =+$H$1 -> E2 | C25: 23 | D25: =CONCATENATE(C25,B25) -> 23E2 | E25: =CONCATENATE(C25,H25) -> 23E8 | G25: =+Results!D200 -> 46451 | H25: =VLOOKUP($D25,Results!$B$2:$I$244,8,FALSE) -> E8 | I25: =VLOOKUP(H25,Results!$N$2:$O$11,2,FALSE) -> Green Wizards | J25: =SUM(K25:M25) -> 0 | K25: =IF(H25="X",0,IF(N25>O25,1,0)) -> 0 | L25: =IF(OR(C25>Results!$F$1,N25="N"),0,IF(H25="X",0,IF(N25=O25,1,0))) -> 0 | M25: =IF(H25="X",0,IF(N25<O25,1,0)) -> 0 | N25: =IF($C25>Results!$F$1," ",(VLOOKUP($D25,Results!$B$2:$H$244,7,FALSE))) | O25: =IF($C25>Results!$F$1," ",(VLOOKUP($E25,Results!$C$2:$K$244,9,FALSE))) | P25: =IF(J25=" "," ",SUM(K25*2)+L25*1) -> 0
B26: =+$H$1 -> E2 | C26: 24 | D26: =CONCATENATE(C26,B26) -> 24E2 | E26: =CONCATENATE(C26,H26) -> 24E6 | G26: =+Results!D209 -> 46457 | H26: =VLOOKUP($D26,Results!$B$2:$I$244,8,FALSE) -> E6 | I26: =VLOOKUP(H26,Results!$N$2:$O$11,2,FALSE) -> Starlite | J26: =SUM(K26:M26) -> 0 | K26: =IF(H26="X",0,IF(N26>O26,1,0)) -> 0 | L26: =IF(OR(C26>Results!$F$1,N26="N"),0,IF(H26="X",0,IF(N26=O26,1,0))) -> 0 | M26: =IF(H26="X",0,IF(N26<O26,1,0)) -> 0 | N26: =IF($C26>Results!$F$1," ",(VLOOKUP($D26,Results!$B$2:$H$244,7,FALSE))) | O26: =IF($C26>Results!$F$1," ",(VLOOKUP($E26,Results!$C$2:$K$244,9,FALSE))) | P26: =IF(J26=" "," ",SUM(K26*2)+L26*1) -> 0
B27: =+$H$1 -> E2 | C27: 25 | D27: =CONCATENATE(C27,B27) -> 25E2 | E27: =CONCATENATE(C27,H27) -> 25E5 | G27: =+Results!D218 -> 46465 | H27: =VLOOKUP($D27,Results!$B$2:$I$244,8,FALSE) -> E5 | I27: =VLOOKUP(H27,Results!$N$2:$O$11,2,FALSE) -> New Builds | J27: =SUM(K27:M27) -> 0 | K27: =IF(H27="X",0,IF(N27>O27,1,0)) -> 0 | L27: =IF(OR(C27>Results!$F$1,N27="N"),0,IF(H27="X",0,IF(N27=O27,1,0))) -> 0 | M27: =IF(H27="X",0,IF(N27<O27,1,0)) -> 0 | N27: =IF($C27>Results!$F$1," ",(VLOOKUP($D27,Results!$B$2:$H$244,7,FALSE))) | O27: =IF($C27>Results!$F$1," ",(VLOOKUP($E27,Results!$C$2:$K$244,9,FALSE))) | P27: =IF(J27=" "," ",SUM(K27*2)+L27*1) -> 0
B28: =+$H$1 -> E2 | C28: 26 | D28: =CONCATENATE(C28,B28) -> 26E2 | E28: =CONCATENATE(C28,H28) -> 26X | G28: =+Results!D227 -> 46471 | H28: =VLOOKUP($D28,Results!$B$2:$I$244,8,FALSE) -> X | I28: =VLOOKUP(H28,Results!$N$2:$O$11,2,FALSE) -> No Match | J28: =SUM(K28:M28) -> 0 | K28: =IF(H28="X",0,IF(N28>O28,1,0)) -> 0 | L28: =IF(OR(C28>Results!$F$1,N28="N"),0,IF(H28="X",0,IF(N28=O28,1,0))) -> 0 | M28: =IF(H28="X",0,IF(N28<O28,1,0)) -> 0 | N28: =IF($C28>Results!$F$1," ",(VLOOKUP($D28,Results!$B$2:$H$244,7,FALSE))) | O28: =IF($C28>Results!$F$1," ",(VLOOKUP($E28,Results!$C$2:$K$244,9,FALSE))) | P28: =IF(J28=" "," ",SUM(K28*2)+L28*1) -> 0
B29: =+$H$1 -> E2 | C29: 27 | D29: =CONCATENATE(C29,B29) -> 27E2 | E29: =CONCATENATE(C29,H29) -> 27E9 | G29: =+Results!D236 -> 46479 | H29: =VLOOKUP($D29,Results!$B$2:$I$244,8,FALSE) -> E9 | I29: =VLOOKUP(H29,Results!$N$2:$O$11,2,FALSE) -> Biased Boys | J29: =SUM(K29:M29) -> 0 | K29: =IF(H29="X",0,IF(N29>O29,1,0)) -> 0 | L29: =IF(OR(C29>Results!$F$1,N29="N"),0,IF(H29="X",0,IF(N29=O29,1,0))) -> 0 | M29: =IF(H29="X",0,IF(N29<O29,1,0)) -> 0 | N29: =IF($C29>Results!$F$1," ",(VLOOKUP($D29,Results!$B$2:$H$244,7,FALSE))) | O29: =IF($C29>Results!$F$1," ",(VLOOKUP($E29,Results!$C$2:$K$244,9,FALSE))) | P29: =IF(J29=" "," ",SUM(K29*2)+L29*1) -> 0
I30: TOTALS | J30: =SUM(J3:J29) -> 5 | K30: =SUM(K3:K29) -> 4 | L30: =SUM(L3:L29) -> 0 | M30: =SUM(M3:M29) -> 1 | N30: =SUM(N3:N29) -> 83 | O30: =SUM(O3:O29) -> 69 | P30: =SUM(P3:P29) -> 8

Sheet E3 RICHES ROLLERS
H1: E3 | I1: RICHES ROLLERS
D2: F | E2: A | G2: Date | H2: Code | I2: Opponents | J2: Played | K2: Won | L2: Drawn | M2: Lost | N2: Shots For | O2: Shots Against | P2: Pts
B3: =+$H$1 -> E3 | C3: 1 | D3: =CONCATENATE(C3,B3) -> 1E3 | E3: =CONCATENATE(C3,H3) -> 1E4 | G3: =+Results!D2 -> 46283 | H3: =VLOOKUP($D3,Results!$B$2:$I$244,8,FALSE) -> E4 | I3: =VLOOKUP(H3,Results!$N$2:$O$11,2,FALSE) -> Bullets | J3: =SUM(K3:M3) -> 1 | K3: =IF(H3="X",0,IF(N3>O3,1,0)) -> 1 | L3: =IF(OR(C3>Results!$F$1,N3="N"),0,IF(H3="X",0,IF(N3=O3,1,0))) -> 0 | M3: =IF(H3="X",0,IF(N3<O3,1,0)) -> 0 | N3: =IF($C3>Results!$F$1," ",(VLOOKUP($D3,Results!$B$2:$H$244,7,FALSE))) -> 19 | O3: =IF($C3>Results!$F$1," ",(VLOOKUP($E3,Results!$C$2:$K$244,9,FALSE))) -> 13 | P3: =IF(J3=" "," ",SUM(K3*2)+L3*1) -> 2
B4: =+$H$1 -> E3 | C4: 2 | D4: =CONCATENATE(C4,B4) -> 2E3 | E4: =CONCATENATE(C4,H4) -> 2E2 | G4: =+Results!D11 -> 46289 | H4: =VLOOKUP($D4,Results!$B$2:$I$244,8,FALSE) -> E2 | I4: =VLOOKUP(H4,Results!$N$2:$O$11,2,FALSE) -> Team Krewna | J4: =SUM(K4:M4) -> 1 | K4: =IF(H4="X",0,IF(N4>O4,1,0)) -> 1 | L4: =IF(OR(C4>Results!$F$1,N4="N"),0,IF(H4="X",0,IF(N4=O4,1,0))) -> 0 | M4: =IF(H4="X",0,IF(N4<O4,1,0)) -> 0 | N4: =IF($C4>Results!$F$1," ",(VLOOKUP($D4,Results!$B$2:$H$244,7,FALSE))) -> 17 | O4: =IF($C4>Results!$F$1," ",(VLOOKUP($E4,Results!$C$2:$K$244,9,FALSE))) -> 9 | P4: =IF(J4=" "," ",SUM(K4*2)+L4*1) -> 2
B5: =+$H$1 -> E3 | C5: 3 | D5: =CONCATENATE(C5,B5) -> 3E3 | E5: =CONCATENATE(C5,H5) -> 3E1 | G5: =+Results!D20 -> 46297 | H5: =VLOOKUP($D5,Results!$B$2:$I$244,8,FALSE) -> E1 | I5: =VLOOKUP(H5,Results!$N$2:$O$11,2,FALSE) -> Misfits | J5: =SUM(K5:M5) -> 1 | K5: =IF(H5="X",0,IF(N5>O5,1,0)) -> 0 | L5: =IF(OR(C5>Results!$F$1,N5="N"),0,IF(H5="X",0,IF(N5=O5,1,0))) -> 0 | M5: =IF(H5="X",0,IF(N5<O5,1,0)) -> 1 | N5: =IF($C5>Results!$F$1," ",(VLOOKUP($D5,Results!$B$2:$H$244,7,FALSE))) -> 8 | O5: =IF($C5>Results!$F$1," ",(VLOOKUP($E5,Results!$C$2:$K$244,9,FALSE))) -> 13 | P5: =IF(J5=" "," ",SUM(K5*2)+L5*1) -> 0 | R5: Played 29th Oct
B6: =+$H$1 -> E3 | C6: 4 | D6: =CONCATENATE(C6,B6) -> 4E3 | E6: =CONCATENATE(C6,H6) -> 4E5 | G6: =+Results!D29 -> 46303 | H6: =VLOOKUP($D6,Results!$B$2:$I$244,8,FALSE) -> E5 | I6: =VLOOKUP(H6,Results!$N$2:$O$11,2,FALSE) -> New Builds | J6: =SUM(K6:M6) -> 1 | K6: =IF(H6="X",0,IF(N6>O6,1,0)) -> 0 | L6: =IF(OR(C6>Results!$F$1,N6="N"),0,IF(H6="X",0,IF(N6=O6,1,0))) -> 0 | M6: =IF(H6="X",0,IF(N6<O6,1,0)) -> 1 | N6: =IF($C6>Results!$F$1," ",(VLOOKUP($D6,Results!$B$2:$H$244,7,FALSE))) -> 13 | O6: =IF($C6>Results!$F$1," ",(VLOOKUP($E6,Results!$C$2:$K$244,9,FALSE))) -> 14 | P6: =IF(J6=" "," ",SUM(K6*2)+L6*1) -> 0
B7: =+$H$1 -> E3 | C7: 5 | D7: =CONCATENATE(C7,B7) -> 5E3 | E7: =CONCATENATE(C7,H7) -> 5E9 | G7: =+Results!D38 -> 46311 | H7: =VLOOKUP($D7,Results!$B$2:$I$244,8,FALSE) -> E9 | I7: =VLOOKUP(H7,Results!$N$2:$O$11,2,FALSE) -> Biased Boys | J7: =SUM(K7:M7) -> 1 | K7: =IF(H7="X",0,IF(N7>O7,1,0)) -> 1 | L7: =IF(OR(C7>Results!$F$1,N7="N"),0,IF(H7="X",0,IF(N7=O7,1,0))) -> 0 | M7: =IF(H7="X",0,IF(N7<O7,1,0)) -> 0 | N7: =IF($C7>Results!$F$1," ",(VLOOKUP($D7,Results!$B$2:$H$244,7,FALSE))) -> 16 | O7: =IF($C7>Results!$F$1," ",(VLOOKUP($E7,Results!$C$2:$K$244,9,FALSE))) -> 9 | P7: =IF(J7=" "," ",SUM(K7*2)+L7*1) -> 2
B8: =+$H$1 -> E3 | C8: 6 | D8: =CONCATENATE(C8,B8) -> 6E3 | E8: =CONCATENATE(C8,H8) -> 6E8 | G8: =+Results!D47 -> 46317 | H8: =VLOOKUP($D8,Results!$B$2:$I$244,8,FALSE) -> E8 | I8: =VLOOKUP(H8,Results!$N$2:$O$11,2,FALSE) -> Green Wizards | J8: =SUM(K8:M8) -> 1 | K8: =IF(H8="X",0,IF(N8>O8,1,0)) -> 1 | L8: =IF(OR(C8>Results!$F$1,N8="N"),0,IF(H8="X",0,IF(N8=O8,1,0))) -> 0 | M8: =IF(H8="X",0,IF(N8<O8,1,0)) -> 0 | N8: =IF($C8>Results!$F$1," ",(VLOOKUP($D8,Results!$B$2:$H$244,7,FALSE))) -> 22 | O8: =IF($C8>Results!$F$1," ",(VLOOKUP($E8,Results!$C$2:$K$244,9,FALSE))) -> 5 | P8: =IF(J8=" "," ",SUM(K8*2)+L8*1) -> 2
B9: =+$H$1 -> E3 | C9: 7 | D9: =CONCATENATE(C9,B9) -> 7E3 | E9: =CONCATENATE(C9,H9) -> 7X | G9: =+Results!D56 -> 46325 | H9: =VLOOKUP($D9,Results!$B$2:$I$244,8,FALSE) -> X | I9: =VLOOKUP(H9,Results!$N$2:$O$11,2,FALSE) -> No Match | J9: =SUM(K9:M9) -> 0 | K9: =IF(H9="X",0,IF(N9>O9,1,0)) -> 0 | L9: =IF(OR(C9>Results!$F$1,N9="N"),0,IF(H9="X",0,IF(N9=O9,1,0))) -> 0 | M9: =IF(H9="X",0,IF(N9<O9,1,0)) -> 0 | N9: =IF($C9>Results!$F$1," ",(VLOOKUP($D9,Results!$B$2:$H$244,7,FALSE))) | O9: =IF($C9>Results!$F$1," ",(VLOOKUP($E9,Results!$C$2:$K$244,9,FALSE))) | P9: =IF(J9=" "," ",SUM(K9*2)+L9*1) -> 0
B10: =+$H$1 -> E3 | C10: 8 | D10: =CONCATENATE(C10,B10) -> 8E3 | E10: =CONCATENATE(C10,H10) -> 8E7 | G10: =+Results!D65 -> 46331 | H10: =VLOOKUP($D10,Results!$B$2:$I$244,8,FALSE) -> E7 | I10: =VLOOKUP(H10,Results!$N$2:$O$11,2,FALSE) -> Golfers | J10: =SUM(K10:M10) -> 0 | K10: =IF(H10="X",0,IF(N10>O10,1,0)) -> 0 | L10: =IF(OR(C10>Results!$F$1,N10="N"),0,IF(H10="X",0,IF(N10=O10,1,0))) -> 0 | M10: =IF(H10="X",0,IF(N10<O10,1,0)) -> 0 | N10: =IF($C10>Results!$F$1," ",(VLOOKUP($D10,Results!$B$2:$H$244,7,FALSE))) | O10: =IF($C10>Results!$F$1," ",(VLOOKUP($E10,Results!$C$2:$K$244,9,FALSE))) | P10: =IF(J10=" "," ",SUM(K10*2)+L10*1) -> 0
B11: =+$H$1 -> E3 | C11: 9 | D11: =CONCATENATE(C11,B11) -> 9E3 | E11: =CONCATENATE(C11,H11) -> 9E6 | G11: =+Results!D74 -> 46339 | H11: =VLOOKUP($D11,Results!$B$2:$I$244,8,FALSE) -> E6 | I11: =VLOOKUP(H11,Results!$N$2:$O$11,2,FALSE) -> Starlite | J11: =SUM(K11:M11) -> 0 | K11: =IF(H11="X",0,IF(N11>O11,1,0)) -> 0 | L11: =IF(OR(C11>Results!$F$1,N11="N"),0,IF(H11="X",0,IF(N11=O11,1,0))) -> 0 | M11: =IF(H11="X",0,IF(N11<O11,1,0)) -> 0 | N11: =IF($C11>Results!$F$1," ",(VLOOKUP($D11,Results!$B$2:$H$244,7,FALSE))) | O11: =IF($C11>Results!$F$1," ",(VLOOKUP($E11,Results!$C$2:$K$244,9,FALSE))) | P11: =IF(J11=" "," ",SUM(K11*2)+L11*1) -> 0
B12: =+$H$1 -> E3 | C12: 10 | D12: =CONCATENATE(C12,B12) -> 10E3 | E12: =CONCATENATE(C12,H12) -> 10E4 | G12: =+Results!D83 -> 46345 | H12: =VLOOKUP($D12,Results!$B$2:$I$244,8,FALSE) -> E4 | I12: =VLOOKUP(H12,Results!$N$2:$O$11,2,FALSE) -> Bullets | J12: =SUM(K12:M12) -> 0 | K12: =IF(H12="X",0,IF(N12>O12,1,0)) -> 0 | L12: =IF(OR(C12>Results!$F$1,N12="N"),0,IF(H12="X",0,IF(N12=O12,1,0))) -> 0 | M12: =IF(H12="X",0,IF(N12<O12,1,0)) -> 0 | N12: =IF($C12>Results!$F$1," ",(VLOOKUP($D12,Results!$B$2:$H$244,7,FALSE))) | O12: =IF($C12>Results!$F$1," ",(VLOOKUP($E12,Results!$C$2:$K$244,9,FALSE))) | P12: =IF(J12=" "," ",SUM(K12*2)+L12*1) -> 0
B13: =+$H$1 -> E3 | C13: 11 | D13: =CONCATENATE(C13,B13) -> 11E3 | E13: =CONCATENATE(C13,H13) -> 11E2 | G13: =+Results!D92 -> 46353 | H13: =VLOOKUP($D13,Results!$B$2:$I$244,8,FALSE) -> E2 | I13: =VLOOKUP(H13,Results!$N$2:$O$11,2,FALSE) -> Team Krewna | J13: =SUM(K13:M13) -> 0 | K13: =IF(H13="X",0,IF(N13>O13,1,0)) -> 0 | L13: =IF(OR(C13>Results!$F$1,N13="N"),0,IF(H13="X",0,IF(N13=O13,1,0))) -> 0 | M13: =IF(H13="X",0,IF(N13<O13,1,0)) -> 0 | N13: =IF($C13>Results!$F$1," ",(VLOOKUP($D13,Results!$B$2:$H$244,7,FALSE))) | O13: =IF($C13>Results!$F$1," ",(VLOOKUP($E13,Results!$C$2:$K$244,9,FALSE))) | P13: =IF(J13=" "," ",SUM(K13*2)+L13*1) -> 0
B14: =+$H$1 -> E3 | C14: 12 | D14: =CONCATENATE(C14,B14) -> 12E3 | E14: =CONCATENATE(C14,H14) -> 12E1 | G14: =+Results!D101 -> 46359 | H14: =VLOOKUP($D14,Results!$B$2:$I$244,8,FALSE) -> E1 | I14: =VLOOKUP(H14,Results!$N$2:$O$11,2,FALSE) -> Misfits | J14: =SUM(K14:M14) -> 0 | K14: =IF(H14="X",0,IF(N14>O14,1,0)) -> 0 | L14: =IF(OR(C14>Results!$F$1,N14="N"),0,IF(H14="X",0,IF(N14=O14,1,0))) -> 0 | M14: =IF(H14="X",0,IF(N14<O14,1,0)) -> 0 | N14: =IF($C14>Results!$F$1," ",(VLOOKUP($D14,Results!$B$2:$H$244,7,FALSE))) | O14: =IF($C14>Results!$F$1," ",(VLOOKUP($E14,Results!$C$2:$K$244,9,FALSE))) | P14: =IF(J14=" "," ",SUM(K14*2)+L14*1) -> 0
B15: =+$H$1 -> E3 | C15: 13 | D15: =CONCATENATE(C15,B15) -> 13E3 | E15: =CONCATENATE(C15,H15) -> 13E5 | G15: =+Results!D110 -> 46367 | H15: =VLOOKUP($D15,Results!$B$2:$I$244,8,FALSE) -> E5 | I15: =VLOOKUP(H15,Results!$N$2:$O$11,2,FALSE) -> New Builds | J15: =SUM(K15:M15) -> 0 | K15: =IF(H15="X",0,IF(N15>O15,1,0)) -> 0 | L15: =IF(OR(C15>Results!$F$1,N15="N"),0,IF(H15="X",0,IF(N15=O15,1,0))) -> 0 | M15: =IF(H15="X",0,IF(N15<O15,1,0)) -> 0 | N15: =IF($C15>Results!$F$1," ",(VLOOKUP($D15,Results!$B$2:$H$244,7,FALSE))) | O15: =IF($C15>Results!$F$1," ",(VLOOKUP($E15,Results!$C$2:$K$244,9,FALSE))) | P15: =IF(J15=" "," ",SUM(K15*2)+L15*1) -> 0
B16: =+$H$1 -> E3 | C16: 14 | D16: =CONCATENATE(C16,B16) -> 14E3 | E16: =CONCATENATE(C16,H16) -> 14E9 | G16: =+Results!D119 -> 46373 | H16: =VLOOKUP($D16,Results!$B$2:$I$244,8,FALSE) -> E9 | I16: =VLOOKUP(H16,Results!$N$2:$O$11,2,FALSE) -> Biased Boys | J16: =SUM(K16:M16) -> 0 | K16: =IF(H16="X",0,IF(N16>O16,1,0)) -> 0 | L16: =IF(OR(C16>Results!$F$1,N16="N"),0,IF(H16="X",0,IF(N16=O16,1,0))) -> 0 | M16: =IF(H16="X",0,IF(N16<O16,1,0)) -> 0 | N16: =IF($C16>Results!$F$1," ",(VLOOKUP($D16,Results!$B$2:$H$244,7,FALSE))) | O16: =IF($C16>Results!$F$1," ",(VLOOKUP($E16,Results!$C$2:$K$244,9,FALSE))) | P16: =IF(J16=" "," ",SUM(K16*2)+L16*1) -> 0
B17: =+$H$1 -> E3 | C17: 15 | D17: =CONCATENATE(C17,B17) -> 15E3 | E17: =CONCATENATE(C17,H17) -> 15E8 | G17: =+Results!D128 -> 46395 | H17: =VLOOKUP($D17,Results!$B$2:$I$244,8,FALSE) -> E8 | I17: =VLOOKUP(H17,Results!$N$2:$O$11,2,FALSE) -> Green Wizards | J17: =SUM(K17:M17) -> 0 | K17: =IF(H17="X",0,IF(N17>O17,1,0)) -> 0 | L17: =IF(OR(C17>Results!$F$1,N17="N"),0,IF(H17="X",0,IF(N17=O17,1,0))) -> 0 | M17: =IF(H17="X",0,IF(N17<O17,1,0)) -> 0 | N17: =IF($C17>Results!$F$1," ",(VLOOKUP($D17,Results!$B$2:$H$244,7,FALSE))) | O17: =IF($C17>Results!$F$1," ",(VLOOKUP($E17,Results!$C$2:$K$244,9,FALSE))) | P17: =IF(J17=" "," ",SUM(K17*2)+L17*1) -> 0
B18: =+$H$1 -> E3 | C18: 16 | D18: =CONCATENATE(C18,B18) -> 16E3 | E18: =CONCATENATE(C18,H18) -> 16X | G18: =+Results!D137 -> 46401 | H18: =VLOOKUP($D18,Results!$B$2:$I$244,8,FALSE) -> X | I18: =VLOOKUP(H18,Results!$N$2:$O$11,2,FALSE) -> No Match | J18: =SUM(K18:M18) -> 0 | K18: =IF(H18="X",0,IF(N18>O18,1,0)) -> 0 | L18: =IF(OR(C18>Results!$F$1,N18="N"),0,IF(H18="X",0,IF(N18=O18,1,0))) -> 0 | M18: =IF(H18="X",0,IF(N18<O18,1,0)) -> 0 | N18: =IF($C18>Results!$F$1," ",(VLOOKUP($D18,Results!$B$2:$H$244,7,FALSE))) | O18: =IF($C18>Results!$F$1," ",(VLOOKUP($E18,Results!$C$2:$K$244,9,FALSE))) | P18: =IF(J18=" "," ",SUM(K18*2)+L18*1) -> 0
B19: =+$H$1 -> E3 | C19: 17 | D19: =CONCATENATE(C19,B19) -> 17E3 | E19: =CONCATENATE(C19,H19) -> 17E7 | G19: =+Results!D146 -> 46409 | H19: =VLOOKUP($D19,Results!$B$2:$I$244,8,FALSE) -> E7 | I19: =VLOOKUP(H19,Results!$N$2:$O$11,2,FALSE) -> Golfers | J19: =SUM(K19:M19) -> 0 | K19: =IF(H19="X",0,IF(N19>O19,1,0)) -> 0 | L19: =IF(OR(C19>Results!$F$1,N19="N"),0,IF(H19="X",0,IF(N19=O19,1,0))) -> 0 | M19: =IF(H19="X",0,IF(N19<O19,1,0)) -> 0 | N19: =IF($C19>Results!$F$1," ",(VLOOKUP($D19,Results!$B$2:$H$244,7,FALSE))) | O19: =IF($C19>Results!$F$1," ",(VLOOKUP($E19,Results!$C$2:$K$244,9,FALSE))) | P19: =IF(J19=" "," ",SUM(K19*2)+L19*1) -> 0
B20: =+$H$1 -> E3 | C20: 18 | D20: =CONCATENATE(C20,B20) -> 18E3 | E20: =CONCATENATE(C20,H20) -> 18E6 | G20: =+Results!D155 -> 46415 | H20: =VLOOKUP($D20,Results!$B$2:$I$244,8,FALSE) -> E6 | I20: =VLOOKUP(H20,Results!$N$2:$O$11,2,FALSE) -> Starlite | J20: =SUM(K20:M20) -> 0 | K20: =IF(H20="X",0,IF(N20>O20,1,0)) -> 0 | L20: =IF(OR(C20>Results!$F$1,N20="N"),0,IF(H20="X",0,IF(N20=O20,1,0))) -> 0 | M20: =IF(H20="X",0,IF(N20<O20,1,0)) -> 0 | N20: =IF($C20>Results!$F$1," ",(VLOOKUP($D20,Results!$B$2:$H$244,7,FALSE))) | O20: =IF($C20>Results!$F$1," ",(VLOOKUP($E20,Results!$C$2:$K$244,9,FALSE))) | P20: =IF(J20=" "," ",SUM(K20*2)+L20*1) -> 0
B21: =+$H$1 -> E3 | C21: 19 | D21: =CONCATENATE(C21,B21) -> 19E3 | E21: =CONCATENATE(C21,H21) -> 19E4 | G21: =+Results!D164 -> 46423 | H21: =VLOOKUP($D21,Results!$B$2:$I$244,8,FALSE) -> E4 | I21: =VLOOKUP(H21,Results!$N$2:$O$11,2,FALSE) -> Bullets | J21: =SUM(K21:M21) -> 0 | K21: =IF(H21="X",0,IF(N21>O21,1,0)) -> 0 | L21: =IF(OR(C21>Results!$F$1,N21="N"),0,IF(H21="X",0,IF(N21=O21,1,0))) -> 0 | M21: =IF(H21="X",0,IF(N21<O21,1,0)) -> 0 | N21: =IF($C21>Results!$F$1," ",(VLOOKUP($D21,Results!$B$2:$H$244,7,FALSE))) | O21: =IF($C21>Results!$F$1," ",(VLOOKUP($E21,Results!$C$2:$K$244,9,FALSE))) | P21: =IF(J21=" "," ",SUM(K21*2)+L21*1) -> 0
B22: =+$H$1 -> E3 | C22: 20 | D22: =CONCATENATE(C22,B22) -> 20E3 | E22: =CONCATENATE(C22,H22) -> 20E2 | G22: =+Results!D173 -> 46429 | H22: =VLOOKUP($D22,Results!$B$2:$I$244,8,FALSE) -> E2 | I22: =VLOOKUP(H22,Results!$N$2:$O$11,2,FALSE) -> Team Krewna | J22: =SUM(K22:M22) -> 0 | K22: =IF(H22="X",0,IF(N22>O22,1,0)) -> 0 | L22: =IF(OR(C22>Results!$F$1,N22="N"),0,IF(H22="X",0,IF(N22=O22,1,0))) -> 0 | M22: =IF(H22="X",0,IF(N22<O22,1,0)) -> 0 | N22: =IF($C22>Results!$F$1," ",(VLOOKUP($D22,Results!$B$2:$H$244,7,FALSE))) | O22: =IF($C22>Results!$F$1," ",(VLOOKUP($E22,Results!$C$2:$K$244,9,FALSE))) | P22: =IF(J22=" "," ",SUM(K22*2)+L22*1) -> 0
B23: =+$H$1 -> E3 | C23: 21 | D23: =CONCATENATE(C23,B23) -> 21E3 | E23: =CONCATENATE(C23,H23) -> 21E1 | G23: =+Results!D182 -> 46437 | H23: =VLOOKUP($D23,Results!$B$2:$I$244,8,FALSE) -> E1 | I23: =VLOOKUP(H23,Results!$N$2:$O$11,2,FALSE) -> Misfits | J23: =SUM(K23:M23) -> 0 | K23: =IF(H23="X",0,IF(N23>O23,1,0)) -> 0 | L23: =IF(OR(C23>Results!$F$1,N23="N"),0,IF(H23="X",0,IF(N23=O23,1,0))) -> 0 | M23: =IF(H23="X",0,IF(N23<O23,1,0)) -> 0 | N23: =IF($C23>Results!$F$1," ",(VLOOKUP($D23,Results!$B$2:$H$244,7,FALSE))) | O23: =IF($C23>Results!$F$1," ",(VLOOKUP($E23,Results!$C$2:$K$244,9,FALSE))) | P23: =IF(J23=" "," ",SUM(K23*2)+L23*1) -> 0
B24: =+$H$1 -> E3 | C24: 22 | D24: =CONCATENATE(C24,B24) -> 22E3 | E24: =CONCATENATE(C24,H24) -> 22E5 | G24: =+Results!D191 -> 46443 | H24: =VLOOKUP($D24,Results!$B$2:$I$244,8,FALSE) -> E5 | I24: =VLOOKUP(H24,Results!$N$2:$O$11,2,FALSE) -> New Builds | J24: =SUM(K24:M24) -> 0 | K24: =IF(H24="X",0,IF(N24>O24,1,0)) -> 0 | L24: =IF(OR(C24>Results!$F$1,N24="N"),0,IF(H24="X",0,IF(N24=O24,1,0))) -> 0 | M24: =IF(H24="X",0,IF(N24<O24,1,0)) -> 0 | N24: =IF($C24>Results!$F$1," ",(VLOOKUP($D24,Results!$B$2:$H$244,7,FALSE))) | O24: =IF($C24>Results!$F$1," ",(VLOOKUP($E24,Results!$C$2:$K$244,9,FALSE))) | P24: =IF(J24=" "," ",SUM(K24*2)+L24*1) -> 0
B25: =+$H$1 -> E3 | C25: 23 | D25: =CONCATENATE(C25,B25) -> 23E3 | E25: =CONCATENATE(C25,H25) -> 23E9 | G25: =+Results!D200 -> 46451 | H25: =VLOOKUP($D25,Results!$B$2:$I$244,8,FALSE) -> E9 | I25: =VLOOKUP(H25,Results!$N$2:$O$11,2,FALSE) -> Biased Boys | J25: =SUM(K25:M25) -> 0 | K25: =IF(H25="X",0,IF(N25>O25,1,0)) -> 0 | L25: =IF(OR(C25>Results!$F$1,N25="N"),0,IF(H25="X",0,IF(N25=O25,1,0))) -> 0 | M25: =IF(H25="X",0,IF(N25<O25,1,0)) -> 0 | N25: =IF($C25>Results!$F$1," ",(VLOOKUP($D25,Results!$B$2:$H$244,7,FALSE))) | O25: =IF($C25>Results!$F$1," ",(VLOOKUP($E25,Results!$C$2:$K$244,9,FALSE))) | P25: =IF(J25=" "," ",SUM(K25*2)+L25*1) -> 0
B26: =+$H$1 -> E3 | C26: 24 | D26: =CONCATENATE(C26,B26) -> 24E3 | E26: =CONCATENATE(C26,H26) -> 24E8 | G26: =+Results!D209 -> 46457 | H26: =VLOOKUP($D26,Results!$B$2:$I$244,8,FALSE) -> E8 | I26: =VLOOKUP(H26,Results!$N$2:$O$11,2,FALSE) -> Green Wizards | J26: =SUM(K26:M26) -> 0 | K26: =IF(H26="X",0,IF(N26>O26,1,0)) -> 0 | L26: =IF(OR(C26>Results!$F$1,N26="N"),0,IF(H26="X",0,IF(N26=O26,1,0))) -> 0 | M26: =IF(H26="X",0,IF(N26<O26,1,0)) -> 0 | N26: =IF($C26>Results!$F$1," ",(VLOOKUP($D26,Results!$B$2:$H$244,7,FALSE))) | O26: =IF($C26>Results!$F$1," ",(VLOOKUP($E26,Results!$C$2:$K$244,9,FALSE))) | P26: =IF(J26=" "," ",SUM(K26*2)+L26*1) -> 0
B27: =+$H$1 -> E3 | C27: 25 | D27: =CONCATENATE(C27,B27) -> 25E3 | E27: =CONCATENATE(C27,H27) -> 25X | G27: =+Results!D218 -> 46465 | H27: =VLOOKUP($D27,Results!$B$2:$I$244,8,FALSE) -> X | I27: =VLOOKUP(H27,Results!$N$2:$O$11,2,FALSE) -> No Match | J27: =SUM(K27:M27) -> 0 | K27: =IF(H27="X",0,IF(N27>O27,1,0)) -> 0 | L27: =IF(OR(C27>Results!$F$1,N27="N"),0,IF(H27="X",0,IF(N27=O27,1,0))) -> 0 | M27: =IF(H27="X",0,IF(N27<O27,1,0)) -> 0 | N27: =IF($C27>Results!$F$1," ",(VLOOKUP($D27,Results!$B$2:$H$244,7,FALSE))) | O27: =IF($C27>Results!$F$1," ",(VLOOKUP($E27,Results!$C$2:$K$244,9,FALSE))) | P27: =IF(J27=" "," ",SUM(K27*2)+L27*1) -> 0
B28: =+$H$1 -> E3 | C28: 26 | D28: =CONCATENATE(C28,B28) -> 26E3 | E28: =CONCATENATE(C28,H28) -> 26E7 | G28: =+Results!D227 -> 46471 | H28: =VLOOKUP($D28,Results!$B$2:$I$244,8,FALSE) -> E7 | I28: =VLOOKUP(H28,Results!$N$2:$O$11,2,FALSE) -> Golfers | J28: =SUM(K28:M28) -> 0 | K28: =IF(H28="X",0,IF(N28>O28,1,0)) -> 0 | L28: =IF(OR(C28>Results!$F$1,N28="N"),0,IF(H28="X",0,IF(N28=O28,1,0))) -> 0 | M28: =IF(H28="X",0,IF(N28<O28,1,0)) -> 0 | N28: =IF($C28>Results!$F$1," ",(VLOOKUP($D28,Results!$B$2:$H$244,7,FALSE))) | O28: =IF($C28>Results!$F$1," ",(VLOOKUP($E28,Results!$C$2:$K$244,9,FALSE))) | P28: =IF(J28=" "," ",SUM(K28*2)+L28*1) -> 0
B29: =+$H$1 -> E3 | C29: 27 | D29: =CONCATENATE(C29,B29) -> 27E3 | E29: =CONCATENATE(C29,H29) -> 27E6 | G29: =+Results!D236 -> 46479 | H29: =VLOOKUP($D29,Results!$B$2:$I$244,8,FALSE) -> E6 | I29: =VLOOKUP(H29,Results!$N$2:$O$11,2,FALSE) -> Starlite | J29: =SUM(K29:M29) -> 0 | K29: =IF(H29="X",0,IF(N29>O29,1,0)) -> 0 | L29: =IF(OR(C29>Results!$F$1,N29="N"),0,IF(H29="X",0,IF(N29=O29,1,0))) -> 0 | M29: =IF(H29="X",0,IF(N29<O29,1,0)) -> 0 | N29: =IF($C29>Results!$F$1," ",(VLOOKUP($D29,Results!$B$2:$H$244,7,FALSE))) | O29: =IF($C29>Results!$F$1," ",(VLOOKUP($E29,Results!$C$2:$K$244,9,FALSE))) | P29: =IF(J29=" "," ",SUM(K29*2)+L29*1) -> 0
I30: TOTALS | J30: =SUM(J3:J29) -> 6 | K30: =SUM(K3:K29) -> 4 | L30: =SUM(L3:L29) -> 0 | M30: =SUM(M3:M29) -> 2 | N30: =SUM(N3:N29) -> 95 | O30: =SUM(O3:O29) -> 63 | P30: =SUM(P3:P29) -> 8

Sheet E4 BULLETS
H1: E4 | I1: BULLETS
D2: F | E2: A | G2: Date | H2: Code | I2: Opponents | J2: Played | K2: Won | L2: Drawn | M2: Lost | N2: Shots For | O2: Shots Against | P2: Pts
B3: =+$H$1 -> E4 | C3: 1 | D3: =CONCATENATE(C3,B3) -> 1E4 | E3: =CONCATENATE(C3,H3) -> 1E3 | G3: =+Results!D2 -> 46283 | H3: =VLOOKUP($D3,Results!$B$2:$I$244,8,FALSE) -> E3 | I3: =VLOOKUP(H3,Results!$N$2:$O$11,2,FALSE) -> Riches Rollers | J3: =SUM(K3:M3) -> 1 | K3: =IF(H3="X",0,IF(N3>O3,1,0)) -> 0 | L3: =IF(OR(C3>Results!$F$1,N3="N"),0,IF(H3="X",0,IF(N3=O3,1,0))) -> 0 | M3: =IF(H3="X",0,IF(N3<O3,1,0)) -> 1 | N3: =IF($C3>Results!$F$1," ",(VLOOKUP($D3,Results!$B$2:$H$244,7,FALSE))) -> 13 | O3: =IF($C3>Results!$F$1," ",(VLOOKUP($E3,Results!$C$2:$K$244,9,FALSE))) -> 19 | P3: =IF(J3=" "," ",SUM(K3*2)+L3*1) -> 0
B4: =+$H$1 -> E4 | C4: 2 | D4: =CONCATENATE(C4,B4) -> 2E4 | E4: =CONCATENATE(C4,H4) -> 2E5 | G4: =+Results!D11 -> 46289 | H4: =VLOOKUP($D4,Results!$B$2:$I$244,8,FALSE) -> E5 | I4: =VLOOKUP(H4,Results!$N$2:$O$11,2,FALSE) -> New Builds | J4: =SUM(K4:M4) -> 1 | K4: =IF(H4="X",0,IF(N4>O4,1,0)) -> 1 | L4: =IF(OR(C4>Results!$F$1,N4="N"),0,IF(H4="X",0,IF(N4=O4,1,0))) -> 0 | M4: =IF(H4="X",0,IF(N4<O4,1,0)) -> 0 | N4: =IF($C4>Results!$F$1," ",(VLOOKUP($D4,Results!$B$2:$H$244,7,FALSE))) -> 15 | O4: =IF($C4>Results!$F$1," ",(VLOOKUP($E4,Results!$C$2:$K$244,9,FALSE))) -> 12 | P4: =IF(J4=" "," ",SUM(K4*2)+L4*1) -> 2
B5: =+$H$1 -> E4 | C5: 3 | D5: =CONCATENATE(C5,B5) -> 3E4 | E5: =CONCATENATE(C5,H5) -> 3E2 | G5: =+Results!D20 -> 46297 | H5: =VLOOKUP($D5,Results!$B$2:$I$244,8,FALSE) -> E2 | I5: =VLOOKUP(H5,Results!$N$2:$O$11,2,FALSE) -> Team Krewna | J5: =SUM(K5:M5) -> 1 | K5: =IF(H5="X",0,IF(N5>O5,1,0)) -> 0 | L5: =IF(OR(C5>Results!$F$1,N5="N"),0,IF(H5="X",0,IF(N5=O5,1,0))) -> 0 | M5: =IF(H5="X",0,IF(N5<O5,1,0)) -> 1 | N5: =IF($C5>Results!$F$1," ",(VLOOKUP($D5,Results!$B$2:$H$244,7,FALSE))) -> 15 | O5: =IF($C5>Results!$F$1," ",(VLOOKUP($E5,Results!$C$2:$K$244,9,FALSE))) -> 18 | P5: =IF(J5=" "," ",SUM(K5*2)+L5*1) -> 0
B6: =+$H$1 -> E4 | C6: 4 | D6: =CONCATENATE(C6,B6) -> 4E4 | E6: =CONCATENATE(C6,H6) -> 4E1 | G6: =+Results!D29 -> 46303 | H6: =VLOOKUP($D6,Results!$B$2:$I$244,8,FALSE) -> E1 | I6: =VLOOKUP(H6,Results!$N$2:$O$11,2,FALSE) -> Misfits | J6: =SUM(K6:M6) -> 1 | K6: =IF(H6="X",0,IF(N6>O6,1,0)) -> 1 | L6: =IF(OR(C6>Results!$F$1,N6="N"),0,IF(H6="X",0,IF(N6=O6,1,0))) -> 0 | M6: =IF(H6="X",0,IF(N6<O6,1,0)) -> 0 | N6: =IF($C6>Results!$F$1," ",(VLOOKUP($D6,Results!$B$2:$H$244,7,FALSE))) -> 20 | O6: =IF($C6>Results!$F$1," ",(VLOOKUP($E6,Results!$C$2:$K$244,9,FALSE))) -> 11 | P6: =IF(J6=" "," ",SUM(K6*2)+L6*1) -> 2
B7: =+$H$1 -> E4 | C7: 5 | D7: =CONCATENATE(C7,B7) -> 5E4 | E7: =CONCATENATE(C7,H7) -> 5E7 | G7: =+Results!D38 -> 46311 | H7: =VLOOKUP($D7,Results!$B$2:$I$244,8,FALSE) -> E7 | I7: =VLOOKUP(H7,Results!$N$2:$O$11,2,FALSE) -> Golfers | J7: =SUM(K7:M7) -> 1 | K7: =IF(H7="X",0,IF(N7>O7,1,0)) -> 1 | L7: =IF(OR(C7>Results!$F$1,N7="N"),0,IF(H7="X",0,IF(N7=O7,1,0))) -> 0 | M7: =IF(H7="X",0,IF(N7<O7,1,0)) -> 0 | N7: =IF($C7>Results!$F$1," ",(VLOOKUP($D7,Results!$B$2:$H$244,7,FALSE))) -> 28 | O7: =IF($C7>Results!$F$1," ",(VLOOKUP($E7,Results!$C$2:$K$244,9,FALSE))) -> 4 | P7: =IF(J7=" "," ",SUM(K7*2)+L7*1) -> 2
B8: =+$H$1 -> E4 | C8: 6 | D8: =CONCATENATE(C8,B8) -> 6E4 | E8: =CONCATENATE(C8,H8) -> 6X | G8: =+Results!D47 -> 46317 | H8: =VLOOKUP($D8,Results!$B$2:$I$244,8,FALSE) -> X | I8: =VLOOKUP(H8,Results!$N$2:$O$11,2,FALSE) -> No Match | J8: =SUM(K8:M8) -> 0 | K8: =IF(H8="X",0,IF(N8>O8,1,0)) -> 0 | L8: =IF(OR(C8>Results!$F$1,N8="N"),0,IF(H8="X",0,IF(N8=O8,1,0))) -> 0 | M8: =IF(H8="X",0,IF(N8<O8,1,0)) -> 0 | N8: =IF($C8>Results!$F$1," ",(VLOOKUP($D8,Results!$B$2:$H$244,7,FALSE))) -> 0 | O8: =IF($C8>Results!$F$1," ",(VLOOKUP($E8,Results!$C$2:$K$244,9,FALSE))) -> 0 | P8: =IF(J8=" "," ",SUM(K8*2)+L8*1) -> 0
B9: =+$H$1 -> E4 | C9: 7 | D9: =CONCATENATE(C9,B9) -> 7E4 | E9: =CONCATENATE(C9,H9) -> 7E6 | G9: =+Results!D56 -> 46325 | H9: =VLOOKUP($D9,Results!$B$2:$I$244,8,FALSE) -> E6 | I9: =VLOOKUP(H9,Results!$N$2:$O$11,2,FALSE) -> Starlite | J9: =SUM(K9:M9) -> 0 | K9: =IF(H9="X",0,IF(N9>O9,1,0)) -> 0 | L9: =IF(OR(C9>Results!$F$1,N9="N"),0,IF(H9="X",0,IF(N9=O9,1,0))) -> 0 | M9: =IF(H9="X",0,IF(N9<O9,1,0)) -> 0 | N9: =IF($C9>Results!$F$1," ",(VLOOKUP($D9,Results!$B$2:$H$244,7,FALSE))) | O9: =IF($C9>Results!$F$1," ",(VLOOKUP($E9,Results!$C$2:$K$244,9,FALSE))) | P9: =IF(J9=" "," ",SUM(K9*2)+L9*1) -> 0
B10: =+$H$1 -> E4 | C10: 8 | D10: =CONCATENATE(C10,B10) -> 8E4 | E10: =CONCATENATE(C10,H10) -> 8E9 | G10: =+Results!D65 -> 46331 | H10: =VLOOKUP($D10,Results!$B$2:$I$244,8,FALSE) -> E9 | I10: =VLOOKUP(H10,Results!$N$2:$O$11,2,FALSE) -> Biased Boys | J10: =SUM(K10:M10) -> 0 | K10: =IF(H10="X",0,IF(N10>O10,1,0)) -> 0 | L10: =IF(OR(C10>Results!$F$1,N10="N"),0,IF(H10="X",0,IF(N10=O10,1,0))) -> 0 | M10: =IF(H10="X",0,IF(N10<O10,1,0)) -> 0 | N10: =IF($C10>Results!$F$1," ",(VLOOKUP($D10,Results!$B$2:$H$244,7,FALSE))) | O10: =IF($C10>Results!$F$1," ",(VLOOKUP($E10,Results!$C$2:$K$244,9,FALSE))) | P10: =IF(J10=" "," ",SUM(K10*2)+L10*1) -> 0
B11: =+$H$1 -> E4 | C11: 9 | D11: =CONCATENATE(C11,B11) -> 9E4 | E11: =CONCATENATE(C11,H11) -> 9E8 | G11: =+Results!D74 -> 46339 | H11: =VLOOKUP($D11,Results!$B$2:$I$244,8,FALSE) -> E8 | I11: =VLOOKUP(H11,Results!$N$2:$O$11,2,FALSE) -> Green Wizards | J11: =SUM(K11:M11) -> 0 | K11: =IF(H11="X",0,IF(N11>O11,1,0)) -> 0 | L11: =IF(OR(C11>Results!$F$1,N11="N"),0,IF(H11="X",0,IF(N11=O11,1,0))) -> 0 | M11: =IF(H11="X",0,IF(N11<O11,1,0)) -> 0 | N11: =IF($C11>Results!$F$1," ",(VLOOKUP($D11,Results!$B$2:$H$244,7,FALSE))) | O11: =IF($C11>Results!$F$1," ",(VLOOKUP($E11,Results!$C$2:$K$244,9,FALSE))) | P11: =IF(J11=" "," ",SUM(K11*2)+L11*1) -> 0
B12: =+$H$1 -> E4 | C12: 10 | D12: =CONCATENATE(C12,B12) -> 10E4 | E12: =CONCATENATE(C12,H12) -> 10E3 | G12: =+Results!D83 -> 46345 | H12: =VLOOKUP($D12,Results!$B$2:$I$244,8,FALSE) -> E3 | I12: =VLOOKUP(H12,Results!$N$2:$O$11,2,FALSE) -> Riches Rollers | J12: =SUM(K12:M12) -> 0 | K12: =IF(H12="X",0,IF(N12>O12,1,0)) -> 0 | L12: =IF(OR(C12>Results!$F$1,N12="N"),0,IF(H12="X",0,IF(N12=O12,1,0))) -> 0 | M12: =IF(H12="X",0,IF(N12<O12,1,0)) -> 0 | N12: =IF($C12>Results!$F$1," ",(VLOOKUP($D12,Results!$B$2:$H$244,7,FALSE))) | O12: =IF($C12>Results!$F$1," ",(VLOOKUP($E12,Results!$C$2:$K$244,9,FALSE))) | P12: =IF(J12=" "," ",SUM(K12*2)+L12*1) -> 0
B13: =+$H$1 -> E4 | C13: 11 | D13: =CONCATENATE(C13,B13) -> 11E4 | E13: =CONCATENATE(C13,H13) -> 11E5 | G13: =+Results!D92 -> 46353 | H13: =VLOOKUP($D13,Results!$B$2:$I$244,8,FALSE) -> E5 | I13: =VLOOKUP(H13,Results!$N$2:$O$11,2,FALSE) -> New Builds | J13: =SUM(K13:M13) -> 0 | K13: =IF(H13="X",0,IF(N13>O13,1,0)) -> 0 | L13: =IF(OR(C13>Results!$F$1,N13="N"),0,IF(H13="X",0,IF(N13=O13,1,0))) -> 0 | M13: =IF(H13="X",0,IF(N13<O13,1,0)) -> 0 | N13: =IF($C13>Results!$F$1," ",(VLOOKUP($D13,Results!$B$2:$H$244,7,FALSE))) | O13: =IF($C13>Results!$F$1," ",(VLOOKUP($E13,Results!$C$2:$K$244,9,FALSE))) | P13: =IF(J13=" "," ",SUM(K13*2)+L13*1) -> 0
B14: =+$H$1 -> E4 | C14: 12 | D14: =CONCATENATE(C14,B14) -> 12E4 | E14: =CONCATENATE(C14,H14) -> 12E2 | G14: =+Results!D101 -> 46359 | H14: =VLOOKUP($D14,Results!$B$2:$I$244,8,FALSE) -> E2 | I14: =VLOOKUP(H14,Results!$N$2:$O$11,2,FALSE) -> Team Krewna | J14: =SUM(K14:M14) -> 0 | K14: =IF(H14="X",0,IF(N14>O14,1,0)) -> 0 | L14: =IF(OR(C14>Results!$F$1,N14="N"),0,IF(H14="X",0,IF(N14=O14,1,0))) -> 0 | M14: =IF(H14="X",0,IF(N14<O14,1,0)) -> 0 | N14: =IF($C14>Results!$F$1," ",(VLOOKUP($D14,Results!$B$2:$H$244,7,FALSE))) | O14: =IF($C14>Results!$F$1," ",(VLOOKUP($E14,Results!$C$2:$K$244,9,FALSE))) | P14: =IF(J14=" "," ",SUM(K14*2)+L14*1) -> 0
B15: =+$H$1 -> E4 | C15: 13 | D15: =CONCATENATE(C15,B15) -> 13E4 | E15: =CONCATENATE(C15,H15) -> 13E1 | G15: =+Results!D110 -> 46367 | H15: =VLOOKUP($D15,Results!$B$2:$I$244,8,FALSE) -> E1 | I15: =VLOOKUP(H15,Results!$N$2:$O$11,2,FALSE) -> Misfits | J15: =SUM(K15:M15) -> 0 | K15: =IF(H15="X",0,IF(N15>O15,1,0)) -> 0 | L15: =IF(OR(C15>Results!$F$1,N15="N"),0,IF(H15="X",0,IF(N15=O15,1,0))) -> 0 | M15: =IF(H15="X",0,IF(N15<O15,1,0)) -> 0 | N15: =IF($C15>Results!$F$1," ",(VLOOKUP($D15,Results!$B$2:$H$244,7,FALSE))) | O15: =IF($C15>Results!$F$1," ",(VLOOKUP($E15,Results!$C$2:$K$244,9,FALSE))) | P15: =IF(J15=" "," ",SUM(K15*2)+L15*1) -> 0
B16: =+$H$1 -> E4 | C16: 14 | D16: =CONCATENATE(C16,B16) -> 14E4 | E16: =CONCATENATE(C16,H16) -> 14E7 | G16: =+Results!D119 -> 46373 | H16: =VLOOKUP($D16,Results!$B$2:$I$244,8,FALSE) -> E7 | I16: =VLOOKUP(H16,Results!$N$2:$O$11,2,FALSE) -> Golfers | J16: =SUM(K16:M16) -> 0 | K16: =IF(H16="X",0,IF(N16>O16,1,0)) -> 0 | L16: =IF(OR(C16>Results!$F$1,N16="N"),0,IF(H16="X",0,IF(N16=O16,1,0))) -> 0 | M16: =IF(H16="X",0,IF(N16<O16,1,0)) -> 0 | N16: =IF($C16>Results!$F$1," ",(VLOOKUP($D16,Results!$B$2:$H$244,7,FALSE))) | O16: =IF($C16>Results!$F$1," ",(VLOOKUP($E16,Results!$C$2:$K$244,9,FALSE))) | P16: =IF(J16=" "," ",SUM(K16*2)+L16*1) -> 0
B17: =+$H$1 -> E4 | C17: 15 | D17: =CONCATENATE(C17,B17) -> 15E4 | E17: =CONCATENATE(C17,H17) -> 15X | G17: =+Results!D128 -> 46395 | H17: =VLOOKUP($D17,Results!$B$2:$I$244,8,FALSE) -> X | I17: =VLOOKUP(H17,Results!$N$2:$O$11,2,FALSE) -> No Match | J17: =SUM(K17:M17) -> 0 | K17: =IF(H17="X",0,IF(N17>O17,1,0)) -> 0 | L17: =IF(OR(C17>Results!$F$1,N17="N"),0,IF(H17="X",0,IF(N17=O17,1,0))) -> 0 | M17: =IF(H17="X",0,IF(N17<O17,1,0)) -> 0 | N17: =IF($C17>Results!$F$1," ",(VLOOKUP($D17,Results!$B$2:$H$244,7,FALSE))) | O17: =IF($C17>Results!$F$1," ",(VLOOKUP($E17,Results!$C$2:$K$244,9,FALSE))) | P17: =IF(J17=" "," ",SUM(K17*2)+L17*1) -> 0
B18: =+$H$1 -> E4 | C18: 16 | D18: =CONCATENATE(C18,B18) -> 16E4 | E18: =CONCATENATE(C18,H18) -> 16E6 | G18: =+Results!D137 -> 46401 | H18: =VLOOKUP($D18,Results!$B$2:$I$244,8,FALSE) -> E6 | I18: =VLOOKUP(H18,Results!$N$2:$O$11,2,FALSE) -> Starlite | J18: =SUM(K18:M18) -> 0 | K18: =IF(H18="X",0,IF(N18>O18,1,0)) -> 0 | L18: =IF(OR(C18>Results!$F$1,N18="N"),0,IF(H18="X",0,IF(N18=O18,1,0))) -> 0 | M18: =IF(H18="X",0,IF(N18<O18,1,0)) -> 0 | N18: =IF($C18>Results!$F$1," ",(VLOOKUP($D18,Results!$B$2:$H$244,7,FALSE))) | O18: =IF($C18>Results!$F$1," ",(VLOOKUP($E18,Results!$C$2:$K$244,9,FALSE))) | P18: =IF(J18=" "," ",SUM(K18*2)+L18*1) -> 0
B19: =+$H$1 -> E4 | C19: 17 | D19: =CONCATENATE(C19,B19) -> 17E4 | E19: =CONCATENATE(C19,H19) -> 17E9 | G19: =+Results!D146 -> 46409 | H19: =VLOOKUP($D19,Results!$B$2:$I$244,8,FALSE) -> E9 | I19: =VLOOKUP(H19,Results!$N$2:$O$11,2,FALSE) -> Biased Boys | J19: =SUM(K19:M19) -> 0 | K19: =IF(H19="X",0,IF(N19>O19,1,0)) -> 0 | L19: =IF(OR(C19>Results!$F$1,N19="N"),0,IF(H19="X",0,IF(N19=O19,1,0))) -> 0 | M19: =IF(H19="X",0,IF(N19<O19,1,0)) -> 0 | N19: =IF($C19>Results!$F$1," ",(VLOOKUP($D19,Results!$B$2:$H$244,7,FALSE))) | O19: =IF($C19>Results!$F$1," ",(VLOOKUP($E19,Results!$C$2:$K$244,9,FALSE))) | P19: =IF(J19=" "," ",SUM(K19*2)+L19*1) -> 0
B20: =+$H$1 -> E4 | C20: 18 | D20: =CONCATENATE(C20,B20) -> 18E4 | E20: =CONCATENATE(C20,H20) -> 18E8 | G20: =+Results!D155 -> 46415 | H20: =VLOOKUP($D20,Results!$B$2:$I$244,8,FALSE) -> E8 | I20: =VLOOKUP(H20,Results!$N$2:$O$11,2,FALSE) -> Green Wizards | J20: =SUM(K20:M20) -> 0 | K20: =IF(H20="X",0,IF(N20>O20,1,0)) -> 0 | L20: =IF(OR(C20>Results!$F$1,N20="N"),0,IF(H20="X",0,IF(N20=O20,1,0))) -> 0 | M20: =IF(H20="X",0,IF(N20<O20,1,0)) -> 0 | N20: =IF($C20>Results!$F$1," ",(VLOOKUP($D20,Results!$B$2:$H$244,7,FALSE))) | O20: =IF($C20>Results!$F$1," ",(VLOOKUP($E20,Results!$C$2:$K$244,9,FALSE))) | P20: =IF(J20=" "," ",SUM(K20*2)+L20*1) -> 0
B21: =+$H$1 -> E4 | C21: 19 | D21: =CONCATENATE(C21,B21) -> 19E4 | E21: =CONCATENATE(C21,H21) -> 19E3 | G21: =+Results!D164 -> 46423 | H21: =VLOOKUP($D21,Results!$B$2:$I$244,8,FALSE) -> E3 | I21: =VLOOKUP(H21,Results!$N$2:$O$11,2,FALSE) -> Riches Rollers | J21: =SUM(K21:M21) -> 0 | K21: =IF(H21="X",0,IF(N21>O21,1,0)) -> 0 | L21: =IF(OR(C21>Results!$F$1,N21="N"),0,IF(H21="X",0,IF(N21=O21,1,0))) -> 0 | M21: =IF(H21="X",0,IF(N21<O21,1,0)) -> 0 | N21: =IF($C21>Results!$F$1," ",(VLOOKUP($D21,Results!$B$2:$H$244,7,FALSE))) | O21: =IF($C21>Results!$F$1," ",(VLOOKUP($E21,Results!$C$2:$K$244,9,FALSE))) | P21: =IF(J21=" "," ",SUM(K21*2)+L21*1) -> 0
B22: =+$H$1 -> E4 | C22: 20 | D22: =CONCATENATE(C22,B22) -> 20E4 | E22: =CONCATENATE(C22,H22) -> 20E5 | G22: =+Results!D173 -> 46429 | H22: =VLOOKUP($D22,Results!$B$2:$I$244,8,FALSE) -> E5 | I22: =VLOOKUP(H22,Results!$N$2:$O$11,2,FALSE) -> New Builds | J22: =SUM(K22:M22) -> 0 | K22: =IF(H22="X",0,IF(N22>O22,1,0)) -> 0 | L22: =IF(OR(C22>Results!$F$1,N22="N"),0,IF(H22="X",0,IF(N22=O22,1,0))) -> 0 | M22: =IF(H22="X",0,IF(N22<O22,1,0)) -> 0 | N22: =IF($C22>Results!$F$1," ",(VLOOKUP($D22,Results!$B$2:$H$244,7,FALSE))) | O22: =IF($C22>Results!$F$1," ",(VLOOKUP($E22,Results!$C$2:$K$244,9,FALSE))) | P22: =IF(J22=" "," ",SUM(K22*2)+L22*1) -> 0
B23: =+$H$1 -> E4 | C23: 21 | D23: =CONCATENATE(C23,B23) -> 21E4 | E23: =CONCATENATE(C23,H23) -> 21E2 | G23: =+Results!D182 -> 46437 | H23: =VLOOKUP($D23,Results!$B$2:$I$244,8,FALSE) -> E2 | I23: =VLOOKUP(H23,Results!$N$2:$O$11,2,FALSE) -> Team Krewna | J23: =SUM(K23:M23) -> 0 | K23: =IF(H23="X",0,IF(N23>O23,1,0)) -> 0 | L23: =IF(OR(C23>Results!$F$1,N23="N"),0,IF(H23="X",0,IF(N23=O23,1,0))) -> 0 | M23: =IF(H23="X",0,IF(N23<O23,1,0)) -> 0 | N23: =IF($C23>Results!$F$1," ",(VLOOKUP($D23,Results!$B$2:$H$244,7,FALSE))) | O23: =IF($C23>Results!$F$1," ",(VLOOKUP($E23,Results!$C$2:$K$244,9,FALSE))) | P23: =IF(J23=" "," ",SUM(K23*2)+L23*1) -> 0
B24: =+$H$1 -> E4 | C24: 22 | D24: =CONCATENATE(C24,B24) -> 22E4 | E24: =CONCATENATE(C24,H24) -> 22E1 | G24: =+Results!D191 -> 46443 | H24: =VLOOKUP($D24,Results!$B$2:$I$244,8,FALSE) -> E1 | I24: =VLOOKUP(H24,Results!$N$2:$O$11,2,FALSE) -> Misfits | J24: =SUM(K24:M24) -> 0 | K24: =IF(H24="X",0,IF(N24>O24,1,0)) -> 0 | L24: =IF(OR(C24>Results!$F$1,N24="N"),0,IF(H24="X",0,IF(N24=O24,1,0))) -> 0 | M24: =IF(H24="X",0,IF(N24<O24,1,0)) -> 0 | N24: =IF($C24>Results!$F$1," ",(VLOOKUP($D24,Results!$B$2:$H$244,7,FALSE))) | O24: =IF($C24>Results!$F$1," ",(VLOOKUP($E24,Results!$C$2:$K$244,9,FALSE))) | P24: =IF(J24=" "," ",SUM(K24*2)+L24*1) -> 0
B25: =+$H$1 -> E4 | C25: 23 | D25: =CONCATENATE(C25,B25) -> 23E4 | E25: =CONCATENATE(C25,H25) -> 23E7 | G25: =+Results!D200 -> 46451 | H25: =VLOOKUP($D25,Results!$B$2:$I$244,8,FALSE) -> E7 | I25: =VLOOKUP(H25,Results!$N$2:$O$11,2,FALSE) -> Golfers | J25: =SUM(K25:M25) -> 0 | K25: =IF(H25="X",0,IF(N25>O25,1,0)) -> 0 | L25: =IF(OR(C25>Results!$F$1,N25="N"),0,IF(H25="X",0,IF(N25=O25,1,0))) -> 0 | M25: =IF(H25="X",0,IF(N25<O25,1,0)) -> 0 | N25: =IF($C25>Results!$F$1," ",(VLOOKUP($D25,Results!$B$2:$H$244,7,FALSE))) | O25: =IF($C25>Results!$F$1," ",(VLOOKUP($E25,Results!$C$2:$K$244,9,FALSE))) | P25: =IF(J25=" "," ",SUM(K25*2)+L25*1) -> 0
B26: =+$H$1 -> E4 | C26: 24 | D26: =CONCATENATE(C26,B26) -> 24E4 | E26: =CONCATENATE(C26,H26) -> 24X | G26: =+Results!D209 -> 46457 | H26: =VLOOKUP($D26,Results!$B$2:$I$244,8,FALSE) -> X | I26: =VLOOKUP(H26,Results!$N$2:$O$11,2,FALSE) -> No Match | J26: =SUM(K26:M26) -> 0 | K26: =IF(H26="X",0,IF(N26>O26,1,0)) -> 0 | L26: =IF(OR(C26>Results!$F$1,N26="N"),0,IF(H26="X",0,IF(N26=O26,1,0))) -> 0 | M26: =IF(H26="X",0,IF(N26<O26,1,0)) -> 0 | N26: =IF($C26>Results!$F$1," ",(VLOOKUP($D26,Results!$B$2:$H$244,7,FALSE))) | O26: =IF($C26>Results!$F$1," ",(VLOOKUP($E26,Results!$C$2:$K$244,9,FALSE))) | P26: =IF(J26=" "," ",SUM(K26*2)+L26*1) -> 0
B27: =+$H$1 -> E4 | C27: 25 | D27: =CONCATENATE(C27,B27) -> 25E4 | E27: =CONCATENATE(C27,H27) -> 25E6 | G27: =+Results!D218 -> 46465 | H27: =VLOOKUP($D27,Results!$B$2:$I$244,8,FALSE) -> E6 | I27: =VLOOKUP(H27,Results!$N$2:$O$11,2,FALSE) -> Starlite | J27: =SUM(K27:M27) -> 0 | K27: =IF(H27="X",0,IF(N27>O27,1,0)) -> 0 | L27: =IF(OR(C27>Results!$F$1,N27="N"),0,IF(H27="X",0,IF(N27=O27,1,0))) -> 0 | M27: =IF(H27="X",0,IF(N27<O27,1,0)) -> 0 | N27: =IF($C27>Results!$F$1," ",(VLOOKUP($D27,Results!$B$2:$H$244,7,FALSE))) | O27: =IF($C27>Results!$F$1," ",(VLOOKUP($E27,Results!$C$2:$K$244,9,FALSE))) | P27: =IF(J27=" "," ",SUM(K27*2)+L27*1) -> 0
B28: =+$H$1 -> E4 | C28: 26 | D28: =CONCATENATE(C28,B28) -> 26E4 | E28: =CONCATENATE(C28,H28) -> 26E9 | G28: =+Results!D227 -> 46471 | H28: =VLOOKUP($D28,Results!$B$2:$I$244,8,FALSE) -> E9 | I28: =VLOOKUP(H28,Results!$N$2:$O$11,2,FALSE) -> Biased Boys | J28: =SUM(K28:M28) -> 0 | K28: =IF(H28="X",0,IF(N28>O28,1,0)) -> 0 | L28: =IF(OR(C28>Results!$F$1,N28="N"),0,IF(H28="X",0,IF(N28=O28,1,0))) -> 0 | M28: =IF(H28="X",0,IF(N28<O28,1,0)) -> 0 | N28: =IF($C28>Results!$F$1," ",(VLOOKUP($D28,Results!$B$2:$H$244,7,FALSE))) | O28: =IF($C28>Results!$F$1," ",(VLOOKUP($E28,Results!$C$2:$K$244,9,FALSE))) | P28: =IF(J28=" "," ",SUM(K28*2)+L28*1) -> 0
B29: =+$H$1 -> E4 | C29: 27 | D29: =CONCATENATE(C29,B29) -> 27E4 | E29: =CONCATENATE(C29,H29) -> 27E8 | G29: =+Results!D236 -> 46479 | H29: =VLOOKUP($D29,Results!$B$2:$I$244,8,FALSE) -> E8 | I29: =VLOOKUP(H29,Results!$N$2:$O$11,2,FALSE) -> Green Wizards | J29: =SUM(K29:M29) -> 0 | K29: =IF(H29="X",0,IF(N29>O29,1,0)) -> 0 | L29: =IF(OR(C29>Results!$F$1,N29="N"),0,IF(H29="X",0,IF(N29=O29,1,0))) -> 0 | M29: =IF(H29="X",0,IF(N29<O29,1,0)) -> 0 | N29: =IF($C29>Results!$F$1," ",(VLOOKUP($D29,Results!$B$2:$H$244,7,FALSE))) | O29: =IF($C29>Results!$F$1," ",(VLOOKUP($E29,Results!$C$2:$K$244,9,FALSE))) | P29: =IF(J29=" "," ",SUM(K29*2)+L29*1) -> 0
I30: TOTALS | J30: =SUM(J3:J29) -> 5 | K30: =SUM(K3:K29) -> 3 | L30: =SUM(L3:L29) -> 0 | M30: =SUM(M3:M29) -> 2 | N30: =SUM(N3:N29) -> 91 | O30: =SUM(O3:O29) -> 64 | P30: =SUM(P3:P29) -> 6

Sheet E5 NEW BUILDS
H1: E5 | I1: NEW BUILDS
D2: F | E2: A | G2: Date | H2: Code | I2: Opponents | J2: Played | K2: Won | L2: Drawn | M2: Lost | N2: Shots For | O2: Shots Against | P2: Pts
B3: =+$H$1 -> E5 | C3: 1 | D3: =CONCATENATE(C3,B3) -> 1E5 | E3: =CONCATENATE(C3,H3) -> 1E6 | G3: =+Results!D2 -> 46283 | H3: =VLOOKUP($D3,Results!$B$2:$I$244,8,FALSE) -> E6 | I3: =VLOOKUP(H3,Results!$N$2:$O$11,2,FALSE) -> Starlite | J3: =SUM(K3:M3) -> 0 | K3: =IF(H3="X",0,IF(N3>O3,1,0)) -> 0 | L3: =IF(OR(C3>Results!$F$1,N3="N"),0,IF(H3="X",0,IF(N3=O3,1,0))) -> 0 | M3: =IF(H3="X",0,IF(N3<O3,1,0)) -> 0 | N3: =IF($C3>Results!$F$1," ",(VLOOKUP($D3,Results!$B$2:$H$244,7,FALSE))) -> N | O3: =IF($C3>Results!$F$1," ",(VLOOKUP($E3,Results!$C$2:$K$244,9,FALSE))) -> N | P3: =IF(J3=" "," ",SUM(K3*2)+L3*1) -> 0
B4: =+$H$1 -> E5 | C4: 2 | D4: =CONCATENATE(C4,B4) -> 2E5 | E4: =CONCATENATE(C4,H4) -> 2E4 | G4: =+Results!D11 -> 46289 | H4: =VLOOKUP($D4,Results!$B$2:$I$244,8,FALSE) -> E4 | I4: =VLOOKUP(H4,Results!$N$2:$O$11,2,FALSE) -> Bullets | J4: =SUM(K4:M4) -> 1 | K4: =IF(H4="X",0,IF(N4>O4,1,0)) -> 0 | L4: =IF(OR(C4>Results!$F$1,N4="N"),0,IF(H4="X",0,IF(N4=O4,1,0))) -> 0 | M4: =IF(H4="X",0,IF(N4<O4,1,0)) -> 1 | N4: =IF($C4>Results!$F$1," ",(VLOOKUP($D4,Results!$B$2:$H$244,7,FALSE))) -> 12 | O4: =IF($C4>Results!$F$1," ",(VLOOKUP($E4,Results!$C$2:$K$244,9,FALSE))) -> 15 | P4: =IF(J4=" "," ",SUM(K4*2)+L4*1) -> 0
B5: =+$H$1 -> E5 | C5: 3 | D5: =CONCATENATE(C5,B5) -> 3E5 | E5: =CONCATENATE(C5,H5) -> 3E8 | G5: =+Results!D20 -> 46297 | H5: =VLOOKUP($D5,Results!$B$2:$I$244,8,FALSE) -> E8 | I5: =VLOOKUP(H5,Results!$N$2:$O$11,2,FALSE) -> Green Wizards | J5: =SUM(K5:M5) -> 1 | K5: =IF(H5="X",0,IF(N5>O5,1,0)) -> 0 | L5: =IF(OR(C5>Results!$F$1,N5="N"),0,IF(H5="X",0,IF(N5=O5,1,0))) -> 0 | M5: =IF(H5="X",0,IF(N5<O5,1,0)) -> 1 | N5: =IF($C5>Results!$F$1," ",(VLOOKUP($D5,Results!$B$2:$H$244,7,FALSE))) -> 12 | O5: =IF($C5>Results!$F$1," ",(VLOOKUP($E5,Results!$C$2:$K$244,9,FALSE))) -> 18 | P5: =IF(J5=" "," ",SUM(K5*2)+L5*1) -> 0
B6: =+$H$1 -> E5 | C6: 4 | D6: =CONCATENATE(C6,B6) -> 4E5 | E6: =CONCATENATE(C6,H6) -> 4E3 | G6: =+Results!D29 -> 46303 | H6: =VLOOKUP($D6,Results!$B$2:$I$244,8,FALSE) -> E3 | I6: =VLOOKUP(H6,Results!$N$2:$O$11,2,FALSE) -> Riches Rollers | J6: =SUM(K6:M6) -> 1 | K6: =IF(H6="X",0,IF(N6>O6,1,0)) -> 1 | L6: =IF(OR(C6>Results!$F$1,N6="N"),0,IF(H6="X",0,IF(N6=O6,1,0))) -> 0 | M6: =IF(H6="X",0,IF(N6<O6,1,0)) -> 0 | N6: =IF($C6>Results!$F$1," ",(VLOOKUP($D6,Results!$B$2:$H$244,7,FALSE))) -> 14 | O6: =IF($C6>Results!$F$1," ",(VLOOKUP($E6,Results!$C$2:$K$244,9,FALSE))) -> 13 | P6: =IF(J6=" "," ",SUM(K6*2)+L6*1) -> 2
B7: =+$H$1 -> E5 | C7: 5 | D7: =CONCATENATE(C7,B7) -> 5E5 | E7: =CONCATENATE(C7,H7) -> 5X | G7: =+Results!D38 -> 46311 | H7: =VLOOKUP($D7,Results!$B$2:$I$244,8,FALSE) -> X | I7: =VLOOKUP(H7,Results!$N$2:$O$11,2,FALSE) -> No Match | J7: =SUM(K7:M7) -> 0 | K7: =IF(H7="X",0,IF(N7>O7,1,0)) -> 0 | L7: =IF(OR(C7>Results!$F$1,N7="N"),0,IF(H7="X",0,IF(N7=O7,1,0))) -> 0 | M7: =IF(H7="X",0,IF(N7<O7,1,0)) -> 0 | N7: =IF($C7>Results!$F$1," ",(VLOOKUP($D7,Results!$B$2:$H$244,7,FALSE))) -> 0 | O7: =IF($C7>Results!$F$1," ",(VLOOKUP($E7,Results!$C$2:$K$244,9,FALSE))) -> 0 | P7: =IF(J7=" "," ",SUM(K7*2)+L7*1) -> 0
B8: =+$H$1 -> E5 | C8: 6 | D8: =CONCATENATE(C8,B8) -> 6E5 | E8: =CONCATENATE(C8,H8) -> 6E9 | G8: =+Results!D47 -> 46317 | H8: =VLOOKUP($D8,Results!$B$2:$I$244,8,FALSE) -> E9 | I8: =VLOOKUP(H8,Results!$N$2:$O$11,2,FALSE) -> Biased Boys | J8: =SUM(K8:M8) -> 1 | K8: =IF(H8="X",0,IF(N8>O8,1,0)) -> 0 | L8: =IF(OR(C8>Results!$F$1,N8="N"),0,IF(H8="X",0,IF(N8=O8,1,0))) -> 1 | M8: =IF(H8="X",0,IF(N8<O8,1,0)) -> 0 | N8: =IF($C8>Results!$F$1," ",(VLOOKUP($D8,Results!$B$2:$H$244,7,FALSE))) -> 15 | O8: =IF($C8>Results!$F$1," ",(VLOOKUP($E8,Results!$C$2:$K$244,9,FALSE))) -> 15 | P8: =IF(J8=" "," ",SUM(K8*2)+L8*1) -> 1
B9: =+$H$1 -> E5 | C9: 7 | D9: =CONCATENATE(C9,B9) -> 7E5 | E9: =CONCATENATE(C9,H9) -> 7E2 | G9: =+Results!D56 -> 46325 | H9: =VLOOKUP($D9,Results!$B$2:$I$244,8,FALSE) -> E2 | I9: =VLOOKUP(H9,Results!$N$2:$O$11,2,FALSE) -> Team Krewna | J9: =SUM(K9:M9) -> 0 | K9: =IF(H9="X",0,IF(N9>O9,1,0)) -> 0 | L9: =IF(OR(C9>Results!$F$1,N9="N"),0,IF(H9="X",0,IF(N9=O9,1,0))) -> 0 | M9: =IF(H9="X",0,IF(N9<O9,1,0)) -> 0 | N9: =IF($C9>Results!$F$1," ",(VLOOKUP($D9,Results!$B$2:$H$244,7,FALSE))) | O9: =IF($C9>Results!$F$1," ",(VLOOKUP($E9,Results!$C$2:$K$244,9,FALSE))) | P9: =IF(J9=" "," ",SUM(K9*2)+L9*1) -> 0
B10: =+$H$1 -> E5 | C10: 8 | D10: =CONCATENATE(C10,B10) -> 8E5 | E10: =CONCATENATE(C10,H10) -> 8E1 | G10: =+Results!D65 -> 46331 | H10: =VLOOKUP($D10,Results!$B$2:$I$244,8,FALSE) -> E1 | I10: =VLOOKUP(H10,Results!$N$2:$O$11,2,FALSE) -> Misfits | J10: =SUM(K10:M10) -> 0 | K10: =IF(H10="X",0,IF(N10>O10,1,0)) -> 0 | L10: =IF(OR(C10>Results!$F$1,N10="N"),0,IF(H10="X",0,IF(N10=O10,1,0))) -> 0 | M10: =IF(H10="X",0,IF(N10<O10,1,0)) -> 0 | N10: =IF($C10>Results!$F$1," ",(VLOOKUP($D10,Results!$B$2:$H$244,7,FALSE))) | O10: =IF($C10>Results!$F$1," ",(VLOOKUP($E10,Results!$C$2:$K$244,9,FALSE))) | P10: =IF(J10=" "," ",SUM(K10*2)+L10*1) -> 0
B11: =+$H$1 -> E5 | C11: 9 | D11: =CONCATENATE(C11,B11) -> 9E5 | E11: =CONCATENATE(C11,H11) -> 9E7 | G11: =+Results!D74 -> 46339 | H11: =VLOOKUP($D11,Results!$B$2:$I$244,8,FALSE) -> E7 | I11: =VLOOKUP(H11,Results!$N$2:$O$11,2,FALSE) -> Golfers | J11: =SUM(K11:M11) -> 0 | K11: =IF(H11="X",0,IF(N11>O11,1,0)) -> 0 | L11: =IF(OR(C11>Results!$F$1,N11="N"),0,IF(H11="X",0,IF(N11=O11,1,0))) -> 0 | M11: =IF(H11="X",0,IF(N11<O11,1,0)) -> 0 | N11: =IF($C11>Results!$F$1," ",(VLOOKUP($D11,Results!$B$2:$H$244,7,FALSE))) | O11: =IF($C11>Results!$F$1," ",(VLOOKUP($E11,Results!$C$2:$K$244,9,FALSE))) | P11: =IF(J11=" "," ",SUM(K11*2)+L11*1) -> 0
B12: =+$H$1 -> E5 | C12: 10 | D12: =CONCATENATE(C12,B12) -> 10E5 | E12: =CONCATENATE(C12,H12) -> 10E6 | G12: =+Results!D83 -> 46345 | H12: =VLOOKUP($D12,Results!$B$2:$I$244,8,FALSE) -> E6 | I12: =VLOOKUP(H12,Results!$N$2:$O$11,2,FALSE) -> Starlite | J12: =SUM(K12:M12) -> 0 | K12: =IF(H12="X",0,IF(N12>O12,1,0)) -> 0 | L12: =IF(OR(C12>Results!$F$1,N12="N"),0,IF(H12="X",0,IF(N12=O12,1,0))) -> 0 | M12: =IF(H12="X",0,IF(N12<O12,1,0)) -> 0 | N12: =IF($C12>Results!$F$1," ",(VLOOKUP($D12,Results!$B$2:$H$244,7,FALSE))) | O12: =IF($C12>Results!$F$1," ",(VLOOKUP($E12,Results!$C$2:$K$244,9,FALSE))) | P12: =IF(J12=" "," ",SUM(K12*2)+L12*1) -> 0
B13: =+$H$1 -> E5 | C13: 11 | D13: =CONCATENATE(C13,B13) -> 11E5 | E13: =CONCATENATE(C13,H13) -> 11E4 | G13: =+Results!D92 -> 46353 | H13: =VLOOKUP($D13,Results!$B$2:$I$244,8,FALSE) -> E4 | I13: =VLOOKUP(H13,Results!$N$2:$O$11,2,FALSE) -> Bullets | J13: =SUM(K13:M13) -> 0 | K13: =IF(H13="X",0,IF(N13>O13,1,0)) -> 0 | L13: =IF(OR(C13>Results!$F$1,N13="N"),0,IF(H13="X",0,IF(N13=O13,1,0))) -> 0 | M13: =IF(H13="X",0,IF(N13<O13,1,0)) -> 0 | N13: =IF($C13>Results!$F$1," ",(VLOOKUP($D13,Results!$B$2:$H$244,7,FALSE))) | O13: =IF($C13>Results!$F$1," ",(VLOOKUP($E13,Results!$C$2:$K$244,9,FALSE))) | P13: =IF(J13=" "," ",SUM(K13*2)+L13*1) -> 0
B14: =+$H$1 -> E5 | C14: 12 | D14: =CONCATENATE(C14,B14) -> 12E5 | E14: =CONCATENATE(C14,H14) -> 12E8 | G14: =+Results!D101 -> 46359 | H14: =VLOOKUP($D14,Results!$B$2:$I$244,8,FALSE) -> E8 | I14: =VLOOKUP(H14,Results!$N$2:$O$11,2,FALSE) -> Green Wizards | J14: =SUM(K14:M14) -> 0 | K14: =IF(H14="X",0,IF(N14>O14,1,0)) -> 0 | L14: =IF(OR(C14>Results!$F$1,N14="N"),0,IF(H14="X",0,IF(N14=O14,1,0))) -> 0 | M14: =IF(H14="X",0,IF(N14<O14,1,0)) -> 0 | N14: =IF($C14>Results!$F$1," ",(VLOOKUP($D14,Results!$B$2:$H$244,7,FALSE))) | O14: =IF($C14>Results!$F$1," ",(VLOOKUP($E14,Results!$C$2:$K$244,9,FALSE))) | P14: =IF(J14=" "," ",SUM(K14*2)+L14*1) -> 0
B15: =+$H$1 -> E5 | C15: 13 | D15: =CONCATENATE(C15,B15) -> 13E5 | E15: =CONCATENATE(C15,H15) -> 13E3 | G15: =+Results!D110 -> 46367 | H15: =VLOOKUP($D15,Results!$B$2:$I$244,8,FALSE) -> E3 | I15: =VLOOKUP(H15,Results!$N$2:$O$11,2,FALSE) -> Riches Rollers | J15: =SUM(K15:M15) -> 0 | K15: =IF(H15="X",0,IF(N15>O15,1,0)) -> 0 | L15: =IF(OR(C15>Results!$F$1,N15="N"),0,IF(H15="X",0,IF(N15=O15,1,0))) -> 0 | M15: =IF(H15="X",0,IF(N15<O15,1,0)) -> 0 | N15: =IF($C15>Results!$F$1," ",(VLOOKUP($D15,Results!$B$2:$H$244,7,FALSE))) | O15: =IF($C15>Results!$F$1," ",(VLOOKUP($E15,Results!$C$2:$K$244,9,FALSE))) | P15: =IF(J15=" "," ",SUM(K15*2)+L15*1) -> 0
B16: =+$H$1 -> E5 | C16: 14 | D16: =CONCATENATE(C16,B16) -> 14E5 | E16: =CONCATENATE(C16,H16) -> 14X | G16: =+Results!D119 -> 46373 | H16: =VLOOKUP($D16,Results!$B$2:$I$244,8,FALSE) -> X | I16: =VLOOKUP(H16,Results!$N$2:$O$11,2,FALSE) -> No Match | J16: =SUM(K16:M16) -> 0 | K16: =IF(H16="X",0,IF(N16>O16,1,0)) -> 0 | L16: =IF(OR(C16>Results!$F$1,N16="N"),0,IF(H16="X",0,IF(N16=O16,1,0))) -> 0 | M16: =IF(H16="X",0,IF(N16<O16,1,0)) -> 0 | N16: =IF($C16>Results!$F$1," ",(VLOOKUP($D16,Results!$B$2:$H$244,7,FALSE))) | O16: =IF($C16>Results!$F$1," ",(VLOOKUP($E16,Results!$C$2:$K$244,9,FALSE))) | P16: =IF(J16=" "," ",SUM(K16*2)+L16*1) -> 0
B17: =+$H$1 -> E5 | C17: 15 | D17: =CONCATENATE(C17,B17) -> 15E5 | E17: =CONCATENATE(C17,H17) -> 15E9 | G17: =+Results!D128 -> 46395 | H17: =VLOOKUP($D17,Results!$B$2:$I$244,8,FALSE) -> E9 | I17: =VLOOKUP(H17,Results!$N$2:$O$11,2,FALSE) -> Biased Boys | J17: =SUM(K17:M17) -> 0 | K17: =IF(H17="X",0,IF(N17>O17,1,0)) -> 0 | L17: =IF(OR(C17>Results!$F$1,N17="N"),0,IF(H17="X",0,IF(N17=O17,1,0))) -> 0 | M17: =IF(H17="X",0,IF(N17<O17,1,0)) -> 0 | N17: =IF($C17>Results!$F$1," ",(VLOOKUP($D17,Results!$B$2:$H$244,7,FALSE))) | O17: =IF($C17>Results!$F$1," ",(VLOOKUP($E17,Results!$C$2:$K$244,9,FALSE))) | P17: =IF(J17=" "," ",SUM(K17*2)+L17*1) -> 0
B18: =+$H$1 -> E5 | C18: 16 | D18: =CONCATENATE(C18,B18) -> 16E5 | E18: =CONCATENATE(C18,H18) -> 16E2 | G18: =+Results!D137 -> 46401 | H18: =VLOOKUP($D18,Results!$B$2:$I$244,8,FALSE) -> E2 | I18: =VLOOKUP(H18,Results!$N$2:$O$11,2,FALSE) -> Team Krewna | J18: =SUM(K18:M18) -> 0 | K18: =IF(H18="X",0,IF(N18>O18,1,0)) -> 0 | L18: =IF(OR(C18>Results!$F$1,N18="N"),0,IF(H18="X",0,IF(N18=O18,1,0))) -> 0 | M18: =IF(H18="X",0,IF(N18<O18,1,0)) -> 0 | N18: =IF($C18>Results!$F$1," ",(VLOOKUP($D18,Results!$B$2:$H$244,7,FALSE))) | O18: =IF($C18>Results!$F$1," ",(VLOOKUP($E18,Results!$C$2:$K$244,9,FALSE))) | P18: =IF(J18=" "," ",SUM(K18*2)+L18*1) -> 0
B19: =+$H$1 -> E5 | C19: 17 | D19: =CONCATENATE(C19,B19) -> 17E5 | E19: =CONCATENATE(C19,H19) -> 17E1 | G19: =+Results!D146 -> 46409 | H19: =VLOOKUP($D19,Results!$B$2:$I$244,8,FALSE) -> E1 | I19: =VLOOKUP(H19,Results!$N$2:$O$11,2,FALSE) -> Misfits | J19: =SUM(K19:M19) -> 0 | K19: =IF(H19="X",0,IF(N19>O19,1,0)) -> 0 | L19: =IF(OR(C19>Results!$F$1,N19="N"),0,IF(H19="X",0,IF(N19=O19,1,0))) -> 0 | M19: =IF(H19="X",0,IF(N19<O19,1,0)) -> 0 | N19: =IF($C19>Results!$F$1," ",(VLOOKUP($D19,Results!$B$2:$H$244,7,FALSE))) | O19: =IF($C19>Results!$F$1," ",(VLOOKUP($E19,Results!$C$2:$K$244,9,FALSE))) | P19: =IF(J19=" "," ",SUM(K19*2)+L19*1) -> 0
B20: =+$H$1 -> E5 | C20: 18 | D20: =CONCATENATE(C20,B20) -> 18E5 | E20: =CONCATENATE(C20,H20) -> 18E7 | G20: =+Results!D155 -> 46415 | H20: =VLOOKUP($D20,Results!$B$2:$I$244,8,FALSE) -> E7 | I20: =VLOOKUP(H20,Results!$N$2:$O$11,2,FALSE) -> Golfers | J20: =SUM(K20:M20) -> 0 | K20: =IF(H20="X",0,IF(N20>O20,1,0)) -> 0 | L20: =IF(OR(C20>Results!$F$1,N20="N"),0,IF(H20="X",0,IF(N20=O20,1,0))) -> 0 | M20: =IF(H20="X",0,IF(N20<O20,1,0)) -> 0 | N20: =IF($C20>Results!$F$1," ",(VLOOKUP($D20,Results!$B$2:$H$244,7,FALSE))) | O20: =IF($C20>Results!$F$1," ",(VLOOKUP($E20,Results!$C$2:$K$244,9,FALSE))) | P20: =IF(J20=" "," ",SUM(K20*2)+L20*1) -> 0
B21: =+$H$1 -> E5 | C21: 19 | D21: =CONCATENATE(C21,B21) -> 19E5 | E21: =CONCATENATE(C21,H21) -> 19E6 | G21: =+Results!D164 -> 46423 | H21: =VLOOKUP($D21,Results!$B$2:$I$244,8,FALSE) -> E6 | I21: =VLOOKUP(H21,Results!$N$2:$O$11,2,FALSE) -> Starlite | J21: =SUM(K21:M21) -> 0 | K21: =IF(H21="X",0,IF(N21>O21,1,0)) -> 0 | L21: =IF(OR(C21>Results!$F$1,N21="N"),0,IF(H21="X",0,IF(N21=O21,1,0))) -> 0 | M21: =IF(H21="X",0,IF(N21<O21,1,0)) -> 0 | N21: =IF($C21>Results!$F$1," ",(VLOOKUP($D21,Results!$B$2:$H$244,7,FALSE))) | O21: =IF($C21>Results!$F$1," ",(VLOOKUP($E21,Results!$C$2:$K$244,9,FALSE))) | P21: =IF(J21=" "," ",SUM(K21*2)+L21*1) -> 0
B22: =+$H$1 -> E5 | C22: 20 | D22: =CONCATENATE(C22,B22) -> 20E5 | E22: =CONCATENATE(C22,H22) -> 20E4 | G22: =+Results!D173 -> 46429 | H22: =VLOOKUP($D22,Results!$B$2:$I$244,8,FALSE) -> E4 | I22: =VLOOKUP(H22,Results!$N$2:$O$11,2,FALSE) -> Bullets | J22: =SUM(K22:M22) -> 0 | K22: =IF(H22="X",0,IF(N22>O22,1,0)) -> 0 | L22: =IF(OR(C22>Results!$F$1,N22="N"),0,IF(H22="X",0,IF(N22=O22,1,0))) -> 0 | M22: =IF(H22="X",0,IF(N22<O22,1,0)) -> 0 | N22: =IF($C22>Results!$F$1," ",(VLOOKUP($D22,Results!$B$2:$H$244,7,FALSE))) | O22: =IF($C22>Results!$F$1," ",(VLOOKUP($E22,Results!$C$2:$K$244,9,FALSE))) | P22: =IF(J22=" "," ",SUM(K22*2)+L22*1) -> 0
B23: =+$H$1 -> E5 | C23: 21 | D23: =CONCATENATE(C23,B23) -> 21E5 | E23: =CONCATENATE(C23,H23) -> 21E8 | G23: =+Results!D182 -> 46437 | H23: =VLOOKUP($D23,Results!$B$2:$I$244,8,FALSE) -> E8 | I23: =VLOOKUP(H23,Results!$N$2:$O$11,2,FALSE) -> Green Wizards | J23: =SUM(K23:M23) -> 0 | K23: =IF(H23="X",0,IF(N23>O23,1,0)) -> 0 | L23: =IF(OR(C23>Results!$F$1,N23="N"),0,IF(H23="X",0,IF(N23=O23,1,0))) -> 0 | M23: =IF(H23="X",0,IF(N23<O23,1,0)) -> 0 | N23: =IF($C23>Results!$F$1," ",(VLOOKUP($D23,Results!$B$2:$H$244,7,FALSE))) | O23: =IF($C23>Results!$F$1," ",(VLOOKUP($E23,Results!$C$2:$K$244,9,FALSE))) | P23: =IF(J23=" "," ",SUM(K23*2)+L23*1) -> 0
B24: =+$H$1 -> E5 | C24: 22 | D24: =CONCATENATE(C24,B24) -> 22E5 | E24: =CONCATENATE(C24,H24) -> 22E3 | G24: =+Results!D191 -> 46443 | H24: =VLOOKUP($D24,Results!$B$2:$I$244,8,FALSE) -> E3 | I24: =VLOOKUP(H24,Results!$N$2:$O$11,2,FALSE) -> Riches Rollers | J24: =SUM(K24:M24) -> 0 | K24: =IF(H24="X",0,IF(N24>O24,1,0)) -> 0 | L24: =IF(OR(C24>Results!$F$1,N24="N"),0,IF(H24="X",0,IF(N24=O24,1,0))) -> 0 | M24: =IF(H24="X",0,IF(N24<O24,1,0)) -> 0 | N24: =IF($C24>Results!$F$1," ",(VLOOKUP($D24,Results!$B$2:$H$244,7,FALSE))) | O24: =IF($C24>Results!$F$1," ",(VLOOKUP($E24,Results!$C$2:$K$244,9,FALSE))) | P24: =IF(J24=" "," ",SUM(K24*2)+L24*1) -> 0
B25: =+$H$1 -> E5 | C25: 23 | D25: =CONCATENATE(C25,B25) -> 23E5 | E25: =CONCATENATE(C25,H25) -> 23X | G25: =+Results!D200 -> 46451 | H25: =VLOOKUP($D25,Results!$B$2:$I$244,8,FALSE) -> X | I25: =VLOOKUP(H25,Results!$N$2:$O$11,2,FALSE) -> No Match | J25: =SUM(K25:M25) -> 0 | K25: =IF(H25="X",0,IF(N25>O25,1,0)) -> 0 | L25: =IF(OR(C25>Results!$F$1,N25="N"),0,IF(H25="X",0,IF(N25=O25,1,0))) -> 0 | M25: =IF(H25="X",0,IF(N25<O25,1,0)) -> 0 | N25: =IF($C25>Results!$F$1," ",(VLOOKUP($D25,Results!$B$2:$H$244,7,FALSE))) | O25: =IF($C25>Results!$F$1," ",(VLOOKUP($E25,Results!$C$2:$K$244,9,FALSE))) | P25: =IF(J25=" "," ",SUM(K25*2)+L25*1) -> 0
B26: =+$H$1 -> E5 | C26: 24 | D26: =CONCATENATE(C26,B26) -> 24E5 | E26: =CONCATENATE(C26,H26) -> 24E9 | G26: =+Results!D209 -> 46457 | H26: =VLOOKUP($D26,Results!$B$2:$I$244,8,FALSE) -> E9 | I26: =VLOOKUP(H26,Results!$N$2:$O$11,2,FALSE) -> Biased Boys | J26: =SUM(K26:M26) -> 0 | K26: =IF(H26="X",0,IF(N26>O26,1,0)) -> 0 | L26: =IF(OR(C26>Results!$F$1,N26="N"),0,IF(H26="X",0,IF(N26=O26,1,0))) -> 0 | M26: =IF(H26="X",0,IF(N26<O26,1,0)) -> 0 | N26: =IF($C26>Results!$F$1," ",(VLOOKUP($D26,Results!$B$2:$H$244,7,FALSE))) | O26: =IF($C26>Results!$F$1," ",(VLOOKUP($E26,Results!$C$2:$K$244,9,FALSE))) | P26: =IF(J26=" "," ",SUM(K26*2)+L26*1) -> 0
B27: =+$H$1 -> E5 | C27: 25 | D27: =CONCATENATE(C27,B27) -> 25E5 | E27: =CONCATENATE(C27,H27) -> 25E2 | G27: =+Results!D218 -> 46465 | H27: =VLOOKUP($D27,Results!$B$2:$I$244,8,FALSE) -> E2 | I27: =VLOOKUP(H27,Results!$N$2:$O$11,2,FALSE) -> Team Krewna | J27: =SUM(K27:M27) -> 0 | K27: =IF(H27="X",0,IF(N27>O27,1,0)) -> 0 | L27: =IF(OR(C27>Results!$F$1,N27="N"),0,IF(H27="X",0,IF(N27=O27,1,0))) -> 0 | M27: =IF(H27="X",0,IF(N27<O27,1,0)) -> 0 | N27: =IF($C27>Results!$F$1," ",(VLOOKUP($D27,Results!$B$2:$H$244,7,FALSE))) | O27: =IF($C27>Results!$F$1," ",(VLOOKUP($E27,Results!$C$2:$K$244,9,FALSE))) | P27: =IF(J27=" "," ",SUM(K27*2)+L27*1) -> 0
B28: =+$H$1 -> E5 | C28: 26 | D28: =CONCATENATE(C28,B28) -> 26E5 | E28: =CONCATENATE(C28,H28) -> 26E1 | G28: =+Results!D227 -> 46471 | H28: =VLOOKUP($D28,Results!$B$2:$I$244,8,FALSE) -> E1 | I28: =VLOOKUP(H28,Results!$N$2:$O$11,2,FALSE) -> Misfits | J28: =SUM(K28:M28) -> 0 | K28: =IF(H28="X",0,IF(N28>O28,1,0)) -> 0 | L28: =IF(OR(C28>Results!$F$1,N28="N"),0,IF(H28="X",0,IF(N28=O28,1,0))) -> 0 | M28: =IF(H28="X",0,IF(N28<O28,1,0)) -> 0 | N28: =IF($C28>Results!$F$1," ",(VLOOKUP($D28,Results!$B$2:$H$244,7,FALSE))) | O28: =IF($C28>Results!$F$1," ",(VLOOKUP($E28,Results!$C$2:$K$244,9,FALSE))) | P28: =IF(J28=" "," ",SUM(K28*2)+L28*1) -> 0
B29: =+$H$1 -> E5 | C29: 27 | D29: =CONCATENATE(C29,B29) -> 27E5 | E29: =CONCATENATE(C29,H29) -> 27E7 | G29: =+Results!D236 -> 46479 | H29: =VLOOKUP($D29,Results!$B$2:$I$244,8,FALSE) -> E7 | I29: =VLOOKUP(H29,Results!$N$2:$O$11,2,FALSE) -> Golfers | J29: =SUM(K29:M29) -> 0 | K29: =IF(H29="X",0,IF(N29>O29,1,0)) -> 0 | L29: =IF(OR(C29>Results!$F$1,N29="N"),0,IF(H29="X",0,IF(N29=O29,1,0))) -> 0 | M29: =IF(H29="X",0,IF(N29<O29,1,0)) -> 0 | N29: =IF($C29>Results!$F$1," ",(VLOOKUP($D29,Results!$B$2:$H$244,7,FALSE))) | O29: =IF($C29>Results!$F$1," ",(VLOOKUP($E29,Results!$C$2:$K$244,9,FALSE))) | P29: =IF(J29=" "," ",SUM(K29*2)+L29*1) -> 0
I30: TOTALS | J30: =SUM(J3:J29) -> 4 | K30: =SUM(K3:K29) -> 1 | L30: =SUM(L3:L29) -> 1 | M30: =SUM(M3:M29) -> 2 | N30: =SUM(N3:N29) -> 53 | O30: =SUM(O3:O29) -> 61 | P30: =SUM(P3:P29) -> 3

Sheet E6 STARLITE
H1: E6 | I1: STARLITE
D2: F | E2: A | G2: Date | H2: Code | I2: Opponents | J2: Played | K2: Won | L2: Drawn | M2: Lost | N2: Shots For | O2: Shots Against | P2: Pts
B3: =+$H$1 -> E6 | C3: 1 | D3: =CONCATENATE(C3,B3) -> 1E6 | E3: =CONCATENATE(C3,H3) -> 1E5 | G3: =+Results!D2 -> 46283 | H3: =VLOOKUP($D3,Results!$B$2:$I$244,8,FALSE) -> E5 | I3: =VLOOKUP(H3,Results!$N$2:$O$11,2,FALSE) -> New Builds | J3: =SUM(K3:M3) -> 0 | K3: =IF(H3="X",0,IF(N3>O3,1,0)) -> 0 | L3: =IF(OR(C3>Results!$F$1,N3="N"),0,IF(H3="X",0,IF(N3=O3,1,0))) -> 0 | M3: =IF(H3="X",0,IF(N3<O3,1,0)) -> 0 | N3: =IF($C3>Results!$F$1," ",(VLOOKUP($D3,Results!$B$2:$H$244,7,FALSE))) -> N | O3: =IF($C3>Results!$F$1," ",(VLOOKUP($E3,Results!$C$2:$K$244,9,FALSE))) -> N | P3: =IF(J3=" "," ",SUM(K3*2)+L3*1) -> 0
B4: =+$H$1 -> E6 | C4: 2 | D4: =CONCATENATE(C4,B4) -> 2E6 | E4: =CONCATENATE(C4,H4) -> 2E7 | G4: =+Results!D11 -> 46289 | H4: =VLOOKUP($D4,Results!$B$2:$I$244,8,FALSE) -> E7 | I4: =VLOOKUP(H4,Results!$N$2:$O$11,2,FALSE) -> Golfers | J4: =SUM(K4:M4) -> 1 | K4: =IF(H4="X",0,IF(N4>O4,1,0)) -> 1 | L4: =IF(OR(C4>Results!$F$1,N4="N"),0,IF(H4="X",0,IF(N4=O4,1,0))) -> 0 | M4: =IF(H4="X",0,IF(N4<O4,1,0)) -> 0 | N4: =IF($C4>Results!$F$1," ",(VLOOKUP($D4,Results!$B$2:$H$244,7,FALSE))) -> 17 | O4: =IF($C4>Results!$F$1," ",(VLOOKUP($E4,Results!$C$2:$K$244,9,FALSE))) -> 13 | P4: =IF(J4=" "," ",SUM(K4*2)+L4*1) -> 2
B5: =+$H$1 -> E6 | C5: 3 | D5: =CONCATENATE(C5,B5) -> 3E6 | E5: =CONCATENATE(C5,H5) -> 3E9 | G5: =+Results!D20 -> 46297 | H5: =VLOOKUP($D5,Results!$B$2:$I$244,8,FALSE) -> E9 | I5: =VLOOKUP(H5,Results!$N$2:$O$11,2,FALSE) -> Biased Boys | J5: =SUM(K5:M5) -> 1 | K5: =IF(H5="X",0,IF(N5>O5,1,0)) -> 1 | L5: =IF(OR(C5>Results!$F$1,N5="N"),0,IF(H5="X",0,IF(N5=O5,1,0))) -> 0 | M5: =IF(H5="X",0,IF(N5<O5,1,0)) -> 0 | N5: =IF($C5>Results!$F$1," ",(VLOOKUP($D5,Results!$B$2:$H$244,7,FALSE))) -> 20 | O5: =IF($C5>Results!$F$1," ",(VLOOKUP($E5,Results!$C$2:$K$244,9,FALSE))) -> 7 | P5: =IF(J5=" "," ",SUM(K5*2)+L5*1) -> 2
B6: =+$H$1 -> E6 | C6: 4 | D6: =CONCATENATE(C6,B6) -> 4E6 | E6: =CONCATENATE(C6,H6) -> 4X | G6: =+Results!D29 -> 46303 | H6: =VLOOKUP($D6,Results!$B$2:$I$244,8,FALSE) -> X | I6: =VLOOKUP(H6,Results!$N$2:$O$11,2,FALSE) -> No Match | J6: =SUM(K6:M6) -> 0 | K6: =IF(H6="X",0,IF(N6>O6,1,0)) -> 0 | L6: =IF(OR(C6>Results!$F$1,N6="N"),0,IF(H6="X",0,IF(N6=O6,1,0))) -> 0 | M6: =IF(H6="X",0,IF(N6<O6,1,0)) -> 0 | N6: =IF($C6>Results!$F$1," ",(VLOOKUP($D6,Results!$B$2:$H$244,7,FALSE))) -> 0 | O6: =IF($C6>Results!$F$1," ",(VLOOKUP($E6,Results!$C$2:$K$244,9,FALSE))) -> 0 | P6: =IF(J6=" "," ",SUM(K6*2)+L6*1) -> 0
B7: =+$H$1 -> E6 | C7: 5 | D7: =CONCATENATE(C7,B7) -> 5E6 | E7: =CONCATENATE(C7,H7) -> 5E1 | G7: =+Results!D38 -> 46311 | H7: =VLOOKUP($D7,Results!$B$2:$I$244,8,FALSE) -> E1 | I7: =VLOOKUP(H7,Results!$N$2:$O$11,2,FALSE) -> Misfits | J7: =SUM(K7:M7) -> 1 | K7: =IF(H7="X",0,IF(N7>O7,1,0)) -> 1 | L7: =IF(OR(C7>Results!$F$1,N7="N"),0,IF(H7="X",0,IF(N7=O7,1,0))) -> 0 | M7: =IF(H7="X",0,IF(N7<O7,1,0)) -> 0 | N7: =IF($C7>Results!$F$1," ",(VLOOKUP($D7,Results!$B$2:$H$244,7,FALSE))) -> 26 | O7: =IF($C7>Results!$F$1," ",(VLOOKUP($E7,Results!$C$2:$K$244,9,FALSE))) -> 7 | P7: =IF(J7=" "," ",SUM(K7*2)+L7*1) -> 2
B8: =+$H$1 -> E6 | C8: 6 | D8: =CONCATENATE(C8,B8) -> 6E6 | E8: =CONCATENATE(C8,H8) -> 6E2 | G8: =+Results!D47 -> 46317 | H8: =VLOOKUP($D8,Results!$B$2:$I$244,8,FALSE) -> E2 | I8: =VLOOKUP(H8,Results!$N$2:$O$11,2,FALSE) -> Team Krewna | J8: =SUM(K8:M8) -> 0 | K8: =IF(H8="X",0,IF(N8>O8,1,0)) -> 0 | L8: =IF(OR(C8>Results!$F$1,N8="N"),0,IF(H8="X",0,IF(N8=O8,1,0))) -> 0 | M8: =IF(H8="X",0,IF(N8<O8,1,0)) -> 0 | N8: =IF($C8>Results!$F$1," ",(VLOOKUP($D8,Results!$B$2:$H$244,7,FALSE))) -> N | O8: =IF($C8>Results!$F$1," ",(VLOOKUP($E8,Results!$C$2:$K$244,9,FALSE))) -> N | P8: =IF(J8=" "," ",SUM(K8*2)+L8*1) -> 0
B9: =+$H$1 -> E6 | C9: 7 | D9: =CONCATENATE(C9,B9) -> 7E6 | E9: =CONCATENATE(C9,H9) -> 7E4 | G9: =+Results!D56 -> 46325 | H9: =VLOOKUP($D9,Results!$B$2:$I$244,8,FALSE) -> E4 | I9: =VLOOKUP(H9,Results!$N$2:$O$11,2,FALSE) -> Bullets | J9: =SUM(K9:M9) -> 0 | K9: =IF(H9="X",0,IF(N9>O9,1,0)) -> 0 | L9: =IF(OR(C9>Results!$F$1,N9="N"),0,IF(H9="X",0,IF(N9=O9,1,0))) -> 0 | M9: =IF(H9="X",0,IF(N9<O9,1,0)) -> 0 | N9: =IF($C9>Results!$F$1," ",(VLOOKUP($D9,Results!$B$2:$H$244,7,FALSE))) | O9: =IF($C9>Results!$F$1," ",(VLOOKUP($E9,Results!$C$2:$K$244,9,FALSE))) | P9: =IF(J9=" "," ",SUM(K9*2)+L9*1) -> 0
B10: =+$H$1 -> E6 | C10: 8 | D10: =CONCATENATE(C10,B10) -> 8E6 | E10: =CONCATENATE(C10,H10) -> 8E8 | G10: =+Results!D65 -> 46331 | H10: =VLOOKUP($D10,Results!$B$2:$I$244,8,FALSE) -> E8 | I10: =VLOOKUP(H10,Results!$N$2:$O$11,2,FALSE) -> Green Wizards | J10: =SUM(K10:M10) -> 0 | K10: =IF(H10="X",0,IF(N10>O10,1,0)) -> 0 | L10: =IF(OR(C10>Results!$F$1,N10="N"),0,IF(H10="X",0,IF(N10=O10,1,0))) -> 0 | M10: =IF(H10="X",0,IF(N10<O10,1,0)) -> 0 | N10: =IF($C10>Results!$F$1," ",(VLOOKUP($D10,Results!$B$2:$H$244,7,FALSE))) | O10: =IF($C10>Results!$F$1," ",(VLOOKUP($E10,Results!$C$2:$K$244,9,FALSE))) | P10: =IF(J10=" "," ",SUM(K10*2)+L10*1) -> 0
B11: =+$H$1 -> E6 | C11: 9 | D11: =CONCATENATE(C11,B11) -> 9E6 | E11: =CONCATENATE(C11,H11) -> 9E3 | G11: =+Results!D74 -> 46339 | H11: =VLOOKUP($D11,Results!$B$2:$I$244,8,FALSE) -> E3 | I11: =VLOOKUP(H11,Results!$N$2:$O$11,2,FALSE) -> Riches Rollers | J11: =SUM(K11:M11) -> 0 | K11: =IF(H11="X",0,IF(N11>O11,1,0)) -> 0 | L11: =IF(OR(C11>Results!$F$1,N11="N"),0,IF(H11="X",0,IF(N11=O11,1,0))) -> 0 | M11: =IF(H11="X",0,IF(N11<O11,1,0)) -> 0 | N11: =IF($C11>Results!$F$1," ",(VLOOKUP($D11,Results!$B$2:$H$244,7,FALSE))) | O11: =IF($C11>Results!$F$1," ",(VLOOKUP($E11,Results!$C$2:$K$244,9,FALSE))) | P11: =IF(J11=" "," ",SUM(K11*2)+L11*1) -> 0
B12: =+$H$1 -> E6 | C12: 10 | D12: =CONCATENATE(C12,B12) -> 10E6 | E12: =CONCATENATE(C12,H12) -> 10E5 | G12: =+Results!D83 -> 46345 | H12: =VLOOKUP($D12,Results!$B$2:$I$244,8,FALSE) -> E5 | I12: =VLOOKUP(H12,Results!$N$2:$O$11,2,FALSE) -> New Builds | J12: =SUM(K12:M12) -> 0 | K12: =IF(H12="X",0,IF(N12>O12,1,0)) -> 0 | L12: =IF(OR(C12>Results!$F$1,N12="N"),0,IF(H12="X",0,IF(N12=O12,1,0))) -> 0 | M12: =IF(H12="X",0,IF(N12<O12,1,0)) -> 0 | N12: =IF($C12>Results!$F$1," ",(VLOOKUP($D12,Results!$B$2:$H$244,7,FALSE))) | O12: =IF($C12>Results!$F$1," ",(VLOOKUP($E12,Results!$C$2:$K$244,9,FALSE))) | P12: =IF(J12=" "," ",SUM(K12*2)+L12*1) -> 0
B13: =+$H$1 -> E6 | C13: 11 | D13: =CONCATENATE(C13,B13) -> 11E6 | E13: =CONCATENATE(C13,H13) -> 11E7 | G13: =+Results!D92 -> 46353 | H13: =VLOOKUP($D13,Results!$B$2:$I$244,8,FALSE) -> E7 | I13: =VLOOKUP(H13,Results!$N$2:$O$11,2,FALSE) -> Golfers | J13: =SUM(K13:M13) -> 0 | K13: =IF(H13="X",0,IF(N13>O13,1,0)) -> 0 | L13: =IF(OR(C13>Results!$F$1,N13="N"),0,IF(H13="X",0,IF(N13=O13,1,0))) -> 0 | M13: =IF(H13="X",0,IF(N13<O13,1,0)) -> 0 | N13: =IF($C13>Results!$F$1," ",(VLOOKUP($D13,Results!$B$2:$H$244,7,FALSE))) | O13: =IF($C13>Results!$F$1," ",(VLOOKUP($E13,Results!$C$2:$K$244,9,FALSE))) | P13: =IF(J13=" "," ",SUM(K13*2)+L13*1) -> 0
B14: =+$H$1 -> E6 | C14: 12 | D14: =CONCATENATE(C14,B14) -> 12E6 | E14: =CONCATENATE(C14,H14) -> 12E9 | G14: =+Results!D101 -> 46359 | H14: =VLOOKUP($D14,Results!$B$2:$I$244,8,FALSE) -> E9 | I14: =VLOOKUP(H14,Results!$N$2:$O$11,2,FALSE) -> Biased Boys | J14: =SUM(K14:M14) -> 0 | K14: =IF(H14="X",0,IF(N14>O14,1,0)) -> 0 | L14: =IF(OR(C14>Results!$F$1,N14="N"),0,IF(H14="X",0,IF(N14=O14,1,0))) -> 0 | M14: =IF(H14="X",0,IF(N14<O14,1,0)) -> 0 | N14: =IF($C14>Results!$F$1," ",(VLOOKUP($D14,Results!$B$2:$H$244,7,FALSE))) | O14: =IF($C14>Results!$F$1," ",(VLOOKUP($E14,Results!$C$2:$K$244,9,FALSE))) | P14: =IF(J14=" "," ",SUM(K14*2)+L14*1) -> 0
B15: =+$H$1 -> E6 | C15: 13 | D15: =CONCATENATE(C15,B15) -> 13E6 | E15: =CONCATENATE(C15,H15) -> 13X | G15: =+Results!D110 -> 46367 | H15: =VLOOKUP($D15,Results!$B$2:$I$244,8,FALSE) -> X | I15: =VLOOKUP(H15,Results!$N$2:$O$11,2,FALSE) -> No Match | J15: =SUM(K15:M15) -> 0 | K15: =IF(H15="X",0,IF(N15>O15,1,0)) -> 0 | L15: =IF(OR(C15>Results!$F$1,N15="N"),0,IF(H15="X",0,IF(N15=O15,1,0))) -> 0 | M15: =IF(H15="X",0,IF(N15<O15,1,0)) -> 0 | N15: =IF($C15>Results!$F$1," ",(VLOOKUP($D15,Results!$B$2:$H$244,7,FALSE))) | O15: =IF($C15>Results!$F$1," ",(VLOOKUP($E15,Results!$C$2:$K$244,9,FALSE))) | P15: =IF(J15=" "," ",SUM(K15*2)+L15*1) -> 0
B16: =+$H$1 -> E6 | C16: 14 | D16: =CONCATENATE(C16,B16) -> 14E6 | E16: =CONCATENATE(C16,H16) -> 14E1 | G16: =+Results!D119 -> 46373 | H16: =VLOOKUP($D16,Results!$B$2:$I$244,8,FALSE) -> E1 | I16: =VLOOKUP(H16,Results!$N$2:$O$11,2,FALSE) -> Misfits | J16: =SUM(K16:M16) -> 0 | K16: =IF(H16="X",0,IF(N16>O16,1,0)) -> 0 | L16: =IF(OR(C16>Results!$F$1,N16="N"),0,IF(H16="X",0,IF(N16=O16,1,0))) -> 0 | M16: =IF(H16="X",0,IF(N16<O16,1,0)) -> 0 | N16: =IF($C16>Results!$F$1," ",(VLOOKUP($D16,Results!$B$2:$H$244,7,FALSE))) | O16: =IF($C16>Results!$F$1," ",(VLOOKUP($E16,Results!$C$2:$K$244,9,FALSE))) | P16: =IF(J16=" "," ",SUM(K16*2)+L16*1) -> 0
B17: =+$H$1 -> E6 | C17: 15 | D17: =CONCATENATE(C17,B17) -> 15E6 | E17: =CONCATENATE(C17,H17) -> 15E2 | G17: =+Results!D128 -> 46395 | H17: =VLOOKUP($D17,Results!$B$2:$I$244,8,FALSE) -> E2 | I17: =VLOOKUP(H17,Results!$N$2:$O$11,2,FALSE) -> Team Krewna | J17: =SUM(K17:M17) -> 0 | K17: =IF(H17="X",0,IF(N17>O17,1,0)) -> 0 | L17: =IF(OR(C17>Results!$F$1,N17="N"),0,IF(H17="X",0,IF(N17=O17,1,0))) -> 0 | M17: =IF(H17="X",0,IF(N17<O17,1,0)) -> 0 | N17: =IF($C17>Results!$F$1," ",(VLOOKUP($D17,Results!$B$2:$H$244,7,FALSE))) | O17: =IF($C17>Results!$F$1," ",(VLOOKUP($E17,Results!$C$2:$K$244,9,FALSE))) | P17: =IF(J17=" "," ",SUM(K17*2)+L17*1) -> 0
B18: =+$H$1 -> E6 | C18: 16 | D18: =CONCATENATE(C18,B18) -> 16E6 | E18: =CONCATENATE(C18,H18) -> 16E4 | G18: =+Results!D137 -> 46401 | H18: =VLOOKUP($D18,Results!$B$2:$I$244,8,FALSE) -> E4 | I18: =VLOOKUP(H18,Results!$N$2:$O$11,2,FALSE) -> Bullets | J18: =SUM(K18:M18) -> 0 | K18: =IF(H18="X",0,IF(N18>O18,1,0)) -> 0 | L18: =IF(OR(C18>Results!$F$1,N18="N"),0,IF(H18="X",0,IF(N18=O18,1,0))) -> 0 | M18: =IF(H18="X",0,IF(N18<O18,1,0)) -> 0 | N18: =IF($C18>Results!$F$1," ",(VLOOKUP($D18,Results!$B$2:$H$244,7,FALSE))) | O18: =IF($C18>Results!$F$1," ",(VLOOKUP($E18,Results!$C$2:$K$244,9,FALSE))) | P18: =IF(J18=" "," ",SUM(K18*2)+L18*1) -> 0
B19: =+$H$1 -> E6 | C19: 17 | D19: =CONCATENATE(C19,B19) -> 17E6 | E19: =CONCATENATE(C19,H19) -> 17E8 | G19: =+Results!D146 -> 46409 | H19: =VLOOKUP($D19,Results!$B$2:$I$244,8,FALSE) -> E8 | I19: =VLOOKUP(H19,Results!$N$2:$O$11,2,FALSE) -> Green Wizards | J19: =SUM(K19:M19) -> 0 | K19: =IF(H19="X",0,IF(N19>O19,1,0)) -> 0 | L19: =IF(OR(C19>Results!$F$1,N19="N"),0,IF(H19="X",0,IF(N19=O19,1,0))) -> 0 | M19: =IF(H19="X",0,IF(N19<O19,1,0)) -> 0 | N19: =IF($C19>Results!$F$1," ",(VLOOKUP($D19,Results!$B$2:$H$244,7,FALSE))) | O19: =IF($C19>Results!$F$1," ",(VLOOKUP($E19,Results!$C$2:$K$244,9,FALSE))) | P19: =IF(J19=" "," ",SUM(K19*2)+L19*1) -> 0
B20: =+$H$1 -> E6 | C20: 18 | D20: =CONCATENATE(C20,B20) -> 18E6 | E20: =CONCATENATE(C20,H20) -> 18E3 | G20: =+Results!D155 -> 46415 | H20: =VLOOKUP($D20,Results!$B$2:$I$244,8,FALSE) -> E3 | I20: =VLOOKUP(H20,Results!$N$2:$O$11,2,FALSE) -> Riches Rollers | J20: =SUM(K20:M20) -> 0 | K20: =IF(H20="X",0,IF(N20>O20,1,0)) -> 0 | L20: =IF(OR(C20>Results!$F$1,N20="N"),0,IF(H20="X",0,IF(N20=O20,1,0))) -> 0 | M20: =IF(H20="X",0,IF(N20<O20,1,0)) -> 0 | N20: =IF($C20>Results!$F$1," ",(VLOOKUP($D20,Results!$B$2:$H$244,7,FALSE))) | O20: =IF($C20>Results!$F$1," ",(VLOOKUP($E20,Results!$C$2:$K$244,9,FALSE))) | P20: =IF(J20=" "," ",SUM(K20*2)+L20*1) -> 0
B21: =+$H$1 -> E6 | C21: 19 | D21: =CONCATENATE(C21,B21) -> 19E6 | E21: =CONCATENATE(C21,H21) -> 19E5 | G21: =+Results!D164 -> 46423 | H21: =VLOOKUP($D21,Results!$B$2:$I$244,8,FALSE) -> E5 | I21: =VLOOKUP(H21,Results!$N$2:$O$11,2,FALSE) -> New Builds | J21: =SUM(K21:M21) -> 0 | K21: =IF(H21="X",0,IF(N21>O21,1,0)) -> 0 | L21: =IF(OR(C21>Results!$F$1,N21="N"),0,IF(H21="X",0,IF(N21=O21,1,0))) -> 0 | M21: =IF(H21="X",0,IF(N21<O21,1,0)) -> 0 | N21: =IF($C21>Results!$F$1," ",(VLOOKUP($D21,Results!$B$2:$H$244,7,FALSE))) | O21: =IF($C21>Results!$F$1," ",(VLOOKUP($E21,Results!$C$2:$K$244,9,FALSE))) | P21: =IF(J21=" "," ",SUM(K21*2)+L21*1) -> 0
B22: =+$H$1 -> E6 | C22: 20 | D22: =CONCATENATE(C22,B22) -> 20E6 | E22: =CONCATENATE(C22,H22) -> 20E7 | G22: =+Results!D173 -> 46429 | H22: =VLOOKUP($D22,Results!$B$2:$I$244,8,FALSE) -> E7 | I22: =VLOOKUP(H22,Results!$N$2:$O$11,2,FALSE) -> Golfers | J22: =SUM(K22:M22) -> 0 | K22: =IF(H22="X",0,IF(N22>O22,1,0)) -> 0 | L22: =IF(OR(C22>Results!$F$1,N22="N"),0,IF(H22="X",0,IF(N22=O22,1,0))) -> 0 | M22: =IF(H22="X",0,IF(N22<O22,1,0)) -> 0 | N22: =IF($C22>Results!$F$1," ",(VLOOKUP($D22,Results!$B$2:$H$244,7,FALSE))) | O22: =IF($C22>Results!$F$1," ",(VLOOKUP($E22,Results!$C$2:$K$244,9,FALSE))) | P22: =IF(J22=" "," ",SUM(K22*2)+L22*1) -> 0
B23: =+$H$1 -> E6 | C23: 21 | D23: =CONCATENATE(C23,B23) -> 21E6 | E23: =CONCATENATE(C23,H23) -> 21E9 | G23: =+Results!D182 -> 46437 | H23: =VLOOKUP($D23,Results!$B$2:$I$244,8,FALSE) -> E9 | I23: =VLOOKUP(H23,Results!$N$2:$O$11,2,FALSE) -> Biased Boys | J23: =SUM(K23:M23) -> 0 | K23: =IF(H23="X",0,IF(N23>O23,1,0)) -> 0 | L23: =IF(OR(C23>Results!$F$1,N23="N"),0,IF(H23="X",0,IF(N23=O23,1,0))) -> 0 | M23: =IF(H23="X",0,IF(N23<O23,1,0)) -> 0 | N23: =IF($C23>Results!$F$1," ",(VLOOKUP($D23,Results!$B$2:$H$244,7,FALSE))) | O23: =IF($C23>Results!$F$1," ",(VLOOKUP($E23,Results!$C$2:$K$244,9,FALSE))) | P23: =IF(J23=" "," ",SUM(K23*2)+L23*1) -> 0
B24: =+$H$1 -> E6 | C24: 22 | D24: =CONCATENATE(C24,B24) -> 22E6 | E24: =CONCATENATE(C24,H24) -> 22X | G24: =+Results!D191 -> 46443 | H24: =VLOOKUP($D24,Results!$B$2:$I$244,8,FALSE) -> X | I24: =VLOOKUP(H24,Results!$N$2:$O$11,2,FALSE) -> No Match | J24: =SUM(K24:M24) -> 0 | K24: =IF(H24="X",0,IF(N24>O24,1,0)) -> 0 | L24: =IF(OR(C24>Results!$F$1,N24="N"),0,IF(H24="X",0,IF(N24=O24,1,0))) -> 0 | M24: =IF(H24="X",0,IF(N24<O24,1,0)) -> 0 | N24: =IF($C24>Results!$F$1," ",(VLOOKUP($D24,Results!$B$2:$H$244,7,FALSE))) | O24: =IF($C24>Results!$F$1," ",(VLOOKUP($E24,Results!$C$2:$K$244,9,FALSE))) | P24: =IF(J24=" "," ",SUM(K24*2)+L24*1) -> 0
B25: =+$H$1 -> E6 | C25: 23 | D25: =CONCATENATE(C25,B25) -> 23E6 | E25: =CONCATENATE(C25,H25) -> 23E1 | G25: =+Results!D200 -> 46451 | H25: =VLOOKUP($D25,Results!$B$2:$I$244,8,FALSE) -> E1 | I25: =VLOOKUP(H25,Results!$N$2:$O$11,2,FALSE) -> Misfits | J25: =SUM(K25:M25) -> 0 | K25: =IF(H25="X",0,IF(N25>O25,1,0)) -> 0 | L25: =IF(OR(C25>Results!$F$1,N25="N"),0,IF(H25="X",0,IF(N25=O25,1,0))) -> 0 | M25: =IF(H25="X",0,IF(N25<O25,1,0)) -> 0 | N25: =IF($C25>Results!$F$1," ",(VLOOKUP($D25,Results!$B$2:$H$244,7,FALSE))) | O25: =IF($C25>Results!$F$1," ",(VLOOKUP($E25,Results!$C$2:$K$244,9,FALSE))) | P25: =IF(J25=" "," ",SUM(K25*2)+L25*1) -> 0
B26: =+$H$1 -> E6 | C26: 24 | D26: =CONCATENATE(C26,B26) -> 24E6 | E26: =CONCATENATE(C26,H26) -> 24E2 | G26: =+Results!D209 -> 46457 | H26: =VLOOKUP($D26,Results!$B$2:$I$244,8,FALSE) -> E2 | I26: =VLOOKUP(H26,Results!$N$2:$O$11,2,FALSE) -> Team Krewna | J26: =SUM(K26:M26) -> 0 | K26: =IF(H26="X",0,IF(N26>O26,1,0)) -> 0 | L26: =IF(OR(C26>Results!$F$1,N26="N"),0,IF(H26="X",0,IF(N26=O26,1,0))) -> 0 | M26: =IF(H26="X",0,IF(N26<O26,1,0)) -> 0 | N26: =IF($C26>Results!$F$1," ",(VLOOKUP($D26,Results!$B$2:$H$244,7,FALSE))) | O26: =IF($C26>Results!$F$1," ",(VLOOKUP($E26,Results!$C$2:$K$244,9,FALSE))) | P26: =IF(J26=" "," ",SUM(K26*2)+L26*1) -> 0
B27: =+$H$1 -> E6 | C27: 25 | D27: =CONCATENATE(C27,B27) -> 25E6 | E27: =CONCATENATE(C27,H27) -> 25E4 | G27: =+Results!D218 -> 46465 | H27: =VLOOKUP($D27,Results!$B$2:$I$244,8,FALSE) -> E4 | I27: =VLOOKUP(H27,Results!$N$2:$O$11,2,FALSE) -> Bullets | J27: =SUM(K27:M27) -> 0 | K27: =IF(H27="X",0,IF(N27>O27,1,0)) -> 0 | L27: =IF(OR(C27>Results!$F$1,N27="N"),0,IF(H27="X",0,IF(N27=O27,1,0))) -> 0 | M27: =IF(H27="X",0,IF(N27<O27,1,0)) -> 0 | N27: =IF($C27>Results!$F$1," ",(VLOOKUP($D27,Results!$B$2:$H$244,7,FALSE))) | O27: =IF($C27>Results!$F$1," ",(VLOOKUP($E27,Results!$C$2:$K$244,9,FALSE))) | P27: =IF(J27=" "," ",SUM(K27*2)+L27*1) -> 0
B28: =+$H$1 -> E6 | C28: 26 | D28: =CONCATENATE(C28,B28) -> 26E6 | E28: =CONCATENATE(C28,H28) -> 26E8 | G28: =+Results!D227 -> 46471 | H28: =VLOOKUP($D28,Results!$B$2:$I$244,8,FALSE) -> E8 | I28: =VLOOKUP(H28,Results!$N$2:$O$11,2,FALSE) -> Green Wizards | J28: =SUM(K28:M28) -> 0 | K28: =IF(H28="X",0,IF(N28>O28,1,0)) -> 0 | L28: =IF(OR(C28>Results!$F$1,N28="N"),0,IF(H28="X",0,IF(N28=O28,1,0))) -> 0 | M28: =IF(H28="X",0,IF(N28<O28,1,0)) -> 0 | N28: =IF($C28>Results!$F$1," ",(VLOOKUP($D28,Results!$B$2:$H$244,7,FALSE))) | O28: =IF($C28>Results!$F$1," ",(VLOOKUP($E28,Results!$C$2:$K$244,9,FALSE))) | P28: =IF(J28=" "," ",SUM(K28*2)+L28*1) -> 0
B29: =+$H$1 -> E6 | C29: 27 | D29: =CONCATENATE(C29,B29) -> 27E6 | E29: =CONCATENATE(C29,H29) -> 27E3 | G29: =+Results!D236 -> 46479 | H29: =VLOOKUP($D29,Results!$B$2:$I$244,8,FALSE) -> E3 | I29: =VLOOKUP(H29,Results!$N$2:$O$11,2,FALSE) -> Riches Rollers | J29: =SUM(K29:M29) -> 0 | K29: =IF(H29="X",0,IF(N29>O29,1,0)) -> 0 | L29: =IF(OR(C29>Results!$F$1,N29="N"),0,IF(H29="X",0,IF(N29=O29,1,0))) -> 0 | M29: =IF(H29="X",0,IF(N29<O29,1,0)) -> 0 | N29: =IF($C29>Results!$F$1," ",(VLOOKUP($D29,Results!$B$2:$H$244,7,FALSE))) | O29: =IF($C29>Results!$F$1," ",(VLOOKUP($E29,Results!$C$2:$K$244,9,FALSE))) | P29: =IF(J29=" "," ",SUM(K29*2)+L29*1) -> 0
I30: TOTALS | J30: =SUM(J3:J29) -> 3 | K30: =SUM(K3:K29) -> 3 | L30: =SUM(L3:L29) -> 0 | M30: =SUM(M3:M29) -> 0 | N30: =SUM(N3:N29) -> 63 | O30: =SUM(O3:O29) -> 27 | P30: =SUM(P3:P29) -> 6

Sheet E7 GOLFERS
H1: E7 | I1: GOLFERS
D2: F | E2: A | G2: Date | H2: Code | I2: Opponents | J2: Played | K2: Won | L2: Drawn | M2: Lost | N2: Shots For | O2: Shots Against | P2: Pts
B3: =+$H$1 -> E7 | C3: 1 | D3: =CONCATENATE(C3,B3) -> 1E7 | E3: =CONCATENATE(C3,H3) -> 1E8 | G3: =+Results!D2 -> 46283 | H3: =VLOOKUP($D3,Results!$B$2:$I$244,8,FALSE) -> E8 | I3: =VLOOKUP(H3,Results!$N$2:$O$11,2,FALSE) -> Green Wizards | J3: =SUM(K3:M3) -> 1 | K3: =IF(H3="X",0,IF(N3>O3,1,0)) -> 1 | L3: =IF(OR(C3>Results!$F$1,N3="N"),0,IF(H3="X",0,IF(N3=O3,1,0))) -> 0 | M3: =IF(H3="X",0,IF(N3<O3,1,0)) -> 0 | N3: =IF($C3>Results!$F$1," ",(VLOOKUP($D3,Results!$B$2:$H$244,7,FALSE))) -> 23 | O3: =IF($C3>Results!$F$1," ",(VLOOKUP($E3,Results!$C$2:$K$244,9,FALSE))) -> 7 | P3: =IF(J3=" "," ",SUM(K3*2)+L3*1) -> 2
B4: =+$H$1 -> E7 | C4: 2 | D4: =CONCATENATE(C4,B4) -> 2E7 | E4: =CONCATENATE(C4,H4) -> 2E6 | G4: =+Results!D11 -> 46289 | H4: =VLOOKUP($D4,Results!$B$2:$I$244,8,FALSE) -> E6 | I4: =VLOOKUP(H4,Results!$N$2:$O$11,2,FALSE) -> Starlite | J4: =SUM(K4:M4) -> 1 | K4: =IF(H4="X",0,IF(N4>O4,1,0)) -> 0 | L4: =IF(OR(C4>Results!$F$1,N4="N"),0,IF(H4="X",0,IF(N4=O4,1,0))) -> 0 | M4: =IF(H4="X",0,IF(N4<O4,1,0)) -> 1 | N4: =IF($C4>Results!$F$1," ",(VLOOKUP($D4,Results!$B$2:$H$244,7,FALSE))) -> 13 | O4: =IF($C4>Results!$F$1," ",(VLOOKUP($E4,Results!$C$2:$K$244,9,FALSE))) -> 17 | P4: =IF(J4=" "," ",SUM(K4*2)+L4*1) -> 0
B5: =+$H$1 -> E7 | C5: 3 | D5: =CONCATENATE(C5,B5) -> 3E7 | E5: =CONCATENATE(C5,H5) -> 3X | G5: =+Results!D20 -> 46297 | H5: =VLOOKUP($D5,Results!$B$2:$I$244,8,FALSE) -> X | I5: =VLOOKUP(H5,Results!$N$2:$O$11,2,FALSE) -> No Match | J5: =SUM(K5:M5) -> 0 | K5: =IF(H5="X",0,IF(N5>O5,1,0)) -> 0 | L5: =IF(OR(C5>Results!$F$1,N5="N"),0,IF(H5="X",0,IF(N5=O5,1,0))) -> 0 | M5: =IF(H5="X",0,IF(N5<O5,1,0)) -> 0 | N5: =IF($C5>Results!$F$1," ",(VLOOKUP($D5,Results!$B$2:$H$244,7,FALSE))) -> 0 | O5: =IF($C5>Results!$F$1," ",(VLOOKUP($E5,Results!$C$2:$K$244,9,FALSE))) -> 0 | P5: =IF(J5=" "," ",SUM(K5*2)+L5*1) -> 0
B6: =+$H$1 -> E7 | C6: 4 | D6: =CONCATENATE(C6,B6) -> 4E7 | E6: =CONCATENATE(C6,H6) -> 4E2 | G6: =+Results!D29 -> 46303 | H6: =VLOOKUP($D6,Results!$B$2:$I$244,8,FALSE) -> E2 | I6: =VLOOKUP(H6,Results!$N$2:$O$11,2,FALSE) -> Team Krewna | J6: =SUM(K6:M6) -> 1 | K6: =IF(H6="X",0,IF(N6>O6,1,0)) -> 0 | L6: =IF(OR(C6>Results!$F$1,N6="N"),0,IF(H6="X",0,IF(N6=O6,1,0))) -> 0 | M6: =IF(H6="X",0,IF(N6<O6,1,0)) -> 1 | N6: =IF($C6>Results!$F$1," ",(VLOOKUP($D6,Results!$B$2:$H$244,7,FALSE))) -> 13 | O6: =IF($C6>Results!$F$1," ",(VLOOKUP($E6,Results!$C$2:$K$244,9,FALSE))) -> 17 | P6: =IF(J6=" "," ",SUM(K6*2)+L6*1) -> 0
B7: =+$H$1 -> E7 | C7: 5 | D7: =CONCATENATE(C7,B7) -> 5E7 | E7: =CONCATENATE(C7,H7) -> 5E4 | G7: =+Results!D38 -> 46311 | H7: =VLOOKUP($D7,Results!$B$2:$I$244,8,FALSE) -> E4 | I7: =VLOOKUP(H7,Results!$N$2:$O$11,2,FALSE) -> Bullets | J7: =SUM(K7:M7) -> 1 | K7: =IF(H7="X",0,IF(N7>O7,1,0)) -> 0 | L7: =IF(OR(C7>Results!$F$1,N7="N"),0,IF(H7="X",0,IF(N7=O7,1,0))) -> 0 | M7: =IF(H7="X",0,IF(N7<O7,1,0)) -> 1 | N7: =IF($C7>Results!$F$1," ",(VLOOKUP($D7,Results!$B$2:$H$244,7,FALSE))) -> 4 | O7: =IF($C7>Results!$F$1," ",(VLOOKUP($E7,Results!$C$2:$K$244,9,FALSE))) -> 28 | P7: =IF(J7=" "," ",SUM(K7*2)+L7*1) -> 0
B8: =+$H$1 -> E7 | C8: 6 | D8: =CONCATENATE(C8,B8) -> 6E7 | E8: =CONCATENATE(C8,H8) -> 6E1 | G8: =+Results!D47 -> 46317 | H8: =VLOOKUP($D8,Results!$B$2:$I$244,8,FALSE) -> E1 | I8: =VLOOKUP(H8,Results!$N$2:$O$11,2,FALSE) -> Misfits | J8: =SUM(K8:M8) -> 1 | K8: =IF(H8="X",0,IF(N8>O8,1,0)) -> 1 | L8: =IF(OR(C8>Results!$F$1,N8="N"),0,IF(H8="X",0,IF(N8=O8,1,0))) -> 0 | M8: =IF(H8="X",0,IF(N8<O8,1,0)) -> 0 | N8: =IF($C8>Results!$F$1," ",(VLOOKUP($D8,Results!$B$2:$H$244,7,FALSE))) -> 15 | O8: =IF($C8>Results!$F$1," ",(VLOOKUP($E8,Results!$C$2:$K$244,9,FALSE))) -> 11 | P8: =IF(J8=" "," ",SUM(K8*2)+L8*1) -> 2
B9: =+$H$1 -> E7 | C9: 7 | D9: =CONCATENATE(C9,B9) -> 7E7 | E9: =CONCATENATE(C9,H9) -> 7E9 | G9: =+Results!D56 -> 46325 | H9: =VLOOKUP($D9,Results!$B$2:$I$244,8,FALSE) -> E9 | I9: =VLOOKUP(H9,Results!$N$2:$O$11,2,FALSE) -> Biased Boys | J9: =SUM(K9:M9) -> 0 | K9: =IF(H9="X",0,IF(N9>O9,1,0)) -> 0 | L9: =IF(OR(C9>Results!$F$1,N9="N"),0,IF(H9="X",0,IF(N9=O9,1,0))) -> 0 | M9: =IF(H9="X",0,IF(N9<O9,1,0)) -> 0 | N9: =IF($C9>Results!$F$1," ",(VLOOKUP($D9,Results!$B$2:$H$244,7,FALSE))) | O9: =IF($C9>Results!$F$1," ",(VLOOKUP($E9,Results!$C$2:$K$244,9,FALSE))) | P9: =IF(J9=" "," ",SUM(K9*2)+L9*1) -> 0
B10: =+$H$1 -> E7 | C10: 8 | D10: =CONCATENATE(C10,B10) -> 8E7 | E10: =CONCATENATE(C10,H10) -> 8E3 | G10: =+Results!D65 -> 46331 | H10: =VLOOKUP($D10,Results!$B$2:$I$244,8,FALSE) -> E3 | I10: =VLOOKUP(H10,Results!$N$2:$O$11,2,FALSE) -> Riches Rollers | J10: =SUM(K10:M10) -> 0 | K10: =IF(H10="X",0,IF(N10>O10,1,0)) -> 0 | L10: =IF(OR(C10>Results!$F$1,N10="N"),0,IF(H10="X",0,IF(N10=O10,1,0))) -> 0 | M10: =IF(H10="X",0,IF(N10<O10,1,0)) -> 0 | N10: =IF($C10>Results!$F$1," ",(VLOOKUP($D10,Results!$B$2:$H$244,7,FALSE))) | O10: =IF($C10>Results!$F$1," ",(VLOOKUP($E10,Results!$C$2:$K$244,9,FALSE))) | P10: =IF(J10=" "," ",SUM(K10*2)+L10*1) -> 0
B11: =+$H$1 -> E7 | C11: 9 | D11: =CONCATENATE(C11,B11) -> 9E7 | E11: =CONCATENATE(C11,H11) -> 9E5 | G11: =+Results!D74 -> 46339 | H11: =VLOOKUP($D11,Results!$B$2:$I$244,8,FALSE) -> E5 | I11: =VLOOKUP(H11,Results!$N$2:$O$11,2,FALSE) -> New Builds | J11: =SUM(K11:M11) -> 0 | K11: =IF(H11="X",0,IF(N11>O11,1,0)) -> 0 | L11: =IF(OR(C11>Results!$F$1,N11="N"),0,IF(H11="X",0,IF(N11=O11,1,0))) -> 0 | M11: =IF(H11="X",0,IF(N11<O11,1,0)) -> 0 | N11: =IF($C11>Results!$F$1," ",(VLOOKUP($D11,Results!$B$2:$H$244,7,FALSE))) | O11: =IF($C11>Results!$F$1," ",(VLOOKUP($E11,Results!$C$2:$K$244,9,FALSE))) | P11: =IF(J11=" "," ",SUM(K11*2)+L11*1) -> 0
B12: =+$H$1 -> E7 | C12: 10 | D12: =CONCATENATE(C12,B12) -> 10E7 | E12: =CONCATENATE(C12,H12) -> 10E8 | G12: =+Results!D83 -> 46345 | H12: =VLOOKUP($D12,Results!$B$2:$I$244,8,FALSE) -> E8 | I12: =VLOOKUP(H12,Results!$N$2:$O$11,2,FALSE) -> Green Wizards | J12: =SUM(K12:M12) -> 0 | K12: =IF(H12="X",0,IF(N12>O12,1,0)) -> 0 | L12: =IF(OR(C12>Results!$F$1,N12="N"),0,IF(H12="X",0,IF(N12=O12,1,0))) -> 0 | M12: =IF(H12="X",0,IF(N12<O12,1,0)) -> 0 | N12: =IF($C12>Results!$F$1," ",(VLOOKUP($D12,Results!$B$2:$H$244,7,FALSE))) | O12: =IF($C12>Results!$F$1," ",(VLOOKUP($E12,Results!$C$2:$K$244,9,FALSE))) | P12: =IF(J12=" "," ",SUM(K12*2)+L12*1) -> 0
B13: =+$H$1 -> E7 | C13: 11 | D13: =CONCATENATE(C13,B13) -> 11E7 | E13: =CONCATENATE(C13,H13) -> 11E6 | G13: =+Results!D92 -> 46353 | H13: =VLOOKUP($D13,Results!$B$2:$I$244,8,FALSE) -> E6 | I13: =VLOOKUP(H13,Results!$N$2:$O$11,2,FALSE) -> Starlite | J13: =SUM(K13:M13) -> 0 | K13: =IF(H13="X",0,IF(N13>O13,1,0)) -> 0 | L13: =IF(OR(C13>Results!$F$1,N13="N"),0,IF(H13="X",0,IF(N13=O13,1,0))) -> 0 | M13: =IF(H13="X",0,IF(N13<O13,1,0)) -> 0 | N13: =IF($C13>Results!$F$1," ",(VLOOKUP($D13,Results!$B$2:$H$244,7,FALSE))) | O13: =IF($C13>Results!$F$1," ",(VLOOKUP($E13,Results!$C$2:$K$244,9,FALSE))) | P13: =IF(J13=" "," ",SUM(K13*2)+L13*1) -> 0
B14: =+$H$1 -> E7 | C14: 12 | D14: =CONCATENATE(C14,B14) -> 12E7 | E14: =CONCATENATE(C14,H14) -> 12X | G14: =+Results!D101 -> 46359 | H14: =VLOOKUP($D14,Results!$B$2:$I$244,8,FALSE) -> X | I14: =VLOOKUP(H14,Results!$N$2:$O$11,2,FALSE) -> No Match | J14: =SUM(K14:M14) -> 0 | K14: =IF(H14="X",0,IF(N14>O14,1,0)) -> 0 | L14: =IF(OR(C14>Results!$F$1,N14="N"),0,IF(H14="X",0,IF(N14=O14,1,0))) -> 0 | M14: =IF(H14="X",0,IF(N14<O14,1,0)) -> 0 | N14: =IF($C14>Results!$F$1," ",(VLOOKUP($D14,Results!$B$2:$H$244,7,FALSE))) | O14: =IF($C14>Results!$F$1," ",(VLOOKUP($E14,Results!$C$2:$K$244,9,FALSE))) | P14: =IF(J14=" "," ",SUM(K14*2)+L14*1) -> 0
B15: =+$H$1 -> E7 | C15: 13 | D15: =CONCATENATE(C15,B15) -> 13E7 | E15: =CONCATENATE(C15,H15) -> 13E2 | G15: =+Results!D110 -> 46367 | H15: =VLOOKUP($D15,Results!$B$2:$I$244,8,FALSE) -> E2 | I15: =VLOOKUP(H15,Results!$N$2:$O$11,2,FALSE) -> Team Krewna | J15: =SUM(K15:M15) -> 0 | K15: =IF(H15="X",0,IF(N15>O15,1,0)) -> 0 | L15: =IF(OR(C15>Results!$F$1,N15="N"),0,IF(H15="X",0,IF(N15=O15,1,0))) -> 0 | M15: =IF(H15="X",0,IF(N15<O15,1,0)) -> 0 | N15: =IF($C15>Results!$F$1," ",(VLOOKUP($D15,Results!$B$2:$H$244,7,FALSE))) | O15: =IF($C15>Results!$F$1," ",(VLOOKUP($E15,Results!$C$2:$K$244,9,FALSE))) | P15: =IF(J15=" "," ",SUM(K15*2)+L15*1) -> 0
B16: =+$H$1 -> E7 | C16: 14 | D16: =CONCATENATE(C16,B16) -> 14E7 | E16: =CONCATENATE(C16,H16) -> 14E4 | G16: =+Results!D119 -> 46373 | H16: =VLOOKUP($D16,Results!$B$2:$I$244,8,FALSE) -> E4 | I16: =VLOOKUP(H16,Results!$N$2:$O$11,2,FALSE) -> Bullets | J16: =SUM(K16:M16) -> 0 | K16: =IF(H16="X",0,IF(N16>O16,1,0)) -> 0 | L16: =IF(OR(C16>Results!$F$1,N16="N"),0,IF(H16="X",0,IF(N16=O16,1,0))) -> 0 | M16: =IF(H16="X",0,IF(N16<O16,1,0)) -> 0 | N16: =IF($C16>Results!$F$1," ",(VLOOKUP($D16,Results!$B$2:$H$244,7,FALSE))) | O16: =IF($C16>Results!$F$1," ",(VLOOKUP($E16,Results!$C$2:$K$244,9,FALSE))) | P16: =IF(J16=" "," ",SUM(K16*2)+L16*1) -> 0
B17: =+$H$1 -> E7 | C17: 15 | D17: =CONCATENATE(C17,B17) -> 15E7 | E17: =CONCATENATE(C17,H17) -> 15E1 | G17: =+Results!D128 -> 46395 | H17: =VLOOKUP($D17,Results!$B$2:$I$244,8,FALSE) -> E1 | I17: =VLOOKUP(H17,Results!$N$2:$O$11,2,FALSE) -> Misfits | J17: =SUM(K17:M17) -> 0 | K17: =IF(H17="X",0,IF(N17>O17,1,0)) -> 0 | L17: =IF(OR(C17>Results!$F$1,N17="N"),0,IF(H17="X",0,IF(N17=O17,1,0))) -> 0 | M17: =IF(H17="X",0,IF(N17<O17,1,0)) -> 0 | N17: =IF($C17>Results!$F$1," ",(VLOOKUP($D17,Results!$B$2:$H$244,7,FALSE))) | O17: =IF($C17>Results!$F$1," ",(VLOOKUP($E17,Results!$C$2:$K$244,9,FALSE))) | P17: =IF(J17=" "," ",SUM(K17*2)+L17*1) -> 0
B18: =+$H$1 -> E7 | C18: 16 | D18: =CONCATENATE(C18,B18) -> 16E7 | E18: =CONCATENATE(C18,H18) -> 16E9 | G18: =+Results!D137 -> 46401 | H18: =VLOOKUP($D18,Results!$B$2:$I$244,8,FALSE) -> E9 | I18: =VLOOKUP(H18,Results!$N$2:$O$11,2,FALSE) -> Biased Boys | J18: =SUM(K18:M18) -> 0 | K18: =IF(H18="X",0,IF(N18>O18,1,0)) -> 0 | L18: =IF(OR(C18>Results!$F$1,N18="N"),0,IF(H18="X",0,IF(N18=O18,1,0))) -> 0 | M18: =IF(H18="X",0,IF(N18<O18,1,0)) -> 0 | N18: =IF($C18>Results!$F$1," ",(VLOOKUP($D18,Results!$B$2:$H$244,7,FALSE))) | O18: =IF($C18>Results!$F$1," ",(VLOOKUP($E18,Results!$C$2:$K$244,9,FALSE))) | P18: =IF(J18=" "," ",SUM(K18*2)+L18*1) -> 0
B19: =+$H$1 -> E7 | C19: 17 | D19: =CONCATENATE(C19,B19) -> 17E7 | E19: =CONCATENATE(C19,H19) -> 17E3 | G19: =+Results!D146 -> 46409 | H19: =VLOOKUP($D19,Results!$B$2:$I$244,8,FALSE) -> E3 | I19: =VLOOKUP(H19,Results!$N$2:$O$11,2,FALSE) -> Riches Rollers | J19: =SUM(K19:M19) -> 0 | K19: =IF(H19="X",0,IF(N19>O19,1,0)) -> 0 | L19: =IF(OR(C19>Results!$F$1,N19="N"),0,IF(H19="X",0,IF(N19=O19,1,0))) -> 0 | M19: =IF(H19="X",0,IF(N19<O19,1,0)) -> 0 | N19: =IF($C19>Results!$F$1," ",(VLOOKUP($D19,Results!$B$2:$H$244,7,FALSE))) | O19: =IF($C19>Results!$F$1," ",(VLOOKUP($E19,Results!$C$2:$K$244,9,FALSE))) | P19: =IF(J19=" "," ",SUM(K19*2)+L19*1) -> 0
B20: =+$H$1 -> E7 | C20: 18 | D20: =CONCATENATE(C20,B20) -> 18E7 | E20: =CONCATENATE(C20,H20) -> 18E5 | G20: =+Results!D155 -> 46415 | H20: =VLOOKUP($D20,Results!$B$2:$I$244,8,FALSE) -> E5 | I20: =VLOOKUP(H20,Results!$N$2:$O$11,2,FALSE) -> New Builds | J20: =SUM(K20:M20) -> 0 | K20: =IF(H20="X",0,IF(N20>O20,1,0)) -> 0 | L20: =IF(OR(C20>Results!$F$1,N20="N"),0,IF(H20="X",0,IF(N20=O20,1,0))) -> 0 | M20: =IF(H20="X",0,IF(N20<O20,1,0)) -> 0 | N20: =IF($C20>Results!$F$1," ",(VLOOKUP($D20,Results!$B$2:$H$244,7,FALSE))) | O20: =IF($C20>Results!$F$1," ",(VLOOKUP($E20,Results!$C$2:$K$244,9,FALSE))) | P20: =IF(J20=" "," ",SUM(K20*2)+L20*1) -> 0
B21: =+$H$1 -> E7 | C21: 19 | D21: =CONCATENATE(C21,B21) -> 19E7 | E21: =CONCATENATE(C21,H21) -> 19E8 | G21: =+Results!D164 -> 46423 | H21: =VLOOKUP($D21,Results!$B$2:$I$244,8,FALSE) -> E8 | I21: =VLOOKUP(H21,Results!$N$2:$O$11,2,FALSE) -> Green Wizards | J21: =SUM(K21:M21) -> 0 | K21: =IF(H21="X",0,IF(N21>O21,1,0)) -> 0 | L21: =IF(OR(C21>Results!$F$1,N21="N"),0,IF(H21="X",0,IF(N21=O21,1,0))) -> 0 | M21: =IF(H21="X",0,IF(N21<O21,1,0)) -> 0 | N21: =IF($C21>Results!$F$1," ",(VLOOKUP($D21,Results!$B$2:$H$244,7,FALSE))) | O21: =IF($C21>Results!$F$1," ",(VLOOKUP($E21,Results!$C$2:$K$244,9,FALSE))) | P21: =IF(J21=" "," ",SUM(K21*2)+L21*1) -> 0
B22: =+$H$1 -> E7 | C22: 20 | D22: =CONCATENATE(C22,B22) -> 20E7 | E22: =CONCATENATE(C22,H22) -> 20E6 | G22: =+Results!D173 -> 46429 | H22: =VLOOKUP($D22,Results!$B$2:$I$244,8,FALSE) -> E6 | I22: =VLOOKUP(H22,Results!$N$2:$O$11,2,FALSE) -> Starlite | J22: =SUM(K22:M22) -> 0 | K22: =IF(H22="X",0,IF(N22>O22,1,0)) -> 0 | L22: =IF(OR(C22>Results!$F$1,N22="N"),0,IF(H22="X",0,IF(N22=O22,1,0))) -> 0 | M22: =IF(H22="X",0,IF(N22<O22,1,0)) -> 0 | N22: =IF($C22>Results!$F$1," ",(VLOOKUP($D22,Results!$B$2:$H$244,7,FALSE))) | O22: =IF($C22>Results!$F$1," ",(VLOOKUP($E22,Results!$C$2:$K$244,9,FALSE))) | P22: =IF(J22=" "," ",SUM(K22*2)+L22*1) -> 0
B23: =+$H$1 -> E7 | C23: 21 | D23: =CONCATENATE(C23,B23) -> 21E7 | E23: =CONCATENATE(C23,H23) -> 21X | G23: =+Results!D182 -> 46437 | H23: =VLOOKUP($D23,Results!$B$2:$I$244,8,FALSE) -> X | I23: =VLOOKUP(H23,Results!$N$2:$O$11,2,FALSE) -> No Match | J23: =SUM(K23:M23) -> 0 | K23: =IF(H23="X",0,IF(N23>O23,1,0)) -> 0 | L23: =IF(OR(C23>Results!$F$1,N23="N"),0,IF(H23="X",0,IF(N23=O23,1,0))) -> 0 | M23: =IF(H23="X",0,IF(N23<O23,1,0)) -> 0 | N23: =IF($C23>Results!$F$1," ",(VLOOKUP($D23,Results!$B$2:$H$244,7,FALSE))) | O23: =IF($C23>Results!$F$1," ",(VLOOKUP($E23,Results!$C$2:$K$244,9,FALSE))) | P23: =IF(J23=" "," ",SUM(K23*2)+L23*1) -> 0
B24: =+$H$1 -> E7 | C24: 22 | D24: =CONCATENATE(C24,B24) -> 22E7 | E24: =CONCATENATE(C24,H24) -> 22E2 | G24: =+Results!D191 -> 46443 | H24: =VLOOKUP($D24,Results!$B$2:$I$244,8,FALSE) -> E2 | I24: =VLOOKUP(H24,Results!$N$2:$O$11,2,FALSE) -> Team Krewna | J24: =SUM(K24:M24) -> 0 | K24: =IF(H24="X",0,IF(N24>O24,1,0)) -> 0 | L24: =IF(OR(C24>Results!$F$1,N24="N"),0,IF(H24="X",0,IF(N24=O24,1,0))) -> 0 | M24: =IF(H24="X",0,IF(N24<O24,1,0)) -> 0 | N24: =IF($C24>Results!$F$1," ",(VLOOKUP($D24,Results!$B$2:$H$244,7,FALSE))) | O24: =IF($C24>Results!$F$1," ",(VLOOKUP($E24,Results!$C$2:$K$244,9,FALSE))) | P24: =IF(J24=" "," ",SUM(K24*2)+L24*1) -> 0
B25: =+$H$1 -> E7 | C25: 23 | D25: =CONCATENATE(C25,B25) -> 23E7 | E25: =CONCATENATE(C25,H25) -> 23E4 | G25: =+Results!D200 -> 46451 | H25: =VLOOKUP($D25,Results!$B$2:$I$244,8,FALSE) -> E4 | I25: =VLOOKUP(H25,Results!$N$2:$O$11,2,FALSE) -> Bullets | J25: =SUM(K25:M25) -> 0 | K25: =IF(H25="X",0,IF(N25>O25,1,0)) -> 0 | L25: =IF(OR(C25>Results!$F$1,N25="N"),0,IF(H25="X",0,IF(N25=O25,1,0))) -> 0 | M25: =IF(H25="X",0,IF(N25<O25,1,0)) -> 0 | N25: =IF($C25>Results!$F$1," ",(VLOOKUP($D25,Results!$B$2:$H$244,7,FALSE))) | O25: =IF($C25>Results!$F$1," ",(VLOOKUP($E25,Results!$C$2:$K$244,9,FALSE))) | P25: =IF(J25=" "," ",SUM(K25*2)+L25*1) -> 0
B26: =+$H$1 -> E7 | C26: 24 | D26: =CONCATENATE(C26,B26) -> 24E7 | E26: =CONCATENATE(C26,H26) -> 24E1 | G26: =+Results!D209 -> 46457 | H26: =VLOOKUP($D26,Results!$B$2:$I$244,8,FALSE) -> E1 | I26: =VLOOKUP(H26,Results!$N$2:$O$11,2,FALSE) -> Misfits | J26: =SUM(K26:M26) -> 0 | K26: =IF(H26="X",0,IF(N26>O26,1,0)) -> 0 | L26: =IF(OR(C26>Results!$F$1,N26="N"),0,IF(H26="X",0,IF(N26=O26,1,0))) -> 0 | M26: =IF(H26="X",0,IF(N26<O26,1,0)) -> 0 | N26: =IF($C26>Results!$F$1," ",(VLOOKUP($D26,Results!$B$2:$H$244,7,FALSE))) | O26: =IF($C26>Results!$F$1," ",(VLOOKUP($E26,Results!$C$2:$K$244,9,FALSE))) | P26: =IF(J26=" "," ",SUM(K26*2)+L26*1) -> 0
B27: =+$H$1 -> E7 | C27: 25 | D27: =CONCATENATE(C27,B27) -> 25E7 | E27: =CONCATENATE(C27,H27) -> 25E9 | G27: =+Results!D218 -> 46465 | H27: =VLOOKUP($D27,Results!$B$2:$I$244,8,FALSE) -> E9 | I27: =VLOOKUP(H27,Results!$N$2:$O$11,2,FALSE) -> Biased Boys | J27: =SUM(K27:M27) -> 0 | K27: =IF(H27="X",0,IF(N27>O27,1,0)) -> 0 | L27: =IF(OR(C27>Results!$F$1,N27="N"),0,IF(H27="X",0,IF(N27=O27,1,0))) -> 0 | M27: =IF(H27="X",0,IF(N27<O27,1,0)) -> 0 | N27: =IF($C27>Results!$F$1," ",(VLOOKUP($D27,Results!$B$2:$H$244,7,FALSE))) | O27: =IF($C27>Results!$F$1," ",(VLOOKUP($E27,Results!$C$2:$K$244,9,FALSE))) | P27: =IF(J27=" "," ",SUM(K27*2)+L27*1) -> 0
B28: =+$H$1 -> E7 | C28: 26 | D28: =CONCATENATE(C28,B28) -> 26E7 | E28: =CONCATENATE(C28,H28) -> 26E3 | G28: =+Results!D227 -> 46471 | H28: =VLOOKUP($D28,Results!$B$2:$I$244,8,FALSE) -> E3 | I28: =VLOOKUP(H28,Results!$N$2:$O$11,2,FALSE) -> Riches Rollers | J28: =SUM(K28:M28) -> 0 | K28: =IF(H28="X",0,IF(N28>O28,1,0)) -> 0 | L28: =IF(OR(C28>Results!$F$1,N28="N"),0,IF(H28="X",0,IF(N28=O28,1,0))) -> 0 | M28: =IF(H28="X",0,IF(N28<O28,1,0)) -> 0 | N28: =IF($C28>Results!$F$1," ",(VLOOKUP($D28,Results!$B$2:$H$244,7,FALSE))) | O28: =IF($C28>Results!$F$1," ",(VLOOKUP($E28,Results!$C$2:$K$244,9,FALSE))) | P28: =IF(J28=" "," ",SUM(K28*2)+L28*1) -> 0
B29: =+$H$1 -> E7 | C29: 27 | D29: =CONCATENATE(C29,B29) -> 27E7 | E29: =CONCATENATE(C29,H29) -> 27E5 | G29: =+Results!D236 -> 46479 | H29: =VLOOKUP($D29,Results!$B$2:$I$244,8,FALSE) -> E5 | I29: =VLOOKUP(H29,Results!$N$2:$O$11,2,FALSE) -> New Builds | J29: =SUM(K29:M29) -> 0 | K29: =IF(H29="X",0,IF(N29>O29,1,0)) -> 0 | L29: =IF(OR(C29>Results!$F$1,N29="N"),0,IF(H29="X",0,IF(N29=O29,1,0))) -> 0 | M29: =IF(H29="X",0,IF(N29<O29,1,0)) -> 0 | N29: =IF($C29>Results!$F$1," ",(VLOOKUP($D29,Results!$B$2:$H$244,7,FALSE))) | O29: =IF($C29>Results!$F$1," ",(VLOOKUP($E29,Results!$C$2:$K$244,9,FALSE))) | P29: =IF(J29=" "," ",SUM(K29*2)+L29*1) -> 0
I30: TOTALS | J30: =SUM(J3:J29) -> 5 | K30: =SUM(K3:K29) -> 2 | L30: =SUM(L3:L29) -> 0 | M30: =SUM(M3:M29) -> 3 | N30: =SUM(N3:N29) -> 68 | O30: =SUM(O3:O29) -> 80 | P30: =SUM(P3:P29) -> 4

Sheet E8 GREEN WIZARDS
H1: E8 | I1: GREEN WIZARDS
D2: F | E2: A | G2: Date | H2: Code | I2: Opponents | J2: Played | K2: Won | L2: Drawn | M2: Lost | N2: Shots For | O2: Shots Against | P2: Pts
B3: =+$H$1 -> E8 | C3: 1 | D3: =CONCATENATE(C3,B3) -> 1E8 | E3: =CONCATENATE(C3,H3) -> 1E7 | G3: =+Results!D2 -> 46283 | H3: =VLOOKUP($D3,Results!$B$2:$I$244,8,FALSE) -> E7 | I3: =VLOOKUP(H3,Results!$N$2:$O$11,2,FALSE) -> Golfers | J3: =SUM(K3:M3) -> 1 | K3: =IF(H3="X",0,IF(N3>O3,1,0)) -> 0 | L3: =IF(OR(C3>Results!$F$1,N3="N"),0,IF(H3="X",0,IF(N3=O3,1,0))) -> 0 | M3: =IF(H3="X",0,IF(N3<O3,1,0)) -> 1 | N3: =IF($C3>Results!$F$1," ",(VLOOKUP($D3,Results!$B$2:$H$244,7,FALSE))) -> 7 | O3: =IF($C3>Results!$F$1," ",(VLOOKUP($E3,Results!$C$2:$K$244,9,FALSE))) -> 23 | P3: =IF(J3=" "," ",SUM(K3*2)+L3*1) -> 0
B4: =+$H$1 -> E8 | C4: 2 | D4: =CONCATENATE(C4,B4) -> 2E8 | E4: =CONCATENATE(C4,H4) -> 2X | G4: =+Results!D11 -> 46289 | H4: =VLOOKUP($D4,Results!$B$2:$I$244,8,FALSE) -> X | I4: =VLOOKUP(H4,Results!$N$2:$O$11,2,FALSE) -> No Match | J4: =SUM(K4:M4) -> 0 | K4: =IF(H4="X",0,IF(N4>O4,1,0)) -> 0 | L4: =IF(OR(C4>Results!$F$1,N4="N"),0,IF(H4="X",0,IF(N4=O4,1,0))) -> 0 | M4: =IF(H4="X",0,IF(N4<O4,1,0)) -> 0 | N4: =IF($C4>Results!$F$1," ",(VLOOKUP($D4,Results!$B$2:$H$244,7,FALSE))) -> 0 | O4: =IF($C4>Results!$F$1," ",(VLOOKUP($E4,Results!$C$2:$K$244,9,FALSE))) -> 0 | P4: =IF(J4=" "," ",SUM(K4*2)+L4*1) -> 0
B5: =+$H$1 -> E8 | C5: 3 | D5: =CONCATENATE(C5,B5) -> 3E8 | E5: =CONCATENATE(C5,H5) -> 3E5 | G5: =+Results!D20 -> 46297 | H5: =VLOOKUP($D5,Results!$B$2:$I$244,8,FALSE) -> E5 | I5: =VLOOKUP(H5,Results!$N$2:$O$11,2,FALSE) -> New Builds | J5: =SUM(K5:M5) -> 1 | K5: =IF(H5="X",0,IF(N5>O5,1,0)) -> 1 | L5: =IF(OR(C5>Results!$F$1,N5="N"),0,IF(H5="X",0,IF(N5=O5,1,0))) -> 0 | M5: =IF(H5="X",0,IF(N5<O5,1,0)) -> 0 | N5: =IF($C5>Results!$F$1," ",(VLOOKUP($D5,Results!$B$2:$H$244,7,FALSE))) -> 18 | O5: =IF($C5>Results!$F$1," ",(VLOOKUP($E5,Results!$C$2:$K$244,9,FALSE))) -> 12 | P5: =IF(J5=" "," ",SUM(K5*2)+L5*1) -> 2
B6: =+$H$1 -> E8 | C6: 4 | D6: =CONCATENATE(C6,B6) -> 4E8 | E6: =CONCATENATE(C6,H6) -> 4E9 | G6: =+Results!D29 -> 46303 | H6: =VLOOKUP($D6,Results!$B$2:$I$244,8,FALSE) -> E9 | I6: =VLOOKUP(H6,Results!$N$2:$O$11,2,FALSE) -> Biased Boys | J6: =SUM(K6:M6) -> 1 | K6: =IF(H6="X",0,IF(N6>O6,1,0)) -> 0 | L6: =IF(OR(C6>Results!$F$1,N6="N"),0,IF(H6="X",0,IF(N6=O6,1,0))) -> 0 | M6: =IF(H6="X",0,IF(N6<O6,1,0)) -> 1 | N6: =IF($C6>Results!$F$1," ",(VLOOKUP($D6,Results!$B$2:$H$244,7,FALSE))) -> 4 | O6: =IF($C6>Results!$F$1," ",(VLOOKUP($E6,Results!$C$2:$K$244,9,FALSE))) -> 22 | P6: =IF(J6=" "," ",SUM(K6*2)+L6*1) -> 0
B7: =+$H$1 -> E8 | C7: 5 | D7: =CONCATENATE(C7,B7) -> 5E8 | E7: =CONCATENATE(C7,H7) -> 5E2 | G7: =+Results!D38 -> 46311 | H7: =VLOOKUP($D7,Results!$B$2:$I$244,8,FALSE) -> E2 | I7: =VLOOKUP(H7,Results!$N$2:$O$11,2,FALSE) -> Team Krewna | J7: =SUM(K7:M7) -> 1 | K7: =IF(H7="X",0,IF(N7>O7,1,0)) -> 0 | L7: =IF(OR(C7>Results!$F$1,N7="N"),0,IF(H7="X",0,IF(N7=O7,1,0))) -> 0 | M7: =IF(H7="X",0,IF(N7<O7,1,0)) -> 1 | N7: =IF($C7>Results!$F$1," ",(VLOOKUP($D7,Results!$B$2:$H$244,7,FALSE))) -> 9 | O7: =IF($C7>Results!$F$1," ",(VLOOKUP($E7,Results!$C$2:$K$244,9,FALSE))) -> 21 | P7: =IF(J7=" "," ",SUM(K7*2)+L7*1) -> 0
B8: =+$H$1 -> E8 | C8: 6 | D8: =CONCATENATE(C8,B8) -> 6E8 | E8: =CONCATENATE(C8,H8) -> 6E3 | G8: =+Results!D47 -> 46317 | H8: =VLOOKUP($D8,Results!$B$2:$I$244,8,FALSE) -> E3 | I8: =VLOOKUP(H8,Results!$N$2:$O$11,2,FALSE) -> Riches Rollers | J8: =SUM(K8:M8) -> 1 | K8: =IF(H8="X",0,IF(N8>O8,1,0)) -> 0 | L8: =IF(OR(C8>Results!$F$1,N8="N"),0,IF(H8="X",0,IF(N8=O8,1,0))) -> 0 | M8: =IF(H8="X",0,IF(N8<O8,1,0)) -> 1 | N8: =IF($C8>Results!$F$1," ",(VLOOKUP($D8,Results!$B$2:$H$244,7,FALSE))) -> 5 | O8: =IF($C8>Results!$F$1," ",(VLOOKUP($E8,Results!$C$2:$K$244,9,FALSE))) -> 22 | P8: =IF(J8=" "," ",SUM(K8*2)+L8*1) -> 0
B9: =+$H$1 -> E8 | C9: 7 | D9: =CONCATENATE(C9,B9) -> 7E8 | E9: =CONCATENATE(C9,H9) -> 7E1 | G9: =+Results!D56 -> 46325 | H9: =VLOOKUP($D9,Results!$B$2:$I$244,8,FALSE) -> E1 | I9: =VLOOKUP(H9,Results!$N$2:$O$11,2,FALSE) -> Misfits | J9: =SUM(K9:M9) -> 0 | K9: =IF(H9="X",0,IF(N9>O9,1,0)) -> 0 | L9: =IF(OR(C9>Results!$F$1,N9="N"),0,IF(H9="X",0,IF(N9=O9,1,0))) -> 0 | M9: =IF(H9="X",0,IF(N9<O9,1,0)) -> 0 | N9: =IF($C9>Results!$F$1," ",(VLOOKUP($D9,Results!$B$2:$H$244,7,FALSE))) | O9: =IF($C9>Results!$F$1," ",(VLOOKUP($E9,Results!$C$2:$K$244,9,FALSE))) | P9: =IF(J9=" "," ",SUM(K9*2)+L9*1) -> 0
B10: =+$H$1 -> E8 | C10: 8 | D10: =CONCATENATE(C10,B10) -> 8E8 | E10: =CONCATENATE(C10,H10) -> 8E6 | G10: =+Results!D65 -> 46331 | H10: =VLOOKUP($D10,Results!$B$2:$I$244,8,FALSE) -> E6 | I10: =VLOOKUP(H10,Results!$N$2:$O$11,2,FALSE) -> Starlite | J10: =SUM(K10:M10) -> 0 | K10: =IF(H10="X",0,IF(N10>O10,1,0)) -> 0 | L10: =IF(OR(C10>Results!$F$1,N10="N"),0,IF(H10="X",0,IF(N10=O10,1,0))) -> 0 | M10: =IF(H10="X",0,IF(N10<O10,1,0)) -> 0 | N10: =IF($C10>Results!$F$1," ",(VLOOKUP($D10,Results!$B$2:$H$244,7,FALSE))) | O10: =IF($C10>Results!$F$1," ",(VLOOKUP($E10,Results!$C$2:$K$244,9,FALSE))) | P10: =IF(J10=" "," ",SUM(K10*2)+L10*1) -> 0
B11: =+$H$1 -> E8 | C11: 9 | D11: =CONCATENATE(C11,B11) -> 9E8 | E11: =CONCATENATE(C11,H11) -> 9E4 | G11: =+Results!D74 -> 46339 | H11: =VLOOKUP($D11,Results!$B$2:$I$244,8,FALSE) -> E4 | I11: =VLOOKUP(H11,Results!$N$2:$O$11,2,FALSE) -> Bullets | J11: =SUM(K11:M11) -> 0 | K11: =IF(H11="X",0,IF(N11>O11,1,0)) -> 0 | L11: =IF(OR(C11>Results!$F$1,N11="N"),0,IF(H11="X",0,IF(N11=O11,1,0))) -> 0 | M11: =IF(H11="X",0,IF(N11<O11,1,0)) -> 0 | N11: =IF($C11>Results!$F$1," ",(VLOOKUP($D11,Results!$B$2:$H$244,7,FALSE))) | O11: =IF($C11>Results!$F$1," ",(VLOOKUP($E11,Results!$C$2:$K$244,9,FALSE))) | P11: =IF(J11=" "," ",SUM(K11*2)+L11*1) -> 0
B12: =+$H$1 -> E8 | C12: 10 | D12: =CONCATENATE(C12,B12) -> 10E8 | E12: =CONCATENATE(C12,H12) -> 10E7 | G12: =+Results!D83 -> 46345 | H12: =VLOOKUP($D12,Results!$B$2:$I$244,8,FALSE) -> E7 | I12: =VLOOKUP(H12,Results!$N$2:$O$11,2,FALSE) -> Golfers | J12: =SUM(K12:M12) -> 0 | K12: =IF(H12="X",0,IF(N12>O12,1,0)) -> 0 | L12: =IF(OR(C12>Results!$F$1,N12="N"),0,IF(H12="X",0,IF(N12=O12,1,0))) -> 0 | M12: =IF(H12="X",0,IF(N12<O12,1,0)) -> 0 | N12: =IF($C12>Results!$F$1," ",(VLOOKUP($D12,Results!$B$2:$H$244,7,FALSE))) | O12: =IF($C12>Results!$F$1," ",(VLOOKUP($E12,Results!$C$2:$K$244,9,FALSE))) | P12: =IF(J12=" "," ",SUM(K12*2)+L12*1) -> 0
B13: =+$H$1 -> E8 | C13: 11 | D13: =CONCATENATE(C13,B13) -> 11E8 | E13: =CONCATENATE(C13,H13) -> 11X | G13: =+Results!D92 -> 46353 | H13: =VLOOKUP($D13,Results!$B$2:$I$244,8,FALSE) -> X | I13: =VLOOKUP(H13,Results!$N$2:$O$11,2,FALSE) -> No Match | J13: =SUM(K13:M13) -> 0 | K13: =IF(H13="X",0,IF(N13>O13,1,0)) -> 0 | L13: =IF(OR(C13>Results!$F$1,N13="N"),0,IF(H13="X",0,IF(N13=O13,1,0))) -> 0 | M13: =IF(H13="X",0,IF(N13<O13,1,0)) -> 0 | N13: =IF($C13>Results!$F$1," ",(VLOOKUP($D13,Results!$B$2:$H$244,7,FALSE))) | O13: =IF($C13>Results!$F$1," ",(VLOOKUP($E13,Results!$C$2:$K$244,9,FALSE))) | P13: =IF(J13=" "," ",SUM(K13*2)+L13*1) -> 0
B14: =+$H$1 -> E8 | C14: 12 | D14: =CONCATENATE(C14,B14) -> 12E8 | E14: =CONCATENATE(C14,H14) -> 12E5 | G14: =+Results!D101 -> 46359 | H14: =VLOOKUP($D14,Results!$B$2:$I$244,8,FALSE) -> E5 | I14: =VLOOKUP(H14,Results!$N$2:$O$11,2,FALSE) -> New Builds | J14: =SUM(K14:M14) -> 0 | K14: =IF(H14="X",0,IF(N14>O14,1,0)) -> 0 | L14: =IF(OR(C14>Results!$F$1,N14="N"),0,IF(H14="X",0,IF(N14=O14,1,0))) -> 0 | M14: =IF(H14="X",0,IF(N14<O14,1,0)) -> 0 | N14: =IF($C14>Results!$F$1," ",(VLOOKUP($D14,Results!$B$2:$H$244,7,FALSE))) | O14: =IF($C14>Results!$F$1," ",(VLOOKUP($E14,Results!$C$2:$K$244,9,FALSE))) | P14: =IF(J14=" "," ",SUM(K14*2)+L14*1) -> 0
B15: =+$H$1 -> E8 | C15: 13 | D15: =CONCATENATE(C15,B15) -> 13E8 | E15: =CONCATENATE(C15,H15) -> 13E9 | G15: =+Results!D110 -> 46367 | H15: =VLOOKUP($D15,Results!$B$2:$I$244,8,FALSE) -> E9 | I15: =VLOOKUP(H15,Results!$N$2:$O$11,2,FALSE) -> Biased Boys | J15: =SUM(K15:M15) -> 0 | K15: =IF(H15="X",0,IF(N15>O15,1,0)) -> 0 | L15: =IF(OR(C15>Results!$F$1,N15="N"),0,IF(H15="X",0,IF(N15=O15,1,0))) -> 0 | M15: =IF(H15="X",0,IF(N15<O15,1,0)) -> 0 | N15: =IF($C15>Results!$F$1," ",(VLOOKUP($D15,Results!$B$2:$H$244,7,FALSE))) | O15: =IF($C15>Results!$F$1," ",(VLOOKUP($E15,Results!$C$2:$K$244,9,FALSE))) | P15: =IF(J15=" "," ",SUM(K15*2)+L15*1) -> 0
B16: =+$H$1 -> E8 | C16: 14 | D16: =CONCATENATE(C16,B16) -> 14E8 | E16: =CONCATENATE(C16,H16) -> 14E2 | G16: =+Results!D119 -> 46373 | H16: =VLOOKUP($D16,Results!$B$2:$I$244,8,FALSE) -> E2 | I16: =VLOOKUP(H16,Results!$N$2:$O$11,2,FALSE) -> Team Krewna | J16: =SUM(K16:M16) -> 0 | K16: =IF(H16="X",0,IF(N16>O16,1,0)) -> 0 | L16: =IF(OR(C16>Results!$F$1,N16="N"),0,IF(H16="X",0,IF(N16=O16,1,0))) -> 0 | M16: =IF(H16="X",0,IF(N16<O16,1,0)) -> 0 | N16: =IF($C16>Results!$F$1," ",(VLOOKUP($D16,Results!$B$2:$H$244,7,FALSE))) | O16: =IF($C16>Results!$F$1," ",(VLOOKUP($E16,Results!$C$2:$K$244,9,FALSE))) | P16: =IF(J16=" "," ",SUM(K16*2)+L16*1) -> 0
B17: =+$H$1 -> E8 | C17: 15 | D17: =CONCATENATE(C17,B17) -> 15E8 | E17: =CONCATENATE(C17,H17) -> 15E3 | G17: =+Results!D128 -> 46395 | H17: =VLOOKUP($D17,Results!$B$2:$I$244,8,FALSE) -> E3 | I17: =VLOOKUP(H17,Results!$N$2:$O$11,2,FALSE) -> Riches Rollers | J17: =SUM(K17:M17) -> 0 | K17: =IF(H17="X",0,IF(N17>O17,1,0)) -> 0 | L17: =IF(OR(C17>Results!$F$1,N17="N"),0,IF(H17="X",0,IF(N17=O17,1,0))) -> 0 | M17: =IF(H17="X",0,IF(N17<O17,1,0)) -> 0 | N17: =IF($C17>Results!$F$1," ",(VLOOKUP($D17,Results!$B$2:$H$244,7,FALSE))) | O17: =IF($C17>Results!$F$1," ",(VLOOKUP($E17,Results!$C$2:$K$244,9,FALSE))) | P17: =IF(J17=" "," ",SUM(K17*2)+L17*1) -> 0
B18: =+$H$1 -> E8 | C18: 16 | D18: =CONCATENATE(C18,B18) -> 16E8 | E18: =CONCATENATE(C18,H18) -> 16E1 | G18: =+Results!D137 -> 46401 | H18: =VLOOKUP($D18,Results!$B$2:$I$244,8,FALSE) -> E1 | I18: =VLOOKUP(H18,Results!$N$2:$O$11,2,FALSE) -> Misfits | J18: =SUM(K18:M18) -> 0 | K18: =IF(H18="X",0,IF(N18>O18,1,0)) -> 0 | L18: =IF(OR(C18>Results!$F$1,N18="N"),0,IF(H18="X",0,IF(N18=O18,1,0))) -> 0 | M18: =IF(H18="X",0,IF(N18<O18,1,0)) -> 0 | N18: =IF($C18>Results!$F$1," ",(VLOOKUP($D18,Results!$B$2:$H$244,7,FALSE))) | O18: =IF($C18>Results!$F$1," ",(VLOOKUP($E18,Results!$C$2:$K$244,9,FALSE))) | P18: =IF(J18=" "," ",SUM(K18*2)+L18*1) -> 0
B19: =+$H$1 -> E8 | C19: 17 | D19: =CONCATENATE(C19,B19) -> 17E8 | E19: =CONCATENATE(C19,H19) -> 17E6 | G19: =+Results!D146 -> 46409 | H19: =VLOOKUP($D19,Results!$B$2:$I$244,8,FALSE) -> E6 | I19: =VLOOKUP(H19,Results!$N$2:$O$11,2,FALSE) -> Starlite | J19: =SUM(K19:M19) -> 0 | K19: =IF(H19="X",0,IF(N19>O19,1,0)) -> 0 | L19: =IF(OR(C19>Results!$F$1,N19="N"),0,IF(H19="X",0,IF(N19=O19,1,0))) -> 0 | M19: =IF(H19="X",0,IF(N19<O19,1,0)) -> 0 | N19: =IF($C19>Results!$F$1," ",(VLOOKUP($D19,Results!$B$2:$H$244,7,FALSE))) | O19: =IF($C19>Results!$F$1," ",(VLOOKUP($E19,Results!$C$2:$K$244,9,FALSE))) | P19: =IF(J19=" "," ",SUM(K19*2)+L19*1) -> 0
B20: =+$H$1 -> E8 | C20: 18 | D20: =CONCATENATE(C20,B20) -> 18E8 | E20: =CONCATENATE(C20,H20) -> 18E4 | G20: =+Results!D155 -> 46415 | H20: =VLOOKUP($D20,Results!$B$2:$I$244,8,FALSE) -> E4 | I20: =VLOOKUP(H20,Results!$N$2:$O$11,2,FALSE) -> Bullets | J20: =SUM(K20:M20) -> 0 | K20: =IF(H20="X",0,IF(N20>O20,1,0)) -> 0 | L20: =IF(OR(C20>Results!$F$1,N20="N"),0,IF(H20="X",0,IF(N20=O20,1,0))) -> 0 | M20: =IF(H20="X",0,IF(N20<O20,1,0)) -> 0 | N20: =IF($C20>Results!$F$1," ",(VLOOKUP($D20,Results!$B$2:$H$244,7,FALSE))) | O20: =IF($C20>Results!$F$1," ",(VLOOKUP($E20,Results!$C$2:$K$244,9,FALSE))) | P20: =IF(J20=" "," ",SUM(K20*2)+L20*1) -> 0
B21: =+$H$1 -> E8 | C21: 19 | D21: =CONCATENATE(C21,B21) -> 19E8 | E21: =CONCATENATE(C21,H21) -> 19E7 | G21: =+Results!D164 -> 46423 | H21: =VLOOKUP($D21,Results!$B$2:$I$244,8,FALSE) -> E7 | I21: =VLOOKUP(H21,Results!$N$2:$O$11,2,FALSE) -> Golfers | J21: =SUM(K21:M21) -> 0 | K21: =IF(H21="X",0,IF(N21>O21,1,0)) -> 0 | L21: =IF(OR(C21>Results!$F$1,N21="N"),0,IF(H21="X",0,IF(N21=O21,1,0))) -> 0 | M21: =IF(H21="X",0,IF(N21<O21,1,0)) -> 0 | N21: =IF($C21>Results!$F$1," ",(VLOOKUP($D21,Results!$B$2:$H$244,7,FALSE))) | O21: =IF($C21>Results!$F$1," ",(VLOOKUP($E21,Results!$C$2:$K$244,9,FALSE))) | P21: =IF(J21=" "," ",SUM(K21*2)+L21*1) -> 0
B22: =+$H$1 -> E8 | C22: 20 | D22: =CONCATENATE(C22,B22) -> 20E8 | E22: =CONCATENATE(C22,H22) -> 20X | G22: =+Results!D173 -> 46429 | H22: =VLOOKUP($D22,Results!$B$2:$I$244,8,FALSE) -> X | I22: =VLOOKUP(H22,Results!$N$2:$O$11,2,FALSE) -> No Match | J22: =SUM(K22:M22) -> 0 | K22: =IF(H22="X",0,IF(N22>O22,1,0)) -> 0 | L22: =IF(OR(C22>Results!$F$1,N22="N"),0,IF(H22="X",0,IF(N22=O22,1,0))) -> 0 | M22: =IF(H22="X",0,IF(N22<O22,1,0)) -> 0 | N22: =IF($C22>Results!$F$1," ",(VLOOKUP($D22,Results!$B$2:$H$244,7,FALSE))) | O22: =IF($C22>Results!$F$1," ",(VLOOKUP($E22,Results!$C$2:$K$244,9,FALSE))) | P22: =IF(J22=" "," ",SUM(K22*2)+L22*1) -> 0
B23: =+$H$1 -> E8 | C23: 21 | D23: =CONCATENATE(C23,B23) -> 21E8 | E23: =CONCATENATE(C23,H23) -> 21E5 | G23: =+Results!D182 -> 46437 | H23: =VLOOKUP($D23,Results!$B$2:$I$244,8,FALSE) -> E5 | I23: =VLOOKUP(H23,Results!$N$2:$O$11,2,FALSE) -> New Builds | J23: =SUM(K23:M23) -> 0 | K23: =IF(H23="X",0,IF(N23>O23,1,0)) -> 0 | L23: =IF(OR(C23>Results!$F$1,N23="N"),0,IF(H23="X",0,IF(N23=O23,1,0))) -> 0 | M23: =IF(H23="X",0,IF(N23<O23,1,0)) -> 0 | N23: =IF($C23>Results!$F$1," ",(VLOOKUP($D23,Results!$B$2:$H$244,7,FALSE))) | O23: =IF($C23>Results!$F$1," ",(VLOOKUP($E23,Results!$C$2:$K$244,9,FALSE))) | P23: =IF(J23=" "," ",SUM(K23*2)+L23*1) -> 0
