Workbook

Sheet Results
E1: Week | F1: =+'Results Input'!G1 -> 6
B2: =CONCATENATE(E2,F2) -> 1E1 | C2: =CONCATENATE(E2,I2) -> 1E2 | D2: =+'Results Input'!E2 -> 46283 | E2: =+'Results Input'!F2 -> 1 | F2: =+'Results Input'!G2 -> E1 | G2: =VLOOKUP(F2,Results!$N$2:$O$11,2,FALSE) -> Misfits | H2: =+'Results Input'!I2 -> 15 | I2: =+'Results Input'!J2 -> E2 | J2: =VLOOKUP(I2,Results!$N$2:$O$11,2,FALSE) -> Team Krewna | K2: =+'Results Input'!L2 -> 18 | N2: E1 | O2: Misfits
B3: =CONCATENATE(E3,F3) -> 1E3 | C3: =CONCATENATE(E3,I3) -> 1E4 | D3: =+D2 -> 46283 | E3: =+'Results Input'!F3 -> 1 | F3: =+'Results Input'!G3 -> E3 | G3: =VLOOKUP(F3,Results!$N$2:$O$11,2,FALSE) -> Riches Rollers | H3: =+'Results Input'!I3 -> 19 | I3: =+'Results Input'!J3 -> E4 | J3: =VLOOKUP(I3,Results!$N$2:$O$11,2,FALSE) -> Bullets | K3: =+'Results Input'!L3 -> 13 | N3: E2 | O3: Team Krewna
B4: =CONCATENATE(E4,F4) -> 1E5 | C4: =CONCATENATE(E4,I4) -> 1E6 | D4: =+D2 -> 46283 | E4: =+'Results Input'!F4 -> 1 | F4: =+'Results Input'!G4 -> E5 | G4: =VLOOKUP(F4,Results!$N$2:$O$11,2,FALSE) -> New Builds | H4: =+'Results Input'!I4 -> N | I4: =+'Results Input'!J4 -> E6 | J4: =VLOOKUP(I4,Results!$N$2:$O$11,2,FALSE) -> Starlite | K4: =+'Results Input'!L4 -> N | N4: E3 | O4: Riches Rollers
B5: =CONCATENATE(E5,F5) -> 1E7 | C5: =CONCATENATE(E5,I5) -> 1E8 | D5: =+D2 -> 46283 | E5: =+'Results Input'!F5 -> 1 | F5: =+'Results Input'!G5 -> E7 | G5: =VLOOKUP(F5,Results!$N$2:$O$11,2,FALSE) -> Golfers | H5: =+'Results Input'!I5 -> 23 | I5: =+'Results Input'!J5 -> E8 | J5: =VLOOKUP(I5,Results!$N$2:$O$11,2,FALSE) -> Green Wizards | K5: =+'Results Input'!L5 -> 7 | N5: E4 | O5: Bullets
B6: =CONCATENATE(E6,F6) -> 1E9 | C6: =CONCATENATE(E6,I6) -> 1X | D6: =+D2 -> 46283 | E6: =+'Results Input'!F6 -> 1 | F6: =+'Results Input'!G6 -> E9 | G6: =VLOOKUP(F6,Results!$N$2:$O$11,2,FALSE) -> Biased Boys | H6: =+'Results Input'!I6 -> 0 | I6: =+'Results Input'!J6 -> X | J6: =VLOOKUP(I6,Results!$N$2:$O$11,2,FALSE) -> No Match | N6: E5 | O6: New Builds
B7: =CONCATENATE(E7,F7) -> 1E2 | C7: =CONCATENATE(E7,I7) -> 1E1 | D7: =+D2 -> 46283 | E7: =+E2 -> 1 | F7: =+I2 -> E2 | G7: =VLOOKUP(F7,Results!$N$2:$O$11,2,FALSE) -> Team Krewna | H7: =+K2 -> 18 | I7: =+F2 -> E1 | J7: =VLOOKUP(I7,Results!$N$2:$O$11,2,FALSE) -> Misfits | K7: =+H2 -> 15 | N7: E6 | O7: Starlite
B8: =CONCATENATE(E8,F8) -> 1E4 | C8: =CONCATENATE(E8,I8) -> 1E3 | D8: =+D2 -> 46283 | E8: =+E3 -> 1 | F8: =+I3 -> E4 | G8: =VLOOKUP(F8,Results!$N$2:$O$11,2,FALSE) -> Bullets | H8: =+K3 -> 13 | I8: =+F3 -> E3 | J8: =VLOOKUP(I8,Results!$N$2:$O$11,2,FALSE) -> Riches Rollers | K8: =+H3 -> 19 | N8: E7 | O8: Golfers
B9: =CONCATENATE(E9,F9) -> 1E6 | C9: =CONCATENATE(E9,I9) -> 1E5 | D9: =+D2 -> 46283 | E9: =+E4 -> 1 | F9: =+I4 -> E6 | G9: =VLOOKUP(F9,Results!$N$2:$O$11,2,FALSE) -> Starlite | H9: =+K4 -> N | I9: =+F4 -> E5 | J9: =VLOOKUP(I9,Results!$N$2:$O$11,2,FALSE) -> New Builds | K9: =+H4 -> N | N9: E8 | O9: Green Wizards
B10: =CONCATENATE(E10,F10) -> 1E8 | C10: =CONCATENATE(E10,I10) -> 1E7 | D10: =+D2 -> 46283 | E10: =+E5 -> 1 | F10: =+I5 -> E8 | G10: =VLOOKUP(F10,Results!$N$2:$O$11,2,FALSE) -> Green Wizards | H10: =+K5 -> 7 | I10: =+F5 -> E7 | J10: =VLOOKUP(I10,Results!$N$2:$O$11,2,FALSE) -> Golfers | K10: =+H5 -> 23 | N10: E9 | O10: Biased Boys
B11: =CONCATENATE(E11,F11) -> 2E6 | C11: =CONCATENATE(E11,I11) -> 2E7 | D11: =+'Results Input'!E7 -> 46289 | E11: =+'Results Input'!F7 -> 2 | F11: =+'Results Input'!G7 -> E6 | G11: =VLOOKUP(F11,Results!$N$2:$O$11,2,FALSE) -> Starlite | H11: =+'Results Input'!I7 -> 17 | I11: =+'Results Input'!J7 -> E7 | J11: =VLOOKUP(I11,Results!$N$2:$O$11,2,FALSE) -> Golfers | K11: =+'Results Input'!L7 -> 13 | N11: X | O11: No Match
B12: =CONCATENATE(E12,F12) -> 2E9 | C12: =CONCATENATE(E12,I12) -> 2E1 | D12: =+D11 -> 46289 | E12: =+'Results Input'!F8 -> 2 | F12: =+'Results Input'!G8 -> E9 | G12: =VLOOKUP(F12,Results!$N$2:$O$11,2,FALSE) -> Biased Boys | H12: =+'Results Input'!I8 -> 14 | I12: =+'Results Input'!J8 -> E1 | J12: =VLOOKUP(I12,Results!$N$2:$O$11,2,FALSE) -> Misfits | K12: =+'Results Input'!L8 -> 13
B13: =CONCATENATE(E13,F13) -> 2E2 | C13: =CONCATENATE(E13,I13) -> 2E3 | D13: =+D11 -> 46289 | E13: =+'Results Input'!F9 -> 2 | F13: =+'Results Input'!G9 -> E2 | G13: =VLOOKUP(F13,Results!$N$2:$O$11,2,FALSE) -> Team Krewna | H13: =+'Results Input'!I9 -> 9 | I13: =+'Results Input'!J9 -> E3 | J13: =VLOOKUP(I13,Results!$N$2:$O$11,2,FALSE) -> Riches Rollers | K13: =+'Results Input'!L9 -> 17
B14: =CONCATENATE(E14,F14) -> 2E4 | C14: =CONCATENATE(E14,I14) -> 2E5 | D14: =+D11 -> 46289 | E14: =+'Results Input'!F10 -> 2 | F14: =+'Results Input'!G10 -> E4 | G14: =VLOOKUP(F14,Results!$N$2:$O$11,2,FALSE) -> Bullets | H14: =+'Results Input'!I10 -> 15 | I14: =+'Results Input'!J10 -> E5 | J14: =VLOOKUP(I14,Results!$N$2:$O$11,2,FALSE) -> New Builds | K14: =+'Results Input'!L10 -> 12
B15: =CONCATENATE(E15,F15) -> 2E8 | C15: =CONCATENATE(E15,I15) -> 2X | D15: =+D11 -> 46289 | E15: =+'Results Input'!F11 -> 2 | F15: =+'Results Input'!G11 -> E8 | G15: =VLOOKUP(F15,Results!$N$2:$O$11,2,FALSE) -> Green Wizards | H15: =+'Results Input'!I11 -> 0 | I15: =+'Results Input'!J11 -> X | J15: =VLOOKUP(I15,Results!$N$2:$O$11,2,FALSE) -> No Match
B16: =CONCATENATE(E16,F16) -> 2E7 | C16: =CONCATENATE(E16,I16) -> 2E6 | D16: =+D11 -> 46289 | E16: =+E11 -> 2 | F16: =+I11 -> E7 | G16: =VLOOKUP(F16,Results!$N$2:$O$11,2,FALSE) -> Golfers | H16: =+K11 -> 13 | I16: =+F11 -> E6 | J16: =VLOOKUP(I16,Results!$N$2:$O$11,2,FALSE) -> Starlite | K16: =+H11 -> 17
B17: =CONCATENATE(E17,F17) -> 2E1 | C17: =CONCATENATE(E17,I17) -> 2E9 | D17: =+D11 -> 46289 | E17: =+E12 -> 2 | F17: =+I12 -> E1 | G17: =VLOOKUP(F17,Results!$N$2:$O$11,2,FALSE) -> Misfits | H17: =+K12 -> 13 | I17: =+F12 -> E9 | J17: =VLOOKUP(I17,Results!$N$2:$O$11,2,FALSE) -> Biased Boys | K17: =+H12 -> 14
B18: =CONCATENATE(E18,F18) -> 2E3 | C18: =CONCATENATE(E18,I18) -> 2E2 | D18: =+D11 -> 46289 | E18: =+E13 -> 2 | F18: =+I13 -> E3 | G18: =VLOOKUP(F18,Results!$N$2:$O$11,2,FALSE) -> Riches Rollers | H18: =+K13 -> 17 | I18: =+F13 -> E2 | J18: =VLOOKUP(I18,Results!$N$2:$O$11,2,FALSE) -> Team Krewna | K18: =+H13 -> 9
B19: =CONCATENATE(E19,F19) -> 2E5 | C19: =CONCATENATE(E19,I19) -> 2E4 | D19: =+D11 -> 46289 | E19: =+E14 -> 2 | F19: =+I14 -> E5 | G19: =VLOOKUP(F19,Results!$N$2:$O$11,2,FALSE) -> New Builds | H19: =+K14 -> 12 | I19: =+F14 -> E4 | J19: =VLOOKUP(I19,Results!$N$2:$O$11,2,FALSE) -> Bullets | K19: =+H14 -> 15
B20: =CONCATENATE(E20,F20) -> 3E6 | C20: =CONCATENATE(E20,I20) -> 3E9 | D20: =+'Results Input'!E12 -> 46297 | E20: =+'Results Input'!F12 -> 3 | F20: =+'Results Input'!G12 -> E6 | G20: =VLOOKUP(F20,Results!$N$2:$O$11,2,FALSE) -> Starlite | H20: =+'Results Input'!I12 -> 20 | I20: =+'Results Input'!J12 -> E9 | J20: =VLOOKUP(I20,Results!$N$2:$O$11,2,FALSE) -> Biased Boys | K20: =+'Results Input'!L12 -> 7
B21: =CONCATENATE(E21,F21) -> 3E1 | C21: =CONCATENATE(E21,I21) -> 3E3 | D21: =+D20 -> 46297 | E21: =+'Results Input'!F13 -> 3 | F21: =+'Results Input'!G13 -> E1 | G21: =VLOOKUP(F21,Results!$N$2:$O$11,2,FALSE) -> Misfits | H21: =+'Results Input'!I13 -> 13 | I21: =+'Results Input'!J13 -> E3 | J21: =VLOOKUP(I21,Results!$N$2:$O$11,2,FALSE) -> Riches Rollers | K21: =+'Results Input'!L13 -> 8
B22: =CONCATENATE(E22,F22) -> 3E2 | C22: =CONCATENATE(E22,I22) -> 3E4 | D22: =+D20 -> 46297 | E22: =+'Results Input'!F14 -> 3 | F22: =+'Results Input'!G14 -> E2 | G22: =VLOOKUP(F22,Results!$N$2:$O$11,2,FALSE) -> Team Krewna | H22: =+'Results Input'!I14 -> 18 | I22: =+'Results Input'!J14 -> E4 | J22: =VLOOKUP(I22,Results!$N$2:$O$11,2,FALSE) -> Bullets | K22: =+'Results Input'!L14 -> 15
B23: =CONCATENATE(E23,F23) -> 3E5 | C23: =CONCATENATE(E23,I23) -> 3E8 | D23: =+D20 -> 46297 | E23: =+'Results Input'!F15 -> 3 | F23: =+'Results Input'!G15 -> E5 | G23: =VLOOKUP(F23,Results!$N$2:$O$11,2,FALSE) -> New Builds | H23: =+'Results Input'!I15 -> 12 | I23: =+'Results Input'!J15 -> E8 | J23: =VLOOKUP(I23,Results!$N$2:$O$11,2,FALSE) -> Green Wizards | K23: =+'Results Input'!L15 -> 18
B24: =CONCATENATE(E24,F24) -> 3E7 | C24: =CONCATENATE(E24,I24) -> 3X | D24: =+D20 -> 46297 | E24: =+'Results Input'!F16 -> 3 | F24: =+'Results Input'!G16 -> E7 | G24: =VLOOKUP(F24,Results!$N$2:$O$11,2,FALSE) -> Golfers | H24: =+'Results Input'!I16 -> 0 | I24: =+'Results Input'!J16 -> X | J24: =VLOOKUP(I24,Results!$N$2:$O$11,2,FALSE) -> No Match
B25: =CONCATENATE(E25,F25) -> 3E9 | C25: =CONCATENATE(E25,I25) -> 3E6 | D25: =+D20 -> 46297 | E25: =+E20 -> 3 | F25: =+I20 -> E9 | G25: =VLOOKUP(F25,Results!$N$2:$O$11,2,FALSE) -> Biased Boys | H25: =+K20 -> 7 | I25: =+F20 -> E6 | J25: =VLOOKUP(I25,Results!$N$2:$O$11,2,FALSE) -> Starlite | K25: =+H20 -> 20
B26: =CONCATENATE(E26,F26) -> 3E3 | C26: =CONCATENATE(E26,I26) -> 3E1 | D26: =+D20 -> 46297 | E26: =+E21 -> 3 | F26: =+I21 -> E3 | G26: =VLOOKUP(F26,Results!$N$2:$O$11,2,FALSE) -> Riches Rollers | H26: =+K21 -> 8 | I26: =+F21 -> E1 | J26: =VLOOKUP(I26,Results!$N$2:$O$11,2,FALSE) -> Misfits | K26: =+H21 -> 13
B27: =CONCATENATE(E27,F27) -> 3E4 | C27: =CONCATENATE(E27,I27) -> 3E2 | D27: =+D20 -> 46297 | E27: =+E22 -> 3 | F27: =+I22 -> E4 | G27: =VLOOKUP(F27,Results!$N$2:$O$11,2,FALSE) -> Bullets | H27: =+K22 -> 15 | I27: =+F22 -> E2 | J27: =VLOOKUP(I27,Results!$N$2:$O$11,2,FALSE) -> Team Krewna | K27: =+H22 -> 18
B28: =CONCATENATE(E28,F28) -> 3E8 | C28: =CONCATENATE(E28,I28) -> 3E5 | D28: =+D20 -> 46297 | E28: =+E23 -> 3 | F28: =+I23 -> E8 | G28: =VLOOKUP(F28,Results!$N$2:$O$11,2,FALSE) -> Green Wizards | H28: =+K23 -> 18 | I28: =+F23 -> E5 | J28: =VLOOKUP(I28,Results!$N$2:$O$11,2,FALSE) -> New Builds | K28: =+H23 -> 12
B29: =CONCATENATE(E29,F29) -> 4E8 | C29: =CONCATENATE(E29,I29) -> 4E9 | D29: =+'Results Input'!E17 -> 46303 | E29: =+'Results Input'!F17 -> 4 | F29: =+'Results Input'!G17 -> E8 | G29: =VLOOKUP(F29,Results!$N$2:$O$11,2,FALSE) -> Green Wizards | H29: =+'Results Input'!I17 -> 4 | I29: =+'Results Input'!J17 -> E9 | J29: =VLOOKUP(I29,Results!$N$2:$O$11,2,FALSE) -> Biased Boys | K29: =+'Results Input'!L17 -> 22
B30: =CONCATENATE(E30,F30) -> 4E7 | C30: =CONCATENATE(E30,I30) -> 4E2 | D30: =+D29 -> 46303 | E30: =+'Results Input'!F18 -> 4 | F30: =+'Results Input'!G18 -> E7 | G30: =VLOOKUP(F30,Results!$N$2:$O$11,2,FALSE) -> Golfers | H30: =+'Results Input'!I18 -> 13 | I30: =+'Results Input'!J18 -> E2 | J30: =VLOOKUP(I30,Results!$N$2:$O$11,2,FALSE) -> Team Krewna | K30: =+'Results Input'!L18 -> 17
B31: =CONCATENATE(E31,F31) -> 4E3 | C31: =CONCATENATE(E31,I31) -> 4E5 | D31: =+D29 -> 46303 | E31: =+'Results Input'!F19 -> 4 | F31: =+'Results Input'!G19 -> E3 | G31: =VLOOKUP(F31,Results!$N$2:$O$11,2,FALSE) -> Riches Rollers | H31: =+'Results Input'!I19 -> 13 | I31: =+'Results Input'!J19 -> E5 | J31: =VLOOKUP(I31,Results!$N$2:$O$11,2,FALSE) -> New Builds | K31: =+'Results Input'!L19 -> 14
B32: =CONCATENATE(E32,F32) -> 4E1 | C32: =CONCATENATE(E32,I32) -> 4E4 | D32: =+D29 -> 46303 | E32: =+'Results Input'!F20 -> 4 | F32: =+'Results Input'!G20 -> E1 | G32: =VLOOKUP(F32,Results!$N$2:$O$11,2,FALSE) -> Misfits | H32: =+'Results Input'!I20 -> 11 | I32: =+'Results Input'!J20 -> E4 | J32: =VLOOKUP(I32,Results!$N$2:$O$11,2,FALSE) -> Bullets | K32: =+'Results Input'!L20 -> 20
B33: =CONCATENATE(E33,F33) -> 4E6 | C33: =CONCATENATE(E33,I33) -> 4X | D33: =+D29 -> 46303 | E33: =+'Results Input'!F21 -> 4 | F33: =+'Results Input'!G21 -> E6 | G33: =VLOOKUP(F33,Results!$N$2:$O$11,2,FALSE) -> Starlite | H33: =+'Results Input'!I21 -> 0 | I33: =+'Results Input'!J21 -> X | J33: =VLOOKUP(I33,Results!$N$2:$O$11,2,FALSE) -> No Match
B34: =CONCATENATE(E34,F34) -> 4E9 | C34: =CONCATENATE(E34,I34) -> 4E8 | D34: =+D29 -> 46303 | E34: =+E29 -> 4 | F34: =+I29 -> E9 | G34: =VLOOKUP(F34,Results!$N$2:$O$11,2,FALSE) -> Biased Boys | H34: =+K29 -> 22 | I34: =+F29 -> E8 | J34: =VLOOKUP(I34,Results!$N$2:$O$11,2,FALSE) -> Green Wizards | K34: =+H29 -> 4
B35: =CONCATENATE(E35,F35) -> 4E2 | C35: =CONCATENATE(E35,I35) -> 4E7 | D35: =+D29 -> 46303 | E35: =+E30 -> 4 | F35: =+I30 -> E2 | G35: =VLOOKUP(F35,Results!$N$2:$O$11,2,FALSE) -> Team Krewna | H35: =+K30 -> 17 | I35: =+F30 -> E7 | J35: =VLOOKUP(I35,Results!$N$2:$O$11,2,FALSE) -> Golfers | K35: =+H30 -> 13
B36: =CONCATENATE(E36,F36) -> 4E5 | C36: =CONCATENATE(E36,I36) -> 4E3 | D36: =+D29 -> 46303 | E36: =+E31 -> 4 | F36: =+I31 -> E5 | G36: =VLOOKUP(F36,Results!$N$2:$O$11,2,FALSE) -> New Builds | H36: =+K31 -> 14 | I36: =+F31 -> E3 | J36: =VLOOKUP(I36,Results!$N$2:$O$11,2,FALSE) -> Riches Rollers | K36: =+H31 -> 13
B37: =CONCATENATE(E37,F37) -> 4E4 | C37: =CONCATENATE(E37,I37) -> 4E1 | D37: =+D29 -> 46303 | E37: =+E32 -> 4 | F37: =+I32 -> E4 | G37: =VLOOKUP(F37,Results!$N$2:$O$11,2,FALSE) -> Bullets | H37: =+K32 -> 20 | I37: =+F32 -> E1 | J37: =VLOOKUP(I37,Results!$N$2:$O$11,2,FALSE) -> Misfits | K37: =+H32 -> 11
B38: =CONCATENATE(E38,F38) -> 5E9 | C38: =CONCATENATE(E38,I38) -> 5E3 | D38: =+'Results Input'!E22 -> 46311 | E38: =+'Results Input'!F22 -> 5 | F38: =+'Results Input'!G22 -> E9 | G38: =VLOOKUP(F38,Results!$N$2:$O$11,2,FALSE) -> Biased Boys | H38: =+'Results Input'!I22 -> 9 | I38: =+'Results Input'!J22 -> E3 | J38: =VLOOKUP(I38,Results!$N$2:$O$11,2,FALSE) -> Riches Rollers | K38: =+'Results Input'!L22 -> 16
B39: =CONCATENATE(E39,F39) -> 5E4 | C39: =CONCATENATE(E39,I39) -> 5E7 | D39: =+D38 -> 46311 | E39: =+'Results Input'!F23 -> 5 | F39: =+'Results Input'!G23 -> E4 | G39: =VLOOKUP(F39,Results!$N$2:$O$11,2,FALSE) -> Bullets | H39: =+'Results Input'!I23 -> 28 | I39: =+'Results Input'!J23 -> E7 | J39: =VLOOKUP(I39,Results!$N$2:$O$11,2,FALSE) -> Golfers | K39: =+'Results Input'!L23 -> 4
B40: =CONCATENATE(E40,F40) -> 5E6 | C40: =CONCATENATE(E40,I40) -> 5E1 | D40: =+D38 -> 46311 | E40: =+'Results Input'!F24 -> 5 | F40: =+'Results Input'!G24 -> E6 | G40: =VLOOKUP(F40,Results!$N$2:$O$11,2,FALSE) -> Starlite | H40: =+'Results Input'!I24 -> 26 | I40: =+'Results Input'!J24 -> E1 | J40: =VLOOKUP(I40,Results!$N$2:$O$11,2,FALSE) -> Misfits | K40: =+'Results Input'!L24 -> 7
...

Sheet Results Input
F1: Week | G1: 6
B2: =CONCATENATE(F2,G2) -> 1E1 | C2: =CONCATENATE(F2,J2) -> 1E2 | E2: 46283 | F2: 1 | G2: E1 | H2: =VLOOKUP(G2,Results!$N$2:$O$11,2,FALSE) -> Misfits | I2: 15 | J2: E2 | K2: =VLOOKUP(J2,Results!$N$2:$O$11,2,FALSE) -> Team Krewna | L2: 18 | M2: Played 15th Oct
B3: =CONCATENATE(F3,G3) -> 1E3 | C3: =CONCATENATE(F3,J3) -> 1E4 | E3: =+E2 -> 46283 | F3: =+F2 -> 1 | G3: E3 | H3: =VLOOKUP(G3,Results!$N$2:$O$11,2,FALSE) -> Riches Rollers | I3: 19 | J3: E4 | K3: =VLOOKUP(J3,Results!$N$2:$O$11,2,FALSE) -> Bullets | L3: 13
B4: =CONCATENATE(F4,G4) -> 1E5 | C4: =CONCATENATE(F4,J4) -> 1E6 | E4: =+E2 -> 46283 | F4: =+F2 -> 1 | G4: E5 | H4: =VLOOKUP(G4,Results!$N$2:$O$11,2,FALSE) -> New Builds | I4: N | J4: E6 | K4: =VLOOKUP(J4,Results!$N$2:$O$11,2,FALSE) -> Starlite | L4: N
B5: =CONCATENATE(F5,G5) -> 1E7 | C5: =CONCATENATE(F5,J5) -> 1E8 | E5: =+E2 -> 46283 | F5: =+F2 -> 1 | G5: E7 | H5: =VLOOKUP(G5,Results!$N$2:$O$11,2,FALSE) -> Golfers | I5: 23 | J5: E8 | K5: =VLOOKUP(J5,Results!$N$2:$O$11,2,FALSE) -> Green Wizards | L5: 7
B6: =CONCATENATE(F6,G6) -> 1E9 | C6: =CONCATENATE(F6,J6) -> 1X | E6: =+E2 -> 46283 | F6: =+F2 -> 1 | G6: E9 | H6: =VLOOKUP(G6,Results!$N$2:$O$11,2,FALSE) -> Biased Boys | J6: X | K6: =VLOOKUP(J6,Results!$N$2:$O$11,2,FALSE) -> No Match
B7: =CONCATENATE(F7,G7) -> 2E6 | C7: =CONCATENATE(F7,J7) -> 2E7 | E7: 46289 | F7: 2 | G7: E6 | H7: =VLOOKUP(G7,Results!$N$2:$O$11,2,FALSE) -> Starlite | I7: 17 | J7: E7 | K7: =VLOOKUP(J7,Results!$N$2:$O$11,2,FALSE) -> Golfers | L7: 13
B8: =CONCATENATE(F8,G8) -> 2E9 | C8: =CONCATENATE(F8,J8) -> 2E1 | E8: =+E7 -> 46289 | F8: =+F7 -> 2 | G8: E9 | H8: =VLOOKUP(G8,Results!$N$2:$O$11,2,FALSE) -> Biased Boys | I8: 14 | J8: E1 | K8: =VLOOKUP(J8,Results!$N$2:$O$11,2,FALSE) -> Misfits | L8: 13
B9: =CONCATENATE(F9,G9) -> 2E2 | C9: =CONCATENATE(F9,J9) -> 2E3 | E9: =+E7 -> 46289 | F9: =+F7 -> 2 | G9: E2 | H9: =VLOOKUP(G9,Results!$N$2:$O$11,2,FALSE) -> Team Krewna | I9: 9 | J9: E3 | K9: =VLOOKUP(J9,Results!$N$2:$O$11,2,FALSE) -> Riches Rollers | L9: 17
B10: =CONCATENATE(F10,G10) -> 2E4 | C10: =CONCATENATE(F10,J10) -> 2E5 | E10: =+E7 -> 46289 | F10: =+F7 -> 2 | G10: E4 | H10: =VLOOKUP(G10,Results!$N$2:$O$11,2,FALSE) -> Bullets | I10: 15 | J10: E5 | K10: =VLOOKUP(J10,Results!$N$2:$O$11,2,FALSE) -> New Builds | L10: 12
B11: =CONCATENATE(F11,G11) -> 2E8 | C11: =CONCATENATE(F11,J11) -> 2X | E11: =+E7 -> 46289 | F11: =+F7 -> 2 | G11: E8 | H11: =VLOOKUP(G11,Results!$N$2:$O$11,2,FALSE) -> Green Wizards | J11: X | K11: =VLOOKUP(J11,Results!$N$2:$O$11,2,FALSE) -> No Match
B12: =CONCATENATE(F12,G12) -> 3E6 | C12: =CONCATENATE(F12,J12) -> 3E9 | E12: 46297 | F12: 3 | G12: E6 | H12: =VLOOKUP(G12,Results!$N$2:$O$11,2,FALSE) -> Starlite | I12: 20 | J12: E9 | K12: =VLOOKUP(J12,Results!$N$2:$O$11,2,FALSE) -> Biased Boys | L12: 7
B13: =CONCATENATE(F13,G13) -> 3E1 | C13: =CONCATENATE(F13,J13) -> 3E3 | E13: =+E12 -> 46297 | F13: =+F12 -> 3 | G13: E1 | H13: =VLOOKUP(G13,Results!$N$2:$O$11,2,FALSE) -> Misfits | I13: 13 | J13: E3 | K13: =VLOOKUP(J13,Results!$N$2:$O$11,2,FALSE) -> Riches Rollers | L13: 8 | M13: Played 29th Oct
B14: =CONCATENATE(F14,G14) -> 3E2 | C14: =CONCATENATE(F14,J14) -> 3E4 | E14: =+E12 -> 46297 | F14: =+F12 -> 3 | G14: E2 | H14: =VLOOKUP(G14,Results!$N$2:$O$11,2,FALSE) -> Team Krewna | I14: 18 | J14: E4 | K14: =VLOOKUP(J14,Results!$N$2:$O$11,2,FALSE) -> Bullets | L14: 15
B15: =CONCATENATE(F15,G15) -> 3E5 | C15: =CONCATENATE(F15,J15) -> 3E8 | E15: =+E12 -> 46297 | F15: =+F12 -> 3 | G15: E5 | H15: =VLOOKUP(G15,Results!$N$2:$O$11,2,FALSE) -> New Builds | I15: 12 | J15: E8 | K15: =VLOOKUP(J15,Results!$N$2:$O$11,2,FALSE) -> Green Wizards | L15: 18
B16: =CONCATENATE(F16,G16) -> 3E7 | C16: =CONCATENATE(F16,J16) -> 3X | E16: =+E12 -> 46297 | F16: =+F12 -> 3 | G16: E7 | H16: =VLOOKUP(G16,Results!$N$2:$O$11,2,FALSE) -> Golfers | J16: X | K16: =VLOOKUP(J16,Results!$N$2:$O$11,2,FALSE) -> No Match
B17: =CONCATENATE(F17,G17) -> 4E8 | C17: =CONCATENATE(F17,J17) -> 4E9 | E17: 46303 | F17: 4 | G17: E8 | H17: =VLOOKUP(G17,Results!$N$2:$O$11,2,FALSE) -> Green Wizards | I17: 4 | J17: E9 | K17: =VLOOKUP(J17,Results!$N$2:$O$11,2,FALSE) -> Biased Boys | L17: 22
B18: =CONCATENATE(F18,G18) -> 4E7 | C18: =CONCATENATE(F18,J18) -> 4E2 | E18: =+E17 -> 46303 | F18: =+F17 -> 4 | G18: E7 | H18: =VLOOKUP(G18,Results!$N$2:$O$11,2,FALSE) -> Golfers | I18: 13 | J18: E2 | K18: =VLOOKUP(J18,Results!$N$2:$O$11,2,FALSE) -> Team Krewna | L18: 17
B19: =CONCATENATE(F19,G19) -> 4E3 | C19: =CONCATENATE(F19,J19) -> 4E5 | E19: =+E17 -> 46303 | F19: =+F17 -> 4 | G19: E3 | H19: =VLOOKUP(G19,Results!$N$2:$O$11,2,FALSE) -> Riches Rollers | I19: 13 | J19: E5 | K19: =VLOOKUP(J19,Results!$N$2:$O$11,2,FALSE) -> New Builds | L19: 14
B20: =CONCATENATE(F20,G20) -> 4E1 | C20: =CONCATENATE(F20,J20) -> 4E4 | E20: =+E17 -> 46303 | F20: =+F17 -> 4 | G20: E1 | H20: =VLOOKUP(G20,Results!$N$2:$O$11,2,FALSE) -> Misfits | I20: 11 | J20: E4 | K20: =VLOOKUP(J20,Results!$N$2:$O$11,2,FALSE) -> Bullets | L20: 20
B21: =CONCATENATE(F21,G21) -> 4E6 | C21: =CONCATENATE(F21,J21) -> 4X | E21: =+E17 -> 46303 | F21: =+F17 -> 4 | G21: E6 | H21: =VLOOKUP(G21,Results!$N$2:$O$11,2,FALSE) -> Starlite | J21: X | K21: =VLOOKUP(J21,Results!$N$2:$O$11,2,FALSE) -> No Match
B22: =CONCATENATE(F22,G22) -> 5E9 | C22: =CONCATENATE(F22,J22) -> 5E3 | E22: 46311 | F22: 5 | G22: E9 | H22: =VLOOKUP(G22,Results!$N$2:$O$11,2,FALSE) -> Biased Boys | I22: 9 | J22: E3 | K22: =VLOOKUP(J22,Results!$N$2:$O$11,2,FALSE) -> Riches Rollers | L22: 16
B23: =CONCATENATE(F23,G23) -> 5E4 | C23: =CONCATENATE(F23,J23) -> 5E7 | E23: =+E22 -> 46311 | F23: =+F22 -> 5 | G23: E4 | H23: =VLOOKUP(G23,Results!$N$2:$O$11,2,FALSE) -> Bullets | I23: 28 | J23: E7 | K23: =VLOOKUP(J23,Results!$N$2:$O$11,2,FALSE) -> Golfers | L23: 4
B24: =CONCATENATE(F24,G24) -> 5E6 | C24: =CONCATENATE(F24,J24) -> 5E1 | E24: =+E22 -> 46311 | F24: =+F22 -> 5 | G24: E6 | H24: =VLOOKUP(G24,Results!$N$2:$O$11,2,FALSE) -> Starlite | I24: 26 | J24: E1 | K24: =VLOOKUP(J24,Results!$N$2:$O$11,2,FALSE) -> Misfits | L24: 7
B25: =CONCATENATE(F25,G25) -> 5E8 | C25: =CONCATENATE(F25,J25) -> 5E2 | E25: =+E22 -> 46311 | F25: =+F22 -> 5 | G25: E8 | H25: =VLOOKUP(G25,Results!$N$2:$O$11,2,FALSE) -> Green Wizards | I25: 9 | J25: E2 | K25: =VLOOKUP(J25,Results!$N$2:$O$11,2,FALSE) -> Team Krewna | L25: 21
B26: =CONCATENATE(F26,G26) -> 5E5 | C26: =CONCATENATE(F26,J26) -> 5X | E26: =+E22 -> 46311 | F26: =+F22 -> 5 | G26: E5 | H26: =VLOOKUP(G26,Results!$N$2:$O$11,2,FALSE) -> New Builds | J26: X | K26: =VLOOKUP(J26,Results!$N$2:$O$11,2,FALSE) -> No Match
B27: =CONCATENATE(F27,G27) -> 6E8 | C27: =CONCATENATE(F27,J27) -> 6E3 | E27: 46317 | F27: 6 | G27: E8 | H27: =VLOOKUP(G27,Results!$N$2:$O$11,2,FALSE) -> Green Wizards | I27: 5 | J27: E3 | K27: =VLOOKUP(J27,Results!$N$2:$O$11,2,FALSE) -> Riches Rollers | L27: 22
B28: =CONCATENATE(F28,G28) -> 6E5 | C28: =CONCATENATE(F28,J28) -> 6E9 | E28: =+E27 -> 46317 | F28: =+F27 -> 6 | G28: E5 | H28: =VLOOKUP(G28,Results!$N$2:$O$11,2,FALSE) -> New Builds | I28: 15 | J28: E9 | K28: =VLOOKUP(J28,Results!$N$2:$O$11,2,FALSE) -> Biased Boys | L28: 15
B29: =CONCATENATE(F29,G29) -> 6E7 | C29: =CONCATENATE(F29,J29) -> 6E1 | E29: =+E27 -> 46317 | F29: =+F27 -> 6 | G29: E7 | H29: =VLOOKUP(G29,Results!$N$2:$O$11,2,FALSE) -> Golfers | I29: 15 | J29: E1 | K29: =VLOOKUP(J29,Results!$N$2:$O$11,2,FALSE) -> Misfits | L29: 11
B30: =CONCATENATE(F30,G30) -> 6E2 | C30: =CONCATENATE(F30,J30) -> 6E6 | E30: =+E27 -> 46317 | F30: =+F27 -> 6 | G30: E2 | H30: =VLOOKUP(G30,Results!$N$2:$O$11,2,FALSE) -> Team Krewna | I30: N | J30: E6 | K30: =VLOOKUP(J30,Results!$N$2:$O$11,2,FALSE) -> Starlite | L30: N
B31: =CONCATENATE(F31,G31) -> 6E4 | C31: =CONCATENATE(F31,J31) -> 6X | E31: =+E27 -> 46317 | F31: =+F27 -> 6 | G31: E4 | H31: =VLOOKUP(G31,Results!$N$2:$O$11,2,FALSE) -> Bullets | J31: X | K31: =VLOOKUP(J31,Results!$N$2:$O$11,2,FALSE) -> No Match
B32: =CONCATENATE(F32,G32) -> 7E4 | C32: =CONCATENATE(F32,J32) -> 7E6 | E32: 46325 | F32: 7 | G32: E4 | H32: =VLOOKUP(G32,Results!$N$2:$O$11,2,FALSE) -> Bullets | J32: E6 | K32: =VLOOKUP(J32,Results!$N$2:$O$11,2,FALSE) -> Starlite
B33: =CONCATENATE(F33,G33) -> 7E2 | C33: =CONCATENATE(F33,J33) -> 7E5 | E33: =+E32 -> 46325 | F33: =+F32 -> 7 | G33: E2 | H33: =VLOOKUP(G33,Results!$N$2:$O$11,2,FALSE) -> Team Krewna | J33: E5 | K33: =VLOOKUP(J33,Results!$N$2:$O$11,2,FALSE) -> New Builds
B34: =CONCATENATE(F34,G34) -> 7E7 | C34: =CONCATENATE(F34,J34) -> 7E9 | E34: =+E32 -> 46325 | F34: =+F32 -> 7 | G34: E7 | H34: =VLOOKUP(G34,Results!$N$2:$O$11,2,FALSE) -> Golfers | J34: E9 | K34: =VLOOKUP(J34,Results!$N$2:$O$11,2,FALSE) -> Biased Boys
B35: =CONCATENATE(F35,G35) -> 7E8 | C35: =CONCATENATE(F35,J35) -> 7E1 | E35: =+E32 -> 46325 | F35: =+F32 -> 7 | G35: E8 | H35: =VLOOKUP(G35,Results!$N$2:$O$11,2,FALSE) -> Green Wizards | J35: E1 | K35: =VLOOKUP(J35,Results!$N$2:$O$11,2,FALSE) -> Misfits
B36: =CONCATENATE(F36,G36) -> 7E3 | C36: =CONCATENATE(F36,J36) -> 7X | E36: =+E32 -> 46325 | F36: =+F32 -> 7 | G36: E3 | H36: =VLOOKUP(G36,Results!$N$2:$O$11,2,FALSE) -> Riches Rollers | J36: X | K36: =VLOOKUP(J36,Results!$N$2:$O$11,2,FALSE) -> No Match
B37: =CONCATENATE(F37,G37) -> 8E1 | C37: =CONCATENATE(F37,J37) -> 8E5 | E37: 46331 | F37: 8 | G37: E1 | H37: =VLOOKUP(G37,Results!$N$2:$O$11,2,FALSE) -> Misfits | J37: E5 | K37: =VLOOKUP(J37,Results!$N$2:$O$11,2,FALSE) -> New Builds
B38: =CONCATENATE(F38,G38) -> 8E6 | C38: =CONCATENATE(F38,J38) -> 8E8 | E38: =+E37 -> 46331 | F38: =+F37 -> 8 | G38: E6 | H38: =VLOOKUP(G38,Results!$N$2:$O$11,2,FALSE) -> Starlite | J38: E8 | K38: =VLOOKUP(J38,Results!$N$2:$O$11,2,FALSE) -> Green Wizards
B39: =CONCATENATE(F39,G39) -> 8E9 | C39: =CONCATENATE(F39,J39) -> 8E4 | E39: =+E37 -> 46331 | F39: =+F37 -> 8 | G39: E9 | H39: =VLOOKUP(G39,Results!$N$2:$O$11,2,FALSE) -> Biased Boys | J39: E4 | K39: =VLOOKUP(J39,Results!$N$2:$O$11,2,FALSE) -> Bullets
B40: =CONCATENATE(F40,G40) -> 8E3 | C40: =CONCATENATE(F40,J40) -> 8E7 | E40: =+E37 -> 46331 | F40: =+F37 -> 8 | G40: E3 | H40: =VLOOKUP(G40,Results!$N$2:$O$11,2,FALSE) -> Riches Rollers | J40: E7 | K40: =VLOOKUP(J40,Results!$N$2:$O$11,2,FALSE) -> Golfers
...

Sheet LEAGUE TABLE
B2: EARLY EVENING - DIV 1 | F2: 2026 / 2027 | I2: As at 29th Oct
C3: Team | E3: Played | F3: Won | G3: Drawn | H3: Lost | I3: Shots For | J3: Shots Against | K3: Shots Diff | L3: Pts
B4: 1st | C4: =+'E3 RICHES ROLLERS'!$H$1 -> E3 | D4: =+'E3 RICHES ROLLERS'!$I$1 -> RICHES ROLLERS | E4: ='E3 RICHES ROLLERS'!$J$30 -> 6 | F4: ='E3 RICHES ROLLERS'!$K$30 -> 4 | G4: ='E3 RICHES ROLLERS'!$L$30 -> 0 | H4: ='E3 RICHES ROLLERS'!$M$30 -> 2 | I4: ='E3 RICHES ROLLERS'!$N$30 -> 95 | J4: ='E3 RICHES ROLLERS'!$O$30 -> 63 | K4: =I4-J4 -> 32 | L4: ='E3 RICHES ROLLERS'!$P$30 -> 8
B5: 2nd | C5: =+'E2 TEAM KREWNA'!$H$1 -> E2 | D5: =+'E2 TEAM KREWNA'!$I$1 -> TEAM KREWNA | E5: ='E2 TEAM KREWNA'!$J$30 -> 5 | F5: ='E2 TEAM KREWNA'!$K$30 -> 4 | G5: ='E2 TEAM KREWNA'!$L$30 -> 0 | H5: ='E2 TEAM KREWNA'!$M$30 -> 1 | I5: ='E2 TEAM KREWNA'!$N$30 -> 83 | J5: ='E2 TEAM KREWNA'!$O$30 -> 69 | K5: =I5-J5 -> 14 | L5: ='E2 TEAM KREWNA'!$P$30 -> 8
B6: 3rd | C6: =+'E6 STARLITE'!$H$1 -> E6 | D6: =+'E6 STARLITE'!$I$1 -> STARLITE | E6: ='E6 STARLITE'!$J$30 -> 3 | F6: ='E6 STARLITE'!$K$30 -> 3 | G6: ='E6 STARLITE'!$L$30 -> 0 | H6: ='E6 STARLITE'!$M$30 -> 0 | I6: ='E6 STARLITE'!$N$30 -> 63 | J6: ='E6 STARLITE'!$O$30 -> 27 | K6: =I6-J6 -> 36 | L6: ='E6 STARLITE'!$P$30 -> 6
B7: 4th | C7: =+'E4 BULLETS'!$H$1 -> E4 | D7: =+'E4 BULLETS'!$I$1 -> BULLETS | E7: ='E4 BULLETS'!$J$30 -> 5 | F7: ='E4 BULLETS'!$K$30 -> 3 | G7: ='E4 BULLETS'!$L$30 -> 0 | H7: ='E4 BULLETS'!$M$30 -> 2 | I7: ='E4 BULLETS'!$N$30 -> 91 | J7: ='E4 BULLETS'!$O$30 -> 64 | K7: =I7-J7 -> 27 | L7: ='E4 BULLETS'!$P$30 -> 6
B8: 5th | C8: =+'E9 BIASED BOYS'!$H$1 -> E9 | D8: =+'E9 BIASED BOYS'!$I$1 -> BIASED BOYS | E8: ='E9 BIASED BOYS'!$J$30 -> 5 | F8: ='E9 BIASED BOYS'!$K$30 -> 2 | G8: ='E9 BIASED BOYS'!$L$30 -> 1 | H8: ='E9 BIASED BOYS'!$M$30 -> 2 | I8: ='E9 BIASED BOYS'!$N$30 -> 67 | J8: ='E9 BIASED BOYS'!$O$30 -> 68 | K8: =I8-J8 -> -1 | L8: ='E9 BIASED BOYS'!$P$30 -> 5
B9: 6th | C9: =+'E7 GOLFERS'!$H$1 -> E7 | D9: =+'E7 GOLFERS'!$I$1 -> GOLFERS | E9: ='E7 GOLFERS'!$J$30 -> 5 | F9: ='E7 GOLFERS'!$K$30 -> 2 | G9: ='E7 GOLFERS'!$L$30 -> 0 | H9: ='E7 GOLFERS'!$M$30 -> 3 | I9: ='E7 GOLFERS'!$N$30 -> 68 | J9: ='E7 GOLFERS'!$O$30 -> 80 | K9: =I9-J9 -> -12 | L9: ='E7 GOLFERS'!$P$30 -> 4
B10: 7th | C10: =+'E5 NEW BUILDS'!$H$1 -> E5 | D10: =+'E5 NEW BUILDS'!$I$1 -> NEW BUILDS | E10: ='E5 NEW BUILDS'!$J$30 -> 4 | F10: ='E5 NEW BUILDS'!$K$30 -> 1 | G10: ='E5 NEW BUILDS'!$L$30 -> 1 | H10: ='E5 NEW BUILDS'!$M$30 -> 2 | I10: ='E5 NEW BUILDS'!$N$30 -> 53 | J10: ='E5 NEW BUILDS'!$O$30 -> 61 | K10: =I10-J10 -> -8 | L10: ='E5 NEW BUILDS'!$P$30 -> 3
B11: 8th | C11: =+'E1 MISFITS'!$H$1 -> E1 | D11: =+'E1 MISFITS'!$I$1 -> MISFITS | E11: ='E1 MISFITS'!$J$30 -> 6 | F11: ='E1 MISFITS'!$K$30 -> 1 | G11: ='E1 MISFITS'!$L$30 -> 0 | H11: ='E1 MISFITS'!$M$30 -> 5 | I11: ='E1 MISFITS'!$N$30 -> 70 | J11: ='E1 MISFITS'!$O$30 -> 101 | K11: =I11-J11 -> -31 | L11: ='E1 MISFITS'!$P$30 -> 2
B12: 9th | C12: =+'E8 GREEN WIZARDS'!$H$1 -> E8 | D12: =+'E8 GREEN WIZARDS'!$I$1 -> GREEN WIZARDS | E12: ='E8 GREEN WIZARDS'!$J$30 -> 5 | F12: ='E8 GREEN WIZARDS'!$K$30 -> 1 | G12: ='E8 GREEN WIZARDS'!$L$30 -> 0 | H12: ='E8 GREEN WIZARDS'!$M$30 -> 4 | I12: ='E8 GREEN WIZARDS'!$N$30 -> 43 | J12: ='E8 GREEN WIZARDS'!$O$30 -> 100 | K12: =I12-J12 -> -57 | L12: ='E8 GREEN WIZARDS'!$P$30 -> 2
D13: Check | E13: =SUM(E4:E12) -> 44 | F13: =SUM(F4:F12) -> 21 | G13: =SUM(G4:G12) -> 2 | H13: =SUM(H4:H12) -> 21 | I13: =SUM(I4:I12) -> 633 | J13: =SUM(J4:J12) -> 633 | K13: =SUM(K4:K12) -> 0 | L13: =SUM(L4:L12) -> 44

Sheet E1 MISFITS
H1: E1 | I1: MISFITS
D2: F | E2: A | G2: Date | H2: Code | I2: Opponents | J2: Played | K2: Won | L2: Drawn | M2: Lost | N2: Shots For | O2: Shots Against | P2: Pts
B3: =+$H$1 -> E1 | C3: 1 | D3: =CONCATENATE(C3,B3) -> 1E1 | E3: =CONCATENATE(C3,H3) -> 1E2 | G3: =+Results!D2 -> 46283 | H3: =VLOOKUP($D3,Results!$B$2:$I$244,8,FALSE) -> E2 | I3: =VLOOKUP(H3,Results!$N$2:$O$11,2,FALSE) -> Team Krewna | J3: =SUM(K3:M3) -> 1 | K3: =IF(H3="X",0,IF(N3>O3,1,0)) -> 0 | L3: =IF(OR(C3>Results!$F$1,N3="N"),0,IF(H3="X",0,IF(N3=O3,1,0))) -> 0 | M3: =IF(H3="X",0,IF(N3<O3,1,0)) -> 1 | N3: =IF($C3>Results!$F$1," ",(VLOOKUP($D3,Results!$B$2:$H$244,7,FALSE))) -> 15 | O3: =IF($C3>Results!$F$1," ",(VLOOKUP($E3,Results!$C$2:$K$244,9,FALSE))) -> 18 | P3: =IF(J3=" "," ",SUM(K3*2)+L3*1) -> 0 | R3: Played 15th Oct
B4: =+$H$1 -> E1 | C4: 2 | D4: =CONCATENATE(C4,B4) -> 2E1 | E4: =CONCATENATE(C4,H4) -> 2E9 | G4: =+Results!D11 -> 46289 | H4: =VLOOKUP($D4,Results!$B$2:$I$244,8,FALSE) -> E9 | I4: =VLOOKUP(H4,Results!$N$2:$O$11,2,FALSE) -> Biased Boys | J4: =SUM(K4:M4) -> 1 | K4: =IF(H4="X",0,IF(N4>O4,1,0)) -> 0 | L4: =IF(OR(C4>Results!$F$1,N4="N"),0,IF(H4="X",0,IF(N4=O4,1,0))) -> 0 | M4: =IF(H4="X",0,IF(N4<O4,1,0)) -> 1 | N4: =IF($C4>Results!$F$1," ",(VLOOKUP($D4,Results!$B$2:$H$244,7,FALSE))) -> 13 | O4: =IF($C4>Results!$F$1," ",(VLOOKUP($E4,Results!$C$2:$K$244,9,FALSE))) -> 14 | P4: =IF(J4=" "," ",SUM(K4*2)+L4*1) -> 0
B5: =+$H$1 -> E1 | C5: 3 | D5: =CONCATENATE(C5,B5) -> 3E1 | E5: =CONCATENATE(C5,H5) -> 3E3 | G5: =+Results!D20 -> 46297 | H5: =VLOOKUP($D5,Results!$B$2:$I$244,8,FALSE) -> E3 | I5: =VLOOKUP(H5,Results!$N$2:$O$11,2,FALSE) -> Riches Rollers | J5: =SUM(K5:M5) -> 1 | K5: =IF(H5="X",0,IF(N5>O5,1,0)) -> 1 | L5: =IF(OR(C5>Results!$F$1,N5="N"),0,IF(H5="X",0,IF(N5=O5,1,0))) -> 0 | M5: =IF(H5="X",0,IF(N5<O5,1,0)) -> 0 | N5: =IF($C5>Results!$F$1," ",(VLOOKUP($D5,Results!$B$2:$H$244,7,FALSE))) -> 13 | O5: =IF($C5>Results!$F$1," ",(VLOOKUP($E5,Results!$C$2:$K$244,9,FALSE))) -> 8 | P5: =IF(J5=" "," ",SUM(K5*2)+L5*1) -> 2 | R5: Played 29th Oct
B6: =+$H$1 -> E1 | C6: 4 | D6: =CONCATENATE(C6,B6) -> 4E1 | E6: =CONCATENATE(C6,H6) -> 4E4 | G6: =+Results!D29 -> 46303 | H6: =VLOOKUP($D6,Results!$B$2:$I$244,8,FALSE) -> E4 | I6: =VLOOKUP(H6,Results!$N$2:$O$11,2,FALSE) -> Bullets | J6: =SUM(K6:M6) -> 1 | K6: =IF(H6="X",0,IF(N6>O6,1,0)) -> 0 | L6: =IF(OR(C6>Results!$F$1,N6="N"),0,IF(H6="X",0,IF(N6=O6,1,0))) -> 0 | M6: =IF(H6="X",0,IF(N6<O6,1,0)) -> 1 | N6: =IF($C6>Results!$F$1," ",(VLOOKUP($D6,Results!$B$2:$H$244,7,FALSE))) -> 11 | O6: =IF($C6>Results!$F$1," ",(VLOOKUP($E6,Results!$C$2:$K$244,9,FALSE))) -> 20 | P6: =IF(J6=" "," ",SUM(K6*2)+L6*1) -> 0
B7: =+$H$1 -> E1 | C7: 5 | D7: =CONCATENATE(C7,B7) -> 5E1 | E7: =CONCATENATE(C7,H7) -> 5E6 | G7: =+Results!D38 -> 46311 | H7: =VLOOKUP($D7,Results!$B$2:$I$244,8,FALSE) -> E6 | I7: =VLOOKUP(H7,Results!$N$2:$O$11,2,FALSE) -> Starlite | J7: =SUM(K7:M7) -> 1 | K7: =IF(H7="X",0,IF(N7>O7,1,0)) -> 0 | L7: =IF(OR(C7>Results!$F$1,N7="N"),0,IF(H7="X",0,IF(N7=O7,1,0))) -> 0 | M7: =IF(H7="X",0,IF(N7<O7,1,0)) -> 1 | N7: =IF($C7>Results!$F$1," ",(VLOOKUP($D7,Results!$B$2:$H$244,7,FALSE))) -> 7 | O7: =IF($C7>Results!$F$1," ",(VLOOKUP($E7,Results!$C$2:$K$244,9,FALSE))) -> 26 | P7: =IF(J7=" "," ",SUM(K7*2)+L7*1) -> 0
B8: =+$H$1 -> E1 | C8: 6 | D8: =CONCATENATE(C8,B8) -> 6E1 | E8: =CONCATENATE(C8,H8) -> 6E7 | G8: =+Results!D47 -> 46317 | H8: =VLOOKUP($D8,Results!$B$2:$I$244,8,FALSE) -> E7 | I8: =VLOOKUP(H8,Results!$N$2:$O$11,2,FALSE) -> Golfers | J8: =SUM(K8:M8) -> 1 | K8: =IF(H8="X",0,IF(N8>O8,1,0)) -> 0 | L8: =IF(OR(C8>Results!$F$1,N8="N"),0,IF(H8="X",0,IF(N8=O8,1,0))) -> 0 | M8: =IF(H8="X",0,IF(N8<O8,1,0)) -> 1 | N8: =IF($C8>Results!$F$1," ",(VLOOKUP($D8,Results!$B$2:$H$244,7,FALSE))) -> 11 | O8: =IF($C8>Results!$F$1," ",(VLOOKUP($E8,Results!$C$2:$K$244,9,FALSE))) -> 15 | P8: =IF(J8=" "," ",SUM(K8*2)+L8*1) -> 0
B9: =+$H$1 -> E1 | C9: 7 | D9: =CONCATENATE(C9,B9) -> 7E1 | E9: =CONCATENATE(C9,H9) -> 7E8 | G9: =+Results!D56 -> 46325 | H9: =VLOOKUP($D9,Results!$B$2:$I$244,8,FALSE) -> E8 | I9: =VLOOKUP(H9,Results!$N$2:$O$11,2,FALSE) -> Green Wizards | J9: =SUM(K9:M9) -> 0 | K9: =IF(H9="X",0,IF(N9>O9,1,0)) -> 0 | L9: =IF(OR(C9>Results!$F$1,N9="N"),0,IF(H9="X",0,IF(N9=O9,1,0))) -> 0 | M9: =IF(H9="X",0,IF(N9<O9,1,0)) -> 0 | N9: =IF($C9>Results!$F$1," ",(VLOOKUP($D9,Results!$B$2:$H$244,7,FALSE))) | O9: =IF($C9>Results!$F$1," ",(VLOOKUP($E9,Results!$C$2:$K$244,9,FALSE))) | P9: =IF(J9=" "," ",SUM(K9*2)+L9*1) -> 0
B10: =+$H$1 -> E1 | C10: 8 | D10: =CONCATENATE(C10,B10) -> 8E1 | E10: =CONCATENATE(C10,H10) -> 8E5 | G10: =+Results!D65 -> 46331 | H10: =VLOOKUP($D10,Results!$B$2:$I$244,8,FALSE) -> E5 | I10: =VLOOKUP(H10,Results!$N$2:$O$11,2,FALSE) -> New Builds | J10: =SUM(K10:M10) -> 0 | K10: =IF(H10="X",0,IF(N10>O10,1,0)) -> 0 | L10: =IF(OR(C10>Results!$F$1,N10="N"),0,IF(H10="X",0,IF(N10=O10,1,0))) -> 0 | M10: =IF(H10="X",0,IF(N10<O10,1,0)) -> 0 | N10: =IF($C10>Results!$F$1," ",(VLOOKUP($D10,Results!$B$2:$H$244,7,FALSE))) | O10: =IF($C10>Results!$F$1," ",(VLOOKUP($E10,Results!$C$2:$K$244,9,FALSE))) | P10: =IF(J10=" "," ",SUM(K10*2)+L10*1) -> 0
B11: =+$H$1 -> E1 | C11: 9 | D11: =CONCATENATE(C11,B11) -> 9E1 | E11: =CONCATENATE(C11,H11) -> 9X | G11: =+Results!D74 -> 46339 | H11: =VLOOKUP($D11,Results!$B$2:$I$244,8,FALSE) -> X | I11: =VLOOKUP(H11,Results!$N$2:$O$11,2,FALSE) -> No Match | J11: =SUM(K11:M11) -> 0 | K11: =IF(H11="X",0,IF(N11>O11,1,0)) -> 0 | L11: =IF(OR(C11>Results!$F$1,N11="N"),0,IF(H11="X",0,IF(N11=O11,1,0))) -> 0 | M11: =IF(H11="X",0,IF(N11<O11,1,0)) -> 0 | N11: =IF($C11>Results!$F$1," ",(VLOOKUP($D11,Results!$B$2:$H$244,7,FALSE))) | O11: =IF($C11>Results!$F$1," ",(VLOOKUP($E11,Results!$C$2:$K$244,9,FALSE))) | P11: =IF(J11=" "," ",SUM(K11*2)+L11*1) -> 0
B12: =+$H$1 -> E1 | C12: 10 | D12: =CONCATENATE(C12,B12) -> 10E1 | E12: =CONCATENATE(C12,H12) -> 10E2 | G12: =+Results!D83 -> 46345 | H12: =VLOOKUP($D12,Results!$B$2:$I$244,8,FALSE) -> E2 | I12: =VLOOKUP(H12,Results!$N$2:$O$11,2,FALSE) -> Team Krewna | J12: =SUM(K12:M12) -> 0 | K12: =IF(H12="X",0,IF(N12>O12,1,0)) -> 0 | L12: =IF(OR(C12>Results!$F$1,N12="N"),0,IF(H12="X",0,IF(N12=O12,1,0))) -> 0 | M12: =IF(H12="X",0,IF(N12<O12,1,0)) -> 0 | N12: =IF($C12>Results!$F$1," ",(VLOOKUP($D12,Results!$B$2:$H$244,7,FALSE))) | O12: =IF($C12>Results!$F$1," ",(VLOOKUP($E12,Results!$C$2:$K$244,9,FALSE))) | P12: =IF(J12=" "," ",SUM(K12*2)+L12*1) -> 0
B13: =+$H$1 -> E1 | C13: 11 | D13: =CONCATENATE(C13,B13) -> 11E1 | E13: =CONCATENATE(C13,H13) -> 11E9 | G13: =+Results!D92 -> 46353 | H13: =VLOOKUP($D13,Results!$B$2:$I$244,8,FALSE) -> E9 | I13: =VLOOKUP(H13,Results!$N$2:$O$11,2,FALSE) -> Biased Boys | J13: =SUM(K13:M13) -> 0 | K13: =IF(H13="X",0,IF(N13>O13,1,0)) -> 0 | L13: =IF(OR(C13>Results!$F$1,N13="N"),0,IF(H13="X",0,IF(N13=O13,1,0))) -> 0 | M13: =IF(H13="X",0,IF(N13<O13,1,0)) -> 0 | N13: =IF($C13>Results!$F$1," ",(VLOOKUP($D13,Results!$B$2:$H$244,7,FALSE))) | O13: =IF($C13>Results!$F$1," ",(VLOOKUP($E13,Results!$C$2:$K$244,9,FALSE))) | P13: =IF(J13=" "," ",SUM(K13*2)+L13*1) -> 0
B14: =+$H$1 -> E1 | C14: 12 | D14: =CONCATENATE(C14,B14) -> 12E1 | E14: =CONCATENATE(C14,H14) -> 12E3 | G14: =+Results!D101 -> 46359 | H14: =VLOOKUP($D14,Results!$B$2:$I$244,8,FALSE) -> E3 | I14: =VLOOKUP(H14,Results!$N$2:$O$11,2,FALSE) -> Riches Rollers | J14: =SUM(K14:M14) -> 0 | K14: =IF(H14="X",0,IF(N14>O14,1,0)) -> 0 | L14: =IF(OR(C14>Results!$F$1,N14="N"),0,IF(H14="X",0,IF(N14=O14,1,0))) -> 0 | M14: =IF(H14="X",0,IF(N14<O14,1,0)) -> 0 | N14: =IF($C14>Results!$F$1," ",(VLOOKUP($D14,Results!$B$2:$H$244,7,FALSE))) | O14: =IF($C14>Results!$F$1," ",(VLOOKUP($E14,Results!$C$2:$K$244,9,FALSE))) | P14: =IF(J14=" "," ",SUM(K14*2)+L14*1) -> 0
B15: =+$H$1 -> E1 | C15: 13 | D15: =CONCATENATE(C15,B15) -> 13E1 | E15: =CONCATENATE(C15,H15) -> 13E4 | G15: =+Results!D110 -> 46367 | H15: =VLOOKUP($D15,Results!$B$2:$I$244,8,FALSE) -> E4 | I15: =VLOOKUP(H15,Results!$N$2:$O$11,2,FALSE) -> Bullets | J15: =SUM(K15:M15) -> 0 | K15: =IF(H15="X",0,IF(N15>O15,1,0)) -> 0 | L15: =IF(OR(C15>Results!$F$1,N15="N"),0,IF(H15="X",0,IF(N15=O15,1,0))) -> 0 | M15: =IF(H15="X",0,IF(N15<O15,1,0)) -> 0 | N15: =IF($C15>Results!$F$1," ",(VLOOKUP($D15,Results!$B$2:$H$244,7,FALSE))) | O15: =IF($C15>Results!$F$1," ",(VLOOKUP($E15,Results!$C$2:$K$244,9,FALSE))) | P15: =IF(J15=" "," ",SUM(K15*2)+L15*1) -> 0
B16: =+$H$1 -> E1 | C16: 14 | D16: =CONCATENATE(C16,B16) -> 14E1 | E16: =CONCATENATE(C16,H16) -> 14E6 | G16: =+Results!D119 -> 46373 | H16: =VLOOKUP($D16,Results!$B$2:$I$244,8,FALSE) -> E6 | I16: =VLOOKUP(H16,Results!$N$2:$O$11,2,FALSE) -> Starlite | J16: =SUM(K16:M16) -> 0 | K16: =IF(H16="X",0,IF(N16>O16,1,0)) -> 0 | L16: =IF(OR(C16>Results!$F$1,N16="N"),0,IF(H16="X",0,IF(N16=O16,1,0))) -> 0 | M16: =IF(H16="X",0,IF(N16<O16,1,0)) -> 0 | N16: =IF($C16>Results!$F$1," ",(VLOOKUP($D16,Results!$B$2:$H$244,7,FALSE))) | O16: =IF($C16>Results!$F$1," ",(VLOOKUP($E16,Results!$C$2:$K$244,9,FALSE))) | P16: =IF(J16=" "," ",SUM(K16*2)+L16*1) -> 0
B17: =+$H$1 -> E1 | C17: 15 | D17: =CONCATENATE(C17,B17) -> 15E1 | E17: =CONCATENATE(C17,H17) -> 15E7 | G17: =+Results!D128 -> 46395 | H17: =VLOOKUP($D17,Results!$B$2:$I$244,8,FALSE) -> E7 | I17: =VLOOKUP(H17,Results!$N$2:$O$11,2,FALSE) -> Golfers | J17: =SUM(K17:M17) -> 0 | K17: =IF(H17="X",0,IF(N17>O17,1,0)) -> 0 | L17: =IF(OR(C17>Results!$F$1,N17="N"),0,IF(H17="X",0,IF(N17=O17,1,0))) -> 0 | M17: =IF(H17="X",0,IF(N17<O17,1,0)) -> 0 | N17: =IF($C17>Results!$F$1," ",(VLOOKUP($D17,Results!$B$2:$H$244,7,FALSE))) | O17: =IF($C17>Results!$F$1," ",(VLOOKUP($E17,Results!$C$2:$K$244,9,FALSE))) | P17: =IF(J17=" "," ",SUM(K17*2)+L17*1) -> 0
B18: =+$H$1 -> E1 | C18: 16 | D18: =CONCATENATE(C18,B18) -> 16E1 | E18: =CONCATENATE(C18,H18) -> 16E8 | G18: =+Results!D137 -> 46401 | H18: =VLOOKUP($D18,Results!$B$2:$I$244,8,FALSE) -> E8 | I18: =VLOOKUP(H18,Results!$N$2:$O$11,2,FALSE) -> Green Wizards | J18: =SUM(K18:M18) -> 0 | K18: =IF(H18="X",0,IF(N18>O18,1,0)) -> 0 | L18: =IF(OR(C18>Results!$F$1,N18="N"),0,IF(H18="X",0,IF(N18=O18,1,0))) -> 0 | M18: =IF(H18="X",0,IF(N18<O18,1,0)) -> 0 | N18: =IF($C18>Results!$F$1," ",(VLOOKUP($D18,Results!$B$2:$H$244,7,FALSE))) | O18: =IF($C18>Results!$F$1," ",(VLOOKUP($E18,Results!$C$2:$K$244,9,FALSE))) | P18: =IF(J18=" "," ",SUM(K18*2)+L18*1) -> 0
B19: =+$H$1 -> E1 | C19: 17 | D19: =CONCATENATE(C19,B19) -> 17E1 | E19: =CONCATENATE(C19,H19) -> 17E5 | G19: =+Results!D146 -> 46409 | H19: =VLOOKUP($D19,Results!$B$2:$I$244,8,FALSE) -> E5 | I19: =VLOOKUP(H19,Results!$N$2:$O$11,2,FALSE) -> New Builds | J19: =SUM(K19:M19) -> 0 | K19: =IF(H19="X",0,IF(N19>O19,1,0)) -> 0 | L19: =IF(OR(C19>Results!$F$1,N19="N"),0,IF(H19="X",0,IF(N19=O19,1,0))) -> 0 | M19: =IF(H19="X",0,IF(N19<O19,1,0)) -> 0 | N19: =IF($C19>Results!$F$1," ",(VLOOKUP($D19,Results!$B$2:$H$244,7,FALSE))) | O19: =IF($C19>Results!$F$1," ",(VLOOKUP($E19,Results!$C$2:$K$244,9,FALSE))) | P19: =IF(J19=" "," ",SUM(K19*2)+L19*1) -> 0
B20: =+$H$1 -> E1 | C20: 18 | D20: =CONCATENATE(C20,B20) -> 18E1 | E20: =CONCATENATE(C20,H20) -> 18X | G20: =+Results!D155 -> 46415 | H20: =VLOOKUP($D20,Results!$B$2:$I$244,8,FALSE) -> X | I20: =VLOOKUP(H20,Results!$N$2:$O$11,2,FALSE) -> No Match | J20: =SUM(K20:M20) -> 0 | K20: =IF(H20="X",0,IF(N20>O20,1,0)) -> 0 | L20: =IF(OR(C20>Results!$F$1,N20="N"),0,IF(H20="X",0,IF(N20=O20,1,0))) -> 0 | M20: =IF(H20="X",0,IF(N20<O20,1,0)) -> 0 | N20: =IF($C20>Results!$F$1," ",(VLOOKUP($D20,Results!$B$2:$H$244,7,FALSE))) | O20: =IF($C20>Results!$F$1," ",(VLOOKUP($E20,Results!$C$2:$K$244,9,FALSE))) | P20: =IF(J20=" "," ",SUM(K20*2)+L20*1) -> 0
B21: =+$H$1 -> E1 | C21: 19 | D21: =CONCATENATE(C21,B21) -> 19E1 | E21: =CONCATENATE(C21,H21) -> 19E2 | G21: =+Results!D164 -> 46423 | H21: =VLOOKUP($D21,Results!$B$2:$I$244,8,FALSE) -> E2 | I21: =VLOOKUP(H21,Results!$N$2:$O$11,2,FALSE) -> Team Krewna | J21: =SUM(K21:M21) -> 0 | K21: =IF(H21="X",0,IF(N21>O21,1,0)) -> 0 | L21: =IF(OR(C21>Results!$F$1,N21="N"),0,IF(H21="X",0,IF(N21=O21,1,0))) -> 0 | M21: =IF(H21="X",0,IF(N21<O21,1,0)) -> 0 | N21: =IF($C21>Results!$F$1," ",(VLOOKUP($D21,Results!$B$2:$H$244,7,FALSE))) | O21: =IF($C21>Results!$F$1," ",(VLOOKUP($E21,Results!$C$2:$K$244,9,FALSE))) | P21: =IF(J21=" "," ",SUM(K21*2)+L21*1) -> 0
B22: =+$H$1 -> E1 | C22: 20 | D22: =CONCATENATE(C22,B22) -> 20E1 | E22: =CONCATENATE(C22,H22) -> 20E9 | G22: =+Results!D173 -> 46429 | H22: =VLOOKUP($D22,Results!$B$2:$I$244,8,FALSE) -> E9 | I22: =VLOOKUP(H22,Results!$N$2:$O$11,2,FALSE) -> Biased Boys | J22: =SUM(K22:M22) -> 0 | K22: =IF(H22="X",0,IF(N22>O22,1,0)) -> 0 | L22: =IF(OR(C22>Results!$F$1,N22="N"),0,IF(H22="X",0,IF(N22=O22,1,0))) -> 0 | M22: =IF(H22="X",0,IF(N22<O22,1,0)) -> 0 | N22: =IF($C22>Results!$F$1," ",(VLOOKUP($D22,Results!$B$2:$H$244,7,FALSE))) | O22: =IF($C22>Results!$F$1," ",(VLOOKUP($E22,Results!$C$2:$K$244,9,FALSE))) | P22: =IF(J22=" "," ",SUM(K22*2)+L22*1) -> 0
B23: =+$H$1 -> E1 | C23: 21 | D23: =CONCATENATE(C23,B23) -> 21E1 | E23: =CONCATENATE(C23,H23) -> 21E3 | G23: =+Results!D182 -> 46437 | H23: =VLOOKUP($D23,Results!$B$2:$I$244,8,FALSE) -> E3 | I23: =VLOOKUP(H23,Results!$N$2:$O$11,2,FALSE) -> Riches Rollers | J23: =SUM(K23:M23) -> 0 | K23: =IF(H23="X",0,IF(N23>O23,1,0)) -> 0 | L23: =IF(OR(C23>Results!$F$1,N23="N"),0,IF(H23="X",0,IF(N23=O23,1,0))) -> 0 | M23: =IF(H23="X",0,IF(N23<O23,1,0)) -> 0 | N23: =IF($C23>Results!$F$1," ",(VLOOKUP($D23,Results!$B$2:$H$244,7,FALSE))) | O23: =IF($C23>Results!$F$1," ",(VLOOKUP($E23,Results!$C$2:$K$244,9,FALSE))) | P23: =IF(J23=" "," ",SUM(K23*2)+L23*1) -> 0
B24: =+$H$1 -> E1 | C24: 22 | D24: =CONCATENATE(C24,B24) -> 22E1 | E24: =CONCATENATE(C24,H24) -> 22E4 | G24: =+Results!D191 -> 46443 | H24: =VLOOKUP($D24,Results!$B$2:$I$244,8,FALSE) -> E4 | I24: =VLOOKUP(H24,Results!$N$2:$O$11,2,FALSE) -> Bullets | J24: =SUM(K24:M24) -> 0 | K24: =IF(H24="X",0,IF(N24>O24,1,0)) -> 0 | L24: =IF(OR(C24>Results!$F$1,N24="N"),0,IF(H24="X",0,IF(N24=O24,1,0))) -> 0 | M24: =IF(H24="X",0,IF(N24<O24,1,0)) -> 0 | N24: =IF($C24>Results!$F$1," ",(VLOOKUP($D24,Results!$B$2:$H$244,7,FALSE))) | O24: =IF($C24>Results!$F$1," ",(VLOOKUP($E24,Results!$C$2:$K$244,9,FALSE))) | P24: =IF(J24=" "," ",SUM(K24*2)+L24*1) -> 0
B25: =+$H$1 -> E1 | C25: 23 | D25: =CONCATENATE(C25,B25) -> 23E1 | E25: =CONCATENATE(C25,H25) -> 23E6 | G25: =+Results!D200 -> 46451 | H25: =VLOOKUP($D25,Results!$B$2:$I$244,8,FALSE) -> E6 | I25: =VLOOKUP(H25,Results!$N$2:$O$11,2,FALSE) -> Starlite | J25: =SUM(K25:M25) -> 0 | K25: =IF(H25="X",0,IF(N25>O25,1,0)) -> 0 | L25: =IF(OR(C25>Results!$F$1,N25="N"),0,IF(H25="X",0,IF(N25=O25,1,0))) -> 0 | M25: =IF(H25="X",0,IF(N25<O25,1,0)) -> 0 | N25: =IF($C25>Results!$F$1," ",(VLOOKUP($D25,Results!$B$2:$H$244,7,FALSE))) | O25: =IF($C25>Results!$F$1," ",(VLOOKUP($E25,Results!$C$2:$K$244,9,FALSE))) | P25: =IF(J25=" "," ",SUM(K25*2)+L25*1) -> 0
B26: =+$H$1 -> E1 | C26: 24 | D26: =CONCATENATE(C26,B26) -> 24E1 | E26: =CONCATENATE(C26,H26) -> 24E7 | G26: =+Results!D209 -> 46457 | H26: =VLOOKUP($D26,Results!$B$2:$I$244,8,FALSE) -> E7 | I26: =VLOOKUP(H26,Results!$N$2:$O$11,2,FALSE) -> Golfers | J26: =SUM(K26:M26) -> 0 | K26: =IF(H26="X",0,IF(N26>O26,1,0)) -> 0 | L26: =IF(OR(C26>Results!$F$1,N26="N"),0,IF(H26="X",0,IF(N26=O26,1,0))) -> 0 | M26: =IF(H26="X",0,IF(N26<O26,1,0)) -> 0 | N26: =IF($C26>Results!$F$1," ",(VLOOKUP($D26,Results!$B$2:$H$244,7,FALSE))) | O26: =IF($C26>Results!$F$1," ",(VLOOKUP($E26,Results!$C$2:$K$244,9,FALSE))) | P26: =IF(J26=" "," ",SUM(K26*2)+L26*1) -> 0
B27: =+$H$1 -> E1 | C27: 25 | D27: =CONCATENATE(C27,B27) -> 25E1 | E27: =CONCATENATE(C27,H27) -> 25E8 | G27: =+Results!D218 -> 46465 | H27: =VLOOKUP($D27,Results!$B$2:$I$244,8,FALSE) -> E8 | I27: =VLOOKUP(H27,Results!$N$2:$O$11,2,FALSE) -> Green Wizards | J27: =SUM(K27:M27) -> 0 | K27: =IF(H27="X",0,IF(N27>O27,1,0)) -> 0 | L27: =IF(OR(C27>Results!$F$1,N27="N"),0,IF(H27="X",0,IF(N27=O27,1,0))) -> 0 | M27: =IF(H27="X",0,IF(N27<O27,1,0)) -> 0 | N27: =IF($C27>Results!$F$1," ",(VLOOKUP($D27,Results!$B$2:$H$244,7,FALSE))) | O27: =IF($C27>Results!$F$1," ",(VLOOKUP($E27,Results!$C$2:$K$244,9,FALSE))) | P27: =IF(J27=" "," ",SUM(K27*2)+L27*1) -> 0
B28: =+$H$1 -> E1 | C28: 26 | D28: =CONCATENATE(C28,B28) -> 26E1 | E28: =CONCATENATE(C28,H28) -> 26E5 | G28: =+Results!D227 -> 46471 | H28: =VLOOKUP($D28,Results!$B$2:$I$244,8,FALSE) -> E5 | I28: =VLOOKUP(H28,Results!$N$2:$O$11,2,FALSE) -> New Builds | J28: =SUM(K28:M28) -> 0 | K28: =IF(H28="X",0,IF(N28>O28,1,0)) -> 0 | L28: =IF(OR(C28>Results!$F$1,N28="N"),0,IF(H28="X",0,IF(N28=O28,1,0))) -> 0 | M28: =IF(H28="X",0,IF(N28<O28,1,0)) -> 0 | N28: =IF($C28>Results!$F$1," ",(VLOOKUP($D28,Results!$B$2:$H$244,7,FALSE))) | O28: =IF($C28>Results!$F$1," ",(VLOOKUP($E28,Results!$C$2:$K$244,9,FALSE))) | P28: =IF(J28=" "," ",SUM(K28*2)+L28*1) -> 0
B29: =+$H$1 -> E1 | C29: 27 | D29: =CONCATENATE(C29,B29) -> 27E1 | E29: =CONCATENATE(C29,H29) -> 27X | G29: =+Results!D236 -> 46479 | H29: =VLOOKUP($D29,Results!$B$2:$I$244,8,FALSE) -> X | I29: =VLOOKUP(H29,Results!$N$2:$O$11,2,FALSE) -> No Match | J29: =SUM(K29:M29) -> 0 | K29: =IF(H29="X",0,IF(N29>O29,1,0)) -> 0 | L29: =IF(OR(C29>Results!$F$1,N29="N"),0,IF(H29="X",0,IF(N29=O29,1,0))) -> 0 | M29: =IF(H29="X",0,IF(N29<O29,1,0)) -> 0 | N29: =IF($C29>Results!$F$1," ",(VLOOKUP($D29,Results!$B$2:$H$244,7,FALSE))) | O29: =IF($C29>Results!$F$1," ",(VLOOKUP($E29,Results!$C$2:$K$244,9,FALSE))) | P29: =IF(J29=" "," ",SUM(K29*2)+L29*1) -> 0
I30: TOTALS | J30: =SUM(J3:J29) -> 6 | K30: =SUM(K3:K29) -> 1 | L30: =SUM(L3:L29) -> 0 | M30: =SUM(M3:M29) -> 5 | N30: =SUM(N3:N29) -> 70 | O30: =SUM(O3:O29) -> 101 | P30: =SUM(P3:P29) -> 2

Sheet E2 TEAM KREWNA
H1: E2 | I1: TEAM KREWNA
D2: F | E2: A | G2: Date | H2: Code | I2: Opponents | J2: Played | K2: Won | L2: Drawn | M2: Lost | N2: Shots For | O2: Shots Against | P2: Pts
B3: =+$H$1 -> E2 | C3: 1 | D3: =CONCATENATE(C3,B3) -> 1E2 | E3: =CONCATENATE(C3,H3) -> 1E1 | G3: =+Results!D2 -> 46283 | H3: =VLOOKUP($D3,Results!$B$2:$I$244,8,FALSE) -> E1 | I3: =VLOOKUP(H3,Results!$N$2:$O$11,2,FALSE) -> Misfits | J3: =SUM(K3:M3) -> 1 | K3: =IF(H3="X",0,IF(N3>O3,1,0)) -> 1 | L3: =IF(OR(C3>Results!$F$1,N3="N"),0,IF(H3="X",0,IF(N3=O3,1,0))) -> 0 | M3: =IF(H3="X",0,IF(N3<O3,1,0)) -> 0 | N3: =IF($C3>Results!$F$1," ",(VLOOKUP($D3,Results!$B$2:$H$244,7,FALSE))) -> 18 | O3: =IF($C3>Results!$F$1," ",(VLOOKUP($E3,Results!$C$2:$K$244,9,FALSE))) -> 15 | P3: =IF(J3=" "," ",SUM(K3*2)+L3*1) -> 2 | R3: Played 15th Oct
B4: =+$H$1 -> E2 | C4: 2 | D4: =CONCATENATE(C4,B4) -> 2E2 | E4: =CONCATENATE(C4,H4) -> 2E3 | G4: =+Results!D11 -> 46289 | H4: =VLOOKUP($D4,Results!$B$2:$I$244,8,FALSE) -> E3 | I4: =VLOOKUP(H4,Results!$N$2:$O$11,2,FALSE) -> Riches Rollers | J4: =SUM(K4:M4) -> 1 | K4: =IF(H4="X",0,IF(N4>O4,1,0)) -> 0 | L4: =IF(OR(C4>Results!$F$1,N4="N"),0,IF(H4="X",0,IF(N4=O4,1,0))) -> 0 | M4: =IF(H4="X",0,IF(N4<O4,1,0)) -> 1 | N4: =IF($C4>Results!$F$1," ",(VLOOKUP($D4,Results!$B$2:$H$244,7,FALSE))) -> 9 | O4: =IF($C4>Results!$F$1," ",(VLOOKUP($E4,Results!$C$2:$K$244,9,FALSE))) -> 17 | P4: =IF(J4=" "," ",SUM(K4*2)+L4*1) -> 0
B5: =+$H$1 -> E2 | C5: 3 | D5: =CONCATENATE(C5,B5) -> 3E2 | E5: =CONCATENATE(C5,H5) -> 3E4 | G5: =+Results!D20 -> 46297 | H5: =VLOOKUP($D5,Results!$B$2:$I$244,8,FALSE) -> E4 | I5: =VLOOKUP(H5,Results!$N$2:$O$11,2,FALSE) -> Bullets | J5: =SUM(K5:M5) -> 1 | K5: =IF(H5="X",0,IF(N5>O5,1,0)) -> 1 | L5: =IF(OR(C5>Results!$F$1,N5="N"),0,IF(H5="X",0,IF(N5=O5,1,0))) -> 0 | M5: =IF(H5="X",0,IF(N5<O5,1,0)) -> 0 | N5: =IF($C5>Results!$F$1," ",(VLOOKUP($D5,Results!$B$2:$H$244,7,FALSE))) -> 18 | O5: =IF($C5>Results!$F$1," ",(VLOOKUP($E5,Results!$C$2:$K$244,9,FALSE))) -> 15 | P5: =IF(J5=" "," ",SUM(K5*2)+L5*1) -> 2
B6: =+$H$1 -> E2 | C6: 4 | D6: =CONCATENATE(C6,B6) -> 4E2 | E6: =CONCATENATE(C6,H6) -> 4E7 | G6: =+Results!D29 -> 46303 | H6: =VLOOKUP($D6,Results!$B$2:$I$244,8,FALSE) -> E7 | I6: =VLOOKUP(H6,Results!$N$2:$O$11,2,FALSE) -> Golfers | J6: =SUM(K6:M6) -> 1 | K6: =IF(H6="X",0,IF(N6>O6,1,0)) -> 1 | L6: =IF(OR(C6>Results!$F$1,N6="N"),0,IF(H6="X",0,IF(N6=O6,1,0))) -> 0 | M6: =IF(H6="X",0,IF(N6<O6,1,0)) -> 0 | N6: =IF($C6>Results!$F$1," ",(VLOOKUP($D6,Results!$B$2:$H$244,7,FALSE))) -> 17 | O6: =IF($C6>Results!$F$1," ",(VLOOKUP($E6,Results!$C$2:$K$244,9,FALSE))) -> 13 | P6: =IF(J6=" "," ",SUM(K6*2)+L6*1) -> 2
B7: =+$H$1 -> E2 | C7: 5 | D7: =CONCATENATE(C7,B7) -> 5E2 | E7: =CONCATENATE(C7,H7) -> 5E8 | G7: =+Results!D38 -> 46311 | H7: =VLOOKUP($D7,Results!$B$2:$I$244,8,FALSE) -> E8 | I7: =VLOOKUP(H7,Results!$N$2:$O$11,2,FALSE) -> Green Wizards | J7: =SUM(K7:M7) -> 1 | K7: =IF(H7="X",0,IF(N7>O7,1,0)) -> 1 | L7: =IF(OR(C7>Results!$F$1,N7="N"),0,IF(H7="X",0,IF(N7=O7,1,0))) -> 0 | M7: =IF(H7="X",0,IF(N7<O7,1,0)) -> 0 | N7: =IF($C7>Results!$F$1," ",(VLOOKUP($D7,Results!$B$2:$H$244,7,FALSE))) -> 21 | O7: =IF($C7>Results!$F$1," ",(VLOOKUP($E7,Results!$C$2:$K$244,9,FALSE))) -> 9 | P7: =IF(J7=" "," ",SUM(K7*2)+L7*1) -> 2
B8: =+$H$1 -> E2 | C8: 6 | D8: =CONCATENATE(C8,B8) -> 6E2 | E8: =CONCATENATE(C8,H8) -> 6E6 | G8: =+Results!D47 -> 46317 | H8: =VLOOKUP($D8,Results!$B$2:$I$244,8,FALSE) -> E6 | I8: =VLOOKUP(H8,Results!$N$2:$O$11,2,FALSE) -> Starlite | J8: =SUM(K8:M8) -> 0 | K8: =IF(H8="X",0,IF(N8>O8,1,0)) -> 0 | L8: =IF(OR(C8>Results!$F$1,N8="N"),0,IF(H8="X",0,IF(N8=O8,1,0))) -> 0 | M8: =IF(H8="X",0,IF(N8<O8,1,0)) -> 0 | N8: =IF($C8>Results!$F$1," ",(VLOOKUP($D8,Results!$B$2:$H$244,7,FALSE))) -> N | O8: =IF($C8>Results!$F$1," ",(VLOOKUP($E8,Results!$C$2:$K$244,9,FALSE))) -> N | P8: =IF(J8=" "," ",SUM(K8*2)+L8*1) -> 0
B9: =+$H$1 -> E2 | C9: 7 | D9: =CONCATENATE(C9,B9) -> 7E2 | E9: =CONCATENATE(C9,H9) -> 7E5 | G9: =+Results!D56 -> 46325 | H9: =VLOOKUP($D9,Results!$B$2:$I$244,8,FALSE) -> E5 | I9: =VLOOKUP(H9,Results!$N$2:$O$11,2,FALSE) -> New Builds | J9: =SUM(K9:M9) -> 0 | K9: =IF(H9="X",0,IF(N9>O9,1,0)) -> 0 | L9: =IF(OR(C9>Results!$F$1,N9="N"),0,IF(H9="X",0,IF(N9=O9,1,0))) -> 0 | M9: =IF(H9="X",0,IF(N9<O9,1,0)) -> 0 | N9: =IF($C9>Results!$F$1," ",(VLOOKUP($D9,Results!$B$2:$H$244,7,FALSE))) | O9: =IF($C9>Results!$F$1," ",(VLOOKUP($E9,Results!$C$2:$K$244,9,FALSE))) | P9: =IF(J9=" "," ",SUM(K9*2)+L9*1) -> 0
B10: =+$H$1 -> E2 | C10: 8 | D10: =CONCATENATE(C10,B10) -> 8E2 | E10: =CONCATENATE(C10,H10) -> 8X | G10: =+Results!D65 -> 46331 | H10: =VLOOKUP($D10,Results!$B$2:$I$244,8,FALSE) -> X | I10: =VLOOKUP(H10,Results!$N$2:$O$11,2,FALSE) -> No Match | J10: =SUM(K10:M10) -> 0 | K10: =IF(H10="X",0,IF(N10>O10,1,0)) -> 0 | L10: =IF(OR(C10>Results!$F$1,N10="N"),0,IF(H10="X",0,IF(N10=O10,1,0))) -> 0 | M10: =IF(H10="X",0,IF(N10<O10,1,0)) -> 0 | N10: =IF($C10>Results!$F$1," ",(VLOOKUP($D10,Results!$B$2:$H$244,7,FALSE))) | O10: =IF($C10>Results!$F$1," ",(VLOOKUP($E10,Results!$C$2:$K$244,9,FALSE))) | P10: =IF(J10=" "," ",SUM(K10*2)+L10*1) -> 0
B11: =+$H$1 -> E2 | C11: 9 | D11: =CONCATENATE(C11,B11) -> 9E2 | E11: =CONCATENATE(C11,H11) -> 9E9 | G11: =+Results!D74 -> 46339 | H11: =VLOOKUP($D11,Results!$B$2:$I$244,8,FALSE) -> E9 | I11: =VLOOKUP(H11,Results!$N$2:$O$11,2,FALSE) -> Biased Boys | J11: =SUM(K11:M11) -> 0 | K11: =IF(H11="X",0,IF(N11>O11,1,0)) -> 0 | L11: =IF(OR(C11>Results!$F$1,N11="N"),0,IF(H11="X",0,IF(N11=O11,1,0))) -> 0 | M11: =IF(H11="X",0,IF(N11<O11,1,0)) -> 0 | N11: =IF($C11>Results!$F$1," ",(VLOOKUP($D11,Results!$B$2:$H$244,7,FALSE))) | O11: =IF($C11>Results!$F$1," ",(VLOOKUP($E11,Results!$C$2:$K$244,9,FALSE))) | P11: =IF(J11=" "," ",SUM(K11*2)+L11*1) -> 0
B12: =+$H$1 -> E2 | C12: 10 | D12: =CONCATENATE(C12,B12) -> 10E2 | E12: =CONCATENATE(C12,H12) -> 10E1 | G12: =+Results!D83 -> 46345 | H12: =VLOOKUP($D12,Results!$B$2:$I$244,8,FALSE) -> E1 | I12: =VLOOKUP(H12,Results!$N$2:$O$11,2,FALSE) -> Misfits | J12: =SUM(K12:M12) -> 0 | K12: =IF(H12="X",0,IF(N12>O12,1,0)) -> 0 | L12: =IF(OR(C12>Results!$F$1,N12="N"),0,IF(H12="X",0,IF(N12=O12,1,0))) -> 0 | M12: =IF(H12="X",0,IF(N12<O12,1,0)) -> 0 | N12: =IF($C12>Results!$F$1," ",(VLOOKUP($D12,Results!$B$2:$H$244,7,FALSE))) | O12: =IF($C12>Results!$F$1," ",(VLOOKUP($E12,Results!$C$2:$K$244,9,FALSE))) | P12: =IF(J12=" "," ",SUM(K12*2)+L12*1) -> 0
B13: =+$H$1 -> E2 | C13: 11 | D13: =CONCATENATE(C13,B13) -> 11E2 | E13: =CONCATENATE(C13,H13) -> 11E3 | G13: =+Results!D92 -> 46353 | H13: =VLOOKUP($D13,Results!$B$2:$I$244,8,FALSE) -> E3 | I13: =VLOOKUP(H13,Results!$N$2:$O$11,2,FALSE) -> Riches Rollers | J13: =SUM(K13:M13) -> 0 | K13: =IF(H13="X",0,IF(N13>O13,1,0)) -> 0 | L13: =IF(OR(C13>Results!$F$1,N13="N"),0,IF(H13="X",0,IF(N13=O13,1,0))) -> 0 | M13: =IF(H13="X",0,IF(N13<O13,1,0)) -> 0 | N13: =IF($C13>Results!$F$1," ",(VLOOKUP($D13,Results!$B$2:$H$244,7,FALSE))) | O13: =IF($C13>Results!$F$1," ",(VLOOKUP($E13,Results!$C$2:$K$244,9,FALSE))) | P13: =IF(J13=" "," ",SUM(K13*2)+L13*1) -> 0
B14: =+$H$1 -> E2 | C14: 12 | D14: =CONCATENATE(C14,B14) -> 12E2 | E14: =CONCATENATE(C14,H14) -> 12E4 | G14: =+Results!D101 -> 46359 | H14: =VLOOKUP($D14,Results!$B$2:$I$244,8,FALSE) -> E4 | I14: =VLOOKUP(H14,Results!$N$2:$O$11,2,FALSE) -> Bullets | J14: =SUM(K14:M14) -> 0 | K14: =IF(H14="X",0,IF(N14>O14,1,0)) -> 0 | L14: =IF(OR(C14>Results!$F$1,N14="N"),0,IF(H14="X",0,IF(N14=O14,1,0))) -> 0 | M14: =IF(H14="X",0,IF(N14<O14,1,0)) -> 0 | N14: =IF($C14>Results!$F$1," ",(VLOOKUP($D14,Results!$B$2:$H$244,7,FALSE))) | O14: =IF($C14>Results!$F$1," ",(VLOOKUP($E14,Results!$C$2:$K$244,9,FALSE))) | P14: =IF(J14=" "," ",SUM(K14*2)+L14*1) -> 0
B15: =+$H$1 -> E2 | C15: 13 | D15: =CONCATENATE(C15,B15) -> 13E2 | E15: =CONCATENATE(C15,H15) -> 13E7 | G15: =+Results!D110 -> 46367 | H15: =VLOOKUP($D15,Results!$B$2:$I$244,8,FALSE) -> E7 | I15: =VLOOKUP(H15,Results!$N$2:$O$11,2,FALSE) -> Golfers | J15: =SUM(K15:M15) -> 0 | K15: =IF(H15="X",0,IF(N15>O15,1,0)) -> 0 | L15: =IF(OR(C15>Results!$F$1,N15="N"),0,IF(H15="X",0,IF(N15=O15,1,0))) -> 0 | M15: =IF(H15="X",0,IF(N15<O15,1,0)) -> 0 | N15: =IF($C15>Results!$F$1," ",(VLOOKUP($D15,Results!$B$2:$H$244,7,FALSE))) | O15: =IF($C15>Results!$F$1," ",(VLOOKUP($E15,Results!$C$2:$K$244,9,FALSE))) | P15: =IF(J15=" "," ",SUM(K15*2)+L15*1) -> 0
B16: =+$H$1 -> E2 | C16: 14 | D16: =CONCATENATE(C16,B16) -> 14E2 | E16: =CONCATENATE(C16,H16) -> 14E8 | G16: =+Results!D119 -> 46373 | H16: =VLOOKUP($D16,Results!$B$2:$I$244,8,FALSE) -> E8 | I16: =VLOOKUP(H16,Results!$N$2:$O$11,2,FALSE) -> Green Wizards | J16: =SUM(K16:M16) -> 0 | K16: =IF(H16="X",0,IF(N16>O16,1,0)) -> 0 | L16: =IF(OR(C16>Results!$F$1,N16="N"),0,IF(H16="X",0,IF(N16=O16,1,0))) -> 0 | M16: =IF(H16="X",0,IF(N16<O16,1,0)) -> 0 | N16: =IF($C16>Results!$F$1," ",(VLOOKUP($D16,Results!$B$2:$H$244,7,FALSE))) | O16: =IF($C16>Results!$F$1," ",(VLOOKUP($E16,Results!$C$2:$K$244,9,FALSE))) | P16: =IF(J16=" "," ",SUM(K16*2)+L16*1) -> 0
B17: =+$H$1 -> E2 | C17: 15 | D17: =CONCATENATE(C17,B17) -> 15E2 | E17: =CONCATENATE(C17,H17) -> 15E6 | G17: =+Results!D128 -> 46395 | H17: =VLOOKUP($D17,Results!$B$2:$I$244,8,FALSE) -> E6 | I17: =VLOOKUP(H17,Results!$N$2:$O$11,2,FALSE) -> Starlite | J17: =SUM(K17:M17) -> 0 | K17: =IF(H17="X",0,IF(N17>O17,1,0)) -> 0 | L17: =IF(OR(C17>Results!$F$1,N17="N"),0,IF(H17="X",0,IF(N17=O17,1,0))) -> 0 | M17: =IF(H17="X",0,IF(N17<O17,1,0)) -> 0 | N17: =IF($C17>Results!$F$1," ",(VLOOKUP($D17,Results!$B$2:$H$244,7,FALSE))) | O17: =IF($C17>Results!$F$1," ",(VLOOKUP($E17,Results!$C$2:$K$244,9,FALSE))) | P17: =IF(J17=" "," ",SUM(K17*2)+L17*1) -> 0
B18: =+$H$1 -> E2 | C18: 16 | D18: =CONCATENATE(C18,B18) -> 16E2 | E18: =CONCATENATE(C18,H18) -> 16E5 | G18: =+Results!D137 -> 46401 | H18: =VLOOKUP($D18,Results!$B$2:$I$244,8,FALSE) -> E5 | I18: =VLOOKUP(H18,Results!$N$2:$O$11,2,FALSE) -> New Builds | J18: =SUM(K18:M18) -> 0 | K18: =IF(H18="X",0,IF(N18>O18,1,0)) -> 0 | L18: =IF(OR(C18>Results!$F$1,N18="N"),0,IF(H18="X",0,IF(N18=O18,1,0))) -> 0 | M18: =IF(H18="X",0,IF(N18<O18,1,0)) -> 0 | N18: =IF($C18>Results!$F$1," ",(VLOOKUP($D18,Results!$B$2:$H$244,7,FALSE))) | O18: =IF($C18>Results!$F$1," ",(VLOOKUP($E18,Results!$C$2:$K$244,9,FALSE))) | P18: =IF(J18=" "," ",SUM(K18*2)+L18*1) -> 0
B19: =+$H$1 -> E2 | C19: 17 | D19: =CONCATENATE(C19,B19) -> 17E2 | E19: =CONCATENATE(C19,H19) -> 17X | G19: =+Results!D146 -> 46409 | H19: =VLOOKUP($D19,Results!$B$2:$I$244,8,FALSE) -> X | I19: =VLOOKUP(H19,Results!$N$2:$O$11,2,FALSE) -> No Match | J19: =SUM(K19:M19) -> 0 | K19: =IF(H19="X",0,IF(N19>O19,1,0)) -> 0 | L19: =IF(OR(C19>Results!$F$1,N19="N"),0,IF(H19="X",0,IF(N19=O19,1,0))) -> 0 | M19: =IF(H19="X",0,IF(N19<O19,1,0)) -> 0 | N19: =IF($C19>Results!$F$1," ",(VLOOKUP($D19,Results!$B$2:$H$244,7,FALSE))) | O19: =IF($C19>Results!$F$1," ",(VLOOKUP($E19,Results!$C$2:$K$244,9,FALSE))) | P19: =IF(J19=" "," ",SUM(K19*2)+L19*1) -> 0
B20: =+$H$1 -> E2 | C20: 18 | D20: =CONCATENATE(C20,B20) -> 18E2 | E20: =CONCATENATE(C20,H20) -> 18E9 | G20: =+Results!D155 -> 46415 | H20: =VLOOKUP($D20,Results!$B$2:$I$244,8,FALSE) -> E9 | I20: =VLOOKUP(H20,Results!$N$2:$O$11,2,FALSE) -> Biased Boys | J20: =SUM(K20:M20) -> 0 | K20: =IF(H20="X",0,IF(N20>O20,1,0)) -> 0 | L20: =IF(OR(C20>Results!$F$1,N20="N"),0,IF(H20="X",0,IF(N20=O20,1,0))) -> 0 | M20: =IF(H20="X",0,IF(N20<O20,1,0)) -> 0 | N20: =IF($C20>Results!$F$1," ",(VLOOKUP($D20,Results!$B$2:$H$244,7,FALSE))) | O20: =IF($C20>Results!$F$1," ",(VLOOKUP($E20,Results!$C$2:$K$244,9,FALSE))) | P20: =IF(J20=" "," ",SUM(K20*2)+L20*1) -> 0
B21: =+$H$1 -> E2 | C21: 19 | D21: =CONCATENATE(C21,B21) -> 19E2 | E21: =CONCATENATE(C21,H21) -> 19E1 | G21: =+Results!D164 -> 46423 | H21: =VLOOKUP($D21,Results!$B$2:$I$244,8,FALSE) -> E1 | I21: =VLOOKUP(H21,Results!$N$2:$O$11,2,FALSE) -> Misfits | J21: =SUM(K21:M21) -> 0 | K21: =IF(H21="X",0,IF(N21>O21,1,0)) -> 0 | L21: =IF(OR(C21>Results!$F$1,N21="N"),0,IF(H21="X",0,IF(N21=O21,1,0))) -> 0 | M21: =IF(H21="X",0,IF(N21<O21,1,0)) -> 0 | N21: =IF($C21>Results!$F$1," ",(VLOOKUP($D21,Results!$B$2:$H$244,7,FALSE))) | O21: =IF($C21>Results!$F$1," ",(VLOOKUP($E21,Results!$C$2:$K$244,9,FALSE))) | P21: =IF(J21=" "," ",SUM(K21*2)+L21*1) -> 0
B22: =+$H$1 -> E2 | C22: 20 | D22: =CONCATENATE(C22,B22) -> 20E2 | E22: =CONCATENATE(C22,H22) -> 20E3 | G22: =+Results!D173 -> 46429 | H22: =VLOOKUP($D22,Results!$B$2:$I$244,8,FALSE) -> E3 | I22: =VLOOKUP(H22,Results!$N$2:$O$11,2,FALSE) -> Riches Rollers | J22: =SUM(K22:M22) -> 0 | K22: =IF(H22="X",0,IF(N22>O22,1,0)) -> 0 | L22: =IF(OR(C22>Results!$F$1,N22="N"),0,IF(H22="X",0,IF(N22=O22,1,0))) -> 0 | M22: =IF(H22="X",0,IF(N22<O22,1,0)) -> 0 | N22: =IF($C22>Results!$F$1," ",(VLOOKUP($D22,Results!$B$2:$H$244,7,FALSE))) | O22: =IF($C22>Results!$F$1," ",(VLOOKUP($E22,Results!$C$2:$K$244,9,FALSE))) | P22: =IF(J22=" "," ",SUM(K22*2)+L22*1) -> 0
B23: =+$H$1 -> E2 | C23: 21 | D23: =CONCATENATE(C23,B23) -> 21E2 | E23: =CONCATENATE(C23,H23) -> 21E4 | G23: =+Results!D182 -> 46437 | H23: =VLOOKUP($D23,Results!$B$2:$I$244,8,FALSE) -> E4 | I23: =VLOOKUP(H23,Results!$N$2:$O$11,2,FALSE) -> Bullets | J23: =SUM(K23:M23) -> 0 | K23: =IF(H23="X",0,IF(N23>O23,1,0)) -> 0 | L23: =IF(OR(C23>Results!$F$1,N23="N"),0,IF(H23="X",0,IF(N23=O23,1,0))) -> 0 | M23: =IF(H23="X",0,IF(N23<O23,1,0)) -> 0 | N23: =IF($C23>Results!$F$1," ",(VLOOKUP($D23,Results!$B$2:$H$244,7,FALSE))) | O23: =IF($C23>Results!$F$1," ",(VLOOKUP($E23,Results!$C$2:$K$244,9,FALSE))) | P23: =IF(J23=" "," ",SUM(K23*2)+L23*1) -> 0
B24: =+$H$1 -> E2 | C24: 22 | D24: =CONCATENATE(C24,B24) -> 22E2 | E24: =CONCATENATE(C24,H24) -> 22E7 | G24: =+Results!D191 -> 46443 | H24: =VLOOKUP($D24,Results!$B$2:$I$244,8,FALSE) -> E7 | I24: =VLOOKUP(H24,Results!$N$2:$O$11,2,FALSE) -> Golfers | J24: =SUM(K24:M24) -> 0 | K24: =IF(H24="X",0,IF(N24>O24,1,0)) -> 0 | L24: =IF(OR(C24>Results!$F$1,N24="N"),0,IF(H24="X",0,IF(N24=O24,1,0))) -> 0 | M24: =IF(H24="X",0,IF(N24<O24,1,0)) -> 0 | N24: =IF($C24>Results!$F$1," ",(VLOOKUP($D24,Results!$B$2:$H$244,7,FALSE))) | O24: =IF($C24>Results!$F$1," ",(VLOOKUP($E24,Results!$C$2:$K$244,9,FALSE))) | P24: =IF(J24=" "," ",SUM(K24*2)+L24*1) -> 0
B25: =+$H$1 -> E2 | C25: 23 | D25: =CONCATENATE(C25,B25) -> 23E2 | E25: =CONCATENATE(C25,H25) -> 23E8 | G25: =+Results!D200 -> 46451 | H25: =VLOOKUP($D25,Results!$B$2:$I$244,8,FALSE) -> E8 | I25: =VLOOKUP(H25,Results!$N$2:$O$11,2,FALSE) -> Green Wizards | J25: =SUM(K25:M25) -> 0 | K25: =IF(H25="X",0,IF(N25>O25,1,0)) -> 0 | L25: =IF(OR(C25>Results!$F$1,N25="N"),0,IF(H25="X",0,IF(N25=O25,1,0))) -> 0 | M25: =IF(H25="X",0,IF(N25<O25,1,0)) -> 0 | N25: =IF($C25>Results!$F$1," ",(VLOOKUP($D25,Results!$B$2:$H$244,7,FALSE))) | O25: =IF($C25>Results!$F$1," ",(VLOOKUP($E25,Results!$C$2:$K$244,9,FALSE))) | P25: =IF(J25=" "," ",SUM(K25*2)+L25*1) -> 0
