Workbook

Sheet LW BARRELS
C1: FLICKERWOOD LITTLE BRITCHES RODEO
C4: LITTLE WRANGLER BARRELS
A6: CONTESTANT NAME | C6: 46291 | D6: 46292 | E6: 46305 | F6: 46306 | G6: 46340 | H6: 46341 | I6: 46480 | J6: 46481 | K6: 46501 | L6: 46502 | M6: 46522 | N6: 46523 | O6: 46529 | P6: 46530 | Q6: TOTAL
A7: LAST NAME | B7: FIRST NAME
A8: COLWELL | B8: JACKSON | Q8: =SUM(C8:P8) -> 0
A9: DOCKINS | B9: DUKE | Q9: =SUM(C9:P9) -> 0
A10: DUNCAN | B10: KOOPER | D10: 23 | Q10: =SUM(C10:P10) -> 23
A11: FARMER | B11: RAELYNN | C11: 23 | Q11: =SUM(C11:P11) -> 23
A12: HEMMANN | B12: JORY
A13: HERBST | B13: SADIE | Q13: =SUM(C13:P13) -> 0
A14: JAMES | B14: PEYTON | D14: 73 | Q14: =SUM(C14:P14) -> 73
A15: JEBENS | B15: EMBER-RAE | C15: 13 | Q15: =SUM(C15:P15) -> 13
A16: JEBENS | B16: RIG | C16: 63 | Q16: =SUM(C16:P16) -> 63
A17: KIMZEY | B17: JAY | Q17: =SUM(C17:P17) -> 0
A18: MYERS | B18: AUSTIN | C18: 73 | D18: 63 | Q18: =SUM(C18:P18) -> 136
A19: NAUSLEY | B19: WRENLEIGH | Q19: =SUM(C19:P19) -> 0
A20: NICE | B20: GABBY | C20: 53 | D20: 13 | Q20: =SUM(C20:P20) -> 66
A21: OVERFIELD | B21: WILLOW | Q21: =SUM(C21:P21) -> 0
A22: SMITH | B22: HUNTER | C22: 33 | Q22: =SUM(C22:P22) -> 33
A23: SHEPARD | B23: LAWSON | D23: 43 | Q23: =SUM(C23:P23) -> 43
A24: SWEENEY | B24: BEAU | Q24: =SUM(C24:P24) -> 0
A25: THOMAS | B25: TESSA | D25: 53 | Q25: =SUM(C25:P25) -> 53
A26: WILKERSON | B26: ADLEIGH | C26: 43 | D26: 33 | Q26: =SUM(C26:P26) -> 76

Sheet LW POLES
C1: FLICKERWOOD LITTLE BRITCHES RODEO
C4: LITTLE WRANGLER POLES
A6: CONTESTANT NAME | C6: 46291 | D6: 46292 | E6: 46305 | F6: 46306 | G6: 46340 | H6: 46341 | I6: 46480 | J6: 46481 | K6: 46501 | L6: 46502 | M6: 46522 | N6: 46523 | O6: 46529 | P6: 46530 | Q6: TOTAL
A7: LAST NAME | B7: FIRST NAME
A8: COLWELL | B8: JACKSON | Q8: =SUM(C8:P8) -> 0
A9: DOCKINS | B9: DUKE | Q9: =SUM(C9:P9) -> 0
A10: DUNCAN | B10: KOOPER | C10: 23 | D10: 73 | Q10: =SUM(C10:P10) -> 96
A11: FARMER | B11: RAELYNN | C11: 33 | Q11: =SUM(C11:P11) -> 33
A12: HEMMANN | B12: JORY
A13: HERBST | B13: SADIE | Q13: =SUM(C13:P13) -> 0
A14: JAMES | B14: PEYTON | D14: 33 | Q14: =SUM(C14:P14) -> 33
A15: JEBENS | B15: EMBER-RAE | C15: 43 | Q15: =SUM(C15:P15) -> 43
A16: JEBENS | B16: RIG | Q16: =SUM(C16:P16) -> 0
A17: KIMZEY | B17: JAY | Q17: =SUM(C17:P17) -> 0
A18: MYERS | B18: AUSTIN | C18: 73 | D18: 53 | Q18: =SUM(C18:P18) -> 126
A19: NAUSLEY | B19: WRENLEIGH | Q19: =SUM(C19:P19) -> 0
A20: NICE | B20: GABBY | C20: 13 | D20: 23 | Q20: =SUM(C20:P20) -> 36
A21: OVERFIELD | B21: WILLOW | Q21: =SUM(C21:P21) -> 0
A22: SMITH | B22: HUNTER | C22: 53 | D22: 13 | Q22: =SUM(C22:P22) -> 66
A23: SHEPARD | B23: LAWSON | D23: 63 | Q23: =SUM(C23:P23) -> 63
A24: SWEENEY | B24: BEAU | Q24: =SUM(C24:P24) -> 0
A25: THOMAS | B25: TESSA | Q25: =SUM(C25:P25) -> 0
A26: WILKERSON | B26: ADLEIGH | C26: 63 | D26: 43 | Q26: =SUM(C26:P26) -> 106

Sheet LW GOATS
C1: FLICKERWOOD LITTLE BRITCHES RODEO
C4: LITTLE WRANGLER GOATS
A6: CONTESTANT NAME | C6: 46291 | D6: 46292 | E6: 46305 | F6: 46306 | G6: 46340 | H6: 46341 | I6: 46480 | J6: 46481 | K6: 46501 | L6: 46502 | M6: 46522 | N6: 46523 | O6: 46529 | P6: 46530 | Q6: TOTAL
A7: LAST NAME | B7: FIRST NAME
A8: COLWELL | B8: JACKSON | Q8: =SUM(C8:P8) -> 0
A9: DOCKINS | B9: DUKE | Q9: =SUM(C9:P9) -> 0
A10: DUNCAN | B10: KOOPER | Q10: =SUM(C10:P10) -> 0
A11: FARMER | B11: RAELYNN | Q11: =SUM(C11:P11) -> 0
A12: HEMMANN | B12: JORY
A13: HERBST | B13: SADIE | Q13: =SUM(C13:P13) -> 0
A14: JAMES | B14: PEYTON | C14: 63 | D14: 53 | Q14: =SUM(C14:P14) -> 116
A15: JEBENS | B15: EMBER-RAE | Q15: =SUM(C15:P15) -> 0
A16: JEBENS | B16: RIG | C16: 33 | D16: 33 | Q16: =SUM(C16:P16) -> 66
A17: KIMZEY | B17: JAY | C17: 53 | D17: 23 | Q17: =SUM(C17:P17) -> 76
A18: MYERS | B18: AUSTIN | C18: 73 | D18: 13 | Q18: =SUM(C18:P18) -> 86
A19: NAUSLEY | B19: WRENLEIGH | Q19: =SUM(C19:P19) -> 0
A20: NICE | B20: GABBY | C20: 23 | Q20: =SUM(C20:P20) -> 23
A21: OVERFIELD | B21: WILLOW | Q21: =SUM(C21:P21) -> 0
A22: SMITH | B22: HUNTER | C22: 43 | D22: 63 | Q22: =SUM(C22:P22) -> 106
A23: SHEPARD | B23: LAWSON | D23: 73 | Q23: =SUM(C23:P23) -> 73
A24: SWEENEY | B24: BEAU | C24: 13 | Q24: =SUM(C24:P24) -> 13
A25: THOMAS | B25: TESSA | D25: 43 | Q25: =SUM(C25:P25) -> 43
A26: WILKERSON | B26: ADLEIGH | Q26: =SUM(C26:P26) -> 0

Sheet LW FLAGS
C1: FLICKERWOOD LITTLE BRITCHES RODEO
C4: LITTLE WRANGLER FLAGS
A6: CONTESTANT NAME | C6: 46291 | D6: 46292 | E6: 46305 | F6: 46306 | G6: 46340 | H6: 46341 | I6: 46480 | J6: 46481 | K6: 46501 | L6: 46502 | M6: 46522 | N6: 46523 | O6: 46529 | P6: 46530 | Q6: TOTAL
A7: LAST NAME | B7: FIRST NAME
A8: COLWELL | B8: JACKSON | Q8: =SUM(C8:P8) -> 0
A9: DOCKINS | B9: DUKE | Q9: =SUM(C9:P9) -> 0
A10: DUNCAN | B10: KOOPER | Q10: =SUM(C10:P10) -> 0
A11: FARMER | B11: RAELYNN | D11: 23 | Q11: =SUM(C11:P11) -> 23
A12: HEMMANN | B12: JORY
A13: HERBST | B13: SADIE | Q13: =SUM(C13:P13) -> 0
A14: JAMES | B14: PEYTON | D14: 33 | Q14: =SUM(C14:P14) -> 33
A15: JEBENS | B15: EMBER-RAE | C15: 63 | D15: 43 | Q15: =SUM(C15:P15) -> 106
A16: JEBENS | B16: RIG | C16: 53 | Q16: =SUM(C16:P16) -> 53
A17: KIMZEY | B17: JAY | Q17: =SUM(C17:P17) -> 0
A18: MYERS | B18: AUSTIN | D18: 53 | Q18: =SUM(C18:P18) -> 53
A19: NAUSLEY | B19: WRENLEIGH | C19: 43 | D19: 13 | Q19: =SUM(C19:P19) -> 56
A20: NICE | B20: GABBY | Q20: =SUM(C20:P20) -> 0
A21: OVERFIELD | B21: WILLOW | Q21: =SUM(C21:P21) -> 0
A22: SMITH | B22: HUNTER | D22: 63 | Q22: =SUM(C22:P22) -> 63
A23: SHEPARD | B23: LAWSON | Q23: =SUM(C23:P23) -> 0
A24: SWEENEY | B24: BEAU | C24: 33 | Q24: =SUM(C24:P24) -> 33
A25: THOMAS | B25: TESSA | C25: 73 | D25: 73 | Q25: =SUM(C25:P25) -> 146
A26: WILKERSON | B26: ADLEIGH | Q26: =SUM(C26:P26) -> 0

Sheet LW BREAKAWAY
C1: FLICKERWOOD LITTLE BRITCHES RODEO
C4: LITTLE WRANGLER BREAKAWAY
A6: CONTESTANT NAME | C6: 46291 | D6: 46292 | E6: 46305 | F6: 46306 | G6: 46340 | H6: 46341 | I6: 46480 | J6: 46481 | K6: 46501 | L6: 46502 | M6: 46522 | N6: 46523 | O6: 46529 | P6: 46530 | Q6: TOTAL
A7: LAST NAME | B7: FIRST NAME
A8: COLWELL | B8: JACKSON | Q8: =SUM(C8:P8) -> 0
A9: DOCKINS | B9: DUKE | Q9: =SUM(C9:P9) -> 0
A10: DUNCAN | B10: KOOPER | Q10: =SUM(C10:P10) -> 0
A11: FARMER | B11: RAELYNN | Q11: =SUM(C11:P11) -> 0
A12: HEMMANN | B12: JORY
A13: HERBST | B13: SADIE | Q13: =SUM(C13:P13) -> 0
A14: JAMES | B14: PEYTON | Q14: =SUM(C14:P14) -> 0
A15: JEBENS | B15: EMBER-RAE | Q15: =SUM(C15:P15) -> 0
A16: JEBENS | B16: RIG | Q16: =SUM(C16:P16) -> 0
A17: KIMZEY | B17: JAY | Q17: =SUM(C17:P17) -> 0
A18: MYERS | B18: AUSTIN | D18: 71 | Q18: =SUM(C18:P18) -> 71
A19: NAUSLEY | B19: WRENLEIGH | Q19: =SUM(C19:P19) -> 0
A20: NICE | B20: GABBY | Q20: =SUM(C20:P20) -> 0
A21: OVERFIELD | B21: WILLOW | Q21: =SUM(C21:P21) -> 0
A22: SMITH | B22: HUNTER | Q22: =SUM(C22:P22) -> 0
A23: SHEPARD | B23: LAWSON | Q23: =SUM(C23:P23) -> 0
A24: SWEENEY | B24: BEAU | Q24: =SUM(C24:P24) -> 0
A25: THOMAS | B25: TESSA | Q25: =SUM(C25:P25) -> 0
A26: WILKERSON | B26: ADLEIGH | Q26: =SUM(C26:P26) -> 0

Sheet LW ALL AROUND
C1: FLICKERWOOD LITTLE BRITCHES RODEO
C4: LITTLE WRANGLER ALL AROUND
A6: CONTESTANT NAME | C6: 46291 | D6: 46292 | E6: 46305 | F6: 46306 | G6: 46340 | H6: 46341 | I6: 46480 | J6: 46481 | K6: 46501 | L6: 46502 | M6: 46522 | N6: 46523 | O6: 46529 | P6: 46530 | Q6: TOTAL
A7: LAST NAME | B7: FIRST NAME
A8: COLWELL | B8: JACKSON | C8: ='LW BARRELS'!C8+'LW POLES'!C8+'LW GOATS'!C8+'LW FLAGS'!C8 -> 0 | D8: ='LW BARRELS'!D8+'LW POLES'!D8+'LW GOATS'!D8+'LW FLAGS'!D8 -> 0 | E8: ='LW BARRELS'!E8+'LW POLES'!E8+'LW GOATS'!E8+'LW FLAGS'!E8 -> 0 | F8: ='LW BARRELS'!F8+'LW POLES'!F8+'LW GOATS'!F8+'LW FLAGS'!F8 -> 0 | G8: ='LW BARRELS'!G8+'LW POLES'!G8+'LW GOATS'!G8+'LW FLAGS'!G8 -> 0 | H8: ='LW BARRELS'!H8+'LW POLES'!H8+'LW GOATS'!H8+'LW FLAGS'!H8 -> 0 | I8: ='LW BARRELS'!I8+'LW POLES'!I8+'LW GOATS'!I8+'LW FLAGS'!I8 -> 0 | J8: ='LW BARRELS'!J8+'LW POLES'!J8+'LW GOATS'!J8+'LW FLAGS'!J8 -> 0 | ... P8: ='LW BARRELS'!P8+'LW POLES'!P8+'LW GOATS'!P8+'LW FLAGS'!P8 -> 0 | Q8: =SUM(C8:P8) -> 0
A9: DOCKINS | B9: DUKE | C9: ='LW BARRELS'!C9+'LW POLES'!C9+'LW GOATS'!C9+'LW FLAGS'!C9 -> 0 | D9: ='LW BARRELS'!D9+'LW POLES'!D9+'LW GOATS'!D9+'LW FLAGS'!D9 -> 0 | E9: ='LW BARRELS'!E9+'LW POLES'!E9+'LW GOATS'!E9+'LW FLAGS'!E9 -> 0 | F9: ='LW BARRELS'!F9+'LW POLES'!F9+'LW GOATS'!F9+'LW FLAGS'!F9 -> 0 | G9: ='LW BARRELS'!G9+'LW POLES'!G9+'LW GOATS'!G9+'LW FLAGS'!G9 -> 0 | H9: ='LW BARRELS'!H9+'LW POLES'!H9+'LW GOATS'!H9+'LW FLAGS'!H9 -> 0 | I9: ='LW BARRELS'!I9+'LW POLES'!I9+'LW GOATS'!I9+'LW FLAGS'!I9 -> 0 | J9: ='LW BARRELS'!J9+'LW POLES'!J9+'LW GOATS'!J9+'LW FLAGS'!J9 -> 0 | ... P9: ='LW BARRELS'!P9+'LW POLES'!P9+'LW GOATS'!P9+'LW FLAGS'!P9 -> 0 | Q9: =SUM(C9:P9) -> 0
A10: DUNCAN | B10: KOOPER | C10: ='LW BARRELS'!C10+'LW POLES'!C10+'LW GOATS'!C10+'LW FLAGS'!C10 -> 23 | D10: ='LW BARRELS'!D10+'LW POLES'!D10+'LW GOATS'!D10+'LW FLAGS'!D10 -> 96 | E10: ='LW BARRELS'!E10+'LW POLES'!E10+'LW GOATS'!E10+'LW FLAGS'!E10 -> 0 | F10: ='LW BARRELS'!F10+'LW POLES'!F10+'LW GOATS'!F10+'LW FLAGS'!F10 -> 0 | G10: ='LW BARRELS'!G10+'LW POLES'!G10+'LW GOATS'!G10+'LW FLAGS'!G10 -> 0 | H10: ='LW BARRELS'!H10+'LW POLES'!H10+'LW GOATS'!H10+'LW FLAGS'!H10 -> 0 | I10: ='LW BARRELS'!I10+'LW POLES'!I10+'LW GOATS'!I10+'LW FLAGS'!I10 -> 0 | J10: ='LW BARRELS'!J10+'LW POLES'!J10+'LW GOATS'!J10+'LW FLAGS'!J10 -> 0 | ... P10: ='LW BARRELS'!P10+'LW POLES'!P10+'LW GOATS'!P10+'LW FLAGS'!P10 -> 0 | Q10: =SUM(C10:P10) -> 119
A11: FARMER | B11: RAELYNN | C11: ='LW BARRELS'!C11+'LW POLES'!C11+'LW GOATS'!C11+'LW FLAGS'!C11 -> 56 | D11: ='LW BARRELS'!D11+'LW POLES'!D11+'LW GOATS'!D11+'LW FLAGS'!D11 -> 23 | E11: ='LW BARRELS'!E11+'LW POLES'!E11+'LW GOATS'!E11+'LW FLAGS'!E11 -> 0 | F11: ='LW BARRELS'!F11+'LW POLES'!F11+'LW GOATS'!F11+'LW FLAGS'!F11 -> 0 | G11: ='LW BARRELS'!G11+'LW POLES'!G11+'LW GOATS'!G11+'LW FLAGS'!G11 -> 0 | H11: ='LW BARRELS'!H11+'LW POLES'!H11+'LW GOATS'!H11+'LW FLAGS'!H11 -> 0 | I11: ='LW BARRELS'!I11+'LW POLES'!I11+'LW GOATS'!I11+'LW FLAGS'!I11 -> 0 | J11: ='LW BARRELS'!J11+'LW POLES'!J11+'LW GOATS'!J11+'LW FLAGS'!J11 -> 0 | ... P11: ='LW BARRELS'!P11+'LW POLES'!P11+'LW GOATS'!P11+'LW FLAGS'!P11 -> 0 | Q11: =SUM(C11:P11) -> 79
A12: HEMMANN | B12: JORY | C12: ='LW BARRELS'!C12+'LW POLES'!C12+'LW GOATS'!C12+'LW FLAGS'!C12 -> 0 | D12: ='LW BARRELS'!D12+'LW POLES'!D12+'LW GOATS'!D12+'LW FLAGS'!D12 -> 0 | E12: ='LW BARRELS'!E12+'LW POLES'!E12+'LW GOATS'!E12+'LW FLAGS'!E12 -> 0 | F12: ='LW BARRELS'!F12+'LW POLES'!F12+'LW GOATS'!F12+'LW FLAGS'!F12 -> 0 | G12: ='LW BARRELS'!G12+'LW POLES'!G12+'LW GOATS'!G12+'LW FLAGS'!G12 -> 0 | H12: ='LW BARRELS'!H12+'LW POLES'!H12+'LW GOATS'!H12+'LW FLAGS'!H12 -> 0 | I12: ='LW BARRELS'!I12+'LW POLES'!I12+'LW GOATS'!I12+'LW FLAGS'!I12 -> 0 | J12: ='LW BARRELS'!J12+'LW POLES'!J12+'LW GOATS'!J12+'LW FLAGS'!J12 -> 0 | ... P12: ='LW BARRELS'!P12+'LW POLES'!P12+'LW GOATS'!P12+'LW FLAGS'!P12 -> 0 | Q12: =SUM(C12:P12) -> 0
A13: HERBST | B13: SADIE | C13: ='LW BARRELS'!C13+'LW POLES'!C13+'LW GOATS'!C13+'LW FLAGS'!C13 -> 0 | D13: ='LW BARRELS'!D13+'LW POLES'!D13+'LW GOATS'!D13+'LW FLAGS'!D13 -> 0 | E13: ='LW BARRELS'!E13+'LW POLES'!E13+'LW GOATS'!E13+'LW FLAGS'!E13 -> 0 | F13: ='LW BARRELS'!F13+'LW POLES'!F13+'LW GOATS'!F13+'LW FLAGS'!F13 -> 0 | G13: ='LW BARRELS'!G13+'LW POLES'!G13+'LW GOATS'!G13+'LW FLAGS'!G13 -> 0 | H13: ='LW BARRELS'!H13+'LW POLES'!H13+'LW GOATS'!H13+'LW FLAGS'!H13 -> 0 | I13: ='LW BARRELS'!I13+'LW POLES'!I13+'LW GOATS'!I13+'LW FLAGS'!I13 -> 0 | J13: ='LW BARRELS'!J13+'LW POLES'!J13+'LW GOATS'!J13+'LW FLAGS'!J13 -> 0 | ... P13: ='LW BARRELS'!P13+'LW POLES'!P13+'LW GOATS'!P13+'LW FLAGS'!P13 -> 0 | Q13: =SUM(C13:P13) -> 0
A14: JAMES | B14: PEYTON | C14: ='LW BARRELS'!C14+'LW POLES'!C14+'LW GOATS'!C14+'LW FLAGS'!C14 -> 63 | D14: ='LW BARRELS'!D14+'LW POLES'!D14+'LW GOATS'!D14+'LW FLAGS'!D14 -> 192 | E14: ='LW BARRELS'!E14+'LW POLES'!E14+'LW GOATS'!E14+'LW FLAGS'!E14 -> 0 | F14: ='LW BARRELS'!F14+'LW POLES'!F14+'LW GOATS'!F14+'LW FLAGS'!F14 -> 0 | G14: ='LW BARRELS'!G14+'LW POLES'!G14+'LW GOATS'!G14+'LW FLAGS'!G14 -> 0 | H14: ='LW BARRELS'!H14+'LW POLES'!H14+'LW GOATS'!H14+'LW FLAGS'!H14 -> 0 | I14: ='LW BARRELS'!I14+'LW POLES'!I14+'LW GOATS'!I14+'LW FLAGS'!I14 -> 0 | J14: ='LW BARRELS'!J14+'LW POLES'!J14+'LW GOATS'!J14+'LW FLAGS'!J14 -> 0 | ... P14: ='LW BARRELS'!P14+'LW POLES'!P14+'LW GOATS'!P14+'LW FLAGS'!P14 -> 0 | Q14: =SUM(C14:P14) -> 255
A15: JEBENS | B15: EMBER-RAE | C15: ='LW BARRELS'!C15+'LW POLES'!C15+'LW GOATS'!C15+'LW FLAGS'!C15 -> 119 | D15: ='LW BARRELS'!D15+'LW POLES'!D15+'LW GOATS'!D15+'LW FLAGS'!D15 -> 43 | E15: ='LW BARRELS'!E15+'LW POLES'!E15+'LW GOATS'!E15+'LW FLAGS'!E15 -> 0 | F15: ='LW BARRELS'!F15+'LW POLES'!F15+'LW GOATS'!F15+'LW FLAGS'!F15 -> 0 | G15: ='LW BARRELS'!G15+'LW POLES'!G15+'LW GOATS'!G15+'LW FLAGS'!G15 -> 0 | H15: ='LW BARRELS'!H15+'LW POLES'!H15+'LW GOATS'!H15+'LW FLAGS'!H15 -> 0 | I15: ='LW BARRELS'!I15+'LW POLES'!I15+'LW GOATS'!I15+'LW FLAGS'!I15 -> 0 | J15: ='LW BARRELS'!J15+'LW POLES'!J15+'LW GOATS'!J15+'LW FLAGS'!J15 -> 0 | ... P15: ='LW BARRELS'!P15+'LW POLES'!P15+'LW GOATS'!P15+'LW FLAGS'!P15 -> 0 | Q15: =SUM(C15:P15) -> 162
A16: JEBENS | B16: RIG | C16: ='LW BARRELS'!C16+'LW POLES'!C16+'LW GOATS'!C16+'LW FLAGS'!C16 -> 149 | D16: ='LW BARRELS'!D16+'LW POLES'!D16+'LW GOATS'!D16+'LW FLAGS'!D16 -> 33 | E16: ='LW BARRELS'!E16+'LW POLES'!E16+'LW GOATS'!E16+'LW FLAGS'!E16 -> 0 | F16: ='LW BARRELS'!F16+'LW POLES'!F16+'LW GOATS'!F16+'LW FLAGS'!F16 -> 0 | G16: ='LW BARRELS'!G16+'LW POLES'!G16+'LW GOATS'!G16+'LW FLAGS'!G16 -> 0 | H16: ='LW BARRELS'!H16+'LW POLES'!H16+'LW GOATS'!H16+'LW FLAGS'!H16 -> 0 | I16: ='LW BARRELS'!I16+'LW POLES'!I16+'LW GOATS'!I16+'LW FLAGS'!I16 -> 0 | J16: ='LW BARRELS'!J16+'LW POLES'!J16+'LW GOATS'!J16+'LW FLAGS'!J16 -> 0 | ... P16: ='LW BARRELS'!P16+'LW POLES'!P16+'LW GOATS'!P16+'LW FLAGS'!P16 -> 0 | Q16: =SUM(C16:P16) -> 182
A17: KIMZEY | B17: JAY | C17: ='LW BARRELS'!C17+'LW POLES'!C17+'LW GOATS'!C17+'LW FLAGS'!C17 -> 53 | D17: ='LW BARRELS'!D17+'LW POLES'!D17+'LW GOATS'!D17+'LW FLAGS'!D17 -> 23 | E17: ='LW BARRELS'!E17+'LW POLES'!E17+'LW GOATS'!E17+'LW FLAGS'!E17 -> 0 | F17: ='LW BARRELS'!F17+'LW POLES'!F17+'LW GOATS'!F17+'LW FLAGS'!F17 -> 0 | G17: ='LW BARRELS'!G17+'LW POLES'!G17+'LW GOATS'!G17+'LW FLAGS'!G17 -> 0 | H17: ='LW BARRELS'!H17+'LW POLES'!H17+'LW GOATS'!H17+'LW FLAGS'!H17 -> 0 | I17: ='LW BARRELS'!I17+'LW POLES'!I17+'LW GOATS'!I17+'LW FLAGS'!I17 -> 0 | J17: ='LW BARRELS'!J17+'LW POLES'!J17+'LW GOATS'!J17+'LW FLAGS'!J17 -> 0 | ... P17: ='LW BARRELS'!P17+'LW POLES'!P17+'LW GOATS'!P17+'LW FLAGS'!P17 -> 0 | Q17: =SUM(C17:P17) -> 76
A18: MYERS | B18: AUSTIN | C18: ='LW BARRELS'!C18+'LW POLES'!C18+'LW GOATS'!C18+'LW FLAGS'!C18 -> 219 | D18: ='LW BARRELS'!D18+'LW POLES'!D18+'LW GOATS'!D18+'LW FLAGS'!D18 -> 182 | E18: ='LW BARRELS'!E18+'LW POLES'!E18+'LW GOATS'!E18+'LW FLAGS'!E18 -> 0 | F18: ='LW BARRELS'!F18+'LW POLES'!F18+'LW GOATS'!F18+'LW FLAGS'!F18 -> 0 | G18: ='LW BARRELS'!G18+'LW POLES'!G18+'LW GOATS'!G18+'LW FLAGS'!G18 -> 0 | H18: ='LW BARRELS'!H18+'LW POLES'!H18+'LW GOATS'!H18+'LW FLAGS'!H18 -> 0 | I18: ='LW BARRELS'!I18+'LW POLES'!I18+'LW GOATS'!I18+'LW FLAGS'!I18 -> 0 | J18: ='LW BARRELS'!J18+'LW POLES'!J18+'LW GOATS'!J18+'LW FLAGS'!J18 -> 0 | ... P18: ='LW BARRELS'!P18+'LW POLES'!P18+'LW GOATS'!P18+'LW FLAGS'!P18 -> 0 | Q18: =SUM(C18:P18) -> 401
A19: NAUSLEY | B19: WRENLEIGH | C19: ='LW BARRELS'!C19+'LW POLES'!C19+'LW GOATS'!C19+'LW FLAGS'!C19 -> 43 | D19: ='LW BARRELS'!D19+'LW POLES'!D19+'LW GOATS'!D19+'LW FLAGS'!D19 -> 13 | E19: ='LW BARRELS'!E19+'LW POLES'!E19+'LW GOATS'!E19+'LW FLAGS'!E19 -> 0 | F19: ='LW BARRELS'!F19+'LW POLES'!F19+'LW GOATS'!F19+'LW FLAGS'!F19 -> 0 | G19: ='LW BARRELS'!G19+'LW POLES'!G19+'LW GOATS'!G19+'LW FLAGS'!G19 -> 0 | H19: ='LW BARRELS'!H19+'LW POLES'!H19+'LW GOATS'!H19+'LW FLAGS'!H19 -> 0 | I19: ='LW BARRELS'!I19+'LW POLES'!I19+'LW GOATS'!I19+'LW FLAGS'!I19 -> 0 | J19: ='LW BARRELS'!J19+'LW POLES'!J19+'LW GOATS'!J19+'LW FLAGS'!J19 -> 0 | ... P19: ='LW BARRELS'!P19+'LW POLES'!P19+'LW GOATS'!P19+'LW FLAGS'!P19 -> 0 | Q19: =SUM(C19:P19) -> 56
... A26: WILKERSON | B26: ADLEIGH | C26: ='LW BARRELS'!C26+'LW POLES'!C26+'LW GOATS'!C26+'LW FLAGS'!C26 -> 106 | D26: ='LW BARRELS'!D26+'LW POLES'!D26+'LW GOATS'!D26+'LW FLAGS'!D26 -> 76 | E26: ='LW BARRELS'!E26+'LW POLES'!E26+'LW GOATS'!E26+'LW FLAGS'!E26 -> 0 | F26: ='LW BARRELS'!F26+'LW POLES'!F26+'LW GOATS'!F26+'LW FLAGS'!F26 -> 0 | G26: ='LW BARRELS'!G26+'LW POLES'!G26+'LW GOATS'!G26+'LW FLAGS'!G26 -> 0 | H26: ='LW BARRELS'!H26+'LW POLES'!H26+'LW GOATS'!H26+'LW FLAGS'!H26 -> 0 | I26: ='LW BARRELS'!I26+'LW POLES'!I26+'LW GOATS'!I26+'LW FLAGS'!I26 -> 0 | J26: ='LW BARRELS'!J26+'LW POLES'!J26+'LW GOATS'!J26+'LW FLAGS'!J26 -> 0 | ... P26: ='LW BARRELS'!P26+'LW POLES'!P26+'LW GOATS'!P26+'LW FLAGS'!P26 -> 0 | Q26: =SUM(C26:P26) -> 182
