Workbook

Sheet Summary
A1: Cochise County Population Outlook
A2: 2025 estimates with projections to 2030 and 2060 | Arizona Office of Economic Opportunity
A4: 2025 COUNTY ESTIMATE | E4: 2030 COUNTY PROJECTION | I4: 2060 COUNTY PROJECTION
A5: ='County & Municipalities'!B3 -> 129042 | E5: ='County & Municipalities'!B8 -> 128494.12 | I5: ='County & Municipalities'!B38 -> 120475.55
A6: Baseline population | E6: =('County & Municipalities'!B8/'County & Municipalities'!B3)-1 -> -0.0042457773 | I6: =('County & Municipalities'!B38/'County & Municipalities'!B3)-1 -> -0.066385009
A22: Municipality Comparison
A23: Geography | B23: 2025 Estimate | C23: 2030 Projection | D23: 2060 Projection | E23: Change to 2030 | F23: Change to 2060
A24: Benson | B24: ='County & Municipalities'!C3 -> 5589 | C24: ='County & Municipalities'!C8 -> 5526.1212 | D24: ='County & Municipalities'!C38 -> 4972.1971 | E24: =C24/B24-1 -> -0.011250447 | F24: =D24/B24-1 -> -0.11036015
A25: Bisbee | B25: ='County & Municipalities'!D3 -> 4954 | C25: ='County & Municipalities'!D8 -> 4751.0504 | D25: ='County & Municipalities'!D38 -> 3472.0102 | E25: =C25/B25-1 -> -0.04096681 | F25: =D25/B25-1 -> -0.29915014
A26: Douglas | B26: ='County & Municipalities'!E3 -> 16347 | C26: ='County & Municipalities'!E8 -> 16176.767 | D26: ='County & Municipalities'!E38 -> 14630.21 | E26: =C26/B26-1 -> -0.010413696 | F26: =D26/B26-1 -> -0.10502175
A27: Huachuca City | B27: ='County & Municipalities'!F3 -> 1616 | C27: ='County & Municipalities'!F8 -> 1580.4329 | D27: ='County & Municipalities'!F38 -> 1326.5688 | E27: =C27/B27-1 -> -0.022009356 | F27: =D27/B27-1 -> -0.17910349
A28: Sierra Vista | B28: ='County & Municipalities'!G3 -> 45838 | C28: ='County & Municipalities'!G8 -> 45872.621 | D28: ='County & Municipalities'!G38 -> 44230.446 | E28: =C28/B28-1 -> 0.00075528528 | F28: =D28/B28-1 -> -0.035070329
A29: Tombstone | B29: ='County & Municipalities'!H3 -> 1408 | C29: ='County & Municipalities'!H8 -> 1486.7102 | D29: ='County & Municipalities'!H38 -> 1849.967 | E29: =C29/B29-1 -> 0.055902126 | F29: =D29/B29-1 -> 0.31389702
A30: Willcox | B30: ='County & Municipalities'!I3 -> 3255 | C30: ='County & Municipalities'!I8 -> 3185.8514 | D30: ='County & Municipalities'!I38 -> 2688.2425 | E30: =C30/B30-1 -> -0.021243795 | F30: =D30/B30-1 -> -0.17411905
A31: Unincorporated Balance | B31: ='County & Municipalities'!J3 -> 50035 | C31: ='County & Municipalities'!J8 -> 49914.562 | D31: ='County & Municipalities'!J38 -> 47305.904 | E31: =C31/B31-1 -> -0.0024070724 | F31: =D31/B31-1 -> -0.054543733
A34: Census-Designated Place Comparison
A35: Geography | B35: 2025 Estimate | C35: 2030 Projection | D35: 2060 Projection | E35: Change to 2030 | F35: Change to 2060
A36: Mescal | B36: ='CDPs (pop 500+)'!B3 -> 1856.9581 | C36: ='CDPs (pop 500+)'!B8 -> 1852.4883 | D36: ='CDPs (pop 500+)'!B38 -> 1755.6727 | E36: =C36/B36-1 -> -0.0024070724 | F36: =D36/B36-1 -> -0.054543733
A37: Miracle Valley | B37: ='CDPs (pop 500+)'!C3 -> 605.55288 | C37: ='CDPs (pop 500+)'!C8 -> 604.09527 | D37: ='CDPs (pop 500+)'!C38 -> 572.52377 | E37: =C37/B37-1 -> -0.0024070725 | F37: =D37/B37-1 -> -0.054543733
A38: Naco | B38: ='CDPs (pop 500+)'!D3 -> 873.86265 | C38: ='CDPs (pop 500+)'!D8 -> 871.7592 | D38: ='CDPs (pop 500+)'!D38 -> 826.19892 | E38: =C38/B38-1 -> -0.0024070724 | F38: =D38/B38-1 -> -0.054543733
A39: Pirtleville | B39: ='CDPs (pop 500+)'!E3 -> 1497.4443 | C39: ='CDPs (pop 500+)'!E8 -> 1493.8398 | D39: ='CDPs (pop 500+)'!E38 -> 1415.7681 | E39: =C39/B39-1 -> -0.0024070724 | F39: =D39/B39-1 -> -0.054543733
A40: St. David | B40: ='CDPs (pop 500+)'!F3 -> 1738.1807 | C40: ='CDPs (pop 500+)'!F8 -> 1733.9968 | D40: ='CDPs (pop 500+)'!F38 -> 1643.3738 | E40: =C40/B40-1 -> -0.0024070724 | F40: =D40/B40-1 -> -0.054543733
A41: Sierra Vista Southeast | B41: ='CDPs (pop 500+)'!G3 -> 15301.081 | C41: ='CDPs (pop 500+)'!G8 -> 15264.25 | D41: ='CDPs (pop 500+)'!G38 -> 14466.502 | E41: =C41/B41-1 -> -0.0024070724 | F41: =D41/B41-1 -> -0.054543733
A42: Sunsites | B42: ='CDPs (pop 500+)'!H3 -> 837.80521 | C42: ='CDPs (pop 500+)'!H8 -> 835.78856 | D42: ='CDPs (pop 500+)'!H38 -> 792.10819 | E42: =C42/B42-1 -> -0.0024070724 | F42: =D42/B42-1 -> -0.054543733
A43: Whetstone | B43: ='CDPs (pop 500+)'!I3 -> 3431.8198 | C43: ='CDPs (pop 500+)'!I8 -> 3423.5592 | D43: ='CDPs (pop 500+)'!I38 -> 3244.6356 | E43: =C43/B43-1 -> -0.0024070724 | F43: =D43/B43-1 -> -0.054543733

Sheet County & Municipalities
A1: Cochise County Population Projections (County & Municipalities)
A2: Year | B2: Cochise County | C2: Benson | D2: Bisbee | E2: Douglas | F2: Huachuca City | G2: Sierra Vista | H2: Tombstone | I2: Willcox | J2: Unincorporated Balance of County
A3: 2025 | B3: 129042 | C3: 5589 | D3: 4954 | E3: 16347 | F3: 1616 | G3: 45838 | H3: 1408 | I3: 3255 | J3: 50035
A4: 2026 | B4: 129091.4 | C4: 5583.123 | D4: 4919.234 | E4: 16332.537 | F4: 1610.8437 | G4: 45902.691 | H4: 1425.6803 | I4: 3245.0934 | J4: 50072.201
A5: 2027 | B5: 129060.23 | C5: 5573.8355 | D5: 4881.4474 | E5: 16308.109 | F5: 1604.6847 | G5: 45938.195 | H5: 1442.4106 | I5: 3233.1775 | J5: 50078.371
A6: 2028 | B6: 128948.57 | C6: 5561.156 | D6: 4840.7121 | E6: 16273.764 | F6: 1597.5348 | G6: 45944.458 | H6: 1458.1601 | I6: 3219.2753 | J6: 50053.511
A7: 2029 | B7: 128756.88 | C7: 5545.1198 | D7: 4797.1126 | E7: 16229.601 | F7: 1589.4103 | G7: 45921.549 | H7: 1472.9019 | I7: 3203.4189 | J7: 49997.768
A8: 2030 | B8: 128494.12 | C8: 5526.1212 | D8: 4751.0504 | E8: 16176.767 | F8: 1580.4329 | G8: 45872.621 | H8: 1486.7102 | I8: 3185.8514 | J8: 49914.562
A9: 2031 | B9: 128176.63 | C9: 5504.8661 | D9: 4703.1909 | E9: 16117.322 | F9: 1570.8142 | G9: 45803.516 | H9: 1499.7524 | I9: 3166.9968 | J9: 49810.174
A10: 2032 | B10: 127857.13 | C10: 5483.5769 | D10: 4655.5268 | E10: 16057.755 | F10: 1561.2137 | G10: 45733.389 | H10: 1512.6485 | I10: 3148.1741 | J10: 49704.844
A11: 2033 | B11: 127522.14 | C11: 5461.6895 | D11: 4607.5648 | E11: 15996.419 | F11: 1551.4654 | G11: 45657.324 | H11: 1525.2327 | I11: 3129.0513 | J11: 49593.394
A12: 2034 | B12: 127175.53 | C12: 5439.3705 | D12: 4559.4561 | E12: 15933.799 | F12: 1541.6182 | G12: 45576.699 | H12: 1537.5464 | I12: 3109.7264 | J12: 49477.315
A13: 2035 | B13: 126826.64 | C13: 5417.0131 | D13: 4511.5466 | E13: 15871.045 | F13: 1531.7878 | G13: 45494.914 | H13: 1549.7026 | I13: 3090.4312 | J13: 49360.202
A14: 2036 | B14: 126480.24 | C14: 5394.8218 | D14: 4464.0042 | E14: 15808.757 | F14: 1522.0315 | G14: 45413.667 | H14: 1561.7592 | I14: 3071.2814 | J14: 49243.914
... A38: 2060 | B38: 120475.55 | C38: 4972.1971 | D38: 3472.0102 | E38: 14630.21 | F38: 1326.5688 | G38: 44230.446 | H38: 1849.967 | I38: 2688.2425 | J38: 47305.904
A40: Source: Arizona Office of Economic Opportunity

Sheet CDPs (pop 500+)
A1: Cochise County Population Projections (CDPs, pop. 500+)
A2: Year | B2: Mescal | C2: Miracle Valley | D2: Naco | E2: Pirtleville | F2: St. David | G2: Sierra Vista Southeast | H2: Sunsites | I2: Whetstone
A3: 2025 | B3: 1856.9581 | C3: 605.55288 | D3: 873.86265 | E3: 1497.4443 | F3: 1738.1807 | G3: 15301.081 | H3: 837.80521 | I3: 3431.8198
A4: 2026 | B4: 1858.3388 | C4: 606.00311 | D4: 874.51236 | E4: 1498.5576 | F4: 1739.473 | G4: 15312.457 | H4: 838.42811 | I4: 3434.3714
A5: 2027 | B5: 1858.5678 | C5: 606.07778 | D5: 874.62013 | E5: 1498.7423 | F5: 1739.6874 | G5: 15314.344 | H5: 838.53143 | I5: 3434.7946
A6: 2028 | B6: 1857.6451 | C6: 605.77692 | D6: 874.18595 | E6: 1497.9983 | F6: 1738.8238 | G6: 15306.741 | H6: 838.11517 | I6: 3433.0895
A7: 2029 | B7: 1855.5763 | C7: 605.10228 | D7: 873.2124 | E7: 1496.33 | F7: 1736.8873 | G7: 15289.695 | H7: 837.18179 | I7: 3429.2662
A8: 2030 | B8: 1852.4883 | C8: 604.09527 | D8: 871.7592 | E8: 1493.8398 | F8: 1733.9968 | G8: 15264.25 | H8: 835.78856 | I8: 3423.5592
A9: 2031 | B9: 1848.6141 | C9: 602.83191 | D9: 869.93607 | E9: 1490.7157 | F9: 1730.3704 | G9: 15232.327 | H9: 834.04065 | I9: 3416.3994
A10: 2032 | B10: 1844.705 | C10: 601.55714 | D10: 868.09647 | E10: 1487.5634 | F10: 1726.7113 | G10: 15200.116 | H10: 832.27696 | I10: 3409.175
A11: 2033 | B11: 1840.5688 | C11: 600.20831 | D11: 866.15 | E11: 1484.2279 | F11: 1722.8396 | G11: 15166.034 | H11: 830.4108 | I11: 3401.5308
A12: 2034 | B12: 1836.2607 | C12: 598.80345 | D12: 864.12267 | E12: 1480.7539 | F12: 1718.8071 | G12: 15130.536 | H12: 828.46713 | I12: 3393.5691
A13: 2035 | B13: 1831.9142 | C13: 597.38608 | D13: 862.07729 | E13: 1477.2489 | F13: 1714.7387 | G13: 15094.722 | H13: 826.50614 | I13: 3385.5365
A14: 2036 | B14: 1827.5984 | C14: 595.9787 | D14: 860.04631 | E14: 1473.7687 | F14: 1710.6989 | G14: 15059.16 | H14: 824.55897 | I14: 3377.5605
... A38: 2060 | B38: 1755.6727 | C38: 572.52377 | D38: 826.19892 | E38: 1415.7681 | F38: 1643.3738 | G38: 14466.502 | H38: 792.10819 | I38: 3244.6356
A40: Source: Arizona Office of Economic Opportunity
