{"text_format":"3","workbook":"xlsx","n_sheets":4,"sheets":["Analysis","2 Family Amortization Schedule","1 Family Amortization Schedule","Sheet1"],"read":"whole","date_system":"1900"}

{"sheet":"Analysis","index":0,"n_rows":68,"n_cols":12,"rows_kept":68,"merged":[[0,0,0,13],[2,0,2,12],[12,6,15,11],[24,10,24,12],[25,1,25,2],[25,4,25,5],[25,7,25,8],[25,10,25,12],[26,10,26,12],[33,1,33,2],[33,7,35,9],[35,1,35,2]]}
["TheMortgageGeek.com"]
[]
["1 Family : Multi Family Cash Flow / Equity Comparison"]
[]
[]
[null,null,"2 - 4 Family Home",null,"1 Family Home"]
[{"$nulls":6},"Notes:"]
[null,"Purchase",{"v":1250000,"d":"$1,250,000"},null,{"v":650000,"d":"$650,000"}]
[null,"Loan",{"$f":"C8-C11","v":{"v":1125000,"d":"$1,125,000"}},null,{"$f":"E8-E11","v":{"v":520000,"d":"$520,000"}},null,"•","The time value of money is not considered"]
[null,"Down Pmt %",{"v":0.1,"d":"10%"},null,{"v":0.2,"d":"20%"},null,"•","Tax Implications are not considered"]
[null,"Down Pmt",{"$f":"C8*C10","v":{"v":125000,"d":"$125,000"}},null,{"$f":"E8*E10","v":{"v":130000,"d":"$130,000"}},null,"•","The difference in closing costs is not considered"]
[]
[null,"Interest Rate",{"v":0.045,"d":"4.50%"},null,{"v":0.0425,"d":"4.25%"},null,"There are many variables and assumptions. This calculator is not designed to give an exact answer (we can't do that).\nHowever, we do feel that it does give you a compelling analysis with relevant data to help you make an informed decision.\n"]
[null,"Mortgage Payment",{"$f":"-PMT(C13/12,360,C9)","v":{"v":5700.209735541158,"d":"$5,700"}},null,{"$f":"-PMT(E13/12,360,E9)","v":{"v":2558.087433613315,"d":"$2,558"}}]
[null,"RE Tax",{"v":200,"d":"$200"},null,{"v":110,"d":"$110"}]
[null,"Insurance",{"v":125,"d":"$125"},null,{"v":100,"d":"$100"}]
[null,"Total Payment",{"$f":"C14+C15+C16","v":{"v":6025.209735541158,"d":"$6,025"}},null,{"$f":"E14+E15+E16","v":{"v":2768.087433613315,"d":"$2,768"}}]
[]
[null,"Rent ",{"v":2450,"d":"$2,450"}]
[]
[null,"Net Payment",{"$f":"C17-C19","v":{"v":3575.209735541158,"d":"$3,575"}},null,{"$f":"E17","v":{"v":2768.087433613315,"d":"$2,768"}}]
[null,"Difference",{"$f":"C21-E21","v":{"v":807.1223019278427,"d":"$807"}}]
[]
[]
[{"$nulls":10},"Difference in"]
[null,"Value after Year x",null,null,"Loan Balance After Year x",null,null,"Additional Home Equity after Year x*",null,null,"Additional Home Equity"]
["Year",{"$f":"C6","v":"2 - 4 Family Home"},{"$f":"E6","v":"1 Family Home"},null,{"$f":"B27","v":"2 - 4 Family Home"},{"$f":"C27","v":"1 Family Home"},null,{"$f":"B27","v":"2 - 4 Family Home"},{"$f":"C27","v":"1 Family Home"},null,"after Year x"]
[5,{"$f":"VLOOKUP(A28,$A$39:$C$68,2)","v":{"v":1595351.953125,"d":"$1,595,352"}},{"$f":"VLOOKUP(A28,$A$39:$C$68,3)","v":{"v":829583.015625,"d":"$829,583"}},null,{"$f":"VLOOKUP(A28,'2 Family Amortization Schedule'!$A$7:$G$366,7)","v":{"v":1025526.5680842369,"d":"$1,025,527"}},{"$f":"VLOOKUP(A28,'1 Family Amortization Schedule'!$A$7:$G$366,7)","v":{"v":472200.0222954832,"d":"$472,200"}},null,{"$f":"(B28-E28)-C$11","v":{"v":444825.38504076307,"d":"$444,825"}},{"$f":"(C28-F28)-E$11","v":{"v":227382.9933295168,"d":"$227,383"}},null,null,{"$f":"H28-I28","v":{"v":217442.39171124628,"d":"$217,442"}}]
[10,{"$f":"VLOOKUP(A29,$A$39:$C$68,2)","v":{"v":2036118.2834718022,"d":"$2,036,118"}},{"$f":"VLOOKUP(A29,$A$39:$C$68,3)","v":{"v":1058781.5074053374,"d":"$1,058,782"}},null,{"$f":"VLOOKUP(A29,'2 Family Amortization Schedule'!$A$7:$G$366,7)","v":{"v":901006.1417588887,"d":"$901,006"}},{"$f":"VLOOKUP(A29,'1 Family Amortization Schedule'!$A$7:$G$366,7)","v":{"v":413104.81908783416,"d":"$413,105"}},null,{"$f":"(B29-E29)-C$11","v":{"v":1010112.1417129135,"d":"$1,010,112"}},{"$f":"(C29-F29)-E$11","v":{"v":515676.6883175033,"d":"$515,677"}},null,null,{"$f":"H29-I29","v":{"v":494435.4533954102,"d":"$494,435"}}]
[15,{"$f":"VLOOKUP(A30,$A$39:$C$68,2)","v":{"v":2598660.22426421,"d":"$2,598,660"}},{"$f":"VLOOKUP(A30,$A$39:$C$68,3)","v":{"v":1351303.31661739,"d":"$1,351,303"}},null,{"$f":"VLOOKUP(A30,'2 Family Amortization Schedule'!$A$7:$G$366,7)","v":{"v":745131.9925149293,"d":"$745,132"}},{"$f":"VLOOKUP(A30,'1 Family Amortization Schedule'!$A$7:$G$366,7)","v":{"v":340045.3071411717,"d":"$340,045"}},null,{"v":1728528.2317492808,"d":"$1,728,528"},{"v":881258.0094762181,"d":"$881,258"},null,null,{"$f":"H30-I30","v":{"v":847270.2222730627,"d":"$847,270"}}]
[20,{"$f":"VLOOKUP(A31,$A$39:$C$68,2)","v":{"v":3316622.131430527,"d":"$3,316,622"}},{"$f":"VLOOKUP(A31,$A$39:$C$68,3)","v":{"v":1724643.508343875,"d":"$1,724,644"}},null,{"$f":"VLOOKUP(A31,'2 Family Amortization Schedule'!$A$7:$G$366,7)","v":{"v":550009.3839635794,"d":"$550,009"}},{"$f":"VLOOKUP(A31,'1 Family Amortization Schedule'!$A$7:$G$366,7)","v":{"v":249721.69378242092,"d":"$249,722"}},null,{"v":2641612.747466948,"d":"$2,641,613"},{"v":1344921.814561454,"d":"$1,344,922"},null,null,{"$f":"H31-I31","v":{"v":1296690.9329054938,"d":"$1,296,691"}}]
[30,{"$f":"VLOOKUP(A32,$A$39:$C$68,2)","v":{"v":5402427.968938333,"d":"$5,402,428"}},{"$f":"VLOOKUP(A32,$A$39:$C$68,3)","v":{"v":2809262.543847935,"d":"$2,809,263"}},null,{"$f":"VLOOKUP(A32,'2 Family Amortization Schedule'!$A$7:$G$366,7)","v":{"v":2.874003257602453e-10,"d":"$0"}},{"$f":"VLOOKUP(A32,'1 Family Amortization Schedule'!$A$7:$G$366,7)","v":{"v":1.1641532182693481E-10,"d":"$0"}},null,{"v":5277427.968938333,"d":"$5,277,428"},{"v":2679262.543847935,"d":"$2,679,263"},null,null,{"$f":"H32-I32","v":{"v":2598165.425090398,"d":"$2,598,165"}}]
[]
[null,"Assumed appreciation",{"$nulls":5},"* Additional Home Equity is the Actual Home Equity at a given time minus the Down Payment."]
[null,{"v":0.05,"d":"5%"},{"$f":"B35","v":{"v":0.05,"d":"5%"}}]
[null,"Value after Year x"]
[null,{"$f":"B27","v":"2 - 4 Family Home"},{"$f":"C27","v":"1 Family Home"}]
[0,{"$f":"C8","v":{"v":1250000,"d":"$1,250,000"}},{"$f":"E8","v":{"v":650000,"d":"$650,000"}}]
[1,{"$f":"B38*(1+$B$35)","v":{"v":1312500,"d":"$1,312,500"}},{"$f":"C38*(1+$C$35)","v":{"v":682500,"d":"$682,500"}}]
[2,{"v":1378125,"d":"$1,378,125"},{"v":716625,"d":"$716,625"}]
[3,{"v":1447031.25,"d":"$1,447,031"},{"v":752456.25,"d":"$752,456"}]
[4,{"v":1519382.8125,"d":"$1,519,383"},{"v":790079.0625,"d":"$790,079"}]
[5,{"v":1595351.953125,"d":"$1,595,352"},{"v":829583.015625,"d":"$829,583"}]
[6,{"v":1675119.55078125,"d":"$1,675,120"},{"v":871062.1664062501,"d":"$871,062"}]
[7,{"v":1758875.5283203125,"d":"$1,758,876"},{"v":914615.2747265627,"d":"$914,615"}]
[8,{"v":1846819.3047363283,"d":"$1,846,819"},{"v":960346.0384628909,"d":"$960,346"}]
[9,{"v":1939160.2699731449,"d":"$1,939,160"},{"v":1008363.3403860355,"d":"$1,008,363"}]
[10,{"v":2036118.2834718022,"d":"$2,036,118"},{"v":1058781.5074053374,"d":"$1,058,782"}]
[11,{"v":2137924.1976453923,"d":"$2,137,924"},{"v":1111720.5827756044,"d":"$1,111,721"}]
[12,{"v":2244820.407527662,"d":"$2,244,820"},{"v":1167306.6119143846,"d":"$1,167,307"}]
[13,{"v":2357061.427904045,"d":"$2,357,061"},{"v":1225671.942510104,"d":"$1,225,672"}]
[14,{"v":2474914.4992992477,"d":"$2,474,914"},{"v":1286955.5396356094,"d":"$1,286,956"}]
[15,{"v":2598660.22426421,"d":"$2,598,660"},{"v":1351303.31661739,"d":"$1,351,303"}]
[16,{"v":2728593.2354774205,"d":"$2,728,593"},{"v":1418868.4824482594,"d":"$1,418,868"}]
[17,{"v":2865022.8972512917,"d":"$2,865,023"},{"v":1489811.9065706723,"d":"$1,489,812"}]
[18,{"v":3008274.0421138564,"d":"$3,008,274"},{"v":1564302.501899206,"d":"$1,564,303"}]
[19,{"v":3158687.7442195495,"d":"$3,158,688"},{"v":1642517.6269941665,"d":"$1,642,518"}]
[20,{"v":3316622.131430527,"d":"$3,316,622"},{"v":1724643.508343875,"d":"$1,724,644"}]
[21,{"v":3482453.238002054,"d":"$3,482,453"},{"v":1810875.6837610689,"d":"$1,810,876"}]
[22,{"v":3656575.8999021566,"d":"$3,656,576"},{"v":1901419.4679491224,"d":"$1,901,419"}]
[23,{"v":3839404.6948972647,"d":"$3,839,405"},{"v":1996490.4413465785,"d":"$1,996,490"}]
[24,{"v":4031374.9296421283,"d":"$4,031,375"},{"v":2096314.9634139074,"d":"$2,096,315"}]
[25,{"v":4232943.676124235,"d":"$4,232,944"},{"v":2201130.711584603,"d":"$2,201,131"}]
[26,{"v":4444590.859930446,"d":"$4,444,591"},{"v":2311187.247163833,"d":"$2,311,187"}]
[27,{"v":4666820.402926969,"d":"$4,666,820"},{"v":2426746.609522025,"d":"$2,426,747"}]
[28,{"v":4900161.423073318,"d":"$4,900,161"},{"v":2548083.9399981266,"d":"$2,548,084"}]
[29,{"v":5145169.494226984,"d":"$5,145,169"},{"v":2675488.136998033,"d":"$2,675,488"}]
[30,{"v":5402427.968938333,"d":"$5,402,428"},{"v":2809262.543847935,"d":"$2,809,263"}]

{"sheet":"2 Family Amortization Schedule","index":1,"n_rows":366,"n_cols":7,"rows_kept":366,"merged":[[0,0,0,6],[1,0,1,6]]}
[{"$f":"Analysis!C6","v":"2 - 4 Family Home"}]
["Amortization Schedule"]
[]
[null,null,"Beginning",{"$nulls":3},"Ending"]
[null,null,"Principal","Monthly",null,null,"Principal"]
["Year","Month","Balance","Payment","Interest","Principal","Balance"]
[null,1,{"$f":"Analysis!C9","v":{"v":1125000,"d":"$1,125,000"}},{"$f":"Analysis!$C$14","v":{"v":5700.209735541158,"d":"$5,700"}},{"$f":"C7*Analysis!$C$13/12","v":{"v":4218.75,"d":"$4,219"}},{"$f":"D7-E7","v":{"v":1481.459735541158,"d":"$1,481"}},{"$f":"C7-F7","v":{"v":1123518.5402644589,"d":"$1,123,519"}}]
[null,2,{"$f":"G7","v":{"v":1123518.5402644589,"d":"$1,123,519"}},{"$f":"Analysis!$C$14","v":{"v":5700.209735541158,"d":"$5,700"}},{"$f":"C8*Analysis!$C$13/12","v":{"v":4213.19452599172,"d":"$4,213"}},{"v":1487.0152095494377,"d":"$1,487"},{"v":1122031.5250549095,"d":"$1,122,032"}]
[null,3,{"v":1122031.5250549095,"d":"$1,122,032"},{"$f":"Analysis!$C$14","v":{"v":5700.209735541158,"d":"$5,700"}},{"$f":"C9*Analysis!$C$13/12","v":{"v":4207.61821895591,"d":"$4,208"}},{"v":1492.5915165852475,"d":"$1,493"},{"v":1120538.9335383242,"d":"$1,120,539"}]
[null,4,{"v":1120538.9335383242,"d":"$1,120,539"},{"$f":"Analysis!$C$14","v":{"v":5700.209735541158,"d":"$5,700"}},{"$f":"C10*Analysis!$C$13/12","v":{"v":4202.021000768716,"d":"$4,202"}},{"v":1498.1887347724423,"d":"$1,498"},{"v":1119040.7448035518,"d":"$1,119,041"}]
[null,5,{"v":1119040.7448035518,"d":"$1,119,041"},{"$f":"Analysis!$C$14","v":{"v":5700.209735541158,"d":"$5,700"}},{"$f":"C11*Analysis!$C$13/12","v":{"v":4196.402793013319,"d":"$4,196"}},{"v":1503.806942527839,"d":"$1,504"},{"v":1117536.937861024,"d":"$1,117,537"}]
[null,6,{"v":1117536.937861024,"d":"$1,117,537"},{"$f":"Analysis!$C$14","v":{"v":5700.209735541158,"d":"$5,700"}},{"$f":"C12*Analysis!$C$13/12","v":{"v":4190.76351697884,"d":"$4,191"}},{"v":1509.4462185623179,"d":"$1,509"},{"v":1116027.4916424616,"d":"$1,116,027"}]
[null,7,{"v":1116027.4916424616,"d":"$1,116,027"},{"$f":"Analysis!$C$14","v":{"v":5700.209735541158,"d":"$5,700"}},{"$f":"C13*Analysis!$C$13/12","v":{"v":4185.1030936592315,"d":"$4,185"}},{"v":1515.1066418819264,"d":"$1,515"},{"v":1114512.3850005798,"d":"$1,114,512"}]
[null,8,{"v":1114512.3850005798,"d":"$1,114,512"},{"$f":"Analysis!$C$14","v":{"v":5700.209735541158,"d":"$5,700"}},{"$f":"C14*Analysis!$C$13/12","v":{"v":4179.421443752174,"d":"$4,179"}},{"v":1520.7882917889838,"d":"$1,521"},{"v":1112991.5967087909,"d":"$1,112,992"}]
[null,9,{"v":1112991.5967087909,"d":"$1,112,992"},{"$f":"Analysis!$C$14","v":{"v":5700.209735541158,"d":"$5,700"}},{"$f":"C15*Analysis!$C$13/12","v":{"v":4173.718487657966,"d":"$4,174"}},{"v":1526.491247883192,"d":"$1,526"},{"v":1111465.1054609076,"d":"$1,111,465"}]
[null,10,{"v":1111465.1054609076,"d":"$1,111,465"},{"$f":"Analysis!$C$14","v":{"v":5700.209735541158,"d":"$5,700"}},{"$f":"C16*Analysis!$C$13/12","v":{"v":4167.994145478403,"d":"$4,168"}},{"v":1532.215590062755,"d":"$1,532"},{"v":1109932.8898708448,"d":"$1,109,933"}]
[null,11,{"v":1109932.8898708448,"d":"$1,109,933"},{"$f":"Analysis!$C$14","v":{"v":5700.209735541158,"d":"$5,700"}},{"$f":"C17*Analysis!$C$13/12","v":{"v":4162.248337015668,"d":"$4,162"}},{"v":1537.96139852549,"d":"$1,538"},{"v":1108394.9284723194,"d":"$1,108,395"}]
[1,12,{"v":1108394.9284723194,"d":"$1,108,395"},{"$f":"Analysis!$C$14","v":{"v":5700.209735541158,"d":"$5,700"}},{"$f":"C18*Analysis!$C$13/12","v":{"v":4156.480981771198,"d":"$4,156"}},{"v":1543.7287537699603,"d":"$1,544"},{"v":1106851.1997185494,"d":"$1,106,851"}]
[null,13,{"v":1106851.1997185494,"d":"$1,106,851"},{"$f":"Analysis!$C$14","v":{"v":5700.209735541158,"d":"$5,700"}},{"$f":"C19*Analysis!$C$13/12","v":{"v":4150.6919989445605,"d":"$4,151"}},{"v":1549.5177365965974,"d":"$1,550"},{"v":1105301.6819819529,"d":"$1,105,302"}]
[null,14,{"v":1105301.6819819529,"d":"$1,105,302"},{"$f":"Analysis!$C$14","v":{"v":5700.209735541158,"d":"$5,700"}},{"$f":"C20*Analysis!$C$13/12","v":{"v":4144.881307432323,"d":"$4,145"}},{"v":1555.3284281088345,"d":"$1,555"},{"v":1103746.353553844,"d":"$1,103,746"}]
[null,15,{"v":1103746.353553844,"d":"$1,103,746"},{"$f":"Analysis!$C$14","v":{"v":5700.209735541158,"d":"$5,700"}},{"$f":"C21*Analysis!$C$13/12","v":{"v":4139.048825826914,"d":"$4,139"}},{"v":1561.1609097142436,"d":"$1,561"},{"v":1102185.1926441297,"d":"$1,102,185"}]
[null,16,{"v":1102185.1926441297,"d":"$1,102,185"},{"$f":"Analysis!$C$14","v":{"v":5700.209735541158,"d":"$5,700"}},{"$f":"C22*Analysis!$C$13/12","v":{"v":4133.194472415486,"d":"$4,133"}},{"v":1567.0152631256715,"d":"$1,567"},{"v":1100618.177381004,"d":"$1,100,618"}]
[null,17,{"v":1100618.177381004,"d":"$1,100,618"},{"$f":"Analysis!$C$14","v":{"v":5700.209735541158,"d":"$5,700"}},{"$f":"C23*Analysis!$C$13/12","v":{"v":4127.3181651787645,"d":"$4,127"}},{"v":1572.8915703623934,"d":"$1,573"},{"v":1099045.2858106415,"d":"$1,099,045"}]
[null,18,{"v":1099045.2858106415,"d":"$1,099,045"},{"$f":"Analysis!$C$14","v":{"v":5700.209735541158,"d":"$5,700"}},{"$f":"C24*Analysis!$C$13/12","v":{"v":4121.419821789906,"d":"$4,121"}},{"v":1578.7899137512522,"d":"$1,579"},{"v":1097466.4958968903,"d":"$1,097,466"}]
[null,19,{"v":1097466.4958968903,"d":"$1,097,466"},{"$f":"Analysis!$C$14","v":{"v":5700.209735541158,"d":"$5,700"}},{"$f":"C25*Analysis!$C$13/12","v":{"v":4115.499359613338,"d":"$4,115"}},{"v":1584.7103759278198,"d":"$1,585"},{"v":1095881.7855209624,"d":"$1,095,882"}]
[null,20,{"v":1095881.7855209624,"d":"$1,095,882"},{"$f":"Analysis!$C$14","v":{"v":5700.209735541158,"d":"$5,700"}},{"$f":"C26*Analysis!$C$13/12","v":{"v":4109.556695703609,"d":"$4,110"}},{"v":1590.653039837549,"d":"$1,591"},{"v":1094291.132481125,"d":"$1,094,291"}]
[null,21,{"v":1094291.132481125,"d":"$1,094,291"},{"$f":"Analysis!$C$14","v":{"v":5700.209735541158,"d":"$5,700"}},{"$f":"C27*Analysis!$C$13/12","v":{"v":4103.591746804218,"d":"$4,104"}},{"v":1596.6179887369399,"d":"$1,597"},{"v":1092694.514492388,"d":"$1,092,695"}]
[null,22,{"v":1092694.514492388,"d":"$1,092,695"},{"$f":"Analysis!$C$14","v":{"v":5700.209735541158,"d":"$5,700"}},{"$f":"C28*Analysis!$C$13/12","v":{"v":4097.604429346456,"d":"$4,098"}},{"v":1602.6053061947023,"d":"$1,603"},{"v":1091091.9091861935,"d":"$1,091,092"}]
[null,23,{"v":1091091.9091861935,"d":"$1,091,092"},{"$f":"Analysis!$C$14","v":{"v":5700.209735541158,"d":"$5,700"}},{"$f":"C29*Analysis!$C$13/12","v":{"v":4091.5946594482252,"d":"$4,092"}},{"v":1608.6150760929327,"d":"$1,609"},{"v":1089483.2941101005,"d":"$1,089,483"}]
[2,24,{"v":1089483.2941101005,"d":"$1,089,483"},{"$f":"Analysis!$C$14","v":{"v":5700.209735541158,"d":"$5,700"}},{"$f":"C30*Analysis!$C$13/12","v":{"v":4085.5623529128766,"d":"$4,086"}},{"v":1614.6473826282813,"d":"$1,615"},{"v":1087868.6467274723,"d":"$1,087,869"}]
[null,25,{"v":1087868.6467274723,"d":"$1,087,869"},{"$f":"Analysis!$C$14","v":{"v":5700.209735541158,"d":"$5,700"}},{"$f":"C31*Analysis!$C$13/12","v":{"v":4079.507425228021,"d":"$4,080"}},{"v":1620.7023103131369,"d":"$1,621"},{"v":1086247.944417159,"d":"$1,086,248"}]
[null,26,{"v":1086247.944417159,"d":"$1,086,248"},{"$f":"Analysis!$C$14","v":{"v":5700.209735541158,"d":"$5,700"}},{"$f":"C32*Analysis!$C$13/12","v":{"v":4073.429791564346,"d":"$4,073"}},{"v":1626.7799439768119,"d":"$1,627"},{"v":1084621.1644731823,"d":"$1,084,621"}]
[null,27,{"v":1084621.1644731823,"d":"$1,084,621"},{"$f":"Analysis!$C$14","v":{"v":5700.209735541158,"d":"$5,700"}},{"$f":"C33*Analysis!$C$13/12","v":{"v":4067.3293667744333,"d":"$4,067"}},{"v":1632.8803687667246,"d":"$1,633"},{"v":1082988.2841044154,"d":"$1,082,988"}]
[null,28,{"v":1082988.2841044154,"d":"$1,082,988"},{"$f":"Analysis!$C$14","v":{"v":5700.209735541158,"d":"$5,700"}},{"$f":"C34*Analysis!$C$13/12","v":{"v":4061.206065391558,"d":"$4,061"}},{"v":1639.0036701496,"d":"$1,639"},{"v":1081349.2804342657,"d":"$1,081,349"}]
[null,29,{"v":1081349.2804342657,"d":"$1,081,349"},{"$f":"Analysis!$C$14","v":{"v":5700.209735541158,"d":"$5,700"}},{"$f":"C35*Analysis!$C$13/12","v":{"v":4055.0598016284966,"d":"$4,055"}},{"v":1645.1499339126613,"d":"$1,645"},{"v":1079704.1305003532,"d":"$1,079,704"}]
[null,30,{"v":1079704.1305003532,"d":"$1,079,704"},{"$f":"Analysis!$C$14","v":{"v":5700.209735541158,"d":"$5,700"}},{"$f":"C36*Analysis!$C$13/12","v":{"v":4048.8904893763242,"d":"$4,049"}},{"v":1651.3192461648337,"d":"$1,651"},{"v":1078052.8112541884,"d":"$1,078,053"}]
[null,31,{"v":1078052.8112541884,"d":"$1,078,053"},{"$f":"Analysis!$C$14","v":{"v":5700.209735541158,"d":"$5,700"}},{"$f":"C37*Analysis!$C$13/12","v":{"v":4042.6980422032066,"d":"$4,043"}},{"v":1657.5116933379513,"d":"$1,658"},{"v":1076395.2995608505,"d":"$1,076,395"}]
[null,32,{"v":1076395.2995608505,"d":"$1,076,395"},{"$f":"Analysis!$C$14","v":{"v":5700.209735541158,"d":"$5,700"}},{"$f":"C38*Analysis!$C$13/12","v":{"v":4036.482373353189,"d":"$4,036"}},{"v":1663.727362187969,"d":"$1,664"},{"v":1074731.5721986624,"d":"$1,074,732"}]
[null,33,{"v":1074731.5721986624,"d":"$1,074,732"},{"$f":"Analysis!$C$14","v":{"v":5700.209735541158,"d":"$5,700"}},{"$f":"C39*Analysis!$C$13/12","v":{"v":4030.2433957449844,"d":"$4,030"}},{"v":1669.9663397961735,"d":"$1,670"},{"v":1073061.6058588664,"d":"$1,073,062"}]
[null,34,{"v":1073061.6058588664,"d":"$1,073,062"},{"$f":"Analysis!$C$14","v":{"v":5700.209735541158,"d":"$5,700"}},{"$f":"C40*Analysis!$C$13/12","v":{"v":4023.9810219707488,"d":"$4,024"}},{"v":1676.2287135704091,"d":"$1,676"},{"v":1071385.377145296,"d":"$1,071,385"}]
[null,35,{"v":1071385.377145296,"d":"$1,071,385"},{"$f":"Analysis!$C$14","v":{"v":5700.209735541158,"d":"$5,700"}},{"$f":"C41*Analysis!$C$13/12","v":{"v":4017.6951642948593,"d":"$4,018"}},{"v":1682.5145712462986,"d":"$1,683"},{"v":1069702.8625740497,"d":"$1,069,703"}]
[3,36,{"v":1069702.8625740497,"d":"$1,069,703"},{"$f":"Analysis!$C$14","v":{"v":5700.209735541158,"d":"$5,700"}},{"$f":"C42*Analysis!$C$13/12","v":{"v":4011.385734652686,"d":"$4,011"}},{"v":1688.8240008884718,"d":"$1,689"},{"v":1068014.0385731612,"d":"$1,068,014"}]
[null,37,{"v":1068014.0385731612,"d":"$1,068,014"},{"$f":"Analysis!$C$14","v":{"v":5700.209735541158,"d":"$5,700"}},{"$f":"C43*Analysis!$C$13/12","v":{"v":4005.0526446493545,"d":"$4,005"}},{"v":1695.1570908918034,"d":"$1,695"},{"v":1066318.8814822694,"d":"$1,066,319"}]
[null,38,{"v":1066318.8814822694,"d":"$1,066,319"},{"$f":"Analysis!$C$14","v":{"v":5700.209735541158,"d":"$5,700"}},{"$f":"C44*Analysis!$C$13/12","v":{"v":3998.6958055585096,"d":"$3,999"}},{"v":1701.5139299826483,"d":"$1,702"},{"v":1064617.3675522867,"d":"$1,064,617"}]
[null,39,{"v":1064617.3675522867,"d":"$1,064,617"},{"$f":"Analysis!$C$14","v":{"v":5700.209735541158,"d":"$5,700"}},{"$f":"C45*Analysis!$C$13/12","v":{"v":3992.315128321075,"d":"$3,992"}},{"v":1707.894607220083,"d":"$1,708"},{"v":1062909.4729450666,"d":"$1,062,909"}]
[null,40,{"v":1062909.4729450666,"d":"$1,062,909"},{"$f":"Analysis!$C$14","v":{"v":5700.209735541158,"d":"$5,700"}},{"$f":"C46*Analysis!$C$13/12","v":{"v":3985.9105235439997,"d":"$3,986"}},{"v":1714.2992119971582,"d":"$1,714"},{"v":1061195.1737330696,"d":"$1,061,195"}]
[null,41,{"v":1061195.1737330696,"d":"$1,061,195"},{"$f":"Analysis!$C$14","v":{"v":5700.209735541158,"d":"$5,700"}},{"$f":"C47*Analysis!$C$13/12","v":{"v":3979.4819014990103,"d":"$3,979"}},{"v":1720.7278340421476,"d":"$1,721"},{"v":1059474.4458990274,"d":"$1,059,474"}]
[null,42,{"v":1059474.4458990274,"d":"$1,059,474"},{"$f":"Analysis!$C$14","v":{"v":5700.209735541158,"d":"$5,700"}},{"$f":"C48*Analysis!$C$13/12","v":{"v":3973.0291721213525,"d":"$3,973"}},{"v":1727.1805634198054,"d":"$1,727"},{"v":1057747.2653356076,"d":"$1,057,747"}]
[null,43,{"v":1057747.2653356076,"d":"$1,057,747"},{"$f":"Analysis!$C$14","v":{"v":5700.209735541158,"d":"$5,700"}},{"$f":"C49*Analysis!$C$13/12","v":{"v":3966.552245008528,"d":"$3,967"}},{"v":1733.6574905326297,"d":"$1,734"},{"v":1056013.607845075,"d":"$1,056,014"}]
[null,44,{"v":1056013.607845075,"d":"$1,056,014"},{"$f":"Analysis!$C$14","v":{"v":5700.209735541158,"d":"$5,700"}},{"$f":"C50*Analysis!$C$13/12","v":{"v":3960.0510294190312,"d":"$3,960"}},{"v":1740.1587061221267,"d":"$1,740"},{"v":1054273.449138953,"d":"$1,054,273"}]
[null,45,{"v":1054273.449138953,"d":"$1,054,273"},{"$f":"Analysis!$C$14","v":{"v":5700.209735541158,"d":"$5,700"}},{"$f":"C51*Analysis!$C$13/12","v":{"v":3953.5254342710728,"d":"$3,954"}},{"v":1746.6843012700851,"d":"$1,747"},{"v":1052526.7648376827,"d":"$1,052,527"}]
[null,46,{"v":1052526.7648376827,"d":"$1,052,527"},{"$f":"Analysis!$C$14","v":{"v":5700.209735541158,"d":"$5,700"}},{"$f":"C52*Analysis!$C$13/12","v":{"v":3946.97536814131,"d":"$3,947"}},{"v":1753.234367399848,"d":"$1,753"},{"v":1050773.5304702828,"d":"$1,050,774"}]
[null,47,{"v":1050773.5304702828,"d":"$1,050,774"},{"$f":"Analysis!$C$14","v":{"v":5700.209735541158,"d":"$5,700"}},{"$f":"C53*Analysis!$C$13/12","v":{"v":3940.40073926356,"d":"$3,940"}},{"v":1759.808996277598,"d":"$1,760"},{"v":1049013.7214740051,"d":"$1,049,014"}]
[4,48,{"v":1049013.7214740051,"d":"$1,049,014"},{"$f":"Analysis!$C$14","v":{"v":5700.209735541158,"d":"$5,700"}},{"$f":"C54*Analysis!$C$13/12","v":{"v":3933.801455527519,"d":"$3,934"}},{"v":1766.408280013639,"d":"$1,766"},{"v":1047247.3131939915,"d":"$1,047,247"}]
[null,49,{"v":1047247.3131939915,"d":"$1,047,247"},{"$f":"Analysis!$C$14","v":{"v":5700.209735541158,"d":"$5,700"}},{"$f":"C55*Analysis!$C$13/12","v":{"v":3927.177424477468,"d":"$3,927"}},{"v":1773.03231106369,"d":"$1,773"},{"v":1045474.2808829278,"d":"$1,045,474"}]
[null,50,{"v":1045474.2808829278,"d":"$1,045,474"},{"$f":"Analysis!$C$14","v":{"v":5700.209735541158,"d":"$5,700"}},{"$f":"C56*Analysis!$C$13/12","v":{"v":3920.5285533109795,"d":"$3,921"}},{"v":1779.6811822301784,"d":"$1,780"},{"v":1043694.5997006977,"d":"$1,043,695"}]
[null,51,{"v":1043694.5997006977,"d":"$1,043,695"},{"$f":"Analysis!$C$14","v":{"v":5700.209735541158,"d":"$5,700"}},{"$f":"C57*Analysis!$C$13/12","v":{"v":3913.854748877616,"d":"$3,914"}},{"v":1786.3549866635417,"d":"$1,786"},{"v":1041908.2447140341,"d":"$1,041,908"}]
[null,52,{"v":1041908.2447140341,"d":"$1,041,908"},{"$f":"Analysis!$C$14","v":{"v":5700.209735541158,"d":"$5,700"}},{"$f":"C58*Analysis!$C$13/12","v":{"v":3907.155917677628,"d":"$3,907"}},{"v":1793.0538178635297,"d":"$1,793"},{"v":1040115.1908961706,"d":"$1,040,115"}]
[null,53,{"v":1040115.1908961706,"d":"$1,040,115"},{"$f":"Analysis!$C$14","v":{"v":5700.209735541158,"d":"$5,700"}},{"$f":"C59*Analysis!$C$13/12","v":{"v":3900.4319658606396,"d":"$3,900"}},{"v":1799.7777696805183,"d":"$1,800"},{"v":1038315.4131264901,"d":"$1,038,315"}]
[null,54,{"v":1038315.4131264901,"d":"$1,038,315"},{"$f":"Analysis!$C$14","v":{"v":5700.209735541158,"d":"$5,700"}},{"$f":"C60*Analysis!$C$13/12","v":{"v":3893.682799224338,"d":"$3,894"}},{"v":1806.52693631682,"d":"$1,807"},{"v":1036508.8861901732,"d":"$1,036,509"}]
[null,55,{"v":1036508.8861901732,"d":"$1,036,509"},{"$f":"Analysis!$C$14","v":{"v":5700.209735541158,"d":"$5,700"}},{"$f":"C61*Analysis!$C$13/12","v":{"v":3886.9083232131493,"d":"$3,887"}},{"v":1813.3014123280086,"d":"$1,813"},{"v":1034695.5847778452,"d":"$1,034,696"}]
[null,56,{"v":1034695.5847778452,"d":"$1,034,696"},{"$f":"Analysis!$C$14","v":{"v":5700.209735541158,"d":"$5,700"}},{"$f":"C62*Analysis!$C$13/12","v":{"v":3880.108442916919,"d":"$3,880"}},{"v":1820.1012926242388,"d":"$1,820"},{"v":1032875.4834852209,"d":"$1,032,875"}]
[null,57,{"v":1032875.4834852209,"d":"$1,032,875"},{"$f":"Analysis!$C$14","v":{"v":5700.209735541158,"d":"$5,700"}},{"$f":"C63*Analysis!$C$13/12","v":{"v":3873.2830630695785,"d":"$3,873"}},{"v":1826.9266724715794,"d":"$1,827"},{"v":1031048.5568127494,"d":"$1,031,049"}]
[null,58,{"v":1031048.5568127494,"d":"$1,031,049"},{"$f":"Analysis!$C$14","v":{"v":5700.209735541158,"d":"$5,700"}},{"$f":"C64*Analysis!$C$13/12","v":{"v":3866.43208804781,"d":"$3,866"}},{"v":1833.777647493348,"d":"$1,834"},{"v":1029214.7791652561,"d":"$1,029,215"}]
[null,59,{"v":1029214.7791652561,"d":"$1,029,215"},{"$f":"Analysis!$C$14","v":{"v":5700.209735541158,"d":"$5,700"}},{"$f":"C65*Analysis!$C$13/12","v":{"v":3859.5554218697102,"d":"$3,860"}},{"v":1840.6543136714477,"d":"$1,841"},{"v":1027374.1248515847,"d":"$1,027,374"}]
[5,60,{"v":1027374.1248515847,"d":"$1,027,374"},{"$f":"Analysis!$C$14","v":{"v":5700.209735541158,"d":"$5,700"}},{"$f":"C66*Analysis!$C$13/12","v":{"v":3852.6529681934426,"d":"$3,853"}},{"v":1847.5567673477153,"d":"$1,848"},{"v":1025526.5680842369,"d":"$1,025,527"}]
[null,61,{"v":1025526.5680842369,"d":"$1,025,527"},{"$f":"Analysis!$C$14","v":{"v":5700.209735541158,"d":"$5,700"}},{"$f":"C67*Analysis!$C$13/12","v":{"v":3845.724630315888,"d":"$3,846"}},{"v":1854.4851052252698,"d":"$1,854"},{"v":1023672.0829790117,"d":"$1,023,672"}]
[null,62,{"v":1023672.0829790117,"d":"$1,023,672"},{"$f":"Analysis!$C$14","v":{"v":5700.209735541158,"d":"$5,700"}},{"$f":"C68*Analysis!$C$13/12","v":{"v":3838.770311171294,"d":"$3,839"}},{"v":1861.439424369864,"d":"$1,861"},{"v":1021810.6435546419,"d":"$1,021,811"}]
[null,63,{"v":1021810.6435546419,"d":"$1,021,811"},{"$f":"Analysis!$C$14","v":{"v":5700.209735541158,"d":"$5,700"}},{"$f":"C69*Analysis!$C$13/12","v":{"v":3831.789913329907,"d":"$3,832"}},{"v":1868.419822211251,"d":"$1,868"},{"v":1019942.2237324306,"d":"$1,019,942"}]
[null,64,{"v":1019942.2237324306,"d":"$1,019,942"},{"$f":"Analysis!$C$14","v":{"v":5700.209735541158,"d":"$5,700"}},{"$f":"C70*Analysis!$C$13/12","v":{"v":3824.7833389966145,"d":"$3,825"}},{"v":1875.4263965445434,"d":"$1,875"},{"v":1018066.797335886,"d":"$1,018,067"}]
[null,65,{"v":1018066.797335886,"d":"$1,018,067"},{"$f":"Analysis!$C$14","v":{"v":5700.209735541158,"d":"$5,700"}},{"$f":"C71*Analysis!$C$13/12","v":{"v":3817.7504900095723,"d":"$3,818"}},{"$f":"D71-E71","v":{"v":1882.4592455315856,"d":"$1,882"}},{"$f":"C71-F71","v":{"v":1016184.3380903545,"d":"$1,016,184"}}]
[null,66,{"$f":"G71","v":{"v":1016184.3380903545,"d":"$1,016,184"}},{"$f":"Analysis!$C$14","v":{"v":5700.209735541158,"d":"$5,700"}},{"$f":"C72*Analysis!$C$13/12","v":{"v":3810.691267838829,"d":"$3,811"}},{"v":1889.518467702329,"d":"$1,890"},{"v":1014294.8196226521,"d":"$1,014,295"}]
[null,67,{"v":1014294.8196226521,"d":"$1,014,295"},{"$f":"Analysis!$C$14","v":{"v":5700.209735541158,"d":"$5,700"}},{"$f":"C73*Analysis!$C$13/12","v":{"v":3803.6055735849454,"d":"$3,804"}},{"v":1896.6041619562125,"d":"$1,897"},{"v":1012398.2154606959,"d":"$1,012,398"}]
[null,68,{"v":1012398.2154606959,"d":"$1,012,398"},{"$f":"Analysis!$C$14","v":{"v":5700.209735541158,"d":"$5,700"}},{"$f":"C74*Analysis!$C$13/12","v":{"v":3796.493307977609,"d":"$3,796"}},{"v":1903.7164275635487,"d":"$1,904"},{"v":1010494.4990331323,"d":"$1,010,494"}]
[null,69,{"v":1010494.4990331323,"d":"$1,010,494"},{"$f":"Analysis!$C$14","v":{"v":5700.209735541158,"d":"$5,700"}},{"$f":"C75*Analysis!$C$13/12","v":{"v":3789.354371374246,"d":"$3,789"}},{"v":1910.8553641669118,"d":"$1,911"},{"v":1008583.6436689654,"d":"$1,008,584"}]
[null,70,{"v":1008583.6436689654,"d":"$1,008,584"},{"$f":"Analysis!$C$14","v":{"v":5700.209735541158,"d":"$5,700"}},{"$f":"C76*Analysis!$C$13/12","v":{"v":3782.18866375862,"d":"$3,782"}},{"v":1918.021071782538,"d":"$1,918"},{"v":1006665.6225971829,"d":"$1,006,666"}]
[null,71,{"v":1006665.6225971829,"d":"$1,006,666"},{"$f":"Analysis!$C$14","v":{"v":5700.209735541158,"d":"$5,700"}},{"$f":"C77*Analysis!$C$13/12","v":{"v":3774.996084739436,"d":"$3,775"}},{"v":1925.213650801722,"d":"$1,925"},{"v":1004740.4089463812,"d":"$1,004,740"}]
[6,72,{"v":1004740.4089463812,"d":"$1,004,740"},{"$f":"Analysis!$C$14","v":{"v":5700.209735541158,"d":"$5,700"}},{"$f":"C78*Analysis!$C$13/12","v":{"v":3767.7765335489294,"d":"$3,768"}},{"v":1932.4332019922285,"d":"$1,932"},{"v":1002807.975744389,"d":"$1,002,808"}]
[null,73,{"v":1002807.975744389,"d":"$1,002,808"},{"$f":"Analysis!$C$14","v":{"v":5700.209735541158,"d":"$5,700"}},{"$f":"C79*Analysis!$C$13/12","v":{"v":3760.5299090414587,"d":"$3,761"}},{"v":1939.6798264996992,"d":"$1,940"},{"v":1000868.2959178893,"d":"$1,000,868"}]
[null,74,{"v":1000868.2959178893,"d":"$1,000,868"},{"$f":"Analysis!$C$14","v":{"v":5700.209735541158,"d":"$5,700"}},{"$f":"C80*Analysis!$C$13/12","v":{"v":3753.256109692085,"d":"$3,753"}},{"v":1946.953625849073,"d":"$1,947"},{"v":998921.3422920402,"d":"$998,921"}]
[null,75,{"v":998921.3422920402,"d":"$998,921"},{"$f":"Analysis!$C$14","v":{"v":5700.209735541158,"d":"$5,700"}},{"$f":"C81*Analysis!$C$13/12","v":{"v":3745.9550335951503,"d":"$3,746"}},{"v":1954.2547019460076,"d":"$1,954"},{"v":996967.0875900942,"d":"$996,967"}]
[null,76,{"v":996967.0875900942,"d":"$996,967"},{"$f":"Analysis!$C$14","v":{"v":5700.209735541158,"d":"$5,700"}},{"$f":"C82*Analysis!$C$13/12","v":{"v":3738.6265784628526,"d":"$3,739"}},{"v":1961.5831570783052,"d":"$1,962"},{"v":995005.5044330158,"d":"$995,006"}]
[null,77,{"v":995005.5044330158,"d":"$995,006"},{"$f":"Analysis!$C$14","v":{"v":5700.209735541158,"d":"$5,700"}},{"$f":"C83*Analysis!$C$13/12","v":{"v":3731.2706416238093,"d":"$3,731"}},{"v":1968.9390939173486,"d":"$1,969"},{"v":993036.5653390985,"d":"$993,037"}]
[null,78,{"v":993036.5653390985,"d":"$993,037"},{"$f":"Analysis!$C$14","v":{"v":5700.209735541158,"d":"$5,700"}},{"$f":"C84*Analysis!$C$13/12","v":{"v":3723.8871200216195,"d":"$3,724"}},{"v":1976.3226155195384,"d":"$1,976"},{"v":991060.2427235789,"d":"$991,060"}]
[null,79,{"v":991060.2427235789,"d":"$991,060"},{"$f":"Analysis!$C$14","v":{"v":5700.209735541158,"d":"$5,700"}},{"$f":"C85*Analysis!$C$13/12","v":{"v":3716.475910213421,"d":"$3,716"}},{"v":1983.7338253277371,"d":"$1,984"},{"v":989076.5088982512,"d":"$989,077"}]
[null,80,{"v":989076.5088982512,"d":"$989,077"},{"$f":"Analysis!$C$14","v":{"v":5700.209735541158,"d":"$5,700"}},{"$f":"C86*Analysis!$C$13/12","v":{"v":3709.036908368442,"d":"$3,709"}},{"v":1991.172827172716,"d":"$1,991"},{"v":987085.3360710785,"d":"$987,085"}]
[null,81,{"v":987085.3360710785,"d":"$987,085"},{"$f":"Analysis!$C$14","v":{"v":5700.209735541158,"d":"$5,700"}},{"$f":"C87*Analysis!$C$13/12","v":{"v":3701.5700102665446,"d":"$3,702"}},{"v":1998.6397252746133,"d":"$1,999"},{"v":985086.6963458039,"d":"$985,087"}]
[null,82,{"v":985086.6963458039,"d":"$985,087"},{"$f":"Analysis!$C$14","v":{"v":5700.209735541158,"d":"$5,700"}},{"$f":"C88*Analysis!$C$13/12","v":{"v":3694.0751112967646,"d":"$3,694"}},{"v":2006.1346242443933,"d":"$2,006"},{"v":983080.5617215595,"d":"$983,081"}]
[null,83,{"v":983080.5617215595,"d":"$983,081"},{"$f":"Analysis!$C$14","v":{"v":5700.209735541158,"d":"$5,700"}},{"$f":"C89*Analysis!$C$13/12","v":{"v":3686.5521064558484,"d":"$3,687"}},{"v":2013.6576290853095,"d":"$2,014"},{"v":981066.9040924741,"d":"$981,067"}]
[7,84,{"v":981066.9040924741,"d":"$981,067"},{"$f":"Analysis!$C$14","v":{"v":5700.209735541158,"d":"$5,700"}},{"$f":"C90*Analysis!$C$13/12","v":{"v":3679.0008903467783,"d":"$3,679"}},{"v":2021.2088451943796,"d":"$2,021"},{"v":979045.6952472797,"d":"$979,046"}]
[null,85,{"v":979045.6952472797,"d":"$979,046"},{"$f":"Analysis!$C$14","v":{"v":5700.209735541158,"d":"$5,700"}},{"$f":"C91*Analysis!$C$13/12","v":{"v":3671.4213571772984,"d":"$3,671"}},{"v":2028.7883783638595,"d":"$2,029"},{"v":977016.9068689159,"d":"$977,017"}]
[null,86,{"v":977016.9068689159,"d":"$977,017"},{"$f":"Analysis!$C$14","v":{"v":5700.209735541158,"d":"$5,700"}},{"$f":"C92*Analysis!$C$13/12","v":{"v":3663.8134007584345,"d":"$3,664"}},{"v":2036.3963347827234,"d":"$2,036"},{"v":974980.5105341332,"d":"$974,981"}]
[null,87,{"v":974980.5105341332,"d":"$974,981"},{"$f":"Analysis!$C$14","v":{"v":5700.209735541158,"d":"$5,700"}},{"$f":"C93*Analysis!$C$13/12","v":{"v":3656.1769145029994,"d":"$3,656"}},{"v":2044.0328210381585,"d":"$2,044"},{"v":972936.477713095,"d":"$972,936"}]
[null,88,{"v":972936.477713095,"d":"$972,936"},{"$f":"Analysis!$C$14","v":{"v":5700.209735541158,"d":"$5,700"}},{"$f":"C94*Analysis!$C$13/12","v":{"v":3648.511791424106,"d":"$3,649"}},{"v":2051.697944117052,"d":"$2,052"},{"v":970884.779768978,"d":"$970,885"}]
[null,89,{"v":970884.779768978,"d":"$970,885"},{"$f":"Analysis!$C$14","v":{"v":5700.209735541158,"d":"$5,700"}},{"$f":"C95*Analysis!$C$13/12","v":{"v":3640.8179241336675,"d":"$3,641"}},{"v":2059.3918114074904,"d":"$2,059"},{"v":968825.3879575705,"d":"$968,825"}]
[null,90,{"v":968825.3879575705,"d":"$968,825"},{"$f":"Analysis!$C$14","v":{"v":5700.209735541158,"d":"$5,700"}},{"$f":"C96*Analysis!$C$13/12","v":{"v":3633.095204840889,"d":"$3,633"}},{"v":2067.114530700269,"d":"$2,067"},{"v":966758.2734268702,"d":"$966,758"}]
[null,91,{"v":966758.2734268702,"d":"$966,758"},{"$f":"Analysis!$C$14","v":{"v":5700.209735541158,"d":"$5,700"}},{"$f":"C97*Analysis!$C$13/12","v":{"v":3625.3435253507632,"d":"$3,625"}},{"v":2074.8662101903947,"d":"$2,075"},{"v":964683.4072166799,"d":"$964,683"}]
[null,92,{"v":964683.4072166799,"d":"$964,683"},{"$f":"Analysis!$C$14","v":{"v":5700.209735541158,"d":"$5,700"}},{"$f":"C98*Analysis!$C$13/12","v":{"v":3617.5627770625492,"d":"$3,618"}},{"v":2082.6469584786087,"d":"$2,083"},{"v":962600.7602582013,"d":"$962,601"}]
[null,93,{"v":962600.7602582013,"d":"$962,601"},{"$f":"Analysis!$C$14","v":{"v":5700.209735541158,"d":"$5,700"}},{"$f":"C99*Analysis!$C$13/12","v":{"v":3609.7528509682547,"d":"$3,610"}},{"v":2090.456884572903,"d":"$2,090"},{"v":960510.3033736284,"d":"$960,510"}]
[null,94,{"v":960510.3033736284,"d":"$960,510"},{"$f":"Analysis!$C$14","v":{"v":5700.209735541158,"d":"$5,700"}},{"$f":"C100*Analysis!$C$13/12","v":{"v":3601.9136376511065,"d":"$3,602"}},{"v":2098.2960978900514,"d":"$2,098"},{"v":958412.0072757384,"d":"$958,412"}]
[null,95,{"v":958412.0072757384,"d":"$958,412"},{"$f":"Analysis!$C$14","v":{"v":5700.209735541158,"d":"$5,700"}},{"$f":"C101*Analysis!$C$13/12","v":{"v":3594.045027284019,"d":"$3,594"}},{"v":2106.164708257139,"d":"$2,106"},{"v":956305.8425674812,"d":"$956,306"}]
[8,96,{"v":956305.8425674812,"d":"$956,306"},{"$f":"Analysis!$C$14","v":{"v":5700.209735541158,"d":"$5,700"}},{"$f":"C102*Analysis!$C$13/12","v":{"v":3586.1469096280543,"d":"$3,586"}},{"v":2114.0628259131036,"d":"$2,114"},{"v":954191.7797415681,"d":"$954,192"}]
[null,97,{"v":954191.7797415681,"d":"$954,192"},{"$f":"Analysis!$C$14","v":{"v":5700.209735541158,"d":"$5,700"}},{"$f":"C103*Analysis!$C$13/12","v":{"v":3578.2191740308804,"d":"$3,578"}},{"v":2121.9905615102775,"d":"$2,122"},{"v":952069.7891800578,"d":"$952,070"}]
[null,98,{"v":952069.7891800578,"d":"$952,070"},{"$f":"Analysis!$C$14","v":{"v":5700.209735541158,"d":"$5,700"}},{"$f":"C104*Analysis!$C$13/12","v":{"v":3570.261709425217,"d":"$3,570"}},{"v":2129.948026115941,"d":"$2,130"},{"v":949939.8411539419,"d":"$949,940"}]
[null,99,{"v":949939.8411539419,"d":"$949,940"},{"$f":"Analysis!$C$14","v":{"v":5700.209735541158,"d":"$5,700"}},{"$f":"C105*Analysis!$C$13/12","v":{"v":3562.274404327282,"d":"$3,562"}},{"v":2137.935331213876,"d":"$2,138"},{"v":947801.9058227281,"d":"$947,802"}]
[null,100,{"v":947801.9058227281,"d":"$947,802"},{"$f":"Analysis!$C$14","v":{"v":5700.209735541158,"d":"$5,700"}},{"$f":"C106*Analysis!$C$13/12","v":{"v":3554.2571468352303,"d":"$3,554"}},{"v":2145.9525887059276,"d":"$2,146"},{"v":945655.9532340221,"d":"$945,656"}]
[null,101,{"v":945655.9532340221,"d":"$945,656"},{"$f":"Analysis!$C$14","v":{"v":5700.209735541158,"d":"$5,700"}},{"$f":"C107*Analysis!$C$13/12","v":{"v":3546.209824627583,"d":"$3,546"}},{"v":2153.9999109135747,"d":"$2,154"},{"v":943501.9533231086,"d":"$943,502"}]
[null,102,{"v":943501.9533231086,"d":"$943,502"},{"$f":"Analysis!$C$14","v":{"v":5700.209735541158,"d":"$5,700"}},{"$f":"C108*Analysis!$C$13/12","v":{"v":3538.1323249616576,"d":"$3,538"}},{"v":2162.0774105795003,"d":"$2,162"},{"v":941339.8759125291,"d":"$941,340"}]
[null,103,{"v":941339.8759125291,"d":"$941,340"},{"$f":"Analysis!$C$14","v":{"v":5700.209735541158,"d":"$5,700"}},{"$f":"C109*Analysis!$C$13/12","v":{"v":3530.024534671984,"d":"$3,530"}},{"v":2170.185200869174,"d":"$2,170"},{"v":939169.6907116598,"d":"$939,170"}]
[null,104,{"v":939169.6907116598,"d":"$939,170"},{"$f":"Analysis!$C$14","v":{"v":5700.209735541158,"d":"$5,700"}},{"$f":"C110*Analysis!$C$13/12","v":{"v":3521.8863401687245,"d":"$3,522"}},{"v":2178.3233953724334,"d":"$2,178"},{"v":936991.3673162874,"d":"$936,991"}]
[null,105,{"v":936991.3673162874,"d":"$936,991"},{"$f":"Analysis!$C$14","v":{"v":5700.209735541158,"d":"$5,700"}},{"$f":"C111*Analysis!$C$13/12","v":{"v":3513.7176274360772,"d":"$3,514"}},{"v":2186.4921081050807,"d":"$2,186"},{"v":934804.8752081823,"d":"$934,805"}]
[null,106,{"v":934804.8752081823,"d":"$934,805"},{"$f":"Analysis!$C$14","v":{"v":5700.209735541158,"d":"$5,700"}},{"$f":"C112*Analysis!$C$13/12","v":{"v":3505.5182820306836,"d":"$3,506"}},{"v":2194.6914535104743,"d":"$2,195"},{"v":932610.1837546718,"d":"$932,610"}]
[null,107,{"v":932610.1837546718,"d":"$932,610"},{"$f":"Analysis!$C$14","v":{"v":5700.209735541158,"d":"$5,700"}},{"$f":"C113*Analysis!$C$13/12","v":{"v":3497.2881890800195,"d":"$3,497"}},{"v":2202.9215464611384,"d":"$2,203"},{"v":930407.2622082107,"d":"$930,407"}]
[9,108,{"v":930407.2622082107,"d":"$930,407"},{"$f":"Analysis!$C$14","v":{"v":5700.209735541158,"d":"$5,700"}},{"$f":"C114*Analysis!$C$13/12","v":{"v":3489.0272332807895,"d":"$3,489"}},{"v":2211.1825022603684,"d":"$2,211"},{"v":928196.0797059503,"d":"$928,196"}]
[null,109,{"v":928196.0797059503,"d":"$928,196"},{"$f":"Analysis!$C$14","v":{"v":5700.209735541158,"d":"$5,700"}},{"$f":"C115*Analysis!$C$13/12","v":{"v":3480.735298897314,"d":"$3,481"}},{"v":2219.474436643844,"d":"$2,219"},{"v":925976.6052693065,"d":"$925,977"}]
[null,110,{"v":925976.6052693065,"d":"$925,977"},{"$f":"Analysis!$C$14","v":{"v":5700.209735541158,"d":"$5,700"}},{"$f":"C116*Analysis!$C$13/12","v":{"v":3472.412269759899,"d":"$3,472"}},{"v":2227.797465781259,"d":"$2,228"},{"v":923748.8078035252,"d":"$923,749"}]
[null,111,{"v":923748.8078035252,"d":"$923,749"},{"$f":"Analysis!$C$14","v":{"v":5700.209735541158,"d":"$5,700"}},{"$f":"C117*Analysis!$C$13/12","v":{"v":3464.05802926322,"d":"$3,464"}},{"v":2236.151706277938,"d":"$2,236"},{"v":921512.6560972473,"d":"$921,513"}]
[null,112,{"v":921512.6560972473,"d":"$921,513"},{"$f":"Analysis!$C$14","v":{"v":5700.209735541158,"d":"$5,700"}},{"$f":"C118*Analysis!$C$13/12","v":{"v":3455.6724603646767,"d":"$3,456"}},{"v":2244.537275176481,"d":"$2,245"},{"v":919268.1188220708,"d":"$919,268"}]
[null,113,{"v":919268.1188220708,"d":"$919,268"},{"$f":"Analysis!$C$14","v":{"v":5700.209735541158,"d":"$5,700"}},{"$f":"C119*Analysis!$C$13/12","v":{"v":3447.2554455827653,"d":"$3,447"}},{"v":2252.9542899583926,"d":"$2,253"},{"v":917015.1645321124,"d":"$917,015"}]
[null,114,{"v":917015.1645321124,"d":"$917,015"},{"$f":"Analysis!$C$14","v":{"v":5700.209735541158,"d":"$5,700"}},{"$f":"C120*Analysis!$C$13/12","v":{"v":3438.8068669954214,"d":"$3,439"}},{"v":2261.4028685457365,"d":"$2,261"},{"v":914753.7616635667,"d":"$914,754"}]
[null,115,{"v":914753.7616635667,"d":"$914,754"},{"$f":"Analysis!$C$14","v":{"v":5700.209735541158,"d":"$5,700"}},{"$f":"C121*Analysis!$C$13/12","v":{"v":3430.326606238375,"d":"$3,430"}},{"v":2269.883129302783,"d":"$2,270"},{"v":912483.8785342639,"d":"$912,484"}]
[null,116,{"v":912483.8785342639,"d":"$912,484"},{"$f":"Analysis!$C$14","v":{"v":5700.209735541158,"d":"$5,700"}},{"$f":"C122*Analysis!$C$13/12","v":{"v":3421.8145445034897,"d":"$3,422"}},{"v":2278.395191037668,"d":"$2,278"},{"v":910205.4833432263,"d":"$910,205"}]
[null,117,{"v":910205.4833432263,"d":"$910,205"},{"$f":"Analysis!$C$14","v":{"v":5700.209735541158,"d":"$5,700"}},{"$f":"C123*Analysis!$C$13/12","v":{"v":3413.270562537098,"d":"$3,413"}},{"v":2286.9391730040597,"d":"$2,287"},{"v":907918.5441702222,"d":"$907,919"}]
[null,118,{"v":907918.5441702222,"d":"$907,919"},{"$f":"Analysis!$C$14","v":{"v":5700.209735541158,"d":"$5,700"}},{"$f":"C124*Analysis!$C$13/12","v":{"v":3404.6945406383334,"d":"$3,405"}},{"v":2295.5151949028245,"d":"$2,296"},{"v":905623.0289753195,"d":"$905,623"}]
[null,119,{"v":905623.0289753195,"d":"$905,623"},{"$f":"Analysis!$C$14","v":{"v":5700.209735541158,"d":"$5,700"}},{"$f":"C125*Analysis!$C$13/12","v":{"v":3396.0863586574483,"d":"$3,396"}},{"v":2304.1233768837096,"d":"$2,304"},{"v":903318.9055984358,"d":"$903,319"}]
[10,120,{"v":903318.9055984358,"d":"$903,319"},{"$f":"Analysis!$C$14","v":{"v":5700.209735541158,"d":"$5,700"}},{"$f":"C126*Analysis!$C$13/12","v":{"v":3387.4458959941344,"d":"$3,387"}},{"v":2312.7638395470235,"d":"$2,313"},{"v":901006.1417588887,"d":"$901,006"}]
[null,121,{"v":901006.1417588887,"d":"$901,006"},{"$f":"Analysis!$C$14","v":{"v":5700.209735541158,"d":"$5,700"}},{"$f":"C127*Analysis!$C$13/12","v":{"v":3378.7730315958324,"d":"$3,379"}},{"v":2321.4367039453255,"d":"$2,321"},{"v":898684.7050549434,"d":"$898,685"}]
[null,122,{"v":898684.7050549434,"d":"$898,685"},{"$f":"Analysis!$C$14","v":{"v":5700.209735541158,"d":"$5,700"}},{"$f":"C128*Analysis!$C$13/12","v":{"v":3370.067643956038,"d":"$3,370"}},{"v":2330.14209158512,"d":"$2,330"},{"v":896354.5629633584,"d":"$896,355"}]
[null,123,{"v":896354.5629633584,"d":"$896,355"},{"$f":"Analysis!$C$14","v":{"v":5700.209735541158,"d":"$5,700"}},{"$f":"C129*Analysis!$C$13/12","v":{"v":3361.3296111125933,"d":"$3,361"}},{"v":2338.8801244285646,"d":"$2,339"},{"v":894015.6828389298,"d":"$894,016"}]
[null,124,{"v":894015.6828389298,"d":"$894,016"},{"$f":"Analysis!$C$14","v":{"v":5700.209735541158,"d":"$5,700"}},{"$f":"C130*Analysis!$C$13/12","v":{"v":3352.558810645987,"d":"$3,353"}},{"v":2347.650924895171,"d":"$2,348"},{"v":891668.0319140346,"d":"$891,668"}]
[null,125,{"v":891668.0319140346,"d":"$891,668"},{"$f":"Analysis!$C$14","v":{"v":5700.209735541158,"d":"$5,700"}},{"$f":"C131*Analysis!$C$13/12","v":{"v":3343.75511967763,"d":"$3,344"}},{"v":2356.454615863528,"d":"$2,356"},{"v":889311.5772981711,"d":"$889,312"}]
[null,126,{"v":889311.5772981711,"d":"$889,312"},{"$f":"Analysis!$C$14","v":{"v":5700.209735541158,"d":"$5,700"}},{"$f":"C132*Analysis!$C$13/12","v":{"v":3334.9184148681416,"d":"$3,335"}},{"v":2365.2913206730163,"d":"$2,365"},{"v":886946.285977498,"d":"$886,946"}]
[null,127,{"v":886946.285977498,"d":"$886,946"},{"$f":"Analysis!$C$14","v":{"v":5700.209735541158,"d":"$5,700"}},{"$f":"C133*Analysis!$C$13/12","v":{"v":3326.0485724156174,"d":"$3,326"}},{"v":2374.1611631255405,"d":"$2,374"},{"v":884572.1248143725,"d":"$884,572"}]
[null,128,{"v":884572.1248143725,"d":"$884,572"},{"$f":"Analysis!$C$14","v":{"v":5700.209735541158,"d":"$5,700"}},{"$f":"C134*Analysis!$C$13/12","v":{"v":3317.145468053897,"d":"$3,317"}},{"v":2383.064267487261,"d":"$2,383"},{"v":882189.0605468852,"d":"$882,189"}]
[null,129,{"v":882189.0605468852,"d":"$882,189"},{"$f":"Analysis!$C$14","v":{"v":5700.209735541158,"d":"$5,700"}},{"$f":"C135*Analysis!$C$13/12","v":{"v":3308.2089770508196,"d":"$3,308"}},{"$f":"D135-E135","v":{"v":2392.0007584903383,"d":"$2,392"}},{"$f":"C135-F135","v":{"v":879797.059788395,"d":"$879,797"}}]
[null,130,{"$f":"G135","v":{"v":879797.059788395,"d":"$879,797"}},{"$f":"Analysis!$C$14","v":{"v":5700.209735541158,"d":"$5,700"}},{"$f":"C136*Analysis!$C$13/12","v":{"v":3299.238974206481,"d":"$3,299"}},{"v":2400.970761334677,"d":"$2,401"},{"v":877396.0890270603,"d":"$877,396"}]
[null,131,{"v":877396.0890270603,"d":"$877,396"},{"$f":"Analysis!$C$14","v":{"v":5700.209735541158,"d":"$5,700"}},{"$f":"C137*Analysis!$C$13/12","v":{"v":3290.2353338514763,"d":"$3,290"}},{"v":2409.9744016896816,"d":"$2,410"},{"v":874986.1146253706,"d":"$874,986"}]
[11,132,{"v":874986.1146253706,"d":"$874,986"},{"$f":"Analysis!$C$14","v":{"v":5700.209735541158,"d":"$5,700"}},{"$f":"C138*Analysis!$C$13/12","v":{"v":3281.1979298451392,"d":"$3,281"}},{"v":2419.0118056960187,"d":"$2,419"},{"v":872567.1028196745,"d":"$872,567"}]
[null,133,{"v":872567.1028196745,"d":"$872,567"},{"$f":"Analysis!$C$14","v":{"v":5700.209735541158,"d":"$5,700"}},{"$f":"C139*Analysis!$C$13/12","v":{"v":3272.1266355737794,"d":"$3,272"}},{"v":2428.0830999673785,"d":"$2,428"},{"v":870139.0197197072,"d":"$870,139"}]
[null,134,{"v":870139.0197197072,"d":"$870,139"},{"$f":"Analysis!$C$14","v":{"v":5700.209735541158,"d":"$5,700"}},{"$f":"C140*Analysis!$C$13/12","v":{"v":3263.021323948902,"d":"$3,263"}},{"v":2437.1884115922558,"d":"$2,437"},{"v":867701.8313081149,"d":"$867,702"}]
[null,135,{"v":867701.8313081149,"d":"$867,702"},{"$f":"Analysis!$C$14","v":{"v":5700.209735541158,"d":"$5,700"}},{"$f":"C141*Analysis!$C$13/12","v":{"v":3253.881867405431,"d":"$3,254"}},{"v":2446.327868135727,"d":"$2,446"},{"v":865255.5034399792,"d":"$865,256"}]
[null,136,{"v":865255.5034399792,"d":"$865,256"},{"$f":"Analysis!$C$14","v":{"v":5700.209735541158,"d":"$5,700"}},{"$f":"C142*Analysis!$C$13/12","v":{"v":3244.7081378999214,"d":"$3,245"}},{"v":2455.5015976412365,"d":"$2,456"},{"v":862800.0018423379,"d":"$862,800"}]
[null,137,{"v":862800.0018423379,"d":"$862,800"},{"$f":"Analysis!$C$14","v":{"v":5700.209735541158,"d":"$5,700"}},{"$f":"C143*Analysis!$C$13/12","v":{"v":3235.500006908767,"d":"$3,236"}},{"v":2464.709728632391,"d":"$2,465"},{"v":860335.2921137055,"d":"$860,335"}]
[null,138,{"v":860335.2921137055,"d":"$860,335"},{"$f":"Analysis!$C$14","v":{"v":5700.209735541158,"d":"$5,700"}},{"$f":"C144*Analysis!$C$13/12","v":{"v":3226.257345426395,"d":"$3,226"}},{"v":2473.9523901147627,"d":"$2,474"},{"v":857861.3397235908,"d":"$857,861"}]
[null,139,{"v":857861.3397235908,"d":"$857,861"},{"$f":"Analysis!$C$14","v":{"v":5700.209735541158,"d":"$5,700"}},{"$f":"C145*Analysis!$C$13/12","v":{"v":3216.9800239634656,"d":"$3,217"}},{"v":2483.2297115776923,"d":"$2,483"},{"v":855378.1100120131,"d":"$855,378"}]
[null,140,{"v":855378.1100120131,"d":"$855,378"},{"$f":"Analysis!$C$14","v":{"v":5700.209735541158,"d":"$5,700"}},{"$f":"C146*Analysis!$C$13/12","v":{"v":3207.6679125450487,"d":"$3,208"}},{"v":2492.541822996109,"d":"$2,493"},{"v":852885.568189017,"d":"$852,886"}]
[null,141,{"v":852885.568189017,"d":"$852,886"},{"$f":"Analysis!$C$14","v":{"v":5700.209735541158,"d":"$5,700"}},{"$f":"C147*Analysis!$C$13/12","v":{"v":3198.3208807088135,"d":"$3,198"}},{"v":2501.8888548323444,"d":"$2,502"},{"v":850383.6793341846,"d":"$850,384"}]
[null,142,{"v":850383.6793341846,"d":"$850,384"},{"$f":"Analysis!$C$14","v":{"v":5700.209735541158,"d":"$5,700"}},{"$f":"C148*Analysis!$C$13/12","v":{"v":3188.938797503192,"d":"$3,189"}},{"v":2511.270938037966,"d":"$2,511"},{"v":847872.4083961466,"d":"$847,872"}]
[null,143,{"v":847872.4083961466,"d":"$847,872"},{"$f":"Analysis!$C$14","v":{"v":5700.209735541158,"d":"$5,700"}},{"$f":"C149*Analysis!$C$13/12","v":{"v":3179.52153148555,"d":"$3,180"}},{"v":2520.688204055608,"d":"$2,521"},{"v":845351.720192091,"d":"$845,352"}]
[12,144,{"v":845351.720192091,"d":"$845,352"},{"$f":"Analysis!$C$14","v":{"v":5700.209735541158,"d":"$5,700"}},{"$f":"C150*Analysis!$C$13/12","v":{"v":3170.068950720341,"d":"$3,170"}},{"v":2530.140784820817,"d":"$2,530"},{"v":842821.5794072702,"d":"$842,822"}]
[null,145,{"v":842821.5794072702,"d":"$842,822"},{"$f":"Analysis!$C$14","v":{"v":5700.209735541158,"d":"$5,700"}},{"$f":"C151*Analysis!$C$13/12","v":{"v":3160.580922777263,"d":"$3,161"}},{"v":2539.628812763895,"d":"$2,540"},{"v":840281.9505945063,"d":"$840,282"}]
[null,146,{"v":840281.9505945063,"d":"$840,282"},{"$f":"Analysis!$C$14","v":{"v":5700.209735541158,"d":"$5,700"}},{"$f":"C152*Analysis!$C$13/12","v":{"v":3151.0573147293985,"d":"$3,151"}},{"v":2549.1524208117594,"d":"$2,549"},{"v":837732.7981736946,"d":"$837,733"}]
[null,147,{"v":837732.7981736946,"d":"$837,733"},{"$f":"Analysis!$C$14","v":{"v":5700.209735541158,"d":"$5,700"}},{"$f":"C153*Analysis!$C$13/12","v":{"v":3141.497993151355,"d":"$3,141"}},{"v":2558.711742389803,"d":"$2,559"},{"v":835174.0864313048,"d":"$835,174"}]
[null,148,{"v":835174.0864313048,"d":"$835,174"},{"$f":"Analysis!$C$14","v":{"v":5700.209735541158,"d":"$5,700"}},{"$f":"C154*Analysis!$C$13/12","v":{"v":3131.902824117393,"d":"$3,132"}},{"v":2568.306911423765,"d":"$2,568"},{"v":832605.779519881,"d":"$832,606"}]
[null,149,{"v":832605.779519881,"d":"$832,606"},{"$f":"Analysis!$C$14","v":{"v":5700.209735541158,"d":"$5,700"}},{"$f":"C155*Analysis!$C$13/12","v":{"v":3122.271673199554,"d":"$3,122"}},{"v":2577.938062341604,"d":"$2,578"},{"v":830027.8414575394,"d":"$830,028"}]
[null,150,{"v":830027.8414575394,"d":"$830,028"},{"$f":"Analysis!$C$14","v":{"v":5700.209735541158,"d":"$5,700"}},{"$f":"C156*Analysis!$C$13/12","v":{"v":3112.6044054657723,"d":"$3,113"}},{"v":2587.6053300753856,"d":"$2,588"},{"v":827440.236127464,"d":"$827,440"}]
[null,151,{"v":827440.236127464,"d":"$827,440"},{"$f":"Analysis!$C$14","v":{"v":5700.209735541158,"d":"$5,700"}},{"$f":"C157*Analysis!$C$13/12","v":{"v":3102.90088547799,"d":"$3,103"}},{"v":2597.308850063168,"d":"$2,597"},{"v":824842.9272774009,"d":"$824,843"}]
[null,152,{"v":824842.9272774009,"d":"$824,843"},{"$f":"Analysis!$C$14","v":{"v":5700.209735541158,"d":"$5,700"}},{"$f":"C158*Analysis!$C$13/12","v":{"v":3093.1609772902534,"d":"$3,093"}},{"v":2607.0487582509045,"d":"$2,607"},{"v":822235.87851915,"d":"$822,236"}]
[null,153,{"v":822235.87851915,"d":"$822,236"},{"$f":"Analysis!$C$14","v":{"v":5700.209735541158,"d":"$5,700"}},{"$f":"C159*Analysis!$C$13/12","v":{"v":3083.384544446812,"d":"$3,083"}},{"v":2616.825191094346,"d":"$2,617"},{"v":819619.0533280557,"d":"$819,619"}]
[null,154,{"v":819619.0533280557,"d":"$819,619"},{"$f":"Analysis!$C$14","v":{"v":5700.209735541158,"d":"$5,700"}},{"$f":"C160*Analysis!$C$13/12","v":{"v":3073.571449980209,"d":"$3,074"}},{"v":2626.638285560949,"d":"$2,627"},{"v":816992.4150424947,"d":"$816,992"}]
[null,155,{"v":816992.4150424947,"d":"$816,992"},{"$f":"Analysis!$C$14","v":{"v":5700.209735541158,"d":"$5,700"}},{"$f":"C161*Analysis!$C$13/12","v":{"v":3063.721556409355,"d":"$3,064"}},{"v":2636.488179131803,"d":"$2,636"},{"v":814355.9268633629,"d":"$814,356"}]
[13,156,{"v":814355.9268633629,"d":"$814,356"},{"$f":"Analysis!$C$14","v":{"v":5700.209735541158,"d":"$5,700"}},{"$f":"C162*Analysis!$C$13/12","v":{"v":3053.8347257376104,"d":"$3,054"}},{"v":2646.3750098035475,"d":"$2,646"},{"v":811709.5518535593,"d":"$811,710"}]
[null,157,{"v":811709.5518535593,"d":"$811,710"},{"$f":"Analysis!$C$14","v":{"v":5700.209735541158,"d":"$5,700"}},{"$f":"C163*Analysis!$C$13/12","v":{"v":3043.9108194508476,"d":"$3,044"}},{"v":2656.2989160903103,"d":"$2,656"},{"v":809053.252937469,"d":"$809,053"}]
[null,158,{"v":809053.252937469,"d":"$809,053"},{"$f":"Analysis!$C$14","v":{"v":5700.209735541158,"d":"$5,700"}},{"$f":"C164*Analysis!$C$13/12","v":{"v":3033.9496985155088,"d":"$3,034"}},{"v":2666.260037025649,"d":"$2,666"},{"v":806386.9929004434,"d":"$806,387"}]
[null,159,{"v":806386.9929004434,"d":"$806,387"},{"$f":"Analysis!$C$14","v":{"v":5700.209735541158,"d":"$5,700"}},{"$f":"C165*Analysis!$C$13/12","v":{"v":3023.9512233766623,"d":"$3,024"}},{"v":2676.2585121644956,"d":"$2,676"},{"v":803710.7343882789,"d":"$803,711"}]
[null,160,{"v":803710.7343882789,"d":"$803,711"},{"$f":"Analysis!$C$14","v":{"v":5700.209735541158,"d":"$5,700"}},{"$f":"C166*Analysis!$C$13/12","v":{"v":3013.915253956046,"d":"$3,014"}},{"v":2686.294481585112,"d":"$2,686"},{"v":801024.4399066938,"d":"$801,024"}]
[null,161,{"v":801024.4399066938,"d":"$801,024"},{"$f":"Analysis!$C$14","v":{"v":5700.209735541158,"d":"$5,700"}},{"$f":"C167*Analysis!$C$13/12","v":{"v":3003.8416496501013,"d":"$3,004"}},{"v":2696.3680858910566,"d":"$2,696"},{"v":798328.0718208028,"d":"$798,328"}]
[null,162,{"v":798328.0718208028,"d":"$798,328"},{"$f":"Analysis!$C$14","v":{"v":5700.209735541158,"d":"$5,700"}},{"$f":"C168*Analysis!$C$13/12","v":{"v":2993.7302693280103,"d":"$2,994"}},{"v":2706.4794662131476,"d":"$2,706"},{"v":795621.5923545896,"d":"$795,622"}]
[null,163,{"v":795621.5923545896,"d":"$795,622"},{"$f":"Analysis!$C$14","v":{"v":5700.209735541158,"d":"$5,700"}},{"$f":"C169*Analysis!$C$13/12","v":{"v":2983.580971329711,"d":"$2,984"}},{"v":2716.628764211447,"d":"$2,717"},{"v":792904.9635903782,"d":"$792,905"}]
[null,164,{"v":792904.9635903782,"d":"$792,905"},{"$f":"Analysis!$C$14","v":{"v":5700.209735541158,"d":"$5,700"}},{"$f":"C170*Analysis!$C$13/12","v":{"v":2973.3936134639184,"d":"$2,973"}},{"v":2726.8161220772395,"d":"$2,727"},{"v":790178.1474683009,"d":"$790,178"}]
[null,165,{"v":790178.1474683009,"d":"$790,178"},{"$f":"Analysis!$C$14","v":{"v":5700.209735541158,"d":"$5,700"}},{"$f":"C171*Analysis!$C$13/12","v":{"v":2963.168053006128,"d":"$2,963"}},{"v":2737.04168253503,"d":"$2,737"},{"v":787441.1057857658,"d":"$787,441"}]
[null,166,{"v":787441.1057857658,"d":"$787,441"},{"$f":"Analysis!$C$14","v":{"v":5700.209735541158,"d":"$5,700"}},{"$f":"C172*Analysis!$C$13/12","v":{"v":2952.9041466966214,"d":"$2,953"}},{"v":2747.3055888445365,"d":"$2,747"},{"v":784693.8001969212,"d":"$784,694"}]
[null,167,{"v":784693.8001969212,"d":"$784,694"},{"$f":"Analysis!$C$14","v":{"v":5700.209735541158,"d":"$5,700"}},{"$f":"C173*Analysis!$C$13/12","v":{"v":2942.6017507384545,"d":"$2,943"}},{"v":2757.6079848027034,"d":"$2,758"},{"v":781936.1922121185,"d":"$781,936"}]
[14,168,{"v":781936.1922121185,"d":"$781,936"},{"$f":"Analysis!$C$14","v":{"v":5700.209735541158,"d":"$5,700"}},{"$f":"C174*Analysis!$C$13/12","v":{"v":2932.2607207954443,"d":"$2,932"}},{"v":2767.9490147457136,"d":"$2,768"},{"v":779168.2431973728,"d":"$779,168"}]
[null,169,{"v":779168.2431973728,"d":"$779,168"},{"$f":"Analysis!$C$14","v":{"v":5700.209735541158,"d":"$5,700"}},{"$f":"C175*Analysis!$C$13/12","v":{"v":2921.8809119901475,"d":"$2,922"}},{"v":2778.3288235510104,"d":"$2,778"},{"v":776389.9143738218,"d":"$776,390"}]
[null,170,{"v":776389.9143738218,"d":"$776,390"},{"$f":"Analysis!$C$14","v":{"v":5700.209735541158,"d":"$5,700"}},{"$f":"C176*Analysis!$C$13/12","v":{"v":2911.4621789018315,"d":"$2,911"}},{"v":2788.7475566393264,"d":"$2,789"},{"v":773601.1668171824,"d":"$773,601"}]
[null,171,{"v":773601.1668171824,"d":"$773,601"},{"$f":"Analysis!$C$14","v":{"v":5700.209735541158,"d":"$5,700"}},{"$f":"C177*Analysis!$C$13/12","v":{"v":2901.004375564434,"d":"$2,901"}},{"v":2799.2053599767237,"d":"$2,799"},{"v":770801.9614572057,"d":"$770,802"}]
[null,172,{"v":770801.9614572057,"d":"$770,802"},{"$f":"Analysis!$C$14","v":{"v":5700.209735541158,"d":"$5,700"}},{"$f":"C178*Analysis!$C$13/12","v":{"v":2890.507355464521,"d":"$2,891"}},{"v":2809.702380076637,"d":"$2,810"},{"v":767992.2590771291,"d":"$767,992"}]
[null,173,{"v":767992.2590771291,"d":"$767,992"},{"$f":"Analysis!$C$14","v":{"v":5700.209735541158,"d":"$5,700"}},{"$f":"C179*Analysis!$C$13/12","v":{"v":2879.970971539234,"d":"$2,880"}},{"v":2820.2387640019238,"d":"$2,820"},{"v":765172.0203131272,"d":"$765,172"}]
[null,174,{"v":765172.0203131272,"d":"$765,172"},{"$f":"Analysis!$C$14","v":{"v":5700.209735541158,"d":"$5,700"}},{"$f":"C180*Analysis!$C$13/12","v":{"v":2869.395076174227,"d":"$2,869"}},{"v":2830.8146593669308,"d":"$2,831"},{"v":762341.2056537602,"d":"$762,341"}]
[null,175,{"v":762341.2056537602,"d":"$762,341"},{"$f":"Analysis!$C$14","v":{"v":5700.209735541158,"d":"$5,700"}},{"$f":"C181*Analysis!$C$13/12","v":{"v":2858.779521201601,"d":"$2,859"}},{"v":2841.430214339557,"d":"$2,841"},{"v":759499.7754394207,"d":"$759,500"}]
[null,176,{"v":759499.7754394207,"d":"$759,500"},{"$f":"Analysis!$C$14","v":{"v":5700.209735541158,"d":"$5,700"}},{"$f":"C182*Analysis!$C$13/12","v":{"v":2848.1241578978274,"d":"$2,848"}},{"v":2852.0855776433305,"d":"$2,852"},{"v":756647.6898617774,"d":"$756,648"}]
[null,177,{"v":756647.6898617774,"d":"$756,648"},{"$f":"Analysis!$C$14","v":{"v":5700.209735541158,"d":"$5,700"}},{"$f":"C183*Analysis!$C$13/12","v":{"v":2837.4288369816654,"d":"$2,837"}},{"v":2862.7808985594925,"d":"$2,863"},{"v":753784.9089632179,"d":"$753,785"}]
[null,178,{"v":753784.9089632179,"d":"$753,785"},{"$f":"Analysis!$C$14","v":{"v":5700.209735541158,"d":"$5,700"}},{"$f":"C184*Analysis!$C$13/12","v":{"v":2826.693408612067,"d":"$2,827"}},{"v":2873.516326929091,"d":"$2,874"},{"v":750911.3926362888,"d":"$750,911"}]
[null,179,{"v":750911.3926362888,"d":"$750,911"},{"$f":"Analysis!$C$14","v":{"v":5700.209735541158,"d":"$5,700"}},{"$f":"C185*Analysis!$C$13/12","v":{"v":2815.917722386083,"d":"$2,816"}},{"v":2884.292013155075,"d":"$2,884"},{"v":748027.1006231337,"d":"$748,027"}]
[15,180,{"v":748027.1006231337,"d":"$748,027"},{"$f":"Analysis!$C$14","v":{"v":5700.209735541158,"d":"$5,700"}},{"$f":"C186*Analysis!$C$13/12","v":{"v":2805.1016273367513,"d":"$2,805"}},{"v":2895.1081082044066,"d":"$2,895"},{"v":745131.9925149293,"d":"$745,132"}]
[null,181,{"v":745131.9925149293,"d":"$745,132"},{"$f":"Analysis!$C$14","v":{"v":5700.209735541158,"d":"$5,700"}},{"$f":"C187*Analysis!$C$13/12","v":{"v":2794.244971930985,"d":"$2,794"}},{"v":2905.964763610173,"d":"$2,906"},{"v":742226.0277513191,"d":"$742,226"}]
[null,182,{"v":742226.0277513191,"d":"$742,226"},{"$f":"Analysis!$C$14","v":{"v":5700.209735541158,"d":"$5,700"}},{"$f":"C188*Analysis!$C$13/12","v":{"v":2783.347604067447,"d":"$2,783"}},{"v":2916.862131473711,"d":"$2,917"},{"v":739309.1656198454,"d":"$739,309"}]
[null,183,{"v":739309.1656198454,"d":"$739,309"},{"$f":"Analysis!$C$14","v":{"v":5700.209735541158,"d":"$5,700"}},{"$f":"C189*Analysis!$C$13/12","v":{"v":2772.40937107442,"d":"$2,772"}},{"v":2927.800364466738,"d":"$2,928"},{"v":736381.3652553787,"d":"$736,381"}]
[null,184,{"v":736381.3652553787,"d":"$736,381"},{"$f":"Analysis!$C$14","v":{"v":5700.209735541158,"d":"$5,700"}},{"$f":"C190*Analysis!$C$13/12","v":{"v":2761.4301197076697,"d":"$2,761"}},{"v":2938.779615833488,"d":"$2,939"},{"v":733442.5856395451,"d":"$733,443"}]
[null,185,{"v":733442.5856395451,"d":"$733,443"},{"$f":"Analysis!$C$14","v":{"v":5700.209735541158,"d":"$5,700"}},{"$f":"C191*Analysis!$C$13/12","v":{"v":2750.409696148294,"d":"$2,750"}},{"v":2949.8000393928637,"d":"$2,950"},{"v":730492.7856001522,"d":"$730,493"}]
[null,186,{"v":730492.7856001522,"d":"$730,493"},{"$f":"Analysis!$C$14","v":{"v":5700.209735541158,"d":"$5,700"}},{"$f":"C192*Analysis!$C$13/12","v":{"v":2739.3479460005706,"d":"$2,739"}},{"v":2960.8617895405873,"d":"$2,961"},{"v":727531.9238106116,"d":"$727,532"}]
[null,187,{"v":727531.9238106116,"d":"$727,532"},{"$f":"Analysis!$C$14","v":{"v":5700.209735541158,"d":"$5,700"}},{"$f":"C193*Analysis!$C$13/12","v":{"v":2728.244714289793,"d":"$2,728"}},{"v":2971.9650212513648,"d":"$2,972"},{"v":724559.9587893602,"d":"$724,560"}]
[null,188,{"v":724559.9587893602,"d":"$724,560"},{"$f":"Analysis!$C$14","v":{"v":5700.209735541158,"d":"$5,700"}},{"$f":"C194*Analysis!$C$13/12","v":{"v":2717.099845460101,"d":"$2,717"}},{"v":2983.109890081057,"d":"$2,983"},{"v":721576.8488992791,"d":"$721,577"}]
[null,189,{"v":721576.8488992791,"d":"$721,577"},{"$f":"Analysis!$C$14","v":{"v":5700.209735541158,"d":"$5,700"}},{"$f":"C195*Analysis!$C$13/12","v":{"v":2705.9131833722968,"d":"$2,706"}},{"v":2994.296552168861,"d":"$2,994"},{"v":718582.5523471102,"d":"$718,583"}]
[null,190,{"v":718582.5523471102,"d":"$718,583"},{"$f":"Analysis!$C$14","v":{"v":5700.209735541158,"d":"$5,700"}},{"$f":"C196*Analysis!$C$13/12","v":{"v":2694.6845713016633,"d":"$2,695"}},{"v":3005.5251642394946,"d":"$3,006"},{"v":715577.0271828708,"d":"$715,577"}]
[null,191,{"v":715577.0271828708,"d":"$715,577"},{"$f":"Analysis!$C$14","v":{"v":5700.209735541158,"d":"$5,700"}},{"$f":"C197*Analysis!$C$13/12","v":{"v":2683.4138519357653,"d":"$2,683"}},{"v":3016.7958836053926,"d":"$3,017"},{"v":712560.2312992654,"d":"$712,560"}]
[16,192,{"v":712560.2312992654,"d":"$712,560"},{"$f":"Analysis!$C$14","v":{"v":5700.209735541158,"d":"$5,700"}},{"$f":"C198*Analysis!$C$13/12","v":{"v":2672.100867372245,"d":"$2,672"}},{"v":3028.108868168913,"d":"$3,028"},{"v":709532.1224310965,"d":"$709,532"}]
[null,193,{"v":709532.1224310965,"d":"$709,532"},{"$f":"Analysis!$C$14","v":{"v":5700.209735541158,"d":"$5,700"}},{"$f":"C199*Analysis!$C$13/12","v":{"v":2660.745459116612,"d":"$2,661"}},{"$f":"D199-E199","v":{"v":3039.464276424546,"d":"$3,039"}},{"$f":"C199-F199","v":{"v":706492.658154672,"d":"$706,493"}}]
[null,194,{"$f":"G199","v":{"v":706492.658154672,"d":"$706,493"}},{"$f":"Analysis!$C$14","v":{"v":5700.209735541158,"d":"$5,700"}},{"$f":"C200*Analysis!$C$13/12","v":{"v":2649.34746808002,"d":"$2,649"}},{"v":3050.862267461138,"d":"$3,051"},{"v":703441.7958872109,"d":"$703,442"}]
[null,195,{"v":703441.7958872109,"d":"$703,442"},{"$f":"Analysis!$C$14","v":{"v":5700.209735541158,"d":"$5,700"}},{"$f":"C201*Analysis!$C$13/12","v":{"v":2637.9067345770404,"d":"$2,638"}},{"v":3062.3030009641175,"d":"$3,062"},{"v":700379.4928862468,"d":"$700,379"}]
[null,196,{"v":700379.4928862468,"d":"$700,379"},{"$f":"Analysis!$C$14","v":{"v":5700.209735541158,"d":"$5,700"}},{"$f":"C202*Analysis!$C$13/12","v":{"v":2626.423098323425,"d":"$2,626"}},{"v":3073.7866372177327,"d":"$3,074"},{"v":697305.706249029,"d":"$697,306"}]
[null,197,{"v":697305.706249029,"d":"$697,306"},{"$f":"Analysis!$C$14","v":{"v":5700.209735541158,"d":"$5,700"}},{"$f":"C203*Analysis!$C$13/12","v":{"v":2614.896398433859,"d":"$2,615"}},{"v":3085.313337107299,"d":"$3,085"},{"v":694220.3929119217,"d":"$694,220"}]
[null,198,{"v":694220.3929119217,"d":"$694,220"},{"$f":"Analysis!$C$14","v":{"v":5700.209735541158,"d":"$5,700"}},{"$f":"C204*Analysis!$C$13/12","v":{"v":2603.3264734197064,"d":"$2,603"}},{"v":3096.8832621214515,"d":"$3,097"},{"v":691123.5096498003,"d":"$691,124"}]
[null,199,{"v":691123.5096498003,"d":"$691,124"},{"$f":"Analysis!$C$14","v":{"v":5700.209735541158,"d":"$5,700"}},{"$f":"C205*Analysis!$C$13/12","v":{"v":2591.7131611867508,"d":"$2,592"}},{"v":3108.496574354407,"d":"$3,108"},{"v":688015.0130754459,"d":"$688,015"}]
[null,200,{"v":688015.0130754459,"d":"$688,015"},{"$f":"Analysis!$C$14","v":{"v":5700.209735541158,"d":"$5,700"}},{"$f":"C206*Analysis!$C$13/12","v":{"v":2580.056299032922,"d":"$2,580"}},{"v":3120.1534365082357,"d":"$3,120"},{"v":684894.8596389376,"d":"$684,895"}]
[null,201,{"v":684894.8596389376,"d":"$684,895"},{"$f":"Analysis!$C$14","v":{"v":5700.209735541158,"d":"$5,700"}},{"$f":"C207*Analysis!$C$13/12","v":{"v":2568.355723646016,"d":"$2,568"}},{"v":3131.854011895142,"d":"$3,132"},{"v":681763.0056270425,"d":"$681,763"}]
[null,202,{"v":681763.0056270425,"d":"$681,763"},{"$f":"Analysis!$C$14","v":{"v":5700.209735541158,"d":"$5,700"}},{"$f":"C208*Analysis!$C$13/12","v":{"v":2556.6112711014093,"d":"$2,557"}},{"v":3143.5984644397486,"d":"$3,144"},{"v":678619.4071626028,"d":"$678,619"}]
[null,203,{"v":678619.4071626028,"d":"$678,619"},{"$f":"Analysis!$C$14","v":{"v":5700.209735541158,"d":"$5,700"}},{"$f":"C209*Analysis!$C$13/12","v":{"v":2544.8227768597603,"d":"$2,545"}},{"v":3155.3869586813976,"d":"$3,155"},{"v":675464.0202039214,"d":"$675,464"}]
[17,204,{"v":675464.0202039214,"d":"$675,464"},{"$f":"Analysis!$C$14","v":{"v":5700.209735541158,"d":"$5,700"}},{"$f":"C210*Analysis!$C$13/12","v":{"v":2532.990075764705,"d":"$2,533"}},{"v":3167.2196597764528,"d":"$3,167"},{"v":672296.8005441449,"d":"$672,297"}]
[null,205,{"v":672296.8005441449,"d":"$672,297"},{"$f":"Analysis!$C$14","v":{"v":5700.209735541158,"d":"$5,700"}},{"$f":"C211*Analysis!$C$13/12","v":{"v":2521.1130020405435,"d":"$2,521"}},{"v":3179.0967335006144,"d":"$3,179"},{"v":669117.7038106443,"d":"$669,118"}]
[null,206,{"v":669117.7038106443,"d":"$669,118"},{"$f":"Analysis!$C$14","v":{"v":5700.209735541158,"d":"$5,700"}},{"$f":"C212*Analysis!$C$13/12","v":{"v":2509.191389289916,"d":"$2,509"}},{"v":3191.018346251242,"d":"$3,191"},{"v":665926.6854643931,"d":"$665,927"}]
[null,207,{"v":665926.6854643931,"d":"$665,927"},{"$f":"Analysis!$C$14","v":{"v":5700.209735541158,"d":"$5,700"}},{"$f":"C213*Analysis!$C$13/12","v":{"v":2497.225070491474,"d":"$2,497"}},{"v":3202.984665049684,"d":"$3,203"},{"v":662723.7007993434,"d":"$662,724"}]
[null,208,{"v":662723.7007993434,"d":"$662,724"},{"$f":"Analysis!$C$14","v":{"v":5700.209735541158,"d":"$5,700"}},{"$f":"C214*Analysis!$C$13/12","v":{"v":2485.2138779975376,"d":"$2,485"}},{"v":3214.9958575436203,"d":"$3,215"},{"v":659508.7049417997,"d":"$659,509"}]
[null,209,{"v":659508.7049417997,"d":"$659,509"},{"$f":"Analysis!$C$14","v":{"v":5700.209735541158,"d":"$5,700"}},{"$f":"C215*Analysis!$C$13/12","v":{"v":2473.157643531749,"d":"$2,473"}},{"v":3227.052092009409,"d":"$3,227"},{"v":656281.6528497903,"d":"$656,282"}]
[null,210,{"v":656281.6528497903,"d":"$656,282"},{"$f":"Analysis!$C$14","v":{"v":5700.209735541158,"d":"$5,700"}},{"$f":"C216*Analysis!$C$13/12","v":{"v":2461.0561981867136,"d":"$2,461"}},{"v":3239.1535373544443,"d":"$3,239"},{"v":653042.4993124359,"d":"$653,042"}]
[null,211,{"v":653042.4993124359,"d":"$653,042"},{"$f":"Analysis!$C$14","v":{"v":5700.209735541158,"d":"$5,700"}},{"$f":"C217*Analysis!$C$13/12","v":{"v":2448.909372421634,"d":"$2,449"}},{"v":3251.300363119524,"d":"$3,251"},{"v":649791.1989493163,"d":"$649,791"}]
[null,212,{"v":649791.1989493163,"d":"$649,791"},{"$f":"Analysis!$C$14","v":{"v":5700.209735541158,"d":"$5,700"}},{"$f":"C218*Analysis!$C$13/12","v":{"v":2436.7169960599363,"d":"$2,437"}},{"v":3263.4927394812216,"d":"$3,263"},{"v":646527.706209835,"d":"$646,528"}]
[null,213,{"v":646527.706209835,"d":"$646,528"},{"$f":"Analysis!$C$14","v":{"v":5700.209735541158,"d":"$5,700"}},{"$f":"C219*Analysis!$C$13/12","v":{"v":2424.4788982868813,"d":"$2,424"}},{"v":3275.7308372542766,"d":"$3,276"},{"v":643251.9753725807,"d":"$643,252"}]
[null,214,{"v":643251.9753725807,"d":"$643,252"},{"$f":"Analysis!$C$14","v":{"v":5700.209735541158,"d":"$5,700"}},{"$f":"C220*Analysis!$C$13/12","v":{"v":2412.1949076471774,"d":"$2,412"}},{"v":3288.0148278939805,"d":"$3,288"},{"v":639963.9605446868,"d":"$639,964"}]
[null,215,{"v":639963.9605446868,"d":"$639,964"},{"$f":"Analysis!$C$14","v":{"v":5700.209735541158,"d":"$5,700"}},{"$f":"C221*Analysis!$C$13/12","v":{"v":2399.8648520425754,"d":"$2,400"}},{"v":3300.3448834985825,"d":"$3,300"},{"v":636663.6156611881,"d":"$636,664"}]
[18,216,{"v":636663.6156611881,"d":"$636,664"},{"$f":"Analysis!$C$14","v":{"v":5700.209735541158,"d":"$5,700"}},{"$f":"C222*Analysis!$C$13/12","v":{"v":2387.4885587294552,"d":"$2,387"}},{"v":3312.7211768117027,"d":"$3,313"},{"v":633350.8944843764,"d":"$633,351"}]
[null,217,{"v":633350.8944843764,"d":"$633,351"},{"$f":"Analysis!$C$14","v":{"v":5700.209735541158,"d":"$5,700"}},{"$f":"C223*Analysis!$C$13/12","v":{"v":2375.0658543164113,"d":"$2,375"}},{"v":3325.1438812247466,"d":"$3,325"},{"v":630025.7506031516,"d":"$630,026"}]
[null,218,{"v":630025.7506031516,"d":"$630,026"},{"$f":"Analysis!$C$14","v":{"v":5700.209735541158,"d":"$5,700"}},{"$f":"C224*Analysis!$C$13/12","v":{"v":2362.5965647618186,"d":"$2,363"}},{"v":3337.6131707793393,"d":"$3,338"},{"v":626688.1374323723,"d":"$626,688"}]
[null,219,{"v":626688.1374323723,"d":"$626,688"},{"$f":"Analysis!$C$14","v":{"v":5700.209735541158,"d":"$5,700"}},{"$f":"C225*Analysis!$C$13/12","v":{"v":2350.080515371396,"d":"$2,350"}},{"v":3350.129220169762,"d":"$3,350"},{"v":623338.0082122026,"d":"$623,338"}]
[null,220,{"v":623338.0082122026,"d":"$623,338"},{"$f":"Analysis!$C$14","v":{"v":5700.209735541158,"d":"$5,700"}},{"$f":"C226*Analysis!$C$13/12","v":{"v":2337.5175307957593,"d":"$2,338"}},{"v":3362.6922047453986,"d":"$3,363"},{"v":619975.3160074572,"d":"$619,975"}]
[null,221,{"v":619975.3160074572,"d":"$619,975"},{"$f":"Analysis!$C$14","v":{"v":5700.209735541158,"d":"$5,700"}},{"$f":"C227*Analysis!$C$13/12","v":{"v":2324.9074350279643,"d":"$2,325"}},{"v":3375.3023005131936,"d":"$3,375"},{"v":616600.0137069441,"d":"$616,600"}]
[null,222,{"v":616600.0137069441,"d":"$616,600"},{"$f":"Analysis!$C$14","v":{"v":5700.209735541158,"d":"$5,700"}},{"$f":"C228*Analysis!$C$13/12","v":{"v":2312.2500514010403,"d":"$2,312"}},{"v":3387.9596841401176,"d":"$3,388"},{"v":613212.0540228039,"d":"$613,212"}]
[null,223,{"v":613212.0540228039,"d":"$613,212"},{"$f":"Analysis!$C$14","v":{"v":5700.209735541158,"d":"$5,700"}},{"$f":"C229*Analysis!$C$13/12","v":{"v":2299.5452025855143,"d":"$2,300"}},{"v":3400.6645329556436,"d":"$3,401"},{"v":609811.3894898483,"d":"$609,811"}]
[null,224,{"v":609811.3894898483,"d":"$609,811"},{"$f":"Analysis!$C$14","v":{"v":5700.209735541158,"d":"$5,700"}},{"$f":"C230*Analysis!$C$13/12","v":{"v":2286.7927105869308,"d":"$2,287"}},{"v":3413.417024954227,"d":"$3,413"},{"v":606397.9724648941,"d":"$606,398"}]
[null,225,{"v":606397.9724648941,"d":"$606,398"},{"$f":"Analysis!$C$14","v":{"v":5700.209735541158,"d":"$5,700"}},{"$f":"C231*Analysis!$C$13/12","v":{"v":2273.992396743353,"d":"$2,274"}},{"v":3426.217338797805,"d":"$3,426"},{"v":602971.7551260963,"d":"$602,972"}]
[null,226,{"v":602971.7551260963,"d":"$602,972"},{"$f":"Analysis!$C$14","v":{"v":5700.209735541158,"d":"$5,700"}},{"$f":"C232*Analysis!$C$13/12","v":{"v":2261.144081722861,"d":"$2,261"}},{"v":3439.065653818297,"d":"$3,439"},{"v":599532.689472278,"d":"$599,533"}]
[null,227,{"v":599532.689472278,"d":"$599,533"},{"$f":"Analysis!$C$14","v":{"v":5700.209735541158,"d":"$5,700"}},{"$f":"C233*Analysis!$C$13/12","v":{"v":2248.2475855210423,"d":"$2,248"}},{"v":3451.9621500201156,"d":"$3,452"},{"v":596080.7273222579,"d":"$596,081"}]
[19,228,{"v":596080.7273222579,"d":"$596,081"},{"$f":"Analysis!$C$14","v":{"v":5700.209735541158,"d":"$5,700"}},{"$f":"C234*Analysis!$C$13/12","v":{"v":2235.302727458467,"d":"$2,235"}},{"v":3464.907008082691,"d":"$3,465"},{"v":592615.8203141752,"d":"$592,616"}]
[null,229,{"v":592615.8203141752,"d":"$592,616"},{"$f":"Analysis!$C$14","v":{"v":5700.209735541158,"d":"$5,700"}},{"$f":"C235*Analysis!$C$13/12","v":{"v":2222.309326178157,"d":"$2,222"}},{"v":3477.900409363001,"d":"$3,478"},{"v":589137.9199048122,"d":"$589,138"}]
[null,230,{"v":589137.9199048122,"d":"$589,138"},{"$f":"Analysis!$C$14","v":{"v":5700.209735541158,"d":"$5,700"}},{"$f":"C236*Analysis!$C$13/12","v":{"v":2209.267199643046,"d":"$2,209"}},{"v":3490.942535898112,"d":"$3,491"},{"v":585646.9773689142,"d":"$585,647"}]
[null,231,{"v":585646.9773689142,"d":"$585,647"},{"$f":"Analysis!$C$14","v":{"v":5700.209735541158,"d":"$5,700"}},{"$f":"C237*Analysis!$C$13/12","v":{"v":2196.176165133428,"d":"$2,196"}},{"v":3504.0335704077297,"d":"$3,504"},{"v":582142.9437985064,"d":"$582,143"}]
[null,232,{"v":582142.9437985064,"d":"$582,143"},{"$f":"Analysis!$C$14","v":{"v":5700.209735541158,"d":"$5,700"}},{"$f":"C238*Analysis!$C$13/12","v":{"v":2183.036039244399,"d":"$2,183"}},{"v":3517.173696296759,"d":"$3,517"},{"v":578625.7701022096,"d":"$578,626"}]
[null,233,{"v":578625.7701022096,"d":"$578,626"},{"$f":"Analysis!$C$14","v":{"v":5700.209735541158,"d":"$5,700"}},{"$f":"C239*Analysis!$C$13/12","v":{"v":2169.846637883286,"d":"$2,170"}},{"v":3530.363097657872,"d":"$3,530"},{"v":575095.4070045517,"d":"$575,095"}]
[null,234,{"v":575095.4070045517,"d":"$575,095"},{"$f":"Analysis!$C$14","v":{"v":5700.209735541158,"d":"$5,700"}},{"$f":"C240*Analysis!$C$13/12","v":{"v":2156.607776267069,"d":"$2,157"}},{"v":3543.601959274089,"d":"$3,544"},{"v":571551.8050452777,"d":"$571,552"}]
[null,235,{"v":571551.8050452777,"d":"$571,552"},{"$f":"Analysis!$C$14","v":{"v":5700.209735541158,"d":"$5,700"}},{"$f":"C241*Analysis!$C$13/12","v":{"v":2143.3192689197913,"d":"$2,143"}},{"v":3556.8904666213666,"d":"$3,557"},{"v":567994.9145786563,"d":"$567,995"}]
[null,236,{"v":567994.9145786563,"d":"$567,995"},{"$f":"Analysis!$C$14","v":{"v":5700.209735541158,"d":"$5,700"}},{"$f":"C242*Analysis!$C$13/12","v":{"v":2129.980929669961,"d":"$2,130"}},{"v":3570.228805871197,"d":"$3,570"},{"v":564424.6857727851,"d":"$564,425"}]
[null,237,{"v":564424.6857727851,"d":"$564,425"},{"$f":"Analysis!$C$14","v":{"v":5700.209735541158,"d":"$5,700"}},{"$f":"C243*Analysis!$C$13/12","v":{"v":2116.592571647944,"d":"$2,117"}},{"v":3583.6171638932137,"d":"$3,584"},{"v":560841.0686088919,"d":"$560,841"}]
[null,238,{"v":560841.0686088919,"d":"$560,841"},{"$f":"Analysis!$C$14","v":{"v":5700.209735541158,"d":"$5,700"}},{"$f":"C244*Analysis!$C$13/12","v":{"v":2103.1540072833445,"d":"$2,103"}},{"v":3597.0557282578134,"d":"$3,597"},{"v":557244.012880634,"d":"$557,244"}]
[null,239,{"v":557244.012880634,"d":"$557,244"},{"$f":"Analysis!$C$14","v":{"v":5700.209735541158,"d":"$5,700"}},{"$f":"C245*Analysis!$C$13/12","v":{"v":2089.6650483023777,"d":"$2,090"}},{"v":3610.54468723878,"d":"$3,611"},{"v":553633.4681933953,"d":"$553,633"}]
[20,240,{"v":553633.4681933953,"d":"$553,633"},{"$f":"Analysis!$C$14","v":{"v":5700.209735541158,"d":"$5,700"}},{"$f":"C246*Analysis!$C$13/12","v":{"v":2076.1255057252324,"d":"$2,076"}},{"v":3624.0842298159255,"d":"$3,624"},{"v":550009.3839635794,"d":"$550,009"}]
[null,241,{"v":550009.3839635794,"d":"$550,009"},{"$f":"Analysis!$C$14","v":{"v":5700.209735541158,"d":"$5,700"}},{"$f":"C247*Analysis!$C$13/12","v":{"v":2062.535189863423,"d":"$2,063"}},{"v":3637.674545677735,"d":"$3,638"},{"v":546371.7094179017,"d":"$546,372"}]
[null,242,{"v":546371.7094179017,"d":"$546,372"},{"$f":"Analysis!$C$14","v":{"v":5700.209735541158,"d":"$5,700"}},{"$f":"C248*Analysis!$C$13/12","v":{"v":2048.893910317131,"d":"$2,049"}},{"v":3651.315825224027,"d":"$3,651"},{"v":542720.3935926777,"d":"$542,720"}]
[null,243,{"v":542720.3935926777,"d":"$542,720"},{"$f":"Analysis!$C$14","v":{"v":5700.209735541158,"d":"$5,700"}},{"$f":"C249*Analysis!$C$13/12","v":{"v":2035.201475972541,"d":"$2,035"}},{"v":3665.008259568617,"d":"$3,665"},{"v":539055.3853331091,"d":"$539,055"}]
[null,244,{"v":539055.3853331091,"d":"$539,055"},{"$f":"Analysis!$C$14","v":{"v":5700.209735541158,"d":"$5,700"}},{"$f":"C250*Analysis!$C$13/12","v":{"v":2021.4576949991588,"d":"$2,021"}},{"v":3678.752040541999,"d":"$3,679"},{"v":535376.6332925671,"d":"$535,377"}]
[null,245,{"v":535376.6332925671,"d":"$535,377"},{"$f":"Analysis!$C$14","v":{"v":5700.209735541158,"d":"$5,700"}},{"$f":"C251*Analysis!$C$13/12","v":{"v":2007.6623748471266,"d":"$2,008"}},{"v":3692.5473606940313,"d":"$3,693"},{"v":531684.0859318731,"d":"$531,684"}]
[null,246,{"v":531684.0859318731,"d":"$531,684"},{"$f":"Analysis!$C$14","v":{"v":5700.209735541158,"d":"$5,700"}},{"$f":"C252*Analysis!$C$13/12","v":{"v":1993.8153222445237,"d":"$1,994"}},{"v":3706.3944132966344,"d":"$3,706"},{"v":527977.6915185765,"d":"$527,978"}]
[null,247,{"v":527977.6915185765,"d":"$527,978"},{"$f":"Analysis!$C$14","v":{"v":5700.209735541158,"d":"$5,700"}},{"$f":"C253*Analysis!$C$13/12","v":{"v":1979.9163431946617,"d":"$1,980"}},{"v":3720.293392346496,"d":"$3,720"},{"v":524257.39812623,"d":"$524,257"}]
[null,248,{"v":524257.39812623,"d":"$524,257"},{"$f":"Analysis!$C$14","v":{"v":5700.209735541158,"d":"$5,700"}},{"$f":"C254*Analysis!$C$13/12","v":{"v":1965.9652429733624,"d":"$1,966"}},{"v":3734.2444925677955,"d":"$3,734"},{"v":520523.1536336622,"d":"$520,523"}]
[null,249,{"v":520523.1536336622,"d":"$520,523"},{"$f":"Analysis!$C$14","v":{"v":5700.209735541158,"d":"$5,700"}},{"$f":"C255*Analysis!$C$13/12","v":{"v":1951.961826126233,"d":"$1,952"}},{"v":3748.247909414925,"d":"$3,748"},{"v":516774.9057242473,"d":"$516,775"}]
[null,250,{"v":516774.9057242473,"d":"$516,775"},{"$f":"Analysis!$C$14","v":{"v":5700.209735541158,"d":"$5,700"}},{"$f":"C256*Analysis!$C$13/12","v":{"v":1937.905896465927,"d":"$1,938"}},{"v":3762.303839075231,"d":"$3,762"},{"v":513012.6018851721,"d":"$513,013"}]
[null,251,{"v":513012.6018851721,"d":"$513,013"},{"$f":"Analysis!$C$14","v":{"v":5700.209735541158,"d":"$5,700"}},{"$f":"C257*Analysis!$C$13/12","v":{"v":1923.7972570693953,"d":"$1,924"}},{"v":3776.4124784717624,"d":"$3,776"},{"v":509236.1894067003,"d":"$509,236"}]
[21,252,{"v":509236.1894067003,"d":"$509,236"},{"$f":"Analysis!$C$14","v":{"v":5700.209735541158,"d":"$5,700"}},{"$f":"C258*Analysis!$C$13/12","v":{"v":1909.6357102751263,"d":"$1,910"}},{"v":3790.5740252660316,"d":"$3,791"},{"v":505445.61538143427,"d":"$505,446"}]
[null,253,{"v":505445.61538143427,"d":"$505,446"},{"$f":"Analysis!$C$14","v":{"v":5700.209735541158,"d":"$5,700"}},{"$f":"C259*Analysis!$C$13/12","v":{"v":1895.4210576803782,"d":"$1,895"}},{"v":3804.78867786078,"d":"$3,805"},{"v":501640.82670357346,"d":"$501,641"}]
[null,254,{"v":501640.82670357346,"d":"$501,641"},{"$f":"Analysis!$C$14","v":{"v":5700.209735541158,"d":"$5,700"}},{"$f":"C260*Analysis!$C$13/12","v":{"v":1881.1531001384003,"d":"$1,881"}},{"v":3819.056635402758,"d":"$3,819"},{"v":497821.7700681707,"d":"$497,822"}]
[null,255,{"v":497821.7700681707,"d":"$497,822"},{"$f":"Analysis!$C$14","v":{"v":5700.209735541158,"d":"$5,700"}},{"$f":"C261*Analysis!$C$13/12","v":{"v":1866.83163775564,"d":"$1,867"}},{"v":3833.3780977855176,"d":"$3,833"},{"v":493988.39197038516,"d":"$493,988"}]
[null,256,{"v":493988.39197038516,"d":"$493,988"},{"$f":"Analysis!$C$14","v":{"v":5700.209735541158,"d":"$5,700"}},{"$f":"C262*Analysis!$C$13/12","v":{"v":1852.4564698889444,"d":"$1,852"}},{"v":3847.7532656522135,"d":"$3,848"},{"v":490140.63870473293,"d":"$490,141"}]
[null,257,{"v":490140.63870473293,"d":"$490,141"},{"$f":"Analysis!$C$14","v":{"v":5700.209735541158,"d":"$5,700"}},{"$f":"C263*Analysis!$C$13/12","v":{"v":1838.0273951427482,"d":"$1,838"}},{"$f":"D263-E263","v":{"v":3862.18234039841,"d":"$3,862"}},{"$f":"C263-F263","v":{"v":486278.4563643345,"d":"$486,278"}}]
[null,258,{"$f":"G263","v":{"v":486278.4563643345,"d":"$486,278"}},{"$f":"Analysis!$C$14","v":{"v":5700.209735541158,"d":"$5,700"}},{"$f":"C264*Analysis!$C$13/12","v":{"v":1823.544211366254,"d":"$1,824"}},{"v":3876.665524174904,"d":"$3,877"},{"v":482401.7908401596,"d":"$482,402"}]
[null,259,{"v":482401.7908401596,"d":"$482,402"},{"$f":"Analysis!$C$14","v":{"v":5700.209735541158,"d":"$5,700"}},{"$f":"C265*Analysis!$C$13/12","v":{"v":1809.0067156505984,"d":"$1,809"}},{"v":3891.2030198905595,"d":"$3,891"},{"v":478510.587820269,"d":"$478,511"}]
[null,260,{"v":478510.587820269,"d":"$478,511"},{"$f":"Analysis!$C$14","v":{"v":5700.209735541158,"d":"$5,700"}},{"$f":"C266*Analysis!$C$13/12","v":{"v":1794.4147043260089,"d":"$1,794"}},{"v":3905.795031215149,"d":"$3,906"},{"v":474604.79278905387,"d":"$474,605"}]
[null,261,{"v":474604.79278905387,"d":"$474,605"},{"$f":"Analysis!$C$14","v":{"v":5700.209735541158,"d":"$5,700"}},{"$f":"C267*Analysis!$C$13/12","v":{"v":1779.767972958952,"d":"$1,780"}},{"v":3920.441762582206,"d":"$3,920"},{"v":470684.35102647165,"d":"$470,684"}]
[null,262,{"v":470684.35102647165,"d":"$470,684"},{"$f":"Analysis!$C$14","v":{"v":5700.209735541158,"d":"$5,700"}},{"$f":"C268*Analysis!$C$13/12","v":{"v":1765.0663163492684,"d":"$1,765"}},{"v":3935.1434191918897,"d":"$3,935"},{"v":466749.20760727976,"d":"$466,749"}]
[null,263,{"v":466749.20760727976,"d":"$466,749"},{"$f":"Analysis!$C$14","v":{"v":5700.209735541158,"d":"$5,700"}},{"$f":"C269*Analysis!$C$13/12","v":{"v":1750.309528527299,"d":"$1,750"}},{"v":3949.9002070138586,"d":"$3,950"},{"v":462799.3074002659,"d":"$462,799"}]
[22,264,{"v":462799.3074002659,"d":"$462,799"},{"$f":"Analysis!$C$14","v":{"v":5700.209735541158,"d":"$5,700"}},{"$f":"C270*Analysis!$C$13/12","v":{"v":1735.497402750997,"d":"$1,735"}},{"v":3964.712332790161,"d":"$3,965"},{"v":458834.59506747575,"d":"$458,835"}]
[null,265,{"v":458834.59506747575,"d":"$458,835"},{"$f":"Analysis!$C$14","v":{"v":5700.209735541158,"d":"$5,700"}},{"$f":"C271*Analysis!$C$13/12","v":{"v":1720.629731503034,"d":"$1,721"}},{"v":3979.5800040381237,"d":"$3,980"},{"v":454855.01506343763,"d":"$454,855"}]
[null,266,{"v":454855.01506343763,"d":"$454,855"},{"$f":"Analysis!$C$14","v":{"v":5700.209735541158,"d":"$5,700"}},{"$f":"C272*Analysis!$C$13/12","v":{"v":1705.7063064878912,"d":"$1,706"}},{"v":3994.5034290532667,"d":"$3,995"},{"v":450860.51163438434,"d":"$450,861"}]
[null,267,{"v":450860.51163438434,"d":"$450,861"},{"$f":"Analysis!$C$14","v":{"v":5700.209735541158,"d":"$5,700"}},{"$f":"C273*Analysis!$C$13/12","v":{"v":1690.7269186289413,"d":"$1,691"}},{"v":4009.4828169122165,"d":"$4,009"},{"v":446851.0288174721,"d":"$446,851"}]
[null,268,{"v":446851.0288174721,"d":"$446,851"},{"$f":"Analysis!$C$14","v":{"v":5700.209735541158,"d":"$5,700"}},{"$f":"C274*Analysis!$C$13/12","v":{"v":1675.6913580655203,"d":"$1,676"}},{"v":4024.518377475638,"d":"$4,025"},{"v":442826.5104399965,"d":"$442,827"}]
[null,269,{"v":442826.5104399965,"d":"$442,827"},{"$f":"Analysis!$C$14","v":{"v":5700.209735541158,"d":"$5,700"}},{"$f":"C275*Analysis!$C$13/12","v":{"v":1660.5994141499868,"d":"$1,661"}},{"v":4039.610321391171,"d":"$4,040"},{"v":438786.9001186053,"d":"$438,787"}]
[null,270,{"v":438786.9001186053,"d":"$438,787"},{"$f":"Analysis!$C$14","v":{"v":5700.209735541158,"d":"$5,700"}},{"$f":"C276*Analysis!$C$13/12","v":{"v":1645.4508754447697,"d":"$1,645"}},{"v":4054.758860096388,"d":"$4,055"},{"v":434732.1412585089,"d":"$434,732"}]
[null,271,{"v":434732.1412585089,"d":"$434,732"},{"$f":"Analysis!$C$14","v":{"v":5700.209735541158,"d":"$5,700"}},{"$f":"C277*Analysis!$C$13/12","v":{"v":1630.2455297194083,"d":"$1,630"}},{"v":4069.9642058217496,"d":"$4,070"},{"v":430662.17705268716,"d":"$430,662"}]
[null,272,{"v":430662.17705268716,"d":"$430,662"},{"$f":"Analysis!$C$14","v":{"v":5700.209735541158,"d":"$5,700"}},{"$f":"C278*Analysis!$C$13/12","v":{"v":1614.9831639475767,"d":"$1,615"}},{"v":4085.226571593581,"d":"$4,085"},{"v":426576.95048109355,"d":"$426,577"}]
[null,273,{"v":426576.95048109355,"d":"$426,577"},{"$f":"Analysis!$C$14","v":{"v":5700.209735541158,"d":"$5,700"}},{"$f":"C279*Analysis!$C$13/12","v":{"v":1599.6635643041009,"d":"$1,600"}},{"v":4100.546171237057,"d":"$4,101"},{"v":422476.4043098565,"d":"$422,476"}]
[null,274,{"v":422476.4043098565,"d":"$422,476"},{"$f":"Analysis!$C$14","v":{"v":5700.209735541158,"d":"$5,700"}},{"$f":"C280*Analysis!$C$13/12","v":{"v":1584.2865161619618,"d":"$1,584"}},{"v":4115.923219379196,"d":"$4,116"},{"v":418360.48109047726,"d":"$418,360"}]
[null,275,{"v":418360.48109047726,"d":"$418,360"},{"$f":"Analysis!$C$14","v":{"v":5700.209735541158,"d":"$5,700"}},{"$f":"C281*Analysis!$C$13/12","v":{"v":1568.8518040892895,"d":"$1,569"}},{"v":4131.357931451868,"d":"$4,131"},{"v":414229.1231590254,"d":"$414,229"}]
[23,276,{"v":414229.1231590254,"d":"$414,229"},{"$f":"Analysis!$C$14","v":{"v":5700.209735541158,"d":"$5,700"}},{"$f":"C282*Analysis!$C$13/12","v":{"v":1553.359211846345,"d":"$1,553"}},{"v":4146.850523694813,"d":"$4,147"},{"v":410082.27263533056,"d":"$410,082"}]
[null,277,{"v":410082.27263533056,"d":"$410,082"},{"$f":"Analysis!$C$14","v":{"v":5700.209735541158,"d":"$5,700"}},{"$f":"C283*Analysis!$C$13/12","v":{"v":1537.8085223824894,"d":"$1,538"}},{"v":4162.401213158669,"d":"$4,162"},{"v":405919.8714221719,"d":"$405,920"}]
[null,278,{"v":405919.8714221719,"d":"$405,920"},{"$f":"Analysis!$C$14","v":{"v":5700.209735541158,"d":"$5,700"}},{"$f":"C284*Analysis!$C$13/12","v":{"v":1522.1995178331445,"d":"$1,522"}},{"v":4178.010217708013,"d":"$4,178"},{"v":401741.8612044639,"d":"$401,742"}]
[null,279,{"v":401741.8612044639,"d":"$401,742"},{"$f":"Analysis!$C$14","v":{"v":5700.209735541158,"d":"$5,700"}},{"$f":"C285*Analysis!$C$13/12","v":{"v":1506.5319795167395,"d":"$1,507"}},{"v":4193.677756024418,"d":"$4,194"},{"v":397548.18344843946,"d":"$397,548"}]
[null,280,{"v":397548.18344843946,"d":"$397,548"},{"$f":"Analysis!$C$14","v":{"v":5700.209735541158,"d":"$5,700"}},{"$f":"C286*Analysis!$C$13/12","v":{"v":1490.805687931648,"d":"$1,491"}},{"v":4209.40404760951,"d":"$4,209"},{"v":393338.77940083,"d":"$393,339"}]
[null,281,{"v":393338.77940083,"d":"$393,339"},{"$f":"Analysis!$C$14","v":{"v":5700.209735541158,"d":"$5,700"}},{"$f":"C287*Analysis!$C$13/12","v":{"v":1475.0204227531124,"d":"$1,475"}},{"v":4225.189312788046,"d":"$4,225"},{"v":389113.59008804196,"d":"$389,114"}]
[null,282,{"v":389113.59008804196,"d":"$389,114"},{"$f":"Analysis!$C$14","v":{"v":5700.209735541158,"d":"$5,700"}},{"$f":"C288*Analysis!$C$13/12","v":{"v":1459.1759628301572,"d":"$1,459"}},{"v":4241.033772711001,"d":"$4,241"},{"v":384872.55631533096,"d":"$384,873"}]
[null,283,{"v":384872.55631533096,"d":"$384,873"},{"$f":"Analysis!$C$14","v":{"v":5700.209735541158,"d":"$5,700"}},{"$f":"C289*Analysis!$C$13/12","v":{"v":1443.272086182491,"d":"$1,443"}},{"v":4256.937649358667,"d":"$4,257"},{"v":380615.6186659723,"d":"$380,616"}]
[null,284,{"v":380615.6186659723,"d":"$380,616"},{"$f":"Analysis!$C$14","v":{"v":5700.209735541158,"d":"$5,700"}},{"$f":"C290*Analysis!$C$13/12","v":{"v":1427.3085699973963,"d":"$1,427"}},{"v":4272.901165543762,"d":"$4,273"},{"v":376342.71750042855,"d":"$376,343"}]
[null,285,{"v":376342.71750042855,"d":"$376,343"},{"$f":"Analysis!$C$14","v":{"v":5700.209735541158,"d":"$5,700"}},{"$f":"C291*Analysis!$C$13/12","v":{"v":1411.285190626607,"d":"$1,411"}},{"v":4288.924544914551,"d":"$4,289"},{"v":372053.792955514,"d":"$372,054"}]
[null,286,{"v":372053.792955514,"d":"$372,054"},{"$f":"Analysis!$C$14","v":{"v":5700.209735541158,"d":"$5,700"}},{"$f":"C292*Analysis!$C$13/12","v":{"v":1395.2017235831775,"d":"$1,395"}},{"v":4305.008011957981,"d":"$4,305"},{"v":367748.784943556,"d":"$367,749"}]
[null,287,{"v":367748.784943556,"d":"$367,749"},{"$f":"Analysis!$C$14","v":{"v":5700.209735541158,"d":"$5,700"}},{"$f":"C293*Analysis!$C$13/12","v":{"v":1379.057943538335,"d":"$1,379"}},{"v":4321.151792002823,"d":"$4,321"},{"v":363427.63315155316,"d":"$363,428"}]
[24,288,{"v":363427.63315155316,"d":"$363,428"},{"$f":"Analysis!$C$14","v":{"v":5700.209735541158,"d":"$5,700"}},{"$f":"C294*Analysis!$C$13/12","v":{"v":1362.8536243183244,"d":"$1,363"}},{"v":4337.3561112228335,"d":"$4,337"},{"v":359090.27704033034,"d":"$359,090"}]
[null,289,{"v":359090.27704033034,"d":"$359,090"},{"$f":"Analysis!$C$14","v":{"v":5700.209735541158,"d":"$5,700"}},{"$f":"C295*Analysis!$C$13/12","v":{"v":1346.5885389012387,"d":"$1,347"}},{"v":4353.621196639919,"d":"$4,354"},{"v":354736.65584369045,"d":"$354,737"}]
[null,290,{"v":354736.65584369045,"d":"$354,737"},{"$f":"Analysis!$C$14","v":{"v":5700.209735541158,"d":"$5,700"}},{"$f":"C296*Analysis!$C$13/12","v":{"v":1330.262459413839,"d":"$1,330"}},{"v":4369.947276127319,"d":"$4,370"},{"v":350366.70856756315,"d":"$350,367"}]
[null,291,{"v":350366.70856756315,"d":"$350,367"},{"$f":"Analysis!$C$14","v":{"v":5700.209735541158,"d":"$5,700"}},{"$f":"C297*Analysis!$C$13/12","v":{"v":1313.8751571283617,"d":"$1,314"}},{"v":4386.334578412796,"d":"$4,386"},{"v":345980.37398915034,"d":"$345,980"}]
[null,292,{"v":345980.37398915034,"d":"$345,980"},{"$f":"Analysis!$C$14","v":{"v":5700.209735541158,"d":"$5,700"}},{"$f":"C298*Analysis!$C$13/12","v":{"v":1297.4264024593137,"d":"$1,297"}},{"v":4402.783333081844,"d":"$4,403"},{"v":341577.59065606847,"d":"$341,578"}]
[null,293,{"v":341577.59065606847,"d":"$341,578"},{"$f":"Analysis!$C$14","v":{"v":5700.209735541158,"d":"$5,700"}},{"$f":"C299*Analysis!$C$13/12","v":{"v":1280.9159649602568,"d":"$1,281"}},{"v":4419.293770580901,"d":"$4,419"},{"v":337158.29688548757,"d":"$337,158"}]
[null,294,{"v":337158.29688548757,"d":"$337,158"},{"$f":"Analysis!$C$14","v":{"v":5700.209735541158,"d":"$5,700"}},{"$f":"C300*Analysis!$C$13/12","v":{"v":1264.3436133205785,"d":"$1,264"}},{"v":4435.866122220579,"d":"$4,436"},{"v":332722.430763267,"d":"$332,722"}]
[null,295,{"v":332722.430763267,"d":"$332,722"},{"$f":"Analysis!$C$14","v":{"v":5700.209735541158,"d":"$5,700"}},{"$f":"C301*Analysis!$C$13/12","v":{"v":1247.7091153622512,"d":"$1,248"}},{"v":4452.5006201789065,"d":"$4,453"},{"v":328269.9301430881,"d":"$328,270"}]
[null,296,{"v":328269.9301430881,"d":"$328,270"},{"$f":"Analysis!$C$14","v":{"v":5700.209735541158,"d":"$5,700"}},{"$f":"C302*Analysis!$C$13/12","v":{"v":1231.0122380365804,"d":"$1,231"}},{"v":4469.197497504578,"d":"$4,469"},{"v":323800.7326455835,"d":"$323,801"}]
[null,297,{"v":323800.7326455835,"d":"$323,801"},{"$f":"Analysis!$C$14","v":{"v":5700.209735541158,"d":"$5,700"}},{"$f":"C303*Analysis!$C$13/12","v":{"v":1214.252747420938,"d":"$1,214"}},{"v":4485.95698812022,"d":"$4,486"},{"v":319314.7756574633,"d":"$319,315"}]
[null,298,{"v":319314.7756574633,"d":"$319,315"},{"$f":"Analysis!$C$14","v":{"v":5700.209735541158,"d":"$5,700"}},{"$f":"C304*Analysis!$C$13/12","v":{"v":1197.4304087154874,"d":"$1,197"}},{"v":4502.77932682567,"d":"$4,503"},{"v":314811.9963306376,"d":"$314,812"}]
[null,299,{"v":314811.9963306376,"d":"$314,812"},{"$f":"Analysis!$C$14","v":{"v":5700.209735541158,"d":"$5,700"}},{"$f":"C305*Analysis!$C$13/12","v":{"v":1180.544986239891,"d":"$1,181"}},{"v":4519.664749301267,"d":"$4,520"},{"v":310292.33158133633,"d":"$310,292"}]
[25,300,{"v":310292.33158133633,"d":"$310,292"},{"$f":"Analysis!$C$14","v":{"v":5700.209735541158,"d":"$5,700"}},{"$f":"C306*Analysis!$C$13/12","v":{"v":1163.596243430011,"d":"$1,164"}},{"v":4536.613492111147,"d":"$4,537"},{"v":305755.7180892252,"d":"$305,756"}]
[null,301,{"v":305755.7180892252,"d":"$305,756"},{"$f":"Analysis!$C$14","v":{"v":5700.209735541158,"d":"$5,700"}},{"$f":"C307*Analysis!$C$13/12","v":{"v":1146.5839428345944,"d":"$1,147"}},{"v":4553.6257927065635,"d":"$4,554"},{"v":301202.0922965186,"d":"$301,202"}]
[null,302,{"v":301202.0922965186,"d":"$301,202"},{"$f":"Analysis!$C$14","v":{"v":5700.209735541158,"d":"$5,700"}},{"$f":"C308*Analysis!$C$13/12","v":{"v":1129.507846111945,"d":"$1,130"}},{"v":4570.701889429213,"d":"$4,571"},{"v":296631.3904070894,"d":"$296,631"}]
[null,303,{"v":296631.3904070894,"d":"$296,631"},{"$f":"Analysis!$C$14","v":{"v":5700.209735541158,"d":"$5,700"}},{"$f":"C309*Analysis!$C$13/12","v":{"v":1112.3677140265852,"d":"$1,112"}},{"v":4587.8420215145725,"d":"$4,588"},{"v":292043.54838557483,"d":"$292,044"}]
[null,304,{"v":292043.54838557483,"d":"$292,044"},{"$f":"Analysis!$C$14","v":{"v":5700.209735541158,"d":"$5,700"}},{"$f":"C310*Analysis!$C$13/12","v":{"v":1095.1633064459056,"d":"$1,095"}},{"v":4605.046429095252,"d":"$4,605"},{"v":287438.50195647957,"d":"$287,439"}]
[null,305,{"v":287438.50195647957,"d":"$287,439"},{"$f":"Analysis!$C$14","v":{"v":5700.209735541158,"d":"$5,700"}},{"$f":"C311*Analysis!$C$13/12","v":{"v":1077.8943823367983,"d":"$1,078"}},{"v":4622.31535320436,"d":"$4,622"},{"v":282816.1866032752,"d":"$282,816"}]
[null,306,{"v":282816.1866032752,"d":"$282,816"},{"$f":"Analysis!$C$14","v":{"v":5700.209735541158,"d":"$5,700"}},{"$f":"C312*Analysis!$C$13/12","v":{"v":1060.560699762282,"d":"$1,061"}},{"v":4639.649035778876,"d":"$4,640"},{"v":278176.5375674963,"d":"$278,177"}]
[null,307,{"v":278176.5375674963,"d":"$278,177"},{"$f":"Analysis!$C$14","v":{"v":5700.209735541158,"d":"$5,700"}},{"$f":"C313*Analysis!$C$13/12","v":{"v":1043.162015878111,"d":"$1,043"}},{"v":4657.047719663047,"d":"$4,657"},{"v":273519.48984783323,"d":"$273,519"}]
[null,308,{"v":273519.48984783323,"d":"$273,519"},{"$f":"Analysis!$C$14","v":{"v":5700.209735541158,"d":"$5,700"}},{"$f":"C314*Analysis!$C$13/12","v":{"v":1025.6980869293745,"d":"$1,026"}},{"v":4674.511648611783,"d":"$4,675"},{"v":268844.9781992214,"d":"$268,845"}]
[null,309,{"v":268844.9781992214,"d":"$268,845"},{"$f":"Analysis!$C$14","v":{"v":5700.209735541158,"d":"$5,700"}},{"$f":"C315*Analysis!$C$13/12","v":{"v":1008.1686682470803,"d":"$1,008"}},{"v":4692.041067294078,"d":"$4,692"},{"v":264152.93713192735,"d":"$264,153"}]
[null,310,{"v":264152.93713192735,"d":"$264,153"},{"$f":"Analysis!$C$14","v":{"v":5700.209735541158,"d":"$5,700"}},{"$f":"C316*Analysis!$C$13/12","v":{"v":990.5735142447274,"d":"$991"}},{"v":4709.63622129643,"d":"$4,710"},{"v":259443.3009106309,"d":"$259,443"}]
[null,311,{"v":259443.3009106309,"d":"$259,443"},{"$f":"Analysis!$C$14","v":{"v":5700.209735541158,"d":"$5,700"}},{"$f":"C317*Analysis!$C$13/12","v":{"v":972.9123784148659,"d":"$973"}},{"v":4727.297357126292,"d":"$4,727"},{"v":254716.00355350462,"d":"$254,716"}]
[26,312,{"v":254716.00355350462,"d":"$254,716"},{"$f":"Analysis!$C$14","v":{"v":5700.209735541158,"d":"$5,700"}},{"$f":"C318*Analysis!$C$13/12","v":{"v":955.1850133256422,"d":"$955"}},{"v":4745.024722215516,"d":"$4,745"},{"v":249970.9788312891,"d":"$249,971"}]
[null,313,{"v":249970.9788312891,"d":"$249,971"},{"$f":"Analysis!$C$14","v":{"v":5700.209735541158,"d":"$5,700"}},{"$f":"C319*Analysis!$C$13/12","v":{"v":937.3911706173341,"d":"$937"}},{"v":4762.818564923824,"d":"$4,763"},{"v":245208.16026636527,"d":"$245,208"}]
[null,314,{"v":245208.16026636527,"d":"$245,208"},{"$f":"Analysis!$C$14","v":{"v":5700.209735541158,"d":"$5,700"}},{"$f":"C320*Analysis!$C$13/12","v":{"v":919.5306009988698,"d":"$920"}},{"v":4780.679134542288,"d":"$4,781"},{"v":240427.48113182298,"d":"$240,427"}]
[null,315,{"v":240427.48113182298,"d":"$240,427"},{"$f":"Analysis!$C$14","v":{"v":5700.209735541158,"d":"$5,700"}},{"$f":"C321*Analysis!$C$13/12","v":{"v":901.603054244336,"d":"$902"}},{"v":4798.606681296822,"d":"$4,799"},{"v":235628.87445052614,"d":"$235,629"}]
[null,316,{"v":235628.87445052614,"d":"$235,629"},{"$f":"Analysis!$C$14","v":{"v":5700.209735541158,"d":"$5,700"}},{"$f":"C322*Analysis!$C$13/12","v":{"v":883.6082791894729,"d":"$884"}},{"v":4816.601456351685,"d":"$4,817"},{"v":230812.27299417445,"d":"$230,812"}]
[null,317,{"v":230812.27299417445,"d":"$230,812"},{"$f":"Analysis!$C$14","v":{"v":5700.209735541158,"d":"$5,700"}},{"$f":"C323*Analysis!$C$13/12","v":{"v":865.5460237281542,"d":"$866"}},{"v":4834.663711813004,"d":"$4,835"},{"v":225977.60928236143,"d":"$225,978"}]
[null,318,{"v":225977.60928236143,"d":"$225,978"},{"$f":"Analysis!$C$14","v":{"v":5700.209735541158,"d":"$5,700"}},{"$f":"C324*Analysis!$C$13/12","v":{"v":847.4160348088553,"d":"$847"}},{"v":4852.793700732303,"d":"$4,853"},{"v":221124.81558162914,"d":"$221,125"}]
[null,319,{"v":221124.81558162914,"d":"$221,125"},{"$f":"Analysis!$C$14","v":{"v":5700.209735541158,"d":"$5,700"}},{"$f":"C325*Analysis!$C$13/12","v":{"v":829.2180584311092,"d":"$829"}},{"v":4870.991677110049,"d":"$4,871"},{"v":216253.8239045191,"d":"$216,254"}]
[null,320,{"v":216253.8239045191,"d":"$216,254"},{"$f":"Analysis!$C$14","v":{"v":5700.209735541158,"d":"$5,700"}},{"$f":"C326*Analysis!$C$13/12","v":{"v":810.9518396419465,"d":"$811"}},{"v":4889.257895899212,"d":"$4,889"},{"v":211364.56600861988,"d":"$211,365"}]
[null,321,{"v":211364.56600861988,"d":"$211,365"},{"$f":"Analysis!$C$14","v":{"v":5700.209735541158,"d":"$5,700"}},{"$f":"C327*Analysis!$C$13/12","v":{"v":792.6171225323245,"d":"$793"}},{"$f":"D327-E327","v":{"v":4907.592613008834,"d":"$4,908"}},{"$f":"C327-F327","v":{"v":206456.97339561104,"d":"$206,457"}}]
[null,322,{"$f":"G327","v":{"v":206456.97339561104,"d":"$206,457"}},{"$f":"Analysis!$C$14","v":{"v":5700.209735541158,"d":"$5,700"}},{"$f":"C328*Analysis!$C$13/12","v":{"v":774.2136502335414,"d":"$774"}},{"v":4925.996085307616,"d":"$4,926"},{"v":201530.97731030342,"d":"$201,531"}]
[null,323,{"v":201530.97731030342,"d":"$201,531"},{"$f":"Analysis!$C$14","v":{"v":5700.209735541158,"d":"$5,700"}},{"$f":"C329*Analysis!$C$13/12","v":{"v":755.7411649136378,"d":"$756"}},{"v":4944.46857062752,"d":"$4,944"},{"v":196586.5087396759,"d":"$196,587"}]
[27,324,{"v":196586.5087396759,"d":"$196,587"},{"$f":"Analysis!$C$14","v":{"v":5700.209735541158,"d":"$5,700"}},{"$f":"C330*Analysis!$C$13/12","v":{"v":737.1994077737845,"d":"$737"}},{"v":4963.010327767373,"d":"$4,963"},{"v":191623.4984119085,"d":"$191,623"}]
[null,325,{"v":191623.4984119085,"d":"$191,623"},{"$f":"Analysis!$C$14","v":{"v":5700.209735541158,"d":"$5,700"}},{"$f":"C331*Analysis!$C$13/12","v":{"v":718.588119044657,"d":"$719"}},{"v":4981.621616496501,"d":"$4,982"},{"v":186641.876795412,"d":"$186,642"}]
[null,326,{"v":186641.876795412,"d":"$186,642"},{"$f":"Analysis!$C$14","v":{"v":5700.209735541158,"d":"$5,700"}},{"$f":"C332*Analysis!$C$13/12","v":{"v":699.907037982795,"d":"$700"}},{"v":5000.3026975583625,"d":"$5,000"},{"v":181641.57409785365,"d":"$181,642"}]
[null,327,{"v":181641.57409785365,"d":"$181,642"},{"$f":"Analysis!$C$14","v":{"v":5700.209735541158,"d":"$5,700"}},{"$f":"C333*Analysis!$C$13/12","v":{"v":681.1559028669511,"d":"$681"}},{"v":5019.053832674207,"d":"$5,019"},{"v":176622.52026517945,"d":"$176,623"}]
[null,328,{"v":176622.52026517945,"d":"$176,623"},{"$f":"Analysis!$C$14","v":{"v":5700.209735541158,"d":"$5,700"}},{"$f":"C334*Analysis!$C$13/12","v":{"v":662.3344509944229,"d":"$662"}},{"v":5037.875284546735,"d":"$5,038"},{"v":171584.64498063273,"d":"$171,585"}]
[null,329,{"v":171584.64498063273,"d":"$171,585"},{"$f":"Analysis!$C$14","v":{"v":5700.209735541158,"d":"$5,700"}},{"$f":"C335*Analysis!$C$13/12","v":{"v":643.4424186773728,"d":"$643"}},{"v":5056.767316863785,"d":"$5,057"},{"v":166527.87766376894,"d":"$166,528"}]
[null,330,{"v":166527.87766376894,"d":"$166,528"},{"$f":"Analysis!$C$14","v":{"v":5700.209735541158,"d":"$5,700"}},{"$f":"C336*Analysis!$C$13/12","v":{"v":624.4795412391335,"d":"$624"}},{"v":5075.730194302025,"d":"$5,076"},{"v":161452.14746946693,"d":"$161,452"}]
[null,331,{"v":161452.14746946693,"d":"$161,452"},{"$f":"Analysis!$C$14","v":{"v":5700.209735541158,"d":"$5,700"}},{"$f":"C337*Analysis!$C$13/12","v":{"v":605.4455530105009,"d":"$605"}},{"v":5094.764182530657,"d":"$5,095"},{"v":156357.38328693627,"d":"$156,357"}]
[null,332,{"v":156357.38328693627,"d":"$156,357"},{"$f":"Analysis!$C$14","v":{"v":5700.209735541158,"d":"$5,700"}},{"$f":"C338*Analysis!$C$13/12","v":{"v":586.340187326011,"d":"$586"}},{"v":5113.869548215147,"d":"$5,114"},{"v":151243.5137387211,"d":"$151,244"}]
[null,333,{"v":151243.5137387211,"d":"$151,244"},{"$f":"Analysis!$C$14","v":{"v":5700.209735541158,"d":"$5,700"}},{"$f":"C339*Analysis!$C$13/12","v":{"v":567.1631765202042,"d":"$567"}},{"v":5133.046559020953,"d":"$5,133"},{"v":146110.46717970015,"d":"$146,110"}]
[null,334,{"v":146110.46717970015,"d":"$146,110"},{"$f":"Analysis!$C$14","v":{"v":5700.209735541158,"d":"$5,700"}},{"$f":"C340*Analysis!$C$13/12","v":{"v":547.9142519238756,"d":"$548"}},{"v":5152.295483617282,"d":"$5,152"},{"v":140958.17169608286,"d":"$140,958"}]
[null,335,{"v":140958.17169608286,"d":"$140,958"},{"$f":"Analysis!$C$14","v":{"v":5700.209735541158,"d":"$5,700"}},{"$f":"C341*Analysis!$C$13/12","v":{"v":528.5931438603108,"d":"$529"}},{"v":5171.616591680847,"d":"$5,172"},{"v":135786.555104402,"d":"$135,787"}]
[28,336,{"v":135786.555104402,"d":"$135,787"},{"$f":"Analysis!$C$14","v":{"v":5700.209735541158,"d":"$5,700"}},{"$f":"C342*Analysis!$C$13/12","v":{"v":509.19958164150756,"d":"$509"}},{"v":5191.0101538996505,"d":"$5,191"},{"v":130595.54495050236,"d":"$130,596"}]
[null,337,{"v":130595.54495050236,"d":"$130,596"},{"$f":"Analysis!$C$14","v":{"v":5700.209735541158,"d":"$5,700"}},{"$f":"C343*Analysis!$C$13/12","v":{"v":489.7332935643838,"d":"$490"}},{"v":5210.476441976774,"d":"$5,210"},{"v":125385.06850852558,"d":"$125,385"}]
[null,338,{"v":125385.06850852558,"d":"$125,385"},{"$f":"Analysis!$C$14","v":{"v":5700.209735541158,"d":"$5,700"}},{"$f":"C344*Analysis!$C$13/12","v":{"v":470.19400690697097,"d":"$470"}},{"v":5230.015728634187,"d":"$5,230"},{"v":120155.0527798914,"d":"$120,155"}]
[null,339,{"v":120155.0527798914,"d":"$120,155"},{"$f":"Analysis!$C$14","v":{"v":5700.209735541158,"d":"$5,700"}},{"$f":"C345*Analysis!$C$13/12","v":{"v":450.58144792459274,"d":"$451"}},{"v":5249.628287616565,"d":"$5,250"},{"v":114905.42449227483,"d":"$114,905"}]
[null,340,{"v":114905.42449227483,"d":"$114,905"},{"$f":"Analysis!$C$14","v":{"v":5700.209735541158,"d":"$5,700"}},{"$f":"C346*Analysis!$C$13/12","v":{"v":430.8953418460306,"d":"$431"}},{"v":5269.314393695127,"d":"$5,269"},{"v":109636.11009857971,"d":"$109,636"}]
[null,341,{"v":109636.11009857971,"d":"$109,636"},{"$f":"Analysis!$C$14","v":{"v":5700.209735541158,"d":"$5,700"}},{"$f":"C347*Analysis!$C$13/12","v":{"v":411.1354128696739,"d":"$411"}},{"v":5289.074322671484,"d":"$5,289"},{"v":104347.03577590823,"d":"$104,347"}]
[null,342,{"v":104347.03577590823,"d":"$104,347"},{"$f":"Analysis!$C$14","v":{"v":5700.209735541158,"d":"$5,700"}},{"$f":"C348*Analysis!$C$13/12","v":{"v":391.3013841596558,"d":"$391"}},{"v":5308.908351381502,"d":"$5,309"},{"v":99038.12742452673,"d":"$99,038"}]
[null,343,{"v":99038.12742452673,"d":"$99,038"},{"$f":"Analysis!$C$14","v":{"v":5700.209735541158,"d":"$5,700"}},{"$f":"C349*Analysis!$C$13/12","v":{"v":371.3929778419752,"d":"$371"}},{"v":5328.816757699183,"d":"$5,329"},{"v":93709.31066682754,"d":"$93,709"}]
[null,344,{"v":93709.31066682754,"d":"$93,709"},{"$f":"Analysis!$C$14","v":{"v":5700.209735541158,"d":"$5,700"}},{"$f":"C350*Analysis!$C$13/12","v":{"v":351.40991500060323,"d":"$351"}},{"v":5348.799820540555,"d":"$5,349"},{"v":88360.51084628698,"d":"$88,361"}]
[null,345,{"v":88360.51084628698,"d":"$88,361"},{"$f":"Analysis!$C$14","v":{"v":5700.209735541158,"d":"$5,700"}},{"$f":"C351*Analysis!$C$13/12","v":{"v":331.3519156735762,"d":"$331"}},{"v":5368.857819867581,"d":"$5,369"},{"v":82991.6530264194,"d":"$82,992"}]
[null,346,{"v":82991.6530264194,"d":"$82,992"},{"$f":"Analysis!$C$14","v":{"v":5700.209735541158,"d":"$5,700"}},{"$f":"C352*Analysis!$C$13/12","v":{"v":311.2186988490727,"d":"$311"}},{"v":5388.991036692085,"d":"$5,389"},{"v":77602.66198972732,"d":"$77,603"}]
[null,347,{"v":77602.66198972732,"d":"$77,603"},{"$f":"Analysis!$C$14","v":{"v":5700.209735541158,"d":"$5,700"}},{"$f":"C353*Analysis!$C$13/12","v":{"v":291.0099824614774,"d":"$291"}},{"v":5409.199753079681,"d":"$5,409"},{"v":72193.46223664764,"d":"$72,193"}]
[29,348,{"v":72193.46223664764,"d":"$72,193"},{"$f":"Analysis!$C$14","v":{"v":5700.209735541158,"d":"$5,700"}},{"$f":"C354*Analysis!$C$13/12","v":{"v":270.72548338742865,"d":"$271"}},{"v":5429.484252153729,"d":"$5,429"},{"v":66763.9779844939,"d":"$66,764"}]
[null,349,{"v":66763.9779844939,"d":"$66,764"},{"$f":"Analysis!$C$14","v":{"v":5700.209735541158,"d":"$5,700"}},{"$f":"C355*Analysis!$C$13/12","v":{"v":250.36491744185216,"d":"$250"}},{"v":5449.8448180993055,"d":"$5,450"},{"v":61314.1331663946,"d":"$61,314"}]
[null,350,{"v":61314.1331663946,"d":"$61,314"},{"$f":"Analysis!$C$14","v":{"v":5700.209735541158,"d":"$5,700"}},{"$f":"C356*Analysis!$C$13/12","v":{"v":229.9279993739797,"d":"$230"}},{"v":5470.281736167178,"d":"$5,470"},{"v":55843.85143022742,"d":"$55,844"}]
[null,351,{"v":55843.85143022742,"d":"$55,844"},{"$f":"Analysis!$C$14","v":{"v":5700.209735541158,"d":"$5,700"}},{"$f":"C357*Analysis!$C$13/12","v":{"v":209.41444286335283,"d":"$209"}},{"v":5490.795292677805,"d":"$5,491"},{"v":50353.05613754962,"d":"$50,353"}]
[null,352,{"v":50353.05613754962,"d":"$50,353"},{"$f":"Analysis!$C$14","v":{"v":5700.209735541158,"d":"$5,700"}},{"$f":"C358*Analysis!$C$13/12","v":{"v":188.82396051581108,"d":"$189"}},{"v":5511.385775025346,"d":"$5,511"},{"v":44841.67036252427,"d":"$44,842"}]
[null,353,{"v":44841.67036252427,"d":"$44,842"},{"$f":"Analysis!$C$14","v":{"v":5700.209735541158,"d":"$5,700"}},{"$f":"C359*Analysis!$C$13/12","v":{"v":168.156263859466,"d":"$168"}},{"v":5532.053471681692,"d":"$5,532"},{"v":39309.61689084258,"d":"$39,310"}]
[null,354,{"v":39309.61689084258,"d":"$39,310"},{"$f":"Analysis!$C$14","v":{"v":5700.209735541158,"d":"$5,700"}},{"$f":"C360*Analysis!$C$13/12","v":{"v":147.4110633406597,"d":"$147"}},{"v":5552.798672200498,"d":"$5,553"},{"v":33756.81821864208,"d":"$33,757"}]
[null,355,{"v":33756.81821864208,"d":"$33,757"},{"$f":"Analysis!$C$14","v":{"v":5700.209735541158,"d":"$5,700"}},{"$f":"C361*Analysis!$C$13/12","v":{"v":126.5880683199078,"d":"$127"}},{"v":5573.62166722125,"d":"$5,574"},{"v":28183.19655142083,"d":"$28,183"}]
[null,356,{"v":28183.19655142083,"d":"$28,183"},{"$f":"Analysis!$C$14","v":{"v":5700.209735541158,"d":"$5,700"}},{"$f":"C362*Analysis!$C$13/12","v":{"v":105.68698706782811,"d":"$106"}},{"v":5594.52274847333,"d":"$5,595"},{"v":22588.673802947502,"d":"$22,589"}]
[null,357,{"v":22588.673802947502,"d":"$22,589"},{"$f":"Analysis!$C$14","v":{"v":5700.209735541158,"d":"$5,700"}},{"$f":"C363*Analysis!$C$13/12","v":{"v":84.70752676105313,"d":"$85"}},{"v":5615.502208780104,"d":"$5,616"},{"v":16973.171594167397,"d":"$16,973"}]
[null,358,{"v":16973.171594167397,"d":"$16,973"},{"$f":"Analysis!$C$14","v":{"v":5700.209735541158,"d":"$5,700"}},{"$f":"C364*Analysis!$C$13/12","v":{"v":63.649393478127735,"d":"$64"}},{"v":5636.5603420630305,"d":"$5,637"},{"v":11336.611252104367,"d":"$11,337"}]
[null,359,{"v":11336.611252104367,"d":"$11,337"},{"$f":"Analysis!$C$14","v":{"v":5700.209735541158,"d":"$5,700"}},{"$f":"C365*Analysis!$C$13/12","v":{"v":42.512292195391375,"d":"$43"}},{"v":5657.697443345766,"d":"$5,658"},{"v":5678.913808758601,"d":"$5,679"}]
[30,360,{"v":5678.913808758601,"d":"$5,679"},{"$f":"Analysis!$C$14","v":{"v":5700.209735541158,"d":"$5,700"}},{"$f":"C366*Analysis!$C$13/12","v":{"v":21.295926782844752,"d":"$21"}},{"v":5678.913808758313,"d":"$5,679"},{"v":2.874003257602453e-10,"d":"$0"}]

{"sheet":"1 Family Amortization Schedule","index":2,"n_rows":366,"n_cols":7,"rows_kept":366,"merged":[[0,0,0,6],[1,0,1,6]]}
[{"$f":"Analysis!E6","v":"1 Family Home"}]
["Amortization Schedule"]
[]
[null,null,"Beginning",{"$nulls":3},"Ending"]
[null,null,"Principal","Monthly",null,null,"Principal"]
["Year","Month","Balance","Payment","Interest","Principal","Balance"]
[null,1,{"$f":"Analysis!E9","v":{"v":520000,"d":"$520,000"}},{"$f":"Analysis!$E$14","v":{"v":2558.087433613315,"d":"$2,558"}},{"$f":"C7*Analysis!$E$13/12","v":{"v":1841.6666666666667,"d":"$1,842"}},{"$f":"D7-E7","v":{"v":716.4207669466484,"d":"$716"}},{"$f":"C7-F7","v":{"v":519283.5792330534,"d":"$519,284"}}]
[null,2,{"$f":"G7","v":{"v":519283.5792330534,"d":"$519,284"}},{"$f":"Analysis!$E$14","v":{"v":2558.087433613315,"d":"$2,558"}},{"$f":"C8*Analysis!$E$13/12","v":{"v":1839.1293431170643,"d":"$1,839"}},{"v":718.9580904962509,"d":"$719"},{"v":518564.6211425571,"d":"$518,565"}]
[null,3,{"v":518564.6211425571,"d":"$518,565"},{"$f":"Analysis!$E$14","v":{"v":2558.087433613315,"d":"$2,558"}},{"$f":"C9*Analysis!$E$13/12","v":{"v":1836.5830332132234,"d":"$1,837"}},{"v":721.5044004000918,"d":"$722"},{"v":517843.116742157,"d":"$517,843"}]
[null,4,{"v":517843.116742157,"d":"$517,843"},{"$f":"Analysis!$E$14","v":{"v":2558.087433613315,"d":"$2,558"}},{"$f":"C10*Analysis!$E$13/12","v":{"v":1834.027705128473,"d":"$1,834"}},{"v":724.0597284848423,"d":"$724"},{"v":517119.0570136722,"d":"$517,119"}]
[null,5,{"v":517119.0570136722,"d":"$517,119"},{"$f":"Analysis!$E$14","v":{"v":2558.087433613315,"d":"$2,558"}},{"$f":"C11*Analysis!$E$13/12","v":{"v":1831.4633269234225,"d":"$1,831"}},{"v":726.6241066898926,"d":"$727"},{"v":516392.4329069823,"d":"$516,392"}]
[null,6,{"v":516392.4329069823,"d":"$516,392"},{"$f":"Analysis!$E$14","v":{"v":2558.087433613315,"d":"$2,558"}},{"$f":"C12*Analysis!$E$13/12","v":{"v":1828.8898665455624,"d":"$1,829"}},{"v":729.1975670677527,"d":"$729"},{"v":515663.23533991456,"d":"$515,663"}]
[null,7,{"v":515663.23533991456,"d":"$515,663"},{"$f":"Analysis!$E$14","v":{"v":2558.087433613315,"d":"$2,558"}},{"$f":"C13*Analysis!$E$13/12","v":{"v":1826.3072918288642,"d":"$1,826"}},{"v":731.780141784451,"d":"$732"},{"v":514931.4551981301,"d":"$514,931"}]
[null,8,{"v":514931.4551981301,"d":"$514,931"},{"$f":"Analysis!$E$14","v":{"v":2558.087433613315,"d":"$2,558"}},{"$f":"C14*Analysis!$E$13/12","v":{"v":1823.7155704933775,"d":"$1,824"}},{"v":734.3718631199376,"d":"$734"},{"v":514197.08333501016,"d":"$514,197"}]
[null,9,{"v":514197.08333501016,"d":"$514,197"},{"$f":"Analysis!$E$14","v":{"v":2558.087433613315,"d":"$2,558"}},{"$f":"C15*Analysis!$E$13/12","v":{"v":1821.1146701448279,"d":"$1,821"}},{"v":736.9727634684873,"d":"$737"},{"v":513460.11057154165,"d":"$513,460"}]
[null,10,{"v":513460.11057154165,"d":"$513,460"},{"$f":"Analysis!$E$14","v":{"v":2558.087433613315,"d":"$2,558"}},{"$f":"C16*Analysis!$E$13/12","v":{"v":1818.5045582742102,"d":"$1,819"}},{"v":739.5828753391049,"d":"$740"},{"v":512720.52769620257,"d":"$512,721"}]
[null,11,{"v":512720.52769620257,"d":"$512,721"},{"$f":"Analysis!$E$14","v":{"v":2558.087433613315,"d":"$2,558"}},{"$f":"C17*Analysis!$E$13/12","v":{"v":1815.8852022573844,"d":"$1,816"}},{"v":742.2022313559307,"d":"$742"},{"v":511978.3254648466,"d":"$511,978"}]
[1,12,{"v":511978.3254648466,"d":"$511,978"},{"$f":"Analysis!$E$14","v":{"v":2558.087433613315,"d":"$2,558"}},{"$f":"C18*Analysis!$E$13/12","v":{"v":1813.256569354665,"d":"$1,813"}},{"v":744.8308642586501,"d":"$745"},{"v":511233.494600588,"d":"$511,233"}]
[null,13,{"v":511233.494600588,"d":"$511,233"},{"$f":"Analysis!$E$14","v":{"v":2558.087433613315,"d":"$2,558"}},{"$f":"C19*Analysis!$E$13/12","v":{"v":1810.6186267104158,"d":"$1,811"}},{"v":747.4688069028994,"d":"$747"},{"v":510486.0257936851,"d":"$510,486"}]
[null,14,{"v":510486.0257936851,"d":"$510,486"},{"$f":"Analysis!$E$14","v":{"v":2558.087433613315,"d":"$2,558"}},{"$f":"C20*Analysis!$E$13/12","v":{"v":1807.971341352635,"d":"$1,808"}},{"v":750.1160922606803,"d":"$750"},{"v":509735.9097014244,"d":"$509,736"}]
[null,15,{"v":509735.9097014244,"d":"$509,736"},{"$f":"Analysis!$E$14","v":{"v":2558.087433613315,"d":"$2,558"}},{"$f":"C21*Analysis!$E$13/12","v":{"v":1805.314680192545,"d":"$1,805"}},{"v":752.7727534207702,"d":"$753"},{"v":508983.13694800367,"d":"$508,983"}]
[null,16,{"v":508983.13694800367,"d":"$508,983"},{"$f":"Analysis!$E$14","v":{"v":2558.087433613315,"d":"$2,558"}},{"$f":"C22*Analysis!$E$13/12","v":{"v":1802.6486100241798,"d":"$1,803"}},{"v":755.4388235891354,"d":"$755"},{"v":508227.69812441454,"d":"$508,228"}]
[null,17,{"v":508227.69812441454,"d":"$508,228"},{"$f":"Analysis!$E$14","v":{"v":2558.087433613315,"d":"$2,558"}},{"$f":"C23*Analysis!$E$13/12","v":{"v":1799.9730975239684,"d":"$1,800"}},{"v":758.1143360893468,"d":"$758"},{"v":507469.5837883252,"d":"$507,470"}]
[null,18,{"v":507469.5837883252,"d":"$507,470"},{"$f":"Analysis!$E$14","v":{"v":2558.087433613315,"d":"$2,558"}},{"$f":"C24*Analysis!$E$13/12","v":{"v":1797.2881092503185,"d":"$1,797"}},{"v":760.7993243629967,"d":"$761"},{"v":506708.7844639622,"d":"$506,709"}]
[null,19,{"v":506708.7844639622,"d":"$506,709"},{"$f":"Analysis!$E$14","v":{"v":2558.087433613315,"d":"$2,558"}},{"$f":"C25*Analysis!$E$13/12","v":{"v":1794.5936116431994,"d":"$1,795"}},{"v":763.4938219701157,"d":"$763"},{"v":505945.29064199206,"d":"$505,945"}]
[null,20,{"v":505945.29064199206,"d":"$505,945"},{"$f":"Analysis!$E$14","v":{"v":2558.087433613315,"d":"$2,558"}},{"$f":"C26*Analysis!$E$13/12","v":{"v":1791.889571023722,"d":"$1,792"}},{"v":766.1978625895931,"d":"$766"},{"v":505179.09277940245,"d":"$505,179"}]
[null,21,{"v":505179.09277940245,"d":"$505,179"},{"$f":"Analysis!$E$14","v":{"v":2558.087433613315,"d":"$2,558"}},{"$f":"C27*Analysis!$E$13/12","v":{"v":1789.1759535937172,"d":"$1,789"}},{"v":768.911480019598,"d":"$769"},{"v":504410.1812993828,"d":"$504,410"}]
[null,22,{"v":504410.1812993828,"d":"$504,410"},{"$f":"Analysis!$E$14","v":{"v":2558.087433613315,"d":"$2,558"}},{"$f":"C28*Analysis!$E$13/12","v":{"v":1786.4527254353143,"d":"$1,786"}},{"v":771.6347081780009,"d":"$772"},{"v":503638.5465912048,"d":"$503,639"}]
[null,23,{"v":503638.5465912048,"d":"$503,639"},{"$f":"Analysis!$E$14","v":{"v":2558.087433613315,"d":"$2,558"}},{"$f":"C29*Analysis!$E$13/12","v":{"v":1783.719852510517,"d":"$1,784"}},{"v":774.3675811027981,"d":"$774"},{"v":502864.179010102,"d":"$502,864"}]
[2,24,{"v":502864.179010102,"d":"$502,864"},{"$f":"Analysis!$E$14","v":{"v":2558.087433613315,"d":"$2,558"}},{"$f":"C30*Analysis!$E$13/12","v":{"v":1780.9773006607782,"d":"$1,781"}},{"v":777.110132952537,"d":"$777"},{"v":502087.0688771495,"d":"$502,087"}]
[null,25,{"v":502087.0688771495,"d":"$502,087"},{"$f":"Analysis!$E$14","v":{"v":2558.087433613315,"d":"$2,558"}},{"$f":"C31*Analysis!$E$13/12","v":{"v":1778.2250356065713,"d":"$1,778"}},{"v":779.8623980067439,"d":"$780"},{"v":501307.20647914277,"d":"$501,307"}]
[null,26,{"v":501307.20647914277,"d":"$501,307"},{"$f":"Analysis!$E$14","v":{"v":2558.087433613315,"d":"$2,558"}},{"$f":"C32*Analysis!$E$13/12","v":{"v":1775.463022946964,"d":"$1,775"}},{"v":782.6244106663512,"d":"$783"},{"v":500524.5820684764,"d":"$500,525"}]
[null,27,{"v":500524.5820684764,"d":"$500,525"},{"$f":"Analysis!$E$14","v":{"v":2558.087433613315,"d":"$2,558"}},{"$f":"C33*Analysis!$E$13/12","v":{"v":1772.6912281591874,"d":"$1,773"}},{"v":785.3962054541278,"d":"$785"},{"v":499739.1858630223,"d":"$499,739"}]
[null,28,{"v":499739.1858630223,"d":"$499,739"},{"$f":"Analysis!$E$14","v":{"v":2558.087433613315,"d":"$2,558"}},{"$f":"C34*Analysis!$E$13/12","v":{"v":1769.909616598204,"d":"$1,770"}},{"v":788.1778170151113,"d":"$788"},{"v":498951.0080460072,"d":"$498,951"}]
[null,29,{"v":498951.0080460072,"d":"$498,951"},{"$f":"Analysis!$E$14","v":{"v":2558.087433613315,"d":"$2,558"}},{"$f":"C35*Analysis!$E$13/12","v":{"v":1767.1181534962755,"d":"$1,767"}},{"v":790.9692801170397,"d":"$791"},{"v":498160.0387658902,"d":"$498,160"}]
[null,30,{"v":498160.0387658902,"d":"$498,160"},{"$f":"Analysis!$E$14","v":{"v":2558.087433613315,"d":"$2,558"}},{"$f":"C36*Analysis!$E$13/12","v":{"v":1764.316803962528,"d":"$1,764"}},{"v":793.7706296507872,"d":"$794"},{"v":497366.2681362394,"d":"$497,366"}]
[null,31,{"v":497366.2681362394,"d":"$497,366"},{"$f":"Analysis!$E$14","v":{"v":2558.087433613315,"d":"$2,558"}},{"$f":"C37*Analysis!$E$13/12","v":{"v":1761.5055329825145,"d":"$1,762"}},{"v":796.5819006308006,"d":"$797"},{"v":496569.6862356086,"d":"$496,570"}]
[null,32,{"v":496569.6862356086,"d":"$496,570"},{"$f":"Analysis!$E$14","v":{"v":2558.087433613315,"d":"$2,558"}},{"$f":"C38*Analysis!$E$13/12","v":{"v":1758.6843054177805,"d":"$1,759"}},{"v":799.4031281955347,"d":"$799"},{"v":495770.28310741304,"d":"$495,770"}]
[null,33,{"v":495770.28310741304,"d":"$495,770"},{"$f":"Analysis!$E$14","v":{"v":2558.087433613315,"d":"$2,558"}},{"$f":"C39*Analysis!$E$13/12","v":{"v":1755.8530860054213,"d":"$1,756"}},{"v":802.2343476078938,"d":"$802"},{"v":494968.04875980515,"d":"$494,968"}]
[null,34,{"v":494968.04875980515,"d":"$494,968"},{"$f":"Analysis!$E$14","v":{"v":2558.087433613315,"d":"$2,558"}},{"$f":"C40*Analysis!$E$13/12","v":{"v":1753.0118393576433,"d":"$1,753"}},{"v":805.0755942556718,"d":"$805"},{"v":494162.97316554945,"d":"$494,163"}]
[null,35,{"v":494162.97316554945,"d":"$494,163"},{"$f":"Analysis!$E$14","v":{"v":2558.087433613315,"d":"$2,558"}},{"$f":"C41*Analysis!$E$13/12","v":{"v":1750.1605299613211,"d":"$1,750"}},{"v":807.926903651994,"d":"$808"},{"v":493355.0462618975,"d":"$493,355"}]
[3,36,{"v":493355.0462618975,"d":"$493,355"},{"$f":"Analysis!$E$14","v":{"v":2558.087433613315,"d":"$2,558"}},{"$f":"C42*Analysis!$E$13/12","v":{"v":1747.2991221775537,"d":"$1,747"}},{"v":810.7883114357614,"d":"$811"},{"v":492544.2579504617,"d":"$492,544"}]
[null,37,{"v":492544.2579504617,"d":"$492,544"},{"$f":"Analysis!$E$14","v":{"v":2558.087433613315,"d":"$2,558"}},{"$f":"C43*Analysis!$E$13/12","v":{"v":1744.4275802412187,"d":"$1,744"}},{"v":813.6598533720964,"d":"$814"},{"v":491730.5980970896,"d":"$491,731"}]
[null,38,{"v":491730.5980970896,"d":"$491,731"},{"$f":"Analysis!$E$14","v":{"v":2558.087433613315,"d":"$2,558"}},{"$f":"C44*Analysis!$E$13/12","v":{"v":1741.5458682605258,"d":"$1,742"}},{"v":816.5415653527893,"d":"$817"},{"v":490914.0565317368,"d":"$490,914"}]
[null,39,{"v":490914.0565317368,"d":"$490,914"},{"$f":"Analysis!$E$14","v":{"v":2558.087433613315,"d":"$2,558"}},{"$f":"C45*Analysis!$E$13/12","v":{"v":1738.6539502165679,"d":"$1,739"}},{"v":819.4334833967473,"d":"$819"},{"v":490094.62304834,"d":"$490,095"}]
[null,40,{"v":490094.62304834,"d":"$490,095"},{"$f":"Analysis!$E$14","v":{"v":2558.087433613315,"d":"$2,558"}},{"$f":"C46*Analysis!$E$13/12","v":{"v":1735.751789962871,"d":"$1,736"}},{"v":822.3356436504441,"d":"$822"},{"v":489272.2874046896,"d":"$489,272"}]
[null,41,{"v":489272.2874046896,"d":"$489,272"},{"$f":"Analysis!$E$14","v":{"v":2558.087433613315,"d":"$2,558"}},{"$f":"C47*Analysis!$E$13/12","v":{"v":1732.8393512249424,"d":"$1,733"}},{"v":825.2480823883727,"d":"$825"},{"v":488447.0393223012,"d":"$488,447"}]
[null,42,{"v":488447.0393223012,"d":"$488,447"},{"$f":"Analysis!$E$14","v":{"v":2558.087433613315,"d":"$2,558"}},{"$f":"C48*Analysis!$E$13/12","v":{"v":1729.916597599817,"d":"$1,730"}},{"v":828.1708360134983,"d":"$828"},{"v":487618.8684862877,"d":"$487,619"}]
[null,43,{"v":487618.8684862877,"d":"$487,619"},{"$f":"Analysis!$E$14","v":{"v":2558.087433613315,"d":"$2,558"}},{"$f":"C49*Analysis!$E$13/12","v":{"v":1726.9834925556024,"d":"$1,727"}},{"v":831.1039410577127,"d":"$831"},{"v":486787.76454523,"d":"$486,788"}]
[null,44,{"v":486787.76454523,"d":"$486,788"},{"$f":"Analysis!$E$14","v":{"v":2558.087433613315,"d":"$2,558"}},{"$f":"C50*Analysis!$E$13/12","v":{"v":1724.039999431023,"d":"$1,724"}},{"v":834.0474341822921,"d":"$834"},{"v":485953.7171110477,"d":"$485,954"}]
[null,45,{"v":485953.7171110477,"d":"$485,954"},{"$f":"Analysis!$E$14","v":{"v":2558.087433613315,"d":"$2,558"}},{"$f":"C51*Analysis!$E$13/12","v":{"v":1721.0860814349608,"d":"$1,721"}},{"v":837.0013521783544,"d":"$837"},{"v":485116.71575886937,"d":"$485,117"}]
[null,46,{"v":485116.71575886937,"d":"$485,117"},{"$f":"Analysis!$E$14","v":{"v":2558.087433613315,"d":"$2,558"}},{"$f":"C52*Analysis!$E$13/12","v":{"v":1718.121701645996,"d":"$1,718"}},{"v":839.9657319673192,"d":"$840"},{"v":484276.75002690207,"d":"$484,277"}]
[null,47,{"v":484276.75002690207,"d":"$484,277"},{"$f":"Analysis!$E$14","v":{"v":2558.087433613315,"d":"$2,558"}},{"$f":"C53*Analysis!$E$13/12","v":{"v":1715.1468230119451,"d":"$1,715"}},{"v":842.94061060137,"d":"$843"},{"v":483433.8094163007,"d":"$483,434"}]
[4,48,{"v":483433.8094163007,"d":"$483,434"},{"$f":"Analysis!$E$14","v":{"v":2558.087433613315,"d":"$2,558"}},{"$f":"C54*Analysis!$E$13/12","v":{"v":1712.1614083493985,"d":"$1,712"}},{"v":845.9260252639167,"d":"$846"},{"v":482587.88339103677,"d":"$482,588"}]
[null,49,{"v":482587.88339103677,"d":"$482,588"},{"$f":"Analysis!$E$14","v":{"v":2558.087433613315,"d":"$2,558"}},{"$f":"C55*Analysis!$E$13/12","v":{"v":1709.1654203432554,"d":"$1,709"}},{"v":848.9220132700598,"d":"$849"},{"v":481738.9613777667,"d":"$481,739"}]
[null,50,{"v":481738.9613777667,"d":"$481,739"},{"$f":"Analysis!$E$14","v":{"v":2558.087433613315,"d":"$2,558"}},{"$f":"C56*Analysis!$E$13/12","v":{"v":1706.158821546257,"d":"$1,706"}},{"v":851.9286120670581,"d":"$852"},{"v":480887.0327656996,"d":"$480,887"}]
[null,51,{"v":480887.0327656996,"d":"$480,887"},{"$f":"Analysis!$E$14","v":{"v":2558.087433613315,"d":"$2,558"}},{"$f":"C57*Analysis!$E$13/12","v":{"v":1703.1415743785194,"d":"$1,703"}},{"v":854.9458592347958,"d":"$855"},{"v":480032.0869064648,"d":"$480,032"}]
[null,52,{"v":480032.0869064648,"d":"$480,032"},{"$f":"Analysis!$E$14","v":{"v":2558.087433613315,"d":"$2,558"}},{"$f":"C58*Analysis!$E$13/12","v":{"v":1700.113641127063,"d":"$1,700"}},{"v":857.9737924862523,"d":"$858"},{"v":479174.1131139786,"d":"$479,174"}]
[null,53,{"v":479174.1131139786,"d":"$479,174"},{"$f":"Analysis!$E$14","v":{"v":2558.087433613315,"d":"$2,558"}},{"$f":"C59*Analysis!$E$13/12","v":{"v":1697.074983945341,"d":"$1,697"}},{"v":861.0124496679741,"d":"$861"},{"v":478313.1006643106,"d":"$478,313"}]
[null,54,{"v":478313.1006643106,"d":"$478,313"},{"$f":"Analysis!$E$14","v":{"v":2558.087433613315,"d":"$2,558"}},{"$f":"C60*Analysis!$E$13/12","v":{"v":1694.025564852767,"d":"$1,694"}},{"v":864.0618687605481,"d":"$864"},{"v":477449.03879555006,"d":"$477,449"}]
[null,55,{"v":477449.03879555006,"d":"$477,449"},{"$f":"Analysis!$E$14","v":{"v":2558.087433613315,"d":"$2,558"}},{"$f":"C61*Analysis!$E$13/12","v":{"v":1690.96534573424,"d":"$1,691"}},{"v":867.1220878790753,"d":"$867"},{"v":476581.916707671,"d":"$476,582"}]
[null,56,{"v":476581.916707671,"d":"$476,582"},{"$f":"Analysis!$E$14","v":{"v":2558.087433613315,"d":"$2,558"}},{"$f":"C62*Analysis!$E$13/12","v":{"v":1687.8942883396683,"d":"$1,688"}},{"v":870.1931452736469,"d":"$870"},{"v":475711.72356239735,"d":"$475,712"}]
[null,57,{"v":475711.72356239735,"d":"$475,712"},{"$f":"Analysis!$E$14","v":{"v":2558.087433613315,"d":"$2,558"}},{"$f":"C63*Analysis!$E$13/12","v":{"v":1684.8123542834908,"d":"$1,685"}},{"v":873.2750793298244,"d":"$873"},{"v":474838.4484830675,"d":"$474,838"}]
[null,58,{"v":474838.4484830675,"d":"$474,838"},{"$f":"Analysis!$E$14","v":{"v":2558.087433613315,"d":"$2,558"}},{"$f":"C64*Analysis!$E$13/12","v":{"v":1681.7195050441976,"d":"$1,682"}},{"v":876.3679285691176,"d":"$876"},{"v":473962.0805544984,"d":"$473,962"}]
[null,59,{"v":473962.0805544984,"d":"$473,962"},{"$f":"Analysis!$E$14","v":{"v":2558.087433613315,"d":"$2,558"}},{"$f":"C65*Analysis!$E$13/12","v":{"v":1678.6157019638486,"d":"$1,679"}},{"v":879.4717316494666,"d":"$879"},{"v":473082.60882284894,"d":"$473,083"}]
[5,60,{"v":473082.60882284894,"d":"$473,083"},{"$f":"Analysis!$E$14","v":{"v":2558.087433613315,"d":"$2,558"}},{"$f":"C66*Analysis!$E$13/12","v":{"v":1675.5009062475901,"d":"$1,676"}},{"v":882.586527365725,"d":"$883"},{"v":472200.0222954832,"d":"$472,200"}]
[null,61,{"v":472200.0222954832,"d":"$472,200"},{"$f":"Analysis!$E$14","v":{"v":2558.087433613315,"d":"$2,558"}},{"$f":"C67*Analysis!$E$13/12","v":{"v":1672.3750789631697,"d":"$1,672"}},{"v":885.7123546501455,"d":"$886"},{"v":471314.3099408331,"d":"$471,314"}]
[null,62,{"v":471314.3099408331,"d":"$471,314"},{"$f":"Analysis!$E$14","v":{"v":2558.087433613315,"d":"$2,558"}},{"$f":"C68*Analysis!$E$13/12","v":{"v":1669.2381810404506,"d":"$1,669"}},{"v":888.8492525728645,"d":"$889"},{"v":470425.4606882602,"d":"$470,425"}]
[null,63,{"v":470425.4606882602,"d":"$470,425"},{"$f":"Analysis!$E$14","v":{"v":2558.087433613315,"d":"$2,558"}},{"$f":"C69*Analysis!$E$13/12","v":{"v":1666.0901732709217,"d":"$1,666"}},{"v":891.9972603423935,"d":"$892"},{"v":469533.4634279178,"d":"$469,533"}]
[null,64,{"v":469533.4634279178,"d":"$469,533"},{"$f":"Analysis!$E$14","v":{"v":2558.087433613315,"d":"$2,558"}},{"$f":"C70*Analysis!$E$13/12","v":{"v":1662.931016307209,"d":"$1,663"}},{"v":895.1564173061063,"d":"$895"},{"v":468638.3070106117,"d":"$468,638"}]
[null,65,{"v":468638.3070106117,"d":"$468,638"},{"$f":"Analysis!$E$14","v":{"v":2558.087433613315,"d":"$2,558"}},{"$f":"C71*Analysis!$E$13/12","v":{"v":1659.7606706625832,"d":"$1,660"}},{"$f":"D71-E71","v":{"v":898.326762950732,"d":"$898"}},{"$f":"C71-F71","v":{"v":467739.98024766095,"d":"$467,740"}}]
[null,66,{"$f":"G71","v":{"v":467739.98024766095,"d":"$467,740"}},{"$f":"Analysis!$E$14","v":{"v":2558.087433613315,"d":"$2,558"}},{"$f":"C72*Analysis!$E$13/12","v":{"v":1656.579096710466,"d":"$1,657"}},{"v":901.5083369028491,"d":"$902"},{"v":466838.4719107581,"d":"$466,838"}]
[null,67,{"v":466838.4719107581,"d":"$466,838"},{"$f":"Analysis!$E$14","v":{"v":2558.087433613315,"d":"$2,558"}},{"$f":"C73*Analysis!$E$13/12","v":{"v":1653.3862546839352,"d":"$1,653"}},{"v":904.7011789293799,"d":"$905"},{"v":465933.77073182876,"d":"$465,934"}]
[null,68,{"v":465933.77073182876,"d":"$465,934"},{"$f":"Analysis!$E$14","v":{"v":2558.087433613315,"d":"$2,558"}},{"$f":"C74*Analysis!$E$13/12","v":{"v":1650.1821046752268,"d":"$1,650"}},{"v":907.9053289380884,"d":"$908"},{"v":465025.86540289066,"d":"$465,026"}]
[null,69,{"v":465025.86540289066,"d":"$465,026"},{"$f":"Analysis!$E$14","v":{"v":2558.087433613315,"d":"$2,558"}},{"$f":"C75*Analysis!$E$13/12","v":{"v":1646.9666066352377,"d":"$1,647"}},{"v":911.1208269780775,"d":"$911"},{"v":464114.7445759126,"d":"$464,115"}]
[null,70,{"v":464114.7445759126,"d":"$464,115"},{"$f":"Analysis!$E$14","v":{"v":2558.087433613315,"d":"$2,558"}},{"$f":"C76*Analysis!$E$13/12","v":{"v":1643.739720373024,"d":"$1,644"}},{"v":914.3477132402911,"d":"$914"},{"v":463200.3968626723,"d":"$463,200"}]
[null,71,{"v":463200.3968626723,"d":"$463,200"},{"$f":"Analysis!$E$14","v":{"v":2558.087433613315,"d":"$2,558"}},{"$f":"C77*Analysis!$E$13/12","v":{"v":1640.5014055552977,"d":"$1,641"}},{"v":917.5860280580175,"d":"$918"},{"v":462282.81083461427,"d":"$462,283"}]
[6,72,{"v":462282.81083461427,"d":"$462,283"},{"$f":"Analysis!$E$14","v":{"v":2558.087433613315,"d":"$2,558"}},{"$f":"C78*Analysis!$E$13/12","v":{"v":1637.2516217059256,"d":"$1,637"}},{"v":920.8358119073896,"d":"$921"},{"v":461361.9750227069,"d":"$461,362"}]
[null,73,{"v":461361.9750227069,"d":"$461,362"},{"$f":"Analysis!$E$14","v":{"v":2558.087433613315,"d":"$2,558"}},{"$f":"C79*Analysis!$E$13/12","v":{"v":1633.9903282054204,"d":"$1,634"}},{"v":924.0971054078948,"d":"$924"},{"v":460437.877917299,"d":"$460,438"}]
[null,74,{"v":460437.877917299,"d":"$460,438"},{"$f":"Analysis!$E$14","v":{"v":2558.087433613315,"d":"$2,558"}},{"$f":"C80*Analysis!$E$13/12","v":{"v":1630.7174842904342,"d":"$1,631"}},{"v":927.369949322881,"d":"$927"},{"v":459510.5079679761,"d":"$459,511"}]
[null,75,{"v":459510.5079679761,"d":"$459,511"},{"$f":"Analysis!$E$14","v":{"v":2558.087433613315,"d":"$2,558"}},{"$f":"C81*Analysis!$E$13/12","v":{"v":1627.4330490532486,"d":"$1,627"}},{"v":930.6543845600665,"d":"$931"},{"v":458579.853583416,"d":"$458,580"}]
[null,76,{"v":458579.853583416,"d":"$458,580"},{"$f":"Analysis!$E$14","v":{"v":2558.087433613315,"d":"$2,558"}},{"$f":"C82*Analysis!$E$13/12","v":{"v":1624.1369814412653,"d":"$1,624"}},{"v":933.9504521720498,"d":"$934"},{"v":457645.903131244,"d":"$457,646"}]
[null,77,{"v":457645.903131244,"d":"$457,646"},{"$f":"Analysis!$E$14","v":{"v":2558.087433613315,"d":"$2,558"}},{"$f":"C83*Analysis!$E$13/12","v":{"v":1620.8292402564894,"d":"$1,621"}},{"v":937.2581933568258,"d":"$937"},{"v":456708.6449378872,"d":"$456,709"}]
[null,78,{"v":456708.6449378872,"d":"$456,709"},{"$f":"Analysis!$E$14","v":{"v":2558.087433613315,"d":"$2,558"}},{"$f":"C84*Analysis!$E$13/12","v":{"v":1617.509784155017,"d":"$1,618"}},{"v":940.5776494582981,"d":"$941"},{"v":455768.0672884289,"d":"$455,768"}]
[null,79,{"v":455768.0672884289,"d":"$455,768"},{"$f":"Analysis!$E$14","v":{"v":2558.087433613315,"d":"$2,558"}},{"$f":"C85*Analysis!$E$13/12","v":{"v":1614.1785716465192,"d":"$1,614"}},{"v":943.9088619667959,"d":"$944"},{"v":454824.1584264621,"d":"$454,824"}]
[null,80,{"v":454824.1584264621,"d":"$454,824"},{"$f":"Analysis!$E$14","v":{"v":2558.087433613315,"d":"$2,558"}},{"$f":"C86*Analysis!$E$13/12","v":{"v":1610.83556109372,"d":"$1,611"}},{"v":947.2518725195953,"d":"$947"},{"v":453876.9065539425,"d":"$453,877"}]
[null,81,{"v":453876.9065539425,"d":"$453,877"},{"$f":"Analysis!$E$14","v":{"v":2558.087433613315,"d":"$2,558"}},{"$f":"C87*Analysis!$E$13/12","v":{"v":1607.4807107118797,"d":"$1,607"}},{"v":950.6067229014354,"d":"$951"},{"v":452926.299831041,"d":"$452,926"}]
[null,82,{"v":452926.299831041,"d":"$452,926"},{"$f":"Analysis!$E$14","v":{"v":2558.087433613315,"d":"$2,558"}},{"$f":"C88*Analysis!$E$13/12","v":{"v":1604.1139785682706,"d":"$1,604"}},{"v":953.9734550450446,"d":"$954"},{"v":451972.326375996,"d":"$451,972"}]
[null,83,{"v":451972.326375996,"d":"$451,972"},{"$f":"Analysis!$E$14","v":{"v":2558.087433613315,"d":"$2,558"}},{"$f":"C89*Analysis!$E$13/12","v":{"v":1600.7353225816526,"d":"$1,601"}},{"v":957.3521110316626,"d":"$957"},{"v":451014.97426496434,"d":"$451,015"}]
[7,84,{"v":451014.97426496434,"d":"$451,015"},{"$f":"Analysis!$E$14","v":{"v":2558.087433613315,"d":"$2,558"}},{"$f":"C90*Analysis!$E$13/12","v":{"v":1597.3447005217488,"d":"$1,597"}},{"v":960.7427330915664,"d":"$961"},{"v":450054.23153187276,"d":"$450,054"}]
[null,85,{"v":450054.23153187276,"d":"$450,054"},{"$f":"Analysis!$E$14","v":{"v":2558.087433613315,"d":"$2,558"}},{"$f":"C91*Analysis!$E$13/12","v":{"v":1593.942070008716,"d":"$1,594"}},{"v":964.1453636045992,"d":"$964"},{"v":449090.0861682682,"d":"$449,090"}]
[null,86,{"v":449090.0861682682,"d":"$449,090"},{"$f":"Analysis!$E$14","v":{"v":2558.087433613315,"d":"$2,558"}},{"$f":"C92*Analysis!$E$13/12","v":{"v":1590.5273885126164,"d":"$1,591"}},{"v":967.5600451006987,"d":"$968"},{"v":448122.5261231675,"d":"$448,123"}]
[null,87,{"v":448122.5261231675,"d":"$448,123"},{"$f":"Analysis!$E$14","v":{"v":2558.087433613315,"d":"$2,558"}},{"$f":"C93*Analysis!$E$13/12","v":{"v":1587.1006133528851,"d":"$1,587"}},{"v":970.98682026043,"d":"$971"},{"v":447151.53930290707,"d":"$447,152"}]
[null,88,{"v":447151.53930290707,"d":"$447,152"},{"$f":"Analysis!$E$14","v":{"v":2558.087433613315,"d":"$2,558"}},{"$f":"C94*Analysis!$E$13/12","v":{"v":1583.661701697796,"d":"$1,584"}},{"v":974.4257319155192,"d":"$974"},{"v":446177.11357099155,"d":"$446,177"}]
[null,89,{"v":446177.11357099155,"d":"$446,177"},{"$f":"Analysis!$E$14","v":{"v":2558.087433613315,"d":"$2,558"}},{"$f":"C95*Analysis!$E$13/12","v":{"v":1580.2106105639286,"d":"$1,580"}},{"v":977.8768230493865,"d":"$978"},{"v":445199.23674794217,"d":"$445,199"}]
[null,90,{"v":445199.23674794217,"d":"$445,199"},{"$f":"Analysis!$E$14","v":{"v":2558.087433613315,"d":"$2,558"}},{"$f":"C96*Analysis!$E$13/12","v":{"v":1576.7472968156287,"d":"$1,577"}},{"v":981.3401367976865,"d":"$981"},{"v":444217.8966111445,"d":"$444,218"}]
[null,91,{"v":444217.8966111445,"d":"$444,218"},{"$f":"Analysis!$E$14","v":{"v":2558.087433613315,"d":"$2,558"}},{"$f":"C97*Analysis!$E$13/12","v":{"v":1573.2717171644701,"d":"$1,573"}},{"v":984.815716448845,"d":"$985"},{"v":443233.08089469565,"d":"$443,233"}]
[null,92,{"v":443233.08089469565,"d":"$443,233"},{"$f":"Analysis!$E$14","v":{"v":2558.087433613315,"d":"$2,558"}},{"$f":"C98*Analysis!$E$13/12","v":{"v":1569.7838281687139,"d":"$1,570"}},{"v":988.3036054446013,"d":"$988"},{"v":442244.77728925104,"d":"$442,245"}]
[null,93,{"v":442244.77728925104,"d":"$442,245"},{"$f":"Analysis!$E$14","v":{"v":2558.087433613315,"d":"$2,558"}},{"$f":"C99*Analysis!$E$13/12","v":{"v":1566.283586232764,"d":"$1,566"}},{"v":991.8038473805511,"d":"$992"},{"v":441252.9734418705,"d":"$441,253"}]
[null,94,{"v":441252.9734418705,"d":"$441,253"},{"$f":"Analysis!$E$14","v":{"v":2558.087433613315,"d":"$2,558"}},{"$f":"C100*Analysis!$E$13/12","v":{"v":1562.7709476066248,"d":"$1,563"}},{"v":995.3164860066904,"d":"$995"},{"v":440257.65695586376,"d":"$440,258"}]
[null,95,{"v":440257.65695586376,"d":"$440,258"},{"$f":"Analysis!$E$14","v":{"v":2558.087433613315,"d":"$2,558"}},{"$f":"C101*Analysis!$E$13/12","v":{"v":1559.245868385351,"d":"$1,559"}},{"v":998.8415652279641,"d":"$999"},{"v":439258.8153906358,"d":"$439,259"}]
[8,96,{"v":439258.8153906358,"d":"$439,259"},{"$f":"Analysis!$E$14","v":{"v":2558.087433613315,"d":"$2,558"}},{"$f":"C102*Analysis!$E$13/12","v":{"v":1555.708304508502,"d":"$1,556"}},{"v":1002.3791291048133,"d":"$1,002"},{"v":438256.43626153097,"d":"$438,256"}]
[null,97,{"v":438256.43626153097,"d":"$438,256"},{"$f":"Analysis!$E$14","v":{"v":2558.087433613315,"d":"$2,558"}},{"$f":"C103*Analysis!$E$13/12","v":{"v":1552.158211759589,"d":"$1,552"}},{"v":1005.9292218537262,"d":"$1,006"},{"v":437250.50703967724,"d":"$437,251"}]
[null,98,{"v":437250.50703967724,"d":"$437,251"},{"$f":"Analysis!$E$14","v":{"v":2558.087433613315,"d":"$2,558"}},{"$f":"C104*Analysis!$E$13/12","v":{"v":1548.5955457655236,"d":"$1,549"}},{"v":1009.4918878477915,"d":"$1,009"},{"v":436241.01515182946,"d":"$436,241"}]
[null,99,{"v":436241.01515182946,"d":"$436,241"},{"$f":"Analysis!$E$14","v":{"v":2558.087433613315,"d":"$2,558"}},{"$f":"C105*Analysis!$E$13/12","v":{"v":1545.0202619960628,"d":"$1,545"}},{"v":1013.0671716172524,"d":"$1,013"},{"v":435227.9479802122,"d":"$435,228"}]
[null,100,{"v":435227.9479802122,"d":"$435,228"},{"$f":"Analysis!$E$14","v":{"v":2558.087433613315,"d":"$2,558"}},{"$f":"C106*Analysis!$E$13/12","v":{"v":1541.4323157632516,"d":"$1,541"}},{"v":1016.6551178500636,"d":"$1,017"},{"v":434211.29286236217,"d":"$434,211"}]
[null,101,{"v":434211.29286236217,"d":"$434,211"},{"$f":"Analysis!$E$14","v":{"v":2558.087433613315,"d":"$2,558"}},{"$f":"C107*Analysis!$E$13/12","v":{"v":1537.831662220866,"d":"$1,538"}},{"v":1020.2557713924491,"d":"$1,020"},{"v":433191.03709096974,"d":"$433,191"}]
[null,102,{"v":433191.03709096974,"d":"$433,191"},{"$f":"Analysis!$E$14","v":{"v":2558.087433613315,"d":"$2,558"}},{"$f":"C108*Analysis!$E$13/12","v":{"v":1534.2182563638514,"d":"$1,534"}},{"v":1023.8691772494637,"d":"$1,024"},{"v":432167.1679137203,"d":"$432,167"}]
[null,103,{"v":432167.1679137203,"d":"$432,167"},{"$f":"Analysis!$E$14","v":{"v":2558.087433613315,"d":"$2,558"}},{"$f":"C109*Analysis!$E$13/12","v":{"v":1530.5920530277597,"d":"$1,531"}},{"v":1027.4953805855555,"d":"$1,027"},{"v":431139.67253313476,"d":"$431,140"}]
[null,104,{"v":431139.67253313476,"d":"$431,140"},{"$f":"Analysis!$E$14","v":{"v":2558.087433613315,"d":"$2,558"}},{"$f":"C110*Analysis!$E$13/12","v":{"v":1526.9530068881857,"d":"$1,527"}},{"v":1031.1344267251295,"d":"$1,031"},{"v":430108.5381064096,"d":"$430,109"}]
[null,105,{"v":430108.5381064096,"d":"$430,109"},{"$f":"Analysis!$E$14","v":{"v":2558.087433613315,"d":"$2,558"}},{"$f":"C111*Analysis!$E$13/12","v":{"v":1523.3010724602009,"d":"$1,523"}},{"v":1034.7863611531143,"d":"$1,035"},{"v":429073.7517452565,"d":"$429,074"}]
[null,106,{"v":429073.7517452565,"d":"$429,074"},{"$f":"Analysis!$E$14","v":{"v":2558.087433613315,"d":"$2,558"}},{"$f":"C112*Analysis!$E$13/12","v":{"v":1519.6362040977835,"d":"$1,520"}},{"v":1038.4512295155316,"d":"$1,038"},{"v":428035.30051574094,"d":"$428,035"}]
[null,107,{"v":428035.30051574094,"d":"$428,035"},{"$f":"Analysis!$E$14","v":{"v":2558.087433613315,"d":"$2,558"}},{"$f":"C113*Analysis!$E$13/12","v":{"v":1515.9583559932491,"d":"$1,516"}},{"v":1042.129077620066,"d":"$1,042"},{"v":426993.1714381209,"d":"$426,993"}]
[9,108,{"v":426993.1714381209,"d":"$426,993"},{"$f":"Analysis!$E$14","v":{"v":2558.087433613315,"d":"$2,558"}},{"$f":"C114*Analysis!$E$13/12","v":{"v":1512.2674821766784,"d":"$1,512"}},{"v":1045.8199514366368,"d":"$1,046"},{"v":425947.35148668423,"d":"$425,947"}]
[null,109,{"v":425947.35148668423,"d":"$425,947"},{"$f":"Analysis!$E$14","v":{"v":2558.087433613315,"d":"$2,558"}},{"$f":"C115*Analysis!$E$13/12","v":{"v":1508.56353651534,"d":"$1,509"}},{"v":1049.5238970979751,"d":"$1,050"},{"v":424897.82758958626,"d":"$424,898"}]
[null,110,{"v":424897.82758958626,"d":"$424,898"},{"$f":"Analysis!$E$14","v":{"v":2558.087433613315,"d":"$2,558"}},{"$f":"C116*Analysis!$E$13/12","v":{"v":1504.846472713118,"d":"$1,505"}},{"v":1053.2409609001973,"d":"$1,053"},{"v":423844.58662868605,"d":"$423,845"}]
[null,111,{"v":423844.58662868605,"d":"$423,845"},{"$f":"Analysis!$E$14","v":{"v":2558.087433613315,"d":"$2,558"}},{"$f":"C117*Analysis!$E$13/12","v":{"v":1501.11624430993,"d":"$1,501"}},{"v":1056.9711893033852,"d":"$1,057"},{"v":422787.6154393827,"d":"$422,788"}]
[null,112,{"v":422787.6154393827,"d":"$422,788"},{"$f":"Analysis!$E$14","v":{"v":2558.087433613315,"d":"$2,558"}},{"$f":"C118*Analysis!$E$13/12","v":{"v":1497.3728046811473,"d":"$1,497"}},{"v":1060.714628932168,"d":"$1,061"},{"v":421726.9008104505,"d":"$421,727"}]
[null,113,{"v":421726.9008104505,"d":"$421,727"},{"$f":"Analysis!$E$14","v":{"v":2558.087433613315,"d":"$2,558"}},{"$f":"C119*Analysis!$E$13/12","v":{"v":1493.6161070370124,"d":"$1,494"}},{"v":1064.4713265763028,"d":"$1,064"},{"v":420662.4294838742,"d":"$420,662"}]
[null,114,{"v":420662.4294838742,"d":"$420,662"},{"$f":"Analysis!$E$14","v":{"v":2558.087433613315,"d":"$2,558"}},{"$f":"C120*Analysis!$E$13/12","v":{"v":1489.8461044220546,"d":"$1,490"}},{"v":1068.2413291912605,"d":"$1,068"},{"v":419594.1881546829,"d":"$419,594"}]
[null,115,{"v":419594.1881546829,"d":"$419,594"},{"$f":"Analysis!$E$14","v":{"v":2558.087433613315,"d":"$2,558"}},{"$f":"C121*Analysis!$E$13/12","v":{"v":1486.0627497145022,"d":"$1,486"}},{"v":1072.024683898813,"d":"$1,072"},{"v":418522.1634707841,"d":"$418,522"}]
[null,116,{"v":418522.1634707841,"d":"$418,522"},{"$f":"Analysis!$E$14","v":{"v":2558.087433613315,"d":"$2,558"}},{"$f":"C122*Analysis!$E$13/12","v":{"v":1482.2659956256937,"d":"$1,482"}},{"v":1075.8214379876215,"d":"$1,076"},{"v":417446.34203279647,"d":"$417,446"}]
[null,117,{"v":417446.34203279647,"d":"$417,446"},{"$f":"Analysis!$E$14","v":{"v":2558.087433613315,"d":"$2,558"}},{"$f":"C123*Analysis!$E$13/12","v":{"v":1478.4557946994876,"d":"$1,478"}},{"v":1079.6316389138276,"d":"$1,080"},{"v":416366.71039388265,"d":"$416,367"}]
[null,118,{"v":416366.71039388265,"d":"$416,367"},{"$f":"Analysis!$E$14","v":{"v":2558.087433613315,"d":"$2,558"}},{"$f":"C124*Analysis!$E$13/12","v":{"v":1474.6320993116678,"d":"$1,475"}},{"v":1083.4553343016473,"d":"$1,083"},{"v":415283.255059581,"d":"$415,283"}]
[null,119,{"v":415283.255059581,"d":"$415,283"},{"$f":"Analysis!$E$14","v":{"v":2558.087433613315,"d":"$2,558"}},{"$f":"C125*Analysis!$E$13/12","v":{"v":1470.7948616693495,"d":"$1,471"}},{"v":1087.2925719439656,"d":"$1,087"},{"v":414195.96248763707,"d":"$414,196"}]
[10,120,{"v":414195.96248763707,"d":"$414,196"},{"$f":"Analysis!$E$14","v":{"v":2558.087433613315,"d":"$2,558"}},{"$f":"C126*Analysis!$E$13/12","v":{"v":1466.9440338103814,"d":"$1,467"}},{"v":1091.1433998029338,"d":"$1,091"},{"v":413104.81908783416,"d":"$413,105"}]
[null,121,{"v":413104.81908783416,"d":"$413,105"},{"$f":"Analysis!$E$14","v":{"v":2558.087433613315,"d":"$2,558"}},{"$f":"C127*Analysis!$E$13/12","v":{"v":1463.0795676027462,"d":"$1,463"}},{"v":1095.007866010569,"d":"$1,095"},{"v":412009.81122182356,"d":"$412,010"}]
[null,122,{"v":412009.81122182356,"d":"$412,010"},{"$f":"Analysis!$E$14","v":{"v":2558.087433613315,"d":"$2,558"}},{"$f":"C128*Analysis!$E$13/12","v":{"v":1459.2014147439586,"d":"$1,459"}},{"v":1098.8860188693566,"d":"$1,099"},{"v":410910.9252029542,"d":"$410,911"}]
[null,123,{"v":410910.9252029542,"d":"$410,911"},{"$f":"Analysis!$E$14","v":{"v":2558.087433613315,"d":"$2,558"}},{"$f":"C129*Analysis!$E$13/12","v":{"v":1455.309526760463,"d":"$1,455"}},{"v":1102.777906852852,"d":"$1,103"},{"v":409808.1472961014,"d":"$409,808"}]
[null,124,{"v":409808.1472961014,"d":"$409,808"},{"$f":"Analysis!$E$14","v":{"v":2558.087433613315,"d":"$2,558"}},{"$f":"C130*Analysis!$E$13/12","v":{"v":1451.4038550070256,"d":"$1,451"}},{"v":1106.6835786062895,"d":"$1,107"},{"v":408701.4637174951,"d":"$408,701"}]
[null,125,{"v":408701.4637174951,"d":"$408,701"},{"$f":"Analysis!$E$14","v":{"v":2558.087433613315,"d":"$2,558"}},{"$f":"C131*Analysis!$E$13/12","v":{"v":1447.4843506661284,"d":"$1,447"}},{"v":1110.6030829471867,"d":"$1,111"},{"v":407590.8606345479,"d":"$407,591"}]
[null,126,{"v":407590.8606345479,"d":"$407,591"},{"$f":"Analysis!$E$14","v":{"v":2558.087433613315,"d":"$2,558"}},{"$f":"C132*Analysis!$E$13/12","v":{"v":1443.5509647473573,"d":"$1,444"}},{"v":1114.5364688659579,"d":"$1,115"},{"v":406476.32416568196,"d":"$406,476"}]
[null,127,{"v":406476.32416568196,"d":"$406,476"},{"$f":"Analysis!$E$14","v":{"v":2558.087433613315,"d":"$2,558"}},{"$f":"C133*Analysis!$E$13/12","v":{"v":1439.6036480867904,"d":"$1,440"}},{"v":1118.4837855265248,"d":"$1,118"},{"v":405357.8403801554,"d":"$405,358"}]
[null,128,{"v":405357.8403801554,"d":"$405,358"},{"$f":"Analysis!$E$14","v":{"v":2558.087433613315,"d":"$2,558"}},{"$f":"C134*Analysis!$E$13/12","v":{"v":1435.642351346384,"d":"$1,436"}},{"v":1122.4450822669312,"d":"$1,122"},{"v":404235.3952978885,"d":"$404,235"}]
[null,129,{"v":404235.3952978885,"d":"$404,235"},{"$f":"Analysis!$E$14","v":{"v":2558.087433613315,"d":"$2,558"}},{"$f":"C135*Analysis!$E$13/12","v":{"v":1431.667025013355,"d":"$1,432"}},{"$f":"D135-E135","v":{"v":1126.4204085999602,"d":"$1,126"}},{"$f":"C135-F135","v":{"v":403108.97488928854,"d":"$403,109"}}]
[null,130,{"$f":"G135","v":{"v":403108.97488928854,"d":"$403,109"}},{"$f":"Analysis!$E$14","v":{"v":2558.087433613315,"d":"$2,558"}},{"$f":"C136*Analysis!$E$13/12","v":{"v":1427.6776193995638,"d":"$1,428"}},{"v":1130.4098142137514,"d":"$1,130"},{"v":401978.5650750748,"d":"$401,979"}]
[null,131,{"v":401978.5650750748,"d":"$401,979"},{"$f":"Analysis!$E$14","v":{"v":2558.087433613315,"d":"$2,558"}},{"$f":"C137*Analysis!$E$13/12","v":{"v":1423.67408464089,"d":"$1,424"}},{"v":1134.4133489724252,"d":"$1,134"},{"v":400844.15172610234,"d":"$400,844"}]
[11,132,{"v":400844.15172610234,"d":"$400,844"},{"$f":"Analysis!$E$14","v":{"v":2558.087433613315,"d":"$2,558"}},{"$f":"C138*Analysis!$E$13/12","v":{"v":1419.6563706966126,"d":"$1,420"}},{"v":1138.4310629167026,"d":"$1,138"},{"v":399705.72066318564,"d":"$399,706"}]
[null,133,{"v":399705.72066318564,"d":"$399,706"},{"$f":"Analysis!$E$14","v":{"v":2558.087433613315,"d":"$2,558"}},{"$f":"C139*Analysis!$E$13/12","v":{"v":1415.6244273487825,"d":"$1,416"}},{"v":1142.4630062645326,"d":"$1,142"},{"v":398563.2576569211,"d":"$398,563"}]
[null,134,{"v":398563.2576569211,"d":"$398,563"},{"$f":"Analysis!$E$14","v":{"v":2558.087433613315,"d":"$2,558"}},{"$f":"C140*Analysis!$E$13/12","v":{"v":1411.5782042015956,"d":"$1,412"}},{"v":1146.5092294117196,"d":"$1,147"},{"v":397416.7484275094,"d":"$397,417"}]
[null,135,{"v":397416.7484275094,"d":"$397,417"},{"$f":"Analysis!$E$14","v":{"v":2558.087433613315,"d":"$2,558"}},{"$f":"C141*Analysis!$E$13/12","v":{"v":1407.5176506807627,"d":"$1,408"}},{"v":1150.5697829325525,"d":"$1,151"},{"v":396266.1786445768,"d":"$396,266"}]
[null,136,{"v":396266.1786445768,"d":"$396,266"},{"$f":"Analysis!$E$14","v":{"v":2558.087433613315,"d":"$2,558"}},{"$f":"C142*Analysis!$E$13/12","v":{"v":1403.4427160328762,"d":"$1,403"}},{"v":1154.644717580439,"d":"$1,155"},{"v":395111.53392699634,"d":"$395,112"}]
[null,137,{"v":395111.53392699634,"d":"$395,112"},{"$f":"Analysis!$E$14","v":{"v":2558.087433613315,"d":"$2,558"}},{"$f":"C143*Analysis!$E$13/12","v":{"v":1399.3533493247787,"d":"$1,399"}},{"v":1158.7340842885365,"d":"$1,159"},{"v":393952.7998427078,"d":"$393,953"}]
[null,138,{"v":393952.7998427078,"d":"$393,953"},{"$f":"Analysis!$E$14","v":{"v":2558.087433613315,"d":"$2,558"}},{"$f":"C144*Analysis!$E$13/12","v":{"v":1395.2494994429235,"d":"$1,395"}},{"v":1162.8379341703917,"d":"$1,163"},{"v":392789.9619085374,"d":"$392,790"}]
[null,139,{"v":392789.9619085374,"d":"$392,790"},{"$f":"Analysis!$E$14","v":{"v":2558.087433613315,"d":"$2,558"}},{"$f":"C145*Analysis!$E$13/12","v":{"v":1391.1311150927368,"d":"$1,391"}},{"v":1166.9563185205784,"d":"$1,167"},{"v":391623.00559001684,"d":"$391,623"}]
[null,140,{"v":391623.00559001684,"d":"$391,623"},{"$f":"Analysis!$E$14","v":{"v":2558.087433613315,"d":"$2,558"}},{"$f":"C146*Analysis!$E$13/12","v":{"v":1386.9981447979765,"d":"$1,387"}},{"v":1171.0892888153387,"d":"$1,171"},{"v":390451.9163012015,"d":"$390,452"}]
[null,141,{"v":390451.9163012015,"d":"$390,452"},{"$f":"Analysis!$E$14","v":{"v":2558.087433613315,"d":"$2,558"}},{"$f":"C147*Analysis!$E$13/12","v":{"v":1382.8505369000886,"d":"$1,383"}},{"v":1175.2368967132265,"d":"$1,175"},{"v":389276.6794044883,"d":"$389,277"}]
[null,142,{"v":389276.6794044883,"d":"$389,277"},{"$f":"Analysis!$E$14","v":{"v":2558.087433613315,"d":"$2,558"}},{"$f":"C148*Analysis!$E$13/12","v":{"v":1378.6882395575628,"d":"$1,379"}},{"v":1179.3991940557523,"d":"$1,179"},{"v":388097.28021043254,"d":"$388,097"}]
[null,143,{"v":388097.28021043254,"d":"$388,097"},{"$f":"Analysis!$E$14","v":{"v":2558.087433613315,"d":"$2,558"}},{"$f":"C149*Analysis!$E$13/12","v":{"v":1374.511200745282,"d":"$1,375"}},{"v":1183.5762328680332,"d":"$1,184"},{"v":386913.7039775645,"d":"$386,914"}]
[12,144,{"v":386913.7039775645,"d":"$386,914"},{"$f":"Analysis!$E$14","v":{"v":2558.087433613315,"d":"$2,558"}},{"$f":"C150*Analysis!$E$13/12","v":{"v":1370.3193682538742,"d":"$1,370"}},{"v":1187.768065359441,"d":"$1,188"},{"v":385725.9359122051,"d":"$385,726"}]
[null,145,{"v":385725.9359122051,"d":"$385,726"},{"$f":"Analysis!$E$14","v":{"v":2558.087433613315,"d":"$2,558"}},{"$f":"C151*Analysis!$E$13/12","v":{"v":1366.1126896890598,"d":"$1,366"}},{"v":1191.9747439242553,"d":"$1,192"},{"v":384533.9611682808,"d":"$384,534"}]
[null,146,{"v":384533.9611682808,"d":"$384,534"},{"$f":"Analysis!$E$14","v":{"v":2558.087433613315,"d":"$2,558"}},{"$f":"C152*Analysis!$E$13/12","v":{"v":1361.8911124709946,"d":"$1,362"}},{"v":1196.1963211423206,"d":"$1,196"},{"v":383337.7648471385,"d":"$383,338"}]
[null,147,{"v":383337.7648471385,"d":"$383,338"},{"$f":"Analysis!$E$14","v":{"v":2558.087433613315,"d":"$2,558"}},{"$f":"C153*Analysis!$E$13/12","v":{"v":1357.6545838336156,"d":"$1,358"}},{"v":1200.4328497796996,"d":"$1,200"},{"v":382137.33199735876,"d":"$382,137"}]
[null,148,{"v":382137.33199735876,"d":"$382,137"},{"$f":"Analysis!$E$14","v":{"v":2558.087433613315,"d":"$2,558"}},{"$f":"C154*Analysis!$E$13/12","v":{"v":1353.4030508239791,"d":"$1,353"}},{"v":1204.684382789336,"d":"$1,205"},{"v":380932.6476145694,"d":"$380,933"}]
[null,149,{"v":380932.6476145694,"d":"$380,933"},{"$f":"Analysis!$E$14","v":{"v":2558.087433613315,"d":"$2,558"}},{"$f":"C155*Analysis!$E$13/12","v":{"v":1349.1364603016002,"d":"$1,349"}},{"v":1208.950973311715,"d":"$1,209"},{"v":379723.6966412577,"d":"$379,724"}]
[null,150,{"v":379723.6966412577,"d":"$379,724"},{"$f":"Analysis!$E$14","v":{"v":2558.087433613315,"d":"$2,558"}},{"$f":"C156*Analysis!$E$13/12","v":{"v":1344.8547589377877,"d":"$1,345"}},{"v":1213.2326746755275,"d":"$1,213"},{"v":378510.46396658215,"d":"$378,510"}]
[null,151,{"v":378510.46396658215,"d":"$378,510"},{"$f":"Analysis!$E$14","v":{"v":2558.087433613315,"d":"$2,558"}},{"$f":"C157*Analysis!$E$13/12","v":{"v":1340.5578932149785,"d":"$1,341"}},{"v":1217.5295403983366,"d":"$1,218"},{"v":377292.9344261838,"d":"$377,293"}]
[null,152,{"v":377292.9344261838,"d":"$377,293"},{"$f":"Analysis!$E$14","v":{"v":2558.087433613315,"d":"$2,558"}},{"$f":"C158*Analysis!$E$13/12","v":{"v":1336.2458094260678,"d":"$1,336"}},{"v":1221.8416241872474,"d":"$1,222"},{"v":376071.09280199656,"d":"$376,071"}]
[null,153,{"v":376071.09280199656,"d":"$376,071"},{"$f":"Analysis!$E$14","v":{"v":2558.087433613315,"d":"$2,558"}},{"$f":"C159*Analysis!$E$13/12","v":{"v":1331.918453673738,"d":"$1,332"}},{"v":1226.1689799395772,"d":"$1,226"},{"v":374844.92382205697,"d":"$374,845"}]
[null,154,{"v":374844.92382205697,"d":"$374,845"},{"$f":"Analysis!$E$14","v":{"v":2558.087433613315,"d":"$2,558"}},{"$f":"C160*Analysis!$E$13/12","v":{"v":1327.5757718697853,"d":"$1,328"}},{"v":1230.5116617435299,"d":"$1,231"},{"v":373614.41216031346,"d":"$373,614"}]
[null,155,{"v":373614.41216031346,"d":"$373,614"},{"$f":"Analysis!$E$14","v":{"v":2558.087433613315,"d":"$2,558"}},{"$f":"C161*Analysis!$E$13/12","v":{"v":1323.2177097344436,"d":"$1,323"}},{"v":1234.8697238788716,"d":"$1,235"},{"v":372379.5424364346,"d":"$372,380"}]
[13,156,{"v":372379.5424364346,"d":"$372,380"},{"$f":"Analysis!$E$14","v":{"v":2558.087433613315,"d":"$2,558"}},{"$f":"C162*Analysis!$E$13/12","v":{"v":1318.844212795706,"d":"$1,319"}},{"v":1239.2432208176092,"d":"$1,239"},{"v":371140.299215617,"d":"$371,140"}]
[null,157,{"v":371140.299215617,"d":"$371,140"},{"$f":"Analysis!$E$14","v":{"v":2558.087433613315,"d":"$2,558"}},{"$f":"C163*Analysis!$E$13/12","v":{"v":1314.4552263886437,"d":"$1,314"}},{"v":1243.6322072246714,"d":"$1,244"},{"v":369896.66700839234,"d":"$369,897"}]
[null,158,{"v":369896.66700839234,"d":"$369,897"},{"$f":"Analysis!$E$14","v":{"v":2558.087433613315,"d":"$2,558"}},{"$f":"C164*Analysis!$E$13/12","v":{"v":1310.050695654723,"d":"$1,310"}},{"v":1248.036737958592,"d":"$1,248"},{"v":368648.6302704337,"d":"$368,649"}]
[null,159,{"v":368648.6302704337,"d":"$368,649"},{"$f":"Analysis!$E$14","v":{"v":2558.087433613315,"d":"$2,558"}},{"$f":"C165*Analysis!$E$13/12","v":{"v":1305.6305655411195,"d":"$1,306"}},{"v":1252.4568680721957,"d":"$1,252"},{"v":367396.1734023615,"d":"$367,396"}]
[null,160,{"v":367396.1734023615,"d":"$367,396"},{"$f":"Analysis!$E$14","v":{"v":2558.087433613315,"d":"$2,558"}},{"$f":"C166*Analysis!$E$13/12","v":{"v":1301.1947808000305,"d":"$1,301"}},{"v":1256.8926528132847,"d":"$1,257"},{"v":366139.2807495482,"d":"$366,139"}]
[null,161,{"v":366139.2807495482,"d":"$366,139"},{"$f":"Analysis!$E$14","v":{"v":2558.087433613315,"d":"$2,558"}},{"$f":"C167*Analysis!$E$13/12","v":{"v":1296.7432859879834,"d":"$1,297"}},{"v":1261.3441476253317,"d":"$1,261"},{"v":364877.9366019229,"d":"$364,878"}]
[null,162,{"v":364877.9366019229,"d":"$364,878"},{"$f":"Analysis!$E$14","v":{"v":2558.087433613315,"d":"$2,558"}},{"$f":"C168*Analysis!$E$13/12","v":{"v":1292.2760254651437,"d":"$1,292"}},{"v":1265.8114081481715,"d":"$1,266"},{"v":363612.12519377476,"d":"$363,612"}]
[null,163,{"v":363612.12519377476,"d":"$363,612"},{"$f":"Analysis!$E$14","v":{"v":2558.087433613315,"d":"$2,558"}},{"$f":"C169*Analysis!$E$13/12","v":{"v":1287.792943394619,"d":"$1,288"}},{"v":1270.2944902186962,"d":"$1,270"},{"v":362341.8307035561,"d":"$362,342"}]
[null,164,{"v":362341.8307035561,"d":"$362,342"},{"$f":"Analysis!$E$14","v":{"v":2558.087433613315,"d":"$2,558"}},{"$f":"C170*Analysis!$E$13/12","v":{"v":1283.2939837417612,"d":"$1,283"}},{"v":1274.793449871554,"d":"$1,275"},{"v":361067.03725368454,"d":"$361,067"}]
[null,165,{"v":361067.03725368454,"d":"$361,067"},{"$f":"Analysis!$E$14","v":{"v":2558.087433613315,"d":"$2,558"}},{"$f":"C171*Analysis!$E$13/12","v":{"v":1278.7790902734662,"d":"$1,279"}},{"v":1279.308343339849,"d":"$1,279"},{"v":359787.7289103447,"d":"$359,788"}]
[null,166,{"v":359787.7289103447,"d":"$359,788"},{"$f":"Analysis!$E$14","v":{"v":2558.087433613315,"d":"$2,558"}},{"$f":"C172*Analysis!$E$13/12","v":{"v":1274.248206557471,"d":"$1,274"}},{"v":1283.8392270558443,"d":"$1,284"},{"v":358503.8896832889,"d":"$358,504"}]
[null,167,{"v":358503.8896832889,"d":"$358,504"},{"$f":"Analysis!$E$14","v":{"v":2558.087433613315,"d":"$2,558"}},{"$f":"C173*Analysis!$E$13/12","v":{"v":1269.7012759616482,"d":"$1,270"}},{"v":1288.386157651667,"d":"$1,288"},{"v":357215.5035256372,"d":"$357,216"}]
[14,168,{"v":357215.5035256372,"d":"$357,216"},{"$f":"Analysis!$E$14","v":{"v":2558.087433613315,"d":"$2,558"}},{"$f":"C174*Analysis!$E$13/12","v":{"v":1265.1382416532986,"d":"$1,265"}},{"v":1292.9491919600166,"d":"$1,293"},{"v":355922.55433367717,"d":"$355,923"}]
[null,169,{"v":355922.55433367717,"d":"$355,923"},{"$f":"Analysis!$E$14","v":{"v":2558.087433613315,"d":"$2,558"}},{"$f":"C175*Analysis!$E$13/12","v":{"v":1260.55904659844,"d":"$1,261"}},{"v":1297.528387014875,"d":"$1,298"},{"v":354625.0259466623,"d":"$354,625"}]
[null,170,{"v":354625.0259466623,"d":"$354,625"},{"$f":"Analysis!$E$14","v":{"v":2558.087433613315,"d":"$2,558"}},{"$f":"C176*Analysis!$E$13/12","v":{"v":1255.9636335610958,"d":"$1,256"}},{"v":1302.1238000522194,"d":"$1,302"},{"v":353322.9021466101,"d":"$353,323"}]
[null,171,{"v":353322.9021466101,"d":"$353,323"},{"$f":"Analysis!$E$14","v":{"v":2558.087433613315,"d":"$2,558"}},{"$f":"C177*Analysis!$E$13/12","v":{"v":1251.3519451025775,"d":"$1,251"}},{"v":1306.7354885107377,"d":"$1,307"},{"v":352016.16665809933,"d":"$352,016"}]
[null,172,{"v":352016.16665809933,"d":"$352,016"},{"$f":"Analysis!$E$14","v":{"v":2558.087433613315,"d":"$2,558"}},{"$f":"C178*Analysis!$E$13/12","v":{"v":1246.7239235807685,"d":"$1,247"}},{"v":1311.3635100325466,"d":"$1,311"},{"v":350704.8031480668,"d":"$350,705"}]
[null,173,{"v":350704.8031480668,"d":"$350,705"},{"$f":"Analysis!$E$14","v":{"v":2558.087433613315,"d":"$2,558"}},{"$f":"C179*Analysis!$E$13/12","v":{"v":1242.0795111494033,"d":"$1,242"}},{"v":1316.0079224639119,"d":"$1,316"},{"v":349388.79522560287,"d":"$349,389"}]
[null,174,{"v":349388.79522560287,"d":"$349,389"},{"$f":"Analysis!$E$14","v":{"v":2558.087433613315,"d":"$2,558"}},{"$f":"C180*Analysis!$E$13/12","v":{"v":1237.4186497573435,"d":"$1,237"}},{"v":1320.6687838559717,"d":"$1,321"},{"v":348068.1264417469,"d":"$348,068"}]
[null,175,{"v":348068.1264417469,"d":"$348,068"},{"$f":"Analysis!$E$14","v":{"v":2558.087433613315,"d":"$2,558"}},{"$f":"C181*Analysis!$E$13/12","v":{"v":1232.7412811478537,"d":"$1,233"}},{"v":1325.3461524654615,"d":"$1,325"},{"v":346742.78028928145,"d":"$346,743"}]
[null,176,{"v":346742.78028928145,"d":"$346,743"},{"$f":"Analysis!$E$14","v":{"v":2558.087433613315,"d":"$2,558"}},{"$f":"C182*Analysis!$E$13/12","v":{"v":1228.0473468578718,"d":"$1,228"}},{"v":1330.0400867554433,"d":"$1,330"},{"v":345412.740202526,"d":"$345,413"}]
[null,177,{"v":345412.740202526,"d":"$345,413"},{"$f":"Analysis!$E$14","v":{"v":2558.087433613315,"d":"$2,558"}},{"$f":"C183*Analysis!$E$13/12","v":{"v":1223.3367882172795,"d":"$1,223"}},{"v":1334.7506453960357,"d":"$1,335"},{"v":344077.98955713,"d":"$344,078"}]
[null,178,{"v":344077.98955713,"d":"$344,078"},{"$f":"Analysis!$E$14","v":{"v":2558.087433613315,"d":"$2,558"}},{"$f":"C184*Analysis!$E$13/12","v":{"v":1218.6095463481688,"d":"$1,219"}},{"v":1339.4778872651464,"d":"$1,339"},{"v":342738.5116698648,"d":"$342,739"}]
[null,179,{"v":342738.5116698648,"d":"$342,739"},{"$f":"Analysis!$E$14","v":{"v":2558.087433613315,"d":"$2,558"}},{"$f":"C185*Analysis!$E$13/12","v":{"v":1213.8655621641046,"d":"$1,214"}},{"v":1344.2218714492105,"d":"$1,344"},{"v":341394.2897984156,"d":"$341,394"}]
[15,180,{"v":341394.2897984156,"d":"$341,394"},{"$f":"Analysis!$E$14","v":{"v":2558.087433613315,"d":"$2,558"}},{"$f":"C186*Analysis!$E$13/12","v":{"v":1209.1047763693887,"d":"$1,209"}},{"v":1348.9826572439265,"d":"$1,349"},{"v":340045.3071411717,"d":"$340,045"}]
[null,181,{"v":340045.3071411717,"d":"$340,045"},{"$f":"Analysis!$E$14","v":{"v":2558.087433613315,"d":"$2,558"}},{"$f":"C187*Analysis!$E$13/12","v":{"v":1204.3271294583167,"d":"$1,204"}},{"v":1353.7603041549985,"d":"$1,354"},{"v":338691.5468370167,"d":"$338,692"}]
[null,182,{"v":338691.5468370167,"d":"$338,692"},{"$f":"Analysis!$E$14","v":{"v":2558.087433613315,"d":"$2,558"}},{"$f":"C188*Analysis!$E$13/12","v":{"v":1199.5325617144342,"d":"$1,200"}},{"v":1358.554871898881,"d":"$1,359"},{"v":337332.9919651178,"d":"$337,333"}]
[null,183,{"v":337332.9919651178,"d":"$337,333"},{"$f":"Analysis!$E$14","v":{"v":2558.087433613315,"d":"$2,558"}},{"$f":"C189*Analysis!$E$13/12","v":{"v":1194.7210132097923,"d":"$1,195"}},{"v":1363.3664204035229,"d":"$1,363"},{"v":335969.6255447143,"d":"$335,970"}]
[null,184,{"v":335969.6255447143,"d":"$335,970"},{"$f":"Analysis!$E$14","v":{"v":2558.087433613315,"d":"$2,558"}},{"$f":"C190*Analysis!$E$13/12","v":{"v":1189.8924238041966,"d":"$1,190"}},{"v":1368.1950098091186,"d":"$1,368"},{"v":334601.4305349052,"d":"$334,601"}]
[null,185,{"v":334601.4305349052,"d":"$334,601"},{"$f":"Analysis!$E$14","v":{"v":2558.087433613315,"d":"$2,558"}},{"$f":"C191*Analysis!$E$13/12","v":{"v":1185.0467331444559,"d":"$1,185"}},{"v":1373.0407004688593,"d":"$1,373"},{"v":333228.3898344363,"d":"$333,228"}]
[null,186,{"v":333228.3898344363,"d":"$333,228"},{"$f":"Analysis!$E$14","v":{"v":2558.087433613315,"d":"$2,558"}},{"$f":"C192*Analysis!$E$13/12","v":{"v":1180.1838806636285,"d":"$1,180"}},{"v":1377.9035529496866,"d":"$1,378"},{"v":331850.48628148664,"d":"$331,850"}]
[null,187,{"v":331850.48628148664,"d":"$331,850"},{"$f":"Analysis!$E$14","v":{"v":2558.087433613315,"d":"$2,558"}},{"$f":"C193*Analysis!$E$13/12","v":{"v":1175.3038055802651,"d":"$1,175"}},{"v":1382.78362803305,"d":"$1,383"},{"v":330467.70265345357,"d":"$330,468"}]
[null,188,{"v":330467.70265345357,"d":"$330,468"},{"$f":"Analysis!$E$14","v":{"v":2558.087433613315,"d":"$2,558"}},{"$f":"C194*Analysis!$E$13/12","v":{"v":1170.4064468976483,"d":"$1,170"}},{"v":1387.680986715667,"d":"$1,388"},{"v":329080.0216667379,"d":"$329,080"}]
[null,189,{"v":329080.0216667379,"d":"$329,080"},{"$f":"Analysis!$E$14","v":{"v":2558.087433613315,"d":"$2,558"}},{"$f":"C195*Analysis!$E$13/12","v":{"v":1165.4917434030301,"d":"$1,165"}},{"v":1392.595690210285,"d":"$1,393"},{"v":327687.4259765276,"d":"$327,687"}]
[null,190,{"v":327687.4259765276,"d":"$327,687"},{"$f":"Analysis!$E$14","v":{"v":2558.087433613315,"d":"$2,558"}},{"$f":"C196*Analysis!$E$13/12","v":{"v":1160.5596336668689,"d":"$1,161"}},{"v":1397.5277999464463,"d":"$1,398"},{"v":326289.8981765812,"d":"$326,290"}]
[null,191,{"v":326289.8981765812,"d":"$326,290"},{"$f":"Analysis!$E$14","v":{"v":2558.087433613315,"d":"$2,558"}},{"$f":"C197*Analysis!$E$13/12","v":{"v":1155.6100560420584,"d":"$1,156"}},{"v":1402.4773775712567,"d":"$1,402"},{"v":324887.4207990099,"d":"$324,887"}]
[16,192,{"v":324887.4207990099,"d":"$324,887"},{"$f":"Analysis!$E$14","v":{"v":2558.087433613315,"d":"$2,558"}},{"$f":"C198*Analysis!$E$13/12","v":{"v":1150.6429486631603,"d":"$1,151"}},{"v":1407.444484950155,"d":"$1,407"},{"v":323479.97631405975,"d":"$323,480"}]
[null,193,{"v":323479.97631405975,"d":"$323,480"},{"$f":"Analysis!$E$14","v":{"v":2558.087433613315,"d":"$2,558"}},{"$f":"C199*Analysis!$E$13/12","v":{"v":1145.6582494456284,"d":"$1,146"}},{"$f":"D199-E199","v":{"v":1412.4291841676868,"d":"$1,412"}},{"$f":"C199-F199","v":{"v":322067.54712989205,"d":"$322,068"}}]
[null,194,{"$f":"G199","v":{"v":322067.54712989205,"d":"$322,068"}},{"$f":"Analysis!$E$14","v":{"v":2558.087433613315,"d":"$2,558"}},{"$f":"C200*Analysis!$E$13/12","v":{"v":1140.6558960850346,"d":"$1,141"}},{"v":1417.4315375282806,"d":"$1,417"},{"v":320650.11559236376,"d":"$320,650"}]
[null,195,{"v":320650.11559236376,"d":"$320,650"},{"$f":"Analysis!$E$14","v":{"v":2558.087433613315,"d":"$2,558"}},{"$f":"C201*Analysis!$E$13/12","v":{"v":1135.6358260562884,"d":"$1,136"}},{"v":1422.4516075570268,"d":"$1,422"},{"v":319227.66398480674,"d":"$319,228"}]
[null,196,{"v":319227.66398480674,"d":"$319,228"},{"$f":"Analysis!$E$14","v":{"v":2558.087433613315,"d":"$2,558"}},{"$f":"C202*Analysis!$E$13/12","v":{"v":1130.5979766128573,"d":"$1,131"}},{"v":1427.4894570004578,"d":"$1,427"},{"v":317800.1745278063,"d":"$317,800"}]
[null,197,{"v":317800.1745278063,"d":"$317,800"},{"$f":"Analysis!$E$14","v":{"v":2558.087433613315,"d":"$2,558"}},{"$f":"C203*Analysis!$E$13/12","v":{"v":1125.5422847859807,"d":"$1,126"}},{"v":1432.5451488273345,"d":"$1,433"},{"v":316367.629378979,"d":"$316,368"}]
[null,198,{"v":316367.629378979,"d":"$316,368"},{"$f":"Analysis!$E$14","v":{"v":2558.087433613315,"d":"$2,558"}},{"$f":"C204*Analysis!$E$13/12","v":{"v":1120.468687383884,"d":"$1,120"}},{"v":1437.6187462294313,"d":"$1,438"},{"v":314930.01063274953,"d":"$314,930"}]
[null,199,{"v":314930.01063274953,"d":"$314,930"},{"$f":"Analysis!$E$14","v":{"v":2558.087433613315,"d":"$2,558"}},{"$f":"C205*Analysis!$E$13/12","v":{"v":1115.377120990988,"d":"$1,115"}},{"v":1442.7103126223271,"d":"$1,443"},{"v":313487.3003201272,"d":"$313,487"}]
[null,200,{"v":313487.3003201272,"d":"$313,487"},{"$f":"Analysis!$E$14","v":{"v":2558.087433613315,"d":"$2,558"}},{"$f":"C206*Analysis!$E$13/12","v":{"v":1110.2675219671173,"d":"$1,110"}},{"v":1447.8199116461979,"d":"$1,448"},{"v":312039.48040848103,"d":"$312,039"}]
[null,201,{"v":312039.48040848103,"d":"$312,039"},{"$f":"Analysis!$E$14","v":{"v":2558.087433613315,"d":"$2,558"}},{"$f":"C207*Analysis!$E$13/12","v":{"v":1105.1398264467036,"d":"$1,105"}},{"v":1452.9476071666115,"d":"$1,453"},{"v":310586.53280131443,"d":"$310,587"}]
[null,202,{"v":310586.53280131443,"d":"$310,587"},{"$f":"Analysis!$E$14","v":{"v":2558.087433613315,"d":"$2,558"}},{"$f":"C208*Analysis!$E$13/12","v":{"v":1099.9939703379887,"d":"$1,100"}},{"v":1458.0934632753265,"d":"$1,458"},{"v":309128.4393380391,"d":"$309,128"}]
[null,203,{"v":309128.4393380391,"d":"$309,128"},{"$f":"Analysis!$E$14","v":{"v":2558.087433613315,"d":"$2,558"}},{"$f":"C209*Analysis!$E$13/12","v":{"v":1094.8298893222218,"d":"$1,095"}},{"v":1463.2575442910934,"d":"$1,463"},{"v":307665.181793748,"d":"$307,665"}]
[17,204,{"v":307665.181793748,"d":"$307,665"},{"$f":"Analysis!$E$14","v":{"v":2558.087433613315,"d":"$2,558"}},{"$f":"C210*Analysis!$E$13/12","v":{"v":1089.6475188528575,"d":"$1,090"}},{"v":1468.4399147604577,"d":"$1,468"},{"v":306196.7418789875,"d":"$306,197"}]
[null,205,{"v":306196.7418789875,"d":"$306,197"},{"$f":"Analysis!$E$14","v":{"v":2558.087433613315,"d":"$2,558"}},{"$f":"C211*Analysis!$E$13/12","v":{"v":1084.4467941547475,"d":"$1,084"}},{"v":1473.6406394585676,"d":"$1,474"},{"v":304723.101239529,"d":"$304,723"}]
[null,206,{"v":304723.101239529,"d":"$304,723"},{"$f":"Analysis!$E$14","v":{"v":2558.087433613315,"d":"$2,558"}},{"$f":"C212*Analysis!$E$13/12","v":{"v":1079.227650223332,"d":"$1,079"}},{"v":1478.8597833899832,"d":"$1,479"},{"v":303244.241456139,"d":"$303,244"}]
[null,207,{"v":303244.241456139,"d":"$303,244"},{"$f":"Analysis!$E$14","v":{"v":2558.087433613315,"d":"$2,558"}},{"$f":"C213*Analysis!$E$13/12","v":{"v":1073.9900218238258,"d":"$1,074"}},{"v":1484.0974117894893,"d":"$1,484"},{"v":301760.14404434955,"d":"$301,760"}]
[null,208,{"v":301760.14404434955,"d":"$301,760"},{"$f":"Analysis!$E$14","v":{"v":2558.087433613315,"d":"$2,558"}},{"$f":"C214*Analysis!$E$13/12","v":{"v":1068.7338434904048,"d":"$1,069"}},{"v":1489.3535901229104,"d":"$1,489"},{"v":300270.79045422666,"d":"$300,271"}]
[null,209,{"v":300270.79045422666,"d":"$300,271"},{"$f":"Analysis!$E$14","v":{"v":2558.087433613315,"d":"$2,558"}},{"$f":"C215*Analysis!$E$13/12","v":{"v":1063.4590495253863,"d":"$1,063"}},{"v":1494.628384087929,"d":"$1,495"},{"v":298776.16207013873,"d":"$298,776"}]
[null,210,{"v":298776.16207013873,"d":"$298,776"},{"$f":"Analysis!$E$14","v":{"v":2558.087433613315,"d":"$2,558"}},{"$f":"C216*Analysis!$E$13/12","v":{"v":1058.165573998408,"d":"$1,058"}},{"v":1499.9218596149071,"d":"$1,500"},{"v":297276.2402105238,"d":"$297,276"}]
[null,211,{"v":297276.2402105238,"d":"$297,276"},{"$f":"Analysis!$E$14","v":{"v":2558.087433613315,"d":"$2,558"}},{"$f":"C217*Analysis!$E$13/12","v":{"v":1052.8533507456052,"d":"$1,053"}},{"v":1505.23408286771,"d":"$1,505"},{"v":295771.00612765615,"d":"$295,771"}]
[null,212,{"v":295771.00612765615,"d":"$295,771"},{"$f":"Analysis!$E$14","v":{"v":2558.087433613315,"d":"$2,558"}},{"$f":"C218*Analysis!$E$13/12","v":{"v":1047.5223133687823,"d":"$1,048"}},{"v":1510.5651202445329,"d":"$1,511"},{"v":294260.44100741163,"d":"$294,260"}]
[null,213,{"v":294260.44100741163,"d":"$294,260"},{"$f":"Analysis!$E$14","v":{"v":2558.087433613315,"d":"$2,558"}},{"$f":"C219*Analysis!$E$13/12","v":{"v":1042.172395234583,"d":"$1,042"}},{"v":1515.915038378732,"d":"$1,516"},{"v":292744.5259690329,"d":"$292,745"}]
[null,214,{"v":292744.5259690329,"d":"$292,745"},{"$f":"Analysis!$E$14","v":{"v":2558.087433613315,"d":"$2,558"}},{"$f":"C220*Analysis!$E$13/12","v":{"v":1036.8035294736583,"d":"$1,037"}},{"v":1521.283904139657,"d":"$1,521"},{"v":291223.24206489325,"d":"$291,223"}]
[null,215,{"v":291223.24206489325,"d":"$291,223"},{"$f":"Analysis!$E$14","v":{"v":2558.087433613315,"d":"$2,558"}},{"$f":"C221*Analysis!$E$13/12","v":{"v":1031.4156489798304,"d":"$1,031"}},{"v":1526.6717846334848,"d":"$1,527"},{"v":289696.57028025977,"d":"$289,697"}]
[18,216,{"v":289696.57028025977,"d":"$289,697"},{"$f":"Analysis!$E$14","v":{"v":2558.087433613315,"d":"$2,558"}},{"$f":"C222*Analysis!$E$13/12","v":{"v":1026.0086864092534,"d":"$1,026"}},{"v":1532.0787472040618,"d":"$1,532"},{"v":288164.4915330557,"d":"$288,164"}]
[null,217,{"v":288164.4915330557,"d":"$288,164"},{"$f":"Analysis!$E$14","v":{"v":2558.087433613315,"d":"$2,558"}},{"$f":"C223*Analysis!$E$13/12","v":{"v":1020.5825741795725,"d":"$1,021"}},{"v":1537.5048594337427,"d":"$1,538"},{"v":286626.986673622,"d":"$286,627"}]
[null,218,{"v":286626.986673622,"d":"$286,627"},{"$f":"Analysis!$E$14","v":{"v":2558.087433613315,"d":"$2,558"}},{"$f":"C224*Analysis!$E$13/12","v":{"v":1015.1372444690779,"d":"$1,015"}},{"v":1542.9501891442374,"d":"$1,543"},{"v":285084.03648447775,"d":"$285,084"}]
[null,219,{"v":285084.03648447775,"d":"$285,084"},{"$f":"Analysis!$E$14","v":{"v":2558.087433613315,"d":"$2,558"}},{"$f":"C225*Analysis!$E$13/12","v":{"v":1009.6726292158587,"d":"$1,010"}},{"v":1548.4148043974565,"d":"$1,548"},{"v":283535.6216800803,"d":"$283,536"}]
[null,220,{"v":283535.6216800803,"d":"$283,536"},{"$f":"Analysis!$E$14","v":{"v":2558.087433613315,"d":"$2,558"}},{"$f":"C226*Analysis!$E$13/12","v":{"v":1004.1886601169512,"d":"$1,004"}},{"v":1553.898773496364,"d":"$1,554"},{"v":281981.7229065839,"d":"$281,982"}]
[null,221,{"v":281981.7229065839,"d":"$281,982"},{"$f":"Analysis!$E$14","v":{"v":2558.087433613315,"d":"$2,558"}},{"$f":"C227*Analysis!$E$13/12","v":{"v":998.6852686274848,"d":"$999"}},{"v":1559.4021649858305,"d":"$1,559"},{"v":280422.3207415981,"d":"$280,422"}]
[null,222,{"v":280422.3207415981,"d":"$280,422"},{"$f":"Analysis!$E$14","v":{"v":2558.087433613315,"d":"$2,558"}},{"$f":"C228*Analysis!$E$13/12","v":{"v":993.1623859598267,"d":"$993"}},{"v":1564.9250476534885,"d":"$1,565"},{"v":278857.3956939446,"d":"$278,857"}]
[null,223,{"v":278857.3956939446,"d":"$278,857"},{"$f":"Analysis!$E$14","v":{"v":2558.087433613315,"d":"$2,558"}},{"$f":"C229*Analysis!$E$13/12","v":{"v":987.6199430827205,"d":"$988"}},{"v":1570.4674905305947,"d":"$1,570"},{"v":277286.928203414,"d":"$277,287"}]
[null,224,{"v":277286.928203414,"d":"$277,287"},{"$f":"Analysis!$E$14","v":{"v":2558.087433613315,"d":"$2,558"}},{"$f":"C230*Analysis!$E$13/12","v":{"v":982.0578707204248,"d":"$982"}},{"v":1576.0295628928902,"d":"$1,576"},{"v":275710.8986405211,"d":"$275,711"}]
[null,225,{"v":275710.8986405211,"d":"$275,711"},{"$f":"Analysis!$E$14","v":{"v":2558.087433613315,"d":"$2,558"}},{"$f":"C231*Analysis!$E$13/12","v":{"v":976.4760993518456,"d":"$976"}},{"v":1581.6113342614694,"d":"$1,582"},{"v":274129.2873062596,"d":"$274,129"}]
[null,226,{"v":274129.2873062596,"d":"$274,129"},{"$f":"Analysis!$E$14","v":{"v":2558.087433613315,"d":"$2,558"}},{"$f":"C232*Analysis!$E$13/12","v":{"v":970.8745592096697,"d":"$971"}},{"v":1587.2128744036454,"d":"$1,587"},{"v":272542.074431856,"d":"$272,542"}]
[null,227,{"v":272542.074431856,"d":"$272,542"},{"$f":"Analysis!$E$14","v":{"v":2558.087433613315,"d":"$2,558"}},{"$f":"C233*Analysis!$E$13/12","v":{"v":965.25318027949,"d":"$965"}},{"v":1592.834253333825,"d":"$1,593"},{"v":270949.2401785222,"d":"$270,949"}]
[19,228,{"v":270949.2401785222,"d":"$270,949"},{"$f":"Analysis!$E$14","v":{"v":2558.087433613315,"d":"$2,558"}},{"$f":"C234*Analysis!$E$13/12","v":{"v":959.6118922989327,"d":"$960"}},{"v":1598.4755413143826,"d":"$1,598"},{"v":269350.7646372078,"d":"$269,351"}]
[null,229,{"v":269350.7646372078,"d":"$269,351"},{"$f":"Analysis!$E$14","v":{"v":2558.087433613315,"d":"$2,558"}},{"$f":"C235*Analysis!$E$13/12","v":{"v":953.9506247567778,"d":"$954"}},{"v":1604.1368088565373,"d":"$1,604"},{"v":267746.6278283512,"d":"$267,747"}]
[null,230,{"v":267746.6278283512,"d":"$267,747"},{"$f":"Analysis!$E$14","v":{"v":2558.087433613315,"d":"$2,558"}},{"$f":"C236*Analysis!$E$13/12","v":{"v":948.2693068920772,"d":"$948"}},{"v":1609.818126721238,"d":"$1,610"},{"v":266136.80970163,"d":"$266,137"}]
[null,231,{"v":266136.80970163,"d":"$266,137"},{"$f":"Analysis!$E$14","v":{"v":2558.087433613315,"d":"$2,558"}},{"$f":"C237*Analysis!$E$13/12","v":{"v":942.5678676932729,"d":"$943"}},{"v":1615.5195659200422,"d":"$1,616"},{"v":264521.2901357099,"d":"$264,521"}]
[null,232,{"v":264521.2901357099,"d":"$264,521"},{"$f":"Analysis!$E$14","v":{"v":2558.087433613315,"d":"$2,558"}},{"$f":"C238*Analysis!$E$13/12","v":{"v":936.8462358973061,"d":"$937"}},{"v":1621.241197716009,"d":"$1,621"},{"v":262900.0489379939,"d":"$262,900"}]
[null,233,{"v":262900.0489379939,"d":"$262,900"},{"$f":"Analysis!$E$14","v":{"v":2558.087433613315,"d":"$2,558"}},{"$f":"C239*Analysis!$E$13/12","v":{"v":931.1043399887284,"d":"$931"}},{"v":1626.9830936245867,"d":"$1,627"},{"v":261273.0658443693,"d":"$261,273"}]
[null,234,{"v":261273.0658443693,"d":"$261,273"},{"$f":"Analysis!$E$14","v":{"v":2558.087433613315,"d":"$2,558"}},{"$f":"C240*Analysis!$E$13/12","v":{"v":925.342108198808,"d":"$925"}},{"v":1632.745325414507,"d":"$1,633"},{"v":259640.3205189548,"d":"$259,640"}]
[null,235,{"v":259640.3205189548,"d":"$259,640"},{"$f":"Analysis!$E$14","v":{"v":2558.087433613315,"d":"$2,558"}},{"$f":"C241*Analysis!$E$13/12","v":{"v":919.5594685046317,"d":"$920"}},{"v":1638.5279651086835,"d":"$1,639"},{"v":258001.7925538461,"d":"$258,002"}]
[null,236,{"v":258001.7925538461,"d":"$258,002"},{"$f":"Analysis!$E$14","v":{"v":2558.087433613315,"d":"$2,558"}},{"$f":"C242*Analysis!$E$13/12","v":{"v":913.756348628205,"d":"$914"}},{"v":1644.33108498511,"d":"$1,644"},{"v":256357.461468861,"d":"$256,357"}]
[null,237,{"v":256357.461468861,"d":"$256,357"},{"$f":"Analysis!$E$14","v":{"v":2558.087433613315,"d":"$2,558"}},{"$f":"C243*Analysis!$E$13/12","v":{"v":907.9326760355494,"d":"$908"}},{"v":1650.1547575777658,"d":"$1,650"},{"v":254707.30671128322,"d":"$254,707"}]
[null,238,{"v":254707.30671128322,"d":"$254,707"},{"$f":"Analysis!$E$14","v":{"v":2558.087433613315,"d":"$2,558"}},{"$f":"C244*Analysis!$E$13/12","v":{"v":902.0883779357947,"d":"$902"}},{"v":1655.9990556775206,"d":"$1,656"},{"v":253051.3076556057,"d":"$253,051"}]
[null,239,{"v":253051.3076556057,"d":"$253,051"},{"$f":"Analysis!$E$14","v":{"v":2558.087433613315,"d":"$2,558"}},{"$f":"C245*Analysis!$E$13/12","v":{"v":896.2233812802702,"d":"$896"}},{"v":1661.864052333045,"d":"$1,662"},{"v":251389.44360327264,"d":"$251,389"}]
[20,240,{"v":251389.44360327264,"d":"$251,389"},{"$f":"Analysis!$E$14","v":{"v":2558.087433613315,"d":"$2,558"}},{"$f":"C246*Analysis!$E$13/12","v":{"v":890.3376127615907,"d":"$890"}},{"v":1667.7498208517245,"d":"$1,668"},{"v":249721.69378242092,"d":"$249,722"}]
[null,241,{"v":249721.69378242092,"d":"$249,722"},{"$f":"Analysis!$E$14","v":{"v":2558.087433613315,"d":"$2,558"}},{"$f":"C247*Analysis!$E$13/12","v":{"v":884.4309988127408,"d":"$884"}},{"v":1673.6564348005745,"d":"$1,674"},{"v":248048.03734762035,"d":"$248,048"}]
[null,242,{"v":248048.03734762035,"d":"$248,048"},{"$f":"Analysis!$E$14","v":{"v":2558.087433613315,"d":"$2,558"}},{"$f":"C248*Analysis!$E$13/12","v":{"v":878.5034656061554,"d":"$879"}},{"v":1679.58396800716,"d":"$1,680"},{"v":246368.4533796132,"d":"$246,368"}]
[null,243,{"v":246368.4533796132,"d":"$246,368"},{"$f":"Analysis!$E$14","v":{"v":2558.087433613315,"d":"$2,558"}},{"$f":"C249*Analysis!$E$13/12","v":{"v":872.5549390527968,"d":"$873"}},{"v":1685.5324945605184,"d":"$1,686"},{"v":244682.92088505268,"d":"$244,683"}]
[null,244,{"v":244682.92088505268,"d":"$244,683"},{"$f":"Analysis!$E$14","v":{"v":2558.087433613315,"d":"$2,558"}},{"$f":"C250*Analysis!$E$13/12","v":{"v":866.5853448012282,"d":"$867"}},{"v":1691.502088812087,"d":"$1,692"},{"v":242991.41879624058,"d":"$242,991"}]
[null,245,{"v":242991.41879624058,"d":"$242,991"},{"$f":"Analysis!$E$14","v":{"v":2558.087433613315,"d":"$2,558"}},{"$f":"C251*Analysis!$E$13/12","v":{"v":860.5946082366854,"d":"$861"}},{"v":1697.4928253766298,"d":"$1,697"},{"v":241293.92597086396,"d":"$241,294"}]
[null,246,{"v":241293.92597086396,"d":"$241,294"},{"$f":"Analysis!$E$14","v":{"v":2558.087433613315,"d":"$2,558"}},{"$f":"C252*Analysis!$E$13/12","v":{"v":854.5826544801433,"d":"$855"}},{"v":1703.5047791331717,"d":"$1,704"},{"v":239590.4211917308,"d":"$239,590"}]
[null,247,{"v":239590.4211917308,"d":"$239,590"},{"$f":"Analysis!$E$14","v":{"v":2558.087433613315,"d":"$2,558"}},{"$f":"C253*Analysis!$E$13/12","v":{"v":848.54940838738,"d":"$849"}},{"v":1709.5380252259351,"d":"$1,710"},{"v":237880.88316650485,"d":"$237,881"}]
[null,248,{"v":237880.88316650485,"d":"$237,881"},{"$f":"Analysis!$E$14","v":{"v":2558.087433613315,"d":"$2,558"}},{"$f":"C254*Analysis!$E$13/12","v":{"v":842.494794548038,"d":"$842"}},{"v":1715.5926390652771,"d":"$1,716"},{"v":236165.29052743956,"d":"$236,165"}]
[null,249,{"v":236165.29052743956,"d":"$236,165"},{"$f":"Analysis!$E$14","v":{"v":2558.087433613315,"d":"$2,558"}},{"$f":"C255*Analysis!$E$13/12","v":{"v":836.4187372846818,"d":"$836"}},{"v":1721.6686963286334,"d":"$1,722"},{"v":234443.62183111094,"d":"$234,444"}]
[null,250,{"v":234443.62183111094,"d":"$234,444"},{"$f":"Analysis!$E$14","v":{"v":2558.087433613315,"d":"$2,558"}},{"$f":"C256*Analysis!$E$13/12","v":{"v":830.3211606518513,"d":"$830"}},{"v":1727.766272961464,"d":"$1,728"},{"v":232715.8555581495,"d":"$232,716"}]
[null,251,{"v":232715.8555581495,"d":"$232,716"},{"$f":"Analysis!$E$14","v":{"v":2558.087433613315,"d":"$2,558"}},{"$f":"C257*Analysis!$E$13/12","v":{"v":824.2019884351129,"d":"$824"}},{"v":1733.8854451782022,"d":"$1,734"},{"v":230981.9701129713,"d":"$230,982"}]
[21,252,{"v":230981.9701129713,"d":"$230,982"},{"$f":"Analysis!$E$14","v":{"v":2558.087433613315,"d":"$2,558"}},{"$f":"C258*Analysis!$E$13/12","v":{"v":818.0611441501068,"d":"$818"}},{"v":1740.0262894632083,"d":"$1,740"},{"v":229241.94382350807,"d":"$229,242"}]
[null,253,{"v":229241.94382350807,"d":"$229,242"},{"$f":"Analysis!$E$14","v":{"v":2558.087433613315,"d":"$2,558"}},{"$f":"C259*Analysis!$E$13/12","v":{"v":811.8985510415911,"d":"$812"}},{"v":1746.1888825717242,"d":"$1,746"},{"v":227495.75494093634,"d":"$227,496"}]
[null,254,{"v":227495.75494093634,"d":"$227,496"},{"$f":"Analysis!$E$14","v":{"v":2558.087433613315,"d":"$2,558"}},{"$f":"C260*Analysis!$E$13/12","v":{"v":805.7141320824829,"d":"$806"}},{"v":1752.3733015308321,"d":"$1,752"},{"v":225743.3816394055,"d":"$225,743"}]
[null,255,{"v":225743.3816394055,"d":"$225,743"},{"$f":"Analysis!$E$14","v":{"v":2558.087433613315,"d":"$2,558"}},{"$f":"C261*Analysis!$E$13/12","v":{"v":799.5078099728945,"d":"$800"}},{"v":1758.5796236404208,"d":"$1,759"},{"v":223984.80201576508,"d":"$223,985"}]
[null,256,{"v":223984.80201576508,"d":"$223,985"},{"$f":"Analysis!$E$14","v":{"v":2558.087433613315,"d":"$2,558"}},{"$f":"C262*Analysis!$E$13/12","v":{"v":793.279507139168,"d":"$793"}},{"v":1764.8079264741473,"d":"$1,765"},{"v":222219.99408929094,"d":"$222,220"}]
[null,257,{"v":222219.99408929094,"d":"$222,220"},{"$f":"Analysis!$E$14","v":{"v":2558.087433613315,"d":"$2,558"}},{"$f":"C263*Analysis!$E$13/12","v":{"v":787.0291457329055,"d":"$787"}},{"$f":"D263-E263","v":{"v":1771.0582878804098,"d":"$1,771"}},{"$f":"C263-F263","v":{"v":220448.93580141052,"d":"$220,449"}}]
[null,258,{"$f":"G263","v":{"v":220448.93580141052,"d":"$220,449"}},{"$f":"Analysis!$E$14","v":{"v":2558.087433613315,"d":"$2,558"}},{"$f":"C264*Analysis!$E$13/12","v":{"v":780.7566476299957,"d":"$781"}},{"v":1777.3307859833194,"d":"$1,777"},{"v":218671.6050154272,"d":"$218,672"}]
[null,259,{"v":218671.6050154272,"d":"$218,672"},{"$f":"Analysis!$E$14","v":{"v":2558.087433613315,"d":"$2,558"}},{"$f":"C265*Analysis!$E$13/12","v":{"v":774.4619344296381,"d":"$774"}},{"v":1783.6254991836772,"d":"$1,784"},{"v":216887.9795162435,"d":"$216,888"}]
[null,260,{"v":216887.9795162435,"d":"$216,888"},{"$f":"Analysis!$E$14","v":{"v":2558.087433613315,"d":"$2,558"}},{"$f":"C266*Analysis!$E$13/12","v":{"v":768.1449274533625,"d":"$768"}},{"v":1789.9425061599527,"d":"$1,790"},{"v":215098.03701008356,"d":"$215,098"}]
[null,261,{"v":215098.03701008356,"d":"$215,098"},{"$f":"Analysis!$E$14","v":{"v":2558.087433613315,"d":"$2,558"}},{"$f":"C267*Analysis!$E$13/12","v":{"v":761.8055477440461,"d":"$762"}},{"v":1796.281885869269,"d":"$1,796"},{"v":213301.75512421428,"d":"$213,302"}]
[null,262,{"v":213301.75512421428,"d":"$213,302"},{"$f":"Analysis!$E$14","v":{"v":2558.087433613315,"d":"$2,558"}},{"$f":"C268*Analysis!$E$13/12","v":{"v":755.4437160649255,"d":"$755"}},{"v":1802.6437175483898,"d":"$1,803"},{"v":211499.11140666588,"d":"$211,499"}]
[null,263,{"v":211499.11140666588,"d":"$211,499"},{"$f":"Analysis!$E$14","v":{"v":2558.087433613315,"d":"$2,558"}},{"$f":"C269*Analysis!$E$13/12","v":{"v":749.0593528986084,"d":"$749"}},{"v":1809.028080714707,"d":"$1,809"},{"v":209690.08332595116,"d":"$209,690"}]
[22,264,{"v":209690.08332595116,"d":"$209,690"},{"$f":"Analysis!$E$14","v":{"v":2558.087433613315,"d":"$2,558"}},{"$f":"C270*Analysis!$E$13/12","v":{"v":742.652378446077,"d":"$743"}},{"v":1815.4350551672383,"d":"$1,815"},{"v":207874.64827078392,"d":"$207,875"}]
[null,265,{"v":207874.64827078392,"d":"$207,875"},{"$f":"Analysis!$E$14","v":{"v":2558.087433613315,"d":"$2,558"}},{"$f":"C271*Analysis!$E$13/12","v":{"v":736.222712625693,"d":"$736"}},{"v":1821.8647209876221,"d":"$1,822"},{"v":206052.7835497963,"d":"$206,053"}]
[null,266,{"v":206052.7835497963,"d":"$206,053"},{"$f":"Analysis!$E$14","v":{"v":2558.087433613315,"d":"$2,558"}},{"$f":"C272*Analysis!$E$13/12","v":{"v":729.7702750721952,"d":"$730"}},{"v":1828.31715854112,"d":"$1,828"},{"v":204224.46639125518,"d":"$204,224"}]
[null,267,{"v":204224.46639125518,"d":"$204,224"},{"$f":"Analysis!$E$14","v":{"v":2558.087433613315,"d":"$2,558"}},{"$f":"C273*Analysis!$E$13/12","v":{"v":723.2949851356956,"d":"$723"}},{"v":1834.7924484776195,"d":"$1,835"},{"v":202389.67394277756,"d":"$202,390"}]
[null,268,{"v":202389.67394277756,"d":"$202,390"},{"$f":"Analysis!$E$14","v":{"v":2558.087433613315,"d":"$2,558"}},{"$f":"C274*Analysis!$E$13/12","v":{"v":716.7967618806706,"d":"$717"}},{"v":1841.2906717326446,"d":"$1,841"},{"v":200548.3832710449,"d":"$200,548"}]
[null,269,{"v":200548.3832710449,"d":"$200,548"},{"$f":"Analysis!$E$14","v":{"v":2558.087433613315,"d":"$2,558"}},{"$f":"C275*Analysis!$E$13/12","v":{"v":710.2755240849507,"d":"$710"}},{"v":1847.8119095283646,"d":"$1,848"},{"v":198700.57136151654,"d":"$198,701"}]
[null,270,{"v":198700.57136151654,"d":"$198,701"},{"$f":"Analysis!$E$14","v":{"v":2558.087433613315,"d":"$2,558"}},{"$f":"C276*Analysis!$E$13/12","v":{"v":703.7311902387045,"d":"$704"}},{"v":1854.3562433746106,"d":"$1,854"},{"v":196846.21511814193,"d":"$196,846"}]
[null,271,{"v":196846.21511814193,"d":"$196,846"},{"$f":"Analysis!$E$14","v":{"v":2558.087433613315,"d":"$2,558"}},{"$f":"C277*Analysis!$E$13/12","v":{"v":697.1636785434193,"d":"$697"}},{"v":1860.9237550698958,"d":"$1,861"},{"v":194985.29136307203,"d":"$194,985"}]
[null,272,{"v":194985.29136307203,"d":"$194,985"},{"$f":"Analysis!$E$14","v":{"v":2558.087433613315,"d":"$2,558"}},{"$f":"C278*Analysis!$E$13/12","v":{"v":690.5729069108802,"d":"$691"}},{"v":1867.514526702435,"d":"$1,868"},{"v":193117.7768363696,"d":"$193,118"}]
[null,273,{"v":193117.7768363696,"d":"$193,118"},{"$f":"Analysis!$E$14","v":{"v":2558.087433613315,"d":"$2,558"}},{"$f":"C279*Analysis!$E$13/12","v":{"v":683.9587929621424,"d":"$684"}},{"v":1874.1286406511726,"d":"$1,874"},{"v":191243.64819571842,"d":"$191,244"}]
[null,274,{"v":191243.64819571842,"d":"$191,244"},{"$f":"Analysis!$E$14","v":{"v":2558.087433613315,"d":"$2,558"}},{"$f":"C280*Analysis!$E$13/12","v":{"v":677.3212540265027,"d":"$677"}},{"v":1880.7661795868125,"d":"$1,881"},{"v":189362.8820161316,"d":"$189,363"}]
[null,275,{"v":189362.8820161316,"d":"$189,363"},{"$f":"Analysis!$E$14","v":{"v":2558.087433613315,"d":"$2,558"}},{"$f":"C281*Analysis!$E$13/12","v":{"v":670.6602071404661,"d":"$671"}},{"v":1887.427226472849,"d":"$1,887"},{"v":187475.45478965875,"d":"$187,475"}]
[23,276,{"v":187475.45478965875,"d":"$187,475"},{"$f":"Analysis!$E$14","v":{"v":2558.087433613315,"d":"$2,558"}},{"$f":"C282*Analysis!$E$13/12","v":{"v":663.9755690467081,"d":"$664"}},{"v":1894.111864566607,"d":"$1,894"},{"v":185581.34292509215,"d":"$185,581"}]
[null,277,{"v":185581.34292509215,"d":"$185,581"},{"$f":"Analysis!$E$14","v":{"v":2558.087433613315,"d":"$2,558"}},{"$f":"C283*Analysis!$E$13/12","v":{"v":657.2672561930348,"d":"$657"}},{"v":1900.8201774202803,"d":"$1,901"},{"v":183680.52274767187,"d":"$183,681"}]
[null,278,{"v":183680.52274767187,"d":"$183,681"},{"$f":"Analysis!$E$14","v":{"v":2558.087433613315,"d":"$2,558"}},{"$f":"C284*Analysis!$E$13/12","v":{"v":650.535184731338,"d":"$651"}},{"v":1907.5522488819772,"d":"$1,908"},{"v":181772.9704987899,"d":"$181,773"}]
[null,279,{"v":181772.9704987899,"d":"$181,773"},{"$f":"Analysis!$E$14","v":{"v":2558.087433613315,"d":"$2,558"}},{"$f":"C285*Analysis!$E$13/12","v":{"v":643.7792705165476,"d":"$644"}},{"v":1914.3081630967677,"d":"$1,914"},{"v":179858.6623356931,"d":"$179,859"}]
[null,280,{"v":179858.6623356931,"d":"$179,859"},{"$f":"Analysis!$E$14","v":{"v":2558.087433613315,"d":"$2,558"}},{"$f":"C286*Analysis!$E$13/12","v":{"v":636.9994291055798,"d":"$637"}},{"v":1921.0880045077354,"d":"$1,921"},{"v":177937.57433118537,"d":"$177,938"}]
[null,281,{"v":177937.57433118537,"d":"$177,938"},{"$f":"Analysis!$E$14","v":{"v":2558.087433613315,"d":"$2,558"}},{"$f":"C287*Analysis!$E$13/12","v":{"v":630.1955757562815,"d":"$630"}},{"v":1927.8918578570338,"d":"$1,928"},{"v":176009.68247332834,"d":"$176,010"}]
[null,282,{"v":176009.68247332834,"d":"$176,010"},{"$f":"Analysis!$E$14","v":{"v":2558.087433613315,"d":"$2,558"}},{"$f":"C288*Analysis!$E$13/12","v":{"v":623.3676254263713,"d":"$623"}},{"v":1934.7198081869437,"d":"$1,935"},{"v":174074.9626651414,"d":"$174,075"}]
[null,283,{"v":174074.9626651414,"d":"$174,075"},{"$f":"Analysis!$E$14","v":{"v":2558.087433613315,"d":"$2,558"}},{"$f":"C289*Analysis!$E$13/12","v":{"v":616.5154927723758,"d":"$617"}},{"v":1941.5719408409395,"d":"$1,942"},{"v":172133.39072430044,"d":"$172,133"}]
[null,284,{"v":172133.39072430044,"d":"$172,133"},{"$f":"Analysis!$E$14","v":{"v":2558.087433613315,"d":"$2,558"}},{"$f":"C290*Analysis!$E$13/12","v":{"v":609.6390921485641,"d":"$610"}},{"v":1948.4483414647511,"d":"$1,948"},{"v":170184.9423828357,"d":"$170,185"}]
[null,285,{"v":170184.9423828357,"d":"$170,185"},{"$f":"Analysis!$E$14","v":{"v":2558.087433613315,"d":"$2,558"}},{"$f":"C291*Analysis!$E$13/12","v":{"v":602.7383376058765,"d":"$603"}},{"v":1955.3490960074387,"d":"$1,955"},{"v":168229.59328682825,"d":"$168,230"}]
[null,286,{"v":168229.59328682825,"d":"$168,230"},{"$f":"Analysis!$E$14","v":{"v":2558.087433613315,"d":"$2,558"}},{"$f":"C292*Analysis!$E$13/12","v":{"v":595.8131428908501,"d":"$596"}},{"v":1962.2742907224651,"d":"$1,962"},{"v":166267.31899610578,"d":"$166,267"}]
[null,287,{"v":166267.31899610578,"d":"$166,267"},{"$f":"Analysis!$E$14","v":{"v":2558.087433613315,"d":"$2,558"}},{"$f":"C293*Analysis!$E$13/12","v":{"v":588.8634214445414,"d":"$589"}},{"v":1969.2240121687737,"d":"$1,969"},{"v":164298.09498393702,"d":"$164,298"}]
[24,288,{"v":164298.09498393702,"d":"$164,298"},{"$f":"Analysis!$E$14","v":{"v":2558.087433613315,"d":"$2,558"}},{"$f":"C294*Analysis!$E$13/12","v":{"v":581.8890864014437,"d":"$582"}},{"v":1976.1983472118714,"d":"$1,976"},{"v":162321.89663672514,"d":"$162,322"}]
[null,289,{"v":162321.89663672514,"d":"$162,322"},{"$f":"Analysis!$E$14","v":{"v":2558.087433613315,"d":"$2,558"}},{"$f":"C295*Analysis!$E$13/12","v":{"v":574.8900505884016,"d":"$575"}},{"v":1983.1973830249135,"d":"$1,983"},{"v":160338.69925370024,"d":"$160,339"}]
[null,290,{"v":160338.69925370024,"d":"$160,339"},{"$f":"Analysis!$E$14","v":{"v":2558.087433613315,"d":"$2,558"}},{"$f":"C296*Analysis!$E$13/12","v":{"v":567.8662265235217,"d":"$568"}},{"v":1990.2212070897936,"d":"$1,990"},{"v":158348.47804661046,"d":"$158,348"}]
[null,291,{"v":158348.47804661046,"d":"$158,348"},{"$f":"Analysis!$E$14","v":{"v":2558.087433613315,"d":"$2,558"}},{"$f":"C297*Analysis!$E$13/12","v":{"v":560.8175264150788,"d":"$561"}},{"v":1997.2699071982365,"d":"$1,997"},{"v":156351.20813941222,"d":"$156,351"}]
[null,292,{"v":156351.20813941222,"d":"$156,351"},{"$f":"Analysis!$E$14","v":{"v":2558.087433613315,"d":"$2,558"}},{"$f":"C298*Analysis!$E$13/12","v":{"v":553.7438621604183,"d":"$554"}},{"v":2004.3435714528969,"d":"$2,004"},{"v":154346.86456795933,"d":"$154,347"}]
[null,293,{"v":154346.86456795933,"d":"$154,347"},{"$f":"Analysis!$E$14","v":{"v":2558.087433613315,"d":"$2,558"}},{"$f":"C299*Analysis!$E$13/12","v":{"v":546.645145344856,"d":"$547"}},{"v":2011.4422882684592,"d":"$2,011"},{"v":152335.4222796909,"d":"$152,335"}]
[null,294,{"v":152335.4222796909,"d":"$152,335"},{"$f":"Analysis!$E$14","v":{"v":2558.087433613315,"d":"$2,558"}},{"$f":"C300*Analysis!$E$13/12","v":{"v":539.521287240572,"d":"$540"}},{"v":2018.5661463727433,"d":"$2,019"},{"v":150316.85613331816,"d":"$150,317"}]
[null,295,{"v":150316.85613331816,"d":"$150,317"},{"$f":"Analysis!$E$14","v":{"v":2558.087433613315,"d":"$2,558"}},{"$f":"C301*Analysis!$E$13/12","v":{"v":532.3721988055019,"d":"$532"}},{"v":2025.7152348078134,"d":"$2,026"},{"v":148291.14089851035,"d":"$148,291"}]
[null,296,{"v":148291.14089851035,"d":"$148,291"},{"$f":"Analysis!$E$14","v":{"v":2558.087433613315,"d":"$2,558"}},{"$f":"C302*Analysis!$E$13/12","v":{"v":525.1977906822242,"d":"$525"}},{"v":2032.889642931091,"d":"$2,033"},{"v":146258.25125557926,"d":"$146,258"}]
[null,297,{"v":146258.25125557926,"d":"$146,258"},{"$f":"Analysis!$E$14","v":{"v":2558.087433613315,"d":"$2,558"}},{"$f":"C303*Analysis!$E$13/12","v":{"v":517.9979731968432,"d":"$518"}},{"v":2040.0894604164719,"d":"$2,040"},{"v":144218.1617951628,"d":"$144,218"}]
[null,298,{"v":144218.1617951628,"d":"$144,218"},{"$f":"Analysis!$E$14","v":{"v":2558.087433613315,"d":"$2,558"}},{"$f":"C304*Analysis!$E$13/12","v":{"v":510.7726563578683,"d":"$511"}},{"v":2047.3147772554469,"d":"$2,047"},{"v":142170.84701790736,"d":"$142,171"}]
[null,299,{"v":142170.84701790736,"d":"$142,171"},{"$f":"Analysis!$E$14","v":{"v":2558.087433613315,"d":"$2,558"}},{"$f":"C305*Analysis!$E$13/12","v":{"v":503.52174985508856,"d":"$504"}},{"v":2054.5656837582264,"d":"$2,055"},{"v":140116.28133414913,"d":"$140,116"}]
[25,300,{"v":140116.28133414913,"d":"$140,116"},{"$f":"Analysis!$E$14","v":{"v":2558.087433613315,"d":"$2,558"}},{"$f":"C306*Analysis!$E$13/12","v":{"v":496.24516305844486,"d":"$496"}},{"v":2061.84227055487,"d":"$2,062"},{"v":138054.43906359427,"d":"$138,054"}]
[null,301,{"v":138054.43906359427,"d":"$138,054"},{"$f":"Analysis!$E$14","v":{"v":2558.087433613315,"d":"$2,558"}},{"$f":"C307*Analysis!$E$13/12","v":{"v":488.94280501689644,"d":"$489"}},{"v":2069.144628596419,"d":"$2,069"},{"v":135985.29443499786,"d":"$135,985"}]
[null,302,{"v":135985.29443499786,"d":"$135,985"},{"$f":"Analysis!$E$14","v":{"v":2558.087433613315,"d":"$2,558"}},{"$f":"C308*Analysis!$E$13/12","v":{"v":481.61458445728414,"d":"$482"}},{"v":2076.472849156031,"d":"$2,076"},{"v":133908.82158584183,"d":"$133,909"}]
[null,303,{"v":133908.82158584183,"d":"$133,909"},{"$f":"Analysis!$E$14","v":{"v":2558.087433613315,"d":"$2,558"}},{"$f":"C309*Analysis!$E$13/12","v":{"v":474.2604097831898,"d":"$474"}},{"v":2083.827023830125,"d":"$2,084"},{"v":131824.9945620117,"d":"$131,825"}]
[null,304,{"v":131824.9945620117,"d":"$131,825"},{"$f":"Analysis!$E$14","v":{"v":2558.087433613315,"d":"$2,558"}},{"$f":"C310*Analysis!$E$13/12","v":{"v":466.88018907379154,"d":"$467"}},{"v":2091.207244539524,"d":"$2,091"},{"v":129733.78731747219,"d":"$129,734"}]
[null,305,{"v":129733.78731747219,"d":"$129,734"},{"$f":"Analysis!$E$14","v":{"v":2558.087433613315,"d":"$2,558"}},{"$f":"C311*Analysis!$E$13/12","v":{"v":459.4738300827141,"d":"$459"}},{"v":2098.6136035306013,"d":"$2,099"},{"v":127635.17371394159,"d":"$127,635"}]
[null,306,{"v":127635.17371394159,"d":"$127,635"},{"$f":"Analysis!$E$14","v":{"v":2558.087433613315,"d":"$2,558"}},{"$f":"C312*Analysis!$E$13/12","v":{"v":452.0412402368765,"d":"$452"}},{"v":2106.0461933764386,"d":"$2,106"},{"v":125529.12752056515,"d":"$125,529"}]
[null,307,{"v":125529.12752056515,"d":"$125,529"},{"$f":"Analysis!$E$14","v":{"v":2558.087433613315,"d":"$2,558"}},{"$f":"C313*Analysis!$E$13/12","v":{"v":444.58232663533494,"d":"$445"}},{"v":2113.50510697798,"d":"$2,114"},{"v":123415.62241358717,"d":"$123,416"}]
[null,308,{"v":123415.62241358717,"d":"$123,416"},{"$f":"Analysis!$E$14","v":{"v":2558.087433613315,"d":"$2,558"}},{"$f":"C314*Analysis!$E$13/12","v":{"v":437.0969960481213,"d":"$437"}},{"v":2120.990437565194,"d":"$2,121"},{"v":121294.63197602198,"d":"$121,295"}]
[null,309,{"v":121294.63197602198,"d":"$121,295"},{"$f":"Analysis!$E$14","v":{"v":2558.087433613315,"d":"$2,558"}},{"$f":"C315*Analysis!$E$13/12","v":{"v":429.5851549150779,"d":"$430"}},{"v":2128.502278698237,"d":"$2,129"},{"v":119166.12969732375,"d":"$119,166"}]
[null,310,{"v":119166.12969732375,"d":"$119,166"},{"$f":"Analysis!$E$14","v":{"v":2558.087433613315,"d":"$2,558"}},{"$f":"C316*Analysis!$E$13/12","v":{"v":422.0467093446883,"d":"$422"}},{"v":2136.040724268627,"d":"$2,136"},{"v":117030.08897305513,"d":"$117,030"}]
[null,311,{"v":117030.08897305513,"d":"$117,030"},{"$f":"Analysis!$E$14","v":{"v":2558.087433613315,"d":"$2,558"}},{"$f":"C317*Analysis!$E$13/12","v":{"v":414.4815651129036,"d":"$414"}},{"v":2143.605868500412,"d":"$2,144"},{"v":114886.48310455472,"d":"$114,886"}]
[26,312,{"v":114886.48310455472,"d":"$114,886"},{"$f":"Analysis!$E$14","v":{"v":2558.087433613315,"d":"$2,558"}},{"$f":"C318*Analysis!$E$13/12","v":{"v":406.88962766196465,"d":"$407"}},{"v":2151.1978059513503,"d":"$2,151"},{"v":112735.28529860337,"d":"$112,735"}]
[null,313,{"v":112735.28529860337,"d":"$112,735"},{"$f":"Analysis!$E$14","v":{"v":2558.087433613315,"d":"$2,558"}},{"$f":"C319*Analysis!$E$13/12","v":{"v":399.27080209922025,"d":"$399"}},{"v":2158.8166315140948,"d":"$2,159"},{"v":110576.46866708927,"d":"$110,576"}]
[null,314,{"v":110576.46866708927,"d":"$110,576"},{"$f":"Analysis!$E$14","v":{"v":2558.087433613315,"d":"$2,558"}},{"$f":"C320*Analysis!$E$13/12","v":{"v":391.6249931959412,"d":"$392"}},{"v":2166.4624404173737,"d":"$2,166"},{"v":108410.00622667189,"d":"$108,410"}]
[null,315,{"v":108410.00622667189,"d":"$108,410"},{"$f":"Analysis!$E$14","v":{"v":2558.087433613315,"d":"$2,558"}},{"$f":"C321*Analysis!$E$13/12","v":{"v":383.95210538612963,"d":"$384"}},{"v":2174.1353282271857,"d":"$2,174"},{"v":106235.8708984447,"d":"$106,236"}]
[null,316,{"v":106235.8708984447,"d":"$106,236"},{"$f":"Analysis!$E$14","v":{"v":2558.087433613315,"d":"$2,558"}},{"$f":"C322*Analysis!$E$13/12","v":{"v":376.25204276532503,"d":"$376"}},{"v":2181.8353908479903,"d":"$2,182"},{"v":104054.03550759671,"d":"$104,054"}]
[null,317,{"v":104054.03550759671,"d":"$104,054"},{"$f":"Analysis!$E$14","v":{"v":2558.087433613315,"d":"$2,558"}},{"$f":"C323*Analysis!$E$13/12","v":{"v":368.524709089405,"d":"$369"}},{"v":2189.56272452391,"d":"$2,190"},{"v":101864.4727830728,"d":"$101,864"}]
[null,318,{"v":101864.4727830728,"d":"$101,864"},{"$f":"Analysis!$E$14","v":{"v":2558.087433613315,"d":"$2,558"}},{"$f":"C324*Analysis!$E$13/12","v":{"v":360.7700077733828,"d":"$361"}},{"v":2197.317425839932,"d":"$2,197"},{"v":99667.15535723286,"d":"$99,667"}]
[null,319,{"v":99667.15535723286,"d":"$99,667"},{"$f":"Analysis!$E$14","v":{"v":2558.087433613315,"d":"$2,558"}},{"$f":"C325*Analysis!$E$13/12","v":{"v":352.9878418901997,"d":"$353"}},{"v":2205.0995917231153,"d":"$2,205"},{"v":97462.05576550974,"d":"$97,462"}]
[null,320,{"v":97462.05576550974,"d":"$97,462"},{"$f":"Analysis!$E$14","v":{"v":2558.087433613315,"d":"$2,558"}},{"$f":"C326*Analysis!$E$13/12","v":{"v":345.17811416951366,"d":"$345"}},{"v":2212.9093194438015,"d":"$2,213"},{"v":95249.14644606593,"d":"$95,249"}]
[null,321,{"v":95249.14644606593,"d":"$95,249"},{"$f":"Analysis!$E$14","v":{"v":2558.087433613315,"d":"$2,558"}},{"$f":"C327*Analysis!$E$13/12","v":{"v":337.3407269964835,"d":"$337"}},{"$f":"D327-E327","v":{"v":2220.7467066168315,"d":"$2,221"}},{"$f":"C327-F327","v":{"v":93028.3997394491,"d":"$93,028"}}]
[null,322,{"$f":"G327","v":{"v":93028.3997394491,"d":"$93,028"}},{"$f":"Analysis!$E$14","v":{"v":2558.087433613315,"d":"$2,558"}},{"$f":"C328*Analysis!$E$13/12","v":{"v":329.47558241054895,"d":"$329"}},{"v":2228.611851202766,"d":"$2,229"},{"v":90799.78788824634,"d":"$90,800"}]
[null,323,{"v":90799.78788824634,"d":"$90,800"},{"$f":"Analysis!$E$14","v":{"v":2558.087433613315,"d":"$2,558"}},{"$f":"C329*Analysis!$E$13/12","v":{"v":321.5825821042058,"d":"$322"}},{"v":2236.5048515091094,"d":"$2,237"},{"v":88563.28303673724,"d":"$88,563"}]
[27,324,{"v":88563.28303673724,"d":"$88,563"},{"$f":"Analysis!$E$14","v":{"v":2558.087433613315,"d":"$2,558"}},{"$f":"C330*Analysis!$E$13/12","v":{"v":313.6616274217777,"d":"$314"}},{"v":2244.4258061915375,"d":"$2,244"},{"v":86318.8572305457,"d":"$86,319"}]
[null,325,{"v":86318.8572305457,"d":"$86,319"},{"$f":"Analysis!$E$14","v":{"v":2558.087433613315,"d":"$2,558"}},{"$f":"C331*Analysis!$E$13/12","v":{"v":305.71261935818274,"d":"$306"}},{"v":2252.3748142551326,"d":"$2,252"},{"v":84066.48241629057,"d":"$84,066"}]
[null,326,{"v":84066.48241629057,"d":"$84,066"},{"$f":"Analysis!$E$14","v":{"v":2558.087433613315,"d":"$2,558"}},{"$f":"C332*Analysis!$E$13/12","v":{"v":297.7354585576958,"d":"$298"}},{"v":2260.3519750556193,"d":"$2,260"},{"v":81806.13044123496,"d":"$81,806"}]
[null,327,{"v":81806.13044123496,"d":"$81,806"},{"$f":"Analysis!$E$14","v":{"v":2558.087433613315,"d":"$2,558"}},{"$f":"C333*Analysis!$E$13/12","v":{"v":289.73004531270715,"d":"$290"}},{"v":2268.357388300608,"d":"$2,268"},{"v":79537.77305293435,"d":"$79,538"}]
[null,328,{"v":79537.77305293435,"d":"$79,538"},{"$f":"Analysis!$E$14","v":{"v":2558.087433613315,"d":"$2,558"}},{"$f":"C334*Analysis!$E$13/12","v":{"v":281.69627956247587,"d":"$282"}},{"v":2276.3911540508393,"d":"$2,276"},{"v":77261.38189888351,"d":"$77,261"}]
[null,329,{"v":77261.38189888351,"d":"$77,261"},{"$f":"Analysis!$E$14","v":{"v":2558.087433613315,"d":"$2,558"}},{"$f":"C335*Analysis!$E$13/12","v":{"v":273.63406089187913,"d":"$274"}},{"v":2284.453372721436,"d":"$2,284"},{"v":74976.92852616208,"d":"$74,977"}]
[null,330,{"v":74976.92852616208,"d":"$74,977"},{"$f":"Analysis!$E$14","v":{"v":2558.087433613315,"d":"$2,558"}},{"$f":"C336*Analysis!$E$13/12","v":{"v":265.5432885301574,"d":"$266"}},{"v":2292.5441450831577,"d":"$2,293"},{"v":72684.38438107893,"d":"$72,684"}]
[null,331,{"v":72684.38438107893,"d":"$72,684"},{"$f":"Analysis!$E$14","v":{"v":2558.087433613315,"d":"$2,558"}},{"$f":"C337*Analysis!$E$13/12","v":{"v":257.42386134965454,"d":"$257"}},{"v":2300.6635722636606,"d":"$2,301"},{"v":70383.72080881527,"d":"$70,384"}]
[null,332,{"v":70383.72080881527,"d":"$70,384"},{"$f":"Analysis!$E$14","v":{"v":2558.087433613315,"d":"$2,558"}},{"$f":"C338*Analysis!$E$13/12","v":{"v":249.27567786455407,"d":"$249"}},{"v":2308.8117557487612,"d":"$2,309"},{"v":68074.90905306651,"d":"$68,075"}]
[null,333,{"v":68074.90905306651,"d":"$68,075"},{"$f":"Analysis!$E$14","v":{"v":2558.087433613315,"d":"$2,558"}},{"$f":"C339*Analysis!$E$13/12","v":{"v":241.0986362296106,"d":"$241"}},{"v":2316.9887973837044,"d":"$2,317"},{"v":65757.92025568281,"d":"$65,758"}]
[null,334,{"v":65757.92025568281,"d":"$65,758"},{"$f":"Analysis!$E$14","v":{"v":2558.087433613315,"d":"$2,558"}},{"$f":"C340*Analysis!$E$13/12","v":{"v":232.89263423887664,"d":"$233"}},{"v":2325.1947993744384,"d":"$2,325"},{"v":63432.72545630837,"d":"$63,433"}]
[null,335,{"v":63432.72545630837,"d":"$63,433"},{"$f":"Analysis!$E$14","v":{"v":2558.087433613315,"d":"$2,558"}},{"$f":"C341*Analysis!$E$13/12","v":{"v":224.65756932442548,"d":"$225"}},{"v":2333.42986428889,"d":"$2,333"},{"v":61099.29559201948,"d":"$61,099"}]
[28,336,{"v":61099.29559201948,"d":"$61,099"},{"$f":"Analysis!$E$14","v":{"v":2558.087433613315,"d":"$2,558"}},{"$f":"C342*Analysis!$E$13/12","v":{"v":216.39333855506902,"d":"$216"}},{"v":2341.694095058246,"d":"$2,342"},{"v":58757.60149696124,"d":"$58,758"}]
[null,337,{"v":58757.60149696124,"d":"$58,758"},{"$f":"Analysis!$E$14","v":{"v":2558.087433613315,"d":"$2,558"}},{"$f":"C343*Analysis!$E$13/12","v":{"v":208.09983863507105,"d":"$208"}},{"v":2349.987594978244,"d":"$2,350"},{"v":56407.61390198299,"d":"$56,408"}]
[null,338,{"v":56407.61390198299,"d":"$56,408"},{"$f":"Analysis!$E$14","v":{"v":2558.087433613315,"d":"$2,558"}},{"$f":"C344*Analysis!$E$13/12","v":{"v":199.77696590285643,"d":"$200"}},{"v":2358.310467710459,"d":"$2,358"},{"v":54049.30343427254,"d":"$54,049"}]
[null,339,{"v":54049.30343427254,"d":"$54,049"},{"$f":"Analysis!$E$14","v":{"v":2558.087433613315,"d":"$2,558"}},{"$f":"C345*Analysis!$E$13/12","v":{"v":191.42461632971526,"d":"$191"}},{"v":2366.6628172836,"d":"$2,367"},{"v":51682.64061698894,"d":"$51,683"}]
[null,340,{"v":51682.64061698894,"d":"$51,683"},{"$f":"Analysis!$E$14","v":{"v":2558.087433613315,"d":"$2,558"}},{"$f":"C346*Analysis!$E$13/12","v":{"v":183.0426855185025,"d":"$183"}},{"v":2375.044748094813,"d":"$2,375"},{"v":49307.595868894125,"d":"$49,308"}]
[null,341,{"v":49307.595868894125,"d":"$49,308"},{"$f":"Analysis!$E$14","v":{"v":2558.087433613315,"d":"$2,558"}},{"$f":"C347*Analysis!$E$13/12","v":{"v":174.63106870233335,"d":"$175"}},{"v":2383.456364910982,"d":"$2,383"},{"v":46924.13950398314,"d":"$46,924"}]
[null,342,{"v":46924.13950398314,"d":"$46,924"},{"$f":"Analysis!$E$14","v":{"v":2558.087433613315,"d":"$2,558"}},{"$f":"C348*Analysis!$E$13/12","v":{"v":166.18966074327363,"d":"$166"}},{"v":2391.8977728700415,"d":"$2,392"},{"v":44532.2417311131,"d":"$44,532"}]
[null,343,{"v":44532.2417311131,"d":"$44,532"},{"$f":"Analysis!$E$14","v":{"v":2558.087433613315,"d":"$2,558"}},{"$f":"C349*Analysis!$E$13/12","v":{"v":157.71835613102556,"d":"$158"}},{"v":2400.3690774822894,"d":"$2,400"},{"v":42131.87265363081,"d":"$42,132"}]
[null,344,{"v":42131.87265363081,"d":"$42,132"},{"$f":"Analysis!$E$14","v":{"v":2558.087433613315,"d":"$2,558"}},{"$f":"C350*Analysis!$E$13/12","v":{"v":149.2170489816091,"d":"$149"}},{"v":2408.870384631706,"d":"$2,409"},{"v":39723.0022689991,"d":"$39,723"}]
[null,345,{"v":39723.0022689991,"d":"$39,723"},{"$f":"Analysis!$E$14","v":{"v":2558.087433613315,"d":"$2,558"}},{"$f":"C351*Analysis!$E$13/12","v":{"v":140.6856330360385,"d":"$141"}},{"v":2417.401800577277,"d":"$2,417"},{"v":37305.60046842183,"d":"$37,306"}]
[null,346,{"v":37305.60046842183,"d":"$37,306"},{"$f":"Analysis!$E$14","v":{"v":2558.087433613315,"d":"$2,558"}},{"$f":"C352*Analysis!$E$13/12","v":{"v":132.124001658994,"d":"$132"}},{"v":2425.963431954321,"d":"$2,426"},{"v":34879.63703646751,"d":"$34,880"}]
[null,347,{"v":34879.63703646751,"d":"$34,880"},{"$f":"Analysis!$E$14","v":{"v":2558.087433613315,"d":"$2,558"}},{"$f":"C353*Analysis!$E$13/12","v":{"v":123.53204783748912,"d":"$124"}},{"v":2434.555385775826,"d":"$2,435"},{"v":32445.08165069168,"d":"$32,445"}]
[29,348,{"v":32445.08165069168,"d":"$32,445"},{"$f":"Analysis!$E$14","v":{"v":2558.087433613315,"d":"$2,558"}},{"$f":"C354*Analysis!$E$13/12","v":{"v":114.90966417953304,"d":"$115"}},{"v":2443.177769433782,"d":"$2,443"},{"v":30001.9038812579,"d":"$30,002"}]
[null,349,{"v":30001.9038812579,"d":"$30,002"},{"$f":"Analysis!$E$14","v":{"v":2558.087433613315,"d":"$2,558"}},{"$f":"C355*Analysis!$E$13/12","v":{"v":106.2567429127884,"d":"$106"}},{"v":2451.8306907005267,"d":"$2,452"},{"v":27550.07319055737,"d":"$27,550"}]
[null,350,{"v":27550.07319055737,"d":"$27,550"},{"$f":"Analysis!$E$14","v":{"v":2558.087433613315,"d":"$2,558"}},{"$f":"C356*Analysis!$E$13/12","v":{"v":97.57317588322404,"d":"$98"}},{"v":2460.5142577300912,"d":"$2,461"},{"v":25089.55893282728,"d":"$25,090"}]
[null,351,{"v":25089.55893282728,"d":"$25,090"},{"$f":"Analysis!$E$14","v":{"v":2558.087433613315,"d":"$2,558"}},{"$f":"C357*Analysis!$E$13/12","v":{"v":88.8588545537633,"d":"$89"}},{"v":2469.228579059552,"d":"$2,469"},{"v":22620.330353767728,"d":"$22,620"}]
[null,352,{"v":22620.330353767728,"d":"$22,620"},{"$f":"Analysis!$E$14","v":{"v":2558.087433613315,"d":"$2,558"}},{"$f":"C358*Analysis!$E$13/12","v":{"v":80.11367000292738,"d":"$80"}},{"v":2477.973763610388,"d":"$2,478"},{"v":20142.35659015734,"d":"$20,142"}]
[null,353,{"v":20142.35659015734,"d":"$20,142"},{"$f":"Analysis!$E$14","v":{"v":2558.087433613315,"d":"$2,558"}},{"$f":"C359*Analysis!$E$13/12","v":{"v":71.33751292347391,"d":"$71"}},{"v":2486.7499206898415,"d":"$2,487"},{"v":17655.606669467496,"d":"$17,656"}]
[null,354,{"v":17655.606669467496,"d":"$17,656"},{"$f":"Analysis!$E$14","v":{"v":2558.087433613315,"d":"$2,558"}},{"$f":"C360*Analysis!$E$13/12","v":{"v":62.530273621030716,"d":"$63"}},{"v":2495.5571599922846,"d":"$2,496"},{"v":15160.049509475211,"d":"$15,160"}]
[null,355,{"v":15160.049509475211,"d":"$15,160"},{"$f":"Analysis!$E$14","v":{"v":2558.087433613315,"d":"$2,558"}},{"$f":"C361*Analysis!$E$13/12","v":{"v":53.69184201272471,"d":"$54"}},{"v":2504.3955916005903,"d":"$2,504"},{"v":12655.65391787462,"d":"$12,656"}]
[null,356,{"v":12655.65391787462,"d":"$12,656"},{"$f":"Analysis!$E$14","v":{"v":2558.087433613315,"d":"$2,558"}},{"$f":"C362*Analysis!$E$13/12","v":{"v":44.822107625805955,"d":"$45"}},{"v":2513.265325987509,"d":"$2,513"},{"v":10142.388591887111,"d":"$10,142"}]
[null,357,{"v":10142.388591887111,"d":"$10,142"},{"$f":"Analysis!$E$14","v":{"v":2558.087433613315,"d":"$2,558"}},{"$f":"C363*Analysis!$E$13/12","v":{"v":35.920959596266854,"d":"$36"}},{"v":2522.166474017048,"d":"$2,522"},{"v":7620.222117870063,"d":"$7,620"}]
[null,358,{"v":7620.222117870063,"d":"$7,620"},{"$f":"Analysis!$E$14","v":{"v":2558.087433613315,"d":"$2,558"}},{"$f":"C364*Analysis!$E$13/12","v":{"v":26.988286667456475,"d":"$27"}},{"v":2531.0991469458586,"d":"$2,531"},{"v":5089.122970924204,"d":"$5,089"}]
[null,359,{"v":5089.122970924204,"d":"$5,089"},{"$f":"Analysis!$E$14","v":{"v":2558.087433613315,"d":"$2,558"}},{"$f":"C365*Analysis!$E$13/12","v":{"v":18.02397718868989,"d":"$18"}},{"v":2540.063456424625,"d":"$2,540"},{"v":2549.059514499579,"d":"$2,549"}]
[30,360,{"v":2549.059514499579,"d":"$2,549"},{"$f":"Analysis!$E$14","v":{"v":2558.087433613315,"d":"$2,558"}},{"$f":"C366*Analysis!$E$13/12","v":{"v":9.027919113852677,"d":"$9"}},{"v":2549.0595144994627,"d":"$2,549"},{"v":1.1641532182693481E-10,"d":"$0"}]

{"sheet":"Sheet1","index":3,"n_rows":0,"n_cols":0,"rows_kept":0}