Workbook
Name \0: CASHFLOW!$B$267
Name \c: CASHFLOW!#REF!
Name \m: CASHFLOW!$A$270
Name \x: CASHFLOW!$B$268
Name \z: CASHFLOW!#REF!
Name _1: CASHFLOW!$L$9
Name _2: CASHFLOW!$L$10
Name _3: CASHFLOW!$L$11
Name _4: CASHFLOW!$L$14
Name CL: CASHFLOW!$H$14
Name COMPANY: CASHFLOW!$B$276
Name EXPENSE: CASHFLOW!$B$294
Name FINANCIAL: CASHFLOW!$B$305
Name INVENTORY: CASHFLOW!$B$298
Name LOAN: CASHFLOW!$B$283
Name MENU: CASHFLOW!$B$271
Name PER: CASHFLOW!$Q$20:$S$215
Name PERCENT: CASHFLOW!$B$288
Name PRINT_1: CASHFLOW!$B$20:$P$133
Name PRINT_2: CASHFLOW!$A$22:$P$137
Name Print_Area_MI: CASHFLOW!$A$8:$S$265

Sheet Checklist
A7: Business
A8: Contact Person
A9: Address
A10: City, State, Zip
A11: Telephone
A12: Type of Business
B14: 1. | C14: Business Plan
C15: a. | D15: Description of Business
C16: b. | D16: Marketing Plan
C17: c. | D17: Operations Plan
C18: d. | D18: Organization and Management Plan
B20: 2. | C20: Financial Statements
C21: a. | D21: Year-to-date (current within 90 days) business financial statements including income statement
D22: and balance sheet
C23: b. | D23: Business financial statements or business tax returns for the last 2 years
C24: c. | D24: Schedule of existing debt
C25: d. | D25: Aging of accounts payable/accounts receivable
B27: 3. | C27: Summary of Project Costs
C28: a. | D28: Sources and uses of funds
C29: b. | D29: Bids and estimates for project - Include purchase agreement, sworn construction statement, etc.
B31: 4. | C31: Collateral
C32: a. | D32: Collateral Analysis
C33: b. | D33: Detailed listing of all existing assets
C34: c. | D34: Appraisals if available
B36: 5. | C36: Projections
C37: a. | D37: Cashflow and earnings projection for 2 years
C38: b. | D38: Assumptions used in cashflow projections
B40: 6. | C40: Copy of all legal documents, such as lease, partnership agreement, appraisals, articles of
C41: incorporation, etc.
B43: 7. | C43: Personal financial statements of owners, officers, and any partner with 20% or more ownership
C44: and Credit Report if available
B46: 8. | C46: Brief resume of management, owners, and officers
B48: 9. | C48: Personal tax returns for last 2 years

Sheet Sources and uses
D3: Client Name
A6: Uses of Funds:
A8: 1. | B8: Land Cost | K8: 0
A9: 2. | B9: Buiding Cost | K9: 0
A10: 3. | B10: Equipment | K10: 0
A11: 4. | B11: Improvements | K11: 0
A12: 5. | B12: Inventory | K12: 0
A13: 6. | B13: Bank Closing Costs | K13: 0
A14: 7. | B14: Other | K14: 0
A15: 8. | B15: Other | K15: 0
A16: 9. | B16: Other | K16: 0
A17: 10. | B17: Other | K17: 0
A18: 11. | B18: Cash as Working Capital | K18: 0
F20: Total Uses of Funds | K20: =SUM(K8:K18) -> 0
A23: Equity Sources: | F23: Sources of Funds:
A24: Cash | D24: =+K28 -> 0 | F24: Bank | K24: =+$K$20*L24 -> 0
F25: Gap | K25: =+$K$20*L25 -> 0
F26: Other | K26: =+$K$20*L26 -> 0
F27: Other | K27: =+$K$20*L27 -> 0
F28: Equity | K28: =+$K$20*L28 -> 0
A30: Total Equity Sources | D30: =SUM(D24:D28) -> 0 | F30: Total Sources of Funds | K30: =SUM(K24:K28) -> 0

Sheet Collateral
A7: Business Name:
A8: Date:
C10: Fair Market | E10: Bank | F10: Bank Loan
A11: Asset Item: | C11: Value | E11: Collateral % | F11: Amount
A13: Accounts Receivable | C13: 0 | E13: 0.6 | F13: =+C13*E13 -> 0
A15: Land & Building | C15: 0 | E15: 0.8 | F15: =+C15*E15 -> 0
A17: Existing Equipment | C17: 0 | E17: 0.5 | F17: =+C17*E17 -> 0
A19: Existing Inventory | C19: 0 | E19: 0.5 | F19: =+C19*E19 -> 0
A21: New Equipment | C21: 0 | E21: 0.5 | F21: =+C21*E21 -> 0
A23: New Inventory | C23: 0 | E23: 0.5 | F23: =+C23*E23 -> 0
A25: Other* | C25: 0 | E25: 0.5 | F25: =+C25*E25 -> 0
B27: Total | C27: =SUM(C13:C26) -> 0 | F27: =SUM(F13:F26) -> 0
E30: Existing Debt | F30: 0
E31: New Debt | F31: =+C33+C34 -> 0
A32: Bank Loans:
B33: Real Estate | E33: Excess Collateral | F33: =+F27-F30-F31 -> 0
B34: Other
B35: Total | C35: =+D31+D32 -> 0
A38: Notes:
A41: *Note there is no collateral value for Working Capital/Closing Costs!

Sheet Collteral with gap
A7: Business Name:
A8: Date: | C8: 11/17/20
C10: Fair Market | E10: Bank | F10: Bank | H10: Gap Lender | I10: Gap Lender | K10: Total | L10: Total Loan
A11: Asset Item: | C11: Value | E11: Collateral % | F11: Amount | H11: Collateral % | I11: Amount | K11: Collateral % | L11: Amount
A13: Accounts Receivable | C13: 0 | E13: 0.6 | F13: =+C13*E13 -> 0 | H13: 0.1 | I13: =+H13*C13 -> 0 | K13: =+E13+H13 -> 0.7 | L13: =+F13+I13 -> 0
A15: Land & Building | C15: 0 | E15: 0.8 | F15: =+C15*E15 -> 0 | H15: 0.1 | I15: =+H15*C15 -> 0 | K15: =+E15+H15 -> 0.9 | L15: =+F15+I15 -> 0
A17: New Equipment | C17: 0 | E17: 0.5 | F17: =+C17*E17 -> 0 | H17: 0.2 | I17: =+H17*C17 -> 0 | K17: =+E17+H17 -> 0.7 | L17: =+F17+I17 -> 0
A19: Existing Equipment | C19: 0 | E19: 0.5 | F19: =+C19*E19 -> 0 | H19: 0.2 | I19: =+H19*C19 -> 0 | K19: =+E19+H19 -> 0.7 | L19: =+F19+I19 -> 0
A21: New Inventory | C21: 0 | E21: 0.5 | F21: =+C21*E21 -> 0 | H21: 0.2 | I21: =+H21*C21 -> 0 | K21: =+E21+H21 -> 0.7 | L21: =+F21+I21 -> 0
A23: Exisiting Inventory | C23: 0 | E23: 0.5 | F23: =+C23*E23 -> 0 | H23: 0.2 | I23: =+H23*C23 -> 0 | K23: =+E23+H23 -> 0.7 | L23: =+F23+I23 -> 0
A25: Other*
B27: Total | C27: =SUM(C13:C26) -> 0 | F27: =SUM(F13:F26) -> 0 | I27: =SUM(I13:I26) -> 0 | L27: =SUM(L13:L26) -> 0
A28: * Note there is no collateral value for Working Capital/Closing Costs!
B30: Bank Loans: | F30: Notes:
C31: Real Estate | E31: =+F15 -> 0 | K31: Existing Debt | L31: 0
C32: Other | E32: =+F27-F15 -> 0 | K32: New Debt | L32: =+E33+E35 -> 0
D33: Total | E33: =+E31+E32 -> 0
K34: Excess Collateral | L34: =+L27-L31-L32 -> 0
B35: Gap Lender Loan: | E35: =I27 -> 0

Sheet CASHFLOW
A1: NAME OF BUSINESS: | E1: ADDRESS: | I1: TYPE OF BUSINESS: | M1: PREPARED BY: | P1: DATE:
P2: =TODAY() -> 46003
A4: ASSUMPTIONS: | E4: 1st YEAR | F4: 2nd YEAR
E5: 2026 | F5: =E5+1 -> 2027
A6: Monthly Cash Sales | B6: 1 | G6: LOAN INFORMATION
A7: Payroll: F.I.C.A. | B7: 0.0765 | I7: INTEREST | J7: TERM | K7: LOAN | M7: MONTHLY
A8: WORKERS COMPENSATION | B8: 0.0335 | C8: DEPRECIATION = YEARS | H8: PRINCIPAL | I8: RATE | J8: IN YEARS | K8: SOURCE | M8: PAYMENT
A9: UNEMPLOYMENT BENEFITS | B9: 0.01 | C9: Buildings-39yrs | E9: 39 | G9: Loan #1 | H9: ='Sources and uses'!K24 -> 0 | I9: 0.08 | J9: 20 | K9: ='Sources and uses'!F24 -> Bank | M9: =PMT(I9/12,B117*12,-H9) -> 0
A10: Total Month Payroll Expense | B10: =SUM(B7:B9) -> 0.12 | C10: Equipment- 7yrs | E10: 7 | G10: Loan #2 | H10: ='Sources and uses'!K25 -> 0 | I10: 0.08 | J10: 5 | K10: ='Sources and uses'!F25 -> Gap | M10: =PMT(I10/12,B118*12,-H10) -> 0
A11: Monthly Accounts Payable | B11: 1 | G11: Loan #3 | H11: ='Sources and uses'!K26 -> 0 | I11: 1e-06 | J11: 1e-06 | K11: ='Sources and uses'!F26 -> Other | M11: =PMT(I11/12,B119*12,-H11) -> 0
G12: Loan #4 | H12: ='Sources and uses'!K27 -> 0 | I12: 1e-06 | J12: 1e-06 | K12: ='Sources and uses'!F27 -> Other | M12: =PMT(I12/12,B120*12,-H12) -> 0
G13: Loan #5 | H13: 0 | I13: 1e-08 | J13: 1e-06 | M13: =PMT(I13/12,B121*12,-H13) -> 0
G14: Credit Line | H14: 0 | I14: 1e-09 | J14: 0
A15: PROFIT CENTERS | B15: COST OF GOODS
B16: #1 | C16: 0
B17: #2 | C17: 0
B18: #3 | C18: 0
B19: #4 | C19: 0
B20: #5 | C20: 0
A22: ESSENTIAL OPERATING DATA | D22: =34900+2740+90+270+365+365+365+365+365+365+365+365+365+365+365+365+365+365+365+365+365+365365+365+240+365+365+365 -> 411270 | E22: =D22+30 -> 411300 | F22: =E22+30 -> 411330 | G22: =F22+30 -> 411360 | H22: =G22+30 -> 411390 | I22: =H22+30 -> 411420 | J22: =I22+30 -> 411450 | K22: =J22+30 -> 411480 | L22: =K22+30 -> 411510 | M22: =L22+30 -> 411540 | N22: =M22+30+2 -> 411572 | O22: =N22+30 -> 411602 | P22: Total | R22: =F5 -> 2027
A25: A. Sales Data | B25: COG | R25: 0.05
A26: =A16 -> 0 | B26: =C16 -> 0 | D26: 0 | E26: 0 | F26: 0 | G26: 0 | H26: 0 | I26: 0 | J26: 0 | K26: 0 | L26: 0 | M26: 0 | N26: 0 | O26: 0 | P26: =SUM(D26:O26) -> 0 | R26: =+P26*(1+$R$25) -> 0
A27: =A17 -> 0 | B27: =C17 -> 0 | D27: 0 | E27: =$D$27 -> 0 | F27: =$D$27 -> 0 | G27: =$D$27 -> 0 | H27: =$D$27 -> 0 | I27: =$D$27 -> 0 | J27: =$D$27 -> 0 | K27: =$D$27 -> 0 | L27: =$D$27 -> 0 | ... O27: =$D$27 -> 0 | P27: =SUM(D27:O27) -> 0 | R27: =+P27*(1+$R$25) -> 0
A28: =A18 -> 0 | B28: =C18 -> 0 | D28: 0 | E28: =$D$28 -> 0 | F28: =$D$28 -> 0 | G28: =$D$28 -> 0 | H28: =$D$28 -> 0 | I28: =$D$28 -> 0 | J28: =$D$28 -> 0 | K28: =$D$28 -> 0 | L28: =$D$28 -> 0 | ... O28: =$D$28 -> 0 | P28: =SUM(D28:O28) -> 0 | R28: =+P28*(1+$R$25) -> 0
A29: =A19 -> 0 | B29: =C19 -> 0 | D29: 0 | E29: =$D$29 -> 0 | F29: =$D$29 -> 0 | G29: =$D$29 -> 0 | H29: =$D$29 -> 0 | I29: =$D$29 -> 0 | J29: =$D$29 -> 0 | K29: =$D$29 -> 0 | L29: =$D$29 -> 0 | ... O29: =$D$29 -> 0 | P29: =SUM(D29:O29) -> 0 | R29: =+P29*(1+$R$25) -> 0
A30: =A20 -> 0 | B30: =C20 -> 0 | D30: 0 | E30: =$D$30 -> 0 | F30: =$D$30 -> 0 | G30: =$D$30 -> 0 | H30: =$D$30 -> 0 | I30: =$D$30 -> 0 | J30: =$D$30 -> 0 | K30: =$D$30 -> 0 | L30: =$D$30 -> 0 | ... O30: =$D$30 -> 0 | P30: =SUM(D30:O30) -> 0 | R30: =+P30*(1+$R$25) -> 0
A31: Total Sales Volume | D31: =SUM(D26:D30) -> 0 | E31: =SUM(E26:E30) -> 0 | F31: =SUM(F26:F30) -> 0 | G31: =SUM(G26:G30) -> 0 | H31: =SUM(H26:H30) -> 0 | I31: =SUM(I26:I30) -> 0 | J31: =SUM(J26:J30) -> 0 | K31: =SUM(K26:K30) -> 0 | ... O31: =SUM(O26:O30) -> 0 | P31: =SUM(D31:O31) -> 0 | R31: =SUM(R26:R30) -> 0
A33: B. Purchases | C33: ='Sources and uses'!K12 -> 0 | D33: =($B$26*D26)+($B$27*D27)+($B$28*D28)+($B$29*D29)+($B$30*D30) -> 0 | E33: =($B$26*E26)+($B$27*E27)+($B$28*E28)+($B$29*E29)+($B$30*E30) -> 0 | F33: =($B$26*F26)+($B$27*F27)+($B$28*F28)+($B$29*F29)+($B$30*F30) -> 0 | G33: =($B$26*G26)+($B$27*G27)+($B$28*G28)+($B$29*G29)+($B$30*G30) -> 0 | H33: =($B$26*H26)+($B$27*H27)+($B$28*H28)+($B$29*H29)+($B$30*H30) -> 0 | I33: =($B$26*I26)+($B$27*I27)+($B$28*I28)+($B$29*I29)+($B$30*I30) -> 0 | J33: =($B$26*J26)+($B$27*J27)+($B$28*J28)+($B$29*J29)+($B$30*J30) -> 0 | K33: =($B$26*K26)+($B$27*K27)+($B$28*K28)+($B$29*K29)+($B$30*K30) -> 0 | ... O33: =($B$26*O26)+($B$27*O27)+($B$28*O28)+($B$29*O29)+($B$30*O30) -> 0 | P33: =SUM(D33:O33) -> 0 | R33: =($B$26*R26)+($B$27*R27)+($B$28*R28)+($B$29*R29)+($B$30*R30) -> 0
A35: C. Accts Receivable (EoM) | C35: =C243 -> 0 | D35: =(C35+D31)-(D70+D71) -> 0 | E35: =(D35+E31)-(E70+E71) -> 0 | F35: =(E35+F31)-(F70+F71) -> 0 | G35: =(F35+G31)-(G70+G71) -> 0 | H35: =(G35+H31)-(H70+H71) -> 0 | I35: =(H35+I31)-(I70+I71) -> 0 | J35: =(I35+J31)-(J70+J71) -> 0 | K35: =(J35+K31)-(K70+K71) -> 0 | ... O35: =(N35+O31)-(O70+O71) -> 0 | R35: =(O35+R31)-(R70+R71) -> 0
A37: D. XXXXXXXXXX | C37: 0 | D37: 0 | E37: 0 | F37: 0 | G37: 0 | H37: 0 | I37: 0 | J37: 0 | K37: 0 | L37: 0 | M37: 0 | N37: 0 | O37: 0 | P37: Av Mo Inv | R37: 0
A39: E. Inventory on Hand | C39: =C33+C245 -> 0 | D39: =(C39+D33)-((D26*$B$26)+(D27*$B$27)+(D28*$B$28)+(D29*$B$29)+(D30*$B$30)) -> 0 | E39: =(D39+E33)-((E26*$B$26)+(E27*$B$27)+(E28*$B$28)+(E29*$B$29)+(E30*$B$30)) -> 0 | F39: =(E39+F33)-((F26*$B$26)+(F27*$B$27)+(F28*$B$28)+(F29*$B$29)+(F30*$B$30)) -> 0 | G39: =(F39+G33)-((G26*$B$26)+(G27*$B$27)+(G28*$B$28)+(G29*$B$29)+(G30*$B$30)) -> 0 | H39: =(G39+H33)-((H26*$B$26)+(H27*$B$27)+(H28*$B$28)+(H29*$B$29)+(H30*$B$30)) -> 0 | I39: =(H39+I33)-((I26*$B$26)+(I27*$B$27)+(I28*$B$28)+(I29*$B$29)+(I30*$B$30)) -> 0 | J39: =(I39+J33)-((J26*$B$26)+(J27*$B$27)+(J28*$B$28)+(J29*$B$29)+(J30*$B$30)) -> 0 | K39: =(J39+K33)-((K26*$B$26)+(K27*$B$27)+(K28*$B$28)+(K29*$B$29)+(K30*$B$30)) -> 0 | ... O39: =(N39+O33)-((O26*$B$26)+(O27*$B$27)+(O28*$B$28)+(O29*$B$29)+(O30*$B$30)) -> 0 | P39: =SUM(D39:O39)/12 -> 0 | R39: =(O39+R33)-((R26*$B$26)+(R27*$B$27)+(R28*$B$28)+(R29*$B$29)+(R30*$B$30)) -> 0
A41: F. Accounts Payable | C41: =J242 -> 0 | D41: =C41+D33-D87 -> 0 | E41: =D41+E33-E87 -> 0 | F41: =E41+F33-F87 -> 0 | G41: =F41+G33-G87 -> 0 | H41: =G41+H33-H87 -> 0 | I41: =H41+I33-I87 -> 0 | J41: =I41+J33-J87 -> 0 | K41: =J41+K33-K87 -> 0 | ... O41: =N41+O33-O87 -> 0 | R41: =O41+R33-R87 -> 0
A43: G. Depreciation: Building | B43: =E9 -> 39 | C43: 0 | D43: =(+D124+C149)/($B$43*12) -> 0 | E43: =(+E124+D149)/($B$43*12) -> 0 | F43: =(+F124+E149)/($B$43*12) -> 0 | G43: =(+G124+F149)/($B$43*12) -> 0 | H43: =(+H124+G149)/($B$43*12) -> 0 | I43: =(+I124+H149)/($B$43*12) -> 0 | J43: =(+J124+I149)/($B$43*12) -> 0 | K43: =(+K124+J149)/($B$43*12) -> 0 | ... O43: =(+O124+N149)/($B$43*12) -> 0 | P43: =SUM(D43:O43) -> 0 | R43: =(+R124+O149)/$B$43 -> 0
A44: Equipment | B44: =E10 -> 7 | C44: 0 | D44: =(+D125+C151)/($B$44*12) -> 0 | E44: =(+E125+D151)/($B$44*12) -> 0 | F44: =(+F125+E151)/($B$44*12) -> 0 | G44: =(+G125+F151)/($B$44*12) -> 0 | H44: =(+H125+G151)/($B$44*12) -> 0 | I44: =(+I125+H151)/($B$44*12) -> 0 | J44: =(+J125+I151)/($B$44*12) -> 0 | K44: =(+K125+J151)/($B$44*12) -> 0 | ... O44: =(+O125+N151)/($B$44*12) -> 0 | P44: =SUM(D44:O44) -> 0 | R44: =(+R125+O151)/($B$44) -> 0
A45: Other Startup/Closing Costs | B45: 8 | C45: 0 | D45: =C126/B45/12 -> 0 | E45: =D45 -> 0 | F45: =E45 -> 0 | G45: =F45 -> 0 | H45: =G45 -> 0 | I45: =H45 -> 0 | J45: =I45 -> 0 | K45: =J45 -> 0 | L45: =K45 -> 0 | ... O45: =N45 -> 0 | P45: =SUM(D45:O45) -> 0 | R45: =P45 -> 0
E55: The MNSBDC has prepared the accompanying financial statements based on information
E56: and assumptions provided by management. Neither the SBDC nor its personnel are licensed
E57: by the State of Minnesota to practice public accounting and therefore express no opinion or any
E58: other form of assurance of the statements or underlying assumptions.
A62: CASHFLOW | C62: Pre-s/u | D62: 1 | E62: 2 | F62: 3 | G62: 4 | H62: 5 | I62: 6 | J62: 7 | K62: 8 | L62: 9 | M62: 10 | N62: 11 | O62: 12 | P62: TOTAL | R62: Projection
...
