Workbook

Sheet Flujo
A1: FLUJO DE CAJA
A2: PARA LOS AÑOS DE 2026 AL 2031
A3: INFLACION PROMEDIO HISTORICA DE COLOMBIA | B3: 0.08
A4: ITEM | B4: 2025 | C4: IPC PROMEDIO HISTORICO DE COLOMBIA | D4: 2026 | E4: 2027 | F4: 2028 | G4: 2029 | H4: 2030 | I4: 2031 | J4: 2032 | K4: 2033 | L4: 2034 | M4: 2035
A5: 1. FLUJO DE EFECTIVO DE OPERACIÓN
A6: Saldo inicial de caja | B6: 66242382 | D6: 0 | E6: =+D34 -> 2.7555977e+09 | F6: =+E34 -> 3.5049555e+09 | G6: =+F34 -> 2.3380046e+09 | H6: =+G34 -> 9.7056712e+08 | I6: =+H34 -> 6.0188741e+08 | J6: =+I34 -> 4.7748131e+09 | K6: =+J34 -> 1.0170018e+10 | L6: =+K34 -> 1.697312e+10 | M6: =+L34 -> 2.5393369e+10
A7: Ingresos por ventas de sacos | B7: 0 | D7: 2.7269313e+10 | E7: =+(D7*10%)+D7 -> 2.9996244e+10 | F7: =+(E7*10%)+E7 -> 3.2995868e+10 | G7: =+(F7*10%)+F7 -> 3.6295455e+10 | H7: =+(G7*10%)+G7 -> 3.9925001e+10 | I7: =+(H7*10%)+H7 -> 4.3917501e+10 | J7: =+(I7*10%)+I7 -> 4.8309251e+10 | K7: =+(J7*10%)+J7 -> 5.3140176e+10 | L7: =+(K7*10%)+K7 -> 5.8454194e+10 | M7: =+(L7*10%)+L7 -> 6.4299613e+10
A8: Ingreso por alquiler de espacio | B8: 919633454 | C8: 0.08 | D8: =+(B8*C8)+B8 -> 9.9320413e+08 | E8: =+(D8*$B$3)+D8 -> 1.0726605e+09 | F8: =+(E8*$B$3)+E8 -> 1.1584733e+09 | G8: =+(F8*$B$3)+F8 -> 1.2511512e+09 | H8: =+(G8*$B$3)+G8 -> 1.3512433e+09 | I8: =+(H8*$B$3)+H8 -> 1.4593427e+09 | J8: =+(I8*$B$3)+I8 -> 1.5760901e+09 | K8: =+(J8*$B$3)+J8 -> 1.7021773e+09 | L8: =+(K8*$B$3)+K8 -> 1.8383515e+09 | M8: =+(L8*$B$3)+L8 -> 1.9854197e+09
A9: T0TAL ENTRADA DE EFECTIVO | B9: =SUM(B6:B8) -> 9.8587584e+08 | D9: =+D6+D7+D8 -> 2.8262517e+10 | E9: =+E6+E7+E8 -> 3.3824502e+10 | F9: =+F6+F7+F8 -> 3.7659297e+10 | G9: =+G6+G7+G8 -> 3.9884611e+10 | H9: =+H6+H7+H8 -> 4.2246811e+10 | I9: =+I6+I7+I8 -> 4.5978731e+10 | J9: =+J6+J7+J8 -> 5.4660154e+10 | K9: =+K6+K7+K8 -> 6.5012372e+10 | ... M9: =+M6+M7+M8 -> 9.1678402e+10
A10: SALIDA DE EFECTIVO
A11: Gastos de administracion y ventas | B11: 3.2161878e+09 | D11: 4.1131825e+09 | E11: 4.4422371e+09 | F11: 4.7976161e+09 | G11: 5.1814254e+09 | H11: 5.5959394e+09 | I11: 6.0436146e+09 | J11: 6.5271037e+09 | K11: 7.049272e+09 | L11: 7.6132138e+09 | M11: 8.2222709e+09
A12: Costos | B12: 2.0868129e+10 | D12: 2.3969819e+10 | E12: 2.587731e+10 | F12: 2.7937399e+10 | G12: 3.0162296e+10 | H12: 3.2565184e+10 | I12: 3.5160303e+10 | J12: 3.7963032e+10 | K12: 4.0989979e+10 | L12: 4.4259082e+10 | M12: 4.7789714e+10
A13: FLUJO NETO OPERATIVO | D13: =+D9-D11-D12 -> 1.7951501e+08 | E13: =+E9-E11-E12 -> 3.5049555e+09 | F13: =+F9-F11-F12 -> 4.9242821e+09 | G13: =+G9-G11-G12 -> 4.5408901e+09 | H13: =+H9-H11-H12 -> 4.0856878e+09 | I13: =+I9-I11-I12 -> 4.7748131e+09 | J13: =+J9-J11-J12 -> 1.0170018e+10 | K13: =+K9-K11-K12 -> 1.697312e+10 | ... M13: =+M9-M11-M12 -> 3.5666417e+10
A14: 2. FLUJO DE EFECTIVO DE INVERSIÓN
A15: Venta de activos | D15: =2364000000+3040000000 -> 5404000000
A16: Fiducia | D16: 8.4482154e+08
A17: FLUJO NETO DE INVERSION
A18: 3. FLUJO DE EFECTIVO DE FINANCIACIÓN
A19: Préstamos recibidos
A20: Aportes de socios
A21: Pago de préstamos
A22: SALDO FINAL DEL EFECTIVO | B22: =+B9-B11-B12+B15-B19-B20-B21 -> -2.3098441e+10 | C22: =+C9-C11-C12+C15-C19-C20-C21 -> 0 | D22: =+D13+D15+D16 -> 6.4283366e+09 | E22: =+E9-E11-E12+E15-E19-E20-E21 -> 3.5049555e+09 | F22: =+F9-F11-F12+F15-F19-F20-F21 -> 4.9242821e+09 | G22: =+G9-G11-G12+G15-G19-G20-G21 -> 4.5408901e+09 | H22: =+H9-H11-H12+H15-H19-H20-H21 -> 4.0856878e+09 | I22: =+I9-I11-I12+I15-I19-I20-I21 -> 4.7748131e+09 | J22: =+J9-J11-J12+J15-J19-J20-J21 -> 1.0170018e+10 | K22: =+K9-K11-K12+K15-K19-K20-K21 -> 1.697312e+10 | L22: =+L9-L11-L12+L15-L19-L20-L21 -> 2.5393369e+10 | M22: =+M9-M11-M12+M15-M19-M20-M21 -> 3.5666417e+10
A23: FLUJO FINANCIERO: Proyecto de reorganizacion
A24: Pago acreecias despues del 5 de septiembre de 2024 a octubre 2025 | D24: =+F50 -> 3672738831
A25: 1 - Pago acreecias primer Orden | F25: =+G37 -> 2110672623
A26: Pago de intereses 5,2% | F26: =+Intereses!G5 -> 4.756049e+08
A27: 2 - Pago acreecias segundo Orden | G27: =+(G39/6)*4 -> 2.3691592e+09 | H27: =+(G39/6)*2 -> 1.1845796e+09
A28: Pago de intereses 5,2% | G28: =+Intereses!G7 -> 1.2011637e+09 | H28: =+Intereses!G8 -> 61598140
A29: 4 - Pago acreecias Cuarto Orden | H29: =+G41 -> 1236233453
A30: Pago de intereses 5,2% | H30: =+Intereses!G9 -> 3.8570484e+08
A31: 5 - Pago acreecias Quinto Orden | H31: =+G42 -> 4.6927163e+08
A32: Pago de intereses 5,2% | H32: =+Intereses!G10 -> 1.4641275e+08
A33: Total acreeencias | D33: =SUM(D24:D32) -> 3672738831 | E33: =SUM(E24:E32) -> 0 | F33: =SUM(F24:F32) -> 2.5862775e+09 | G33: =SUM(G24:G32) -> 3.570323e+09 | H33: =SUM(H24:H32) -> 3.4838004e+09 | I33: =SUM(I24:I32) -> 0 | J33: =SUM(J24:J32) -> 0 | K33: =SUM(K24:K32) -> 0 | ... M33: =SUM(M24:M32) -> 0
A34: FLUJO DE EFECTIVO NETO TOTAL | B34: =B21-B22-B23-B29 -> 2.3098441e+10 | D34: =+D22-D33 -> 2.7555977e+09 | E34: =+E22-E33 -> 3.5049555e+09 | F34: =+F22-F33 -> 2.3380046e+09 | G34: =+G22-G33 -> 9.7056712e+08 | H34: =+H22-H33 -> 6.0188741e+08 | I34: =+I22-I33 -> 4.7748131e+09 | J34: =+J22-J33 -> 1.0170018e+10 | K34: =+K22-K33 -> 1.697312e+10 | ... M34: =+M22-M33 -> 3.5666417e+10
A36: NOTA: Del total de ingresos registrados en promedio un 96% corresponde a la actividad principal de la empresa, basada en la producción y venta de sacos de fique y el 4% restante proviene de ingresos por arrendamientos. | D36: GRADUACION DE LAS OBLIGACIONES
D37: 1er. ORDEN | E37: LABORALES | F37: 1685213826 | G37: =+F37+F38 -> 2110672623
E38: FISCALES | F38: 425458797
D39: 2do. ORDEN | E39: OBL. FINANCIERAS | F39: 3553738844 | G39: =+F39 -> 3553738844
D40: 3er. ORDEN | E40: HIPOTECARIAS | F40: 0 | G40: =+F40 -> 0
D41: 4to. ORDEN | E41: PROVEEDOORES | F41: 1236233453 | G41: =+F41 -> 1236233453
...

Sheet Intereses
B3: FECHAS
B4: Sep-diciem 2024 | C4: 2025-2028 | D4: Total meses | E4: valor | F4: tasa | G4: intereses
A5: 1er. ORDEN | B5: 4 meses | C5: =12*4 -> 48 | D5: =4+C5 -> 52 | E5: 2110672623 | F5: 0.052 | G5: =+(E5*F5)/12*D5 -> 4.756049e+08
A7: 2do. ORDEN | B7: 18 meses 2023 a sep 2024 | C7: =12*5 -> 60 | D7: =+C7+18 -> 78 | E7: 3553738844 | F7: 0.052 | G7: =+(E7*F7)/12*D7 -> 1.2011637e+09 | H7: 4 cuotas | I7: año 2029
A8: 2do. ORDEN | C8: 12 | D8: 12 | E8: =+E7-Flujo!G27 -> 1.1845796e+09 | F8: 0.052 | G8: =+(E8*F8)/12*D8 -> 61598140 | H8: 2 cuotas | I8: año 2030
A9: 4to. ORDEN | C9: =12*6 -> 72 | D9: =+B9+C9 -> 72 | E9: 1236233453 | F9: 0.052 | G9: =+(E9*F9)/12*D9 -> 3.8570484e+08
A10: 5to. ORDEN | C10: =12*6 -> 72 | D10: =+B10+C10 -> 72 | E10: 4.6927163e+08 | F10: 0.052 | G10: =+(E10*F10)/12*D10 -> 1.4641275e+08
