Workbook

Sheet 1-9
A1: 00029 | B1: =1+MOD(A1-1, 9) -> 2 | C1: =B1 -> 2 | E1: 01774 | F1: =1+MOD(E1-1, 9) -> 1 | G1: =F1 -> 1 | I1: 03519 | J1: =1+MOD(I1-1, 9) -> 9 | K1: =J1 -> 9 | M1: 05263 | N1: =1+MOD(M1-1, 9) -> 7 | O1: =N1 -> 7 | Q1: 07005 | R1: =1+MOD(Q1-1, 9) -> 3 | S1: =R1 -> 3 | U1: 08744 | V1: =1+MOD(U1-1, 9) -> 5 | W1: =V1 -> 5 | Y1: 10482 | Z1: =1+MOD(Y1-1, 9) -> 6 | AA1: =Z1 -> 6 | AC1: 12216 | AD1: =1+MOD(AC1-1, 9) -> 3 | AE1: =AD1 -> 3 | AG1: 13946 | AH1: =1+MOD(AG1-1, 9) -> 5 | AI1: =AH1 -> 5 | AK1: 1 = RED
A2: 00058 | B2: =1+MOD(A2-1, 9) -> 4 | C2: =B2 -> 4 | E2: 01803 | F2: =1+MOD(E2-1, 9) -> 3 | G2: =F2 -> 3 | I2: 03548 | J2: =1+MOD(I2-1, 9) -> 2 | K2: =J2 -> 2 | M2: 05292 | N2: =1+MOD(M2-1, 9) -> 9 | O2: =N2 -> 9 | Q2: 07034 | R2: =1+MOD(Q2-1, 9) -> 5 | S2: =R2 -> 5 | U2: 08773 | V2: =1+MOD(U2-1, 9) -> 7 | W2: =V2 -> 7 | Y2: 10511 | Z2: =1+MOD(Y2-1, 9) -> 8 | AA2: =Z2 -> 8 | AC2: 12245 | AD2: =1+MOD(AC2-1, 9) -> 5 | AE2: =AD2 -> 5 | AG2: 13975 | AH2: =1+MOD(AG2-1, 9) -> 7 | AI2: =AH2 -> 7 | AK2: 2 = GREEN
A3: 00087 | B3: =1+MOD(A3-1, 9) -> 6 | C3: =B3 -> 6 | E3: 01832 | F3: =1+MOD(E3-1, 9) -> 5 | G3: =F3 -> 5 | I3: 03577 | J3: =1+MOD(I3-1, 9) -> 4 | K3: =J3 -> 4 | M3: 05321 | N3: =1+MOD(M3-1, 9) -> 2 | O3: =N3 -> 2 | Q3: 07063 | R3: =1+MOD(Q3-1, 9) -> 7 | S3: =R3 -> 7 | U3: 08802 | V3: =1+MOD(U3-1, 9) -> 9 | W3: =V3 -> 9 | Y3: 10540 | Z3: =1+MOD(Y3-1, 9) -> 1 | AA3: =Z3 -> 1 | AC3: 12273 | AD3: =1+MOD(AC3-1, 9) -> 6 | AE3: =AD3 -> 6 | AG3: 14004 | AH3: =1+MOD(AG3-1, 9) -> 9 | AI3: =AH3 -> 9 | AK3: 3 = BLUE
A4: 00116 | B4: =1+MOD(A4-1, 9) -> 8 | C4: =B4 -> 8 | E4: 01861 | F4: =1+MOD(E4-1, 9) -> 7 | G4: =F4 -> 7 | I4: 03606 | J4: =1+MOD(I4-1, 9) -> 6 | K4: =J4 -> 6 | M4: 05350 | N4: =1+MOD(M4-1, 9) -> 4 | O4: =N4 -> 4 | Q4: 07092 | R4: =1+MOD(Q4-1, 9) -> 9 | S4: =R4 -> 9 | U4: 08831 | V4: =1+MOD(U4-1, 9) -> 2 | W4: =V4 -> 2 | Y4: 10568 | Z4: =1+MOD(Y4-1, 9) -> 2 | AA4: =Z4 -> 2 | AC4: 12302 | AD4: =1+MOD(AC4-1, 9) -> 8 | AE4: =AD4 -> 8 | AG4: 14032 | AH4: =1+MOD(AG4-1, 9) -> 1 | AI4: =AH4 -> 1 | AK4: 4 = YELLOW
A5: 00145 | B5: =1+MOD(A5-1, 9) -> 1 | C5: =B5 -> 1 | E5: 01891 | F5: =1+MOD(E5-1, 9) -> 1 | G5: =F5 -> 1 | I5: 03635 | J5: =1+MOD(I5-1, 9) -> 8 | K5: =J5 -> 8 | M5: 05379 | N5: =1+MOD(M5-1, 9) -> 6 | O5: =N5 -> 6 | Q5: 07121 | R5: =1+MOD(Q5-1, 9) -> 2 | S5: =R5 -> 2 | U5: 08860 | V5: =1+MOD(U5-1, 9) -> 4 | W5: =V5 -> 4 | Y5: 10597 | Z5: =1+MOD(Y5-1, 9) -> 4 | AA5: =Z5 -> 4 | AC5: 12331 | AD5: =1+MOD(AC5-1, 9) -> 1 | AE5: =AD5 -> 1 | AG5: 14061 | AH5: =1+MOD(AG5-1, 9) -> 3 | AI5: =AH5 -> 3 | AK5: 5 = CYAN
A6: 00174 | B6: =1+MOD(A6-1, 9) -> 3 | C6: =B6 -> 3 | E6: 01920 | F6: =1+MOD(E6-1, 9) -> 3 | G6: =F6 -> 3 | I6: 03664 | J6: =1+MOD(I6-1, 9) -> 1 | K6: =J6 -> 1 | M6: 05408 | N6: =1+MOD(M6-1, 9) -> 8 | O6: =N6 -> 8 | Q6: 07150 | R6: =1+MOD(Q6-1, 9) -> 4 | S6: =R6 -> 4 | U6: 08889 | V6: =1+MOD(U6-1, 9) -> 6 | W6: =V6 -> 6 | Y6: 10626 | Z6: =1+MOD(Y6-1, 9) -> 6 | AA6: =Z6 -> 6 | AC6: 12360 | AD6: =1+MOD(AC6-1, 9) -> 3 | AE6: =AD6 -> 3 | AG6: 14090 | AH6: =1+MOD(AG6-1, 9) -> 5 | AI6: =AH6 -> 5 | AK6: 6 = PURPLE
A7: 00204 | B7: =1+MOD(A7-1, 9) -> 6 | C7: =B7 -> 6 | E7: 01949 | F7: =1+MOD(E7-1, 9) -> 5 | G7: =F7 -> 5 | I7: 03693 | J7: =1+MOD(I7-1, 9) -> 3 | K7: =J7 -> 3 | M7: 05437 | N7: =1+MOD(M7-1, 9) -> 1 | O7: =N7 -> 1 | Q7: 07179 | R7: =1+MOD(Q7-1, 9) -> 6 | S7: =R7 -> 6 | U7: 08918 | V7: =1+MOD(U7-1, 9) -> 8 | W7: =V7 -> 8 | Y7: 10655 | Z7: =1+MOD(Y7-1, 9) -> 8 | AA7: =Z7 -> 8 | AC7: 12389 | AD7: =1+MOD(AC7-1, 9) -> 5 | AE7: =AD7 -> 5 | AG7: 14119 | AH7: =1+MOD(AG7-1, 9) -> 7 | AI7: =AH7 -> 7 | AK7: 7 = WHITE
A8: 00233 | B8: =1+MOD(A8-1, 9) -> 8 | C8: =B8 -> 8 | E8: 01978 | F8: =1+MOD(E8-1, 9) -> 7 | G8: =F8 -> 7 | I8: 03722 | J8: =1+MOD(I8-1, 9) -> 5 | K8: =J8 -> 5 | M8: 05466 | N8: =1+MOD(M8-1, 9) -> 3 | O8: =N8 -> 3 | Q8: 07208 | R8: =1+MOD(Q8-1, 9) -> 8 | S8: =R8 -> 8 | U8: 08947 | V8: =1+MOD(U8-1, 9) -> 1 | W8: =V8 -> 1 | Y8: 10684 | Z8: =1+MOD(Y8-1, 9) -> 1 | AA8: =Z8 -> 1 | AC8: 12418 | AD8: =1+MOD(AC8-1, 9) -> 7 | AE8: =AD8 -> 7 | AG8: 14148 | AH8: =1+MOD(AG8-1, 9) -> 9 | AI8: =AH8 -> 9 | AK8: 8 = PINK
A9: 00262 | B9: =1+MOD(A9-1, 9) -> 1 | C9: =B9 -> 1 | E9: 02007 | F9: =1+MOD(E9-1, 9) -> 9 | G9: =F9 -> 9 | I9: 03751 | J9: =1+MOD(I9-1, 9) -> 7 | K9: =J9 -> 7 | M9: 05495 | N9: =1+MOD(M9-1, 9) -> 5 | O9: =N9 -> 5 | Q9: 07237 | R9: =1+MOD(Q9-1, 9) -> 1 | S9: =R9 -> 1 | U9: 08976 | V9: =1+MOD(U9-1, 9) -> 3 | W9: =V9 -> 3 | Y9: 10713 | Z9: =1+MOD(Y9-1, 9) -> 3 | AA9: =Z9 -> 3 | AC9: 12447 | AD9: =1+MOD(AC9-1, 9) -> 9 | AE9: =AD9 -> 9 | AG9: 14176 | AH9: =1+MOD(AG9-1, 9) -> 1 | AI9: =AH9 -> 1 | AK9: 9 = BROWN
A10: 00291 | B10: =1+MOD(A10-1, 9) -> 3 | C10: =B10 -> 3 | E10: 02036 | F10: =1+MOD(E10-1, 9) -> 2 | G10: =F10 -> 2 | I10: 03781 | J10: =1+MOD(I10-1, 9) -> 1 | K10: =J10 -> 1 | M10: 05524 | N10: =1+MOD(M10-1, 9) -> 7 | O10: =N10 -> 7 | Q10: 07266 | R10: =1+MOD(Q10-1, 9) -> 3 | S10: =R10 -> 3 | U10: 09005 | V10: =1+MOD(U10-1, 9) -> 5 | W10: =V10 -> 5 | Y10: 10742 | Z10: =1+MOD(Y10-1, 9) -> 5 | AA10: =Z10 -> 5 | AC10: 12476 | AD10: =1+MOD(AC10-1, 9) -> 2 | AE10: =AD10 -> 2 | AG10: 14205 | AH10: =1+MOD(AG10-1, 9) -> 3 | AI10: =AH10 -> 3
A11: 00320 | B11: =1+MOD(A11-1, 9) -> 5 | C11: =B11 -> 5 | E11: 02065 | F11: =1+MOD(E11-1, 9) -> 4 | G11: =F11 -> 4 | I11: 03810 | J11: =1+MOD(I11-1, 9) -> 3 | K11: =J11 -> 3 | M11: 05553 | N11: =1+MOD(M11-1, 9) -> 9 | O11: =N11 -> 9 | Q11: 07295 | R11: =1+MOD(Q11-1, 9) -> 5 | S11: =R11 -> 5 | U11: 09034 | V11: =1+MOD(U11-1, 9) -> 7 | W11: =V11 -> 7 | Y11: 10771 | Z11: =1+MOD(Y11-1, 9) -> 7 | AA11: =Z11 -> 7 | AC11: 12504 | AD11: =1+MOD(AC11-1, 9) -> 3 | AE11: =AD11 -> 3 | AG11: 14234 | AH11: =1+MOD(AG11-1, 9) -> 5 | AI11: =AH11 -> 5
A12: 00349 | B12: =1+MOD(A12-1, 9) -> 7 | C12: =B12 -> 7 | E12: 02094 | F12: =1+MOD(E12-1, 9) -> 6 | G12: =F12 -> 6 | I12: 03839 | J12: =1+MOD(I12-1, 9) -> 5 | K12: =J12 -> 5 | M12: 05582 | N12: =1+MOD(M12-1, 9) -> 2 | O12: =N12 -> 2 | Q12: 07324 | R12: =1+MOD(Q12-1, 9) -> 7 | S12: =R12 -> 7 | U12: 09063 | V12: =1+MOD(U12-1, 9) -> 9 | W12: =V12 -> 9 | Y12: 10800 | Z12: =1+MOD(Y12-1, 9) -> 9 | AA12: =Z12 -> 9 | AC12: 12533 | AD12: =1+MOD(AC12-1, 9) -> 5 | AE12: =AD12 -> 5 | AG12: 14263 | AH12: =1+MOD(AG12-1, 9) -> 7 | AI12: =AH12 -> 7
A13: 00378 | B13: =1+MOD(A13-1, 9) -> 9 | C13: =B13 -> 9 | E13: 02123 | F13: =1+MOD(E13-1, 9) -> 8 | G13: =F13 -> 8 | I13: 03868 | J13: =1+MOD(I13-1, 9) -> 7 | K13: =J13 -> 7 | M13: 05611 | N13: =1+MOD(M13-1, 9) -> 4 | O13: =N13 -> 4 | Q13: 07353 | R13: =1+MOD(Q13-1, 9) -> 9 | S13: =R13 -> 9 | U13: 09092 | V13: =1+MOD(U13-1, 9) -> 2 | W13: =V13 -> 2 | Y13: 10829 | Z13: =1+MOD(Y13-1, 9) -> 2 | AA13: =Z13 -> 2 | AC13: 12562 | AD13: =1+MOD(AC13-1, 9) -> 7 | AE13: =AD13 -> 7 | AG13: 14292 | AH13: =1+MOD(AG13-1, 9) -> 9 | AI13: =AH13 -> 9
A14: 00407 | B14: =1+MOD(A14-1, 9) -> 2 | C14: =B14 -> 2 | E14: 02152 | F14: =1+MOD(E14-1, 9) -> 1 | G14: =F14 -> 1 | I14: 03897 | J14: =1+MOD(I14-1, 9) -> 9 | K14: =J14 -> 9 | M14: 05640 | N14: =1+MOD(M14-1, 9) -> 6 | O14: =N14 -> 6 | Q14: 07382 | R14: =1+MOD(Q14-1, 9) -> 2 | S14: =R14 -> 2 | U14: 09121 | V14: =1+MOD(U14-1, 9) -> 4 | W14: =V14 -> 4 | Y14: 10858 | Z14: =1+MOD(Y14-1, 9) -> 4 | AA14: =Z14 -> 4 | AC14: 12591 | AD14: =1+MOD(AC14-1, 9) -> 9 | AE14: =AD14 -> 9 | AG14: 14320 | AH14: =1+MOD(AG14-1, 9) -> 1 | AI14: =AH14 -> 1
A15: 00436 | B15: =1+MOD(A15-1, 9) -> 4 | C15: =B15 -> 4 | E15: 02181 | F15: =1+MOD(E15-1, 9) -> 3 | G15: =F15 -> 3 | I15: 03926 | J15: =1+MOD(I15-1, 9) -> 2 | K15: =J15 -> 2 | M15: 05669 | N15: =1+MOD(M15-1, 9) -> 8 | O15: =N15 -> 8 | Q15: 07411 | R15: =1+MOD(Q15-1, 9) -> 4 | S15: =R15 -> 4 | U15: 09150 | V15: =1+MOD(U15-1, 9) -> 6 | W15: =V15 -> 6 | Y15: 10887 | Z15: =1+MOD(Y15-1, 9) -> 6 | AA15: =Z15 -> 6 | AC15: 12620 | AD15: =1+MOD(AC15-1, 9) -> 2 | AE15: =AD15 -> 2 | AG15: 14349 | AH15: =1+MOD(AG15-1, 9) -> 3 | AI15: =AH15 -> 3
A16: 00465 | B16: =1+MOD(A16-1, 9) -> 6 | C16: =B16 -> 6 | E16: 02210 | F16: =1+MOD(E16-1, 9) -> 5 | G16: =F16 -> 5 | I16: 03955 | J16: =1+MOD(I16-1, 9) -> 4 | K16: =J16 -> 4 | M16: 05698 | N16: =1+MOD(M16-1, 9) -> 1 | O16: =N16 -> 1 | Q16: 07440 | R16: =1+MOD(Q16-1, 9) -> 6 | S16: =R16 -> 6 | U16: 09179 | V16: =1+MOD(U16-1, 9) -> 8 | W16: =V16 -> 8 | Y16: 10916 | Z16: =1+MOD(Y16-1, 9) -> 8 | AA16: =Z16 -> 8 | AC16: 12649 | AD16: =1+MOD(AC16-1, 9) -> 4 | AE16: =AD16 -> 4 | AG16: 14378 | AH16: =1+MOD(AG16-1, 9) -> 5 | AI16: =AH16 -> 5
A17: 00494 | B17: =1+MOD(A17-1, 9) -> 8 | C17: =B17 -> 8 | E17: 02240 | F17: =1+MOD(E17-1, 9) -> 8 | G17: =F17 -> 8 | I17: 03984 | J17: =1+MOD(I17-1, 9) -> 6 | K17: =J17 -> 6 | M17: 05727 | N17: =1+MOD(M17-1, 9) -> 3 | O17: =N17 -> 3 | Q17: 07469 | R17: =1+MOD(Q17-1, 9) -> 8 | S17: =R17 -> 8 | U17: 09208 | V17: =1+MOD(U17-1, 9) -> 1 | W17: =V17 -> 1 | Y17: 10944 | Z17: =1+MOD(Y17-1, 9) -> 9 | AA17: =Z17 -> 9 | AC17: 12678 | AD17: =1+MOD(AC17-1, 9) -> 6 | AE17: =AD17 -> 6 | AG17: 14407 | AH17: =1+MOD(AG17-1, 9) -> 7 | AI17: =AH17 -> 7
A18: 00524 | B18: =1+MOD(A18-1, 9) -> 2 | C18: =B18 -> 2 | E18: 02269 | F18: =1+MOD(E18-1, 9) -> 1 | G18: =F18 -> 1 | I18: 04013 | J18: =1+MOD(I18-1, 9) -> 8 | K18: =J18 -> 8 | M18: 05756 | N18: =1+MOD(M18-1, 9) -> 5 | O18: =N18 -> 5 | Q18: 07498 | R18: =1+MOD(Q18-1, 9) -> 1 | S18: =R18 -> 1 | U18: 09237 | V18: =1+MOD(U18-1, 9) -> 3 | W18: =V18 -> 3 | Y18: 10973 | Z18: =1+MOD(Y18-1, 9) -> 2 | AA18: =Z18 -> 2 | AC18: 12706 | AD18: =1+MOD(AC18-1, 9) -> 7 | AE18: =AD18 -> 7 | AG18: 14436 | AH18: =1+MOD(AG18-1, 9) -> 9 | AI18: =AH18 -> 9
A19: 00553 | B19: =1+MOD(A19-1, 9) -> 4 | C19: =B19 -> 4 | E19: 02298 | F19: =1+MOD(E19-1, 9) -> 3 | G19: =F19 -> 3 | I19: 04042 | J19: =1+MOD(I19-1, 9) -> 1 | K19: =J19 -> 1 | M19: 05785 | N19: =1+MOD(M19-1, 9) -> 7 | O19: =N19 -> 7 | Q19: 07527 | R19: =1+MOD(Q19-1, 9) -> 3 | S19: =R19 -> 3 | U19: 09266 | V19: =1+MOD(U19-1, 9) -> 5 | W19: =V19 -> 5 | Y19: 11002 | Z19: =1+MOD(Y19-1, 9) -> 4 | AA19: =Z19 -> 4 | AC19: 12735 | AD19: =1+MOD(AC19-1, 9) -> 9 | AE19: =AD19 -> 9 | AG19: 14464 | AH19: =1+MOD(AG19-1, 9) -> 1 | AI19: =AH19 -> 1
A20: 00582 | B20: =1+MOD(A20-1, 9) -> 6 | C20: =B20 -> 6 | E20: 02326 | F20: =1+MOD(E20-1, 9) -> 4 | G20: =F20 -> 4 | I20: 04071 | J20: =1+MOD(I20-1, 9) -> 3 | K20: =J20 -> 3 | M20: 05814 | N20: =1+MOD(M20-1, 9) -> 9 | O20: =N20 -> 9 | Q20: 07556 | R20: =1+MOD(Q20-1, 9) -> 5 | S20: =R20 -> 5 | U20: 09295 | V20: =1+MOD(U20-1, 9) -> 7 | W20: =V20 -> 7 | Y20: 11031 | Z20: =1+MOD(Y20-1, 9) -> 6 | AA20: =Z20 -> 6 | AC20: 12764 | AD20: =1+MOD(AC20-1, 9) -> 2 | AE20: =AD20 -> 2 | AG20: 14493 | AH20: =1+MOD(AG20-1, 9) -> 3 | AI20: =AH20 -> 3
A21: 00611 | B21: =1+MOD(A21-1, 9) -> 8 | C21: =B21 -> 8 | E21: 02356 | F21: =1+MOD(E21-1, 9) -> 7 | G21: =F21 -> 7 | I21: 04100 | J21: =1+MOD(I21-1, 9) -> 5 | K21: =J21 -> 5 | M21: 05843 | N21: =1+MOD(M21-1, 9) -> 2 | O21: =N21 -> 2 | Q21: 07585 | R21: =1+MOD(Q21-1, 9) -> 7 | S21: =R21 -> 7 | U21: 09324 | V21: =1+MOD(U21-1, 9) -> 9 | W21: =V21 -> 9 | Y21: 11060 | Z21: =1+MOD(Y21-1, 9) -> 8 | AA21: =Z21 -> 8 | AC21: 12793 | AD21: =1+MOD(AC21-1, 9) -> 4 | AE21: =AD21 -> 4 | AG21: 14522 | AH21: =1+MOD(AG21-1, 9) -> 5 | AI21: =AH21 -> 5
... A60: 01745 | B60: =1+MOD(A60-1, 9) -> 8 | C60: =B60 -> 8 | E60: 03490 | F60: =1+MOD(E60-1, 9) -> 7 | G60: =F60 -> 7 | I60: 05234 | J60: =1+MOD(I60-1, 9) -> 5 | K60: =J60 -> 5 | M60: 06976 | N60: =1+MOD(M60-1, 9) -> 1 | O60: =N60 -> 1 | Q60: 08715 | R60: =1+MOD(Q60-1, 9) -> 3 | S60: =R60 -> 3 | U60: 10453 | V60: =1+MOD(U60-1, 9) -> 4 | W60: =V60 -> 4 | Y60: 12187 | Z60: =1+MOD(Y60-1, 9) -> 1 | AA60: =Z60 -> 1 | AC60: 13917 | AD60: =1+MOD(AC60-1, 9) -> 3 | AE60: =AD60 -> 3 | AG60: 15643 | AH60: =1+MOD(AG60-1, 9) -> 1 | AI60: =AH60 -> 1

Sheet 10-18
A1: 15672 | B1: =1+MOD(A1-1, 9) -> 3 | C1: =B1 -> 3 | E1: 17393 | F1: =1+MOD(E1-1, 9) -> 5 | G1: =F1 -> 5 | I1: 19109 | J1: =1+MOD(I1-1, 9) -> 2 | K1: =J1 -> 2 | M1: 20820 | N1: =1+MOD(M1-1, 9) -> 3 | O1: =N1 -> 3 | Q1: 22523 | R1: =1+MOD(Q1-1, 9) -> 5 | S1: =R1 -> 5 | U1: 24220 | V1: =1+MOD(U1-1, 9) -> 1 | W1: =V1 -> 1 | Y1: 25910 | Z1: =1+MOD(Y1-1, 9) -> 8 | AA1: =Z1 -> 8 | AC1: 27592 | AD1: =1+MOD(AC1-1, 9) -> 7 | AE1: =AD1 -> 7 | AG1: 29265 | AH1: =1+MOD(AG1-1, 9) -> 6 | AI1: =AH1 -> 6 | AK1: 1 = RED
A2: 15701 | B2: =1+MOD(A2-1, 9) -> 5 | C2: =B2 -> 5 | E2: 17422 | F2: =1+MOD(E2-1, 9) -> 7 | G2: =F2 -> 7 | I2: 19138 | J2: =1+MOD(I2-1, 9) -> 4 | K2: =J2 -> 4 | M2: 20848 | N2: =1+MOD(M2-1, 9) -> 4 | O2: =N2 -> 4 | Q2: 22552 | R2: =1+MOD(Q2-1, 9) -> 7 | S2: =R2 -> 7 | U2: 24249 | V2: =1+MOD(U2-1, 9) -> 3 | W2: =V2 -> 3 | Y2: 25938 | Z2: =1+MOD(Y2-1, 9) -> 9 | AA2: =Z2 -> 9 | AC2: 27620 | AD2: =1+MOD(AC2-1, 9) -> 8 | AE2: =AD2 -> 8 | AG2: 29293 | AH2: =1+MOD(AG2-1, 9) -> 7 | AI2: =AH2 -> 7 | AK2: 2 = GREEN
A3: 15730 | B3: =1+MOD(A3-1, 9) -> 7 | C3: =B3 -> 7 | E3: 17451 | F3: =1+MOD(E3-1, 9) -> 9 | G3: =F3 -> 9 | I3: 19166 | J3: =1+MOD(I3-1, 9) -> 5 | K3: =J3 -> 5 | M3: 20876 | N3: =1+MOD(M3-1, 9) -> 5 | O3: =N3 -> 5 | Q3: 22580 | R3: =1+MOD(Q3-1, 9) -> 8 | S3: =R3 -> 8 | U3: 24277 | V3: =1+MOD(U3-1, 9) -> 4 | W3: =V3 -> 4 | Y3: 25966 | Z3: =1+MOD(Y3-1, 9) -> 1 | AA3: =Z3 -> 1 | AC3: 27648 | AD3: =1+MOD(AC3-1, 9) -> 9 | AE3: =AD3 -> 9 | AG3: 29321 | AH3: =1+MOD(AG3-1, 9) -> 8 | AI3: =AH3 -> 8 | AK3: 3 = BLUE
A4: 15758 | B4: =1+MOD(A4-1, 9) -> 8 | C4: =B4 -> 8 | E4: 17479 | F4: =1+MOD(E4-1, 9) -> 1 | G4: =F4 -> 1 | I4: 19195 | J4: =1+MOD(I4-1, 9) -> 7 | K4: =J4 -> 7 | M4: 20905 | N4: =1+MOD(M4-1, 9) -> 7 | O4: =N4 -> 7 | Q4: 22608 | R4: =1+MOD(Q4-1, 9) -> 9 | S4: =R4 -> 9 | U4: 24305 | V4: =1+MOD(U4-1, 9) -> 5 | W4: =V4 -> 5 | Y4: 25994 | Z4: =1+MOD(Y4-1, 9) -> 2 | AA4: =Z4 -> 2 | AC4: 27675 | AD4: =1+MOD(AC4-1, 9) -> 9 | AE4: =AD4 -> 9 | AG4: 29348 | AH4: =1+MOD(AG4-1, 9) -> 8 | AI4: =AH4 -> 8 | AK4: 4 = YELLOW
A5: 15787 | B5: =1+MOD(A5-1, 9) -> 1 | C5: =B5 -> 1 | E5: 17508 | F5: =1+MOD(E5-1, 9) -> 3 | G5: =F5 -> 3 | I5: 19224 | J5: =1+MOD(I5-1, 9) -> 9 | K5: =J5 -> 9 | M5: 20933 | N5: =1+MOD(M5-1, 9) -> 8 | O5: =N5 -> 8 | Q5: 22637 | R5: =1+MOD(Q5-1, 9) -> 2 | S5: =R5 -> 2 | U5: 24333 | V5: =1+MOD(U5-1, 9) -> 6 | W5: =V5 -> 6 | Y5: 26022 | Z5: =1+MOD(Y5-1, 9) -> 3 | AA5: =Z5 -> 3 | AC5: 27703 | AD5: =1+MOD(AC5-1, 9) -> 1 | AE5: =AD5 -> 1 | AG5: 29376 | AH5: =1+MOD(AG5-1, 9) -> 9 | AI5: =AH5 -> 9 | AK5: 5 = CYAN
A6: 15816 | B6: =1+MOD(A6-1, 9) -> 3 | C6: =B6 -> 3 | E6: 17537 | F6: =1+MOD(E6-1, 9) -> 5 | G6: =F6 -> 5 | I6: 19252 | J6: =1+MOD(I6-1, 9) -> 1 | K6: =J6 -> 1 | M6: 20962 | N6: =1+MOD(M6-1, 9) -> 1 | O6: =N6 -> 1 | Q6: 22665 | R6: =1+MOD(Q6-1, 9) -> 3 | S6: =R6 -> 3 | U6: 24361 | V6: =1+MOD(U6-1, 9) -> 7 | W6: =V6 -> 7 | Y6: 26050 | Z6: =1+MOD(Y6-1, 9) -> 4 | AA6: =Z6 -> 4 | AC6: 27731 | AD6: =1+MOD(AC6-1, 9) -> 2 | AE6: =AD6 -> 2 | AG6: 29404 | AH6: =1+MOD(AG6-1, 9) -> 1 | AI6: =AH6 -> 1 | AK6: 6 = PURPLE
A7: 15844 | B7: =1+MOD(A7-1, 9) -> 4 | C7: =B7 -> 4 | E7: 17565 | F7: =1+MOD(E7-1, 9) -> 6 | G7: =F7 -> 6 | I7: 19281 | J7: =1+MOD(I7-1, 9) -> 3 | K7: =J7 -> 3 | M7: 20990 | N7: =1+MOD(M7-1, 9) -> 2 | O7: =N7 -> 2 | Q7: 22693 | R7: =1+MOD(Q7-1, 9) -> 4 | S7: =R7 -> 4 | U7: 24390 | V7: =1+MOD(U7-1, 9) -> 9 | W7: =V7 -> 9 | Y7: 26078 | Z7: =1+MOD(Y7-1, 9) -> 5 | AA7: =Z7 -> 5 | AC7: 27759 | AD7: =1+MOD(AC7-1, 9) -> 3 | AE7: =AD7 -> 3 | AG7: 29432 | AH7: =1+MOD(AG7-1, 9) -> 2 | AI7: =AH7 -> 2 | AK7: 7 = WHITE
A8: 15873 | B8: =1+MOD(A8-1, 9) -> 6 | C8: =B8 -> 6 | E8: 17594 | F8: =1+MOD(E8-1, 9) -> 8 | G8: =F8 -> 8 | I8: 19309 | J8: =1+MOD(I8-1, 9) -> 4 | K8: =J8 -> 4 | M8: 21019 | N8: =1+MOD(M8-1, 9) -> 4 | O8: =N8 -> 4 | Q8: 22722 | R8: =1+MOD(Q8-1, 9) -> 6 | S8: =R8 -> 6 | U8: 24418 | V8: =1+MOD(U8-1, 9) -> 1 | W8: =V8 -> 1 | Y8: 26107 | Z8: =1+MOD(Y8-1, 9) -> 7 | AA8: =Z8 -> 7 | AC8: 27787 | AD8: =1+MOD(AC8-1, 9) -> 4 | AE8: =AD8 -> 4 | AG8: 29460 | AH8: =1+MOD(AG8-1, 9) -> 3 | AI8: =AH8 -> 3 | AK8: 8 = PINK
A9: 15902 | B9: =1+MOD(A9-1, 9) -> 8 | C9: =B9 -> 8 | E9: 17622 | F9: =1+MOD(E9-1, 9) -> 9 | G9: =F9 -> 9 | I9: 19338 | J9: =1+MOD(I9-1, 9) -> 6 | K9: =J9 -> 6 | M9: 21047 | N9: =1+MOD(M9-1, 9) -> 5 | O9: =N9 -> 5 | Q9: 22750 | R9: =1+MOD(Q9-1, 9) -> 7 | S9: =R9 -> 7 | U9: 24446 | V9: =1+MOD(U9-1, 9) -> 2 | W9: =V9 -> 2 | Y9: 26135 | Z9: =1+MOD(Y9-1, 9) -> 8 | AA9: =Z9 -> 8 | AC9: 27815 | AD9: =1+MOD(AC9-1, 9) -> 5 | AE9: =AD9 -> 5 | AG9: 29487 | AH9: =1+MOD(AG9-1, 9) -> 3 | AI9: =AH9 -> 3 | AK9: 9 = BROWN
A10: 15931 | B10: =1+MOD(A10-1, 9) -> 1 | C10: =B10 -> 1 | E10: 17651 | F10: =1+MOD(E10-1, 9) -> 2 | G10: =F10 -> 2 | I10: 19366 | J10: =1+MOD(I10-1, 9) -> 7 | K10: =J10 -> 7 | M10: 21076 | N10: =1+MOD(M10-1, 9) -> 7 | O10: =N10 -> 7 | Q10: 22778 | R10: =1+MOD(Q10-1, 9) -> 8 | S10: =R10 -> 8 | U10: 24474 | V10: =1+MOD(U10-1, 9) -> 3 | W10: =V10 -> 3 | Y10: 26163 | Z10: =1+MOD(Y10-1, 9) -> 9 | AA10: =Z10 -> 9 | AC10: 27843 | AD10: =1+MOD(AC10-1, 9) -> 6 | AE10: =AD10 -> 6 | AG10: 29515 | AH10: =1+MOD(AG10-1, 9) -> 4 | AI10: =AH10 -> 4
A11: 15959 | B11: =1+MOD(A11-1, 9) -> 2 | C11: =B11 -> 2 | E11: 17680 | F11: =1+MOD(E11-1, 9) -> 4 | G11: =F11 -> 4 | I11: 19395 | J11: =1+MOD(I11-1, 9) -> 9 | K11: =J11 -> 9 | M11: 21104 | N11: =1+MOD(M11-1, 9) -> 8 | O11: =N11 -> 8 | Q11: 22807 | R11: =1+MOD(Q11-1, 9) -> 1 | S11: =R11 -> 1 | U11: 24502 | V11: =1+MOD(U11-1, 9) -> 4 | W11: =V11 -> 4 | Y11: 26191 | Z11: =1+MOD(Y11-1, 9) -> 1 | AA11: =Z11 -> 1 | AC11: 27871 | AD11: =1+MOD(AC11-1, 9) -> 7 | AE11: =AD11 -> 7 | AG11: 29543 | AH11: =1+MOD(AG11-1, 9) -> 5 | AI11: =AH11 -> 5
A12: 15988 | B12: =1+MOD(A12-1, 9) -> 4 | C12: =B12 -> 4 | E12: 17708 | F12: =1+MOD(E12-1, 9) -> 5 | G12: =F12 -> 5 | I12: 19423 | J12: =1+MOD(I12-1, 9) -> 1 | K12: =J12 -> 1 | M12: 21132 | N12: =1+MOD(M12-1, 9) -> 9 | O12: =N12 -> 9 | Q12: 22835 | R12: =1+MOD(Q12-1, 9) -> 2 | S12: =R12 -> 2 | U12: 24531 | V12: =1+MOD(U12-1, 9) -> 6 | W12: =V12 -> 6 | Y12: 26219 | Z12: =1+MOD(Y12-1, 9) -> 2 | AA12: =Z12 -> 2 | AC12: 27899 | AD12: =1+MOD(AC12-1, 9) -> 8 | AE12: =AD12 -> 8 | AG12: 29571 | AH12: =1+MOD(AG12-1, 9) -> 6 | AI12: =AH12 -> 6
A13: 16017 | B13: =1+MOD(A13-1, 9) -> 6 | C13: =B13 -> 6 | E13: 17737 | F13: =1+MOD(E13-1, 9) -> 7 | G13: =F13 -> 7 | I13: 19452 | J13: =1+MOD(I13-1, 9) -> 3 | K13: =J13 -> 3 | M13: 21161 | N13: =1+MOD(M13-1, 9) -> 2 | O13: =N13 -> 2 | Q13: 22863 | R13: =1+MOD(Q13-1, 9) -> 3 | S13: =R13 -> 3 | U13: 24559 | V13: =1+MOD(U13-1, 9) -> 7 | W13: =V13 -> 7 | Y13: 26247 | Z13: =1+MOD(Y13-1, 9) -> 3 | AA13: =Z13 -> 3 | AC13: 27927 | AD13: =1+MOD(AC13-1, 9) -> 9 | AE13: =AD13 -> 9 | AG13: 29598 | AH13: =1+MOD(AG13-1, 9) -> 6 | AI13: =AH13 -> 6
A14: 16045 | B14: =1+MOD(A14-1, 9) -> 7 | C14: =B14 -> 7 | E14: 17766 | F14: =1+MOD(E14-1, 9) -> 9 | G14: =F14 -> 9 | I14: 19480 | J14: =1+MOD(I14-1, 9) -> 4 | K14: =J14 -> 4 | M14: 21189 | N14: =1+MOD(M14-1, 9) -> 3 | O14: =N14 -> 3 | Q14: 22892 | R14: =1+MOD(Q14-1, 9) -> 5 | S14: =R14 -> 5 | U14: 24587 | V14: =1+MOD(U14-1, 9) -> 8 | W14: =V14 -> 8 | Y14: 26275 | Z14: =1+MOD(Y14-1, 9) -> 4 | AA14: =Z14 -> 4 | AC14: 27955 | AD14: =1+MOD(AC14-1, 9) -> 1 | AE14: =AD14 -> 1 | AG14: 29626 | AH14: =1+MOD(AG14-1, 9) -> 7 | AI14: =AH14 -> 7
A15: 16074 | B15: =1+MOD(A15-1, 9) -> 9 | C15: =B15 -> 9 | E15: 17794 | F15: =1+MOD(E15-1, 9) -> 1 | G15: =F15 -> 1 | I15: 19509 | J15: =1+MOD(I15-1, 9) -> 6 | K15: =J15 -> 6 | M15: 21218 | N15: =1+MOD(M15-1, 9) -> 5 | O15: =N15 -> 5 | Q15: 22920 | R15: =1+MOD(Q15-1, 9) -> 6 | S15: =R15 -> 6 | U15: 24615 | V15: =1+MOD(U15-1, 9) -> 9 | W15: =V15 -> 9 | Y15: 26303 | Z15: =1+MOD(Y15-1, 9) -> 5 | AA15: =Z15 -> 5 | AC15: 27983 | AD15: =1+MOD(AC15-1, 9) -> 2 | AE15: =AD15 -> 2 | AG15: 29654 | AH15: =1+MOD(AG15-1, 9) -> 8 | AI15: =AH15 -> 8
A16: 16103 | B16: =1+MOD(A16-1, 9) -> 2 | C16: =B16 -> 2 | E16: 17823 | F16: =1+MOD(E16-1, 9) -> 3 | G16: =F16 -> 3 | I16: 19537 | J16: =1+MOD(I16-1, 9) -> 7 | K16: =J16 -> 7 | M16: 21246 | N16: =1+MOD(M16-1, 9) -> 6 | O16: =N16 -> 6 | Q16: 22948 | R16: =1+MOD(Q16-1, 9) -> 7 | S16: =R16 -> 7 | U16: 24643 | V16: =1+MOD(U16-1, 9) -> 1 | W16: =V16 -> 1 | Y16: 26331 | Z16: =1+MOD(Y16-1, 9) -> 6 | AA16: =Z16 -> 6 | AC16: 28011 | AD16: =1+MOD(AC16-1, 9) -> 3 | AE16: =AD16 -> 3 | AG16: 29682 | AH16: =1+MOD(AG16-1, 9) -> 9 | AI16: =AH16 -> 9
A17: 16132 | B17: =1+MOD(A17-1, 9) -> 4 | C17: =B17 -> 4 | E17: 17852 | F17: =1+MOD(E17-1, 9) -> 5 | G17: =F17 -> 5 | I17: 19566 | J17: =1+MOD(I17-1, 9) -> 9 | K17: =J17 -> 9 | M17: 21275 | N17: =1+MOD(M17-1, 9) -> 8 | O17: =N17 -> 8 | Q17: 22977 | R17: =1+MOD(Q17-1, 9) -> 9 | S17: =R17 -> 9 | U17: 24672 | V17: =1+MOD(U17-1, 9) -> 3 | W17: =V17 -> 3 | Y17: 26359 | Z17: =1+MOD(Y17-1, 9) -> 7 | AA17: =Z17 -> 7 | AC17: 28039 | AD17: =1+MOD(AC17-1, 9) -> 4 | AE17: =AD17 -> 4 | AG17: 29710 | AH17: =1+MOD(AG17-1, 9) -> 1 | AI17: =AH17 -> 1
A18: 16160 | B18: =1+MOD(A18-1, 9) -> 5 | C18: =B18 -> 5 | E18: 17880 | F18: =1+MOD(E18-1, 9) -> 6 | G18: =F18 -> 6 | I18: 19595 | J18: =1+MOD(I18-1, 9) -> 2 | K18: =J18 -> 2 | M18: 21303 | N18: =1+MOD(M18-1, 9) -> 9 | O18: =N18 -> 9 | Q18: 23005 | R18: =1+MOD(Q18-1, 9) -> 1 | S18: =R18 -> 1 | U18: 24700 | V18: =1+MOD(U18-1, 9) -> 4 | W18: =V18 -> 4 | Y18: 26387 | Z18: =1+MOD(Y18-1, 9) -> 8 | AA18: =Z18 -> 8 | AC18: 28067 | AD18: =1+MOD(AC18-1, 9) -> 5 | AE18: =AD18 -> 5 | AG18: 29737 | AH18: =1+MOD(AG18-1, 9) -> 1 | AI18: =AH18 -> 1
A19: 16189 | B19: =1+MOD(A19-1, 9) -> 7 | C19: =B19 -> 7 | E19: 17909 | F19: =1+MOD(E19-1, 9) -> 8 | G19: =F19 -> 8 | I19: 19623 | J19: =1+MOD(I19-1, 9) -> 3 | K19: =J19 -> 3 | M19: 21331 | N19: =1+MOD(M19-1, 9) -> 1 | O19: =N19 -> 1 | Q19: 23033 | R19: =1+MOD(Q19-1, 9) -> 2 | S19: =R19 -> 2 | U19: 24728 | V19: =1+MOD(U19-1, 9) -> 5 | W19: =V19 -> 5 | Y19: 26415 | Z19: =1+MOD(Y19-1, 9) -> 9 | AA19: =Z19 -> 9 | AC19: 28094 | AD19: =1+MOD(AC19-1, 9) -> 5 | AE19: =AD19 -> 5 | AG19: 29765 | AH19: =1+MOD(AG19-1, 9) -> 2 | AI19: =AH19 -> 2
A20: 16218 | B20: =1+MOD(A20-1, 9) -> 9 | C20: =B20 -> 9 | E20: 17937 | F20: =1+MOD(E20-1, 9) -> 9 | G20: =F20 -> 9 | I20: 19652 | J20: =1+MOD(I20-1, 9) -> 5 | K20: =J20 -> 5 | M20: 21360 | N20: =1+MOD(M20-1, 9) -> 3 | O20: =N20 -> 3 | Q20: 23061 | R20: =1+MOD(Q20-1, 9) -> 3 | S20: =R20 -> 3 | U20: 24756 | V20: =1+MOD(U20-1, 9) -> 6 | W20: =V20 -> 6 | Y20: 26443 | Z20: =1+MOD(Y20-1, 9) -> 1 | AA20: =Z20 -> 1 | AC20: 28122 | AD20: =1+MOD(AC20-1, 9) -> 6 | AE20: =AD20 -> 6 | AG20: 29793 | AH20: =1+MOD(AG20-1, 9) -> 3 | AI20: =AH20 -> 3
A21: 16246 | B21: =1+MOD(A21-1, 9) -> 1 | C21: =B21 -> 1 | E21: 17966 | F21: =1+MOD(E21-1, 9) -> 2 | G21: =F21 -> 2 | I21: 19680 | J21: =1+MOD(I21-1, 9) -> 6 | K21: =J21 -> 6 | M21: 21388 | N21: =1+MOD(M21-1, 9) -> 4 | O21: =N21 -> 4 | Q21: 23090 | R21: =1+MOD(Q21-1, 9) -> 5 | S21: =R21 -> 5 | U21: 24784 | V21: =1+MOD(U21-1, 9) -> 7 | W21: =V21 -> 7 | Y21: 26471 | Z21: =1+MOD(Y21-1, 9) -> 2 | AA21: =Z21 -> 2 | AC21: 28150 | AD21: =1+MOD(AC21-1, 9) -> 7 | AE21: =AD21 -> 7 | AG21: 29821 | AH21: =1+MOD(AG21-1, 9) -> 4 | AI21: =AH21 -> 4
... A60: 17365 | B60: =1+MOD(A60-1, 9) -> 4 | C60: =B60 -> 4 | E60: 19081 | F60: =1+MOD(E60-1, 9) -> 1 | G60: =F60 -> 1 | I60: 20791 | J60: =1+MOD(I60-1, 9) -> 1 | K60: =J60 -> 1 | M60: 22495 | N60: =1+MOD(M60-1, 9) -> 4 | O60: =N60 -> 4 | Q60: 24192 | R60: =1+MOD(Q60-1, 9) -> 9 | S60: =R60 -> 9 | U60: 25882 | V60: =1+MOD(U60-1, 9) -> 7 | W60: =V60 -> 7 | Y60: 27564 | Z60: =1+MOD(Y60-1, 9) -> 6 | AA60: =Z60 -> 6 | AC60: 29237 | AD60: =1+MOD(AC60-1, 9) -> 5 | AE60: =AD60 -> 5 | AG60: 30902 | AH60: =1+MOD(AG60-1, 9) -> 5 | AI60: =AH60 -> 5

Sheet 19-27
A1: 30929 | B1: =1+MOD(A1-1, 9) -> 5 | C1: =B1 -> 5 | E1: 32584 | F1: =1+MOD(E1-1, 9) -> 4 | G1: =F1 -> 4 | I1: 34229 | J1: =1+MOD(I1-1, 9) -> 2 | K1: =J1 -> 2 | M1: 35864 | N1: =1+MOD(M1-1, 9) -> 8 | O1: =N1 -> 8 | Q1: 37488 | R1: =1+MOD(Q1-1, 9) -> 3 | S1: =R1 -> 3 | U1: 39100 | V1: =1+MOD(U1-1, 9) -> 4 | W1: =V1 -> 4 | Y1: 40700 | Z1: =1+MOD(Y1-1, 9) -> 2 | AA1: =Z1 -> 2 | AC1: 42288 | AD1: =1+MOD(AC1-1, 9) -> 6 | AE1: =AD1 -> 6 | AG1: 43863 | AH1: =1+MOD(AG1-1, 9) -> 6 | AI1: =AH1 -> 6 | AK1: 1 = RED
A2: 30957 | B2: =1+MOD(A2-1, 9) -> 6 | C2: =B2 -> 6 | E2: 32612 | F2: =1+MOD(E2-1, 9) -> 5 | G2: =F2 -> 5 | I2: 34257 | J2: =1+MOD(I2-1, 9) -> 3 | K2: =J2 -> 3 | M2: 35891 | N2: =1+MOD(M2-1, 9) -> 8 | O2: =N2 -> 8 | Q2: 37514 | R2: =1+MOD(Q2-1, 9) -> 2 | S2: =R2 -> 2 | U2: 39126 | V2: =1+MOD(U2-1, 9) -> 3 | W2: =V2 -> 3 | Y2: 40727 | Z2: =1+MOD(Y2-1, 9) -> 2 | AA2: =Z2 -> 2 | AC2: 42314 | AD2: =1+MOD(AC2-1, 9) -> 5 | AE2: =AD2 -> 5 | AG2: 43889 | AH2: =1+MOD(AG2-1, 9) -> 5 | AI2: =AH2 -> 5 | AK2: 2 = GREEN
A3: 30985 | B3: =1+MOD(A3-1, 9) -> 7 | C3: =B3 -> 7 | E3: 32639 | F3: =1+MOD(E3-1, 9) -> 5 | G3: =F3 -> 5 | I3: 34284 | J3: =1+MOD(I3-1, 9) -> 3 | K3: =J3 -> 3 | M3: 35918 | N3: =1+MOD(M3-1, 9) -> 8 | O3: =N3 -> 8 | Q3: 37541 | R3: =1+MOD(Q3-1, 9) -> 2 | S3: =R3 -> 2 | U3: 39153 | V3: =1+MOD(U3-1, 9) -> 3 | W3: =V3 -> 3 | Y3: 40753 | Z3: =1+MOD(Y3-1, 9) -> 1 | AA3: =Z3 -> 1 | AC3: 42341 | AD3: =1+MOD(AC3-1, 9) -> 5 | AE3: =AD3 -> 5 | AG3: 43915 | AH3: =1+MOD(AG3-1, 9) -> 4 | AI3: =AH3 -> 4 | AK3: 3 = BLUE
A4: 31012 | B4: =1+MOD(A4-1, 9) -> 7 | C4: =B4 -> 7 | E4: 32667 | F4: =1+MOD(E4-1, 9) -> 6 | G4: =F4 -> 6 | I4: 34311 | J4: =1+MOD(I4-1, 9) -> 3 | K4: =J4 -> 3 | M4: 35945 | N4: =1+MOD(M4-1, 9) -> 8 | O4: =N4 -> 8 | Q4: 37568 | R4: =1+MOD(Q4-1, 9) -> 2 | S4: =R4 -> 2 | U4: 39180 | V4: =1+MOD(U4-1, 9) -> 3 | W4: =V4 -> 3 | Y4: 40780 | Z4: =1+MOD(Y4-1, 9) -> 1 | AA4: =Z4 -> 1 | AC4: 42367 | AD4: =1+MOD(AC4-1, 9) -> 4 | AE4: =AD4 -> 4 | AG4: 43942 | AH4: =1+MOD(AG4-1, 9) -> 4 | AI4: =AH4 -> 4 | AK4: 4 = YELLOW
A5: 31040 | B5: =1+MOD(A5-1, 9) -> 8 | C5: =B5 -> 8 | E5: 32694 | F5: =1+MOD(E5-1, 9) -> 6 | G5: =F5 -> 6 | I5: 34339 | J5: =1+MOD(I5-1, 9) -> 4 | K5: =J5 -> 4 | M5: 35972 | N5: =1+MOD(M5-1, 9) -> 8 | O5: =N5 -> 8 | Q5: 37595 | R5: =1+MOD(Q5-1, 9) -> 2 | S5: =R5 -> 2 | U5: 39207 | V5: =1+MOD(U5-1, 9) -> 3 | W5: =V5 -> 3 | Y5: 40806 | Z5: =1+MOD(Y5-1, 9) -> 9 | AA5: =Z5 -> 9 | AC5: 42394 | AD5: =1+MOD(AC5-1, 9) -> 4 | AE5: =AD5 -> 4 | AG5: 43968 | AH5: =1+MOD(AG5-1, 9) -> 3 | AI5: =AH5 -> 3 | AK5: 5 = CYAN
A6: 31068 | B6: =1+MOD(A6-1, 9) -> 9 | C6: =B6 -> 9 | E6: 32722 | F6: =1+MOD(E6-1, 9) -> 7 | G6: =F6 -> 7 | I6: 34366 | J6: =1+MOD(I6-1, 9) -> 4 | K6: =J6 -> 4 | M6: 36000 | N6: =1+MOD(M6-1, 9) -> 9 | O6: =N6 -> 9 | Q6: 37622 | R6: =1+MOD(Q6-1, 9) -> 2 | S6: =R6 -> 2 | U6: 39234 | V6: =1+MOD(U6-1, 9) -> 3 | W6: =V6 -> 3 | Y6: 40833 | Z6: =1+MOD(Y6-1, 9) -> 9 | AA6: =Z6 -> 9 | AC6: 42420 | AD6: =1+MOD(AC6-1, 9) -> 3 | AE6: =AD6 -> 3 | AG6: 43994 | AH6: =1+MOD(AG6-1, 9) -> 2 | AI6: =AH6 -> 2 | AK6: 6 = PURPLE
A7: 31095 | B7: =1+MOD(A7-1, 9) -> 9 | C7: =B7 -> 9 | E7: 32749 | F7: =1+MOD(E7-1, 9) -> 7 | G7: =F7 -> 7 | I7: 34393 | J7: =1+MOD(I7-1, 9) -> 4 | K7: =J7 -> 4 | M7: 36027 | N7: =1+MOD(M7-1, 9) -> 9 | O7: =N7 -> 9 | Q7: 37649 | R7: =1+MOD(Q7-1, 9) -> 2 | S7: =R7 -> 2 | U7: 39260 | V7: =1+MOD(U7-1, 9) -> 2 | W7: =V7 -> 2 | Y7: 40860 | Z7: =1+MOD(Y7-1, 9) -> 9 | AA7: =Z7 -> 9 | AC7: 42446 | AD7: =1+MOD(AC7-1, 9) -> 2 | AE7: =AD7 -> 2 | AG7: 44020 | AH7: =1+MOD(AG7-1, 9) -> 1 | AI7: =AH7 -> 1 | AK7: 7 = WHITE
A8: 31123 | B8: =1+MOD(A8-1, 9) -> 1 | C8: =B8 -> 1 | E8: 32777 | F8: =1+MOD(E8-1, 9) -> 8 | G8: =F8 -> 8 | I8: 34421 | J8: =1+MOD(I8-1, 9) -> 5 | K8: =J8 -> 5 | M8: 36054 | N8: =1+MOD(M8-1, 9) -> 9 | O8: =N8 -> 9 | Q8: 37676 | R8: =1+MOD(Q8-1, 9) -> 2 | S8: =R8 -> 2 | U8: 39287 | V8: =1+MOD(U8-1, 9) -> 2 | W8: =V8 -> 2 | Y8: 40886 | Z8: =1+MOD(Y8-1, 9) -> 8 | AA8: =Z8 -> 8 | AC8: 42473 | AD8: =1+MOD(AC8-1, 9) -> 2 | AE8: =AD8 -> 2 | AG8: 44046 | AH8: =1+MOD(AG8-1, 9) -> 9 | AI8: =AH8 -> 9 | AK8: 8 = PINK
A9: 31150 | B9: =1+MOD(A9-1, 9) -> 1 | C9: =B9 -> 1 | E9: 32804 | F9: =1+MOD(E9-1, 9) -> 8 | G9: =F9 -> 8 | I9: 34448 | J9: =1+MOD(I9-1, 9) -> 5 | K9: =J9 -> 5 | M9: 36081 | N9: =1+MOD(M9-1, 9) -> 9 | O9: =N9 -> 9 | Q9: 37703 | R9: =1+MOD(Q9-1, 9) -> 2 | S9: =R9 -> 2 | U9: 39314 | V9: =1+MOD(U9-1, 9) -> 2 | W9: =V9 -> 2 | Y9: 40913 | Z9: =1+MOD(Y9-1, 9) -> 8 | AA9: =Z9 -> 8 | AC9: 42499 | AD9: =1+MOD(AC9-1, 9) -> 1 | AE9: =AD9 -> 1 | AG9: 44072 | AH9: =1+MOD(AG9-1, 9) -> 8 | AI9: =AH9 -> 8 | AK9: 9 = BROWN
A10: 31178 | B10: =1+MOD(A10-1, 9) -> 2 | C10: =B10 -> 2 | E10: 32832 | F10: =1+MOD(E10-1, 9) -> 9 | G10: =F10 -> 9 | I10: 34475 | J10: =1+MOD(I10-1, 9) -> 5 | K10: =J10 -> 5 | M10: 36108 | N10: =1+MOD(M10-1, 9) -> 9 | O10: =N10 -> 9 | Q10: 37730 | R10: =1+MOD(Q10-1, 9) -> 2 | S10: =R10 -> 2 | U10: 39341 | V10: =1+MOD(U10-1, 9) -> 2 | W10: =V10 -> 2 | Y10: 40939 | Z10: =1+MOD(Y10-1, 9) -> 7 | AA10: =Z10 -> 7 | AC10: 42525 | AD10: =1+MOD(AC10-1, 9) -> 9 | AE10: =AD10 -> 9 | AG10: 44098 | AH10: =1+MOD(AG10-1, 9) -> 7 | AI10: =AH10 -> 7
A11: 31206 | B11: =1+MOD(A11-1, 9) -> 3 | C11: =B11 -> 3 | E11: 32859 | F11: =1+MOD(E11-1, 9) -> 9 | G11: =F11 -> 9 | I11: 34502 | J11: =1+MOD(I11-1, 9) -> 5 | K11: =J11 -> 5 | M11: 36135 | N11: =1+MOD(M11-1, 9) -> 9 | O11: =N11 -> 9 | Q11: 37757 | R11: =1+MOD(Q11-1, 9) -> 2 | S11: =R11 -> 2 | U11: 39367 | V11: =1+MOD(U11-1, 9) -> 1 | W11: =V11 -> 1 | Y11: 40966 | Z11: =1+MOD(Y11-1, 9) -> 7 | AA11: =Z11 -> 7 | AC11: 42552 | AD11: =1+MOD(AC11-1, 9) -> 9 | AE11: =AD11 -> 9 | AG11: 44124 | AH11: =1+MOD(AG11-1, 9) -> 6 | AI11: =AH11 -> 6
A12: 31233 | B12: =1+MOD(A12-1, 9) -> 3 | C12: =B12 -> 3 | E12: 32887 | F12: =1+MOD(E12-1, 9) -> 1 | G12: =F12 -> 1 | I12: 34530 | J12: =1+MOD(I12-1, 9) -> 6 | K12: =J12 -> 6 | M12: 36162 | N12: =1+MOD(M12-1, 9) -> 9 | O12: =N12 -> 9 | Q12: 37784 | R12: =1+MOD(Q12-1, 9) -> 2 | S12: =R12 -> 2 | U12: 39394 | V12: =1+MOD(U12-1, 9) -> 1 | W12: =V12 -> 1 | Y12: 40992 | Z12: =1+MOD(Y12-1, 9) -> 6 | AA12: =Z12 -> 6 | AC12: 42578 | AD12: =1+MOD(AC12-1, 9) -> 8 | AE12: =AD12 -> 8 | AG12: 44150 | AH12: =1+MOD(AG12-1, 9) -> 5 | AI12: =AH12 -> 5
A13: 31261 | B13: =1+MOD(A13-1, 9) -> 4 | C13: =B13 -> 4 | E13: 32914 | F13: =1+MOD(E13-1, 9) -> 1 | G13: =F13 -> 1 | I13: 34557 | J13: =1+MOD(I13-1, 9) -> 6 | K13: =J13 -> 6 | M13: 36189 | N13: =1+MOD(M13-1, 9) -> 9 | O13: =N13 -> 9 | Q13: 37811 | R13: =1+MOD(Q13-1, 9) -> 2 | S13: =R13 -> 2 | U13: 39421 | V13: =1+MOD(U13-1, 9) -> 1 | W13: =V13 -> 1 | Y13: 41019 | Z13: =1+MOD(Y13-1, 9) -> 6 | AA13: =Z13 -> 6 | AC13: 42604 | AD13: =1+MOD(AC13-1, 9) -> 7 | AE13: =AD13 -> 7 | AG13: 44177 | AH13: =1+MOD(AG13-1, 9) -> 5 | AI13: =AH13 -> 5
A14: 31289 | B14: =1+MOD(A14-1, 9) -> 5 | C14: =B14 -> 5 | E14: 32942 | F14: =1+MOD(E14-1, 9) -> 2 | G14: =F14 -> 2 | I14: 34584 | J14: =1+MOD(I14-1, 9) -> 6 | K14: =J14 -> 6 | M14: 36217 | N14: =1+MOD(M14-1, 9) -> 1 | O14: =N14 -> 1 | Q14: 37838 | R14: =1+MOD(Q14-1, 9) -> 2 | S14: =R14 -> 2 | U14: 39448 | V14: =1+MOD(U14-1, 9) -> 1 | W14: =V14 -> 1 | Y14: 41045 | Z14: =1+MOD(Y14-1, 9) -> 5 | AA14: =Z14 -> 5 | AC14: 42630 | AD14: =1+MOD(AC14-1, 9) -> 6 | AE14: =AD14 -> 6 | AG14: 44203 | AH14: =1+MOD(AG14-1, 9) -> 4 | AI14: =AH14 -> 4
A15: 31316 | B15: =1+MOD(A15-1, 9) -> 5 | C15: =B15 -> 5 | E15: 32969 | F15: =1+MOD(E15-1, 9) -> 2 | G15: =F15 -> 2 | I15: 34612 | J15: =1+MOD(I15-1, 9) -> 7 | K15: =J15 -> 7 | M15: 36244 | N15: =1+MOD(M15-1, 9) -> 1 | O15: =N15 -> 1 | Q15: 37865 | R15: =1+MOD(Q15-1, 9) -> 2 | S15: =R15 -> 2 | U15: 39474 | V15: =1+MOD(U15-1, 9) -> 9 | W15: =V15 -> 9 | Y15: 41072 | Z15: =1+MOD(Y15-1, 9) -> 5 | AA15: =Z15 -> 5 | AC15: 42657 | AD15: =1+MOD(AC15-1, 9) -> 6 | AE15: =AD15 -> 6 | AG15: 44229 | AH15: =1+MOD(AG15-1, 9) -> 3 | AI15: =AH15 -> 3
A16: 31344 | B16: =1+MOD(A16-1, 9) -> 6 | C16: =B16 -> 6 | E16: 32996 | F16: =1+MOD(E16-1, 9) -> 2 | G16: =F16 -> 2 | I16: 34639 | J16: =1+MOD(I16-1, 9) -> 7 | K16: =J16 -> 7 | M16: 36271 | N16: =1+MOD(M16-1, 9) -> 1 | O16: =N16 -> 1 | Q16: 37892 | R16: =1+MOD(Q16-1, 9) -> 2 | S16: =R16 -> 2 | U16: 39501 | V16: =1+MOD(U16-1, 9) -> 9 | W16: =V16 -> 9 | Y16: 41098 | Z16: =1+MOD(Y16-1, 9) -> 4 | AA16: =Z16 -> 4 | AC16: 42683 | AD16: =1+MOD(AC16-1, 9) -> 5 | AE16: =AD16 -> 5 | AG16: 44255 | AH16: =1+MOD(AG16-1, 9) -> 2 | AI16: =AH16 -> 2
A17: 31372 | B17: =1+MOD(A17-1, 9) -> 7 | C17: =B17 -> 7 | E17: 33024 | F17: =1+MOD(E17-1, 9) -> 3 | G17: =F17 -> 3 | I17: 34666 | J17: =1+MOD(I17-1, 9) -> 7 | K17: =J17 -> 7 | M17: 36298 | N17: =1+MOD(M17-1, 9) -> 1 | O17: =N17 -> 1 | Q17: 37919 | R17: =1+MOD(Q17-1, 9) -> 2 | S17: =R17 -> 2 | U17: 39528 | V17: =1+MOD(U17-1, 9) -> 9 | W17: =V17 -> 9 | Y17: 41125 | Z17: =1+MOD(Y17-1, 9) -> 4 | AA17: =Z17 -> 4 | AC17: 42709 | AD17: =1+MOD(AC17-1, 9) -> 4 | AE17: =AD17 -> 4 | AG17: 44281 | AH17: =1+MOD(AG17-1, 9) -> 1 | AI17: =AH17 -> 1
A18: 31399 | B18: =1+MOD(A18-1, 9) -> 7 | C18: =B18 -> 7 | E18: 33051 | F18: =1+MOD(E18-1, 9) -> 3 | G18: =F18 -> 3 | I18: 34693 | J18: =1+MOD(I18-1, 9) -> 7 | K18: =J18 -> 7 | M18: 36325 | N18: =1+MOD(M18-1, 9) -> 1 | O18: =N18 -> 1 | Q18: 37946 | R18: =1+MOD(Q18-1, 9) -> 2 | S18: =R18 -> 2 | U18: 39554 | V18: =1+MOD(U18-1, 9) -> 8 | W18: =V18 -> 8 | Y18: 41151 | Z18: =1+MOD(Y18-1, 9) -> 3 | AA18: =Z18 -> 3 | AC18: 42736 | AD18: =1+MOD(AC18-1, 9) -> 4 | AE18: =AD18 -> 4 | AG18: 44307 | AH18: =1+MOD(AG18-1, 9) -> 9 | AI18: =AH18 -> 9
A19: 31427 | B19: =1+MOD(A19-1, 9) -> 8 | C19: =B19 -> 8 | E19: 33079 | F19: =1+MOD(E19-1, 9) -> 4 | G19: =F19 -> 4 | I19: 34721 | J19: =1+MOD(I19-1, 9) -> 8 | K19: =J19 -> 8 | M19: 36352 | N19: =1+MOD(M19-1, 9) -> 1 | O19: =N19 -> 1 | Q19: 37972 | R19: =1+MOD(Q19-1, 9) -> 1 | S19: =R19 -> 1 | U19: 39581 | V19: =1+MOD(U19-1, 9) -> 8 | W19: =V19 -> 8 | Y19: 41178 | Z19: =1+MOD(Y19-1, 9) -> 3 | AA19: =Z19 -> 3 | AC19: 42762 | AD19: =1+MOD(AC19-1, 9) -> 3 | AE19: =AD19 -> 3 | AG19: 44333 | AH19: =1+MOD(AG19-1, 9) -> 8 | AI19: =AH19 -> 8
A20: 31454 | B20: =1+MOD(A20-1, 9) -> 8 | C20: =B20 -> 8 | E20: 33106 | F20: =1+MOD(E20-1, 9) -> 4 | G20: =F20 -> 4 | I20: 34748 | J20: =1+MOD(I20-1, 9) -> 8 | K20: =J20 -> 8 | M20: 36379 | N20: =1+MOD(M20-1, 9) -> 1 | O20: =N20 -> 1 | Q20: 37999 | R20: =1+MOD(Q20-1, 9) -> 1 | S20: =R20 -> 1 | U20: 39608 | V20: =1+MOD(U20-1, 9) -> 8 | W20: =V20 -> 8 | Y20: 41204 | Z20: =1+MOD(Y20-1, 9) -> 2 | AA20: =Z20 -> 2 | AC20: 42788 | AD20: =1+MOD(AC20-1, 9) -> 2 | AE20: =AD20 -> 2 | AG20: 44359 | AH20: =1+MOD(AG20-1, 9) -> 7 | AI20: =AH20 -> 7
A21: 31482 | B21: =1+MOD(A21-1, 9) -> 9 | C21: =B21 -> 9 | E21: 33134 | F21: =1+MOD(E21-1, 9) -> 5 | G21: =F21 -> 5 | I21: 34775 | J21: =1+MOD(I21-1, 9) -> 8 | K21: =J21 -> 8 | M21: 36406 | N21: =1+MOD(M21-1, 9) -> 1 | O21: =N21 -> 1 | Q21: 38026 | R21: =1+MOD(Q21-1, 9) -> 1 | S21: =R21 -> 1 | U21: 39635 | V21: =1+MOD(U21-1, 9) -> 8 | W21: =V21 -> 8 | Y21: 41231 | Z21: =1+MOD(Y21-1, 9) -> 2 | AA21: =Z21 -> 2 | AC21: 42815 | AD21: =1+MOD(AC21-1, 9) -> 2 | AE21: =AD21 -> 2 | AG21: 44385 | AH21: =1+MOD(AG21-1, 9) -> 6 | AI21: =AH21 -> 6
... A60: 32557 | B60: =1+MOD(A60-1, 9) -> 4 | C60: =B60 -> 4 | E60: 34202 | F60: =1+MOD(E60-1, 9) -> 2 | G60: =F60 -> 2 | I60: 35837 | J60: =1+MOD(I60-1, 9) -> 8 | K60: =J60 -> 8 | M60: 37461 | N60: =1+MOD(M60-1, 9) -> 3 | O60: =N60 -> 3 | Q60: 39073 | R60: =1+MOD(Q60-1, 9) -> 4 | S60: =R60 -> 4 | U60: 40674 | V60: =1+MOD(U60-1, 9) -> 3 | W60: =V60 -> 3 | Y60: 42262 | Z60: =1+MOD(Y60-1, 9) -> 7 | AA60: =Z60 -> 7 | AC60: 43837 | AD60: =1+MOD(AC60-1, 9) -> 7 | AE60: =AD60 -> 7 | AG60: 45399 | AH60: =1+MOD(AG60-1, 9) -> 3 | AI60: =AH60 -> 3

Sheet 28-36
A1: 45425 | B1: =1+MOD(A1-1, 9) -> 2 | C1: =B1 -> 2 | E1: 46973 | F1: =1+MOD(E1-1, 9) -> 2 | G1: =F1 -> 2 | I1: 48506 | J1: =1+MOD(I1-1, 9) -> 5 | K1: =J1 -> 5 | M1: 50025 | N1: =1+MOD(M1-1, 9) -> 3 | O1: =N1 -> 3 | Q1: 51529 | R1: =1+MOD(Q1-1, 9) -> 4 | S1: =R1 -> 4 | U1: 53016 | V1: =1+MOD(U1-1, 9) -> 6 | W1: =V1 -> 6 | Y1: 54488 | Z1: =1+MOD(Y1-1, 9) -> 2 | AA1: =Z1 -> 2 | AC1: 55943 | AD1: =1+MOD(AC1-1, 9) -> 8 | AE1: =AD1 -> 8 | AG1: 57381 | AH1: =1+MOD(AG1-1, 9) -> 6 | AI1: =AH1 -> 6 | AK1: 1 = RED
A2: 45451 | B2: =1+MOD(A2-1, 9) -> 1 | C2: =B2 -> 1 | E2: 46998 | F2: =1+MOD(E2-1, 9) -> 9 | G2: =F2 -> 9 | I2: 48532 | J2: =1+MOD(I2-1, 9) -> 4 | K2: =J2 -> 4 | M2: 50050 | N2: =1+MOD(M2-1, 9) -> 1 | O2: =N2 -> 1 | Q2: 51554 | R2: =1+MOD(Q2-1, 9) -> 2 | S2: =R2 -> 2 | U2: 53041 | V2: =1+MOD(U2-1, 9) -> 4 | W2: =V2 -> 4 | Y2: 54513 | Z2: =1+MOD(Y2-1, 9) -> 9 | AA2: =Z2 -> 9 | AC2: 55967 | AD2: =1+MOD(AC2-1, 9) -> 5 | AE2: =AD2 -> 5 | AG2: 57405 | AH2: =1+MOD(AG2-1, 9) -> 3 | AI2: =AH2 -> 3 | AK2: 2 = GREEN
A3: 45477 | B3: =1+MOD(A3-1, 9) -> 9 | C3: =B3 -> 9 | E3: 47024 | F3: =1+MOD(E3-1, 9) -> 8 | G3: =F3 -> 8 | I3: 48557 | J3: =1+MOD(I3-1, 9) -> 2 | K3: =J3 -> 2 | M3: 50075 | N3: =1+MOD(M3-1, 9) -> 8 | O3: =N3 -> 8 | Q3: 51578 | R3: =1+MOD(Q3-1, 9) -> 8 | S3: =R3 -> 8 | U3: 53066 | V3: =1+MOD(U3-1, 9) -> 2 | W3: =V3 -> 2 | Y3: 54537 | Z3: =1+MOD(Y3-1, 9) -> 6 | AA3: =Z3 -> 6 | AC3: 55992 | AD3: =1+MOD(AC3-1, 9) -> 3 | AE3: =AD3 -> 3 | AG3: 57429 | AH3: =1+MOD(AG3-1, 9) -> 9 | AI3: =AH3 -> 9 | AK3: 3 = BLUE
A4: 45503 | B4: =1+MOD(A4-1, 9) -> 8 | C4: =B4 -> 8 | E4: 47050 | F4: =1+MOD(E4-1, 9) -> 7 | G4: =F4 -> 7 | I4: 48583 | J4: =1+MOD(I4-1, 9) -> 1 | K4: =J4 -> 1 | M4: 50101 | N4: =1+MOD(M4-1, 9) -> 7 | O4: =N4 -> 7 | Q4: 51603 | R4: =1+MOD(Q4-1, 9) -> 6 | S4: =R4 -> 6 | U4: 53090 | V4: =1+MOD(U4-1, 9) -> 8 | W4: =V4 -> 8 | Y4: 54561 | Z4: =1+MOD(Y4-1, 9) -> 3 | AA4: =Z4 -> 3 | AC4: 56016 | AD4: =1+MOD(AC4-1, 9) -> 9 | AE4: =AD4 -> 9 | AG4: 57453 | AH4: =1+MOD(AG4-1, 9) -> 6 | AI4: =AH4 -> 6 | AK4: 4 = YELLOW
A5: 45528 | B5: =1+MOD(A5-1, 9) -> 6 | C5: =B5 -> 6 | E5: 47075 | F5: =1+MOD(E5-1, 9) -> 5 | G5: =F5 -> 5 | I5: 48608 | J5: =1+MOD(I5-1, 9) -> 8 | K5: =J5 -> 8 | M5: 50126 | N5: =1+MOD(M5-1, 9) -> 5 | O5: =N5 -> 5 | Q5: 51628 | R5: =1+MOD(Q5-1, 9) -> 4 | S5: =R5 -> 4 | U5: 53115 | V5: =1+MOD(U5-1, 9) -> 6 | W5: =V5 -> 6 | Y5: 54586 | Z5: =1+MOD(Y5-1, 9) -> 1 | AA5: =Z5 -> 1 | AC5: 56040 | AD5: =1+MOD(AC5-1, 9) -> 6 | AE5: =AD5 -> 6 | AG5: 57477 | AH5: =1+MOD(AG5-1, 9) -> 3 | AI5: =AH5 -> 3 | AK5: 5 = CYAN
A6: 45554 | B6: =1+MOD(A6-1, 9) -> 5 | C6: =B6 -> 5 | E6: 47101 | F6: =1+MOD(E6-1, 9) -> 4 | G6: =F6 -> 4 | I6: 48633 | J6: =1+MOD(I6-1, 9) -> 6 | K6: =J6 -> 6 | M6: 50151 | N6: =1+MOD(M6-1, 9) -> 3 | O6: =N6 -> 3 | Q6: 51653 | R6: =1+MOD(Q6-1, 9) -> 2 | S6: =R6 -> 2 | U6: 53140 | V6: =1+MOD(U6-1, 9) -> 4 | W6: =V6 -> 4 | Y6: 54610 | Z6: =1+MOD(Y6-1, 9) -> 7 | AA6: =Z6 -> 7 | AC6: 56064 | AD6: =1+MOD(AC6-1, 9) -> 3 | AE6: =AD6 -> 3 | AG6: 57500 | AH6: =1+MOD(AG6-1, 9) -> 8 | AI6: =AH6 -> 8 | AK6: 6 = PURPLE
A7: 45580 | B7: =1+MOD(A7-1, 9) -> 4 | C7: =B7 -> 4 | E7: 47127 | F7: =1+MOD(E7-1, 9) -> 3 | G7: =F7 -> 3 | I7: 48659 | J7: =1+MOD(I7-1, 9) -> 5 | K7: =J7 -> 5 | M7: 50176 | N7: =1+MOD(M7-1, 9) -> 1 | O7: =N7 -> 1 | Q7: 51678 | R7: =1+MOD(Q7-1, 9) -> 9 | S7: =R7 -> 9 | U7: 53164 | V7: =1+MOD(U7-1, 9) -> 1 | W7: =V7 -> 1 | Y7: 54634 | Z7: =1+MOD(Y7-1, 9) -> 4 | AA7: =Z7 -> 4 | AC7: 56088 | AD7: =1+MOD(AC7-1, 9) -> 9 | AE7: =AD7 -> 9 | AG7: 57524 | AH7: =1+MOD(AG7-1, 9) -> 5 | AI7: =AH7 -> 5 | AK7: 7 = WHITE
A8: 45606 | B8: =1+MOD(A8-1, 9) -> 3 | C8: =B8 -> 3 | E8: 47152 | F8: =1+MOD(E8-1, 9) -> 1 | G8: =F8 -> 1 | I8: 48684 | J8: =1+MOD(I8-1, 9) -> 3 | K8: =J8 -> 3 | M8: 50201 | N8: =1+MOD(M8-1, 9) -> 8 | O8: =N8 -> 8 | Q8: 51703 | R8: =1+MOD(Q8-1, 9) -> 7 | S8: =R8 -> 7 | U8: 53189 | V8: =1+MOD(U8-1, 9) -> 8 | W8: =V8 -> 8 | Y8: 54659 | Z8: =1+MOD(Y8-1, 9) -> 2 | AA8: =Z8 -> 2 | AC8: 56112 | AD8: =1+MOD(AC8-1, 9) -> 6 | AE8: =AD8 -> 6 | AG8: 57548 | AH8: =1+MOD(AG8-1, 9) -> 2 | AI8: =AH8 -> 2 | AK8: 8 = PINK
A9: 45632 | B9: =1+MOD(A9-1, 9) -> 2 | C9: =B9 -> 2 | E9: 47178 | F9: =1+MOD(E9-1, 9) -> 9 | G9: =F9 -> 9 | I9: 48710 | J9: =1+MOD(I9-1, 9) -> 2 | K9: =J9 -> 2 | M9: 50226 | N9: =1+MOD(M9-1, 9) -> 6 | O9: =N9 -> 6 | Q9: 51728 | R9: =1+MOD(Q9-1, 9) -> 5 | S9: =R9 -> 5 | U9: 53214 | V9: =1+MOD(U9-1, 9) -> 6 | W9: =V9 -> 6 | Y9: 54683 | Z9: =1+MOD(Y9-1, 9) -> 8 | AA9: =Z9 -> 8 | AC9: 56136 | AD9: =1+MOD(AC9-1, 9) -> 3 | AE9: =AD9 -> 3 | AG9: 57572 | AH9: =1+MOD(AG9-1, 9) -> 8 | AI9: =AH9 -> 8 | AK9: 9 = BROWN
A10: 45658 | B10: =1+MOD(A10-1, 9) -> 1 | C10: =B10 -> 1 | E10: 47204 | F10: =1+MOD(E10-1, 9) -> 8 | G10: =F10 -> 8 | I10: 48735 | J10: =1+MOD(I10-1, 9) -> 9 | K10: =J10 -> 9 | M10: 50252 | N10: =1+MOD(M10-1, 9) -> 5 | O10: =N10 -> 5 | Q10: 51753 | R10: =1+MOD(Q10-1, 9) -> 3 | S10: =R10 -> 3 | U10: 53238 | V10: =1+MOD(U10-1, 9) -> 3 | W10: =V10 -> 3 | Y10: 54708 | Z10: =1+MOD(Y10-1, 9) -> 6 | AA10: =Z10 -> 6 | AC10: 56160 | AD10: =1+MOD(AC10-1, 9) -> 9 | AE10: =AD10 -> 9 | AG10: 57596 | AH10: =1+MOD(AG10-1, 9) -> 5 | AI10: =AH10 -> 5
A11: 45684 | B11: =1+MOD(A11-1, 9) -> 9 | C11: =B11 -> 9 | E11: 47229 | F11: =1+MOD(E11-1, 9) -> 6 | G11: =F11 -> 6 | I11: 48760 | J11: =1+MOD(I11-1, 9) -> 7 | K11: =J11 -> 7 | M11: 50277 | N11: =1+MOD(M11-1, 9) -> 3 | O11: =N11 -> 3 | Q11: 51778 | R11: =1+MOD(Q11-1, 9) -> 1 | S11: =R11 -> 1 | U11: 53263 | V11: =1+MOD(U11-1, 9) -> 1 | W11: =V11 -> 1 | Y11: 54732 | Z11: =1+MOD(Y11-1, 9) -> 3 | AA11: =Z11 -> 3 | AC11: 56184 | AD11: =1+MOD(AC11-1, 9) -> 6 | AE11: =AD11 -> 6 | AG11: 57619 | AH11: =1+MOD(AG11-1, 9) -> 1 | AI11: =AH11 -> 1
A12: 45710 | B12: =1+MOD(A12-1, 9) -> 8 | C12: =B12 -> 8 | E12: 47255 | F12: =1+MOD(E12-1, 9) -> 5 | G12: =F12 -> 5 | I12: 48786 | J12: =1+MOD(I12-1, 9) -> 6 | K12: =J12 -> 6 | M12: 50302 | N12: =1+MOD(M12-1, 9) -> 1 | O12: =N12 -> 1 | Q12: 51803 | R12: =1+MOD(Q12-1, 9) -> 8 | S12: =R12 -> 8 | U12: 53288 | V12: =1+MOD(U12-1, 9) -> 8 | W12: =V12 -> 8 | Y12: 54756 | Z12: =1+MOD(Y12-1, 9) -> 9 | AA12: =Z12 -> 9 | AC12: 56208 | AD12: =1+MOD(AC12-1, 9) -> 3 | AE12: =AD12 -> 3 | AG12: 57643 | AH12: =1+MOD(AG12-1, 9) -> 7 | AI12: =AH12 -> 7
A13: 45736 | B13: =1+MOD(A13-1, 9) -> 7 | C13: =B13 -> 7 | E13: 47281 | F13: =1+MOD(E13-1, 9) -> 4 | G13: =F13 -> 4 | I13: 48811 | J13: =1+MOD(I13-1, 9) -> 4 | K13: =J13 -> 4 | M13: 50327 | N13: =1+MOD(M13-1, 9) -> 8 | O13: =N13 -> 8 | Q13: 51827 | R13: =1+MOD(Q13-1, 9) -> 5 | S13: =R13 -> 5 | U13: 53312 | V13: =1+MOD(U13-1, 9) -> 5 | W13: =V13 -> 5 | Y13: 54781 | Z13: =1+MOD(Y13-1, 9) -> 7 | AA13: =Z13 -> 7 | AC13: 56232 | AD13: =1+MOD(AC13-1, 9) -> 9 | AE13: =AD13 -> 9 | AG13: 57667 | AH13: =1+MOD(AG13-1, 9) -> 4 | AI13: =AH13 -> 4
A14: 45761 | B14: =1+MOD(A14-1, 9) -> 5 | C14: =B14 -> 5 | E14: 47306 | F14: =1+MOD(E14-1, 9) -> 2 | G14: =F14 -> 2 | I14: 48837 | J14: =1+MOD(I14-1, 9) -> 3 | K14: =J14 -> 3 | M14: 50352 | N14: =1+MOD(M14-1, 9) -> 6 | O14: =N14 -> 6 | Q14: 51852 | R14: =1+MOD(Q14-1, 9) -> 3 | S14: =R14 -> 3 | U14: 53337 | V14: =1+MOD(U14-1, 9) -> 3 | W14: =V14 -> 3 | Y14: 54805 | Z14: =1+MOD(Y14-1, 9) -> 4 | AA14: =Z14 -> 4 | AC14: 56256 | AD14: =1+MOD(AC14-1, 9) -> 6 | AE14: =AD14 -> 6 | AG14: 57691 | AH14: =1+MOD(AG14-1, 9) -> 1 | AI14: =AH14 -> 1
A15: 45787 | B15: =1+MOD(A15-1, 9) -> 4 | C15: =B15 -> 4 | E15: 47332 | F15: =1+MOD(E15-1, 9) -> 1 | G15: =F15 -> 1 | I15: 48862 | J15: =1+MOD(I15-1, 9) -> 1 | K15: =J15 -> 1 | M15: 50377 | N15: =1+MOD(M15-1, 9) -> 4 | O15: =N15 -> 4 | Q15: 51877 | R15: =1+MOD(Q15-1, 9) -> 1 | S15: =R15 -> 1 | U15: 53361 | V15: =1+MOD(U15-1, 9) -> 9 | W15: =V15 -> 9 | Y15: 54829 | Z15: =1+MOD(Y15-1, 9) -> 1 | AA15: =Z15 -> 1 | AC15: 56280 | AD15: =1+MOD(AC15-1, 9) -> 3 | AE15: =AD15 -> 3 | AG15: 57714 | AH15: =1+MOD(AG15-1, 9) -> 6 | AI15: =AH15 -> 6
A16: 45813 | B16: =1+MOD(A16-1, 9) -> 3 | C16: =B16 -> 3 | E16: 47357 | F16: =1+MOD(E16-1, 9) -> 8 | G16: =F16 -> 8 | I16: 48887 | J16: =1+MOD(I16-1, 9) -> 8 | K16: =J16 -> 8 | M16: 50402 | N16: =1+MOD(M16-1, 9) -> 2 | O16: =N16 -> 2 | Q16: 51902 | R16: =1+MOD(Q16-1, 9) -> 8 | S16: =R16 -> 8 | U16: 53386 | V16: =1+MOD(U16-1, 9) -> 7 | W16: =V16 -> 7 | Y16: 54854 | Z16: =1+MOD(Y16-1, 9) -> 8 | AA16: =Z16 -> 8 | AC16: 56304 | AD16: =1+MOD(AC16-1, 9) -> 9 | AE16: =AD16 -> 9 | AG16: 57738 | AH16: =1+MOD(AG16-1, 9) -> 3 | AI16: =AH16 -> 3
A17: 45839 | B17: =1+MOD(A17-1, 9) -> 2 | C17: =B17 -> 2 | E17: 47383 | F17: =1+MOD(E17-1, 9) -> 7 | G17: =F17 -> 7 | I17: 48913 | J17: =1+MOD(I17-1, 9) -> 7 | K17: =J17 -> 7 | M17: 50428 | N17: =1+MOD(M17-1, 9) -> 1 | O17: =N17 -> 1 | Q17: 51927 | R17: =1+MOD(Q17-1, 9) -> 6 | S17: =R17 -> 6 | U17: 53411 | V17: =1+MOD(U17-1, 9) -> 5 | W17: =V17 -> 5 | Y17: 54878 | Z17: =1+MOD(Y17-1, 9) -> 5 | AA17: =Z17 -> 5 | AC17: 56328 | AD17: =1+MOD(AC17-1, 9) -> 6 | AE17: =AD17 -> 6 | AG17: 57762 | AH17: =1+MOD(AG17-1, 9) -> 9 | AI17: =AH17 -> 9
A18: 45865 | B18: =1+MOD(A18-1, 9) -> 1 | C18: =B18 -> 1 | E18: 47409 | F18: =1+MOD(E18-1, 9) -> 6 | G18: =F18 -> 6 | I18: 48938 | J18: =1+MOD(I18-1, 9) -> 5 | K18: =J18 -> 5 | M18: 50453 | N18: =1+MOD(M18-1, 9) -> 8 | O18: =N18 -> 8 | Q18: 51952 | R18: =1+MOD(Q18-1, 9) -> 4 | S18: =R18 -> 4 | U18: 53435 | V18: =1+MOD(U18-1, 9) -> 2 | W18: =V18 -> 2 | Y18: 54902 | Z18: =1+MOD(Y18-1, 9) -> 2 | AA18: =Z18 -> 2 | AC18: 56353 | AD18: =1+MOD(AC18-1, 9) -> 4 | AE18: =AD18 -> 4 | AG18: 57786 | AH18: =1+MOD(AG18-1, 9) -> 6 | AI18: =AH18 -> 6
A19: 45891 | B19: =1+MOD(A19-1, 9) -> 9 | C19: =B19 -> 9 | E19: 47434 | F19: =1+MOD(E19-1, 9) -> 4 | G19: =F19 -> 4 | I19: 48964 | J19: =1+MOD(I19-1, 9) -> 4 | K19: =J19 -> 4 | M19: 50478 | N19: =1+MOD(M19-1, 9) -> 6 | O19: =N19 -> 6 | Q19: 51977 | R19: =1+MOD(Q19-1, 9) -> 2 | S19: =R19 -> 2 | U19: 53460 | V19: =1+MOD(U19-1, 9) -> 9 | W19: =V19 -> 9 | Y19: 54926 | Z19: =1+MOD(Y19-1, 9) -> 8 | AA19: =Z19 -> 8 | AC19: 56377 | AD19: =1+MOD(AC19-1, 9) -> 1 | AE19: =AD19 -> 1 | AG19: 57809 | AH19: =1+MOD(AG19-1, 9) -> 2 | AI19: =AH19 -> 2
A20: 45917 | B20: =1+MOD(A20-1, 9) -> 8 | C20: =B20 -> 8 | E20: 47460 | F20: =1+MOD(E20-1, 9) -> 3 | G20: =F20 -> 3 | I20: 48989 | J20: =1+MOD(I20-1, 9) -> 2 | K20: =J20 -> 2 | M20: 50503 | N20: =1+MOD(M20-1, 9) -> 4 | O20: =N20 -> 4 | Q20: 52002 | R20: =1+MOD(Q20-1, 9) -> 9 | S20: =R20 -> 9 | U20: 53484 | V20: =1+MOD(U20-1, 9) -> 6 | W20: =V20 -> 6 | Y20: 54951 | Z20: =1+MOD(Y20-1, 9) -> 6 | AA20: =Z20 -> 6 | AC20: 56401 | AD20: =1+MOD(AC20-1, 9) -> 7 | AE20: =AD20 -> 7 | AG20: 57833 | AH20: =1+MOD(AG20-1, 9) -> 8 | AI20: =AH20 -> 8
A21: 45942 | B21: =1+MOD(A21-1, 9) -> 6 | C21: =B21 -> 6 | E21: 47486 | F21: =1+MOD(E21-1, 9) -> 2 | G21: =F21 -> 2 | I21: 49014 | J21: =1+MOD(I21-1, 9) -> 9 | K21: =J21 -> 9 | M21: 50528 | N21: =1+MOD(M21-1, 9) -> 2 | O21: =N21 -> 2 | Q21: 52026 | R21: =1+MOD(Q21-1, 9) -> 6 | S21: =R21 -> 6 | U21: 53509 | V21: =1+MOD(U21-1, 9) -> 4 | W21: =V21 -> 4 | Y21: 54975 | Z21: =1+MOD(Y21-1, 9) -> 3 | AA21: =Z21 -> 3 | AC21: 56425 | AD21: =1+MOD(AC21-1, 9) -> 4 | AE21: =AD21 -> 4 | AG21: 57857 | AH21: =1+MOD(AG21-1, 9) -> 5 | AI21: =AH21 -> 5
... A60: 46947 | B60: =1+MOD(A60-1, 9) -> 3 | C60: =B60 -> 3 | E60: 48481 | F60: =1+MOD(E60-1, 9) -> 7 | G60: =F60 -> 7 | I60: 50000 | J60: =1+MOD(I60-1, 9) -> 5 | K60: =J60 -> 5 | M60: 51504 | N60: =1+MOD(M60-1, 9) -> 6 | O60: =N60 -> 6 | Q60: 52992 | R60: =1+MOD(Q60-1, 9) -> 9 | S60: =R60 -> 9 | U60: 54464 | V60: =1+MOD(U60-1, 9) -> 5 | W60: =V60 -> 5 | Y60: 55919 | Z60: =1+MOD(Y60-1, 9) -> 2 | AA60: =Z60 -> 2 | AC60: 57358 | AD60: =1+MOD(AC60-1, 9) -> 1 | AE60: =AD60 -> 1 | AG60: 58778 | AH60: =1+MOD(AG60-1, 9) -> 8 | AI60: =AH60 -> 8

Sheet 37-45
A1: 58802 | B1: =1+MOD(A1-1, 9) -> 5 | C1: =B1 -> 5 | E1: 60205 | F1: =1+MOD(E1-1, 9) -> 4 | G1: =F1 -> 4 | I1: 61589 | J1: =1+MOD(I1-1, 9) -> 2 | K1: =J1 -> 2 | M1: 62955 | N1: =1+MOD(M1-1, 9) -> 9 | O1: =N1 -> 9 | Q1: 64301 | R1: =1+MOD(Q1-1, 9) -> 5 | S1: =R1 -> 5 | U1: 65628 | V1: =1+MOD(U1-1, 9) -> 9 | W1: =V1 -> 9 | Y1: 66935 | Z1: =1+MOD(Y1-1, 9) -> 2 | AA1: =Z1 -> 2 | AC1: 68221 | AD1: =1+MOD(AC1-1, 9) -> 1 | AE1: =AD1 -> 1 | AG1: 69487 | AH1: =1+MOD(AG1-1, 9) -> 7 | AI1: =AH1 -> 7 | AK1: 1 = RED
A2: 58825 | B2: =1+MOD(A2-1, 9) -> 1 | C2: =B2 -> 1 | E2: 60228 | F2: =1+MOD(E2-1, 9) -> 9 | G2: =F2 -> 9 | I2: 61612 | J2: =1+MOD(I2-1, 9) -> 7 | K2: =J2 -> 7 | M2: 62977 | N2: =1+MOD(M2-1, 9) -> 4 | O2: =N2 -> 4 | Q2: 64323 | R2: =1+MOD(Q2-1, 9) -> 9 | S2: =R2 -> 9 | U2: 65650 | V2: =1+MOD(U2-1, 9) -> 4 | W2: =V2 -> 4 | Y2: 66956 | Z2: =1+MOD(Y2-1, 9) -> 5 | AA2: =Z2 -> 5 | AC2: 68242 | AD2: =1+MOD(AC2-1, 9) -> 4 | AE2: =AD2 -> 4 | AG2: 69508 | AH2: =1+MOD(AG2-1, 9) -> 1 | AI2: =AH2 -> 1 | AK2: 2 = GREEN
A3: 58849 | B3: =1+MOD(A3-1, 9) -> 7 | C3: =B3 -> 7 | E3: 60251 | F3: =1+MOD(E3-1, 9) -> 5 | G3: =F3 -> 5 | I3: 61635 | J3: =1+MOD(I3-1, 9) -> 3 | K3: =J3 -> 3 | M3: 63000 | N3: =1+MOD(M3-1, 9) -> 9 | O3: =N3 -> 9 | Q3: 64345 | R3: =1+MOD(Q3-1, 9) -> 4 | S3: =R3 -> 4 | U3: 65672 | V3: =1+MOD(U3-1, 9) -> 8 | W3: =V3 -> 8 | Y3: 66978 | Z3: =1+MOD(Y3-1, 9) -> 9 | AA3: =Z3 -> 9 | AC3: 68264 | AD3: =1+MOD(AC3-1, 9) -> 8 | AE3: =AD3 -> 8 | AG3: 69528 | AH3: =1+MOD(AG3-1, 9) -> 3 | AI3: =AH3 -> 3 | AK3: 3 = BLUE
A4: 58873 | B4: =1+MOD(A4-1, 9) -> 4 | C4: =B4 -> 4 | E4: 60274 | F4: =1+MOD(E4-1, 9) -> 1 | G4: =F4 -> 1 | I4: 61658 | J4: =1+MOD(I4-1, 9) -> 8 | K4: =J4 -> 8 | M4: 63022 | N4: =1+MOD(M4-1, 9) -> 4 | O4: =N4 -> 4 | Q4: 64368 | R4: =1+MOD(Q4-1, 9) -> 9 | S4: =R4 -> 9 | U4: 65694 | V4: =1+MOD(U4-1, 9) -> 3 | W4: =V4 -> 3 | Y4: 66999 | Z4: =1+MOD(Y4-1, 9) -> 3 | AA4: =Z4 -> 3 | AC4: 68285 | AD4: =1+MOD(AC4-1, 9) -> 2 | AE4: =AD4 -> 2 | AG4: 69549 | AH4: =1+MOD(AG4-1, 9) -> 6 | AI4: =AH4 -> 6 | AK4: 4 = YELLOW
A5: 58896 | B5: =1+MOD(A5-1, 9) -> 9 | C5: =B5 -> 9 | E5: 60298 | F5: =1+MOD(E5-1, 9) -> 7 | G5: =F5 -> 7 | I5: 61681 | J5: =1+MOD(I5-1, 9) -> 4 | K5: =J5 -> 4 | M5: 63045 | N5: =1+MOD(M5-1, 9) -> 9 | O5: =N5 -> 9 | Q5: 64390 | R5: =1+MOD(Q5-1, 9) -> 4 | S5: =R5 -> 4 | U5: 65716 | V5: =1+MOD(U5-1, 9) -> 7 | W5: =V5 -> 7 | Y5: 67021 | Z5: =1+MOD(Y5-1, 9) -> 7 | AA5: =Z5 -> 7 | AC5: 68306 | AD5: =1+MOD(AC5-1, 9) -> 5 | AE5: =AD5 -> 5 | AG5: 69570 | AH5: =1+MOD(AG5-1, 9) -> 9 | AI5: =AH5 -> 9 | AK5: 5 = CYAN
A6: 58920 | B6: =1+MOD(A6-1, 9) -> 6 | C6: =B6 -> 6 | E6: 60320 | F6: =1+MOD(E6-1, 9) -> 2 | G6: =F6 -> 2 | I6: 61703 | J6: =1+MOD(I6-1, 9) -> 8 | K6: =J6 -> 8 | M6: 63067 | N6: =1+MOD(M6-1, 9) -> 4 | O6: =N6 -> 4 | Q6: 64412 | R6: =1+MOD(Q6-1, 9) -> 8 | S6: =R6 -> 8 | U6: 65737 | V6: =1+MOD(U6-1, 9) -> 1 | W6: =V6 -> 1 | Y6: 67043 | Z6: =1+MOD(Y6-1, 9) -> 2 | AA6: =Z6 -> 2 | AC6: 68327 | AD6: =1+MOD(AC6-1, 9) -> 8 | AE6: =AD6 -> 8 | AG6: 69591 | AH6: =1+MOD(AG6-1, 9) -> 3 | AI6: =AH6 -> 3 | AK6: 6 = PURPLE
A7: 58943 | B7: =1+MOD(A7-1, 9) -> 2 | C7: =B7 -> 2 | E7: 60344 | F7: =1+MOD(E7-1, 9) -> 8 | G7: =F7 -> 8 | I7: 61726 | J7: =1+MOD(I7-1, 9) -> 4 | K7: =J7 -> 4 | M7: 63090 | N7: =1+MOD(M7-1, 9) -> 9 | O7: =N7 -> 9 | Q7: 64435 | R7: =1+MOD(Q7-1, 9) -> 4 | S7: =R7 -> 4 | U7: 65759 | V7: =1+MOD(U7-1, 9) -> 5 | W7: =V7 -> 5 | Y7: 67064 | Z7: =1+MOD(Y7-1, 9) -> 5 | AA7: =Z7 -> 5 | AC7: 68349 | AD7: =1+MOD(AC7-1, 9) -> 3 | AE7: =AD7 -> 3 | AG7: 69612 | AH7: =1+MOD(AG7-1, 9) -> 6 | AI7: =AH7 -> 6 | AK7: 7 = WHITE
A8: 58967 | B8: =1+MOD(A8-1, 9) -> 8 | C8: =B8 -> 8 | E8: 60367 | F8: =1+MOD(E8-1, 9) -> 4 | G8: =F8 -> 4 | I8: 61749 | J8: =1+MOD(I8-1, 9) -> 9 | K8: =J8 -> 9 | M8: 63113 | N8: =1+MOD(M8-1, 9) -> 5 | O8: =N8 -> 5 | Q8: 64457 | R8: =1+MOD(Q8-1, 9) -> 8 | S8: =R8 -> 8 | U8: 65781 | V8: =1+MOD(U8-1, 9) -> 9 | W8: =V8 -> 9 | Y8: 67086 | Z8: =1+MOD(Y8-1, 9) -> 9 | AA8: =Z8 -> 9 | AC8: 68370 | AD8: =1+MOD(AC8-1, 9) -> 6 | AE8: =AD8 -> 6 | AG8: 69633 | AH8: =1+MOD(AG8-1, 9) -> 9 | AI8: =AH8 -> 9 | AK8: 8 = PINK
A9: 58990 | B9: =1+MOD(A9-1, 9) -> 4 | C9: =B9 -> 4 | E9: 60390 | F9: =1+MOD(E9-1, 9) -> 9 | G9: =F9 -> 9 | I9: 61772 | J9: =1+MOD(I9-1, 9) -> 5 | K9: =J9 -> 5 | M9: 63135 | N9: =1+MOD(M9-1, 9) -> 9 | O9: =N9 -> 9 | Q9: 64479 | R9: =1+MOD(Q9-1, 9) -> 3 | S9: =R9 -> 3 | U9: 65803 | V9: =1+MOD(U9-1, 9) -> 4 | W9: =V9 -> 4 | Y9: 67107 | Z9: =1+MOD(Y9-1, 9) -> 3 | AA9: =Z9 -> 3 | AC9: 68391 | AD9: =1+MOD(AC9-1, 9) -> 9 | AE9: =AD9 -> 9 | AG9: 69654 | AH9: =1+MOD(AG9-1, 9) -> 3 | AI9: =AH9 -> 3 | AK9: 9 = BROWN
A10: 59014 | B10: =1+MOD(A10-1, 9) -> 1 | C10: =B10 -> 1 | E10: 60413 | F10: =1+MOD(E10-1, 9) -> 5 | G10: =F10 -> 5 | I10: 61795 | J10: =1+MOD(I10-1, 9) -> 1 | K10: =J10 -> 1 | M10: 63158 | N10: =1+MOD(M10-1, 9) -> 5 | O10: =N10 -> 5 | Q10: 64501 | R10: =1+MOD(Q10-1, 9) -> 7 | S10: =R10 -> 7 | U10: 65825 | V10: =1+MOD(U10-1, 9) -> 8 | W10: =V10 -> 8 | Y10: 67129 | Z10: =1+MOD(Y10-1, 9) -> 7 | AA10: =Z10 -> 7 | AC10: 68412 | AD10: =1+MOD(AC10-1, 9) -> 3 | AE10: =AD10 -> 3 | AG10: 69675 | AH10: =1+MOD(AG10-1, 9) -> 6 | AI10: =AH10 -> 6
A11: 59037 | B11: =1+MOD(A11-1, 9) -> 6 | C11: =B11 -> 6 | E11: 60437 | F11: =1+MOD(E11-1, 9) -> 2 | G11: =F11 -> 2 | I11: 61818 | J11: =1+MOD(I11-1, 9) -> 6 | K11: =J11 -> 6 | M11: 63180 | N11: =1+MOD(M11-1, 9) -> 9 | O11: =N11 -> 9 | Q11: 64523 | R11: =1+MOD(Q11-1, 9) -> 2 | S11: =R11 -> 2 | U11: 65847 | V11: =1+MOD(U11-1, 9) -> 3 | W11: =V11 -> 3 | Y11: 67150 | Z11: =1+MOD(Y11-1, 9) -> 1 | AA11: =Z11 -> 1 | AC11: 68433 | AD11: =1+MOD(AC11-1, 9) -> 6 | AE11: =AD11 -> 6 | AG11: 69696 | AH11: =1+MOD(AG11-1, 9) -> 9 | AI11: =AH11 -> 9
A12: 59060 | B12: =1+MOD(A12-1, 9) -> 2 | C12: =B12 -> 2 | E12: 60460 | F12: =1+MOD(E12-1, 9) -> 7 | G12: =F12 -> 7 | I12: 61841 | J12: =1+MOD(I12-1, 9) -> 2 | K12: =J12 -> 2 | M12: 63203 | N12: =1+MOD(M12-1, 9) -> 5 | O12: =N12 -> 5 | Q12: 64546 | R12: =1+MOD(Q12-1, 9) -> 7 | S12: =R12 -> 7 | U12: 65869 | V12: =1+MOD(U12-1, 9) -> 7 | W12: =V12 -> 7 | Y12: 67172 | Z12: =1+MOD(Y12-1, 9) -> 5 | AA12: =Z12 -> 5 | AC12: 68455 | AD12: =1+MOD(AC12-1, 9) -> 1 | AE12: =AD12 -> 1 | AG12: 69716 | AH12: =1+MOD(AG12-1, 9) -> 2 | AI12: =AH12 -> 2
A13: 59084 | B13: =1+MOD(A13-1, 9) -> 8 | C13: =B13 -> 8 | E13: 60483 | F13: =1+MOD(E13-1, 9) -> 3 | G13: =F13 -> 3 | I13: 61864 | J13: =1+MOD(I13-1, 9) -> 7 | K13: =J13 -> 7 | M13: 63225 | N13: =1+MOD(M13-1, 9) -> 9 | O13: =N13 -> 9 | Q13: 64568 | R13: =1+MOD(Q13-1, 9) -> 2 | S13: =R13 -> 2 | U13: 65891 | V13: =1+MOD(U13-1, 9) -> 2 | W13: =V13 -> 2 | Y13: 67194 | Z13: =1+MOD(Y13-1, 9) -> 9 | AA13: =Z13 -> 9 | AC13: 68476 | AD13: =1+MOD(AC13-1, 9) -> 4 | AE13: =AD13 -> 4 | AG13: 69737 | AH13: =1+MOD(AG13-1, 9) -> 5 | AI13: =AH13 -> 5
A14: 59107 | B14: =1+MOD(A14-1, 9) -> 4 | C14: =B14 -> 4 | E14: 60506 | F14: =1+MOD(E14-1, 9) -> 8 | G14: =F14 -> 8 | I14: 61886 | J14: =1+MOD(I14-1, 9) -> 2 | K14: =J14 -> 2 | M14: 63248 | N14: =1+MOD(M14-1, 9) -> 5 | O14: =N14 -> 5 | Q14: 64590 | R14: =1+MOD(Q14-1, 9) -> 6 | S14: =R14 -> 6 | U14: 65913 | V14: =1+MOD(U14-1, 9) -> 6 | W14: =V14 -> 6 | Y14: 67215 | Z14: =1+MOD(Y14-1, 9) -> 3 | AA14: =Z14 -> 3 | AC14: 68497 | AD14: =1+MOD(AC14-1, 9) -> 7 | AE14: =AD14 -> 7 | AG14: 69758 | AH14: =1+MOD(AG14-1, 9) -> 8 | AI14: =AH14 -> 8
A15: 59131 | B15: =1+MOD(A15-1, 9) -> 1 | C15: =B15 -> 1 | E15: 60529 | F15: =1+MOD(E15-1, 9) -> 4 | G15: =F15 -> 4 | I15: 61909 | J15: =1+MOD(I15-1, 9) -> 7 | K15: =J15 -> 7 | M15: 63270 | N15: =1+MOD(M15-1, 9) -> 9 | O15: =N15 -> 9 | Q15: 64612 | R15: =1+MOD(Q15-1, 9) -> 1 | S15: =R15 -> 1 | U15: 65934 | V15: =1+MOD(U15-1, 9) -> 9 | W15: =V15 -> 9 | Y15: 67237 | Z15: =1+MOD(Y15-1, 9) -> 7 | AA15: =Z15 -> 7 | AC15: 68518 | AD15: =1+MOD(AC15-1, 9) -> 1 | AE15: =AD15 -> 1 | AG15: 69779 | AH15: =1+MOD(AG15-1, 9) -> 2 | AI15: =AH15 -> 2
A16: 59154 | B16: =1+MOD(A16-1, 9) -> 6 | C16: =B16 -> 6 | E16: 60552 | F16: =1+MOD(E16-1, 9) -> 9 | G16: =F16 -> 9 | I16: 61932 | J16: =1+MOD(I16-1, 9) -> 3 | K16: =J16 -> 3 | M16: 63293 | N16: =1+MOD(M16-1, 9) -> 5 | O16: =N16 -> 5 | Q16: 64635 | R16: =1+MOD(Q16-1, 9) -> 6 | S16: =R16 -> 6 | U16: 65956 | V16: =1+MOD(U16-1, 9) -> 4 | W16: =V16 -> 4 | Y16: 67258 | Z16: =1+MOD(Y16-1, 9) -> 1 | AA16: =Z16 -> 1 | AC16: 68539 | AD16: =1+MOD(AC16-1, 9) -> 4 | AE16: =AD16 -> 4 | AG16: 69800 | AH16: =1+MOD(AG16-1, 9) -> 5 | AI16: =AH16 -> 5
A17: 59178 | B17: =1+MOD(A17-1, 9) -> 3 | C17: =B17 -> 3 | E17: 60576 | F17: =1+MOD(E17-1, 9) -> 6 | G17: =F17 -> 6 | I17: 61955 | J17: =1+MOD(I17-1, 9) -> 8 | K17: =J17 -> 8 | M17: 63315 | N17: =1+MOD(M17-1, 9) -> 9 | O17: =N17 -> 9 | Q17: 64657 | R17: =1+MOD(Q17-1, 9) -> 1 | S17: =R17 -> 1 | U17: 65978 | V17: =1+MOD(U17-1, 9) -> 8 | W17: =V17 -> 8 | Y17: 67280 | Z17: =1+MOD(Y17-1, 9) -> 5 | AA17: =Z17 -> 5 | AC17: 68561 | AD17: =1+MOD(AC17-1, 9) -> 8 | AE17: =AD17 -> 8 | AG17: 69821 | AH17: =1+MOD(AG17-1, 9) -> 8 | AI17: =AH17 -> 8
A18: 59201 | B18: =1+MOD(A18-1, 9) -> 8 | C18: =B18 -> 8 | E18: 60599 | F18: =1+MOD(E18-1, 9) -> 2 | G18: =F18 -> 2 | I18: 61978 | J18: =1+MOD(I18-1, 9) -> 4 | K18: =J18 -> 4 | M18: 63338 | N18: =1+MOD(M18-1, 9) -> 5 | O18: =N18 -> 5 | Q18: 64679 | R18: =1+MOD(Q18-1, 9) -> 5 | S18: =R18 -> 5 | U18: 66000 | V18: =1+MOD(U18-1, 9) -> 3 | W18: =V18 -> 3 | Y18: 67301 | Z18: =1+MOD(Y18-1, 9) -> 8 | AA18: =Z18 -> 8 | AC18: 68582 | AD18: =1+MOD(AC18-1, 9) -> 2 | AE18: =AD18 -> 2 | AG18: 69841 | AH18: =1+MOD(AG18-1, 9) -> 1 | AI18: =AH18 -> 1
A19: 59225 | B19: =1+MOD(A19-1, 9) -> 5 | C19: =B19 -> 5 | E19: 60622 | F19: =1+MOD(E19-1, 9) -> 7 | G19: =F19 -> 7 | I19: 62001 | J19: =1+MOD(I19-1, 9) -> 9 | K19: =J19 -> 9 | M19: 63360 | N19: =1+MOD(M19-1, 9) -> 9 | O19: =N19 -> 9 | Q19: 64701 | R19: =1+MOD(Q19-1, 9) -> 9 | S19: =R19 -> 9 | U19: 66022 | V19: =1+MOD(U19-1, 9) -> 7 | W19: =V19 -> 7 | Y19: 67323 | Z19: =1+MOD(Y19-1, 9) -> 3 | AA19: =Z19 -> 3 | AC19: 68603 | AD19: =1+MOD(AC19-1, 9) -> 5 | AE19: =AD19 -> 5 | AG19: 69862 | AH19: =1+MOD(AG19-1, 9) -> 4 | AI19: =AH19 -> 4
A20: 59248 | B20: =1+MOD(A20-1, 9) -> 1 | C20: =B20 -> 1 | E20: 60645 | F20: =1+MOD(E20-1, 9) -> 3 | G20: =F20 -> 3 | I20: 62023 | J20: =1+MOD(I20-1, 9) -> 4 | K20: =J20 -> 4 | M20: 63383 | N20: =1+MOD(M20-1, 9) -> 5 | O20: =N20 -> 5 | Q20: 64723 | R20: =1+MOD(Q20-1, 9) -> 4 | S20: =R20 -> 4 | U20: 66044 | V20: =1+MOD(U20-1, 9) -> 2 | W20: =V20 -> 2 | Y20: 67344 | Z20: =1+MOD(Y20-1, 9) -> 6 | AA20: =Z20 -> 6 | AC20: 68624 | AD20: =1+MOD(AC20-1, 9) -> 8 | AE20: =AD20 -> 8 | AG20: 69883 | AH20: =1+MOD(AG20-1, 9) -> 7 | AI20: =AH20 -> 7
A21: 59272 | B21: =1+MOD(A21-1, 9) -> 7 | C21: =B21 -> 7 | E21: 60668 | F21: =1+MOD(E21-1, 9) -> 8 | G21: =F21 -> 8 | I21: 62046 | J21: =1+MOD(I21-1, 9) -> 9 | K21: =J21 -> 9 | M21: 63405 | N21: =1+MOD(M21-1, 9) -> 9 | O21: =N21 -> 9 | Q21: 64745 | R21: =1+MOD(Q21-1, 9) -> 8 | S21: =R21 -> 8 | U21: 66066 | V21: =1+MOD(U21-1, 9) -> 6 | W21: =V21 -> 6 | Y21: 67366 | Z21: =1+MOD(Y21-1, 9) -> 1 | AA21: =Z21 -> 1 | AC21: 68645 | AD21: =1+MOD(AC21-1, 9) -> 2 | AE21: =AD21 -> 2 | AG21: 69904 | AH21: =1+MOD(AG21-1, 9) -> 1 | AI21: =AH21 -> 1
... A60: 60181 | B60: =1+MOD(A60-1, 9) -> 7 | C60: =B60 -> 7 | E60: 61566 | F60: =1+MOD(E60-1, 9) -> 6 | G60: =F60 -> 6 | I60: 62932 | J60: =1+MOD(I60-1, 9) -> 4 | K60: =J60 -> 4 | M60: 64279 | N60: =1+MOD(M60-1, 9) -> 1 | O60: =N60 -> 1 | Q60: 65606 | R60: =1+MOD(Q60-1, 9) -> 5 | S60: =R60 -> 5 | U60: 66913 | V60: =1+MOD(U60-1, 9) -> 7 | W60: =V60 -> 7 | Y60: 68200 | Z60: =1+MOD(Y60-1, 9) -> 7 | AA60: =Z60 -> 7 | AC60: 69466 | AD60: =1+MOD(AC60-1, 9) -> 4 | AE60: =AD60 -> 4 | AG60: 70711 | AH60: =1+MOD(AG60-1, 9) -> 7 | AI60: =AH60 -> 7

Sheet 46-54
A1: 70731 | B1: =1+MOD(A1-1, 9) -> 9 | C1: =B1 -> 9 | E1: 71954 | F1: =1+MOD(E1-1, 9) -> 8 | G1: =F1 -> 8 | I1: 73155 | J1: =1+MOD(I1-1, 9) -> 3 | K1: =J1 -> 3 | M1: 74334 | N1: =1+MOD(M1-1, 9) -> 3 | O1: =N1 -> 3 | Q1: 75490 | R1: =1+MOD(Q1-1, 9) -> 7 | S1: =R1 -> 7 | U1: 76623 | V1: =1+MOD(U1-1, 9) -> 6 | W1: =V1 -> 6 | Y1: 77733 | Z1: =1+MOD(Y1-1, 9) -> 9 | AA1: =Z1 -> 9 | AC1: 78819 | AD1: =1+MOD(AC1-1, 9) -> 6 | AE1: =AD1 -> 6 | AG1: 79881 | AH1: =1+MOD(AG1-1, 9) -> 6 | AI1: =AH1 -> 6 | AK1: 1 = RED
A2: 70752 | B2: =1+MOD(A2-1, 9) -> 3 | C2: =B2 -> 3 | E2: 71974 | F2: =1+MOD(E2-1, 9) -> 1 | G2: =F2 -> 1 | I2: 73175 | J2: =1+MOD(I2-1, 9) -> 5 | K2: =J2 -> 5 | M2: 74353 | N2: =1+MOD(M2-1, 9) -> 4 | O2: =N2 -> 4 | Q2: 75509 | R2: =1+MOD(Q2-1, 9) -> 8 | S2: =R2 -> 8 | U2: 76642 | V2: =1+MOD(U2-1, 9) -> 7 | W2: =V2 -> 7 | Y2: 77751 | Z2: =1+MOD(Y2-1, 9) -> 9 | AA2: =Z2 -> 9 | AC2: 78837 | AD2: =1+MOD(AC2-1, 9) -> 6 | AE2: =AD2 -> 6 | AG2: 79898 | AH2: =1+MOD(AG2-1, 9) -> 5 | AI2: =AH2 -> 5 | AK2: 2 = GREEN
A3: 70772 | B3: =1+MOD(A3-1, 9) -> 5 | C3: =B3 -> 5 | E3: 71994 | F3: =1+MOD(E3-1, 9) -> 3 | G3: =F3 -> 3 | I3: 73195 | J3: =1+MOD(I3-1, 9) -> 7 | K3: =J3 -> 7 | M3: 74373 | N3: =1+MOD(M3-1, 9) -> 6 | O3: =N3 -> 6 | Q3: 75528 | R3: =1+MOD(Q3-1, 9) -> 9 | S3: =R3 -> 9 | U3: 76660 | V3: =1+MOD(U3-1, 9) -> 7 | W3: =V3 -> 7 | Y3: 77769 | Z3: =1+MOD(Y3-1, 9) -> 9 | AA3: =Z3 -> 9 | AC3: 78855 | AD3: =1+MOD(AC3-1, 9) -> 6 | AE3: =AD3 -> 6 | AG3: 79916 | AH3: =1+MOD(AG3-1, 9) -> 5 | AI3: =AH3 -> 5 | AK3: 3 = BLUE
A4: 70793 | B4: =1+MOD(A4-1, 9) -> 8 | C4: =B4 -> 8 | E4: 72015 | F4: =1+MOD(E4-1, 9) -> 6 | G4: =F4 -> 6 | I4: 73215 | J4: =1+MOD(I4-1, 9) -> 9 | K4: =J4 -> 9 | M4: 74392 | N4: =1+MOD(M4-1, 9) -> 7 | O4: =N4 -> 7 | Q4: 75547 | R4: =1+MOD(Q4-1, 9) -> 1 | S4: =R4 -> 1 | U4: 76679 | V4: =1+MOD(U4-1, 9) -> 8 | W4: =V4 -> 8 | Y4: 77788 | Z4: =1+MOD(Y4-1, 9) -> 1 | AA4: =Z4 -> 1 | AC4: 78873 | AD4: =1+MOD(AC4-1, 9) -> 6 | AE4: =AD4 -> 6 | AG4: 79933 | AH4: =1+MOD(AG4-1, 9) -> 4 | AI4: =AH4 -> 4 | AK4: 4 = YELLOW
A5: 70813 | B5: =1+MOD(A5-1, 9) -> 1 | C5: =B5 -> 1 | E5: 72035 | F5: =1+MOD(E5-1, 9) -> 8 | G5: =F5 -> 8 | I5: 73234 | J5: =1+MOD(I5-1, 9) -> 1 | K5: =J5 -> 1 | M5: 74412 | N5: =1+MOD(M5-1, 9) -> 9 | O5: =N5 -> 9 | Q5: 75566 | R5: =1+MOD(Q5-1, 9) -> 2 | S5: =R5 -> 2 | U5: 76698 | V5: =1+MOD(U5-1, 9) -> 9 | W5: =V5 -> 9 | Y5: 77806 | Z5: =1+MOD(Y5-1, 9) -> 1 | AA5: =Z5 -> 1 | AC5: 78890 | AD5: =1+MOD(AC5-1, 9) -> 5 | AE5: =AD5 -> 5 | AG5: 79951 | AH5: =1+MOD(AG5-1, 9) -> 4 | AI5: =AH5 -> 4 | AK5: 5 = CYAN
A6: 70834 | B6: =1+MOD(A6-1, 9) -> 4 | C6: =B6 -> 4 | E6: 72055 | F6: =1+MOD(E6-1, 9) -> 1 | G6: =F6 -> 1 | I6: 73254 | J6: =1+MOD(I6-1, 9) -> 3 | K6: =J6 -> 3 | M6: 74431 | N6: =1+MOD(M6-1, 9) -> 1 | O6: =N6 -> 1 | Q6: 75585 | R6: =1+MOD(Q6-1, 9) -> 3 | S6: =R6 -> 3 | U6: 76716 | V6: =1+MOD(U6-1, 9) -> 9 | W6: =V6 -> 9 | Y6: 77824 | Z6: =1+MOD(Y6-1, 9) -> 1 | AA6: =Z6 -> 1 | AC6: 78908 | AD6: =1+MOD(AC6-1, 9) -> 5 | AE6: =AD6 -> 5 | AG6: 79968 | AH6: =1+MOD(AG6-1, 9) -> 3 | AI6: =AH6 -> 3 | AK6: 6 = PURPLE
A7: 70854 | B7: =1+MOD(A7-1, 9) -> 6 | C7: =B7 -> 6 | E7: 72075 | F7: =1+MOD(E7-1, 9) -> 3 | G7: =F7 -> 3 | I7: 73274 | J7: =1+MOD(I7-1, 9) -> 5 | K7: =J7 -> 5 | M7: 74450 | N7: =1+MOD(M7-1, 9) -> 2 | O7: =N7 -> 2 | Q7: 75604 | R7: =1+MOD(Q7-1, 9) -> 4 | S7: =R7 -> 4 | U7: 76735 | V7: =1+MOD(U7-1, 9) -> 1 | W7: =V7 -> 1 | Y7: 77842 | Z7: =1+MOD(Y7-1, 9) -> 1 | AA7: =Z7 -> 1 | AC7: 78926 | AD7: =1+MOD(AC7-1, 9) -> 5 | AE7: =AD7 -> 5 | AG7: 79986 | AH7: =1+MOD(AG7-1, 9) -> 3 | AI7: =AH7 -> 3 | AK7: 7 = WHITE
A8: 70875 | B8: =1+MOD(A8-1, 9) -> 9 | C8: =B8 -> 9 | E8: 72095 | F8: =1+MOD(E8-1, 9) -> 5 | G8: =F8 -> 5 | I8: 73294 | J8: =1+MOD(I8-1, 9) -> 7 | K8: =J8 -> 7 | M8: 74470 | N8: =1+MOD(M8-1, 9) -> 4 | O8: =N8 -> 4 | Q8: 75623 | R8: =1+MOD(Q8-1, 9) -> 5 | S8: =R8 -> 5 | U8: 76754 | V8: =1+MOD(U8-1, 9) -> 2 | W8: =V8 -> 2 | Y8: 77861 | Z8: =1+MOD(Y8-1, 9) -> 2 | AA8: =Z8 -> 2 | AC8: 78944 | AD8: =1+MOD(AC8-1, 9) -> 5 | AE8: =AD8 -> 5 | AG8: 80003 | AH8: =1+MOD(AG8-1, 9) -> 2 | AI8: =AH8 -> 2 | AK8: 8 = PINK
A9: 70895 | B9: =1+MOD(A9-1, 9) -> 2 | C9: =B9 -> 2 | E9: 72115 | F9: =1+MOD(E9-1, 9) -> 7 | G9: =F9 -> 7 | I9: 73314 | J9: =1+MOD(I9-1, 9) -> 9 | K9: =J9 -> 9 | M9: 74489 | N9: =1+MOD(M9-1, 9) -> 5 | O9: =N9 -> 5 | Q9: 75642 | R9: =1+MOD(Q9-1, 9) -> 6 | S9: =R9 -> 6 | U9: 76772 | V9: =1+MOD(U9-1, 9) -> 2 | W9: =V9 -> 2 | Y9: 77879 | Z9: =1+MOD(Y9-1, 9) -> 2 | AA9: =Z9 -> 2 | AC9: 78962 | AD9: =1+MOD(AC9-1, 9) -> 5 | AE9: =AD9 -> 5 | AG9: 80021 | AH9: =1+MOD(AG9-1, 9) -> 2 | AI9: =AH9 -> 2 | AK9: 9 = BROWN
A10: 70916 | B10: =1+MOD(A10-1, 9) -> 5 | C10: =B10 -> 5 | E10: 72136 | F10: =1+MOD(E10-1, 9) -> 1 | G10: =F10 -> 1 | I10: 73333 | J10: =1+MOD(I10-1, 9) -> 1 | K10: =J10 -> 1 | M10: 74509 | N10: =1+MOD(M10-1, 9) -> 7 | O10: =N10 -> 7 | Q10: 75661 | R10: =1+MOD(Q10-1, 9) -> 7 | S10: =R10 -> 7 | U10: 76791 | V10: =1+MOD(U10-1, 9) -> 3 | W10: =V10 -> 3 | Y10: 77897 | Z10: =1+MOD(Y10-1, 9) -> 2 | AA10: =Z10 -> 2 | AC10: 78980 | AD10: =1+MOD(AC10-1, 9) -> 5 | AE10: =AD10 -> 5 | AG10: 80038 | AH10: =1+MOD(AG10-1, 9) -> 1 | AI10: =AH10 -> 1
A11: 70936 | B11: =1+MOD(A11-1, 9) -> 7 | C11: =B11 -> 7 | E11: 72156 | F11: =1+MOD(E11-1, 9) -> 3 | G11: =F11 -> 3 | I11: 73353 | J11: =1+MOD(I11-1, 9) -> 3 | K11: =J11 -> 3 | M11: 74528 | N11: =1+MOD(M11-1, 9) -> 8 | O11: =N11 -> 8 | Q11: 75680 | R11: =1+MOD(Q11-1, 9) -> 8 | S11: =R11 -> 8 | U11: 76810 | V11: =1+MOD(U11-1, 9) -> 4 | W11: =V11 -> 4 | Y11: 77915 | Z11: =1+MOD(Y11-1, 9) -> 2 | AA11: =Z11 -> 2 | AC11: 78998 | AD11: =1+MOD(AC11-1, 9) -> 5 | AE11: =AD11 -> 5 | AG11: 80056 | AH11: =1+MOD(AG11-1, 9) -> 1 | AI11: =AH11 -> 1
A12: 70957 | B12: =1+MOD(A12-1, 9) -> 1 | C12: =B12 -> 1 | E12: 72176 | F12: =1+MOD(E12-1, 9) -> 5 | G12: =F12 -> 5 | I12: 73373 | J12: =1+MOD(I12-1, 9) -> 5 | K12: =J12 -> 5 | M12: 74548 | N12: =1+MOD(M12-1, 9) -> 1 | O12: =N12 -> 1 | Q12: 75700 | R12: =1+MOD(Q12-1, 9) -> 1 | S12: =R12 -> 1 | U12: 76828 | V12: =1+MOD(U12-1, 9) -> 4 | W12: =V12 -> 4 | Y12: 77934 | Z12: =1+MOD(Y12-1, 9) -> 3 | AA12: =Z12 -> 3 | AC12: 79015 | AD12: =1+MOD(AC12-1, 9) -> 4 | AE12: =AD12 -> 4 | AG12: 80073 | AH12: =1+MOD(AG12-1, 9) -> 9 | AI12: =AH12 -> 9
A13: 70977 | B13: =1+MOD(A13-1, 9) -> 3 | C13: =B13 -> 3 | E13: 72196 | F13: =1+MOD(E13-1, 9) -> 7 | G13: =F13 -> 7 | I13: 73393 | J13: =1+MOD(I13-1, 9) -> 7 | K13: =J13 -> 7 | M13: 74567 | N13: =1+MOD(M13-1, 9) -> 2 | O13: =N13 -> 2 | Q13: 75718 | R13: =1+MOD(Q13-1, 9) -> 1 | S13: =R13 -> 1 | U13: 76847 | V13: =1+MOD(U13-1, 9) -> 5 | W13: =V13 -> 5 | Y13: 77952 | Z13: =1+MOD(Y13-1, 9) -> 3 | AA13: =Z13 -> 3 | AC13: 79033 | AD13: =1+MOD(AC13-1, 9) -> 4 | AE13: =AD13 -> 4 | AG13: 80090 | AH13: =1+MOD(AG13-1, 9) -> 8 | AI13: =AH13 -> 8
A14: 70998 | B14: =1+MOD(A14-1, 9) -> 6 | C14: =B14 -> 6 | E14: 72216 | F14: =1+MOD(E14-1, 9) -> 9 | G14: =F14 -> 9 | I14: 73412 | J14: =1+MOD(I14-1, 9) -> 8 | K14: =J14 -> 8 | M14: 74586 | N14: =1+MOD(M14-1, 9) -> 3 | O14: =N14 -> 3 | Q14: 75737 | R14: =1+MOD(Q14-1, 9) -> 2 | S14: =R14 -> 2 | U14: 76865 | V14: =1+MOD(U14-1, 9) -> 5 | W14: =V14 -> 5 | Y14: 77970 | Z14: =1+MOD(Y14-1, 9) -> 3 | AA14: =Z14 -> 3 | AC14: 79051 | AD14: =1+MOD(AC14-1, 9) -> 4 | AE14: =AD14 -> 4 | AG14: 80108 | AH14: =1+MOD(AG14-1, 9) -> 8 | AI14: =AH14 -> 8
A15: 71018 | B15: =1+MOD(A15-1, 9) -> 8 | C15: =B15 -> 8 | E15: 72236 | F15: =1+MOD(E15-1, 9) -> 2 | G15: =F15 -> 2 | I15: 73432 | J15: =1+MOD(I15-1, 9) -> 1 | K15: =J15 -> 1 | M15: 74606 | N15: =1+MOD(M15-1, 9) -> 5 | O15: =N15 -> 5 | Q15: 75756 | R15: =1+MOD(Q15-1, 9) -> 3 | S15: =R15 -> 3 | U15: 76884 | V15: =1+MOD(U15-1, 9) -> 6 | W15: =V15 -> 6 | Y15: 77988 | Z15: =1+MOD(Y15-1, 9) -> 3 | AA15: =Z15 -> 3 | AC15: 79069 | AD15: =1+MOD(AC15-1, 9) -> 4 | AE15: =AD15 -> 4 | AG15: 80125 | AH15: =1+MOD(AG15-1, 9) -> 7 | AI15: =AH15 -> 7
A16: 71039 | B16: =1+MOD(A16-1, 9) -> 2 | C16: =B16 -> 2 | E16: 72256 | F16: =1+MOD(E16-1, 9) -> 4 | G16: =F16 -> 4 | I16: 73452 | J16: =1+MOD(I16-1, 9) -> 3 | K16: =J16 -> 3 | M16: 74625 | N16: =1+MOD(M16-1, 9) -> 6 | O16: =N16 -> 6 | Q16: 75775 | R16: =1+MOD(Q16-1, 9) -> 4 | S16: =R16 -> 4 | U16: 76903 | V16: =1+MOD(U16-1, 9) -> 7 | W16: =V16 -> 7 | Y16: 78007 | Z16: =1+MOD(Y16-1, 9) -> 4 | AA16: =Z16 -> 4 | AC16: 79087 | AD16: =1+MOD(AC16-1, 9) -> 4 | AE16: =AD16 -> 4 | AG16: 80143 | AH16: =1+MOD(AG16-1, 9) -> 7 | AI16: =AH16 -> 7
A17: 71059 | B17: =1+MOD(A17-1, 9) -> 4 | C17: =B17 -> 4 | E17: 72277 | F17: =1+MOD(E17-1, 9) -> 7 | G17: =F17 -> 7 | I17: 73472 | J17: =1+MOD(I17-1, 9) -> 5 | K17: =J17 -> 5 | M17: 74644 | N17: =1+MOD(M17-1, 9) -> 7 | O17: =N17 -> 7 | Q17: 75794 | R17: =1+MOD(Q17-1, 9) -> 5 | S17: =R17 -> 5 | U17: 76921 | V17: =1+MOD(U17-1, 9) -> 7 | W17: =V17 -> 7 | Y17: 78025 | Z17: =1+MOD(Y17-1, 9) -> 4 | AA17: =Z17 -> 4 | AC17: 79104 | AD17: =1+MOD(AC17-1, 9) -> 3 | AE17: =AD17 -> 3 | AG17: 80160 | AH17: =1+MOD(AG17-1, 9) -> 6 | AI17: =AH17 -> 6
A18: 71080 | B18: =1+MOD(A18-1, 9) -> 7 | C18: =B18 -> 7 | E18: 72297 | F18: =1+MOD(E18-1, 9) -> 9 | G18: =F18 -> 9 | I18: 73491 | J18: =1+MOD(I18-1, 9) -> 6 | K18: =J18 -> 6 | M18: 74664 | N18: =1+MOD(M18-1, 9) -> 9 | O18: =N18 -> 9 | Q18: 75813 | R18: =1+MOD(Q18-1, 9) -> 6 | S18: =R18 -> 6 | U18: 76940 | V18: =1+MOD(U18-1, 9) -> 8 | W18: =V18 -> 8 | Y18: 78043 | Z18: =1+MOD(Y18-1, 9) -> 4 | AA18: =Z18 -> 4 | AC18: 79122 | AD18: =1+MOD(AC18-1, 9) -> 3 | AE18: =AD18 -> 3 | AG18: 80177 | AH18: =1+MOD(AG18-1, 9) -> 5 | AI18: =AH18 -> 5
A19: 71100 | B19: =1+MOD(A19-1, 9) -> 9 | C19: =B19 -> 9 | E19: 72317 | F19: =1+MOD(E19-1, 9) -> 2 | G19: =F19 -> 2 | I19: 73511 | J19: =1+MOD(I19-1, 9) -> 8 | K19: =J19 -> 8 | M19: 74683 | N19: =1+MOD(M19-1, 9) -> 1 | O19: =N19 -> 1 | Q19: 75832 | R19: =1+MOD(Q19-1, 9) -> 7 | S19: =R19 -> 7 | U19: 76958 | V19: =1+MOD(U19-1, 9) -> 8 | W19: =V19 -> 8 | Y19: 78061 | Z19: =1+MOD(Y19-1, 9) -> 4 | AA19: =Z19 -> 4 | AC19: 79140 | AD19: =1+MOD(AC19-1, 9) -> 3 | AE19: =AD19 -> 3 | AG19: 80195 | AH19: =1+MOD(AG19-1, 9) -> 5 | AI19: =AH19 -> 5
A20: 71121 | B20: =1+MOD(A20-1, 9) -> 3 | C20: =B20 -> 3 | E20: 72337 | F20: =1+MOD(E20-1, 9) -> 4 | G20: =F20 -> 4 | I20: 73531 | J20: =1+MOD(I20-1, 9) -> 1 | K20: =J20 -> 1 | M20: 74702 | N20: =1+MOD(M20-1, 9) -> 2 | O20: =N20 -> 2 | Q20: 75851 | R20: =1+MOD(Q20-1, 9) -> 8 | S20: =R20 -> 8 | U20: 76977 | V20: =1+MOD(U20-1, 9) -> 9 | W20: =V20 -> 9 | Y20: 78079 | Z20: =1+MOD(Y20-1, 9) -> 4 | AA20: =Z20 -> 4 | AC20: 79158 | AD20: =1+MOD(AC20-1, 9) -> 3 | AE20: =AD20 -> 3 | AG20: 80212 | AH20: =1+MOD(AG20-1, 9) -> 4 | AI20: =AH20 -> 4
A21: 71141 | B21: =1+MOD(A21-1, 9) -> 5 | C21: =B21 -> 5 | E21: 72357 | F21: =1+MOD(E21-1, 9) -> 6 | G21: =F21 -> 6 | I21: 73551 | J21: =1+MOD(I21-1, 9) -> 3 | K21: =J21 -> 3 | M21: 74722 | N21: =1+MOD(M21-1, 9) -> 4 | O21: =N21 -> 4 | Q21: 75870 | R21: =1+MOD(Q21-1, 9) -> 9 | S21: =R21 -> 9 | U21: 76996 | V21: =1+MOD(U21-1, 9) -> 1 | W21: =V21 -> 1 | Y21: 78097 | Z21: =1+MOD(Y21-1, 9) -> 4 | AA21: =Z21 -> 4 | AC21: 79176 | AD21: =1+MOD(AC21-1, 9) -> 3 | AE21: =AD21 -> 3 | AG21: 80230 | AH21: =1+MOD(AG21-1, 9) -> 4 | AI21: =AH21 -> 4
... A60: 71934 | B60: =1+MOD(A60-1, 9) -> 6 | C60: =B60 -> 6 | E60: 73135 | F60: =1+MOD(E60-1, 9) -> 1 | G60: =F60 -> 1 | I60: 74314 | J60: =1+MOD(I60-1, 9) -> 1 | K60: =J60 -> 1 | M60: 75471 | N60: =1+MOD(M60-1, 9) -> 6 | O60: =N60 -> 6 | Q60: 76604 | R60: =1+MOD(Q60-1, 9) -> 5 | S60: =R60 -> 5 | U60: 77715 | V60: =1+MOD(U60-1, 9) -> 9 | W60: =V60 -> 9 | Y60: 78801 | Z60: =1+MOD(Y60-1, 9) -> 6 | AA60: =Z60 -> 6 | AC60: 79863 | AD60: =1+MOD(AC60-1, 9) -> 6 | AE60: =AD60 -> 6 | AG60: 80902 | AH60: =1+MOD(AG60-1, 9) -> 1 | AI60: =AH60 -> 1

Sheet 55-63
A1: 80919 | B1: =1+MOD(A1-1, 9) -> 9 | C1: =B1 -> 9 | E1: 81932 | F1: =1+MOD(E1-1, 9) -> 5 | G1: =F1 -> 5 | I1: 82920 | J1: =1+MOD(I1-1, 9) -> 3 | K1: =J1 -> 3 | M1: 83883 | N1: =1+MOD(M1-1, 9) -> 3 | O1: =N1 -> 3 | Q1: 84820 | R1: =1+MOD(Q1-1, 9) -> 4 | S1: =R1 -> 4 | U1: 85732 | V1: =1+MOD(U1-1, 9) -> 7 | W1: =V1 -> 7 | Y1: 86617 | Z1: =1+MOD(Y1-1, 9) -> 1 | AA1: =Z1 -> 1 | AC1: 87476 | AD1: =1+MOD(AC1-1, 9) -> 5 | AE1: =AD1 -> 5 | AG1: 88308 | AH1: =1+MOD(AG1-1, 9) -> 9 | AI1: =AH1 -> 9 | AK1: 1 = RED
A2: 80936 | B2: =1+MOD(A2-1, 9) -> 8 | C2: =B2 -> 8 | E2: 81948 | F2: =1+MOD(E2-1, 9) -> 3 | G2: =F2 -> 3 | I2: 82936 | J2: =1+MOD(I2-1, 9) -> 1 | K2: =J2 -> 1 | M2: 83899 | N2: =1+MOD(M2-1, 9) -> 1 | O2: =N2 -> 1 | Q2: 84836 | R2: =1+MOD(Q2-1, 9) -> 2 | S2: =R2 -> 2 | U2: 85747 | V2: =1+MOD(U2-1, 9) -> 4 | W2: =V2 -> 4 | Y2: 86632 | Z2: =1+MOD(Y2-1, 9) -> 7 | AA2: =Z2 -> 7 | AC2: 87490 | AD2: =1+MOD(AC2-1, 9) -> 1 | AE2: =AD2 -> 1 | AG2: 88322 | AH2: =1+MOD(AG2-1, 9) -> 5 | AI2: =AH2 -> 5 | AK2: 2 = GREEN
A3: 80953 | B3: =1+MOD(A3-1, 9) -> 7 | C3: =B3 -> 7 | E3: 81965 | F3: =1+MOD(E3-1, 9) -> 2 | G3: =F3 -> 2 | I3: 82952 | J3: =1+MOD(I3-1, 9) -> 8 | K3: =J3 -> 8 | M3: 83914 | N3: =1+MOD(M3-1, 9) -> 7 | O3: =N3 -> 7 | Q3: 84851 | R3: =1+MOD(Q3-1, 9) -> 8 | S3: =R3 -> 8 | U3: 85762 | V3: =1+MOD(U3-1, 9) -> 1 | W3: =V3 -> 1 | Y3: 86646 | Z3: =1+MOD(Y3-1, 9) -> 3 | AA3: =Z3 -> 3 | AC3: 87504 | AD3: =1+MOD(AC3-1, 9) -> 6 | AE3: =AD3 -> 6 | AG3: 88336 | AH3: =1+MOD(AG3-1, 9) -> 1 | AI3: =AH3 -> 1 | AK3: 3 = BLUE
A4: 80970 | B4: =1+MOD(A4-1, 9) -> 6 | C4: =B4 -> 6 | E4: 81982 | F4: =1+MOD(E4-1, 9) -> 1 | G4: =F4 -> 1 | I4: 82969 | J4: =1+MOD(I4-1, 9) -> 7 | K4: =J4 -> 7 | M4: 83930 | N4: =1+MOD(M4-1, 9) -> 5 | O4: =N4 -> 5 | Q4: 84866 | R4: =1+MOD(Q4-1, 9) -> 5 | S4: =R4 -> 5 | U4: 85777 | V4: =1+MOD(U4-1, 9) -> 7 | W4: =V4 -> 7 | Y4: 86661 | Z4: =1+MOD(Y4-1, 9) -> 9 | AA4: =Z4 -> 9 | AC4: 87518 | AD4: =1+MOD(AC4-1, 9) -> 2 | AE4: =AD4 -> 2 | AG4: 88349 | AH4: =1+MOD(AG4-1, 9) -> 5 | AI4: =AH4 -> 5 | AK4: 4 = YELLOW
A5: 80987 | B5: =1+MOD(A5-1, 9) -> 5 | C5: =B5 -> 5 | E5: 81998 | F5: =1+MOD(E5-1, 9) -> 8 | G5: =F5 -> 8 | I5: 82985 | J5: =1+MOD(I5-1, 9) -> 5 | K5: =J5 -> 5 | M5: 83946 | N5: =1+MOD(M5-1, 9) -> 3 | O5: =N5 -> 3 | Q5: 84882 | R5: =1+MOD(Q5-1, 9) -> 3 | S5: =R5 -> 3 | U5: 85791 | V5: =1+MOD(U5-1, 9) -> 3 | W5: =V5 -> 3 | Y5: 86675 | Z5: =1+MOD(Y5-1, 9) -> 5 | AA5: =Z5 -> 5 | AC5: 87532 | AD5: =1+MOD(AC5-1, 9) -> 7 | AE5: =AD5 -> 7 | AG5: 88363 | AH5: =1+MOD(AG5-1, 9) -> 1 | AI5: =AH5 -> 1 | AK5: 5 = CYAN
A6: 81004 | B6: =1+MOD(A6-1, 9) -> 4 | C6: =B6 -> 4 | E6: 82015 | F6: =1+MOD(E6-1, 9) -> 7 | G6: =F6 -> 7 | I6: 83001 | J6: =1+MOD(I6-1, 9) -> 3 | K6: =J6 -> 3 | M6: 83962 | N6: =1+MOD(M6-1, 9) -> 1 | O6: =N6 -> 1 | Q6: 84897 | R6: =1+MOD(Q6-1, 9) -> 9 | S6: =R6 -> 9 | U6: 85806 | V6: =1+MOD(U6-1, 9) -> 9 | W6: =V6 -> 9 | Y6: 86690 | Z6: =1+MOD(Y6-1, 9) -> 2 | AA6: =Z6 -> 2 | AC6: 87546 | AD6: =1+MOD(AC6-1, 9) -> 3 | AE6: =AD6 -> 3 | AG6: 88376 | AH6: =1+MOD(AG6-1, 9) -> 5 | AI6: =AH6 -> 5 | AK6: 6 = PURPLE
A7: 81021 | B7: =1+MOD(A7-1, 9) -> 3 | C7: =B7 -> 3 | E7: 82032 | F7: =1+MOD(E7-1, 9) -> 6 | G7: =F7 -> 6 | I7: 83017 | J7: =1+MOD(I7-1, 9) -> 1 | K7: =J7 -> 1 | M7: 83978 | N7: =1+MOD(M7-1, 9) -> 8 | O7: =N7 -> 8 | Q7: 84912 | R7: =1+MOD(Q7-1, 9) -> 6 | S7: =R7 -> 6 | U7: 85821 | V7: =1+MOD(U7-1, 9) -> 6 | W7: =V7 -> 6 | Y7: 86704 | Z7: =1+MOD(Y7-1, 9) -> 7 | AA7: =Z7 -> 7 | AC7: 87560 | AD7: =1+MOD(AC7-1, 9) -> 8 | AE7: =AD7 -> 8 | AG7: 88390 | AH7: =1+MOD(AG7-1, 9) -> 1 | AI7: =AH7 -> 1 | AK7: 7 = WHITE
A8: 81038 | B8: =1+MOD(A8-1, 9) -> 2 | C8: =B8 -> 2 | E8: 82048 | F8: =1+MOD(E8-1, 9) -> 4 | G8: =F8 -> 4 | I8: 83034 | J8: =1+MOD(I8-1, 9) -> 9 | K8: =J8 -> 9 | M8: 83993 | N8: =1+MOD(M8-1, 9) -> 5 | O8: =N8 -> 5 | Q8: 84928 | R8: =1+MOD(Q8-1, 9) -> 4 | S8: =R8 -> 4 | U8: 85836 | V8: =1+MOD(U8-1, 9) -> 3 | W8: =V8 -> 3 | Y8: 86719 | Z8: =1+MOD(Y8-1, 9) -> 4 | AA8: =Z8 -> 4 | AC8: 87574 | AD8: =1+MOD(AC8-1, 9) -> 4 | AE8: =AD8 -> 4 | AG8: 88404 | AH8: =1+MOD(AG8-1, 9) -> 6 | AI8: =AH8 -> 6 | AK8: 8 = PINK
A9: 81055 | B9: =1+MOD(A9-1, 9) -> 1 | C9: =B9 -> 1 | E9: 82065 | F9: =1+MOD(E9-1, 9) -> 3 | G9: =F9 -> 3 | I9: 83050 | J9: =1+MOD(I9-1, 9) -> 7 | K9: =J9 -> 7 | M9: 84009 | N9: =1+MOD(M9-1, 9) -> 3 | O9: =N9 -> 3 | Q9: 84943 | R9: =1+MOD(Q9-1, 9) -> 1 | S9: =R9 -> 1 | U9: 85851 | V9: =1+MOD(U9-1, 9) -> 9 | W9: =V9 -> 9 | Y9: 86733 | Z9: =1+MOD(Y9-1, 9) -> 9 | AA9: =Z9 -> 9 | AC9: 87588 | AD9: =1+MOD(AC9-1, 9) -> 9 | AE9: =AD9 -> 9 | AG9: 88417 | AH9: =1+MOD(AG9-1, 9) -> 1 | AI9: =AH9 -> 1 | AK9: 9 = BROWN
A10: 81072 | B10: =1+MOD(A10-1, 9) -> 9 | C10: =B10 -> 9 | E10: 82082 | F10: =1+MOD(E10-1, 9) -> 2 | G10: =F10 -> 2 | I10: 83066 | J10: =1+MOD(I10-1, 9) -> 5 | K10: =J10 -> 5 | M10: 84025 | N10: =1+MOD(M10-1, 9) -> 1 | O10: =N10 -> 1 | Q10: 84959 | R10: =1+MOD(Q10-1, 9) -> 8 | S10: =R10 -> 8 | U10: 85866 | V10: =1+MOD(U10-1, 9) -> 6 | W10: =V10 -> 6 | Y10: 86748 | Z10: =1+MOD(Y10-1, 9) -> 6 | AA10: =Z10 -> 6 | AC10: 87603 | AD10: =1+MOD(AC10-1, 9) -> 6 | AE10: =AD10 -> 6 | AG10: 88431 | AH10: =1+MOD(AG10-1, 9) -> 6 | AI10: =AH10 -> 6
A11: 81089 | B11: =1+MOD(A11-1, 9) -> 8 | C11: =B11 -> 8 | E11: 82098 | F11: =1+MOD(E11-1, 9) -> 9 | G11: =F11 -> 9 | I11: 83082 | J11: =1+MOD(I11-1, 9) -> 3 | K11: =J11 -> 3 | M11: 84041 | N11: =1+MOD(M11-1, 9) -> 8 | O11: =N11 -> 8 | Q11: 84974 | R11: =1+MOD(Q11-1, 9) -> 5 | S11: =R11 -> 5 | U11: 85881 | V11: =1+MOD(U11-1, 9) -> 3 | W11: =V11 -> 3 | Y11: 86762 | Z11: =1+MOD(Y11-1, 9) -> 2 | AA11: =Z11 -> 2 | AC11: 87617 | AD11: =1+MOD(AC11-1, 9) -> 2 | AE11: =AD11 -> 2 | AG11: 88444 | AH11: =1+MOD(AG11-1, 9) -> 1 | AI11: =AH11 -> 1
A12: 81106 | B12: =1+MOD(A12-1, 9) -> 7 | C12: =B12 -> 7 | E12: 82115 | F12: =1+MOD(E12-1, 9) -> 8 | G12: =F12 -> 8 | I12: 83098 | J12: =1+MOD(I12-1, 9) -> 1 | K12: =J12 -> 1 | M12: 84057 | N12: =1+MOD(M12-1, 9) -> 6 | O12: =N12 -> 6 | Q12: 84989 | R12: =1+MOD(Q12-1, 9) -> 2 | S12: =R12 -> 2 | U12: 85896 | V12: =1+MOD(U12-1, 9) -> 9 | W12: =V12 -> 9 | Y12: 86776 | Z12: =1+MOD(Y12-1, 9) -> 7 | AA12: =Z12 -> 7 | AC12: 87631 | AD12: =1+MOD(AC12-1, 9) -> 7 | AE12: =AD12 -> 7 | AG12: 88458 | AH12: =1+MOD(AG12-1, 9) -> 6 | AI12: =AH12 -> 6
A13: 81123 | B13: =1+MOD(A13-1, 9) -> 6 | C13: =B13 -> 6 | E13: 82131 | F13: =1+MOD(E13-1, 9) -> 6 | G13: =F13 -> 6 | I13: 83115 | J13: =1+MOD(I13-1, 9) -> 9 | K13: =J13 -> 9 | M13: 84072 | N13: =1+MOD(M13-1, 9) -> 3 | O13: =N13 -> 3 | Q13: 85004 | R13: =1+MOD(Q13-1, 9) -> 8 | S13: =R13 -> 8 | U13: 85911 | V13: =1+MOD(U13-1, 9) -> 6 | W13: =V13 -> 6 | Y13: 86791 | Z13: =1+MOD(Y13-1, 9) -> 4 | AA13: =Z13 -> 4 | AC13: 87645 | AD13: =1+MOD(AC13-1, 9) -> 3 | AE13: =AD13 -> 3 | AG13: 88472 | AH13: =1+MOD(AG13-1, 9) -> 2 | AI13: =AH13 -> 2
A14: 81140 | B14: =1+MOD(A14-1, 9) -> 5 | C14: =B14 -> 5 | E14: 82148 | F14: =1+MOD(E14-1, 9) -> 5 | G14: =F14 -> 5 | I14: 83131 | J14: =1+MOD(I14-1, 9) -> 7 | K14: =J14 -> 7 | M14: 84088 | N14: =1+MOD(M14-1, 9) -> 1 | O14: =N14 -> 1 | Q14: 85020 | R14: =1+MOD(Q14-1, 9) -> 6 | S14: =R14 -> 6 | U14: 85926 | V14: =1+MOD(U14-1, 9) -> 3 | W14: =V14 -> 3 | Y14: 86805 | Z14: =1+MOD(Y14-1, 9) -> 9 | AA14: =Z14 -> 9 | AC14: 87659 | AD14: =1+MOD(AC14-1, 9) -> 8 | AE14: =AD14 -> 8 | AG14: 88485 | AH14: =1+MOD(AG14-1, 9) -> 6 | AI14: =AH14 -> 6
A15: 81157 | B15: =1+MOD(A15-1, 9) -> 4 | C15: =B15 -> 4 | E15: 82165 | F15: =1+MOD(E15-1, 9) -> 4 | G15: =F15 -> 4 | I15: 83147 | J15: =1+MOD(I15-1, 9) -> 5 | K15: =J15 -> 5 | M15: 84104 | N15: =1+MOD(M15-1, 9) -> 8 | O15: =N15 -> 8 | Q15: 85035 | R15: =1+MOD(Q15-1, 9) -> 3 | S15: =R15 -> 3 | U15: 85941 | V15: =1+MOD(U15-1, 9) -> 9 | W15: =V15 -> 9 | Y15: 86820 | Z15: =1+MOD(Y15-1, 9) -> 6 | AA15: =Z15 -> 6 | AC15: 87673 | AD15: =1+MOD(AC15-1, 9) -> 4 | AE15: =AD15 -> 4 | AG15: 88499 | AH15: =1+MOD(AG15-1, 9) -> 2 | AI15: =AH15 -> 2
A16: 81174 | B16: =1+MOD(A16-1, 9) -> 3 | C16: =B16 -> 3 | E16: 82181 | F16: =1+MOD(E16-1, 9) -> 2 | G16: =F16 -> 2 | I16: 83163 | J16: =1+MOD(I16-1, 9) -> 3 | K16: =J16 -> 3 | M16: 84120 | N16: =1+MOD(M16-1, 9) -> 6 | O16: =N16 -> 6 | Q16: 85050 | R16: =1+MOD(Q16-1, 9) -> 9 | S16: =R16 -> 9 | U16: 85955 | V16: =1+MOD(U16-1, 9) -> 5 | W16: =V16 -> 5 | Y16: 86834 | Z16: =1+MOD(Y16-1, 9) -> 2 | AA16: =Z16 -> 2 | AC16: 87687 | AD16: =1+MOD(AC16-1, 9) -> 9 | AE16: =AD16 -> 9 | AG16: 88512 | AH16: =1+MOD(AG16-1, 9) -> 6 | AI16: =AH16 -> 6
A17: 81191 | B17: =1+MOD(A17-1, 9) -> 2 | C17: =B17 -> 2 | E17: 82198 | F17: =1+MOD(E17-1, 9) -> 1 | G17: =F17 -> 1 | I17: 83179 | J17: =1+MOD(I17-1, 9) -> 1 | K17: =J17 -> 1 | M17: 84135 | N17: =1+MOD(M17-1, 9) -> 3 | O17: =N17 -> 3 | Q17: 85066 | R17: =1+MOD(Q17-1, 9) -> 7 | S17: =R17 -> 7 | U17: 85970 | V17: =1+MOD(U17-1, 9) -> 2 | W17: =V17 -> 2 | Y17: 86849 | Z17: =1+MOD(Y17-1, 9) -> 8 | AA17: =Z17 -> 8 | AC17: 87701 | AD17: =1+MOD(AC17-1, 9) -> 5 | AE17: =AD17 -> 5 | AG17: 88526 | AH17: =1+MOD(AG17-1, 9) -> 2 | AI17: =AH17 -> 2
A18: 81208 | B18: =1+MOD(A18-1, 9) -> 1 | C18: =B18 -> 1 | E18: 82214 | F18: =1+MOD(E18-1, 9) -> 8 | G18: =F18 -> 8 | I18: 83195 | J18: =1+MOD(I18-1, 9) -> 8 | K18: =J18 -> 8 | M18: 84151 | N18: =1+MOD(M18-1, 9) -> 1 | O18: =N18 -> 1 | Q18: 85081 | R18: =1+MOD(Q18-1, 9) -> 4 | S18: =R18 -> 4 | U18: 85985 | V18: =1+MOD(U18-1, 9) -> 8 | W18: =V18 -> 8 | Y18: 86863 | Z18: =1+MOD(Y18-1, 9) -> 4 | AA18: =Z18 -> 4 | AC18: 87715 | AD18: =1+MOD(AC18-1, 9) -> 1 | AE18: =AD18 -> 1 | AG18: 88539 | AH18: =1+MOD(AG18-1, 9) -> 6 | AI18: =AH18 -> 6
A19: 81225 | B19: =1+MOD(A19-1, 9) -> 9 | C19: =B19 -> 9 | E19: 82231 | F19: =1+MOD(E19-1, 9) -> 7 | G19: =F19 -> 7 | I19: 83211 | J19: =1+MOD(I19-1, 9) -> 6 | K19: =J19 -> 6 | M19: 84167 | N19: =1+MOD(M19-1, 9) -> 8 | O19: =N19 -> 8 | Q19: 85096 | R19: =1+MOD(Q19-1, 9) -> 1 | S19: =R19 -> 1 | U19: 86000 | V19: =1+MOD(U19-1, 9) -> 5 | W19: =V19 -> 5 | Y19: 86877 | Z19: =1+MOD(Y19-1, 9) -> 9 | AA19: =Z19 -> 9 | AC19: 87728 | AD19: =1+MOD(AC19-1, 9) -> 5 | AE19: =AD19 -> 5 | AG19: 88553 | AH19: =1+MOD(AG19-1, 9) -> 2 | AI19: =AH19 -> 2
A20: 81242 | B20: =1+MOD(A20-1, 9) -> 8 | C20: =B20 -> 8 | E20: 82247 | F20: =1+MOD(E20-1, 9) -> 5 | G20: =F20 -> 5 | I20: 83228 | J20: =1+MOD(I20-1, 9) -> 5 | K20: =J20 -> 5 | M20: 84182 | N20: =1+MOD(M20-1, 9) -> 5 | O20: =N20 -> 5 | Q20: 85112 | R20: =1+MOD(Q20-1, 9) -> 8 | S20: =R20 -> 8 | U20: 86015 | V20: =1+MOD(U20-1, 9) -> 2 | W20: =V20 -> 2 | Y20: 86892 | Z20: =1+MOD(Y20-1, 9) -> 6 | AA20: =Z20 -> 6 | AC20: 87742 | AD20: =1+MOD(AC20-1, 9) -> 1 | AE20: =AD20 -> 1 | AG20: 88566 | AH20: =1+MOD(AG20-1, 9) -> 6 | AI20: =AH20 -> 6
A21: 81259 | B21: =1+MOD(A21-1, 9) -> 7 | C21: =B21 -> 7 | E21: 82264 | F21: =1+MOD(E21-1, 9) -> 4 | G21: =F21 -> 4 | I21: 83244 | J21: =1+MOD(I21-1, 9) -> 3 | K21: =J21 -> 3 | M21: 84198 | N21: =1+MOD(M21-1, 9) -> 3 | O21: =N21 -> 3 | Q21: 85127 | R21: =1+MOD(Q21-1, 9) -> 5 | S21: =R21 -> 5 | U21: 86030 | V21: =1+MOD(U21-1, 9) -> 8 | W21: =V21 -> 8 | Y21: 86906 | Z21: =1+MOD(Y21-1, 9) -> 2 | AA21: =Z21 -> 2 | AC21: 87756 | AD21: =1+MOD(AC21-1, 9) -> 6 | AE21: =AD21 -> 6 | AG21: 88580 | AH21: =1+MOD(AG21-1, 9) -> 2 | AI21: =AH21 -> 2
... A60: 81915 | B60: =1+MOD(A60-1, 9) -> 6 | C60: =B60 -> 6 | E60: 82904 | F60: =1+MOD(E60-1, 9) -> 5 | G60: =F60 -> 5 | I60: 83867 | J60: =1+MOD(I60-1, 9) -> 5 | K60: =J60 -> 5 | M60: 84805 | N60: =1+MOD(M60-1, 9) -> 7 | O60: =N60 -> 7 | Q60: 85717 | R60: =1+MOD(Q60-1, 9) -> 1 | S60: =R60 -> 1 | U60: 86603 | V60: =1+MOD(U60-1, 9) -> 5 | W60: =V60 -> 5 | Y60: 87462 | Z60: =1+MOD(Y60-1, 9) -> 9 | AA60: =Z60 -> 9 | AC60: 88295 | AD60: =1+MOD(AC60-1, 9) -> 5 | AE60: =AD60 -> 5 | AG60: 89101 | AH60: =1+MOD(AG60-1, 9) -> 1 | AI60: =AH60 -> 1

Sheet 64-72
A1: 89114 | B1: =1+MOD(A1-1, 9) -> 5 | C1: =B1 -> 5 | E1: 89892 | F1: =1+MOD(E1-1, 9) -> 9 | G1: =F1 -> 9 | I1: 90643 | J1: =1+MOD(I1-1, 9) -> 4 | K1: =J1 -> 4 | M1: 91366 | N1: =1+MOD(M1-1, 9) -> 7 | O1: =N1 -> 7 | Q1: 92062 | R1: =1+MOD(Q1-1, 9) -> 1 | S1: =R1 -> 1 | U1: 92729 | V1: =1+MOD(U1-1, 9) -> 2 | W1: =V1 -> 2 | Y1: 93368 | Z1: =1+MOD(Y1-1, 9) -> 2 | AA1: =Z1 -> 2 | AC1: 93979 | AD1: =1+MOD(AC1-1, 9) -> 1 | AE1: =AD1 -> 1 | AG1: 94561 | AH1: =1+MOD(AG1-1, 9) -> 7 | AI1: =AH1 -> 7 | AK1: 1 = RED
A2: 89127 | B2: =1+MOD(A2-1, 9) -> 9 | C2: =B2 -> 9 | E2: 89905 | F2: =1+MOD(E2-1, 9) -> 4 | G2: =F2 -> 4 | I2: 90655 | J2: =1+MOD(I2-1, 9) -> 7 | K2: =J2 -> 7 | M2: 91378 | N2: =1+MOD(M2-1, 9) -> 1 | O2: =N2 -> 1 | Q2: 92073 | R2: =1+MOD(Q2-1, 9) -> 3 | S2: =R2 -> 3 | U2: 92740 | V2: =1+MOD(U2-1, 9) -> 4 | W2: =V2 -> 4 | Y2: 93379 | Z2: =1+MOD(Y2-1, 9) -> 4 | AA2: =Z2 -> 4 | AC2: 93989 | AD2: =1+MOD(AC2-1, 9) -> 2 | AE2: =AD2 -> 2 | AG2: 94571 | AH2: =1+MOD(AG2-1, 9) -> 8 | AI2: =AH2 -> 8 | AK2: 2 = GREEN
A3: 89140 | B3: =1+MOD(A3-1, 9) -> 4 | C3: =B3 -> 4 | E3: 89918 | F3: =1+MOD(E3-1, 9) -> 8 | G3: =F3 -> 8 | I3: 90668 | J3: =1+MOD(I3-1, 9) -> 2 | K3: =J3 -> 2 | M3: 91390 | N3: =1+MOD(M3-1, 9) -> 4 | O3: =N3 -> 4 | Q3: 92084 | R3: =1+MOD(Q3-1, 9) -> 5 | S3: =R3 -> 5 | U3: 92751 | V3: =1+MOD(U3-1, 9) -> 6 | W3: =V3 -> 6 | Y3: 93389 | Z3: =1+MOD(Y3-1, 9) -> 5 | AA3: =Z3 -> 5 | AC3: 93999 | AD3: =1+MOD(AC3-1, 9) -> 3 | AE3: =AD3 -> 3 | AG3: 94580 | AH3: =1+MOD(AG3-1, 9) -> 8 | AI3: =AH3 -> 8 | AK3: 3 = BLUE
A4: 89153 | B4: =1+MOD(A4-1, 9) -> 8 | C4: =B4 -> 8 | E4: 89930 | F4: =1+MOD(E4-1, 9) -> 2 | G4: =F4 -> 2 | I4: 90680 | J4: =1+MOD(I4-1, 9) -> 5 | K4: =J4 -> 5 | M4: 91402 | N4: =1+MOD(M4-1, 9) -> 7 | O4: =N4 -> 7 | Q4: 92096 | R4: =1+MOD(Q4-1, 9) -> 8 | S4: =R4 -> 8 | U4: 92762 | V4: =1+MOD(U4-1, 9) -> 8 | W4: =V4 -> 8 | Y4: 93400 | Z4: =1+MOD(Y4-1, 9) -> 7 | AA4: =Z4 -> 7 | AC4: 94009 | AD4: =1+MOD(AC4-1, 9) -> 4 | AE4: =AD4 -> 4 | AG4: 94590 | AH4: =1+MOD(AG4-1, 9) -> 9 | AI4: =AH4 -> 9 | AK4: 4 = YELLOW
A5: 89166 | B5: =1+MOD(A5-1, 9) -> 3 | C5: =B5 -> 3 | E5: 89943 | F5: =1+MOD(E5-1, 9) -> 6 | G5: =F5 -> 6 | I5: 90692 | J5: =1+MOD(I5-1, 9) -> 8 | K5: =J5 -> 8 | M5: 91414 | N5: =1+MOD(M5-1, 9) -> 1 | O5: =N5 -> 1 | Q5: 92107 | R5: =1+MOD(Q5-1, 9) -> 1 | S5: =R5 -> 1 | U5: 92773 | V5: =1+MOD(U5-1, 9) -> 1 | W5: =V5 -> 1 | Y5: 93410 | Z5: =1+MOD(Y5-1, 9) -> 8 | AA5: =Z5 -> 8 | AC5: 94019 | AD5: =1+MOD(AC5-1, 9) -> 5 | AE5: =AD5 -> 5 | AG5: 94599 | AH5: =1+MOD(AG5-1, 9) -> 9 | AI5: =AH5 -> 9 | AK5: 5 = CYAN
A6: 89180 | B6: =1+MOD(A6-1, 9) -> 8 | C6: =B6 -> 8 | E6: 89956 | F6: =1+MOD(E6-1, 9) -> 1 | G6: =F6 -> 1 | I6: 90704 | J6: =1+MOD(I6-1, 9) -> 2 | K6: =J6 -> 2 | M6: 91425 | N6: =1+MOD(M6-1, 9) -> 3 | O6: =N6 -> 3 | Q6: 92118 | R6: =1+MOD(Q6-1, 9) -> 3 | S6: =R6 -> 3 | U6: 92784 | V6: =1+MOD(U6-1, 9) -> 3 | W6: =V6 -> 3 | Y6: 93420 | Z6: =1+MOD(Y6-1, 9) -> 9 | AA6: =Z6 -> 9 | AC6: 94029 | AD6: =1+MOD(AC6-1, 9) -> 6 | AE6: =AD6 -> 6 | AG6: 94608 | AH6: =1+MOD(AG6-1, 9) -> 9 | AI6: =AH6 -> 9 | AK6: 6 = PURPLE
A7: 89193 | B7: =1+MOD(A7-1, 9) -> 3 | C7: =B7 -> 3 | E7: 89968 | F7: =1+MOD(E7-1, 9) -> 4 | G7: =F7 -> 4 | I7: 90717 | J7: =1+MOD(I7-1, 9) -> 6 | K7: =J7 -> 6 | M7: 91437 | N7: =1+MOD(M7-1, 9) -> 6 | O7: =N7 -> 6 | Q7: 92130 | R7: =1+MOD(Q7-1, 9) -> 6 | S7: =R7 -> 6 | U7: 92794 | V7: =1+MOD(U7-1, 9) -> 4 | W7: =V7 -> 4 | Y7: 93431 | Z7: =1+MOD(Y7-1, 9) -> 2 | AA7: =Z7 -> 2 | AC7: 94039 | AD7: =1+MOD(AC7-1, 9) -> 7 | AE7: =AD7 -> 7 | AG7: 94618 | AH7: =1+MOD(AG7-1, 9) -> 1 | AI7: =AH7 -> 1 | AK7: 7 = WHITE
A8: 89206 | B8: =1+MOD(A8-1, 9) -> 7 | C8: =B8 -> 7 | E8: 89981 | F8: =1+MOD(E8-1, 9) -> 8 | G8: =F8 -> 8 | I8: 90729 | J8: =1+MOD(I8-1, 9) -> 9 | K8: =J8 -> 9 | M8: 91449 | N8: =1+MOD(M8-1, 9) -> 9 | O8: =N8 -> 9 | Q8: 92141 | R8: =1+MOD(Q8-1, 9) -> 8 | S8: =R8 -> 8 | U8: 92805 | V8: =1+MOD(U8-1, 9) -> 6 | W8: =V8 -> 6 | Y8: 93441 | Z8: =1+MOD(Y8-1, 9) -> 3 | AA8: =Z8 -> 3 | AC8: 94049 | AD8: =1+MOD(AC8-1, 9) -> 8 | AE8: =AD8 -> 8 | AG8: 94627 | AH8: =1+MOD(AG8-1, 9) -> 1 | AI8: =AH8 -> 1 | AK8: 8 = PINK
A9: 89219 | B9: =1+MOD(A9-1, 9) -> 2 | C9: =B9 -> 2 | E9: 89994 | F9: =1+MOD(E9-1, 9) -> 3 | G9: =F9 -> 3 | I9: 90741 | J9: =1+MOD(I9-1, 9) -> 3 | K9: =J9 -> 3 | M9: 91461 | N9: =1+MOD(M9-1, 9) -> 3 | O9: =N9 -> 3 | Q9: 92152 | R9: =1+MOD(Q9-1, 9) -> 1 | S9: =R9 -> 1 | U9: 92816 | V9: =1+MOD(U9-1, 9) -> 8 | W9: =V9 -> 8 | Y9: 93451 | Z9: =1+MOD(Y9-1, 9) -> 4 | AA9: =Z9 -> 4 | AC9: 94058 | AD9: =1+MOD(AC9-1, 9) -> 8 | AE9: =AD9 -> 8 | AG9: 94637 | AH9: =1+MOD(AG9-1, 9) -> 2 | AI9: =AH9 -> 2 | AK9: 9 = BROWN
A10: 89232 | B10: =1+MOD(A10-1, 9) -> 6 | C10: =B10 -> 6 | E10: 90006 | F10: =1+MOD(E10-1, 9) -> 6 | G10: =F10 -> 6 | I10: 90753 | J10: =1+MOD(I10-1, 9) -> 6 | K10: =J10 -> 6 | M10: 91472 | N10: =1+MOD(M10-1, 9) -> 5 | O10: =N10 -> 5 | Q10: 92164 | R10: =1+MOD(Q10-1, 9) -> 4 | S10: =R10 -> 4 | U10: 92827 | V10: =1+MOD(U10-1, 9) -> 1 | W10: =V10 -> 1 | Y10: 93462 | Z10: =1+MOD(Y10-1, 9) -> 6 | AA10: =Z10 -> 6 | AC10: 94068 | AD10: =1+MOD(AC10-1, 9) -> 9 | AE10: =AD10 -> 9 | AG10: 94646 | AH10: =1+MOD(AG10-1, 9) -> 2 | AI10: =AH10 -> 2
A11: 89245 | B11: =1+MOD(A11-1, 9) -> 1 | C11: =B11 -> 1 | E11: 90019 | F11: =1+MOD(E11-1, 9) -> 1 | G11: =F11 -> 1 | I11: 90765 | J11: =1+MOD(I11-1, 9) -> 9 | K11: =J11 -> 9 | M11: 91484 | N11: =1+MOD(M11-1, 9) -> 8 | O11: =N11 -> 8 | Q11: 92175 | R11: =1+MOD(Q11-1, 9) -> 6 | S11: =R11 -> 6 | U11: 92838 | V11: =1+MOD(U11-1, 9) -> 3 | W11: =V11 -> 3 | Y11: 93472 | Z11: =1+MOD(Y11-1, 9) -> 7 | AA11: =Z11 -> 7 | AC11: 94078 | AD11: =1+MOD(AC11-1, 9) -> 1 | AE11: =AD11 -> 1 | AG11: 94655 | AH11: =1+MOD(AG11-1, 9) -> 2 | AI11: =AH11 -> 2
A12: 89258 | B12: =1+MOD(A12-1, 9) -> 5 | C12: =B12 -> 5 | E12: 90032 | F12: =1+MOD(E12-1, 9) -> 5 | G12: =F12 -> 5 | I12: 90778 | J12: =1+MOD(I12-1, 9) -> 4 | K12: =J12 -> 4 | M12: 91496 | N12: =1+MOD(M12-1, 9) -> 2 | O12: =N12 -> 2 | Q12: 92186 | R12: =1+MOD(Q12-1, 9) -> 8 | S12: =R12 -> 8 | U12: 92848 | V12: =1+MOD(U12-1, 9) -> 4 | W12: =V12 -> 4 | Y12: 93482 | Z12: =1+MOD(Y12-1, 9) -> 8 | AA12: =Z12 -> 8 | AC12: 94088 | AD12: =1+MOD(AC12-1, 9) -> 2 | AE12: =AD12 -> 2 | AG12: 94665 | AH12: =1+MOD(AG12-1, 9) -> 3 | AI12: =AH12 -> 3
A13: 89272 | B13: =1+MOD(A13-1, 9) -> 1 | C13: =B13 -> 1 | E13: 90044 | F13: =1+MOD(E13-1, 9) -> 8 | G13: =F13 -> 8 | I13: 90790 | J13: =1+MOD(I13-1, 9) -> 7 | K13: =J13 -> 7 | M13: 91508 | N13: =1+MOD(M13-1, 9) -> 5 | O13: =N13 -> 5 | Q13: 92197 | R13: =1+MOD(Q13-1, 9) -> 1 | S13: =R13 -> 1 | U13: 92859 | V13: =1+MOD(U13-1, 9) -> 6 | W13: =V13 -> 6 | Y13: 93493 | Z13: =1+MOD(Y13-1, 9) -> 1 | AA13: =Z13 -> 1 | AC13: 94098 | AD13: =1+MOD(AC13-1, 9) -> 3 | AE13: =AD13 -> 3 | AG13: 94674 | AH13: =1+MOD(AG13-1, 9) -> 3 | AI13: =AH13 -> 3
A14: 89285 | B14: =1+MOD(A14-1, 9) -> 5 | C14: =B14 -> 5 | E14: 90057 | F14: =1+MOD(E14-1, 9) -> 3 | G14: =F14 -> 3 | I14: 90802 | J14: =1+MOD(I14-1, 9) -> 1 | K14: =J14 -> 1 | M14: 91519 | N14: =1+MOD(M14-1, 9) -> 7 | O14: =N14 -> 7 | Q14: 92209 | R14: =1+MOD(Q14-1, 9) -> 4 | S14: =R14 -> 4 | U14: 92870 | V14: =1+MOD(U14-1, 9) -> 8 | W14: =V14 -> 8 | Y14: 93503 | Z14: =1+MOD(Y14-1, 9) -> 2 | AA14: =Z14 -> 2 | AC14: 94108 | AD14: =1+MOD(AC14-1, 9) -> 4 | AE14: =AD14 -> 4 | AG14: 94684 | AH14: =1+MOD(AG14-1, 9) -> 4 | AI14: =AH14 -> 4
A15: 89298 | B15: =1+MOD(A15-1, 9) -> 9 | C15: =B15 -> 9 | E15: 90070 | F15: =1+MOD(E15-1, 9) -> 7 | G15: =F15 -> 7 | I15: 90814 | J15: =1+MOD(I15-1, 9) -> 4 | K15: =J15 -> 4 | M15: 91531 | N15: =1+MOD(M15-1, 9) -> 1 | O15: =N15 -> 1 | Q15: 92220 | R15: =1+MOD(Q15-1, 9) -> 6 | S15: =R15 -> 6 | U15: 92881 | V15: =1+MOD(U15-1, 9) -> 1 | W15: =V15 -> 1 | Y15: 93513 | Z15: =1+MOD(Y15-1, 9) -> 3 | AA15: =Z15 -> 3 | AC15: 94118 | AD15: =1+MOD(AC15-1, 9) -> 5 | AE15: =AD15 -> 5 | AG15: 94693 | AH15: =1+MOD(AG15-1, 9) -> 4 | AI15: =AH15 -> 4
A16: 89311 | B16: =1+MOD(A16-1, 9) -> 4 | C16: =B16 -> 4 | E16: 90082 | F16: =1+MOD(E16-1, 9) -> 1 | G16: =F16 -> 1 | I16: 90826 | J16: =1+MOD(I16-1, 9) -> 7 | K16: =J16 -> 7 | M16: 91543 | N16: =1+MOD(M16-1, 9) -> 4 | O16: =N16 -> 4 | Q16: 92231 | R16: =1+MOD(Q16-1, 9) -> 8 | S16: =R16 -> 8 | U16: 92892 | V16: =1+MOD(U16-1, 9) -> 3 | W16: =V16 -> 3 | Y16: 93524 | Z16: =1+MOD(Y16-1, 9) -> 5 | AA16: =Z16 -> 5 | AC16: 94127 | AD16: =1+MOD(AC16-1, 9) -> 5 | AE16: =AD16 -> 5 | AG16: 94702 | AH16: =1+MOD(AG16-1, 9) -> 4 | AI16: =AH16 -> 4
A17: 89324 | B17: =1+MOD(A17-1, 9) -> 8 | C17: =B17 -> 8 | E17: 90095 | F17: =1+MOD(E17-1, 9) -> 5 | G17: =F17 -> 5 | I17: 90839 | J17: =1+MOD(I17-1, 9) -> 2 | K17: =J17 -> 2 | M17: 91554 | N17: =1+MOD(M17-1, 9) -> 6 | O17: =N17 -> 6 | Q17: 92242 | R17: =1+MOD(Q17-1, 9) -> 1 | S17: =R17 -> 1 | U17: 92902 | V17: =1+MOD(U17-1, 9) -> 4 | W17: =V17 -> 4 | Y17: 93534 | Z17: =1+MOD(Y17-1, 9) -> 6 | AA17: =Z17 -> 6 | AC17: 94137 | AD17: =1+MOD(AC17-1, 9) -> 6 | AE17: =AD17 -> 6 | AG17: 94712 | AH17: =1+MOD(AG17-1, 9) -> 5 | AI17: =AH17 -> 5
A18: 89337 | B18: =1+MOD(A18-1, 9) -> 3 | C18: =B18 -> 3 | E18: 90108 | F18: =1+MOD(E18-1, 9) -> 9 | G18: =F18 -> 9 | I18: 90851 | J18: =1+MOD(I18-1, 9) -> 5 | K18: =J18 -> 5 | M18: 91566 | N18: =1+MOD(M18-1, 9) -> 9 | O18: =N18 -> 9 | Q18: 92254 | R18: =1+MOD(Q18-1, 9) -> 4 | S18: =R18 -> 4 | U18: 92913 | V18: =1+MOD(U18-1, 9) -> 6 | W18: =V18 -> 6 | Y18: 93544 | Z18: =1+MOD(Y18-1, 9) -> 7 | AA18: =Z18 -> 7 | AC18: 94147 | AD18: =1+MOD(AC18-1, 9) -> 7 | AE18: =AD18 -> 7 | AG18: 94721 | AH18: =1+MOD(AG18-1, 9) -> 5 | AI18: =AH18 -> 5
A19: 89350 | B19: =1+MOD(A19-1, 9) -> 7 | C19: =B19 -> 7 | E19: 90120 | F19: =1+MOD(E19-1, 9) -> 3 | G19: =F19 -> 3 | I19: 90863 | J19: =1+MOD(I19-1, 9) -> 8 | K19: =J19 -> 8 | M19: 91578 | N19: =1+MOD(M19-1, 9) -> 3 | O19: =N19 -> 3 | Q19: 92265 | R19: =1+MOD(Q19-1, 9) -> 6 | S19: =R19 -> 6 | U19: 92924 | V19: =1+MOD(U19-1, 9) -> 8 | W19: =V19 -> 8 | Y19: 93555 | Z19: =1+MOD(Y19-1, 9) -> 9 | AA19: =Z19 -> 9 | AC19: 94157 | AD19: =1+MOD(AC19-1, 9) -> 8 | AE19: =AD19 -> 8 | AG19: 94730 | AH19: =1+MOD(AG19-1, 9) -> 5 | AI19: =AH19 -> 5
A20: 89363 | B20: =1+MOD(A20-1, 9) -> 2 | C20: =B20 -> 2 | E20: 90133 | F20: =1+MOD(E20-1, 9) -> 7 | G20: =F20 -> 7 | I20: 90875 | J20: =1+MOD(I20-1, 9) -> 2 | K20: =J20 -> 2 | M20: 91590 | N20: =1+MOD(M20-1, 9) -> 6 | O20: =N20 -> 6 | Q20: 92276 | R20: =1+MOD(Q20-1, 9) -> 8 | S20: =R20 -> 8 | U20: 92935 | V20: =1+MOD(U20-1, 9) -> 1 | W20: =V20 -> 1 | Y20: 93565 | Z20: =1+MOD(Y20-1, 9) -> 1 | AA20: =Z20 -> 1 | AC20: 94167 | AD20: =1+MOD(AC20-1, 9) -> 9 | AE20: =AD20 -> 9 | AG20: 94740 | AH20: =1+MOD(AG20-1, 9) -> 6 | AI20: =AH20 -> 6
A21: 89376 | B21: =1+MOD(A21-1, 9) -> 6 | C21: =B21 -> 6 | E21: 90145 | F21: =1+MOD(E21-1, 9) -> 1 | G21: =F21 -> 1 | I21: 90887 | J21: =1+MOD(I21-1, 9) -> 5 | K21: =J21 -> 5 | M21: 91601 | N21: =1+MOD(M21-1, 9) -> 8 | O21: =N21 -> 8 | Q21: 92287 | R21: =1+MOD(Q21-1, 9) -> 1 | S21: =R21 -> 1 | U21: 92945 | V21: =1+MOD(U21-1, 9) -> 2 | W21: =V21 -> 2 | Y21: 93575 | Z21: =1+MOD(Y21-1, 9) -> 2 | AA21: =Z21 -> 2 | AC21: 94176 | AD21: =1+MOD(AC21-1, 9) -> 9 | AE21: =AD21 -> 9 | AG21: 94740 | AH21: =1+MOD(AG21-1, 9) -> 6 | AI21: =AH21 -> 6
... A60: 89879 | B60: =1+MOD(A60-1, 9) -> 5 | C60: =B60 -> 5 | E60: 90631 | F60: =1+MOD(E60-1, 9) -> 1 | G60: =F60 -> 1 | I60: 91354 | J60: =1+MOD(I60-1, 9) -> 4 | K60: =J60 -> 4 | M60: 92050 | N60: =1+MOD(M60-1, 9) -> 7 | O60: =N60 -> 7 | Q60: 92718 | R60: =1+MOD(Q60-1, 9) -> 9 | S60: =R60 -> 9 | U60: 93358 | V60: =1+MOD(U60-1, 9) -> 1 | W60: =V60 -> 1 | Y60: 93969 | Z60: =1+MOD(Y60-1, 9) -> 9 | AA60: =Z60 -> 9 | AC60: 94552 | AD60: =1+MOD(AC60-1, 9) -> 7 | AE60: =AD60 -> 7 | AG60: 95106 | AH60: =1+MOD(AG60-1, 9) -> 3 | AI60: =AH60 -> 3

Sheet 73-81
A1: 95115 | B1: =1+MOD(A1-1, 9) -> 3 | C1: =B1 -> 3 | E1: 95639 | F1: =1+MOD(E1-1, 9) -> 5 | G1: =F1 -> 5 | I1: 96134 | J1: =1+MOD(I1-1, 9) -> 5 | K1: =J1 -> 5 | M1: 96600 | N1: =1+MOD(M1-1, 9) -> 3 | O1: =N1 -> 3 | Q1: 97037 | R1: =1+MOD(Q1-1, 9) -> 8 | S1: =R1 -> 8 | U1: 97443 | V1: =1+MOD(U1-1, 9) -> 9 | W1: =V1 -> 9 | Y1: 97821 | Z1: =1+MOD(Y1-1, 9) -> 9 | AA1: =Z1 -> 9 | AC1: 98168 | AD1: =1+MOD(AC1-1, 9) -> 5 | AE1: =AD1 -> 5 | AG1: 98486 | AH1: =1+MOD(AG1-1, 9) -> 8 | AI1: =AH1 -> 8 | AK1: 1 = RED
A2: 95124 | B2: =1+MOD(A2-1, 9) -> 3 | C2: =B2 -> 3 | E2: 95647 | F2: =1+MOD(E2-1, 9) -> 4 | G2: =F2 -> 4 | I2: 96142 | J2: =1+MOD(I2-1, 9) -> 4 | K2: =J2 -> 4 | M2: 96608 | N2: =1+MOD(M2-1, 9) -> 2 | O2: =N2 -> 2 | Q2: 97044 | R2: =1+MOD(Q2-1, 9) -> 6 | S2: =R2 -> 6 | U2: 97450 | V2: =1+MOD(U2-1, 9) -> 7 | W2: =V2 -> 7 | Y2: 97827 | Z2: =1+MOD(Y2-1, 9) -> 6 | AA2: =Z2 -> 6 | AC2: 98174 | AD2: =1+MOD(AC2-1, 9) -> 2 | AE2: =AD2 -> 2 | AG2: 98491 | AH2: =1+MOD(AG2-1, 9) -> 4 | AI2: =AH2 -> 4 | AK2: 2 = GREEN
A3: 95132 | B3: =1+MOD(A3-1, 9) -> 2 | C3: =B3 -> 2 | E3: 95656 | F3: =1+MOD(E3-1, 9) -> 4 | G3: =F3 -> 4 | I3: 96150 | J3: =1+MOD(I3-1, 9) -> 3 | K3: =J3 -> 3 | M3: 96615 | N3: =1+MOD(M3-1, 9) -> 9 | O3: =N3 -> 9 | Q3: 97051 | R3: =1+MOD(Q3-1, 9) -> 4 | S3: =R3 -> 4 | U3: 97457 | V3: =1+MOD(U3-1, 9) -> 5 | W3: =V3 -> 5 | Y3: 97833 | Z3: =1+MOD(Y3-1, 9) -> 3 | AA3: =Z3 -> 3 | AC3: 98179 | AD3: =1+MOD(AC3-1, 9) -> 7 | AE3: =AD3 -> 7 | AG3: 98496 | AH3: =1+MOD(AG3-1, 9) -> 9 | AI3: =AH3 -> 9 | AK3: 3 = BLUE
A4: 95141 | B4: =1+MOD(A4-1, 9) -> 2 | C4: =B4 -> 2 | E4: 95664 | F4: =1+MOD(E4-1, 9) -> 3 | G4: =F4 -> 3 | I4: 96158 | J4: =1+MOD(I4-1, 9) -> 2 | K4: =J4 -> 2 | M4: 96623 | N4: =1+MOD(M4-1, 9) -> 8 | O4: =N4 -> 8 | Q4: 97058 | R4: =1+MOD(Q4-1, 9) -> 2 | S4: =R4 -> 2 | U4: 97463 | V4: =1+MOD(U4-1, 9) -> 2 | W4: =V4 -> 2 | Y4: 97839 | Z4: =1+MOD(Y4-1, 9) -> 9 | AA4: =Z4 -> 9 | AC4: 98185 | AD4: =1+MOD(AC4-1, 9) -> 4 | AE4: =AD4 -> 4 | AG4: 98501 | AH4: =1+MOD(AG4-1, 9) -> 5 | AI4: =AH4 -> 5 | AK4: 4 = YELLOW
A5: 95150 | B5: =1+MOD(A5-1, 9) -> 2 | C5: =B5 -> 2 | E5: 95673 | F5: =1+MOD(E5-1, 9) -> 3 | G5: =F5 -> 3 | I5: 96166 | J5: =1+MOD(I5-1, 9) -> 1 | K5: =J5 -> 1 | M5: 96630 | N5: =1+MOD(M5-1, 9) -> 6 | O5: =N5 -> 6 | Q5: 97065 | R5: =1+MOD(Q5-1, 9) -> 9 | S5: =R5 -> 9 | U5: 97470 | V5: =1+MOD(U5-1, 9) -> 9 | W5: =V5 -> 9 | Y5: 97845 | Z5: =1+MOD(Y5-1, 9) -> 6 | AA5: =Z5 -> 6 | AC5: 98190 | AD5: =1+MOD(AC5-1, 9) -> 9 | AE5: =AD5 -> 9 | AG5: 98506 | AH5: =1+MOD(AG5-1, 9) -> 1 | AI5: =AH5 -> 1 | AK5: 5 = CYAN
A6: 95159 | B6: =1+MOD(A6-1, 9) -> 2 | C6: =B6 -> 2 | E6: 95681 | F6: =1+MOD(E6-1, 9) -> 2 | G6: =F6 -> 2 | I6: 96174 | J6: =1+MOD(I6-1, 9) -> 9 | K6: =J6 -> 9 | M6: 96638 | N6: =1+MOD(M6-1, 9) -> 5 | O6: =N6 -> 5 | Q6: 97072 | R6: =1+MOD(Q6-1, 9) -> 7 | S6: =R6 -> 7 | U6: 97476 | V6: =1+MOD(U6-1, 9) -> 6 | W6: =V6 -> 6 | Y6: 97851 | Z6: =1+MOD(Y6-1, 9) -> 3 | AA6: =Z6 -> 3 | AC6: 98196 | AD6: =1+MOD(AC6-1, 9) -> 6 | AE6: =AD6 -> 6 | AG6: 98511 | AH6: =1+MOD(AG6-1, 9) -> 6 | AI6: =AH6 -> 6 | AK6: 6 = PURPLE
A7: 95168 | B7: =1+MOD(A7-1, 9) -> 2 | C7: =B7 -> 2 | E7: 95690 | F7: =1+MOD(E7-1, 9) -> 2 | G7: =F7 -> 2 | I7: 96182 | J7: =1+MOD(I7-1, 9) -> 8 | K7: =J7 -> 8 | M7: 96645 | N7: =1+MOD(M7-1, 9) -> 3 | O7: =N7 -> 3 | Q7: 97079 | R7: =1+MOD(Q7-1, 9) -> 5 | S7: =R7 -> 5 | U7: 97483 | V7: =1+MOD(U7-1, 9) -> 4 | W7: =V7 -> 4 | Y7: 97857 | Z7: =1+MOD(Y7-1, 9) -> 9 | AA7: =Z7 -> 9 | AC7: 98201 | AD7: =1+MOD(AC7-1, 9) -> 2 | AE7: =AD7 -> 2 | AG7: 98516 | AH7: =1+MOD(AG7-1, 9) -> 2 | AI7: =AH7 -> 2 | AK7: 7 = WHITE
A8: 95177 | B8: =1+MOD(A8-1, 9) -> 2 | C8: =B8 -> 2 | E8: 95698 | F8: =1+MOD(E8-1, 9) -> 1 | G8: =F8 -> 1 | I8: 96190 | J8: =1+MOD(I8-1, 9) -> 7 | K8: =J8 -> 7 | M8: 96652 | N8: =1+MOD(M8-1, 9) -> 1 | O8: =N8 -> 1 | Q8: 97086 | R8: =1+MOD(Q8-1, 9) -> 3 | S8: =R8 -> 3 | U8: 97489 | V8: =1+MOD(U8-1, 9) -> 1 | W8: =V8 -> 1 | Y8: 97863 | Z8: =1+MOD(Y8-1, 9) -> 6 | AA8: =Z8 -> 6 | AC8: 98207 | AD8: =1+MOD(AC8-1, 9) -> 8 | AE8: =AD8 -> 8 | AG8: 98521 | AH8: =1+MOD(AG8-1, 9) -> 7 | AI8: =AH8 -> 7 | AK8: 8 = PINK
A9: 95186 | B9: =1+MOD(A9-1, 9) -> 2 | C9: =B9 -> 2 | E9: 95707 | F9: =1+MOD(E9-1, 9) -> 1 | G9: =F9 -> 1 | I9: 96198 | J9: =1+MOD(I9-1, 9) -> 6 | K9: =J9 -> 6 | M9: 96660 | N9: =1+MOD(M9-1, 9) -> 9 | O9: =N9 -> 9 | Q9: 97092 | R9: =1+MOD(Q9-1, 9) -> 9 | S9: =R9 -> 9 | U9: 97495 | V9: =1+MOD(U9-1, 9) -> 7 | W9: =V9 -> 7 | Y9: 97869 | Z9: =1+MOD(Y9-1, 9) -> 3 | AA9: =Z9 -> 3 | AC9: 98212 | AD9: =1+MOD(AC9-1, 9) -> 4 | AE9: =AD9 -> 4 | AG9: 98526 | AH9: =1+MOD(AG9-1, 9) -> 3 | AI9: =AH9 -> 3 | AK9: 9 = BROWN
A10: 95195 | B10: =1+MOD(A10-1, 9) -> 2 | C10: =B10 -> 2 | E10: 95715 | F10: =1+MOD(E10-1, 9) -> 9 | G10: =F10 -> 9 | I10: 96206 | J10: =1+MOD(I10-1, 9) -> 5 | K10: =J10 -> 5 | M10: 96667 | N10: =1+MOD(M10-1, 9) -> 7 | O10: =N10 -> 7 | Q10: 97099 | R10: =1+MOD(Q10-1, 9) -> 7 | S10: =R10 -> 7 | U10: 97502 | V10: =1+MOD(U10-1, 9) -> 5 | W10: =V10 -> 5 | Y10: 97875 | Z10: =1+MOD(Y10-1, 9) -> 9 | AA10: =Z10 -> 9 | AC10: 98218 | AD10: =1+MOD(AC10-1, 9) -> 1 | AE10: =AD10 -> 1 | AG10: 98531 | AH10: =1+MOD(AG10-1, 9) -> 8 | AI10: =AH10 -> 8
A11: 95204 | B11: =1+MOD(A11-1, 9) -> 2 | C11: =B11 -> 2 | E11: 95723 | F11: =1+MOD(E11-1, 9) -> 8 | G11: =F11 -> 8 | I11: 96214 | J11: =1+MOD(I11-1, 9) -> 4 | K11: =J11 -> 4 | M11: 96675 | N11: =1+MOD(M11-1, 9) -> 6 | O11: =N11 -> 6 | Q11: 97106 | R11: =1+MOD(Q11-1, 9) -> 5 | S11: =R11 -> 5 | U11: 97508 | V11: =1+MOD(U11-1, 9) -> 2 | W11: =V11 -> 2 | Y11: 97881 | Z11: =1+MOD(Y11-1, 9) -> 6 | AA11: =Z11 -> 6 | AC11: 98223 | AD11: =1+MOD(AC11-1, 9) -> 6 | AE11: =AD11 -> 6 | AG11: 98536 | AH11: =1+MOD(AG11-1, 9) -> 4 | AI11: =AH11 -> 4
A12: 95213 | B12: =1+MOD(A12-1, 9) -> 2 | C12: =B12 -> 2 | E12: 95732 | F12: =1+MOD(E12-1, 9) -> 8 | G12: =F12 -> 8 | I12: 96222 | J12: =1+MOD(I12-1, 9) -> 3 | K12: =J12 -> 3 | M12: 96682 | N12: =1+MOD(M12-1, 9) -> 4 | O12: =N12 -> 4 | Q12: 97113 | R12: =1+MOD(Q12-1, 9) -> 3 | S12: =R12 -> 3 | U12: 97515 | V12: =1+MOD(U12-1, 9) -> 9 | W12: =V12 -> 9 | Y12: 97887 | Z12: =1+MOD(Y12-1, 9) -> 3 | AA12: =Z12 -> 3 | AC12: 98229 | AD12: =1+MOD(AC12-1, 9) -> 3 | AE12: =AD12 -> 3 | AG12: 98541 | AH12: =1+MOD(AG12-1, 9) -> 9 | AI12: =AH12 -> 9
A13: 95222 | B13: =1+MOD(A13-1, 9) -> 2 | C13: =B13 -> 2 | E13: 95740 | F13: =1+MOD(E13-1, 9) -> 7 | G13: =F13 -> 7 | I13: 96230 | J13: =1+MOD(I13-1, 9) -> 2 | K13: =J13 -> 2 | M13: 96690 | N13: =1+MOD(M13-1, 9) -> 3 | O13: =N13 -> 3 | Q13: 97120 | R13: =1+MOD(Q13-1, 9) -> 1 | S13: =R13 -> 1 | U13: 97521 | V13: =1+MOD(U13-1, 9) -> 6 | W13: =V13 -> 6 | Y13: 97893 | Z13: =1+MOD(Y13-1, 9) -> 9 | AA13: =Z13 -> 9 | AC13: 98234 | AD13: =1+MOD(AC13-1, 9) -> 8 | AE13: =AD13 -> 8 | AG13: 98546 | AH13: =1+MOD(AG13-1, 9) -> 5 | AI13: =AH13 -> 5
A14: 95231 | B14: =1+MOD(A14-1, 9) -> 2 | C14: =B14 -> 2 | E14: 95749 | F14: =1+MOD(E14-1, 9) -> 7 | G14: =F14 -> 7 | I14: 96238 | J14: =1+MOD(I14-1, 9) -> 1 | K14: =J14 -> 1 | M14: 96697 | N14: =1+MOD(M14-1, 9) -> 1 | O14: =N14 -> 1 | Q14: 97127 | R14: =1+MOD(Q14-1, 9) -> 8 | S14: =R14 -> 8 | U14: 97528 | V14: =1+MOD(U14-1, 9) -> 4 | W14: =V14 -> 4 | Y14: 97899 | Z14: =1+MOD(Y14-1, 9) -> 6 | AA14: =Z14 -> 6 | AC14: 98240 | AD14: =1+MOD(AC14-1, 9) -> 5 | AE14: =AD14 -> 5 | AG14: 98551 | AH14: =1+MOD(AG14-1, 9) -> 1 | AI14: =AH14 -> 1
A15: 95239 | B15: =1+MOD(A15-1, 9) -> 1 | C15: =B15 -> 1 | E15: 95757 | F15: =1+MOD(E15-1, 9) -> 6 | G15: =F15 -> 6 | I15: 96245 | J15: =1+MOD(I15-1, 9) -> 8 | K15: =J15 -> 8 | M15: 96704 | N15: =1+MOD(M15-1, 9) -> 8 | O15: =N15 -> 8 | Q15: 97134 | R15: =1+MOD(Q15-1, 9) -> 6 | S15: =R15 -> 6 | U15: 97534 | V15: =1+MOD(U15-1, 9) -> 1 | W15: =V15 -> 1 | Y15: 97904 | Z15: =1+MOD(Y15-1, 9) -> 2 | AA15: =Z15 -> 2 | AC15: 98245 | AD15: =1+MOD(AC15-1, 9) -> 1 | AE15: =AD15 -> 1 | AG15: 98556 | AH15: =1+MOD(AG15-1, 9) -> 6 | AI15: =AH15 -> 6
A16: 95248 | B16: =1+MOD(A16-1, 9) -> 1 | C16: =B16 -> 1 | E16: 95765 | F16: =1+MOD(E16-1, 9) -> 5 | G16: =F16 -> 5 | I16: 96253 | J16: =1+MOD(I16-1, 9) -> 7 | K16: =J16 -> 7 | M16: 96712 | N16: =1+MOD(M16-1, 9) -> 7 | O16: =N16 -> 7 | Q16: 97141 | R16: =1+MOD(Q16-1, 9) -> 4 | S16: =R16 -> 4 | U16: 97541 | V16: =1+MOD(U16-1, 9) -> 8 | W16: =V16 -> 8 | Y16: 97910 | Z16: =1+MOD(Y16-1, 9) -> 8 | AA16: =Z16 -> 8 | AC16: 98250 | AD16: =1+MOD(AC16-1, 9) -> 6 | AE16: =AD16 -> 6 | AG16: 98560 | AH16: =1+MOD(AG16-1, 9) -> 1 | AI16: =AH16 -> 1
A17: 95257 | B17: =1+MOD(A17-1, 9) -> 1 | C17: =B17 -> 1 | E17: 95774 | F17: =1+MOD(E17-1, 9) -> 5 | G17: =F17 -> 5 | I17: 96261 | J17: =1+MOD(I17-1, 9) -> 6 | K17: =J17 -> 6 | M17: 96719 | N17: =1+MOD(M17-1, 9) -> 5 | O17: =N17 -> 5 | Q17: 97148 | R17: =1+MOD(Q17-1, 9) -> 2 | S17: =R17 -> 2 | U17: 97547 | V17: =1+MOD(U17-1, 9) -> 5 | W17: =V17 -> 5 | Y17: 97916 | Z17: =1+MOD(Y17-1, 9) -> 5 | AA17: =Z17 -> 5 | AC17: 98256 | AD17: =1+MOD(AC17-1, 9) -> 3 | AE17: =AD17 -> 3 | AG17: 98565 | AH17: =1+MOD(AG17-1, 9) -> 6 | AI17: =AH17 -> 6
A18: 95266 | B18: =1+MOD(A18-1, 9) -> 1 | C18: =B18 -> 1 | E18: 95782 | F18: =1+MOD(E18-1, 9) -> 4 | G18: =F18 -> 4 | I18: 96269 | J18: =1+MOD(I18-1, 9) -> 5 | K18: =J18 -> 5 | M18: 96727 | N18: =1+MOD(M18-1, 9) -> 4 | O18: =N18 -> 4 | Q18: 97155 | R18: =1+MOD(Q18-1, 9) -> 9 | S18: =R18 -> 9 | U18: 97553 | V18: =1+MOD(U18-1, 9) -> 2 | W18: =V18 -> 2 | Y18: 97922 | Z18: =1+MOD(Y18-1, 9) -> 2 | AA18: =Z18 -> 2 | AC18: 98261 | AD18: =1+MOD(AC18-1, 9) -> 8 | AE18: =AD18 -> 8 | AG18: 98570 | AH18: =1+MOD(AG18-1, 9) -> 2 | AI18: =AH18 -> 2
A19: 95275 | B19: =1+MOD(A19-1, 9) -> 1 | C19: =B19 -> 1 | E19: 95791 | F19: =1+MOD(E19-1, 9) -> 4 | G19: =F19 -> 4 | I19: 96277 | J19: =1+MOD(I19-1, 9) -> 4 | K19: =J19 -> 4 | M19: 96734 | N19: =1+MOD(M19-1, 9) -> 2 | O19: =N19 -> 2 | Q19: 97162 | R19: =1+MOD(Q19-1, 9) -> 7 | S19: =R19 -> 7 | U19: 97560 | V19: =1+MOD(U19-1, 9) -> 9 | W19: =V19 -> 9 | Y19: 97928 | Z19: =1+MOD(Y19-1, 9) -> 8 | AA19: =Z19 -> 8 | AC19: 98267 | AD19: =1+MOD(AC19-1, 9) -> 5 | AE19: =AD19 -> 5 | AG19: 98575 | AH19: =1+MOD(AG19-1, 9) -> 7 | AI19: =AH19 -> 7
A20: 95284 | B20: =1+MOD(A20-1, 9) -> 1 | C20: =B20 -> 1 | E20: 95799 | F20: =1+MOD(E20-1, 9) -> 3 | G20: =F20 -> 3 | I20: 96285 | J20: =1+MOD(I20-1, 9) -> 3 | K20: =J20 -> 3 | M20: 96741 | N20: =1+MOD(M20-1, 9) -> 9 | O20: =N20 -> 9 | Q20: 97169 | R20: =1+MOD(Q20-1, 9) -> 5 | S20: =R20 -> 5 | U20: 97566 | V20: =1+MOD(U20-1, 9) -> 6 | W20: =V20 -> 6 | Y20: 97934 | Z20: =1+MOD(Y20-1, 9) -> 5 | AA20: =Z20 -> 5 | AC20: 98272 | AD20: =1+MOD(AC20-1, 9) -> 1 | AE20: =AD20 -> 1 | AG20: 98580 | AH20: =1+MOD(AG20-1, 9) -> 3 | AI20: =AH20 -> 3
A21: 95293 | B21: =1+MOD(A21-1, 9) -> 1 | C21: =B21 -> 1 | E21: 95807 | F21: =1+MOD(E21-1, 9) -> 2 | G21: =F21 -> 2 | I21: 96293 | J21: =1+MOD(I21-1, 9) -> 2 | K21: =J21 -> 2 | M21: 96749 | N21: =1+MOD(M21-1, 9) -> 8 | O21: =N21 -> 8 | Q21: 97175 | R21: =1+MOD(Q21-1, 9) -> 2 | S21: =R21 -> 2 | U21: 97573 | V21: =1+MOD(U21-1, 9) -> 4 | W21: =V21 -> 4 | Y21: 97940 | Z21: =1+MOD(Y21-1, 9) -> 2 | AA21: =Z21 -> 2 | AC21: 98277 | AD21: =1+MOD(AC21-1, 9) -> 6 | AE21: =AD21 -> 6 | AG21: 98585 | AH21: =1+MOD(AG21-1, 9) -> 8 | AI21: =AH21 -> 8
... A60: 95630 | B60: =1+MOD(A60-1, 9) -> 5 | C60: =B60 -> 5 | E60: 96126 | F60: =1+MOD(E60-1, 9) -> 6 | G60: =F60 -> 6 | I60: 96592 | J60: =1+MOD(I60-1, 9) -> 4 | K60: =J60 -> 4 | M60: 97029 | N60: =1+MOD(M60-1, 9) -> 9 | O60: =N60 -> 9 | Q60: 97437 | R60: =1+MOD(Q60-1, 9) -> 3 | S60: =R60 -> 3 | U60: 97815 | V60: =1+MOD(U60-1, 9) -> 3 | W60: =V60 -> 3 | Y60: 98163 | Z60: =1+MOD(Y60-1, 9) -> 9 | AA60: =Z60 -> 9 | AC60: 98481 | AD60: =1+MOD(AC60-1, 9) -> 3 | AE60: =AD60 -> 3 | AG60: 98769 | AH60: =1+MOD(AG60-1, 9) -> 3 | AI60: =AH60 -> 3

Sheet 82-90
A1: 98773 | B1: =1+MOD(A1-1, 9) -> 7 | C1: =B1 -> 7 | E1: 99031 | F1: =1+MOD(E1-1, 9) -> 4 | G1: =F1 -> 4 | I1: 99258 | J1: =1+MOD(I1-1, 9) -> 6 | K1: =J1 -> 6 | M1: 99455 | N1: =1+MOD(M1-1, 9) -> 5 | O1: =N1 -> 5 | Q1: 99622 | R1: =1+MOD(Q1-1, 9) -> 1 | S1: =R1 -> 1 | U1: 99758 | V1: =1+MOD(U1-1, 9) -> 2 | W1: =V1 -> 2 | Y1: 99864 | Z1: =1+MOD(Y1-1, 9) -> 9 | AA1: =Z1 -> 9 | AC1: 99940 | AD1: =1+MOD(AC1-1, 9) -> 4 | AE1: =AD1 -> 4 | AG1: 99985 | AH1: =1+MOD(AG1-1, 9) -> 4 | AI1: =AH1 -> 4 | AK1: 1 = RED
A2: 98778 | B2: =1+MOD(A2-1, 9) -> 3 | C2: =B2 -> 3 | E2: 99035 | F2: =1+MOD(E2-1, 9) -> 8 | G2: =F2 -> 8 | I2: 99262 | J2: =1+MOD(I2-1, 9) -> 1 | K2: =J2 -> 1 | M2: 99458 | N2: =1+MOD(M2-1, 9) -> 8 | O2: =N2 -> 8 | Q2: 99624 | R2: =1+MOD(Q2-1, 9) -> 3 | S2: =R2 -> 3 | U2: 99760 | V2: =1+MOD(U2-1, 9) -> 4 | W2: =V2 -> 4 | Y2: 99866 | Z2: =1+MOD(Y2-1, 9) -> 2 | AA2: =Z2 -> 2 | AC2: 99941 | AD2: =1+MOD(AC2-1, 9) -> 5 | AE2: =AD2 -> 5 | AG2: 99986 | AH2: =1+MOD(AG2-1, 9) -> 5 | AI2: =AH2 -> 5 | AK2: 2 = GREEN
A3: 98782 | B3: =1+MOD(A3-1, 9) -> 7 | C3: =B3 -> 7 | E3: 99039 | F3: =1+MOD(E3-1, 9) -> 3 | G3: =F3 -> 3 | I3: 99265 | J3: =1+MOD(I3-1, 9) -> 4 | K3: =J3 -> 4 | M3: 99461 | N3: =1+MOD(M3-1, 9) -> 2 | O3: =N3 -> 2 | Q3: 99627 | R3: =1+MOD(Q3-1, 9) -> 6 | S3: =R3 -> 6 | U3: 99762 | V3: =1+MOD(U3-1, 9) -> 6 | W3: =V3 -> 6 | Y3: 99867 | Z3: =1+MOD(Y3-1, 9) -> 3 | AA3: =Z3 -> 3 | AC3: 99942 | AD3: =1+MOD(AC3-1, 9) -> 6 | AE3: =AD3 -> 6 | AG3: 99987 | AH3: =1+MOD(AG3-1, 9) -> 6 | AI3: =AH3 -> 6 | AK3: 3 = BLUE
A4: 98787 | B4: =1+MOD(A4-1, 9) -> 3 | C4: =B4 -> 3 | E4: 99043 | F4: =1+MOD(E4-1, 9) -> 7 | G4: =F4 -> 7 | I4: 99269 | J4: =1+MOD(I4-1, 9) -> 8 | K4: =J4 -> 8 | M4: 99464 | N4: =1+MOD(M4-1, 9) -> 5 | O4: =N4 -> 5 | Q4: 99629 | R4: =1+MOD(Q4-1, 9) -> 8 | S4: =R4 -> 8 | U4: 99764 | V4: =1+MOD(U4-1, 9) -> 8 | W4: =V4 -> 8 | Y4: 99869 | Z4: =1+MOD(Y4-1, 9) -> 5 | AA4: =Z4 -> 5 | AC4: 99943 | AD4: =1+MOD(AC4-1, 9) -> 7 | AE4: =AD4 -> 7 | AG4: 99987 | AH4: =1+MOD(AG4-1, 9) -> 6 | AI4: =AH4 -> 6 | AK4: 4 = YELLOW
A5: 98791 | B5: =1+MOD(A5-1, 9) -> 7 | C5: =B5 -> 7 | E5: 99047 | F5: =1+MOD(E5-1, 9) -> 2 | G5: =F5 -> 2 | I5: 99272 | J5: =1+MOD(I5-1, 9) -> 2 | K5: =J5 -> 2 | M5: 99467 | N5: =1+MOD(M5-1, 9) -> 8 | O5: =N5 -> 8 | Q5: 99632 | R5: =1+MOD(Q5-1, 9) -> 2 | S5: =R5 -> 2 | U5: 99766 | V5: =1+MOD(U5-1, 9) -> 1 | W5: =V5 -> 1 | Y5: 99870 | Z5: =1+MOD(Y5-1, 9) -> 6 | AA5: =Z5 -> 6 | AC5: 99944 | AD5: =1+MOD(AC5-1, 9) -> 8 | AE5: =AD5 -> 8 | AG5: 99987 | AH5: =1+MOD(AG5-1, 9) -> 6 | AI5: =AH5 -> 6 | AK5: 5 = CYAN
A6: 98796 | B6: =1+MOD(A6-1, 9) -> 3 | C6: =B6 -> 3 | E6: 99051 | F6: =1+MOD(E6-1, 9) -> 6 | G6: =F6 -> 6 | I6: 99276 | J6: =1+MOD(I6-1, 9) -> 6 | K6: =J6 -> 6 | M6: 99470 | N6: =1+MOD(M6-1, 9) -> 2 | O6: =N6 -> 2 | Q6: 99634 | R6: =1+MOD(Q6-1, 9) -> 4 | S6: =R6 -> 4 | U6: 99768 | V6: =1+MOD(U6-1, 9) -> 3 | W6: =V6 -> 3 | Y6: 99872 | Z6: =1+MOD(Y6-1, 9) -> 8 | AA6: =Z6 -> 8 | AC6: 99945 | AD6: =1+MOD(AC6-1, 9) -> 9 | AE6: =AD6 -> 9 | AG6: 99988 | AH6: =1+MOD(AG6-1, 9) -> 7 | AI6: =AH6 -> 7 | AK6: 6 = PURPLE
A7: 98800 | B7: =1+MOD(A7-1, 9) -> 7 | C7: =B7 -> 7 | E7: 99055 | F7: =1+MOD(E7-1, 9) -> 1 | G7: =F7 -> 1 | I7: 99279 | J7: =1+MOD(I7-1, 9) -> 9 | K7: =J7 -> 9 | M7: 99473 | N7: =1+MOD(M7-1, 9) -> 5 | O7: =N7 -> 5 | Q7: 99637 | R7: =1+MOD(Q7-1, 9) -> 7 | S7: =R7 -> 7 | U7: 99770 | V7: =1+MOD(U7-1, 9) -> 5 | W7: =V7 -> 5 | Y7: 99873 | Z7: =1+MOD(Y7-1, 9) -> 9 | AA7: =Z7 -> 9 | AC7: 99946 | AD7: =1+MOD(AC7-1, 9) -> 1 | AE7: =AD7 -> 1 | AG7: 99988 | AH7: =1+MOD(AG7-1, 9) -> 7 | AI7: =AH7 -> 7 | AK7: 7 = WHITE
A8: 98805 | B8: =1+MOD(A8-1, 9) -> 3 | C8: =B8 -> 3 | E8: 99059 | F8: =1+MOD(E8-1, 9) -> 5 | G8: =F8 -> 5 | I8: 99283 | J8: =1+MOD(I8-1, 9) -> 4 | K8: =J8 -> 4 | M8: 99476 | N8: =1+MOD(M8-1, 9) -> 8 | O8: =N8 -> 8 | Q8: 99639 | R8: =1+MOD(Q8-1, 9) -> 9 | S8: =R8 -> 9 | U8: 99772 | V8: =1+MOD(U8-1, 9) -> 7 | W8: =V8 -> 7 | Y8: 99875 | Z8: =1+MOD(Y8-1, 9) -> 2 | AA8: =Z8 -> 2 | AC8: 99947 | AD8: =1+MOD(AC8-1, 9) -> 2 | AE8: =AD8 -> 2 | AG8: 99988 | AH8: =1+MOD(AG8-1, 9) -> 7 | AI8: =AH8 -> 7 | AK8: 8 = PINK
A9: 98809 | B9: =1+MOD(A9-1, 9) -> 7 | C9: =B9 -> 7 | E9: 99063 | F9: =1+MOD(E9-1, 9) -> 9 | G9: =F9 -> 9 | I9: 99286 | J9: =1+MOD(I9-1, 9) -> 7 | K9: =J9 -> 7 | M9: 99479 | N9: =1+MOD(M9-1, 9) -> 2 | O9: =N9 -> 2 | Q9: 99642 | R9: =1+MOD(Q9-1, 9) -> 3 | S9: =R9 -> 3 | U9: 99774 | V9: =1+MOD(U9-1, 9) -> 9 | W9: =V9 -> 9 | Y9: 99876 | Z9: =1+MOD(Y9-1, 9) -> 3 | AA9: =Z9 -> 3 | AC9: 99948 | AD9: =1+MOD(AC9-1, 9) -> 3 | AE9: =AD9 -> 3 | AG9: 99989 | AH9: =1+MOD(AG9-1, 9) -> 8 | AI9: =AH9 -> 8 | AK9: 9 = BROWN
A10: 98814 | B10: =1+MOD(A10-1, 9) -> 3 | C10: =B10 -> 3 | E10: 99067 | F10: =1+MOD(E10-1, 9) -> 4 | G10: =F10 -> 4 | I10: 99290 | J10: =1+MOD(I10-1, 9) -> 2 | K10: =J10 -> 2 | M10: 99482 | N10: =1+MOD(M10-1, 9) -> 5 | O10: =N10 -> 5 | Q10: 99644 | R10: =1+MOD(Q10-1, 9) -> 5 | S10: =R10 -> 5 | U10: 99776 | V10: =1+MOD(U10-1, 9) -> 2 | W10: =V10 -> 2 | Y10: 99878 | Z10: =1+MOD(Y10-1, 9) -> 5 | AA10: =Z10 -> 5 | AC10: 99949 | AD10: =1+MOD(AC10-1, 9) -> 4 | AE10: =AD10 -> 4 | AG10: 99989 | AH10: =1+MOD(AG10-1, 9) -> 8 | AI10: =AH10 -> 8
A11: 98818 | B11: =1+MOD(A11-1, 9) -> 7 | C11: =B11 -> 7 | E11: 99071 | F11: =1+MOD(E11-1, 9) -> 8 | G11: =F11 -> 8 | I11: 99293 | J11: =1+MOD(I11-1, 9) -> 5 | K11: =J11 -> 5 | M11: 99485 | N11: =1+MOD(M11-1, 9) -> 8 | O11: =N11 -> 8 | Q11: 99647 | R11: =1+MOD(Q11-1, 9) -> 8 | S11: =R11 -> 8 | U11: 99778 | V11: =1+MOD(U11-1, 9) -> 4 | W11: =V11 -> 4 | Y11: 99879 | Z11: =1+MOD(Y11-1, 9) -> 6 | AA11: =Z11 -> 6 | AC11: 99950 | AD11: =1+MOD(AC11-1, 9) -> 5 | AE11: =AD11 -> 5 | AG11: 99990 | AH11: =1+MOD(AG11-1, 9) -> 9 | AI11: =AH11 -> 9
A12: 98823 | B12: =1+MOD(A12-1, 9) -> 3 | C12: =B12 -> 3 | E12: 99075 | F12: =1+MOD(E12-1, 9) -> 3 | G12: =F12 -> 3 | I12: 99296 | J12: =1+MOD(I12-1, 9) -> 8 | K12: =J12 -> 8 | M12: 99488 | N12: =1+MOD(M12-1, 9) -> 2 | O12: =N12 -> 2 | Q12: 99649 | R12: =1+MOD(Q12-1, 9) -> 1 | S12: =R12 -> 1 | U12: 99780 | V12: =1+MOD(U12-1, 9) -> 6 | W12: =V12 -> 6 | Y12: 99881 | Z12: =1+MOD(Y12-1, 9) -> 8 | AA12: =Z12 -> 8 | AC12: 99951 | AD12: =1+MOD(AC12-1, 9) -> 6 | AE12: =AD12 -> 6 | AG12: 99990 | AH12: =1+MOD(AG12-1, 9) -> 9 | AI12: =AH12 -> 9
A13: 98827 | B13: =1+MOD(A13-1, 9) -> 7 | C13: =B13 -> 7 | E13: 99079 | F13: =1+MOD(E13-1, 9) -> 7 | G13: =F13 -> 7 | I13: 99300 | J13: =1+MOD(I13-1, 9) -> 3 | K13: =J13 -> 3 | M13: 99491 | N13: =1+MOD(M13-1, 9) -> 5 | O13: =N13 -> 5 | Q13: 99652 | R13: =1+MOD(Q13-1, 9) -> 4 | S13: =R13 -> 4 | U13: 99782 | V13: =1+MOD(U13-1, 9) -> 8 | W13: =V13 -> 8 | Y13: 99882 | Z13: =1+MOD(Y13-1, 9) -> 9 | AA13: =Z13 -> 9 | AC13: 99951 | AD13: =1+MOD(AC13-1, 9) -> 6 | AE13: =AD13 -> 6 | AG13: 99991 | AH13: =1+MOD(AG13-1, 9) -> 1 | AI13: =AH13 -> 1
A14: 98832 | B14: =1+MOD(A14-1, 9) -> 3 | C14: =B14 -> 3 | E14: 99083 | F14: =1+MOD(E14-1, 9) -> 2 | G14: =F14 -> 2 | I14: 99303 | J14: =1+MOD(I14-1, 9) -> 6 | K14: =J14 -> 6 | M14: 99494 | N14: =1+MOD(M14-1, 9) -> 8 | O14: =N14 -> 8 | Q14: 99654 | R14: =1+MOD(Q14-1, 9) -> 6 | S14: =R14 -> 6 | U14: 99784 | V14: =1+MOD(U14-1, 9) -> 1 | W14: =V14 -> 1 | Y14: 99883 | Z14: =1+MOD(Y14-1, 9) -> 1 | AA14: =Z14 -> 1 | AC14: 99952 | AD14: =1+MOD(AC14-1, 9) -> 7 | AE14: =AD14 -> 7 | AG14: 99991 | AH14: =1+MOD(AG14-1, 9) -> 1 | AI14: =AH14 -> 1
A15: 98836 | B15: =1+MOD(A15-1, 9) -> 7 | C15: =B15 -> 7 | E15: 99086 | F15: =1+MOD(E15-1, 9) -> 5 | G15: =F15 -> 5 | I15: 99307 | J15: =1+MOD(I15-1, 9) -> 1 | K15: =J15 -> 1 | M15: 99497 | N15: =1+MOD(M15-1, 9) -> 2 | O15: =N15 -> 2 | Q15: 99656 | R15: =1+MOD(Q15-1, 9) -> 8 | S15: =R15 -> 8 | U15: 99786 | V15: =1+MOD(U15-1, 9) -> 3 | W15: =V15 -> 3 | Y15: 99885 | Z15: =1+MOD(Y15-1, 9) -> 3 | AA15: =Z15 -> 3 | AC15: 99953 | AD15: =1+MOD(AC15-1, 9) -> 8 | AE15: =AD15 -> 8 | AG15: 99991 | AH15: =1+MOD(AG15-1, 9) -> 1 | AI15: =AH15 -> 1
A16: 98840 | B16: =1+MOD(A16-1, 9) -> 2 | C16: =B16 -> 2 | E16: 99090 | F16: =1+MOD(E16-1, 9) -> 9 | G16: =F16 -> 9 | I16: 99310 | J16: =1+MOD(I16-1, 9) -> 4 | K16: =J16 -> 4 | M16: 99500 | N16: =1+MOD(M16-1, 9) -> 5 | O16: =N16 -> 5 | Q16: 99659 | R16: =1+MOD(Q16-1, 9) -> 2 | S16: =R16 -> 2 | U16: 99788 | V16: =1+MOD(U16-1, 9) -> 5 | W16: =V16 -> 5 | Y16: 99886 | Z16: =1+MOD(Y16-1, 9) -> 4 | AA16: =Z16 -> 4 | AC16: 99954 | AD16: =1+MOD(AC16-1, 9) -> 9 | AE16: =AD16 -> 9 | AG16: 99992 | AH16: =1+MOD(AG16-1, 9) -> 2 | AI16: =AH16 -> 2
A17: 98845 | B17: =1+MOD(A17-1, 9) -> 7 | C17: =B17 -> 7 | E17: 99094 | F17: =1+MOD(E17-1, 9) -> 4 | G17: =F17 -> 4 | I17: 99314 | J17: =1+MOD(I17-1, 9) -> 8 | K17: =J17 -> 8 | M17: 99503 | N17: =1+MOD(M17-1, 9) -> 8 | O17: =N17 -> 8 | Q17: 99661 | R17: =1+MOD(Q17-1, 9) -> 4 | S17: =R17 -> 4 | U17: 99790 | V17: =1+MOD(U17-1, 9) -> 7 | W17: =V17 -> 7 | Y17: 99888 | Z17: =1+MOD(Y17-1, 9) -> 6 | AA17: =Z17 -> 6 | AC17: 99955 | AD17: =1+MOD(AC17-1, 9) -> 1 | AE17: =AD17 -> 1 | AG17: 99992 | AH17: =1+MOD(AG17-1, 9) -> 2 | AI17: =AH17 -> 2
A18: 98849 | B18: =1+MOD(A18-1, 9) -> 2 | C18: =B18 -> 2 | E18: 99098 | F18: =1+MOD(E18-1, 9) -> 8 | G18: =F18 -> 8 | I18: 99317 | J18: =1+MOD(I18-1, 9) -> 2 | K18: =J18 -> 2 | M18: 99505 | N18: =1+MOD(M18-1, 9) -> 1 | O18: =N18 -> 1 | Q18: 99664 | R18: =1+MOD(Q18-1, 9) -> 7 | S18: =R18 -> 7 | U18: 99791 | V18: =1+MOD(U18-1, 9) -> 8 | W18: =V18 -> 8 | Y18: 99889 | Z18: =1+MOD(Y18-1, 9) -> 7 | AA18: =Z18 -> 7 | AC18: 99956 | AD18: =1+MOD(AC18-1, 9) -> 2 | AE18: =AD18 -> 2 | AG18: 99992 | AH18: =1+MOD(AG18-1, 9) -> 2 | AI18: =AH18 -> 2
A19: 98854 | B19: =1+MOD(A19-1, 9) -> 7 | C19: =B19 -> 7 | E19: 99102 | F19: =1+MOD(E19-1, 9) -> 3 | G19: =F19 -> 3 | I19: 99320 | J19: =1+MOD(I19-1, 9) -> 5 | K19: =J19 -> 5 | M19: 99508 | N19: =1+MOD(M19-1, 9) -> 4 | O19: =N19 -> 4 | Q19: 99666 | R19: =1+MOD(Q19-1, 9) -> 9 | S19: =R19 -> 9 | U19: 99793 | V19: =1+MOD(U19-1, 9) -> 1 | W19: =V19 -> 1 | Y19: 99890 | Z19: =1+MOD(Y19-1, 9) -> 8 | AA19: =Z19 -> 8 | AC19: 99957 | AD19: =1+MOD(AC19-1, 9) -> 3 | AE19: =AD19 -> 3 | AG19: 99993 | AH19: =1+MOD(AG19-1, 9) -> 3 | AI19: =AH19 -> 3
A20: 98858 | B20: =1+MOD(A20-1, 9) -> 2 | C20: =B20 -> 2 | E20: 99106 | F20: =1+MOD(E20-1, 9) -> 7 | G20: =F20 -> 7 | I20: 99324 | J20: =1+MOD(I20-1, 9) -> 9 | K20: =J20 -> 9 | M20: 99511 | N20: =1+MOD(M20-1, 9) -> 7 | O20: =N20 -> 7 | Q20: 99668 | R20: =1+MOD(Q20-1, 9) -> 2 | S20: =R20 -> 2 | U20: 99795 | V20: =1+MOD(U20-1, 9) -> 3 | W20: =V20 -> 3 | Y20: 99892 | Z20: =1+MOD(Y20-1, 9) -> 1 | AA20: =Z20 -> 1 | AC20: 99958 | AD20: =1+MOD(AC20-1, 9) -> 4 | AE20: =AD20 -> 4 | AG20: 99993 | AH20: =1+MOD(AG20-1, 9) -> 3 | AI20: =AH20 -> 3
A21: 98862 | B21: =1+MOD(A21-1, 9) -> 6 | C21: =B21 -> 6 | E21: 99110 | F21: =1+MOD(E21-1, 9) -> 2 | G21: =F21 -> 2 | I21: 99327 | J21: =1+MOD(I21-1, 9) -> 3 | K21: =J21 -> 3 | M21: 99514 | N21: =1+MOD(M21-1, 9) -> 1 | O21: =N21 -> 1 | Q21: 99671 | R21: =1+MOD(Q21-1, 9) -> 5 | S21: =R21 -> 5 | U21: 99797 | V21: =1+MOD(U21-1, 9) -> 5 | W21: =V21 -> 5 | Y21: 99893 | Z21: =1+MOD(Y21-1, 9) -> 2 | AA21: =Z21 -> 2 | AC21: 99958 | AD21: =1+MOD(AC21-1, 9) -> 4 | AE21: =AD21 -> 4 | AG21: 99993 | AH21: =1+MOD(AG21-1, 9) -> 3 | AI21: =AH21 -> 3
... A60: 99027 | B60: =1+MOD(A60-1, 9) -> 9 | C60: =B60 -> 9 | E60: 99255 | F60: =1+MOD(E60-1, 9) -> 3 | G60: =F60 -> 3 | I60: 99452 | J60: =1+MOD(I60-1, 9) -> 2 | K60: =J60 -> 2 | M60: 99619 | N60: =1+MOD(M60-1, 9) -> 7 | O60: =N60 -> 7 | Q60: 99756 | R60: =1+MOD(Q60-1, 9) -> 9 | S60: =R60 -> 9 | U60: 99863 | V60: =1+MOD(U60-1, 9) -> 8 | W60: =V60 -> 8 | Y60: 99939 | Z60: =1+MOD(Y60-1, 9) -> 3 | AA60: =Z60 -> 3 | AC60: 99985 | AD60: =1+MOD(AC60-1, 9) -> 4 | AE60: =AD60 -> 4 | AG60: 100000 | AH60: =1+MOD(AG60-1, 9) -> 1 | AI60: =AH60 -> 1

Sheet MASTER SEQUENCE
C3: ='1-9'!$C$1 -> 2 | D3: ='1-9'!$C$2 -> 4 | E3: ='1-9'!$C$3 -> 6 | F3: ='1-9'!$C$4 -> 8 | G3: ='1-9'!$C$5 -> 1 | H3: ='1-9'!$C$6 -> 3 | I3: ='1-9'!$C$7 -> 6 | J3: ='1-9'!$C$8 -> 8 | K3: ='1-9'!$C$9 -> 1 | L3: ='1-9'!$C$10 -> 3 | M3: ='1-9'!$C$11 -> 5 | N3: ='1-9'!$C$12 -> 7 | O3: ='1-9'!$C$13 -> 9 | P3: ='1-9'!$C$14 -> 2 | Q3: ='1-9'!$C$15 -> 4 | R3: ='1-9'!$C$16 -> 6 | S3: ='1-9'!$C$17 -> 8 | T3: ='1-9'!$C$18 -> 2 | U3: ='1-9'!$C$19 -> 4 | V3: ='1-9'!$C$20 -> 6 | W3: ='1-9'!$C$21 -> 8 | X3: ='1-9'!$C$22 -> 1 | Y3: ='1-9'!$C$23 -> 3 | Z3: ='1-9'!$C$24 -> 5 | AA3: ='1-9'!$C$25 -> 7 | AB3: ='1-9'!$C$26 -> 9 | AC3: ='1-9'!$C$27 -> 2 | AD3: ='1-9'!$C$28 -> 4 | AE3: ='1-9'!$C$29 -> 6 | AF3: ='1-9'!$C$30 -> 9 | AG3: ='1-9'!$C$31 -> 2 | AH3: ='1-9'!$C$32 -> 4 | AI3: ='1-9'!$C$33 -> 6 | AJ3: ='1-9'!$C$34 -> 8 | AK3: ='1-9'!$C$35 -> 1 | AL3: ='1-9'!$C$36 -> 3 | AM3: ='1-9'!$C$37 -> 5 | AN3: ='1-9'!$C$38 -> 7 | AO3: ='1-9'!$C$39 -> 9 | AP3: ='1-9'!$C$40 -> 2 | AQ3: ='1-9'!$C$41 -> 5 | AR3: ='1-9'!$C$42 -> 7 | AS3: ='1-9'!$C$43 -> 9 | AT3: ='1-9'!$C$44 -> 2 | AU3: ='1-9'!$C$45 -> 4 | AV3: ='1-9'!$C$46 -> 6 | AW3: ='1-9'!$C$47 -> 8 | AX3: ='1-9'!$C$48 -> 1 | AY3: ='1-9'!$C$49 -> 3 | AZ3: ='1-9'!$C$50 -> 5 | BA3: ='1-9'!$C$51 -> 7 | BB3: ='1-9'!$C$52 -> 9 | BC3: ='1-9'!$C$53 -> 3 | BD3: ='1-9'!$C$54 -> 5 | BE3: ='1-9'!$C$55 -> 7 | BF3: ='1-9'!$C$56 -> 9 | BG3: ='1-9'!$C$57 -> 2 | BH3: ='1-9'!$C$58 -> 4 | BI3: ='1-9'!$C$59 -> 6 | BJ3: ='1-9'!$C$60 -> 8 | BK3: ='1-9'!$G$1 -> 1 | BL3: ='1-9'!$G$2 -> 3 | BM3: ='1-9'!$G$3 -> 5 | BN3: ='1-9'!$G$4 -> 7 | BO3: ='1-9'!$G$5 -> 1 | BP3: ='1-9'!$G$6 -> 3 | BQ3: ='1-9'!$G$7 -> 5 | BR3: ='1-9'!$G$8 -> 7 | BS3: ='1-9'!$G$9 -> 9 | BT3: ='1-9'!$G$10 -> 2 | BU3: ='1-9'!$G$11 -> 4 | BV3: ='1-9'!$G$12 -> 6 | BW3: ='1-9'!$G$13 -> 8 | BX3: ='1-9'!$G$14 -> 1 | BY3: ='1-9'!$G$15 -> 3 | BZ3: ='1-9'!$G$16 -> 5 | CA3: ='1-9'!$G$17 -> 8 | CB3: ='1-9'!$G$18 -> 1 | CC3: ='1-9'!$G$19 -> 3 | CD3: ='1-9'!$G$20 -> 4 | CE3: ='1-9'!$G$21 -> 7 | CF3: ='1-9'!$G$22 -> 9 | CG3: ='1-9'!$G$23 -> 2 | CH3: ='1-9'!$G$24 -> 4 | CI3: ='1-9'!$G$25 -> 6 | CJ3: ='1-9'!$G$26 -> 8 | CK3: ='1-9'!$G$27 -> 1 | CL3: ='1-9'!$G$28 -> 3 | CM3: ='1-9'!$G$29 -> 6 | CN3: ='1-9'!$G$30 -> 8
C4: ='1-9'!$G$31 -> 1 | D4: ='1-9'!$G$32 -> 3 | E4: ='1-9'!$G$33 -> 5 | F4: ='1-9'!$G$34 -> 7 | G4: ='1-9'!$G$35 -> 9 | H4: ='1-9'!$G$36 -> 2 | I4: ='1-9'!$G$37 -> 4 | J4: ='1-9'!$G$38 -> 6 | K4: ='1-9'!$G$39 -> 8 | L4: ='1-9'!$G$40 -> 1 | M4: ='1-9'!$G$41 -> 3 | N4: ='1-9'!$G$42 -> 6 | O4: ='1-9'!$G$43 -> 8 | P4: ='1-9'!$G$44 -> 1 | Q4: ='1-9'!$G$45 -> 3 | R4: ='1-9'!$G$46 -> 5 | S4: ='1-9'!$G$47 -> 7 | T4: ='1-9'!$G$48 -> 9 | U4: ='1-9'!$G$49 -> 2 | V4: ='1-9'!$G$50 -> 4 | W4: ='1-9'!$G$51 -> 6 | X4: ='1-9'!$G$52 -> 8 | Y4: ='1-9'!$G$53 -> 1 | Z4: ='1-9'!$G$54 -> 3 | AA4: ='1-9'!$G$55 -> 5 | AB4: ='1-9'!$G$56 -> 8 | AC4: ='1-9'!$G$57 -> 1 | AD4: ='1-9'!$G$58 -> 3 | AE4: ='1-9'!$G$59 -> 5 | AF4: ='1-9'!$G$60 -> 7 | AG4: ='1-9'!$K$1 -> 9 | AH4: ='1-9'!$K$2 -> 2 | AI4: ='1-9'!$K$3 -> 4 | AJ4: ='1-9'!$K$4 -> 6 | AK4: ='1-9'!$K$5 -> 8 | AL4: ='1-9'!$K$6 -> 1 | AM4: ='1-9'!$K$7 -> 3 | AN4: ='1-9'!$K$8 -> 5 | AO4: ='1-9'!$K$9 -> 7 | AP4: ='1-9'!$K$10 -> 1 | AQ4: ='1-9'!$K$11 -> 3 | AR4: ='1-9'!$K$12 -> 5 | AS4: ='1-9'!$K$13 -> 7 | AT4: ='1-9'!$K$14 -> 9 | AU4: ='1-9'!$K$15 -> 2 | AV4: ='1-9'!$K$16 -> 4 | AW4: ='1-9'!$K$17 -> 6 | AX4: ='1-9'!$K$18 -> 8 | AY4: ='1-9'!$K$19 -> 1 | AZ4: ='1-9'!$K$20 -> 3 | BA4: ='1-9'!$K$21 -> 5 | BB4: ='1-9'!$K$22 -> 7 | BC4: ='1-9'!$K$23 -> 9 | BD4: ='1-9'!$K$24 -> 2 | BE4: ='1-9'!$K$25 -> 5 | BF4: ='1-9'!$K$26 -> 7 | BG4: ='1-9'!$K$27 -> 9 | BH4: ='1-9'!$K$28 -> 2 | BI4: ='1-9'!$K$29 -> 4 | BJ4: ='1-9'!$K$30 -> 6 | BK4: ='1-9'!$K$31 -> 8 | BL4: ='1-9'!$K$32 -> 1 | BM4: ='1-9'!$K$33 -> 3 | BN4: ='1-9'!$K$34 -> 5 | BO4: ='1-9'!$K$35 -> 7 | BP4: ='1-9'!$K$36 -> 9 | BQ4: ='1-9'!$K$37 -> 2 | BR4: ='1-9'!$K$38 -> 4 | BS4: ='1-9'!$K$39 -> 6 | BT4: ='1-9'!$K$40 -> 8 | BU4: ='1-9'!$K$41 -> 1 | BV4: ='1-9'!$K$42 -> 4 | BW4: ='1-9'!$K$43 -> 6 | BX4: ='1-9'!$K$44 -> 8 | BY4: ='1-9'!$K$45 -> 1 | BZ4: ='1-9'!$K$46 -> 3 | CA4: ='1-9'!$K$47 -> 5 | CB4: ='1-9'!$K$48 -> 7 | CC4: ='1-9'!$K$49 -> 9 | CD4: ='1-9'!$K$50 -> 2 | CE4: ='1-9'!$K$51 -> 4 | CF4: ='1-9'!$K$52 -> 6 | CG4: ='1-9'!$K$53 -> 8 | CH4: ='1-9'!$K$54 -> 1 | CI4: ='1-9'!$K$55 -> 3 | CJ4: ='1-9'!$K$56 -> 5 | CK4: ='1-9'!$K$57 -> 7 | CL4: ='1-9'!$K$58 -> 9 | CM4: ='1-9'!$K$59 -> 2 | CN4: ='1-9'!$K$60 -> 5
C5: ='1-9'!$O$1 -> 7 | D5: ='1-9'!$O$2 -> 9 | E5: ='1-9'!$O$3 -> 2 | F5: ='1-9'!$O$4 -> 4 | G5: ='1-9'!$O$5 -> 6 | H5: ='1-9'!$O$6 -> 8 | I5: ='1-9'!$O$7 -> 1 | J5: ='1-9'!$O$8 -> 3 | K5: ='1-9'!$O$9 -> 5 | L5: ='1-9'!$O$10 -> 7 | M5: ='1-9'!$O$11 -> 9 | N5: ='1-9'!$O$12 -> 2 | O5: ='1-9'!$O$13 -> 4 | P5: ='1-9'!$O$14 -> 6 | Q5: ='1-9'!$O$15 -> 8 | R5: ='1-9'!$O$16 -> 1 | S5: ='1-9'!$O$17 -> 3 | T5: ='1-9'!$O$18 -> 5 | U5: ='1-9'!$O$19 -> 7 | V5: ='1-9'!$O$20 -> 9 | W5: ='1-9'!$O$21 -> 2 | X5: ='1-9'!$O$22 -> 4 | Y5: ='1-9'!$O$23 -> 7 | Z5: ='1-9'!$O$24 -> 9 | AA5: ='1-9'!$O$25 -> 2 | AB5: ='1-9'!$O$26 -> 4 | AC5: ='1-9'!$O$27 -> 6 | AD5: ='1-9'!$O$28 -> 8 | AE5: ='1-9'!$O$29 -> 1 | AF5: ='1-9'!$O$30 -> 3 | AG5: ='1-9'!$O$31 -> 5 | AH5: ='1-9'!$O$32 -> 7 | AI5: ='1-9'!$O$33 -> 9 | AJ5: ='1-9'!$O$34 -> 2 | AK5: ='1-9'!$O$35 -> 4 | AL5: ='1-9'!$O$36 -> 6 | AM5: ='1-9'!$O$37 -> 8 | AN5: ='1-9'!$O$38 -> 1 | AO5: ='1-9'!$O$39 -> 3 | AP5: ='1-9'!$O$40 -> 5 | AQ5: ='1-9'!$O$41 -> 7 | AR5: ='1-9'!$O$42 -> 9 | AS5: ='1-9'!$O$43 -> 2 | AT5: ='1-9'!$O$44 -> 4 | AU5: ='1-9'!$O$45 -> 6 | AV5: ='1-9'!$O$46 -> 8 | AW5: ='1-9'!$O$47 -> 1 | AX5: ='1-9'!$O$48 -> 3 | AY5: ='1-9'!$O$49 -> 5 | AZ5: ='1-9'!$O$50 -> 7 | BA5: ='1-9'!$O$51 -> 9 | BB5: ='1-9'!$O$52 -> 2 | BC5: ='1-9'!$O$53 -> 4 | BD5: ='1-9'!$O$54 -> 6 | BE5: ='1-9'!$O$55 -> 8 | BF5: ='1-9'!$O$56 -> 1 | BG5: ='1-9'!$O$57 -> 3 | BH5: ='1-9'!$O$58 -> 6 | BI5: ='1-9'!$O$59 -> 8 | BJ5: ='1-9'!$O$60 -> 1 | BK5: ='1-9'!$S$1 -> 3 | BL5: ='1-9'!$S$2 -> 5 | BM5: ='1-9'!$S$3 -> 7 | BN5: ='1-9'!$S$4 -> 9 | BO5: ='1-9'!$S$5 -> 2 | BP5: ='1-9'!$S$6 -> 4 | BQ5: ='1-9'!$S$7 -> 6 | BR5: ='1-9'!$S$8 -> 8 | BS5: ='1-9'!$S$9 -> 1 | BT5: ='1-9'!$S$10 -> 3 | BU5: ='1-9'!$S$11 -> 5 | BV5: ='1-9'!$S$12 -> 7 | BW5: ='1-9'!$S$13 -> 9 | BX5: ='1-9'!$S$14 -> 2 | BY5: ='1-9'!$S$15 -> 4 | BZ5: ='1-9'!$S$16 -> 6 | CA5: ='1-9'!$S$17 -> 8 | CB5: ='1-9'!$S$18 -> 1 | CC5: ='1-9'!$S$19 -> 3 | CD5: ='1-9'!$S$20 -> 5 | CE5: ='1-9'!$S$21 -> 7 | CF5: ='1-9'!$S$22 -> 9 | CG5: ='1-9'!$S$23 -> 2 | CH5: ='1-9'!$S$24 -> 4 | CI5: ='1-9'!$S$25 -> 6 | CJ5: ='1-9'!$S$26 -> 8 | CK5: ='1-9'!$S$27 -> 1 | CL5: ='1-9'!$S$28 -> 3 | CM5: ='1-9'!$S$29 -> 5 | CN5: ='1-9'!$S$30 -> 7
C6: ='1-9'!$S$31 -> 9 | D6: ='1-9'!$S$32 -> 2 | E6: ='1-9'!$S$33 -> 4 | F6: ='1-9'!$S$34 -> 6 | G6: ='1-9'!$S$35 -> 8 | H6: ='1-9'!$S$36 -> 1 | I6: ='1-9'!$S$37 -> 3 | J6: ='1-9'!$S$38 -> 5 | K6: ='1-9'!$S$39 -> 7 | L6: ='1-9'!$S$40 -> 9 | M6: ='1-9'!$S$41 -> 2 | N6: ='1-9'!$S$42 -> 4 | O6: ='1-9'!$S$43 -> 6 | P6: ='1-9'!$S$44 -> 8 | Q6: ='1-9'!$S$45 -> 1 | R6: ='1-9'!$S$46 -> 3 | S6: ='1-9'!$S$47 -> 5 | T6: ='1-9'!$S$48 -> 7 | U6: ='1-9'!$S$49 -> 9 | V6: ='1-9'!$S$50 -> 2 | W6: ='1-9'!$S$51 -> 4 | X6: ='1-9'!$S$52 -> 6 | Y6: ='1-9'!$S$53 -> 8 | Z6: ='1-9'!$S$54 -> 1 | AA6: ='1-9'!$S$55 -> 3 | AB6: ='1-9'!$S$56 -> 5 | AC6: ='1-9'!$S$57 -> 7 | AD6: ='1-9'!$S$58 -> 9 | AE6: ='1-9'!$S$59 -> 2 | AF6: ='1-9'!$S$60 -> 3 | AG6: ='1-9'!$W$1 -> 5 | AH6: ='1-9'!$W$2 -> 7 | AI6: ='1-9'!$W$3 -> 9 | AJ6: ='1-9'!$W$4 -> 2 | AK6: ='1-9'!$W$5 -> 4 | AL6: ='1-9'!$W$6 -> 6 | AM6: ='1-9'!$W$7 -> 8 | AN6: ='1-9'!$W$8 -> 1 | AO6: ='1-9'!$W$9 -> 3 | AP6: ='1-9'!$W$10 -> 5 | AQ6: ='1-9'!$W$11 -> 7 | AR6: ='1-9'!$W$12 -> 9 | AS6: ='1-9'!$W$13 -> 2 | AT6: ='1-9'!$W$14 -> 4 | AU6: ='1-9'!$W$15 -> 6 | AV6: ='1-9'!$W$16 -> 8 | AW6: ='1-9'!$W$17 -> 1 | AX6: ='1-9'!$W$18 -> 3 | AY6: ='1-9'!$W$19 -> 5 | AZ6: ='1-9'!$W$20 -> 7 | BA6: ='1-9'!$W$21 -> 9 | BB6: ='1-9'!$W$22 -> 2 | BC6: ='1-9'!$W$23 -> 4 | BD6: ='1-9'!$W$24 -> 6 | BE6: ='1-9'!$W$25 -> 8 | BF6: ='1-9'!$W$26 -> 1 | BG6: ='1-9'!$W$27 -> 3 | BH6: ='1-9'!$W$28 -> 5 | BI6: ='1-9'!$W$29 -> 7 | BJ6: ='1-9'!$W$30 -> 8 | BK6: ='1-9'!$W$31 -> 1 | BL6: ='1-9'!$W$32 -> 3 | BM6: ='1-9'!$W$33 -> 5 | BN6: ='1-9'!$W$34 -> 7 | BO6: ='1-9'!$W$35 -> 9 | BP6: ='1-9'!$W$36 -> 2 | BQ6: ='1-9'!$W$37 -> 4 | BR6: ='1-9'!$W$38 -> 6 | BS6: ='1-9'!$W$39 -> 8 | BT6: ='1-9'!$W$40 -> 1 | BU6: ='1-9'!$W$41 -> 3 | BV6: ='1-9'!$W$42 -> 5 | BW6: ='1-9'!$W$43 -> 7 | BX6: ='1-9'!$W$44 -> 9 | BY6: ='1-9'!$W$45 -> 2 | BZ6: ='1-9'!$W$46 -> 4 | CA6: ='1-9'!$W$47 -> 6 | CB6: ='1-9'!$W$48 -> 8 | CC6: ='1-9'!$W$49 -> 9 | CD6: ='1-9'!$W$50 -> 2 | CE6: ='1-9'!$W$51 -> 4 | CF6: ='1-9'!$W$52 -> 6 | CG6: ='1-9'!$W$53 -> 8 | CH6: ='1-9'!$W$54 -> 1 | CI6: ='1-9'!$W$55 -> 3 | CJ6: ='1-9'!$W$56 -> 5 | CK6: ='1-9'!$W$57 -> 7 | CL6: ='1-9'!$W$58 -> 9 | CM6: ='1-9'!$W$59 -> 2 | CN6: ='1-9'!$W$60 -> 4
C7: ='1-9'!$AA$1 -> 6 | D7: ='1-9'!$AA$2 -> 8 | E7: ='1-9'!$AA$3 -> 1 | F7: ='1-9'!$AA$4 -> 2 | G7: ='1-9'!$AA$5 -> 4 | H7: ='1-9'!$AA$6 -> 6 | I7: ='1-9'!$AA$7 -> 8 | J7: ='1-9'!$AA$8 -> 1 | K7: ='1-9'!$AA$9 -> 3 | L7: ='1-9'!$AA$10 -> 5 | M7: ='1-9'!$AA$11 -> 7 | N7: ='1-9'!$AA$12 -> 9 | O7: ='1-9'!$AA$13 -> 2 | P7: ='1-9'!$AA$14 -> 4 | Q7: ='1-9'!$AA$15 -> 6 | R7: ='1-9'!$AA$16 -> 8 | S7: ='1-9'!$AA$17 -> 9 | T7: ='1-9'!$AA$18 -> 2 | U7: ='1-9'!$AA$19 -> 4 | V7: ='1-9'!$AA$20 -> 6 | W7: ='1-9'!$AA$21 -> 8 | X7: ='1-9'!$AA$22 -> 1 | Y7: ='1-9'!$AA$23 -> 3 | Z7: ='1-9'!$AA$24 -> 5 | AA7: ='1-9'!$AA$25 -> 7 | AB7: ='1-9'!$AA$26 -> 9 | AC7: ='1-9'!$AA$27 -> 2 | AD7: ='1-9'!$AA$28 -> 3 | AE7: ='1-9'!$AA$29 -> 5 | AF7: ='1-9'!$AA$30 -> 7 | AG7: ='1-9'!$AA$31 -> 9 | AH7: ='1-9'!$AA$32 -> 2 | AI7: ='1-9'!$AA$33 -> 4 | AJ7: ='1-9'!$AA$34 -> 6 | AK7: ='1-9'!$AA$35 -> 8 | AL7: ='1-9'!$AA$36 -> 1 | AM7: ='1-9'!$AA$37 -> 3 | AN7: ='1-9'!$AA$38 -> 4 | AO7: ='1-9'!$AA$39 -> 6 | AP7: ='1-9'!$AA$40 -> 8 | AQ7: ='1-9'!$AA$41 -> 1 | AR7: ='1-9'!$AA$42 -> 3 | AS7: ='1-9'!$AA$43 -> 5 | AT7: ='1-9'!$AA$44 -> 7 | AU7: ='1-9'!$AA$45 -> 9 | AV7: ='1-9'!$AA$46 -> 2 | AW7: ='1-9'!$AA$47 -> 3 | AX7: ='1-9'!$AA$48 -> 5 | AY7: ='1-9'!$AA$49 -> 7 | AZ7: ='1-9'!$AA$50 -> 9 | BA7: ='1-9'!$AA$51 -> 2 | BB7: ='1-9'!$AA$52 -> 4 | BC7: ='1-9'!$AA$53 -> 6 | BD7: ='1-9'!$AA$54 -> 8 | BE7: ='1-9'!$AA$55 -> 9 | BF7: ='1-9'!$AA$56 -> 2 | BG7: ='1-9'!$AA$57 -> 4 | BH7: ='1-9'!$AA$58 -> 6 | BI7: ='1-9'!$AA$59 -> 8 | BJ7: ='1-9'!$AA$60 -> 1 | BK7: ='1-9'!$AE$1 -> 3 | BL7: ='1-9'!$AE$2 -> 5 | BM7: ='1-9'!$AE$3 -> 6 | BN7: ='1-9'!$AE$4 -> 8 | BO7: ='1-9'!$AE$5 -> 1 | BP7: ='1-9'!$AE$6 -> 3 | BQ7: ='1-9'!$AE$7 -> 5 | BR7: ='1-9'!$AE$8 -> 7 | BS7: ='1-9'!$AE$9 -> 9 | BT7: ='1-9'!$AE$10 -> 2 | BU7: ='1-9'!$AE$11 -> 3 | BV7: ='1-9'!$AE$12 -> 5 | BW7: ='1-9'!$AE$13 -> 7 | BX7: ='1-9'!$AE$14 -> 9 | BY7: ='1-9'!$AE$15 -> 2 | BZ7: ='1-9'!$AE$16 -> 4 | CA7: ='1-9'!$AE$17 -> 6 | CB7: ='1-9'!$AE$18 -> 7 | CC7: ='1-9'!$AE$19 -> 9 | CD7: ='1-9'!$AE$20 -> 2 | CE7: ='1-9'!$AE$21 -> 4 | CF7: ='1-9'!$AE$22 -> 6 | CG7: ='1-9'!$AE$23 -> 8 | CH7: ='1-9'!$AE$24 -> 9 | CI7: ='1-9'!$AE$25 -> 2 | CJ7: ='1-9'!$AE$26 -> 4 | CK7: ='1-9'!$AE$27 -> 6 | CL7: ='1-9'!$AE$28 -> 8 | CM7: ='1-9'!$AE$29 -> 1 | CN7: ='1-9'!$AE$30 -> 3
C8: ='1-9'!$AE$31 -> 4 | D8: ='1-9'!$AE$32 -> 6 | E8: ='1-9'!$AE$33 -> 8 | F8: ='1-9'!$AE$34 -> 1 | G8: ='1-9'!$AE$35 -> 3 | H8: ='1-9'!$AE$36 -> 5 | I8: ='1-9'!$AE$37 -> 6 | J8: ='1-9'!$AE$38 -> 8 | K8: ='1-9'!$AE$39 -> 1 | L8: ='1-9'!$AE$40 -> 3 | M8: ='1-9'!$AE$41 -> 5 | N8: ='1-9'!$AE$42 -> 7 | O8: ='1-9'!$AE$43 -> 8 | P8: ='1-9'!$AE$44 -> 1 | Q8: ='1-9'!$AE$45 -> 3 | R8: ='1-9'!$AE$46 -> 5 | S8: ='1-9'!$AE$47 -> 7 | T8: ='1-9'!$AE$48 -> 8 | U8: ='1-9'!$AE$49 -> 1 | V8: ='1-9'!$AE$50 -> 3 | W8: ='1-9'!$AE$51 -> 5 | X8: ='1-9'!$AE$52 -> 7 | Y8: ='1-9'!$AE$53 -> 9 | Z8: ='1-9'!$AE$54 -> 1 | AA8: ='1-9'!$AE$55 -> 3 | AB8: ='1-9'!$AE$56 -> 5 | AC8: ='1-9'!$AE$57 -> 7 | AD8: ='1-9'!$AE$58 -> 9 | AE8: ='1-9'!$AE$59 -> 1 | AF8: ='1-9'!$AE$60 -> 3 | AG8: ='1-9'!$AI$1 -> 5 | AH8: ='1-9'!$AI$2 -> 7 | AI8: ='1-9'!$AI$3 -> 9 | AJ8: ='1-9'!$AI$4 -> 1 | AK8: ='1-9'!$AI$5 -> 3 | AL8: ='1-9'!$AI$6 -> 5 | AM8: ='1-9'!$AI$7 -> 7 | AN8: ='1-9'!$AI$8 -> 9 | AO8: ='1-9'!$AI$9 -> 1 | AP8: ='1-9'!$AI$10 -> 3 | AQ8: ='1-9'!$AI$11 -> 5 | AR8: ='1-9'!$AI$12 -> 7 | AS8: ='1-9'!$AI$13 -> 9 | AT8: ='1-9'!$AI$14 -> 1 | AU8: ='1-9'!$AI$15 -> 3 | AV8: ='1-9'!$AI$16 -> 5 | AW8: ='1-9'!$AI$17 -> 7 | AX8: ='1-9'!$AI$18 -> 9 | AY8: ='1-9'!$AI$19 -> 1 | AZ8: ='1-9'!$AI$20 -> 3 | BA8: ='1-9'!$AI$21 -> 5 | BB8: ='1-9'!$AI$22 -> 7 | BC8: ='1-9'!$AI$23 -> 8 | BD8: ='1-9'!$AI$24 -> 1 | BE8: ='1-9'!$AI$25 -> 3 | BF8: ='1-9'!$AI$26 -> 5 | BG8: ='1-9'!$AI$27 -> 7 | BH8: ='1-9'!$AI$28 -> 8 | BI8: ='1-9'!$AI$29 -> 1 | BJ8: ='1-9'!$AI$30 -> 3 | BK8: ='1-9'!$AI$31 -> 5 | BL8: ='1-9'!$AI$32 -> 6 | BM8: ='1-9'!$AI$33 -> 8 | BN8: ='1-9'!$AI$34 -> 1 | BO8: ='1-9'!$AI$35 -> 3 | BP8: ='1-9'!$AI$36 -> 4 | BQ8: ='1-9'!$AI$37 -> 6 | BR8: ='1-9'!$AI$38 -> 8 | BS8: ='1-9'!$AI$39 -> 1 | BT8: ='1-9'!$AI$40 -> 2 | BU8: ='1-9'!$AI$41 -> 4 | BV8: ='1-9'!$AI$42 -> 6 | BW8: ='1-9'!$AI$43 -> 8 | BX8: ='1-9'!$AI$44 -> 9 | BY8: ='1-9'!$AI$45 -> 2 | BZ8: ='1-9'!$AI$46 -> 4 | CA8: ='1-9'!$AI$47 -> 6 | CB8: ='1-9'!$AI$48 -> 7 | CC8: ='1-9'!$AI$49 -> 1 | CD8: ='1-9'!$AI$50 -> 2 | CE8: ='1-9'!$AI$51 -> 4 | CF8: ='1-9'!$AI$52 -> 5 | CG8: ='1-9'!$AI$53 -> 7 | CH8: ='1-9'!$AI$54 -> 9 | CI8: ='1-9'!$AI$55 -> 2 | CJ8: ='1-9'!$AI$56 -> 3 | CK8: ='1-9'!$AI$57 -> 5 | CL8: ='1-9'!$AI$58 -> 7 | CM8: ='1-9'!$AI$59 -> 9 | CN8: ='1-9'!$AI$60 -> 1
C9: ='10-18'!$C$1 -> 3 | D9: ='10-18'!$C$2 -> 5 | E9: ='10-18'!$C$3 -> 7 | F9: ='10-18'!$C$4 -> 8 | G9: ='10-18'!$C$5 -> 1 | H9: ='10-18'!$C$6 -> 3 | I9: ='10-18'!$C$7 -> 4 | J9: ='10-18'!$C$8 -> 6 | K9: ='10-18'!$C$9 -> 8 | L9: ='10-18'!$C$10 -> 1 | M9: ='10-18'!$C$11 -> 2 | N9: ='10-18'!$C$12 -> 4 | O9: ='10-18'!$C$13 -> 6 | P9: ='10-18'!$C$14 -> 7 | Q9: ='10-18'!$C$15 -> 9 | R9: ='10-18'!$C$16 -> 2 | S9: ='10-18'!$C$17 -> 4 | T9: ='10-18'!$C$18 -> 5 | U9: ='10-18'!$C$19 -> 7 | V9: ='10-18'!$C$20 -> 9 | W9: ='10-18'!$C$21 -> 1 | X9: ='10-18'!$C$22 -> 3 | Y9: ='10-18'!$C$23 -> 5 | Z9: ='10-18'!$C$24 -> 7 | AA9: ='10-18'!$C$25 -> 8 | AB9: ='10-18'!$C$26 -> 1 | AC9: ='10-18'!$C$27 -> 3 | AD9: ='10-18'!$C$28 -> 4 | AE9: ='10-18'!$C$29 -> 6 | AF9: ='10-18'!$C$30 -> 8 | AG9: ='10-18'!$C$31 -> 9 | AH9: ='10-18'!$C$32 -> 2 | AI9: ='10-18'!$C$33 -> 4 | AJ9: ='10-18'!$C$34 -> 5 | AK9: ='10-18'!$C$35 -> 7 | AL9: ='10-18'!$C$36 -> 9 | AM9: ='10-18'!$C$37 -> 1 | AN9: ='10-18'!$C$38 -> 3 | AO9: ='10-18'!$C$39 -> 5 | AP9: ='10-18'!$C$40 -> 6 | AQ9: ='10-18'!$C$41 -> 8 | AR9: ='10-18'!$C$42 -> 1 | AS9: ='10-18'!$C$43 -> 3 | AT9: ='10-18'!$C$44 -> 4 | AU9: ='10-18'!$C$45 -> 6 | AV9: ='10-18'!$C$46 -> 8 | AW9: ='10-18'!$C$47 -> 9 | AX9: ='10-18'!$C$48 -> 2 | AY9: ='10-18'!$C$49 -> 4 | AZ9: ='10-18'!$C$50 -> 5 | BA9: ='10-18'!$C$51 -> 7 | BB9: ='10-18'!$C$52 -> 9 | BC9: ='10-18'!$C$53 -> 1 | BD9: ='10-18'!$C$54 -> 3 | BE9: ='10-18'!$C$55 -> 4 | BF9: ='10-18'!$C$56 -> 6 | BG9: ='10-18'!$C$57 -> 8 | BH9: ='10-18'!$C$58 -> 9 | BI9: ='10-18'!$C$59 -> 2 | BJ9: ='10-18'!$C$60 -> 4 | BK9: ='10-18'!$G$1 -> 5 | BL9: ='10-18'!$G$2 -> 7 | BM9: ='10-18'!$G$3 -> 9 | BN9: ='10-18'!$G$4 -> 1 | BO9: ='10-18'!$G$5 -> 3 | BP9: ='10-18'!$G$6 -> 5 | BQ9: ='10-18'!$G$7 -> 6 | BR9: ='10-18'!$G$8 -> 8 | BS9: ='10-18'!$G$9 -> 9 | BT9: ='10-18'!$G$10 -> 2 | BU9: ='10-18'!$G$11 -> 4 | BV9: ='10-18'!$G$12 -> 5 | BW9: ='10-18'!$G$13 -> 7 | BX9: ='10-18'!$G$14 -> 9 | BY9: ='10-18'!$G$15 -> 1 | BZ9: ='10-18'!$G$16 -> 3 | CA9: ='10-18'!$G$17 -> 5 | CB9: ='10-18'!$G$18 -> 6 | CC9: ='10-18'!$G$19 -> 8 | CD9: ='10-18'!$G$20 -> 9 | CE9: ='10-18'!$G$21 -> 2 | CF9: ='10-18'!$G$22 -> 4 | CG9: ='10-18'!$G$23 -> 5 | CH9: ='10-18'!$G$24 -> 7 | CI9: ='10-18'!$G$25 -> 8 | CJ9: ='10-18'!$G$26 -> 1 | CK9: ='10-18'!$G$27 -> 3 | CL9: ='10-18'!$G$28 -> 4 | CM9: ='10-18'!$G$29 -> 6 | CN9: ='10-18'!$G$30 -> 7
C10: ='10-18'!$G$31 -> 9 | D10: ='10-18'!$G$32 -> 2 | E10: ='10-18'!$G$33 -> 3 | F10: ='10-18'!$G$34 -> 5 | G10: ='10-18'!$G$35 -> 6 | H10: ='10-18'!$G$36 -> 8 | I10: ='10-18'!$G$37 -> 1 | J10: ='10-18'!$G$38 -> 2 | K10: ='10-18'!$G$39 -> 4 | L10: ='10-18'!$G$40 -> 5 | M10: ='10-18'!$G$41 -> 7 | N10: ='10-18'!$G$42 -> 9 | O10: ='10-18'!$G$43 -> 1 | P10: ='10-18'!$G$44 -> 3 | Q10: ='10-18'!$G$45 -> 4 | R10: ='10-18'!$G$46 -> 6 | S10: ='10-18'!$G$47 -> 7 | T10: ='10-18'!$G$48 -> 9 | U10: ='10-18'!$G$49 -> 2 | V10: ='10-18'!$G$50 -> 3 | W10: ='10-18'!$G$51 -> 5 | X10: ='10-18'!$G$52 -> 6 | Y10: ='10-18'!$G$53 -> 8 | Z10: ='10-18'!$G$54 -> 9 | AA10: ='10-18'!$G$55 -> 2 | AB10: ='10-18'!$G$56 -> 4 | AC10: ='10-18'!$G$57 -> 5 | AD10: ='10-18'!$G$58 -> 7 | AE10: ='10-18'!$G$59 -> 8 | AF10: ='10-18'!$G$60 -> 1 | AG10: ='10-18'!$K$1 -> 2 | AH10: ='10-18'!$K$2 -> 4 | AI10: ='10-18'!$K$3 -> 5 | AJ10: ='10-18'!$K$4 -> 7 | AK10: ='10-18'!$K$5 -> 9 | AL10: ='10-18'!$K$6 -> 1 | AM10: ='10-18'!$K$7 -> 3 | AN10: ='10-18'!$K$8 -> 4 | AO10: ='10-18'!$K$9 -> 6 | AP10: ='10-18'!$K$10 -> 7 | AQ10: ='10-18'!$K$11 -> 9 | AR10: ='10-18'!$K$12 -> 1 | AS10: ='10-18'!$K$13 -> 3 | AT10: ='10-18'!$K$14 -> 4 | AU10: ='10-18'!$K$15 -> 6 | AV10: ='10-18'!$K$16 -> 7 | AW10: ='10-18'!$K$17 -> 9 | AX10: ='10-18'!$K$18 -> 2 | AY10: ='10-18'!$K$19 -> 3 | AZ10: ='10-18'!$K$20 -> 5 | BA10: ='10-18'!$K$21 -> 6 | BB10: ='10-18'!$K$22 -> 8 | BC10: ='10-18'!$K$23 -> 9 | BD10: ='10-18'!$K$24 -> 2 | BE10: ='10-18'!$K$25 -> 3 | BF10: ='10-18'!$K$26 -> 5 | BG10: ='10-18'!$K$27 -> 6 | BH10: ='10-18'!$K$28 -> 8 | BI10: ='10-18'!$K$29 -> 9 | BJ10: ='10-18'!$K$30 -> 2 | BK10: ='10-18'!$K$31 -> 3 | BL10: ='10-18'!$K$32 -> 5 | BM10: ='10-18'!$K$33 -> 6 | BN10: ='10-18'!$K$34 -> 8 | BO10: ='10-18'!$K$35 -> 9 | BP10: ='10-18'!$K$36 -> 2 | BQ10: ='10-18'!$K$37 -> 3 | BR10: ='10-18'!$K$38 -> 5 | BS10: ='10-18'!$K$39 -> 6 | BT10: ='10-18'!$K$40 -> 8 | BU10: ='10-18'!$K$41 -> 9 | BV10: ='10-18'!$K$42 -> 2 | BW10: ='10-18'!$K$43 -> 3 | BX10: ='10-18'!$K$44 -> 5 | BY10: ='10-18'!$K$45 -> 6 | BZ10: ='10-18'!$K$46 -> 8 | CA10: ='10-18'!$K$47 -> 9 | CB10: ='10-18'!$K$48 -> 2 | CC10: ='10-18'!$K$49 -> 3 | CD10: ='10-18'!$K$50 -> 4 | CE10: ='10-18'!$K$51 -> 6 | CF10: ='10-18'!$K$52 -> 7 | CG10: ='10-18'!$K$53 -> 9 | CH10: ='10-18'!$K$54 -> 1 | CI10: ='10-18'!$K$55 -> 3 | CJ10: ='10-18'!$K$56 -> 4 | CK10: ='10-18'!$K$57 -> 6 | CL10: ='10-18'!$K$58 -> 7 | CM10: ='10-18'!$K$59 -> 9 | CN10: ='10-18'!$K$60 -> 1
C11: ='10-18'!$O$1 -> 3 | D11: ='10-18'!$O$2 -> 4 | E11: ='10-18'!$O$3 -> 5 | F11: ='10-18'!$O$4 -> 7 | G11: ='10-18'!$O$5 -> 8 | H11: ='10-18'!$O$6 -> 1 | I11: ='10-18'!$O$7 -> 2 | J11: ='10-18'!$O$8 -> 4 | K11: ='10-18'!$O$9 -> 5 | L11: ='10-18'!$O$10 -> 7 | M11: ='10-18'!$O$11 -> 8 | N11: ='10-18'!$O$12 -> 9 | O11: ='10-18'!$O$13 -> 2 | P11: ='10-18'!$O$14 -> 3 | Q11: ='10-18'!$O$15 -> 5 | R11: ='10-18'!$O$16 -> 6 | S11: ='10-18'!$O$17 -> 8 | T11: ='10-18'!$O$18 -> 9 | U11: ='10-18'!$O$19 -> 1 | V11: ='10-18'!$O$20 -> 3 | W11: ='10-18'!$O$21 -> 4 | X11: ='10-18'!$O$22 -> 6 | Y11: ='10-18'!$O$23 -> 7 | Z11: ='10-18'!$O$24 -> 8 | AA11: ='10-18'!$O$25 -> 1 | AB11: ='10-18'!$O$26 -> 2 | AC11: ='10-18'!$O$27 -> 4 | AD11: ='10-18'!$O$28 -> 5 | AE11: ='10-18'!$O$29 -> 6 | AF11: ='10-18'!$O$30 -> 8 | AG11: ='10-18'!$O$31 -> 9 | AH11: ='10-18'!$O$32 -> 2 | AI11: ='10-18'!$O$33 -> 3 | AJ11: ='10-18'!$O$34 -> 4 | AK11: ='10-18'!$O$35 -> 6 | AL11: ='10-18'!$O$36 -> 7 | AM11: ='10-18'!$O$37 -> 9 | AN11: ='10-18'!$O$38 -> 1 | AO11: ='10-18'!$O$39 -> 2 | AP11: ='10-18'!$O$40 -> 4 | AQ11: ='10-18'!$O$41 -> 5 | AR11: ='10-18'!$O$42 -> 7 | AS11: ='10-18'!$O$43 -> 8 | AT11: ='10-18'!$O$44 -> 9 | AU11: ='10-18'!$O$45 -> 2 | AV11: ='10-18'!$O$46 -> 3 | AW11: ='10-18'!$O$47 -> 4 | AX11: ='10-18'!$O$48 -> 6 | AY11: ='10-18'!$O$49 -> 7 | AZ11: ='10-18'!$O$50 -> 8 | BA11: ='10-18'!$O$51 -> 1 | BB11: ='10-18'!$O$52 -> 2 | BC11: ='10-18'!$O$53 -> 4 | BD11: ='10-18'!$O$54 -> 5 | BE11: ='10-18'!$O$55 -> 6 | BF11: ='10-18'!$O$56 -> 8 | BG11: ='10-18'!$O$57 -> 9 | BH11: ='10-18'!$O$58 -> 1 | BI11: ='10-18'!$O$59 -> 3 | BJ11: ='10-18'!$O$60 -> 4 | BK11: ='10-18'!$S$1 -> 5 | BL11: ='10-18'!$S$2 -> 7 | BM11: ='10-18'!$S$3 -> 8 | BN11: ='10-18'!$S$4 -> 9 | BO11: ='10-18'!$S$5 -> 2 | BP11: ='10-18'!$S$6 -> 3 | BQ11: ='10-18'!$S$7 -> 4 | BR11: ='10-18'!$S$8 -> 6 | BS11: ='10-18'!$S$9 -> 7 | BT11: ='10-18'!$S$10 -> 8 | BU11: ='10-18'!$S$11 -> 1 | BV11: ='10-18'!$S$12 -> 2 | BW11: ='10-18'!$S$13 -> 3 | BX11: ='10-18'!$S$14 -> 5 | BY11: ='10-18'!$S$15 -> 6 | BZ11: ='10-18'!$S$16 -> 7 | CA11: ='10-18'!$S$17 -> 9 | CB11: ='10-18'!$S$18 -> 1 | CC11: ='10-18'!$S$19 -> 2 | CD11: ='10-18'!$S$20 -> 3 | CE11: ='10-18'!$S$21 -> 5 | CF11: ='10-18'!$S$22 -> 6 | CG11: ='10-18'!$S$23 -> 7 | CH11: ='10-18'!$S$24 -> 9 | CI11: ='10-18'!$S$25 -> 1 | CJ11: ='10-18'!$S$26 -> 2 | CK11: ='10-18'!$S$27 -> 4 | CL11: ='10-18'!$S$28 -> 5 | CM11: ='10-18'!$S$29 -> 6 | CN11: ='10-18'!$S$30 -> 7
C12: ='10-18'!$S$31 -> 9 | D12: ='10-18'!$S$32 -> 1 | E12: ='10-18'!$S$33 -> 2 | F12: ='10-18'!$S$34 -> 4 | G12: ='10-18'!$S$35 -> 5 | H12: ='10-18'!$S$36 -> 6 | I12: ='10-18'!$S$37 -> 7 | J12: ='10-18'!$S$38 -> 9 | K12: ='10-18'!$S$39 -> 1 | L12: ='10-18'!$S$40 -> 2 | M12: ='10-18'!$S$41 -> 3 | N12: ='10-18'!$S$42 -> 5 | O12: ='10-18'!$S$43 -> 6 | P12: ='10-18'!$S$44 -> 7 | Q12: ='10-18'!$S$45 -> 8 | R12: ='10-18'!$S$46 -> 1 | S12: ='10-18'!$S$47 -> 2 | T12: ='10-18'!$S$48 -> 3 | U12: ='10-18'!$S$49 -> 4 | V12: ='10-18'!$S$50 -> 6 | W12: ='10-18'!$S$51 -> 7 | X12: ='10-18'!$S$52 -> 8 | Y12: ='10-18'!$S$53 -> 9 | Z12: ='10-18'!$S$54 -> 2 | AA12: ='10-18'!$S$55 -> 3 | AB12: ='10-18'!$S$56 -> 4 | AC12: ='10-18'!$S$57 -> 5 | AD12: ='10-18'!$S$58 -> 7 | AE12: ='10-18'!$S$59 -> 8 | AF12: ='10-18'!$S$60 -> 9 | AG12: ='10-18'!$W$1 -> 1 | AH12: ='10-18'!$W$2 -> 3 | AI12: ='10-18'!$W$3 -> 4 | AJ12: ='10-18'!$W$4 -> 5 | AK12: ='10-18'!$W$5 -> 6 | AL12: ='10-18'!$W$6 -> 7 | AM12: ='10-18'!$W$7 -> 9 | AN12: ='10-18'!$W$8 -> 1 | AO12: ='10-18'!$W$9 -> 2 | AP12: ='10-18'!$W$10 -> 3 | AQ12: ='10-18'!$W$11 -> 4 | AR12: ='10-18'!$W$12 -> 6 | AS12: ='10-18'!$W$13 -> 7 | AT12: ='10-18'!$W$14 -> 8 | AU12: ='10-18'!$W$15 -> 9 | AV12: ='10-18'!$W$16 -> 1 | AW12: ='10-18'!$W$17 -> 3 | AX12: ='10-18'!$W$18 -> 4 | AY12: ='10-18'!$W$19 -> 5 | AZ12: ='10-18'!$W$20 -> 6 | BA12: ='10-18'!$W$21 -> 7 | BB12: ='10-18'!$W$22 -> 9 | BC12: ='10-18'!$W$23 -> 1 | BD12: ='10-18'!$W$24 -> 2 | BE12: ='10-18'!$W$25 -> 3 | BF12: ='10-18'!$W$26 -> 4 | BG12: ='10-18'!$W$27 -> 5 | BH12: ='10-18'!$W$28 -> 7 | BI12: ='10-18'!$W$29 -> 8 | BJ12: ='10-18'!$W$30 -> 9 | BK12: ='10-18'!$W$31 -> 1 | BL12: ='10-18'!$W$32 -> 2 | BM12: ='10-18'!$W$33 -> 3 | BN12: ='10-18'!$W$34 -> 5 | BO12: ='10-18'!$W$35 -> 6 | BP12: ='10-18'!$W$36 -> 7 | BQ12: ='10-18'!$W$37 -> 8 | BR12: ='10-18'!$W$38 -> 9 | BS12: ='10-18'!$W$39 -> 1 | BT12: ='10-18'!$W$40 -> 2 | BU12: ='10-18'!$W$41 -> 4 | BV12: ='10-18'!$W$42 -> 5 | BW12: ='10-18'!$W$43 -> 6 | BX12: ='10-18'!$W$44 -> 7 | BY12: ='10-18'!$W$45 -> 8 | BZ12: ='10-18'!$W$46 -> 9 | CA12: ='10-18'!$W$47 -> 1 | CB12: ='10-18'!$W$48 -> 2 | CC12: ='10-18'!$W$49 -> 4 | CD12: ='10-18'!$W$50 -> 5 | CE12: ='10-18'!$W$51 -> 6 | CF12: ='10-18'!$W$52 -> 7 | CG12: ='10-18'!$W$53 -> 8 | CH12: ='10-18'!$W$54 -> 9 | CI12: ='10-18'!$W$55 -> 1 | CJ12: ='10-18'!$W$56 -> 2 | CK12: ='10-18'!$W$57 -> 4 | CL12: ='10-18'!$W$58 -> 5 | CM12: ='10-18'!$W$59 -> 6 | CN12: ='10-18'!$W$60 -> 7
C13: ='10-18'!$AA$1 -> 8 | D13: ='10-18'!$AA$2 -> 9 | E13: ='10-18'!$AA$3 -> 1 | F13: ='10-18'!$AA$4 -> 2 | G13: ='10-18'!$AA$5 -> 3 | H13: ='10-18'!$AA$6 -> 4 | I13: ='10-18'!$AA$7 -> 5 | J13: ='10-18'!$AA$8 -> 7 | K13: ='10-18'!$AA$9 -> 8 | L13: ='10-18'!$AA$10 -> 9 | M13: ='10-18'!$AA$11 -> 1 | N13: ='10-18'!$AA$12 -> 2 | O13: ='10-18'!$AA$13 -> 3 | P13: ='10-18'!$AA$14 -> 4 | Q13: ='10-18'!$AA$15 -> 5 | R13: ='10-18'!$AA$16 -> 6 | S13: ='10-18'!$AA$17 -> 7 | T13: ='10-18'!$AA$18 -> 8 | U13: ='10-18'!$AA$19 -> 9 | V13: ='10-18'!$AA$20 -> 1 | W13: ='10-18'!$AA$21 -> 2 | X13: ='10-18'!$AA$22 -> 3 | Y13: ='10-18'!$AA$23 -> 4 | Z13: ='10-18'!$AA$24 -> 6 | AA13: ='10-18'!$AA$25 -> 7 | AB13: ='10-18'!$AA$26 -> 8 | AC13: ='10-18'!$AA$27 -> 9 | AD13: ='10-18'!$AA$28 -> 1 | AE13: ='10-18'!$AA$29 -> 2 | AF13: ='10-18'!$AA$30 -> 3 | AG13: ='10-18'!$AA$31 -> 4 | AH13: ='10-18'!$AA$32 -> 5 | AI13: ='10-18'!$AA$33 -> 6 | AJ13: ='10-18'!$AA$34 -> 7 | AK13: ='10-18'!$AA$35 -> 8 | AL13: ='10-18'!$AA$36 -> 9 | AM13: ='10-18'!$AA$37 -> 1 | AN13: ='10-18'!$AA$38 -> 2 | AO13: ='10-18'!$AA$39 -> 3 | AP13: ='10-18'!$AA$40 -> 4 | AQ13: ='10-18'!$AA$41 -> 5 | AR13: ='10-18'!$AA$42 -> 6 | AS13: ='10-18'!$AA$43 -> 7 | AT13: ='10-18'!$AA$44 -> 8 | AU13: ='10-18'!$AA$45 -> 9 | AV13: ='10-18'!$AA$46 -> 1 | AW13: ='10-18'!$AA$47 -> 2 | AX13: ='10-18'!$AA$48 -> 3 | AY13: ='10-18'!$AA$49 -> 4 | AZ13: ='10-18'!$AA$50 -> 5 | BA13: ='10-18'!$AA$51 -> 6 | BB13: ='10-18'!$AA$52 -> 7 | BC13: ='10-18'!$AA$53 -> 8 | BD13: ='10-18'!$AA$54 -> 9 | BE13: ='10-18'!$AA$55 -> 1 | BF13: ='10-18'!$AA$56 -> 2 | BG13: ='10-18'!$AA$57 -> 3 | BH13: ='10-18'!$AA$58 -> 4 | BI13: ='10-18'!$AA$59 -> 5 | BJ13: ='10-18'!$AA$60 -> 6 | BK13: ='10-18'!$AE$1 -> 7 | BL13: ='10-18'!$AE$2 -> 8 | BM13: ='10-18'!$AE$3 -> 9 | BN13: ='10-18'!$AE$4 -> 9 | BO13: ='10-18'!$AE$5 -> 1 | BP13: ='10-18'!$AE$6 -> 2 | BQ13: ='10-18'!$AE$7 -> 3 | BR13: ='10-18'!$AE$8 -> 4 | BS13: ='10-18'!$AE$9 -> 5 | BT13: ='10-18'!$AE$10 -> 6 | BU13: ='10-18'!$AE$11 -> 7 | BV13: ='10-18'!$AE$12 -> 8 | BW13: ='10-18'!$AE$13 -> 9 | BX13: ='10-18'!$AE$14 -> 1 | BY13: ='10-18'!$AE$15 -> 2 | BZ13: ='10-18'!$AE$16 -> 3 | CA13: ='10-18'!$AE$17 -> 4 | CB13: ='10-18'!$AE$18 -> 5 | CC13: ='10-18'!$AE$19 -> 5 | CD13: ='10-18'!$AE$20 -> 6 | CE13: ='10-18'!$AE$21 -> 7 | CF13: ='10-18'!$AE$22 -> 8 | CG13: ='10-18'!$AE$23 -> 9 | CH13: ='10-18'!$AE$24 -> 1 | CI13: ='10-18'!$AE$25 -> 2 | CJ13: ='10-18'!$AE$26 -> 3 | CK13: ='10-18'!$AE$27 -> 4 | CL13: ='10-18'!$AE$28 -> 5 | CM13: ='10-18'!$AE$29 -> 6 | CN13: ='10-18'!$AE$30 -> 6
C14: ='10-18'!$AE$31 -> 7 | D14: ='10-18'!$AE$32 -> 8 | E14: ='10-18'!$AE$33 -> 9 | F14: ='10-18'!$AE$34 -> 1 | G14: ='10-18'!$AE$35 -> 2 | H14: ='10-18'!$AE$36 -> 3 | I14: ='10-18'!$AE$37 -> 4 | J14: ='10-18'!$AE$38 -> 4 | K14: ='10-18'!$AE$39 -> 5 | L14: ='10-18'!$AE$40 -> 6 | M14: ='10-18'!$AE$41 -> 7 | N14: ='10-18'!$AE$42 -> 8 | O14: ='10-18'!$AE$43 -> 9 | P14: ='10-18'!$AE$44 -> 1 | Q14: ='10-18'!$AE$45 -> 2 | R14: ='10-18'!$AE$46 -> 2 | S14: ='10-18'!$AE$47 -> 3 | T14: ='10-18'!$AE$48 -> 4 | U14: ='10-18'!$AE$49 -> 5 | V14: ='10-18'!$AE$50 -> 6 | W14: ='10-18'!$AE$51 -> 7 | X14: ='10-18'!$AE$52 -> 7 | Y14: ='10-18'!$AE$53 -> 8 | Z14: ='10-18'!$AE$54 -> 9 | AA14: ='10-18'!$AE$55 -> 1 | AB14: ='10-18'!$AE$56 -> 2 | AC14: ='10-18'!$AE$57 -> 3 | AD14: ='10-18'!$AE$58 -> 3 | AE14: ='10-18'!$AE$59 -> 4 | AF14: ='10-18'!$AE$60 -> 5 | AG14: ='10-18'!$AI$1 -> 6 | AH14: ='10-18'!$AI$2 -> 7 | AI14: ='10-18'!$AI$3 -> 8 | AJ14: ='10-18'!$AI$4 -> 8 | AK14: ='10-18'!$AI$5 -> 9 | AL14: ='10-18'!$AI$6 -> 1 | AM14: ='10-18'!$AI$7 -> 2 | AN14: ='10-18'!$AI$8 -> 3 | AO14: ='10-18'!$AI$9 -> 3 | AP14: ='10-18'!$AI$10 -> 4 | AQ14: ='10-18'!$AI$11 -> 5 | AR14: ='10-18'!$AI$12 -> 6 | AS14: ='10-18'!$AI$13 -> 6 | AT14: ='10-18'!$AI$14 -> 7 | AU14: ='10-18'!$AI$15 -> 8 | AV14: ='10-18'!$AI$16 -> 9 | AW14: ='10-18'!$AI$17 -> 1 | AX14: ='10-18'!$AI$18 -> 1 | AY14: ='10-18'!$AI$19 -> 2 | AZ14: ='10-18'!$AI$20 -> 3 | BA14: ='10-18'!$AI$21 -> 4 | BB14: ='10-18'!$AI$22 -> 4 | BC14: ='10-18'!$AI$23 -> 5 | BD14: ='10-18'!$AI$24 -> 6 | BE14: ='10-18'!$AI$25 -> 7 | BF14: ='10-18'!$AI$26 -> 7 | BG14: ='10-18'!$AI$27 -> 8 | BH14: ='10-18'!$AI$28 -> 9 | BI14: ='10-18'!$AI$29 -> 1 | BJ14: ='10-18'!$AI$30 -> 1 | BK14: ='10-18'!$AI$31 -> 2 | BL14: ='10-18'!$AI$32 -> 3 | BM14: ='10-18'!$AI$33 -> 4 | BN14: ='10-18'!$AI$34 -> 4 | BO14: ='10-18'!$AI$35 -> 5 | BP14: ='10-18'!$AI$36 -> 6 | BQ14: ='10-18'!$AI$37 -> 7 | BR14: ='10-18'!$AI$38 -> 7 | BS14: ='10-18'!$AI$39 -> 8 | BT14: ='10-18'!$AI$40 -> 9 | BU14: ='10-18'!$AI$41 -> 9 | BV14: ='10-18'!$AI$42 -> 1 | BW14: ='10-18'!$AI$43 -> 2 | BX14: ='10-18'!$AI$44 -> 3 | BY14: ='10-18'!$AI$45 -> 3 | BZ14: ='10-18'!$AI$46 -> 4 | CA14: ='10-18'!$AI$47 -> 5 | CB14: ='10-18'!$AI$48 -> 5 | CC14: ='10-18'!$AI$49 -> 6 | CD14: ='10-18'!$AI$50 -> 7 | CE14: ='10-18'!$AI$51 -> 8 | CF14: ='10-18'!$AI$52 -> 8 | CG14: ='10-18'!$AI$53 -> 9 | CH14: ='10-18'!$AI$54 -> 1 | CI14: ='10-18'!$AI$55 -> 1 | CJ14: ='10-18'!$AI$56 -> 2 | CK14: ='10-18'!$AI$57 -> 3 | CL14: ='10-18'!$AI$58 -> 3 | CM14: ='10-18'!$AI$59 -> 4 | CN14: ='10-18'!$AI$60 -> 5
C15: ='19-27'!$C$1 -> 5 | D15: ='19-27'!$C$2 -> 6 | E15: ='19-27'!$C$3 -> 7 | F15: ='19-27'!$C$4 -> 7 | G15: ='19-27'!$C$5 -> 8 | H15: ='19-27'!$C$6 -> 9 | I15: ='19-27'!$C$7 -> 9 | J15: ='19-27'!$C$8 -> 1 | K15: ='19-27'!$C$9 -> 1 | L15: ='19-27'!$C$10 -> 2 | M15: ='19-27'!$C$11 -> 3 | N15: ='19-27'!$C$12 -> 3 | O15: ='19-27'!$C$13 -> 4 | P15: ='19-27'!$C$14 -> 5 | Q15: ='19-27'!$C$15 -> 5 | R15: ='19-27'!$C$16 -> 6 | S15: ='19-27'!$C$17 -> 7 | T15: ='19-27'!$C$18 -> 7 | U15: ='19-27'!$C$19 -> 8 | V15: ='19-27'!$C$20 -> 8 | W15: ='19-27'!$C$21 -> 9 | X15: ='19-27'!$C$22 -> 1 | Y15: ='19-27'!$C$23 -> 1 | Z15: ='19-27'!$C$24 -> 2 | AA15: ='19-27'!$C$25 -> 2 | AB15: ='19-27'!$C$26 -> 3 | AC15: ='19-27'!$C$27 -> 4 | AD15: ='19-27'!$C$28 -> 4 | AE15: ='19-27'!$C$29 -> 5 | AF15: ='19-27'!$C$30 -> 5 | AG15: ='19-27'!$C$31 -> 6 | AH15: ='19-27'!$C$32 -> 7 | AI15: ='19-27'!$C$33 -> 7 | AJ15: ='19-27'!$C$34 -> 8 | AK15: ='19-27'!$C$35 -> 8 | AL15: ='19-27'!$C$36 -> 9 | AM15: ='19-27'!$C$37 -> 9 | AN15: ='19-27'!$C$38 -> 1 | AO15: ='19-27'!$C$39 -> 1 | AP15: ='19-27'!$C$40 -> 2 | AQ15: ='19-27'!$C$41 -> 3 | AR15: ='19-27'!$C$42 -> 3 | AS15: ='19-27'!$C$43 -> 4 | AT15: ='19-27'!$C$44 -> 4 | AU15: ='19-27'!$C$45 -> 5 | AV15: ='19-27'!$C$46 -> 5 | AW15: ='19-27'!$C$47 -> 6 | AX15: ='19-27'!$C$48 -> 6 | AY15: ='19-27'!$C$49 -> 7 | AZ15: ='19-27'!$C$50 -> 8 | BA15: ='19-27'!$C$51 -> 8 | BB15: ='19-27'!$C$52 -> 9 | BC15: ='19-27'!$C$53 -> 9 | BD15: ='19-27'!$C$54 -> 1 | BE15: ='19-27'!$C$55 -> 1 | BF15: ='19-27'!$C$56 -> 2 | BG15: ='19-27'!$C$57 -> 2 | BH15: ='19-27'!$C$58 -> 3 | BI15: ='19-27'!$C$59 -> 3 | BJ15: ='19-27'!$C$60 -> 4 | BK15: ='19-27'!$G$1 -> 4 | BL15: ='19-27'!$G$2 -> 5 | BM15: ='19-27'!$G$3 -> 5 | BN15: ='19-27'!$G$4 -> 6 | BO15: ='19-27'!$G$5 -> 6 | BP15: ='19-27'!$G$6 -> 7 | BQ15: ='19-27'!$G$7 -> 7 | BR15: ='19-27'!$G$8 -> 8 | BS15: ='19-27'!$G$9 -> 8 | BT15: ='19-27'!$G$10 -> 9 | BU15: ='19-27'!$G$11 -> 9 | BV15: ='19-27'!$G$12 -> 1 | BW15: ='19-27'!$G$13 -> 1 | BX15: ='19-27'!$G$14 -> 2 | BY15: ='19-27'!$G$15 -> 2 | BZ15: ='19-27'!$G$16 -> 2 | CA15: ='19-27'!$G$17 -> 3 | CB15: ='19-27'!$G$18 -> 3 | CC15: ='19-27'!$G$19 -> 4 | CD15: ='19-27'!$G$20 -> 4 | CE15: ='19-27'!$G$21 -> 5 | CF15: ='19-27'!$G$22 -> 5 | CG15: ='19-27'!$G$23 -> 6 | CH15: ='19-27'!$G$24 -> 6 | CI15: ='19-27'!$G$25 -> 6 | CJ15: ='19-27'!$G$26 -> 7 | CK15: ='19-27'!$G$27 -> 7 | CL15: ='19-27'!$G$28 -> 8 | CM15: ='19-27'!$G$29 -> 8 | CN15: ='19-27'!$G$30 -> 9
C16: ='19-27'!$G$31 -> 9 | D16: ='19-27'!$G$32 -> 9 | E16: ='19-27'!$G$33 -> 1 | F16: ='19-27'!$G$34 -> 1 | G16: ='19-27'!$G$35 -> 2 | H16: ='19-27'!$G$36 -> 2 | I16: ='19-27'!$G$37 -> 2 | J16: ='19-27'!$G$38 -> 3 | K16: ='19-27'!$G$39 -> 3 | L16: ='19-27'!$G$40 -> 4 | M16: ='19-27'!$G$41 -> 4 | N16: ='19-27'!$G$42 -> 4 | O16: ='19-27'!$G$43 -> 5 | P16: ='19-27'!$G$44 -> 5 | Q16: ='19-27'!$G$45 -> 6 | R16: ='19-27'!$G$46 -> 6 | S16: ='19-27'!$G$47 -> 6 | T16: ='19-27'!$G$48 -> 7 | U16: ='19-27'!$G$49 -> 7 | V16: ='19-27'!$G$50 -> 7 | W16: ='19-27'!$G$51 -> 8 | X16: ='19-27'!$G$52 -> 8 | Y16: ='19-27'!$G$53 -> 9 | Z16: ='19-27'!$G$54 -> 9 | AA16: ='19-27'!$G$55 -> 9 | AB16: ='19-27'!$G$56 -> 1 | AC16: ='19-27'!$G$57 -> 1 | AD16: ='19-27'!$G$58 -> 1 | AE16: ='19-27'!$G$59 -> 2 | AF16: ='19-27'!$G$60 -> 2 | AG16: ='19-27'!$K$1 -> 2 | AH16: ='19-27'!$K$2 -> 3 | AI16: ='19-27'!$K$3 -> 3 | AJ16: ='19-27'!$K$4 -> 3 | AK16: ='19-27'!$K$5 -> 4 | AL16: ='19-27'!$K$6 -> 4 | AM16: ='19-27'!$K$7 -> 4 | AN16: ='19-27'!$K$8 -> 5 | AO16: ='19-27'!$K$9 -> 5 | AP16: ='19-27'!$K$10 -> 5 | AQ16: ='19-27'!$K$11 -> 5 | AR16: ='19-27'!$K$12 -> 6 | AS16: ='19-27'!$K$13 -> 6 | AT16: ='19-27'!$K$14 -> 6 | AU16: ='19-27'!$K$15 -> 7 | AV16: ='19-27'!$K$16 -> 7 | AW16: ='19-27'!$K$17 -> 7 | AX16: ='19-27'!$K$18 -> 7 | AY16: ='19-27'!$K$19 -> 8 | AZ16: ='19-27'!$K$20 -> 8 | BA16: ='19-27'!$K$21 -> 8 | BB16: ='19-27'!$K$22 -> 9 | BC16: ='19-27'!$K$23 -> 9 | BD16: ='19-27'!$K$24 -> 9 | BE16: ='19-27'!$K$25 -> 9 | BF16: ='19-27'!$K$26 -> 1 | BG16: ='19-27'!$K$27 -> 1 | BH16: ='19-27'!$K$28 -> 1 | BI16: ='19-27'!$K$29 -> 1 | BJ16: ='19-27'!$K$30 -> 2 | BK16: ='19-27'!$K$31 -> 2 | BL16: ='19-27'!$K$32 -> 2 | BM16: ='19-27'!$K$33 -> 2 | BN16: ='19-27'!$K$34 -> 3 | BO16: ='19-27'!$K$35 -> 3 | BP16: ='19-27'!$K$36 -> 3 | BQ16: ='19-27'!$K$37 -> 3 | BR16: ='19-27'!$K$38 -> 4 | BS16: ='19-27'!$K$39 -> 4 | BT16: ='19-27'!$K$40 -> 4 | BU16: ='19-27'!$K$41 -> 4 | BV16: ='19-27'!$K$42 -> 4 | BW16: ='19-27'!$K$43 -> 5 | BX16: ='19-27'!$K$44 -> 5 | BY16: ='19-27'!$K$45 -> 5 | BZ16: ='19-27'!$K$46 -> 5 | CA16: ='19-27'!$K$47 -> 5 | CB16: ='19-27'!$K$48 -> 6 | CC16: ='19-27'!$K$49 -> 6 | CD16: ='19-27'!$K$50 -> 6 | CE16: ='19-27'!$K$51 -> 6 | CF16: ='19-27'!$K$52 -> 6 | CG16: ='19-27'!$K$53 -> 7 | CH16: ='19-27'!$K$54 -> 7 | CI16: ='19-27'!$K$55 -> 7 | CJ16: ='19-27'!$K$56 -> 7 | CK16: ='19-27'!$K$57 -> 7 | CL16: ='19-27'!$K$58 -> 7 | CM16: ='19-27'!$K$59 -> 8 | CN16: ='19-27'!$K$60 -> 8
C17: ='19-27'!$O$1 -> 8 | D17: ='19-27'!$O$2 -> 8 | E17: ='19-27'!$O$3 -> 8 | F17: ='19-27'!$O$4 -> 8 | G17: ='19-27'!$O$5 -> 8 | H17: ='19-27'!$O$6 -> 9 | I17: ='19-27'!$O$7 -> 9 | J17: ='19-27'!$O$8 -> 9 | K17: ='19-27'!$O$9 -> 9 | L17: ='19-27'!$O$10 -> 9 | M17: ='19-27'!$O$11 -> 9 | N17: ='19-27'!$O$12 -> 9 | O17: ='19-27'!$O$13 -> 9 | P17: ='19-27'!$O$14 -> 1 | Q17: ='19-27'!$O$15 -> 1 | R17: ='19-27'!$O$16 -> 1 | S17: ='19-27'!$O$17 -> 1 | T17: ='19-27'!$O$18 -> 1 | U17: ='19-27'!$O$19 -> 1 | V17: ='19-27'!$O$20 -> 1 | W17: ='19-27'!$O$21 -> 1 | X17: ='19-27'!$O$22 -> 1 | Y17: ='19-27'!$O$23 -> 1 | Z17: ='19-27'!$O$24 -> 2 | AA17: ='19-27'!$O$25 -> 2 | AB17: ='19-27'!$O$26 -> 2 | AC17: ='19-27'!$O$27 -> 2 | AD17: ='19-27'!$O$28 -> 2 | AE17: ='19-27'!$O$29 -> 2 | AF17: ='19-27'!$O$30 -> 2 | AG17: ='19-27'!$O$31 -> 2 | AH17: ='19-27'!$O$32 -> 2 | AI17: ='19-27'!$O$33 -> 2 | AJ17: ='19-27'!$O$34 -> 2 | AK17: ='19-27'!$O$35 -> 2 | AL17: ='19-27'!$O$36 -> 2 | AM17: ='19-27'!$O$37 -> 2 | AN17: ='19-27'!$O$38 -> 2 | AO17: ='19-27'!$O$39 -> 2 | AP17: ='19-27'!$O$40 -> 3 | AQ17: ='19-27'!$O$41 -> 3 | AR17: ='19-27'!$O$42 -> 3 | AS17: ='19-27'!$O$43 -> 3 | AT17: ='19-27'!$O$44 -> 3 | AU17: ='19-27'!$O$45 -> 3 | AV17: ='19-27'!$O$46 -> 3 | AW17: ='19-27'!$O$47 -> 3 | AX17: ='19-27'!$O$48 -> 3 | AY17: ='19-27'!$O$49 -> 3 | AZ17: ='19-27'!$O$50 -> 3 | BA17: ='19-27'!$O$51 -> 3 | BB17: ='19-27'!$O$52 -> 3 | BC17: ='19-27'!$O$53 -> 3 | BD17: ='19-27'!$O$54 -> 3 | BE17: ='19-27'!$O$55 -> 3 | BF17: ='19-27'!$O$56 -> 3 | BG17: ='19-27'!$O$57 -> 3 | BH17: ='19-27'!$O$58 -> 3 | BI17: ='19-27'!$O$59 -> 3 | BJ17: ='19-27'!$O$60 -> 3 | BK17: ='19-27'!$S$1 -> 3 | BL17: ='19-27'!$S$2 -> 2 | BM17: ='19-27'!$S$3 -> 2 | BN17: ='19-27'!$S$4 -> 2 | BO17: ='19-27'!$S$5 -> 2 | BP17: ='19-27'!$S$6 -> 2 | BQ17: ='19-27'!$S$7 -> 2 | BR17: ='19-27'!$S$8 -> 2 | BS17: ='19-27'!$S$9 -> 2 | BT17: ='19-27'!$S$10 -> 2 | BU17: ='19-27'!$S$11 -> 2 | BV17: ='19-27'!$S$12 -> 2 | BW17: ='19-27'!$S$13 -> 2 | BX17: ='19-27'!$S$14 -> 2 | BY17: ='19-27'!$S$15 -> 2 | BZ17: ='19-27'!$S$16 -> 2 | CA17: ='19-27'!$S$17 -> 2 | CB17: ='19-27'!$S$18 -> 2 | CC17: ='19-27'!$S$19 -> 1 | CD17: ='19-27'!$S$20 -> 1 | CE17: ='19-27'!$S$21 -> 1 | CF17: ='19-27'!$S$22 -> 1 | CG17: ='19-27'!$S$23 -> 1 | CH17: ='19-27'!$S$24 -> 1 | CI17: ='19-27'!$S$25 -> 1 | CJ17: ='19-27'!$S$26 -> 1 | CK17: ='19-27'!$S$27 -> 1 | CL17: ='19-27'!$S$28 -> 9 | CM17: ='19-27'!$S$29 -> 9 | CN17: ='19-27'!$S$30 -> 9
C18: ='19-27'!$S$31 -> 9 | D18: ='19-27'!$S$32 -> 9 | E18: ='19-27'!$S$33 -> 9 | F18: ='19-27'!$S$34 -> 9 | G18: ='19-27'!$S$35 -> 9 | H18: ='19-27'!$S$36 -> 8 | I18: ='19-27'!$S$37 -> 8 | J18: ='19-27'!$S$38 -> 8 | K18: ='19-27'!$S$39 -> 8 | L18: ='19-27'!$S$40 -> 8 | M18: ='19-27'!$S$41 -> 8 | N18: ='19-27'!$S$42 -> 8 | O18: ='19-27'!$S$43 -> 7 | P18: ='19-27'!$S$44 -> 7 | Q18: ='19-27'!$S$45 -> 7 | R18: ='19-27'!$S$46 -> 7 | S18: ='19-27'!$S$47 -> 7 | T18: ='19-27'!$S$48 -> 6 | U18: ='19-27'!$S$49 -> 6 | V18: ='19-27'!$S$50 -> 6 | W18: ='19-27'!$S$51 -> 6 | X18: ='19-27'!$S$52 -> 6 | Y18: ='19-27'!$S$53 -> 6 | Z18: ='19-27'!$S$54 -> 5 | AA18: ='19-27'!$S$55 -> 5 | AB18: ='19-27'!$S$56 -> 5 | AC18: ='19-27'!$S$57 -> 5 | AD18: ='19-27'!$S$58 -> 4 | AE18: ='19-27'!$S$59 -> 4 | AF18: ='19-27'!$S$60 -> 4 | AG18: ='19-27'!$W$1 -> 4 | AH18: ='19-27'!$W$2 -> 3 | AI18: ='19-27'!$W$3 -> 3 | AJ18: ='19-27'!$W$4 -> 3 | AK18: ='19-27'!$W$5 -> 3 | AL18: ='19-27'!$W$6 -> 3 | AM18: ='19-27'!$W$7 -> 2 | AN18: ='19-27'!$W$8 -> 2 | AO18: ='19-27'!$W$9 -> 2 | AP18: ='19-27'!$W$10 -> 2 | AQ18: ='19-27'!$W$11 -> 1 | AR18: ='19-27'!$W$12 -> 1 | AS18: ='19-27'!$W$13 -> 1 | AT18: ='19-27'!$W$14 -> 1 | AU18: ='19-27'!$W$15 -> 9 | AV18: ='19-27'!$W$16 -> 9 | AW18: ='19-27'!$W$17 -> 9 | AX18: ='19-27'!$W$18 -> 8 | AY18: ='19-27'!$W$19 -> 8 | AZ18: ='19-27'!$W$20 -> 8 | BA18: ='19-27'!$W$21 -> 8 | BB18: ='19-27'!$W$22 -> 7 | BC18: ='19-27'!$W$23 -> 7 | BD18: ='19-27'!$W$24 -> 7 | BE18: ='19-27'!$W$25 -> 6 | BF18: ='19-27'!$W$26 -> 6 | BG18: ='19-27'!$W$27 -> 6 | BH18: ='19-27'!$W$28 -> 5 | BI18: ='19-27'!$W$29 -> 5 | BJ18: ='19-27'!$W$30 -> 5 | BK18: ='19-27'!$W$31 -> 4 | BL18: ='19-27'!$W$32 -> 4 | BM18: ='19-27'!$W$33 -> 4 | BN18: ='19-27'!$W$34 -> 3 | BO18: ='19-27'!$W$35 -> 3 | BP18: ='19-27'!$W$36 -> 3 | BQ18: ='19-27'!$W$37 -> 2 | BR18: ='19-27'!$W$38 -> 2 | BS18: ='19-27'!$W$39 -> 2 | BT18: ='19-27'!$W$40 -> 1 | BU18: ='19-27'!$W$41 -> 1 | BV18: ='19-27'!$W$42 -> 1 | BW18: ='19-27'!$W$43 -> 9 | BX18: ='19-27'!$W$44 -> 9 | BY18: ='19-27'!$W$45 -> 9 | BZ18: ='19-27'!$W$46 -> 8 | CA18: ='19-27'!$W$47 -> 8 | CB18: ='19-27'!$W$48 -> 7 | CC18: ='19-27'!$W$49 -> 7 | CD18: ='19-27'!$W$50 -> 7 | CE18: ='19-27'!$W$51 -> 6 | CF18: ='19-27'!$W$52 -> 6 | CG18: ='19-27'!$W$53 -> 5 | CH18: ='19-27'!$W$54 -> 5 | CI18: ='19-27'!$W$55 -> 5 | CJ18: ='19-27'!$W$56 -> 4 | CK18: ='19-27'!$W$57 -> 4 | CL18: ='19-27'!$W$58 -> 3 | CM18: ='19-27'!$W$59 -> 3 | CN18: ='19-27'!$W$60 -> 3
C19: ='19-27'!$AA$1 -> 2 | D19: ='19-27'!$AA$2 -> 2 | E19: ='19-27'!$AA$3 -> 1 | F19: ='19-27'!$AA$4 -> 1 | G19: ='19-27'!$AA$5 -> 9 | H19: ='19-27'!$AA$6 -> 9 | I19: ='19-27'!$AA$7 -> 9 | J19: ='19-27'!$AA$8 -> 8 | K19: ='19-27'!$AA$9 -> 8 | L19: ='19-27'!$AA$10 -> 7 | M19: ='19-27'!$AA$11 -> 7 | N19: ='19-27'!$AA$12 -> 6 | O19: ='19-27'!$AA$13 -> 6 | P19: ='19-27'!$AA$14 -> 5 | Q19: ='19-27'!$AA$15 -> 5 | R19: ='19-27'!$AA$16 -> 4 | S19: ='19-27'!$AA$17 -> 4 | T19: ='19-27'!$AA$18 -> 3 | U19: ='19-27'!$AA$19 -> 3 | V19: ='19-27'!$AA$20 -> 2 | W19: ='19-27'!$AA$21 -> 2 | X19: ='19-27'!$AA$22 -> 1 | Y19: ='19-27'!$AA$23 -> 1 | Z19: ='19-27'!$AA$24 -> 9 | AA19: ='19-27'!$AA$25 -> 9 | AB19: ='19-27'!$AA$26 -> 8 | AC19: ='19-27'!$AA$27 -> 8 | AD19: ='19-27'!$AA$28 -> 7 | AE19: ='19-27'!$AA$29 -> 7 | AF19: ='19-27'!$AA$30 -> 6 | AG19: ='19-27'!$AA$31 -> 6 | AH19: ='19-27'!$AA$32 -> 5 | AI19: ='19-27'!$AA$33 -> 5 | AJ19: ='19-27'!$AA$34 -> 4 | AK19: ='19-27'!$AA$35 -> 4 | AL19: ='19-27'!$AA$36 -> 3 | AM19: ='19-27'!$AA$37 -> 2 | AN19: ='19-27'!$AA$38 -> 2 | AO19: ='19-27'!$AA$39 -> 1 | AP19: ='19-27'!$AA$40 -> 1 | AQ19: ='19-27'!$AA$41 -> 9 | AR19: ='19-27'!$AA$42 -> 9 | AS19: ='19-27'!$AA$43 -> 8 | AT19: ='19-27'!$AA$44 -> 7 | AU19: ='19-27'!$AA$45 -> 7 | AV19: ='19-27'!$AA$46 -> 6 | AW19: ='19-27'!$AA$47 -> 6 | AX19: ='19-27'!$AA$48 -> 5 | AY19: ='19-27'!$AA$49 -> 5 | AZ19: ='19-27'!$AA$50 -> 4 | BA19: ='19-27'!$AA$51 -> 3 | BB19: ='19-27'!$AA$52 -> 3 | BC19: ='19-27'!$AA$53 -> 2 | BD19: ='19-27'!$AA$54 -> 1 | BE19: ='19-27'!$AA$55 -> 1 | BF19: ='19-27'!$AA$56 -> 9 | BG19: ='19-27'!$AA$57 -> 9 | BH19: ='19-27'!$AA$58 -> 8 | BI19: ='19-27'!$AA$59 -> 7 | BJ19: ='19-27'!$AA$60 -> 7 | BK19: ='19-27'!$AE$1 -> 6 | BL19: ='19-27'!$AE$2 -> 5 | BM19: ='19-27'!$AE$3 -> 5 | BN19: ='19-27'!$AE$4 -> 4 | BO19: ='19-27'!$AE$5 -> 4 | BP19: ='19-27'!$AE$6 -> 3 | BQ19: ='19-27'!$AE$7 -> 2 | BR19: ='19-27'!$AE$8 -> 2 | BS19: ='19-27'!$AE$9 -> 1 | BT19: ='19-27'!$AE$10 -> 9 | BU19: ='19-27'!$AE$11 -> 9 | BV19: ='19-27'!$AE$12 -> 8 | BW19: ='19-27'!$AE$13 -> 7 | BX19: ='19-27'!$AE$14 -> 6 | BY19: ='19-27'!$AE$15 -> 6 | BZ19: ='19-27'!$AE$16 -> 5 | CA19: ='19-27'!$AE$17 -> 4 | CB19: ='19-27'!$AE$18 -> 4 | CC19: ='19-27'!$AE$19 -> 3 | CD19: ='19-27'!$AE$20 -> 2 | CE19: ='19-27'!$AE$21 -> 2 | CF19: ='19-27'!$AE$22 -> 1 | CG19: ='19-27'!$AE$23 -> 9 | CH19: ='19-27'!$AE$24 -> 8 | CI19: ='19-27'!$AE$25 -> 8 | CJ19: ='19-27'!$AE$26 -> 7 | CK19: ='19-27'!$AE$27 -> 6 | CL19: ='19-27'!$AE$28 -> 5 | CM19: ='19-27'!$AE$29 -> 5 | CN19: ='19-27'!$AE$30 -> 4
C20: ='19-27'!$AE$31 -> 3 | D20: ='19-27'!$AE$32 -> 3 | E20: ='19-27'!$AE$33 -> 2 | F20: ='19-27'!$AE$34 -> 1 | G20: ='19-27'!$AE$35 -> 9 | H20: ='19-27'!$AE$36 -> 8 | I20: ='19-27'!$AE$37 -> 8 | J20: ='19-27'!$AE$38 -> 7 | K20: ='19-27'!$AE$39 -> 6 | L20: ='19-27'!$AE$40 -> 5 | M20: ='19-27'!$AE$41 -> 5 | N20: ='19-27'!$AE$42 -> 4 | O20: ='19-27'!$AE$43 -> 3 | P20: ='19-27'!$AE$44 -> 2 | Q20: ='19-27'!$AE$45 -> 1 | R20: ='19-27'!$AE$46 -> 1 | S20: ='19-27'!$AE$47 -> 9 | T20: ='19-27'!$AE$48 -> 8 | U20: ='19-27'!$AE$49 -> 7 | V20: ='19-27'!$AE$50 -> 6 | W20: ='19-27'!$AE$51 -> 6 | X20: ='19-27'!$AE$52 -> 5 | Y20: ='19-27'!$AE$53 -> 4 | Z20: ='19-27'!$AE$54 -> 3 | AA20: ='19-27'!$AE$55 -> 2 | AB20: ='19-27'!$AE$56 -> 1 | AC20: ='19-27'!$AE$57 -> 1 | AD20: ='19-27'!$AE$58 -> 9 | AE20: ='19-27'!$AE$59 -> 8 | AF20: ='19-27'!$AE$60 -> 7 | AG20: ='19-27'!$AI$1 -> 6 | AH20: ='19-27'!$AI$2 -> 5 | AI20: ='19-27'!$AI$3 -> 4 | AJ20: ='19-27'!$AI$4 -> 4 | AK20: ='19-27'!$AI$5 -> 3 | AL20: ='19-27'!$AI$6 -> 2 | AM20: ='19-27'!$AI$7 -> 1 | AN20: ='19-27'!$AI$8 -> 9 | AO20: ='19-27'!$AI$9 -> 8 | AP20: ='19-27'!$AI$10 -> 7 | AQ20: ='19-27'!$AI$11 -> 6 | AR20: ='19-27'!$AI$12 -> 5 | AS20: ='19-27'!$AI$13 -> 5 | AT20: ='19-27'!$AI$14 -> 4 | AU20: ='19-27'!$AI$15 -> 3 | AV20: ='19-27'!$AI$16 -> 2 | AW20: ='19-27'!$AI$17 -> 1 | AX20: ='19-27'!$AI$18 -> 9 | AY20: ='19-27'!$AI$19 -> 8 | AZ20: ='19-27'!$AI$20 -> 7 | BA20: ='19-27'!$AI$21 -> 6 | BB20: ='19-27'!$AI$22 -> 5 | BC20: ='19-27'!$AI$23 -> 4 | BD20: ='19-27'!$AI$24 -> 3 | BE20: ='19-27'!$AI$25 -> 2 | BF20: ='19-27'!$AI$26 -> 2 | BG20: ='19-27'!$AI$27 -> 1 | BH20: ='19-27'!$AI$28 -> 9 | BI20: ='19-27'!$AI$29 -> 8 | BJ20: ='19-27'!$AI$30 -> 7 | BK20: ='19-27'!$AI$31 -> 6 | BL20: ='19-27'!$AI$32 -> 5 | BM20: ='19-27'!$AI$33 -> 4 | BN20: ='19-27'!$AI$34 -> 3 | BO20: ='19-27'!$AI$35 -> 2 | BP20: ='19-27'!$AI$36 -> 1 | BQ20: ='19-27'!$AI$37 -> 9 | BR20: ='19-27'!$AI$38 -> 8 | BS20: ='19-27'!$AI$39 -> 7 | BT20: ='19-27'!$AI$40 -> 6 | BU20: ='19-27'!$AI$41 -> 5 | BV20: ='19-27'!$AI$42 -> 4 | BW20: ='19-27'!$AI$43 -> 3 | BX20: ='19-27'!$AI$44 -> 2 | BY20: ='19-27'!$AI$45 -> 1 | BZ20: ='19-27'!$AI$46 -> 9 | CA20: ='19-27'!$AI$47 -> 8 | CB20: ='19-27'!$AI$48 -> 7 | CC20: ='19-27'!$AI$49 -> 6 | CD20: ='19-27'!$AI$50 -> 5 | CE20: ='19-27'!$AI$51 -> 4 | CF20: ='19-27'!$AI$52 -> 2 | CG20: ='19-27'!$AI$53 -> 1 | CH20: ='19-27'!$AI$54 -> 9 | CI20: ='19-27'!$AI$55 -> 8 | CJ20: ='19-27'!$AI$56 -> 7 | CK20: ='19-27'!$AI$57 -> 6 | CL20: ='19-27'!$AI$58 -> 5 | CM20: ='19-27'!$AI$59 -> 4 | CN20: ='19-27'!$AI$60 -> 3
C21: ='28-36'!$C$1 -> 2 | D21: ='28-36'!$C$2 -> 1 | E21: ='28-36'!$C$3 -> 9 | F21: ='28-36'!$C$4 -> 8 | G21: ='28-36'!$C$5 -> 6 | H21: ='28-36'!$C$6 -> 5 | I21: ='28-36'!$C$7 -> 4 | J21: ='28-36'!$C$8 -> 3 | K21: ='28-36'!$C$9 -> 2 | L21: ='28-36'!$C$10 -> 1 | M21: ='28-36'!$C$11 -> 9 | N21: ='28-36'!$C$12 -> 8 | O21: ='28-36'!$C$13 -> 7 | P21: ='28-36'!$C$14 -> 5 | Q21: ='28-36'!$C$15 -> 4 | R21: ='28-36'!$C$16 -> 3 | S21: ='28-36'!$C$17 -> 2 | T21: ='28-36'!$C$18 -> 1 | U21: ='28-36'!$C$19 -> 9 | V21: ='28-36'!$C$20 -> 8 | W21: ='28-36'!$C$21 -> 6 | X21: ='28-36'!$C$22 -> 5 | Y21: ='28-36'!$C$23 -> 4 | Z21: ='28-36'!$C$24 -> 3 | AA21: ='28-36'!$C$25 -> 2 | AB21: ='28-36'!$C$26 -> 1 | AC21: ='28-36'!$C$27 -> 8 | AD21: ='28-36'!$C$28 -> 7 | AE21: ='28-36'!$C$29 -> 6 | AF21: ='28-36'!$C$30 -> 5 | AG21: ='28-36'!$C$31 -> 4 | AH21: ='28-36'!$C$32 -> 2 | AI21: ='28-36'!$C$33 -> 1 | AJ21: ='28-36'!$C$34 -> 9 | AK21: ='28-36'!$C$35 -> 8 | AL21: ='28-36'!$C$36 -> 7 | AM21: ='28-36'!$C$37 -> 5 | AN21: ='28-36'!$C$38 -> 4 | AO21: ='28-36'!$C$39 -> 3 | AP21: ='28-36'!$C$40 -> 2 | AQ21: ='28-36'!$C$41 -> 9 | AR21: ='28-36'!$C$42 -> 8 | AS21: ='28-36'!$C$43 -> 7 | AT21: ='28-36'!$C$44 -> 6 | AU21: ='28-36'!$C$45 -> 4 | AV21: ='28-36'!$C$46 -> 3 | AW21: ='28-36'!$C$47 -> 2 | AX21: ='28-36'!$C$48 -> 1 | AY21: ='28-36'!$C$49 -> 8 | AZ21: ='28-36'!$C$50 -> 7 | BA21: ='28-36'!$C$51 -> 6 | BB21: ='28-36'!$C$52 -> 4 | BC21: ='28-36'!$C$53 -> 3 | BD21: ='28-36'!$C$54 -> 2 | BE21: ='28-36'!$C$55 -> 1 | BF21: ='28-36'!$C$56 -> 8 | BG21: ='28-36'!$C$57 -> 7 | BH21: ='28-36'!$C$58 -> 6 | BI21: ='28-36'!$C$59 -> 4 | BJ21: ='28-36'!$C$60 -> 3 | BK21: ='28-36'!$G$1 -> 2 | BL21: ='28-36'!$G$2 -> 9 | BM21: ='28-36'!$G$3 -> 8 | BN21: ='28-36'!$G$4 -> 7 | BO21: ='28-36'!$G$5 -> 5 | BP21: ='28-36'!$G$6 -> 4 | BQ21: ='28-36'!$G$7 -> 3 | BR21: ='28-36'!$G$8 -> 1 | BS21: ='28-36'!$G$9 -> 9 | BT21: ='28-36'!$G$10 -> 8 | BU21: ='28-36'!$G$11 -> 6 | BV21: ='28-36'!$G$12 -> 5 | BW21: ='28-36'!$G$13 -> 4 | BX21: ='28-36'!$G$14 -> 2 | BY21: ='28-36'!$G$15 -> 1 | BZ21: ='28-36'!$G$16 -> 8 | CA21: ='28-36'!$G$17 -> 7 | CB21: ='28-36'!$G$18 -> 6 | CC21: ='28-36'!$G$19 -> 4 | CD21: ='28-36'!$G$20 -> 3 | CE21: ='28-36'!$G$21 -> 2 | CF21: ='28-36'!$G$22 -> 9 | CG21: ='28-36'!$G$23 -> 8 | CH21: ='28-36'!$G$24 -> 6 | CI21: ='28-36'!$G$25 -> 5 | CJ21: ='28-36'!$G$26 -> 3 | CK21: ='28-36'!$G$27 -> 2 | CL21: ='28-36'!$G$28 -> 1 | CM21: ='28-36'!$G$29 -> 8 | CN21: ='28-36'!$G$30 -> 7
C22: ='28-36'!$G$31 -> 5 | D22: ='28-36'!$G$32 -> 4 | E22: ='28-36'!$G$33 -> 2 | F22: ='28-36'!$G$34 -> 1 | G22: ='28-36'!$G$35 -> 9 | H22: ='28-36'!$G$36 -> 7 | I22: ='28-36'!$G$37 -> 6 | J22: ='28-36'!$G$38 -> 4 | K22: ='28-36'!$G$39 -> 3 | L22: ='28-36'!$G$40 -> 1 | M22: ='28-36'!$G$41 -> 9 | N22: ='28-36'!$G$42 -> 7 | O22: ='28-36'!$G$43 -> 6 | P22: ='28-36'!$G$44 -> 4 | Q22: ='28-36'!$G$45 -> 3 | R22: ='28-36'!$G$46 -> 1 | S22: ='28-36'!$G$47 -> 9 | T22: ='28-36'!$G$48 -> 7 | U22: ='28-36'!$G$49 -> 6 | V22: ='28-36'!$G$50 -> 4 | W22: ='28-36'!$G$51 -> 3 | X22: ='28-36'!$G$52 -> 1 | Y22: ='28-36'!$G$53 -> 9 | Z22: ='28-36'!$G$54 -> 7 | AA22: ='28-36'!$G$55 -> 6 | AB22: ='28-36'!$G$56 -> 4 | AC22: ='28-36'!$G$57 -> 3 | AD22: ='28-36'!$G$58 -> 1 | AE22: ='28-36'!$G$59 -> 8 | AF22: ='28-36'!$G$60 -> 7 | AG22: ='28-36'!$K$1 -> 5 | AH22: ='28-36'!$K$2 -> 4 | AI22: ='28-36'!$K$3 -> 2 | AJ22: ='28-36'!$K$4 -> 1 | AK22: ='28-36'!$K$5 -> 8 | AL22: ='28-36'!$K$6 -> 6 | AM22: ='28-36'!$K$7 -> 5 | AN22: ='28-36'!$K$8 -> 3 | AO22: ='28-36'!$K$9 -> 2 | AP22: ='28-36'!$K$10 -> 9 | AQ22: ='28-36'!$K$11 -> 7 | AR22: ='28-36'!$K$12 -> 6 | AS22: ='28-36'!$K$13 -> 4 | AT22: ='28-36'!$K$14 -> 3 | AU22: ='28-36'!$K$15 -> 1 | AV22: ='28-36'!$K$16 -> 8 | AW22: ='28-36'!$K$17 -> 7 | AX22: ='28-36'!$K$18 -> 5 | AY22: ='28-36'!$K$19 -> 4 | AZ22: ='28-36'!$K$20 -> 2 | BA22: ='28-36'!$K$21 -> 9 | BB22: ='28-36'!$K$22 -> 8 | BC22: ='28-36'!$K$23 -> 6 | BD22: ='28-36'!$K$24 -> 4 | BE22: ='28-36'!$K$25 -> 3 | BF22: ='28-36'!$K$26 -> 1 | BG22: ='28-36'!$K$27 -> 8 | BH22: ='28-36'!$K$28 -> 7 | BI22: ='28-36'!$K$29 -> 5 | BJ22: ='28-36'!$K$30 -> 3 | BK22: ='28-36'!$K$31 -> 2 | BL22: ='28-36'!$K$32 -> 9 | BM22: ='28-36'!$K$33 -> 7 | BN22: ='28-36'!$K$34 -> 5 | BO22: ='28-36'!$K$35 -> 4 | BP22: ='28-36'!$K$36 -> 2 | BQ22: ='28-36'!$K$37 -> 9 | BR22: ='28-36'!$K$38 -> 8 | BS22: ='28-36'!$K$39 -> 6 | BT22: ='28-36'!$K$40 -> 4 | BU22: ='28-36'!$K$41 -> 3 | BV22: ='28-36'!$K$42 -> 1 | BW22: ='28-36'!$K$43 -> 8 | BX22: ='28-36'!$K$44 -> 6 | BY22: ='28-36'!$K$45 -> 5 | BZ22: ='28-36'!$K$46 -> 3 | CA22: ='28-36'!$K$47 -> 1 | CB22: ='28-36'!$K$48 -> 8 | CC22: ='28-36'!$K$49 -> 7 | CD22: ='28-36'!$K$50 -> 5 | CE22: ='28-36'!$K$51 -> 3 | CF22: ='28-36'!$K$52 -> 1 | CG22: ='28-36'!$K$53 -> 8 | CH22: ='28-36'!$K$54 -> 7 | CI22: ='28-36'!$K$55 -> 5 | CJ22: ='28-36'!$K$56 -> 3 | CK22: ='28-36'!$K$57 -> 1 | CL22: ='28-36'!$K$58 -> 9 | CM22: ='28-36'!$K$59 -> 7 | CN22: ='28-36'!$K$60 -> 5
C23: ='28-36'!$O$1 -> 3 | D23: ='28-36'!$O$2 -> 1 | E23: ='28-36'!$O$3 -> 8 | F23: ='28-36'!$O$4 -> 7 | G23: ='28-36'!$O$5 -> 5 | H23: ='28-36'!$O$6 -> 3 | I23: ='28-36'!$O$7 -> 1 | J23: ='28-36'!$O$8 -> 8 | K23: ='28-36'!$O$9 -> 6 | L23: ='28-36'!$O$10 -> 5 | M23: ='28-36'!$O$11 -> 3 | N23: ='28-36'!$O$12 -> 1 | O23: ='28-36'!$O$13 -> 8 | P23: ='28-36'!$O$14 -> 6 | Q23: ='28-36'!$O$15 -> 4 | R23: ='28-36'!$O$16 -> 2 | S23: ='28-36'!$O$17 -> 1 | T23: ='28-36'!$O$18 -> 8 | U23: ='28-36'!$O$19 -> 6 | V23: ='28-36'!$O$20 -> 4 | W23: ='28-36'!$O$21 -> 2 | X23: ='28-36'!$O$22 -> 9 | Y23: ='28-36'!$O$23 -> 7 | Z23: ='28-36'!$O$24 -> 5 | AA23: ='28-36'!$O$25 -> 3 | AB23: ='28-36'!$O$26 -> 1 | AC23: ='28-36'!$O$27 -> 9 | AD23: ='28-36'!$O$28 -> 7 | AE23: ='28-36'!$O$29 -> 5 | AF23: ='28-36'!$O$30 -> 3 | AG23: ='28-36'!$O$31 -> 1 | AH23: ='28-36'!$O$32 -> 8 | AI23: ='28-36'!$O$33 -> 6 | AJ23: ='28-36'!$O$34 -> 4 | AK23: ='28-36'!$O$35 -> 2 | AL23: ='28-36'!$O$36 -> 9 | AM23: ='28-36'!$O$37 -> 7 | AN23: ='28-36'!$O$38 -> 5 | AO23: ='28-36'!$O$39 -> 3 | AP23: ='28-36'!$O$40 -> 1 | AQ23: ='28-36'!$O$41 -> 8 | AR23: ='28-36'!$O$42 -> 6 | AS23: ='28-36'!$O$43 -> 4 | AT23: ='28-36'!$O$44 -> 2 | AU23: ='28-36'!$O$45 -> 9 | AV23: ='28-36'!$O$46 -> 7 | AW23: ='28-36'!$O$47 -> 5 | AX23: ='28-36'!$O$48 -> 3 | AY23: ='28-36'!$O$49 -> 1 | AZ23: ='28-36'!$O$50 -> 8 | BA23: ='28-36'!$O$51 -> 6 | BB23: ='28-36'!$O$52 -> 4 | BC23: ='28-36'!$O$53 -> 2 | BD23: ='28-36'!$O$54 -> 9 | BE23: ='28-36'!$O$55 -> 7 | BF23: ='28-36'!$O$56 -> 5 | BG23: ='28-36'!$O$57 -> 3 | BH23: ='28-36'!$O$58 -> 1 | BI23: ='28-36'!$O$59 -> 8 | BJ23: ='28-36'!$O$60 -> 6 | BK23: ='28-36'!$S$1 -> 4 | BL23: ='28-36'!$S$2 -> 2 | BM23: ='28-36'!$S$3 -> 8 | BN23: ='28-36'!$S$4 -> 6 | BO23: ='28-36'!$S$5 -> 4 | BP23: ='28-36'!$S$6 -> 2 | BQ23: ='28-36'!$S$7 -> 9 | BR23: ='28-36'!$S$8 -> 7 | BS23: ='28-36'!$S$9 -> 5 | BT23: ='28-36'!$S$10 -> 3 | BU23: ='28-36'!$S$11 -> 1 | BV23: ='28-36'!$S$12 -> 8 | BW23: ='28-36'!$S$13 -> 5 | BX23: ='28-36'!$S$14 -> 3 | BY23: ='28-36'!$S$15 -> 1 | BZ23: ='28-36'!$S$16 -> 8 | CA23: ='28-36'!$S$17 -> 6 | CB23: ='28-36'!$S$18 -> 4 | CC23: ='28-36'!$S$19 -> 2 | CD23: ='28-36'!$S$20 -> 9 | CE23: ='28-36'!$S$21 -> 6 | CF23: ='28-36'!$S$22 -> 4 | CG23: ='28-36'!$S$23 -> 2 | CH23: ='28-36'!$S$24 -> 9 | CI23: ='28-36'!$S$25 -> 7 | CJ23: ='28-36'!$S$26 -> 5 | CK23: ='28-36'!$S$27 -> 2 | CL23: ='28-36'!$S$28 -> 9 | CM23: ='28-36'!$S$29 -> 7 | CN23: ='28-36'!$S$30 -> 5
C24: ='28-36'!$S$31 -> 3 | D24: ='28-36'!$S$32 -> 9 | E24: ='28-36'!$S$33 -> 7 | F24: ='28-36'!$S$34 -> 5 | G24: ='28-36'!$S$35 -> 3 | H24: ='28-36'!$S$36 -> 9 | I24: ='28-36'!$S$37 -> 7 | J24: ='28-36'!$S$38 -> 5 | K24: ='28-36'!$S$39 -> 3 | L24: ='28-36'!$S$40 -> 1 | M24: ='28-36'!$S$41 -> 7 | N24: ='28-36'!$S$42 -> 5 | O24: ='28-36'!$S$43 -> 3 | P24: ='28-36'!$S$44 -> 1 | Q24: ='28-36'!$S$45 -> 7 | R24: ='28-36'!$S$46 -> 5 | S24: ='28-36'!$S$47 -> 3 | T24: ='28-36'!$S$48 -> 9 | U24: ='28-36'!$S$49 -> 7 | V24: ='28-36'!$S$50 -> 5 | W24: ='28-36'!$S$51 -> 3 | X24: ='28-36'!$S$52 -> 9 | Y24: ='28-36'!$S$53 -> 7 | Z24: ='28-36'!$S$54 -> 5 | AA24: ='28-36'!$S$55 -> 2 | AB24: ='28-36'!$S$56 -> 9 | AC24: ='28-36'!$S$57 -> 7 | AD24: ='28-36'!$S$58 -> 4 | AE24: ='28-36'!$S$59 -> 2 | AF24: ='28-36'!$S$60 -> 9 | AG24: ='28-36'!$W$1 -> 6 | AH24: ='28-36'!$W$2 -> 4 | AI24: ='28-36'!$W$3 -> 2 | AJ24: ='28-36'!$W$4 -> 8 | AK24: ='28-36'!$W$5 -> 6 | AL24: ='28-36'!$W$6 -> 4 | AM24: ='28-36'!$W$7 -> 1 | AN24: ='28-36'!$W$8 -> 8 | AO24: ='28-36'!$W$9 -> 6 | AP24: ='28-36'!$W$10 -> 3 | AQ24: ='28-36'!$W$11 -> 1 | AR24: ='28-36'!$W$12 -> 8 | AS24: ='28-36'!$W$13 -> 5 | AT24: ='28-36'!$W$14 -> 3 | AU24: ='28-36'!$W$15 -> 9 | AV24: ='28-36'!$W$16 -> 7 | AW24: ='28-36'!$W$17 -> 5 | AX24: ='28-36'!$W$18 -> 2 | AY24: ='28-36'!$W$19 -> 9 | AZ24: ='28-36'!$W$20 -> 6 | BA24: ='28-36'!$W$21 -> 4 | BB24: ='28-36'!$W$22 -> 1 | BC24: ='28-36'!$W$23 -> 8 | BD24: ='28-36'!$W$24 -> 6 | BE24: ='28-36'!$W$25 -> 3 | BF24: ='28-36'!$W$26 -> 1 | BG24: ='28-36'!$W$27 -> 7 | BH24: ='28-36'!$W$28 -> 5 | BI24: ='28-36'!$W$29 -> 2 | BJ24: ='28-36'!$W$30 -> 9 | BK24: ='28-36'!$W$31 -> 6 | BL24: ='28-36'!$W$32 -> 4 | BM24: ='28-36'!$W$33 -> 1 | BN24: ='28-36'!$W$34 -> 8 | BO24: ='28-36'!$W$35 -> 5 | BP24: ='28-36'!$W$36 -> 3 | BQ24: ='28-36'!$W$37 -> 9 | BR24: ='28-36'!$W$38 -> 7 | BS24: ='28-36'!$W$39 -> 4 | BT24: ='28-36'!$W$40 -> 2 | BU24: ='28-36'!$W$41 -> 8 | BV24: ='28-36'!$W$42 -> 6 | BW24: ='28-36'!$W$43 -> 3 | BX24: ='28-36'!$W$44 -> 1 | BY24: ='28-36'!$W$45 -> 7 | BZ24: ='28-36'!$W$46 -> 5 | CA24: ='28-36'!$W$47 -> 2 | CB24: ='28-36'!$W$48 -> 9 | CC24: ='28-36'!$W$49 -> 6 | CD24: ='28-36'!$W$50 -> 4 | CE24: ='28-36'!$W$51 -> 1 | CF24: ='28-36'!$W$52 -> 7 | CG24: ='28-36'!$W$53 -> 5 | CH24: ='28-36'!$W$54 -> 2 | CI24: ='28-36'!$W$55 -> 9 | CJ24: ='28-36'!$W$56 -> 6 | CK24: ='28-36'!$W$57 -> 4 | CL24: ='28-36'!$W$58 -> 1 | CM24: ='28-36'!$W$59 -> 7 | CN24: ='28-36'!$W$60 -> 5
C25: ='28-36'!$AA$1 -> 2 | D25: ='28-36'!$AA$2 -> 9 | E25: ='28-36'!$AA$3 -> 6 | F25: ='28-36'!$AA$4 -> 3 | G25: ='28-36'!$AA$5 -> 1 | H25: ='28-36'!$AA$6 -> 7 | I25: ='28-36'!$AA$7 -> 4 | J25: ='28-36'!$AA$8 -> 2 | K25: ='28-36'!$AA$9 -> 8 | L25: ='28-36'!$AA$10 -> 6 | M25: ='28-36'!$AA$11 -> 3 | N25: ='28-36'!$AA$12 -> 9 | O25: ='28-36'!$AA$13 -> 7 | P25: ='28-36'!$AA$14 -> 4 | Q25: ='28-36'!$AA$15 -> 1 | R25: ='28-36'!$AA$16 -> 8 | S25: ='28-36'!$AA$17 -> 5 | T25: ='28-36'!$AA$18 -> 2 | U25: ='28-36'!$AA$19 -> 8 | V25: ='28-36'!$AA$20 -> 6 | W25: ='28-36'!$AA$21 -> 3 | X25: ='28-36'!$AA$22 -> 9 | Y25: ='28-36'!$AA$23 -> 7 | Z25: ='28-36'!$AA$24 -> 4 | AA25: ='28-36'!$AA$25 -> 1 | AB25: ='28-36'!$AA$26 -> 8 | AC25: ='28-36'!$AA$27 -> 5 | AD25: ='28-36'!$AA$28 -> 2 | AE25: ='28-36'!$AA$29 -> 8 | AF25: ='28-36'!$AA$30 -> 6 | AG25: ='28-36'!$AA$31 -> 3 | AH25: ='28-36'!$AA$32 -> 9 | AI25: ='28-36'!$AA$33 -> 6 | AJ25: ='28-36'!$AA$34 -> 4 | AK25: ='28-36'!$AA$35 -> 1 | AL25: ='28-36'!$AA$36 -> 7 | AM25: ='28-36'!$AA$37 -> 4 | AN25: ='28-36'!$AA$38 -> 2 | AO25: ='28-36'!$AA$39 -> 8 | AP25: ='28-36'!$AA$40 -> 5 | AQ25: ='28-36'!$AA$41 -> 2 | AR25: ='28-36'!$AA$42 -> 8 | AS25: ='28-36'!$AA$43 -> 6 | AT25: ='28-36'!$AA$44 -> 3 | AU25: ='28-36'!$AA$45 -> 9 | AV25: ='28-36'!$AA$46 -> 6 | AW25: ='28-36'!$AA$47 -> 3 | AX25: ='28-36'!$AA$48 -> 9 | AY25: ='28-36'!$AA$49 -> 7 | AZ25: ='28-36'!$AA$50 -> 4 | BA25: ='28-36'!$AA$51 -> 1 | BB25: ='28-36'!$AA$52 -> 7 | BC25: ='28-36'!$AA$53 -> 4 | BD25: ='28-36'!$AA$54 -> 1 | BE25: ='28-36'!$AA$55 -> 8 | BF25: ='28-36'!$AA$56 -> 5 | BG25: ='28-36'!$AA$57 -> 2 | BH25: ='28-36'!$AA$58 -> 8 | BI25: ='28-36'!$AA$59 -> 5 | BJ25: ='28-36'!$AA$60 -> 2 | BK25: ='28-36'!$AE$1 -> 8 | BL25: ='28-36'!$AE$2 -> 5 | BM25: ='28-36'!$AE$3 -> 3 | BN25: ='28-36'!$AE$4 -> 9 | BO25: ='28-36'!$AE$5 -> 6 | BP25: ='28-36'!$AE$6 -> 3 | BQ25: ='28-36'!$AE$7 -> 9 | BR25: ='28-36'!$AE$8 -> 6 | BS25: ='28-36'!$AE$9 -> 3 | BT25: ='28-36'!$AE$10 -> 9 | BU25: ='28-36'!$AE$11 -> 6 | BV25: ='28-36'!$AE$12 -> 3 | BW25: ='28-36'!$AE$13 -> 9 | BX25: ='28-36'!$AE$14 -> 6 | BY25: ='28-36'!$AE$15 -> 3 | BZ25: ='28-36'!$AE$16 -> 9 | CA25: ='28-36'!$AE$17 -> 6 | CB25: ='28-36'!$AE$18 -> 4 | CC25: ='28-36'!$AE$19 -> 1 | CD25: ='28-36'!$AE$20 -> 7 | CE25: ='28-36'!$AE$21 -> 4 | CF25: ='28-36'!$AE$22 -> 1 | CG25: ='28-36'!$AE$23 -> 7 | CH25: ='28-36'!$AE$24 -> 4 | CI25: ='28-36'!$AE$25 -> 1 | CJ25: ='28-36'!$AE$26 -> 7 | CK25: ='28-36'!$AE$27 -> 4 | CL25: ='28-36'!$AE$28 -> 1 | CM25: ='28-36'!$AE$29 -> 7 | CN25: ='28-36'!$AE$30 -> 4
C26: ='28-36'!$AE$31 -> 9 | D26: ='28-36'!$AE$32 -> 6 | E26: ='28-36'!$AE$33 -> 3 | F26: ='28-36'!$AE$34 -> 9 | G26: ='28-36'!$AE$35 -> 6 | H26: ='28-36'!$AE$36 -> 3 | I26: ='28-36'!$AE$37 -> 9 | J26: ='28-36'!$AE$38 -> 6 | K26: ='28-36'!$AE$39 -> 3 | L26: ='28-36'!$AE$40 -> 9 | M26: ='28-36'!$AE$41 -> 6 | N26: ='28-36'!$AE$42 -> 3 | O26: ='28-36'!$AE$43 -> 9 | P26: ='28-36'!$AE$44 -> 6 | Q26: ='28-36'!$AE$45 -> 3 | R26: ='28-36'!$AE$46 -> 8 | S26: ='28-36'!$AE$47 -> 5 | T26: ='28-36'!$AE$48 -> 2 | U26: ='28-36'!$AE$49 -> 8 | V26: ='28-36'!$AE$50 -> 5 | W26: ='28-36'!$AE$51 -> 2 | X26: ='28-36'!$AE$52 -> 8 | Y26: ='28-36'!$AE$53 -> 5 | Z26: ='28-36'!$AE$54 -> 1 | AA26: ='28-36'!$AE$55 -> 7 | AB26: ='28-36'!$AE$56 -> 4 | AC26: ='28-36'!$AE$57 -> 1 | AD26: ='28-36'!$AE$58 -> 7 | AE26: ='28-36'!$AE$59 -> 4 | AF26: ='28-36'!$AE$60 -> 1 | AG26: ='28-36'!$AI$1 -> 6 | AH26: ='28-36'!$AI$2 -> 3 | AI26: ='28-36'!$AI$3 -> 9 | AJ26: ='28-36'!$AI$4 -> 6 | AK26: ='28-36'!$AI$5 -> 3 | AL26: ='28-36'!$AI$6 -> 8 | AM26: ='28-36'!$AI$7 -> 5 | AN26: ='28-36'!$AI$8 -> 2 | AO26: ='28-36'!$AI$9 -> 8 | AP26: ='28-36'!$AI$10 -> 5 | AQ26: ='28-36'!$AI$11 -> 1 | AR26: ='28-36'!$AI$12 -> 7 | AS26: ='28-36'!$AI$13 -> 4 | AT26: ='28-36'!$AI$14 -> 1 | AU26: ='28-36'!$AI$15 -> 6 | AV26: ='28-36'!$AI$16 -> 3 | AW26: ='28-36'!$AI$17 -> 9 | AX26: ='28-36'!$AI$18 -> 6 | AY26: ='28-36'!$AI$19 -> 2 | AZ26: ='28-36'!$AI$20 -> 8 | BA26: ='28-36'!$AI$21 -> 5 | BB26: ='28-36'!$AI$22 -> 2 | BC26: ='28-36'!$AI$23 -> 7 | BD26: ='28-36'!$AI$24 -> 4 | BE26: ='28-36'!$AI$25 -> 1 | BF26: ='28-36'!$AI$26 -> 6 | BG26: ='28-36'!$AI$27 -> 3 | BH26: ='28-36'!$AI$28 -> 9 | BI26: ='28-36'!$AI$29 -> 6 | BJ26: ='28-36'!$AI$30 -> 2 | BK26: ='28-36'!$AI$31 -> 8 | BL26: ='28-36'!$AI$32 -> 5 | BM26: ='28-36'!$AI$33 -> 1 | BN26: ='28-36'!$AI$34 -> 7 | BO26: ='28-36'!$AI$35 -> 4 | BP26: ='28-36'!$AI$36 -> 9 | BQ26: ='28-36'!$AI$37 -> 6 | BR26: ='28-36'!$AI$38 -> 2 | BS26: ='28-36'!$AI$39 -> 8 | BT26: ='28-36'!$AI$40 -> 5 | BU26: ='28-36'!$AI$41 -> 1 | BV26: ='28-36'!$AI$42 -> 7 | BW26: ='28-36'!$AI$43 -> 4 | BX26: ='28-36'!$AI$44 -> 9 | BY26: ='28-36'!$AI$45 -> 6 | BZ26: ='28-36'!$AI$46 -> 2 | CA26: ='28-36'!$AI$47 -> 8 | CB26: ='28-36'!$AI$48 -> 5 | CC26: ='28-36'!$AI$49 -> 1 | CD26: ='28-36'!$AI$50 -> 7 | CE26: ='28-36'!$AI$51 -> 3 | CF26: ='28-36'!$AI$52 -> 9 | CG26: ='28-36'!$AI$53 -> 6 | CH26: ='28-36'!$AI$54 -> 2 | CI26: ='28-36'!$AI$55 -> 8 | CJ26: ='28-36'!$AI$56 -> 4 | CK26: ='28-36'!$AI$57 -> 1 | CL26: ='28-36'!$AI$58 -> 6 | CM26: ='28-36'!$AI$59 -> 3 | CN26: ='28-36'!$AI$60 -> 8
C27: ='37-45'!$C$1 -> 5 | D27: ='37-45'!$C$2 -> 1 | E27: ='37-45'!$C$3 -> 7 | F27: ='37-45'!$C$4 -> 4 | G27: ='37-45'!$C$5 -> 9 | H27: ='37-45'!$C$6 -> 6 | I27: ='37-45'!$C$7 -> 2 | J27: ='37-45'!$C$8 -> 8 | K27: ='37-45'!$C$9 -> 4 | L27: ='37-45'!$C$10 -> 1 | M27: ='37-45'!$C$11 -> 6 | N27: ='37-45'!$C$12 -> 2 | O27: ='37-45'!$C$13 -> 8 | P27: ='37-45'!$C$14 -> 4 | Q27: ='37-45'!$C$15 -> 1 | R27: ='37-45'!$C$16 -> 6 | S27: ='37-45'!$C$17 -> 3 | T27: ='37-45'!$C$18 -> 8 | U27: ='37-45'!$C$19 -> 5 | V27: ='37-45'!$C$20 -> 1 | W27: ='37-45'!$C$21 -> 7 | X27: ='37-45'!$C$22 -> 3 | Y27: ='37-45'!$C$23 -> 8 | Z27: ='37-45'!$C$24 -> 5 | AA27: ='37-45'!$C$25 -> 1 | AB27: ='37-45'!$C$26 -> 7 | AC27: ='37-45'!$C$27 -> 3 | AD27: ='37-45'!$C$28 -> 8 | AE27: ='37-45'!$C$29 -> 5 | AF27: ='37-45'!$C$30 -> 1 | AG27: ='37-45'!$C$31 -> 7 | AH27: ='37-45'!$C$32 -> 3 | AI27: ='37-45'!$C$33 -> 8 | AJ27: ='37-45'!$C$34 -> 5 | AK27: ='37-45'!$C$35 -> 1 | AL27: ='37-45'!$C$36 -> 6 | AM27: ='37-45'!$C$37 -> 3 | AN27: ='37-45'!$C$38 -> 8 | AO27: ='37-45'!$C$39 -> 4 | AP27: ='37-45'!$C$40 -> 1 | AQ27: ='37-45'!$C$41 -> 6 | AR27: ='37-45'!$C$42 -> 2 | AS27: ='37-45'!$C$43 -> 8 | AT27: ='37-45'!$C$44 -> 4 | AU27: ='37-45'!$C$45 -> 9 | AV27: ='37-45'!$C$46 -> 6 | AW27: ='37-45'!$C$47 -> 2 | AX27: ='37-45'!$C$48 -> 7 | AY27: ='37-45'!$C$49 -> 4 | AZ27: ='37-45'!$C$50 -> 9 | BA27: ='37-45'!$C$51 -> 5 | BB27: ='37-45'!$C$52 -> 1 | BC27: ='37-45'!$C$53 -> 7 | BD27: ='37-45'!$C$54 -> 3 | BE27: ='37-45'!$C$55 -> 8 | BF27: ='37-45'!$C$56 -> 4 | BG27: ='37-45'!$C$57 -> 1 | BH27: ='37-45'!$C$58 -> 6 | BI27: ='37-45'!$C$59 -> 2 | BJ27: ='37-45'!$C$60 -> 7 | BK27: ='37-45'!$G$1 -> 4 | BL27: ='37-45'!$G$2 -> 9 | BM27: ='37-45'!$G$3 -> 5 | BN27: ='37-45'!$G$4 -> 1 | BO27: ='37-45'!$G$5 -> 7 | BP27: ='37-45'!$G$6 -> 2 | BQ27: ='37-45'!$G$7 -> 8 | BR27: ='37-45'!$G$8 -> 4 | BS27: ='37-45'!$G$9 -> 9 | BT27: ='37-45'!$G$10 -> 5 | BU27: ='37-45'!$G$11 -> 2 | BV27: ='37-45'!$G$12 -> 7 | BW27: ='37-45'!$G$13 -> 3 | BX27: ='37-45'!$G$14 -> 8 | BY27: ='37-45'!$G$15 -> 4 | BZ27: ='37-45'!$G$16 -> 9 | CA27: ='37-45'!$G$17 -> 6 | CB27: ='37-45'!$G$18 -> 2 | CC27: ='37-45'!$G$19 -> 7 | CD27: ='37-45'!$G$20 -> 3 | CE27: ='37-45'!$G$21 -> 8 | CF27: ='37-45'!$G$22 -> 4 | CG27: ='37-45'!$G$23 -> 9 | CH27: ='37-45'!$G$24 -> 5 | CI27: ='37-45'!$G$25 -> 2 | CJ27: ='37-45'!$G$26 -> 7 | CK27: ='37-45'!$G$27 -> 3 | CL27: ='37-45'!$G$28 -> 8 | CM27: ='37-45'!$G$29 -> 4 | CN27: ='37-45'!$G$30 -> 9
C28: ='37-45'!$G$31 -> 5 | D28: ='37-45'!$G$32 -> 1 | E28: ='37-45'!$G$33 -> 6 | F28: ='37-45'!$G$34 -> 2 | G28: ='37-45'!$G$35 -> 7 | H28: ='37-45'!$G$36 -> 3 | I28: ='37-45'!$G$37 -> 8 | J28: ='37-45'!$G$38 -> 5 | K28: ='37-45'!$G$39 -> 1 | L28: ='37-45'!$G$40 -> 6 | M28: ='37-45'!$G$41 -> 2 | N28: ='37-45'!$G$42 -> 7 | O28: ='37-45'!$G$43 -> 3 | P28: ='37-45'!$G$44 -> 8 | Q28: ='37-45'!$G$45 -> 4 | R28: ='37-45'!$G$46 -> 9 | S28: ='37-45'!$G$47 -> 5 | T28: ='37-45'!$G$48 -> 9 | U28: ='37-45'!$G$49 -> 6 | V28: ='37-45'!$G$50 -> 2 | W28: ='37-45'!$G$51 -> 7 | X28: ='37-45'!$G$52 -> 3 | Y28: ='37-45'!$G$53 -> 7 | Z28: ='37-45'!$G$54 -> 3 | AA28: ='37-45'!$G$55 -> 8 | AB28: ='37-45'!$G$56 -> 4 | AC28: ='37-45'!$G$57 -> 9 | AD28: ='37-45'!$G$58 -> 5 | AE28: ='37-45'!$G$59 -> 1 | AF28: ='37-45'!$G$60 -> 6 | AG28: ='37-45'!$K$1 -> 2 | AH28: ='37-45'!$K$2 -> 7 | AI28: ='37-45'!$K$3 -> 3 | AJ28: ='37-45'!$K$4 -> 8 | AK28: ='37-45'!$K$5 -> 4 | AL28: ='37-45'!$K$6 -> 8 | AM28: ='37-45'!$K$7 -> 4 | AN28: ='37-45'!$K$8 -> 9 | AO28: ='37-45'!$K$9 -> 5 | AP28: ='37-45'!$K$10 -> 1 | AQ28: ='37-45'!$K$11 -> 6 | AR28: ='37-45'!$K$12 -> 2 | AS28: ='37-45'!$K$13 -> 7 | AT28: ='37-45'!$K$14 -> 2 | AU28: ='37-45'!$K$15 -> 7 | AV28: ='37-45'!$K$16 -> 3 | AW28: ='37-45'!$K$17 -> 8 | AX28: ='37-45'!$K$18 -> 4 | AY28: ='37-45'!$K$19 -> 9 | AZ28: ='37-45'!$K$20 -> 4 | BA28: ='37-45'!$K$21 -> 9 | BB28: ='37-45'!$K$22 -> 5 | BC28: ='37-45'!$K$23 -> 1 | BD28: ='37-45'!$K$24 -> 6 | BE28: ='37-45'!$K$25 -> 1 | BF28: ='37-45'!$K$26 -> 6 | BG28: ='37-45'!$K$27 -> 2 | BH28: ='37-45'!$K$28 -> 7 | BI28: ='37-45'!$K$29 -> 3 | BJ28: ='37-45'!$K$30 -> 7 | BK28: ='37-45'!$K$31 -> 3 | BL28: ='37-45'!$K$32 -> 8 | BM28: ='37-45'!$K$33 -> 4 | BN28: ='37-45'!$K$34 -> 8 | BO28: ='37-45'!$K$35 -> 4 | BP28: ='37-45'!$K$36 -> 9 | BQ28: ='37-45'!$K$37 -> 5 | BR28: ='37-45'!$K$38 -> 9 | BS28: ='37-45'!$K$39 -> 5 | BT28: ='37-45'!$K$40 -> 1 | BU28: ='37-45'!$K$41 -> 5 | BV28: ='37-45'!$K$42 -> 1 | BW28: ='37-45'!$K$43 -> 6 | BX28: ='37-45'!$K$44 -> 2 | BY28: ='37-45'!$K$45 -> 6 | BZ28: ='37-45'!$K$46 -> 2 | CA28: ='37-45'!$K$47 -> 7 | CB28: ='37-45'!$K$48 -> 2 | CC28: ='37-45'!$K$49 -> 7 | CD28: ='37-45'!$K$50 -> 3 | CE28: ='37-45'!$K$51 -> 7 | CF28: ='37-45'!$K$52 -> 3 | CG28: ='37-45'!$K$53 -> 8 | CH28: ='37-45'!$K$54 -> 3 | CI28: ='37-45'!$K$55 -> 8 | CJ28: ='37-45'!$K$56 -> 3 | CK28: ='37-45'!$K$57 -> 8 | CL28: ='37-45'!$K$58 -> 4 | CM28: ='37-45'!$K$59 -> 8 | CN28: ='37-45'!$K$60 -> 4
C29: ='37-45'!$O$1 -> 9 | D29: ='37-45'!$O$2 -> 4 | E29: ='37-45'!$O$3 -> 9 | F29: ='37-45'!$O$4 -> 4 | G29: ='37-45'!$O$5 -> 9 | H29: ='37-45'!$O$6 -> 4 | I29: ='37-45'!$O$7 -> 9 | J29: ='37-45'!$O$8 -> 5 | K29: ='37-45'!$O$9 -> 9 | L29: ='37-45'!$O$10 -> 5 | M29: ='37-45'!$O$11 -> 9 | N29: ='37-45'!$O$12 -> 5 | O29: ='37-45'!$O$13 -> 9 | P29: ='37-45'!$O$14 -> 5 | Q29: ='37-45'!$O$15 -> 9 | R29: ='37-45'!$O$16 -> 5 | S29: ='37-45'!$O$17 -> 9 | T29: ='37-45'!$O$18 -> 5 | U29: ='37-45'!$O$19 -> 9 | V29: ='37-45'!$O$20 -> 5 | W29: ='37-45'!$O$21 -> 9 | X29: ='37-45'!$O$22 -> 5 | Y29: ='37-45'!$O$23 -> 9 | Z29: ='37-45'!$O$24 -> 5 | AA29: ='37-45'!$O$25 -> 9 | AB29: ='37-45'!$O$26 -> 5 | AC29: ='37-45'!$O$27 -> 9 | AD29: ='37-45'!$O$28 -> 5 | AE29: ='37-45'!$O$29 -> 9 | AF29: ='37-45'!$O$30 -> 5 | AG29: ='37-45'!$O$31 -> 9 | AH29: ='37-45'!$O$32 -> 5 | AI29: ='37-45'!$O$33 -> 9 | AJ29: ='37-45'!$O$34 -> 4 | AK29: ='37-45'!$O$35 -> 9 | AL29: ='37-45'!$O$36 -> 4 | AM29: ='37-45'!$O$37 -> 9 | AN29: ='37-45'!$O$38 -> 4 | AO29: ='37-45'!$O$39 -> 9 | AP29: ='37-45'!$O$40 -> 4 | AQ29: ='37-45'!$O$41 -> 8 | AR29: ='37-45'!$O$42 -> 4 | AS29: ='37-45'!$O$43 -> 8 | AT29: ='37-45'!$O$44 -> 3 | AU29: ='37-45'!$O$45 -> 8 | AV29: ='37-45'!$O$46 -> 3 | AW29: ='37-45'!$O$47 -> 8 | AX29: ='37-45'!$O$48 -> 3 | AY29: ='37-45'!$O$49 -> 7 | AZ29: ='37-45'!$O$50 -> 3 | BA29: ='37-45'!$O$51 -> 7 | BB29: ='37-45'!$O$52 -> 2 | BC29: ='37-45'!$O$53 -> 7 | BD29: ='37-45'!$O$54 -> 2 | BE29: ='37-45'!$O$55 -> 6 | BF29: ='37-45'!$O$56 -> 1 | BG29: ='37-45'!$O$57 -> 6 | BH29: ='37-45'!$O$58 -> 1 | BI29: ='37-45'!$O$59 -> 5 | BJ29: ='37-45'!$O$60 -> 1 | BK29: ='37-45'!$S$1 -> 5 | BL29: ='37-45'!$S$2 -> 9 | BM29: ='37-45'!$S$3 -> 4 | BN29: ='37-45'!$S$4 -> 9 | BO29: ='37-45'!$S$5 -> 4 | BP29: ='37-45'!$S$6 -> 8 | BQ29: ='37-45'!$S$7 -> 4 | BR29: ='37-45'!$S$8 -> 8 | BS29: ='37-45'!$S$9 -> 3 | BT29: ='37-45'!$S$10 -> 7 | BU29: ='37-45'!$S$11 -> 2 | BV29: ='37-45'!$S$12 -> 7 | BW29: ='37-45'!$S$13 -> 2 | BX29: ='37-45'!$S$14 -> 6 | BY29: ='37-45'!$S$15 -> 1 | BZ29: ='37-45'!$S$16 -> 6 | CA29: ='37-45'!$S$17 -> 1 | CB29: ='37-45'!$S$18 -> 5 | CC29: ='37-45'!$S$19 -> 9 | CD29: ='37-45'!$S$20 -> 4 | CE29: ='37-45'!$S$21 -> 8 | CF29: ='37-45'!$S$22 -> 4 | CG29: ='37-45'!$S$23 -> 8 | CH29: ='37-45'!$S$24 -> 3 | CI29: ='37-45'!$S$25 -> 7 | CJ29: ='37-45'!$S$26 -> 2 | CK29: ='37-45'!$S$27 -> 6 | CL29: ='37-45'!$S$28 -> 1 | CM29: ='37-45'!$S$29 -> 6 | CN29: ='37-45'!$S$30 -> 1
C30: ='37-45'!$S$31 -> 5 | D30: ='37-45'!$S$32 -> 9 | E30: ='37-45'!$S$33 -> 4 | F30: ='37-45'!$S$34 -> 8 | G30: ='37-45'!$S$35 -> 3 | H30: ='37-45'!$S$36 -> 7 | I30: ='37-45'!$S$37 -> 3 | J30: ='37-45'!$S$38 -> 6 | K30: ='37-45'!$S$39 -> 2 | L30: ='37-45'!$S$40 -> 6 | M30: ='37-45'!$S$41 -> 1 | N30: ='37-45'!$S$42 -> 5 | O30: ='37-45'!$S$43 -> 9 | P30: ='37-45'!$S$44 -> 4 | Q30: ='37-45'!$S$45 -> 8 | R30: ='37-45'!$S$46 -> 3 | S30: ='37-45'!$S$47 -> 7 | T30: ='37-45'!$S$48 -> 2 | U30: ='37-45'!$S$49 -> 6 | V30: ='37-45'!$S$50 -> 1 | W30: ='37-45'!$S$51 -> 5 | X30: ='37-45'!$S$52 -> 9 | Y30: ='37-45'!$S$53 -> 4 | Z30: ='37-45'!$S$54 -> 8 | AA30: ='37-45'!$S$55 -> 3 | AB30: ='37-45'!$S$56 -> 7 | AC30: ='37-45'!$S$57 -> 2 | AD30: ='37-45'!$S$58 -> 6 | AE30: ='37-45'!$S$59 -> 1 | AF30: ='37-45'!$S$60 -> 5 | AG30: ='37-45'!$W$1 -> 9 | AH30: ='37-45'!$W$2 -> 4 | AI30: ='37-45'!$W$3 -> 8 | AJ30: ='37-45'!$W$4 -> 3 | AK30: ='37-45'!$W$5 -> 7 | AL30: ='37-45'!$W$6 -> 1 | AM30: ='37-45'!$W$7 -> 5 | AN30: ='37-45'!$W$8 -> 9 | AO30: ='37-45'!$W$9 -> 4 | AP30: ='37-45'!$W$10 -> 8 | AQ30: ='37-45'!$W$11 -> 3 | AR30: ='37-45'!$W$12 -> 7 | AS30: ='37-45'!$W$13 -> 2 | AT30: ='37-45'!$W$14 -> 6 | AU30: ='37-45'!$W$15 -> 9 | AV30: ='37-45'!$W$16 -> 4 | AW30: ='37-45'!$W$17 -> 8 | AX30: ='37-45'!$W$18 -> 3 | AY30: ='37-45'!$W$19 -> 7 | AZ30: ='37-45'!$W$20 -> 2 | BA30: ='37-45'!$W$21 -> 6 | BB30: ='37-45'!$W$22 -> 9 | BC30: ='37-45'!$W$23 -> 4 | BD30: ='37-45'!$W$24 -> 8 | BE30: ='37-45'!$W$25 -> 3 | BF30: ='37-45'!$W$26 -> 7 | BG30: ='37-45'!$W$27 -> 2 | BH30: ='37-45'!$W$28 -> 5 | BI30: ='37-45'!$W$29 -> 9 | BJ30: ='37-45'!$W$30 -> 4 | BK30: ='37-45'!$W$31 -> 8 | BL30: ='37-45'!$W$32 -> 2 | BM30: ='37-45'!$W$33 -> 6 | BN30: ='37-45'!$W$34 -> 1 | BO30: ='37-45'!$W$35 -> 5 | BP30: ='37-45'!$W$36 -> 9 | BQ30: ='37-45'!$W$37 -> 3 | BR30: ='37-45'!$W$38 -> 7 | BS30: ='37-45'!$W$39 -> 2 | BT30: ='37-45'!$W$40 -> 5 | BU30: ='37-45'!$W$41 -> 9 | BV30: ='37-45'!$W$42 -> 4 | BW30: ='37-45'!$W$43 -> 8 | BX30: ='37-45'!$W$44 -> 2 | BY30: ='37-45'!$W$45 -> 6 | BZ30: ='37-45'!$W$46 -> 1 | CA30: ='37-45'!$W$47 -> 4 | CB30: ='37-45'!$W$48 -> 8 | CC30: ='37-45'!$W$49 -> 3 | CD30: ='37-45'!$W$50 -> 7 | CE30: ='37-45'!$W$51 -> 1 | CF30: ='37-45'!$W$52 -> 5 | CG30: ='37-45'!$W$53 -> 9 | CH30: ='37-45'!$W$54 -> 3 | CI30: ='37-45'!$W$55 -> 7 | CJ30: ='37-45'!$W$56 -> 1 | CK30: ='37-45'!$W$57 -> 5 | CL30: ='37-45'!$W$58 -> 9 | CM30: ='37-45'!$W$59 -> 3 | CN30: ='37-45'!$W$60 -> 7
C31: ='37-45'!$AA$1 -> 2 | D31: ='37-45'!$AA$2 -> 5 | E31: ='37-45'!$AA$3 -> 9 | F31: ='37-45'!$AA$4 -> 3 | G31: ='37-45'!$AA$5 -> 7 | H31: ='37-45'!$AA$6 -> 2 | I31: ='37-45'!$AA$7 -> 5 | J31: ='37-45'!$AA$8 -> 9 | K31: ='37-45'!$AA$9 -> 3 | L31: ='37-45'!$AA$10 -> 7 | M31: ='37-45'!$AA$11 -> 1 | N31: ='37-45'!$AA$12 -> 5 | O31: ='37-45'!$AA$13 -> 9 | P31: ='37-45'!$AA$14 -> 3 | Q31: ='37-45'!$AA$15 -> 7 | R31: ='37-45'!$AA$16 -> 1 | S31: ='37-45'!$AA$17 -> 5 | T31: ='37-45'!$AA$18 -> 8 | U31: ='37-45'!$AA$19 -> 3 | V31: ='37-45'!$AA$20 -> 6 | W31: ='37-45'!$AA$21 -> 1 | X31: ='37-45'!$AA$22 -> 4 | Y31: ='37-45'!$AA$23 -> 8 | Z31: ='37-45'!$AA$24 -> 2 | AA31: ='37-45'!$AA$25 -> 6 | AB31: ='37-45'!$AA$26 -> 9 | AC31: ='37-45'!$AA$27 -> 4 | AD31: ='37-45'!$AA$28 -> 7 | AE31: ='37-45'!$AA$29 -> 1 | AF31: ='37-45'!$AA$30 -> 5 | AG31: ='37-45'!$AA$31 -> 8 | AH31: ='37-45'!$AA$32 -> 3 | AI31: ='37-45'!$AA$33 -> 6 | AJ31: ='37-45'!$AA$34 -> 1 | AK31: ='37-45'!$AA$35 -> 4 | AL31: ='37-45'!$AA$36 -> 8 | AM31: ='37-45'!$AA$37 -> 2 | AN31: ='37-45'!$AA$38 -> 5 | AO31: ='37-45'!$AA$39 -> 9 | AP31: ='37-45'!$AA$40 -> 3 | AQ31: ='37-45'!$AA$41 -> 6 | AR31: ='37-45'!$AA$42 -> 1 | AS31: ='37-45'!$AA$43 -> 4 | AT31: ='37-45'!$AA$44 -> 8 | AU31: ='37-45'!$AA$45 -> 2 | AV31: ='37-45'!$AA$46 -> 5 | AW31: ='37-45'!$AA$47 -> 9 | AX31: ='37-45'!$AA$48 -> 3 | AY31: ='37-45'!$AA$49 -> 6 | AZ31: ='37-45'!$AA$50 -> 1 | BA31: ='37-45'!$AA$51 -> 4 | BB31: ='37-45'!$AA$52 -> 7 | BC31: ='37-45'!$AA$53 -> 2 | BD31: ='37-45'!$AA$54 -> 5 | BE31: ='37-45'!$AA$55 -> 8 | BF31: ='37-45'!$AA$56 -> 3 | BG31: ='37-45'!$AA$57 -> 6 | BH31: ='37-45'!$AA$58 -> 9 | BI31: ='37-45'!$AA$59 -> 3 | BJ31: ='37-45'!$AA$60 -> 7 | BK31: ='37-45'!$AE$1 -> 1 | BL31: ='37-45'!$AE$2 -> 4 | BM31: ='37-45'!$AE$3 -> 8 | BN31: ='37-45'!$AE$4 -> 2 | BO31: ='37-45'!$AE$5 -> 5 | BP31: ='37-45'!$AE$6 -> 8 | BQ31: ='37-45'!$AE$7 -> 3 | BR31: ='37-45'!$AE$8 -> 6 | BS31: ='37-45'!$AE$9 -> 9 | BT31: ='37-45'!$AE$10 -> 3 | BU31: ='37-45'!$AE$11 -> 6 | BV31: ='37-45'!$AE$12 -> 1 | BW31: ='37-45'!$AE$13 -> 4 | BX31: ='37-45'!$AE$14 -> 7 | BY31: ='37-45'!$AE$15 -> 1 | BZ31: ='37-45'!$AE$16 -> 4 | CA31: ='37-45'!$AE$17 -> 8 | CB31: ='37-45'!$AE$18 -> 2 | CC31: ='37-45'!$AE$19 -> 5 | CD31: ='37-45'!$AE$20 -> 8 | CE31: ='37-45'!$AE$21 -> 2 | CF31: ='37-45'!$AE$22 -> 5 | CG31: ='37-45'!$AE$23 -> 9 | CH31: ='37-45'!$AE$24 -> 3 | CI31: ='37-45'!$AE$25 -> 6 | CJ31: ='37-45'!$AE$26 -> 9 | CK31: ='37-45'!$AE$27 -> 3 | CL31: ='37-45'!$AE$28 -> 6 | CM31: ='37-45'!$AE$29 -> 9 | CN31: ='37-45'!$AE$30 -> 3
C32: ='37-45'!$AE$31 -> 6 | D32: ='37-45'!$AE$32 -> 1 | E32: ='37-45'!$AE$33 -> 4 | F32: ='37-45'!$AE$34 -> 7 | G32: ='37-45'!$AE$35 -> 1 | H32: ='37-45'!$AE$36 -> 4 | I32: ='37-45'!$AE$37 -> 7 | J32: ='37-45'!$AE$38 -> 1 | K32: ='37-45'!$AE$39 -> 4 | L32: ='37-45'!$AE$40 -> 7 | M32: ='37-45'!$AE$41 -> 1 | N32: ='37-45'!$AE$42 -> 4 | O32: ='37-45'!$AE$43 -> 7 | P32: ='37-45'!$AE$44 -> 1 | Q32: ='37-45'!$AE$45 -> 4 | R32: ='37-45'!$AE$46 -> 7 | S32: ='37-45'!$AE$47 -> 1 | T32: ='37-45'!$AE$48 -> 4 | U32: ='37-45'!$AE$49 -> 7 | V32: ='37-45'!$AE$50 -> 1 | W32: ='37-45'!$AE$51 -> 4 | X32: ='37-45'!$AE$52 -> 7 | Y32: ='37-45'!$AE$53 -> 1 | Z32: ='37-45'!$AE$54 -> 4 | AA32: ='37-45'!$AE$55 -> 7 | AB32: ='37-45'!$AE$56 -> 1 | AC32: ='37-45'!$AE$57 -> 4 | AD32: ='37-45'!$AE$58 -> 7 | AE32: ='37-45'!$AE$59 -> 1 | AF32: ='37-45'!$AE$60 -> 4 | AG32: ='37-45'!$AI$1 -> 7 | AH32: ='37-45'!$AI$2 -> 1 | AI32: ='37-45'!$AI$3 -> 3 | AJ32: ='37-45'!$AI$4 -> 6 | AK32: ='37-45'!$AI$5 -> 9 | AL32: ='37-45'!$AI$6 -> 3 | AM32: ='37-45'!$AI$7 -> 6 | AN32: ='37-45'!$AI$8 -> 9 | AO32: ='37-45'!$AI$9 -> 3 | AP32: ='37-45'!$AI$10 -> 6 | AQ32: ='37-45'!$AI$11 -> 9 | AR32: ='37-45'!$AI$12 -> 2 | AS32: ='37-45'!$AI$13 -> 5 | AT32: ='37-45'!$AI$14 -> 8 | AU32: ='37-45'!$AI$15 -> 2 | AV32: ='37-45'!$AI$16 -> 5 | AW32: ='37-45'!$AI$17 -> 8 | AX32: ='37-45'!$AI$18 -> 1 | AY32: ='37-45'!$AI$19 -> 4 | AZ32: ='37-45'!$AI$20 -> 7 | BA32: ='37-45'!$AI$21 -> 1 | BB32: ='37-45'!$AI$22 -> 4 | BC32: ='37-45'!$AI$23 -> 6 | BD32: ='37-45'!$AI$24 -> 9 | BE32: ='37-45'!$AI$25 -> 3 | BF32: ='37-45'!$AI$26 -> 6 | BG32: ='37-45'!$AI$27 -> 9 | BH32: ='37-45'!$AI$28 -> 2 | BI32: ='37-45'!$AI$29 -> 5 | BJ32: ='37-45'!$AI$30 -> 8 | BK32: ='37-45'!$AI$31 -> 2 | BL32: ='37-45'!$AI$32 -> 4 | BM32: ='37-45'!$AI$33 -> 7 | BN32: ='37-45'!$AI$34 -> 1 | BO32: ='37-45'!$AI$35 -> 3 | BP32: ='37-45'!$AI$36 -> 6 | BQ32: ='37-45'!$AI$37 -> 9 | BR32: ='37-45'!$AI$38 -> 3 | BS32: ='37-45'!$AI$39 -> 5 | BT32: ='37-45'!$AI$40 -> 8 | BU32: ='37-45'!$AI$41 -> 2 | BV32: ='37-45'!$AI$42 -> 4 | BW32: ='37-45'!$AI$43 -> 7 | BX32: ='37-45'!$AI$44 -> 1 | BY32: ='37-45'!$AI$45 -> 3 | BZ32: ='37-45'!$AI$46 -> 6 | CA32: ='37-45'!$AI$47 -> 9 | CB32: ='37-45'!$AI$48 -> 2 | CC32: ='37-45'!$AI$49 -> 5 | CD32: ='37-45'!$AI$50 -> 8 | CE32: ='37-45'!$AI$51 -> 1 | CF32: ='37-45'!$AI$52 -> 4 | CG32: ='37-45'!$AI$53 -> 6 | CH32: ='37-45'!$AI$54 -> 9 | CI32: ='37-45'!$AI$55 -> 3 | CJ32: ='37-45'!$AI$56 -> 5 | CK32: ='37-45'!$AI$57 -> 8 | CL32: ='37-45'!$AI$58 -> 1 | CM32: ='37-45'!$AI$59 -> 4 | CN32: ='37-45'!$AI$60 -> 7
C33: ='46-54'!$C$1 -> 9 | D33: ='46-54'!$C$2 -> 3 | E33: ='46-54'!$C$3 -> 5 | F33: ='46-54'!$C$4 -> 8 | G33: ='46-54'!$C$5 -> 1 | H33: ='46-54'!$C$6 -> 4 | I33: ='46-54'!$C$7 -> 6 | J33: ='46-54'!$C$8 -> 9 | K33: ='46-54'!$C$9 -> 2 | L33: ='46-54'!$C$10 -> 5 | M33: ='46-54'!$C$11 -> 7 | N33: ='46-54'!$C$12 -> 1 | O33: ='46-54'!$C$13 -> 3 | P33: ='46-54'!$C$14 -> 6 | Q33: ='46-54'!$C$15 -> 8 | R33: ='46-54'!$C$16 -> 2 | S33: ='46-54'!$C$17 -> 4 | T33: ='46-54'!$C$18 -> 7 | U33: ='46-54'!$C$19 -> 9 | V33: ='46-54'!$C$20 -> 3 | W33: ='46-54'!$C$21 -> 5 | X33: ='46-54'!$C$22 -> 8 | Y33: ='46-54'!$C$23 -> 1 | Z33: ='46-54'!$C$24 -> 4 | AA33: ='46-54'!$C$25 -> 6 | AB33: ='46-54'!$C$26 -> 8 | AC33: ='46-54'!$C$27 -> 2 | AD33: ='46-54'!$C$28 -> 4 | AE33: ='46-54'!$C$29 -> 7 | AF33: ='46-54'!$C$30 -> 9 | AG33: ='46-54'!$C$31 -> 2 | AH33: ='46-54'!$C$32 -> 5 | AI33: ='46-54'!$C$33 -> 7 | AJ33: ='46-54'!$C$34 -> 9 | AK33: ='46-54'!$C$35 -> 3 | AL33: ='46-54'!$C$36 -> 5 | AM33: ='46-54'!$C$37 -> 8 | AN33: ='46-54'!$C$38 -> 1 | AO33: ='46-54'!$C$39 -> 3 | AP33: ='46-54'!$C$40 -> 6 | AQ33: ='46-54'!$C$41 -> 8 | AR33: ='46-54'!$C$42 -> 1 | AS33: ='46-54'!$C$43 -> 3 | AT33: ='46-54'!$C$44 -> 6 | AU33: ='46-54'!$C$45 -> 8 | AV33: ='46-54'!$C$46 -> 1 | AW33: ='46-54'!$C$47 -> 4 | AX33: ='46-54'!$C$48 -> 6 | AY33: ='46-54'!$C$49 -> 8 | AZ33: ='46-54'!$C$50 -> 2 | BA33: ='46-54'!$C$51 -> 4 | BB33: ='46-54'!$C$52 -> 6 | BC33: ='46-54'!$C$53 -> 8 | BD33: ='46-54'!$C$54 -> 2 | BE33: ='46-54'!$C$55 -> 4 | BF33: ='46-54'!$C$56 -> 6 | BG33: ='46-54'!$C$57 -> 8 | BH33: ='46-54'!$C$58 -> 1 | BI33: ='46-54'!$C$59 -> 4 | BJ33: ='46-54'!$C$60 -> 6 | BK33: ='46-54'!$G$1 -> 8 | BL33: ='46-54'!$G$2 -> 1 | BM33: ='46-54'!$G$3 -> 3 | BN33: ='46-54'!$G$4 -> 6 | BO33: ='46-54'!$G$5 -> 8 | BP33: ='46-54'!$G$6 -> 1 | BQ33: ='46-54'!$G$7 -> 3 | BR33: ='46-54'!$G$8 -> 5 | BS33: ='46-54'!$G$9 -> 7 | BT33: ='46-54'!$G$10 -> 1 | BU33: ='46-54'!$G$11 -> 3 | BV33: ='46-54'!$G$12 -> 5 | BW33: ='46-54'!$G$13 -> 7 | BX33: ='46-54'!$G$14 -> 9 | BY33: ='46-54'!$G$15 -> 2 | BZ33: ='46-54'!$G$16 -> 4 | CA33: ='46-54'!$G$17 -> 7 | CB33: ='46-54'!$G$18 -> 9 | CC33: ='46-54'!$G$19 -> 2 | CD33: ='46-54'!$G$20 -> 4 | CE33: ='46-54'!$G$21 -> 6 | CF33: ='46-54'!$G$22 -> 8 | CG33: ='46-54'!$G$23 -> 1 | CH33: ='46-54'!$G$24 -> 3 | CI33: ='46-54'!$G$25 -> 5 | CJ33: ='46-54'!$G$26 -> 7 | CK33: ='46-54'!$G$27 -> 9 | CL33: ='46-54'!$G$28 -> 2 | CM33: ='46-54'!$G$29 -> 4 | CN33: ='46-54'!$G$30 -> 6
C34: ='46-54'!$G$31 -> 8 | D34: ='46-54'!$G$32 -> 1 | E34: ='46-54'!$G$33 -> 3 | F34: ='46-54'!$G$34 -> 5 | G34: ='46-54'!$G$35 -> 7 | H34: ='46-54'!$G$36 -> 9 | I34: ='46-54'!$G$37 -> 2 | J34: ='46-54'!$G$38 -> 4 | K34: ='46-54'!$G$39 -> 6 | L34: ='46-54'!$G$40 -> 8 | M34: ='46-54'!$G$41 -> 1 | N34: ='46-54'!$G$42 -> 3 | O34: ='46-54'!$G$43 -> 5 | P34: ='46-54'!$G$44 -> 7 | Q34: ='46-54'!$G$45 -> 9 | R34: ='46-54'!$G$46 -> 2 | S34: ='46-54'!$G$47 -> 4 | T34: ='46-54'!$G$48 -> 6 | U34: ='46-54'!$G$49 -> 8 | V34: ='46-54'!$G$50 -> 1 | W34: ='46-54'!$G$51 -> 2 | X34: ='46-54'!$G$52 -> 4 | Y34: ='46-54'!$G$53 -> 6 | Z34: ='46-54'!$G$54 -> 8 | AA34: ='46-54'!$G$55 -> 1 | AB34: ='46-54'!$G$56 -> 3 | AC34: ='46-54'!$G$57 -> 5 | AD34: ='46-54'!$G$58 -> 7 | AE34: ='46-54'!$G$59 -> 8 | AF34: ='46-54'!$G$60 -> 1 | AG34: ='46-54'!$K$1 -> 3 | AH34: ='46-54'!$K$2 -> 5 | AI34: ='46-54'!$K$3 -> 7 | AJ34: ='46-54'!$K$4 -> 9 | AK34: ='46-54'!$K$5 -> 1 | AL34: ='46-54'!$K$6 -> 3 | AM34: ='46-54'!$K$7 -> 5 | AN34: ='46-54'!$K$8 -> 7 | AO34: ='46-54'!$K$9 -> 9 | AP34: ='46-54'!$K$10 -> 1 | AQ34: ='46-54'!$K$11 -> 3 | AR34: ='46-54'!$K$12 -> 5 | AS34: ='46-54'!$K$13 -> 7 | AT34: ='46-54'!$K$14 -> 8 | AU34: ='46-54'!$K$15 -> 1 | AV34: ='46-54'!$K$16 -> 3 | AW34: ='46-54'!$K$17 -> 5 | AX34: ='46-54'!$K$18 -> 6 | AY34: ='46-54'!$K$19 -> 8 | AZ34: ='46-54'!$K$20 -> 1 | BA34: ='46-54'!$K$21 -> 3 | BB34: ='46-54'!$K$22 -> 4 | BC34: ='46-54'!$K$23 -> 6 | BD34: ='46-54'!$K$24 -> 8 | BE34: ='46-54'!$K$25 -> 9 | BF34: ='46-54'!$K$26 -> 2 | BG34: ='46-54'!$K$27 -> 4 | BH34: ='46-54'!$K$28 -> 5 | BI34: ='46-54'!$K$29 -> 7 | BJ34: ='46-54'!$K$30 -> 9 | BK34: ='46-54'!$K$31 -> 1 | BL34: ='46-54'!$K$32 -> 3 | BM34: ='46-54'!$K$33 -> 5 | BN34: ='46-54'!$K$34 -> 6 | BO34: ='46-54'!$K$35 -> 8 | BP34: ='46-54'!$K$36 -> 9 | BQ34: ='46-54'!$K$37 -> 2 | BR34: ='46-54'!$K$38 -> 4 | BS34: ='46-54'!$K$39 -> 5 | BT34: ='46-54'!$K$40 -> 7 | BU34: ='46-54'!$K$41 -> 8 | BV34: ='46-54'!$K$42 -> 1 | BW34: ='46-54'!$K$43 -> 3 | BX34: ='46-54'!$K$44 -> 4 | BY34: ='46-54'!$K$45 -> 6 | BZ34: ='46-54'!$K$46 -> 7 | CA34: ='46-54'!$K$47 -> 9 | CB34: ='46-54'!$K$48 -> 1 | CC34: ='46-54'!$K$49 -> 3 | CD34: ='46-54'!$K$50 -> 4 | CE34: ='46-54'!$K$51 -> 6 | CF34: ='46-54'!$K$52 -> 7 | CG34: ='46-54'!$K$53 -> 9 | CH34: ='46-54'!$K$54 -> 1 | CI34: ='46-54'!$K$55 -> 3 | CJ34: ='46-54'!$K$56 -> 4 | CK34: ='46-54'!$K$57 -> 6 | CL34: ='46-54'!$K$58 -> 7 | CM34: ='46-54'!$K$59 -> 9 | CN34: ='46-54'!$K$60 -> 1
C35: ='46-54'!$O$1 -> 3 | D35: ='46-54'!$O$2 -> 4 | E35: ='46-54'!$O$3 -> 6 | F35: ='46-54'!$O$4 -> 7 | G35: ='46-54'!$O$5 -> 9 | H35: ='46-54'!$O$6 -> 1 | I35: ='46-54'!$O$7 -> 2 | J35: ='46-54'!$O$8 -> 4 | K35: ='46-54'!$O$9 -> 5 | L35: ='46-54'!$O$10 -> 7 | M35: ='46-54'!$O$11 -> 8 | N35: ='46-54'!$O$12 -> 1 | O35: ='46-54'!$O$13 -> 2 | P35: ='46-54'!$O$14 -> 3 | Q35: ='46-54'!$O$15 -> 5 | R35: ='46-54'!$O$16 -> 6 | S35: ='46-54'!$O$17 -> 7 | T35: ='46-54'!$O$18 -> 9 | U35: ='46-54'!$O$19 -> 1 | V35: ='46-54'!$O$20 -> 2 | W35: ='46-54'!$O$21 -> 4 | X35: ='46-54'!$O$22 -> 5 | Y35: ='46-54'!$O$23 -> 6 | Z35: ='46-54'!$O$24 -> 8 | AA35: ='46-54'!$O$25 -> 9 | AB35: ='46-54'!$O$26 -> 1 | AC35: ='46-54'!$O$27 -> 3 | AD35: ='46-54'!$O$28 -> 4 | AE35: ='46-54'!$O$29 -> 5 | AF35: ='46-54'!$O$30 -> 6 | AG35: ='46-54'!$O$31 -> 8 | AH35: ='46-54'!$O$32 -> 9 | AI35: ='46-54'!$O$33 -> 1 | AJ35: ='46-54'!$O$34 -> 3 | AK35: ='46-54'!$O$35 -> 4 | AL35: ='46-54'!$O$36 -> 5 | AM35: ='46-54'!$O$37 -> 6 | AN35: ='46-54'!$O$38 -> 7 | AO35: ='46-54'!$O$39 -> 9 | AP35: ='46-54'!$O$40 -> 1 | AQ35: ='46-54'!$O$41 -> 2 | AR35: ='46-54'!$O$42 -> 3 | AS35: ='46-54'!$O$43 -> 5 | AT35: ='46-54'!$O$44 -> 6 | AU35: ='46-54'!$O$45 -> 7 | AV35: ='46-54'!$O$46 -> 8 | AW35: ='46-54'!$O$47 -> 9 | AX35: ='46-54'!$O$48 -> 1 | AY35: ='46-54'!$O$49 -> 3 | AZ35: ='46-54'!$O$50 -> 4 | BA35: ='46-54'!$O$51 -> 5 | BB35: ='46-54'!$O$52 -> 6 | BC35: ='46-54'!$O$53 -> 7 | BD35: ='46-54'!$O$54 -> 8 | BE35: ='46-54'!$O$55 -> 9 | BF35: ='46-54'!$O$56 -> 1 | BG35: ='46-54'!$O$57 -> 3 | BH35: ='46-54'!$O$58 -> 4 | BI35: ='46-54'!$O$59 -> 5 | BJ35: ='46-54'!$O$60 -> 6 | BK35: ='46-54'!$S$1 -> 7 | BL35: ='46-54'!$S$2 -> 8 | BM35: ='46-54'!$S$3 -> 9 | BN35: ='46-54'!$S$4 -> 1 | BO35: ='46-54'!$S$5 -> 2 | BP35: ='46-54'!$S$6 -> 3 | BQ35: ='46-54'!$S$7 -> 4 | BR35: ='46-54'!$S$8 -> 5 | BS35: ='46-54'!$S$9 -> 6 | BT35: ='46-54'!$S$10 -> 7 | BU35: ='46-54'!$S$11 -> 8 | BV35: ='46-54'!$S$12 -> 1 | BW35: ='46-54'!$S$13 -> 1 | BX35: ='46-54'!$S$14 -> 2 | BY35: ='46-54'!$S$15 -> 3 | BZ35: ='46-54'!$S$16 -> 4 | CA35: ='46-54'!$S$17 -> 5 | CB35: ='46-54'!$S$18 -> 6 | CC35: ='46-54'!$S$19 -> 7 | CD35: ='46-54'!$S$20 -> 8 | CE35: ='46-54'!$S$21 -> 9 | CF35: ='46-54'!$S$22 -> 1 | CG35: ='46-54'!$S$23 -> 2 | CH35: ='46-54'!$S$24 -> 3 | CI35: ='46-54'!$S$25 -> 4 | CJ35: ='46-54'!$S$26 -> 5 | CK35: ='46-54'!$S$27 -> 6 | CL35: ='46-54'!$S$28 -> 7 | CM35: ='46-54'!$S$29 -> 8 | CN35: ='46-54'!$S$30 -> 9
C36: ='46-54'!$S$31 -> 9 | D36: ='46-54'!$S$32 -> 1 | E36: ='46-54'!$S$33 -> 2 | F36: ='46-54'!$S$34 -> 3 | G36: ='46-54'!$S$35 -> 4 | H36: ='46-54'!$S$36 -> 5 | I36: ='46-54'!$S$37 -> 6 | J36: ='46-54'!$S$38 -> 6 | K36: ='46-54'!$S$39 -> 7 | L36: ='46-54'!$S$40 -> 8 | M36: ='46-54'!$S$41 -> 9 | N36: ='46-54'!$S$42 -> 1 | O36: ='46-54'!$S$43 -> 2 | P36: ='46-54'!$S$44 -> 2 | Q36: ='46-54'!$S$45 -> 3 | R36: ='46-54'!$S$46 -> 4 | S36: ='46-54'!$S$47 -> 5 | T36: ='46-54'!$S$48 -> 6 | U36: ='46-54'!$S$49 -> 6 | V36: ='46-54'!$S$50 -> 7 | W36: ='46-54'!$S$51 -> 8 | X36: ='46-54'!$S$52 -> 9 | Y36: ='46-54'!$S$53 -> 9 | Z36: ='46-54'!$S$54 -> 1 | AA36: ='46-54'!$S$55 -> 2 | AB36: ='46-54'!$S$56 -> 3 | AC36: ='46-54'!$S$57 -> 3 | AD36: ='46-54'!$S$58 -> 4 | AE36: ='46-54'!$S$59 -> 5 | AF36: ='46-54'!$S$60 -> 5 | AG36: ='46-54'!$W$1 -> 6 | AH36: ='46-54'!$W$2 -> 7 | AI36: ='46-54'!$W$3 -> 7 | AJ36: ='46-54'!$W$4 -> 8 | AK36: ='46-54'!$W$5 -> 9 | AL36: ='46-54'!$W$6 -> 9 | AM36: ='46-54'!$W$7 -> 1 | AN36: ='46-54'!$W$8 -> 2 | AO36: ='46-54'!$W$9 -> 2 | AP36: ='46-54'!$W$10 -> 3 | AQ36: ='46-54'!$W$11 -> 4 | AR36: ='46-54'!$W$12 -> 4 | AS36: ='46-54'!$W$13 -> 5 | AT36: ='46-54'!$W$14 -> 5 | AU36: ='46-54'!$W$15 -> 6 | AV36: ='46-54'!$W$16 -> 7 | AW36: ='46-54'!$W$17 -> 7 | AX36: ='46-54'!$W$18 -> 8 | AY36: ='46-54'!$W$19 -> 8 | AZ36: ='46-54'!$W$20 -> 9 | BA36: ='46-54'!$W$21 -> 1 | BB36: ='46-54'!$W$22 -> 1 | BC36: ='46-54'!$W$23 -> 2 | BD36: ='46-54'!$W$24 -> 2 | BE36: ='46-54'!$W$25 -> 3 | BF36: ='46-54'!$W$26 -> 3 | BG36: ='46-54'!$W$27 -> 4 | BH36: ='46-54'!$W$28 -> 4 | BI36: ='46-54'!$W$29 -> 5 | BJ36: ='46-54'!$W$30 -> 5 | BK36: ='46-54'!$W$31 -> 6 | BL36: ='46-54'!$W$32 -> 6 | BM36: ='46-54'!$W$33 -> 7 | BN36: ='46-54'!$W$34 -> 7 | BO36: ='46-54'!$W$35 -> 8 | BP36: ='46-54'!$W$36 -> 8 | BQ36: ='46-54'!$W$37 -> 9 | BR36: ='46-54'!$W$38 -> 9 | BS36: ='46-54'!$W$39 -> 1 | BT36: ='46-54'!$W$40 -> 1 | BU36: ='46-54'!$W$41 -> 1 | BV36: ='46-54'!$W$42 -> 2 | BW36: ='46-54'!$W$43 -> 2 | BX36: ='46-54'!$W$44 -> 3 | BY36: ='46-54'!$W$45 -> 3 | BZ36: ='46-54'!$W$46 -> 4 | CA36: ='46-54'!$W$47 -> 4 | CB36: ='46-54'!$W$48 -> 4 | CC36: ='46-54'!$W$49 -> 5 | CD36: ='46-54'!$W$50 -> 5 | CE36: ='46-54'!$W$51 -> 5 | CF36: ='46-54'!$W$52 -> 6 | CG36: ='46-54'!$W$53 -> 6 | CH36: ='46-54'!$W$54 -> 7 | CI36: ='46-54'!$W$55 -> 7 | CJ36: ='46-54'!$W$56 -> 7 | CK36: ='46-54'!$W$57 -> 8 | CL36: ='46-54'!$W$58 -> 8 | CM36: ='46-54'!$W$59 -> 8 | CN36: ='46-54'!$W$60 -> 9
