Workbook

Sheet 1-9
A1: 00029 | B1: =1+MOD(A1-1, 9) -> 2 | C1: =B1 -> 2 | E1: 01774 | F1: =1+MOD(E1-1, 9) -> 1 | G1: =F1 -> 1 | I1: 03519 | J1: =1+MOD(I1-1, 9) -> 9 | K1: =J1 -> 9 | M1: 05263 | N1: =1+MOD(M1-1, 9) -> 7 | O1: =N1 -> 7 | Q1: 07005 | R1: =1+MOD(Q1-1, 9) -> 3 | S1: =R1 -> 3 | U1: 08744 | V1: =1+MOD(U1-1, 9) -> 5 | W1: =V1 -> 5 | Y1: 10482 | Z1: =1+MOD(Y1-1, 9) -> 6 | AA1: =Z1 -> 6 | AC1: 12216 | AD1: =1+MOD(AC1-1, 9) -> 3 | AE1: =AD1 -> 3 | AG1: 13946 | AH1: =1+MOD(AG1-1, 9) -> 5 | AI1: =AH1 -> 5 | AK1: 1 = RED
A2: 00058 | B2: =1+MOD(A2-1, 9) -> 4 | C2: =B2 -> 4 | E2: 01803 | F2: =1+MOD(E2-1, 9) -> 3 | G2: =F2 -> 3 | I2: 03548 | J2: =1+MOD(I2-1, 9) -> 2 | K2: =J2 -> 2 | M2: 05292 | N2: =1+MOD(M2-1, 9) -> 9 | O2: =N2 -> 9 | Q2: 07034 | R2: =1+MOD(Q2-1, 9) -> 5 | S2: =R2 -> 5 | U2: 08773 | V2: =1+MOD(U2-1, 9) -> 7 | W2: =V2 -> 7 | Y2: 10511 | Z2: =1+MOD(Y2-1, 9) -> 8 | AA2: =Z2 -> 8 | AC2: 12245 | AD2: =1+MOD(AC2-1, 9) -> 5 | AE2: =AD2 -> 5 | AG2: 13975 | AH2: =1+MOD(AG2-1, 9) -> 7 | AI2: =AH2 -> 7 | AK2: 2 = GREEN
A3: 00087 | B3: =1+MOD(A3-1, 9) -> 6 | C3: =B3 -> 6 | E3: 01832 | F3: =1+MOD(E3-1, 9) -> 5 | G3: =F3 -> 5 | I3: 03577 | J3: =1+MOD(I3-1, 9) -> 4 | K3: =J3 -> 4 | M3: 05321 | N3: =1+MOD(M3-1, 9) -> 2 | O3: =N3 -> 2 | Q3: 07063 | R3: =1+MOD(Q3-1, 9) -> 7 | S3: =R3 -> 7 | U3: 08802 | V3: =1+MOD(U3-1, 9) -> 9 | W3: =V3 -> 9 | Y3: 10540 | Z3: =1+MOD(Y3-1, 9) -> 1 | AA3: =Z3 -> 1 | AC3: 12273 | AD3: =1+MOD(AC3-1, 9) -> 6 | AE3: =AD3 -> 6 | AG3: 14004 | AH3: =1+MOD(AG3-1, 9) -> 9 | AI3: =AH3 -> 9 | AK3: 3 = BLUE
A4: 00116 | B4: =1+MOD(A4-1, 9) -> 8 | C4: =B4 -> 8 | E4: 01861 | F4: =1+MOD(E4-1, 9) -> 7 | G4: =F4 -> 7 | I4: 03606 | J4: =1+MOD(I4-1, 9) -> 6 | K4: =J4 -> 6 | M4: 05350 | N4: =1+MOD(M4-1, 9) -> 4 | O4: =N4 -> 4 | Q4: 07092 | R4: =1+MOD(Q4-1, 9) -> 9 | S4: =R4 -> 9 | U4: 08831 | V4: =1+MOD(U4-1, 9) -> 2 | W4: =V4 -> 2 | Y4: 10568 | Z4: =1+MOD(Y4-1, 9) -> 2 | AA4: =Z4 -> 2 | AC4: 12302 | AD4: =1+MOD(AC4-1, 9) -> 8 | AE4: =AD4 -> 8 | AG4: 14032 | AH4: =1+MOD(AG4-1, 9) -> 1 | AI4: =AH4 -> 1 | AK4: 4 = YELLOW
A5: 00145 | B5: =1+MOD(A5-1, 9) -> 1 | C5: =B5 -> 1 | E5: 01891 | F5: =1+MOD(E5-1, 9) -> 1 | G5: =F5 -> 1 | I5: 03635 | J5: =1+MOD(I5-1, 9) -> 8 | K5: =J5 -> 8 | M5: 05379 | N5: =1+MOD(M5-1, 9) -> 6 | O5: =N5 -> 6 | Q5: 07121 | R5: =1+MOD(Q5-1, 9) -> 2 | S5: =R5 -> 2 | U5: 08860 | V5: =1+MOD(U5-1, 9) -> 4 | W5: =V5 -> 4 | Y5: 10597 | Z5: =1+MOD(Y5-1, 9) -> 4 | AA5: =Z5 -> 4 | AC5: 12331 | AD5: =1+MOD(AC5-1, 9) -> 1 | AE5: =AD5 -> 1 | AG5: 14061 | AH5: =1+MOD(AG5-1, 9) -> 3 | AI5: =AH5 -> 3 | AK5: 5 = CYAN
A6: 00174 | B6: =1+MOD(A6-1, 9) -> 3 | C6: =B6 -> 3 | E6: 01920 | F6: =1+MOD(E6-1, 9) -> 3 | G6: =F6 -> 3 | I6: 03664 | J6: =1+MOD(I6-1, 9) -> 1 | K6: =J6 -> 1 | M6: 05408 | N6: =1+MOD(M6-1, 9) -> 8 | O6: =N6 -> 8 | Q6: 07150 | R6: =1+MOD(Q6-1, 9) -> 4 | S6: =R6 -> 4 | U6: 08889 | V6: =1+MOD(U6-1, 9) -> 6 | W6: =V6 -> 6 | Y6: 10626 | Z6: =1+MOD(Y6-1, 9) -> 6 | AA6: =Z6 -> 6 | AC6: 12360 | AD6: =1+MOD(AC6-1, 9) -> 3 | AE6: =AD6 -> 3 | AG6: 14090 | AH6: =1+MOD(AG6-1, 9) -> 5 | AI6: =AH6 -> 5 | AK6: 6 = PURPLE
A7: 00204 | B7: =1+MOD(A7-1, 9) -> 6 | C7: =B7 -> 6 | E7: 01949 | F7: =1+MOD(E7-1, 9) -> 5 | G7: =F7 -> 5 | I7: 03693 | J7: =1+MOD(I7-1, 9) -> 3 | K7: =J7 -> 3 | M7: 05437 | N7: =1+MOD(M7-1, 9) -> 1 | O7: =N7 -> 1 | Q7: 07179 | R7: =1+MOD(Q7-1, 9) -> 6 | S7: =R7 -> 6 | U7: 08918 | V7: =1+MOD(U7-1, 9) -> 8 | W7: =V7 -> 8 | Y7: 10655 | Z7: =1+MOD(Y7-1, 9) -> 8 | AA7: =Z7 -> 8 | AC7: 12389 | AD7: =1+MOD(AC7-1, 9) -> 5 | AE7: =AD7 -> 5 | AG7: 14119 | AH7: =1+MOD(AG7-1, 9) -> 7 | AI7: =AH7 -> 7 | AK7: 7 = WHITE
A8: 00233 | B8: =1+MOD(A8-1, 9) -> 8 | C8: =B8 -> 8 | E8: 01978 | F8: =1+MOD(E8-1, 9) -> 7 | G8: =F8 -> 7 | I8: 03722 | J8: =1+MOD(I8-1, 9) -> 5 | K8: =J8 -> 5 | M8: 05466 | N8: =1+MOD(M8-1, 9) -> 3 | O8: =N8 -> 3 | Q8: 07208 | R8: =1+MOD(Q8-1, 9) -> 8 | S8: =R8 -> 8 | U8: 08947 | V8: =1+MOD(U8-1, 9) -> 1 | W8: =V8 -> 1 | Y8: 10684 | Z8: =1+MOD(Y8-1, 9) -> 1 | AA8: =Z8 -> 1 | AC8: 12418 | AD8: =1+MOD(AC8-1, 9) -> 7 | AE8: =AD8 -> 7 | AG8: 14148 | AH8: =1+MOD(AG8-1, 9) -> 9 | AI8: =AH8 -> 9 | AK8: 8 = PINK
A9: 00262 | B9: =1+MOD(A9-1, 9) -> 1 | C9: =B9 -> 1 | E9: 02007 | F9: =1+MOD(E9-1, 9) -> 9 | G9: =F9 -> 9 | I9: 03751 | J9: =1+MOD(I9-1, 9) -> 7 | K9: =J9 -> 7 | M9: 05495 | N9: =1+MOD(M9-1, 9) -> 5 | O9: =N9 -> 5 | Q9: 07237 | R9: =1+MOD(Q9-1, 9) -> 1 | S9: =R9 -> 1 | U9: 08976 | V9: =1+MOD(U9-1, 9) -> 3 | W9: =V9 -> 3 | Y9: 10713 | Z9: =1+MOD(Y9-1, 9) -> 3 | AA9: =Z9 -> 3 | AC9: 12447 | AD9: =1+MOD(AC9-1, 9) -> 9 | AE9: =AD9 -> 9 | AG9: 14176 | AH9: =1+MOD(AG9-1, 9) -> 1 | AI9: =AH9 -> 1 | AK9: 9 = BROWN
A10: 00291 | B10: =1+MOD(A10-1, 9) -> 3 | C10: =B10 -> 3 | E10: 02036 | F10: =1+MOD(E10-1, 9) -> 2 | G10: =F10 -> 2 | I10: 03781 | J10: =1+MOD(I10-1, 9) -> 1 | K10: =J10 -> 1 | M10: 05524 | N10: =1+MOD(M10-1, 9) -> 7 | O10: =N10 -> 7 | Q10: 07266 | R10: =1+MOD(Q10-1, 9) -> 3 | S10: =R10 -> 3 | U10: 09005 | V10: =1+MOD(U10-1, 9) -> 5 | W10: =V10 -> 5 | Y10: 10742 | Z10: =1+MOD(Y10-1, 9) -> 5 | AA10: =Z10 -> 5 | AC10: 12476 | AD10: =1+MOD(AC10-1, 9) -> 2 | AE10: =AD10 -> 2 | AG10: 14205 | AH10: =1+MOD(AG10-1, 9) -> 3 | AI10: =AH10 -> 3
A11: 00320 | B11: =1+MOD(A11-1, 9) -> 5 | C11: =B11 -> 5 | E11: 02065 | F11: =1+MOD(E11-1, 9) -> 4 | G11: =F11 -> 4 | I11: 03810 | J11: =1+MOD(I11-1, 9) -> 3 | K11: =J11 -> 3 | M11: 05553 | N11: =1+MOD(M11-1, 9) -> 9 | O11: =N11 -> 9 | Q11: 07295 | R11: =1+MOD(Q11-1, 9) -> 5 | S11: =R11 -> 5 | U11: 09034 | V11: =1+MOD(U11-1, 9) -> 7 | W11: =V11 -> 7 | Y11: 10771 | Z11: =1+MOD(Y11-1, 9) -> 7 | AA11: =Z11 -> 7 | AC11: 12504 | AD11: =1+MOD(AC11-1, 9) -> 3 | AE11: =AD11 -> 3 | AG11: 14234 | AH11: =1+MOD(AG11-1, 9) -> 5 | AI11: =AH11 -> 5
A12: 00349 | B12: =1+MOD(A12-1, 9) -> 7 | C12: =B12 -> 7 | E12: 02094 | F12: =1+MOD(E12-1, 9) -> 6 | G12: =F12 -> 6 | I12: 03839 | J12: =1+MOD(I12-1, 9) -> 5 | K12: =J12 -> 5 | M12: 05582 | N12: =1+MOD(M12-1, 9) -> 2 | O12: =N12 -> 2 | Q12: 07324 | R12: =1+MOD(Q12-1, 9) -> 7 | S12: =R12 -> 7 | U12: 09063 | V12: =1+MOD(U12-1, 9) -> 9 | W12: =V12 -> 9 | Y12: 10800 | Z12: =1+MOD(Y12-1, 9) -> 9 | AA12: =Z12 -> 9 | AC12: 12533 | AD12: =1+MOD(AC12-1, 9) -> 5 | AE12: =AD12 -> 5 | AG12: 14263 | AH12: =1+MOD(AG12-1, 9) -> 7 | AI12: =AH12 -> 7
A13: 00378 | B13: =1+MOD(A13-1, 9) -> 9 | C13: =B13 -> 9 | E13: 02123 | F13: =1+MOD(E13-1, 9) -> 8 | G13: =F13 -> 8 | I13: 03868 | J13: =1+MOD(I13-1, 9) -> 7 | K13: =J13 -> 7 | M13: 05611 | N13: =1+MOD(M13-1, 9) -> 4 | O13: =N13 -> 4 | Q13: 07353 | R13: =1+MOD(Q13-1, 9) -> 9 | S13: =R13 -> 9 | U13: 09092 | V13: =1+MOD(U13-1, 9) -> 2 | W13: =V13 -> 2 | Y13: 10829 | Z13: =1+MOD(Y13-1, 9) -> 2 | AA13: =Z13 -> 2 | AC13: 12562 | AD13: =1+MOD(AC13-1, 9) -> 7 | AE13: =AD13 -> 7 | AG13: 14292 | AH13: =1+MOD(AG13-1, 9) -> 9 | AI13: =AH13 -> 9
A14: 00407 | B14: =1+MOD(A14-1, 9) -> 2 | C14: =B14 -> 2 | E14: 02152 | F14: =1+MOD(E14-1, 9) -> 1 | G14: =F14 -> 1 | I14: 03897 | J14: =1+MOD(I14-1, 9) -> 9 | K14: =J14 -> 9 | M14: 05640 | N14: =1+MOD(M14-1, 9) -> 6 | O14: =N14 -> 6 | Q14: 07382 | R14: =1+MOD(Q14-1, 9) -> 2 | S14: =R14 -> 2 | U14: 09121 | V14: =1+MOD(U14-1, 9) -> 4 | W14: =V14 -> 4 | Y14: 10858 | Z14: =1+MOD(Y14-1, 9) -> 4 | AA14: =Z14 -> 4 | AC14: 12591 | AD14: =1+MOD(AC14-1, 9) -> 9 | AE14: =AD14 -> 9 | AG14: 14320 | AH14: =1+MOD(AG14-1, 9) -> 1 | AI14: =AH14 -> 1
A15: 00436 | B15: =1+MOD(A15-1, 9) -> 4 | C15: =B15 -> 4 | E15: 02181 | F15: =1+MOD(E15-1, 9) -> 3 | G15: =F15 -> 3 | I15: 03926 | J15: =1+MOD(I15-1, 9) -> 2 | K15: =J15 -> 2 | M15: 05669 | N15: =1+MOD(M15-1, 9) -> 8 | O15: =N15 -> 8 | Q15: 07411 | R15: =1+MOD(Q15-1, 9) -> 4 | S15: =R15 -> 4 | U15: 09150 | V15: =1+MOD(U15-1, 9) -> 6 | W15: =V15 -> 6 | Y15: 10887 | Z15: =1+MOD(Y15-1, 9) -> 6 | AA15: =Z15 -> 6 | AC15: 12620 | AD15: =1+MOD(AC15-1, 9) -> 2 | AE15: =AD15 -> 2 | AG15: 14349 | AH15: =1+MOD(AG15-1, 9) -> 3 | AI15: =AH15 -> 3
A16: 00465 | B16: =1+MOD(A16-1, 9) -> 6 | C16: =B16 -> 6 | E16: 02210 | F16: =1+MOD(E16-1, 9) -> 5 | G16: =F16 -> 5 | I16: 03955 | J16: =1+MOD(I16-1, 9) -> 4 | K16: =J16 -> 4 | M16: 05698 | N16: =1+MOD(M16-1, 9) -> 1 | O16: =N16 -> 1 | Q16: 07440 | R16: =1+MOD(Q16-1, 9) -> 6 | S16: =R16 -> 6 | U16: 09179 | V16: =1+MOD(U16-1, 9) -> 8 | W16: =V16 -> 8 | Y16: 10916 | Z16: =1+MOD(Y16-1, 9) -> 8 | AA16: =Z16 -> 8 | AC16: 12649 | AD16: =1+MOD(AC16-1, 9) -> 4 | AE16: =AD16 -> 4 | AG16: 14378 | AH16: =1+MOD(AG16-1, 9) -> 5 | AI16: =AH16 -> 5
A17: 00494 | B17: =1+MOD(A17-1, 9) -> 8 | C17: =B17 -> 8 | E17: 02240 | F17: =1+MOD(E17-1, 9) -> 8 | G17: =F17 -> 8 | I17: 03984 | J17: =1+MOD(I17-1, 9) -> 6 | K17: =J17 -> 6 | M17: 05727 | N17: =1+MOD(M17-1, 9) -> 3 | O17: =N17 -> 3 | Q17: 07469 | R17: =1+MOD(Q17-1, 9) -> 8 | S17: =R17 -> 8 | U17: 09208 | V17: =1+MOD(U17-1, 9) -> 1 | W17: =V17 -> 1 | Y17: 10944 | Z17: =1+MOD(Y17-1, 9) -> 9 | AA17: =Z17 -> 9 | AC17: 12678 | AD17: =1+MOD(AC17-1, 9) -> 6 | AE17: =AD17 -> 6 | AG17: 14407 | AH17: =1+MOD(AG17-1, 9) -> 7 | AI17: =AH17 -> 7
A18: 00524 | B18: =1+MOD(A18-1, 9) -> 2 | C18: =B18 -> 2 | E18: 02269 | F18: =1+MOD(E18-1, 9) -> 1 | G18: =F18 -> 1 | I18: 04013 | J18: =1+MOD(I18-1, 9) -> 8 | K18: =J18 -> 8 | M18: 05756 | N18: =1+MOD(M18-1, 9) -> 5 | O18: =N18 -> 5 | Q18: 07498 | R18: =1+MOD(Q18-1, 9) -> 1 | S18: =R18 -> 1 | U18: 09237 | V18: =1+MOD(U18-1, 9) -> 3 | W18: =V18 -> 3 | Y18: 10973 | Z18: =1+MOD(Y18-1, 9) -> 2 | AA18: =Z18 -> 2 | AC18: 12706 | AD18: =1+MOD(AC18-1, 9) -> 7 | AE18: =AD18 -> 7 | AG18: 14436 | AH18: =1+MOD(AG18-1, 9) -> 9 | AI18: =AH18 -> 9
A19: 00553 | B19: =1+MOD(A19-1, 9) -> 4 | C19: =B19 -> 4 | E19: 02298 | F19: =1+MOD(E19-1, 9) -> 3 | G19: =F19 -> 3 | I19: 04042 | J19: =1+MOD(I19-1, 9) -> 1 | K19: =J19 -> 1 | M19: 05785 | N19: =1+MOD(M19-1, 9) -> 7 | O19: =N19 -> 7 | Q19: 07527 | R19: =1+MOD(Q19-1, 9) -> 3 | S19: =R19 -> 3 | U19: 09266 | V19: =1+MOD(U19-1, 9) -> 5 | W19: =V19 -> 5 | Y19: 11002 | Z19: =1+MOD(Y19-1, 9) -> 4 | AA19: =Z19 -> 4 | AC19: 12735 | AD19: =1+MOD(AC19-1, 9) -> 9 | AE19: =AD19 -> 9 | AG19: 14464 | AH19: =1+MOD(AG19-1, 9) -> 1 | AI19: =AH19 -> 1
A20: 00582 | B20: =1+MOD(A20-1, 9) -> 6 | C20: =B20 -> 6 | E20: 02326 | F20: =1+MOD(E20-1, 9) -> 4 | G20: =F20 -> 4 | I20: 04071 | J20: =1+MOD(I20-1, 9) -> 3 | K20: =J20 -> 3 | M20: 05814 | N20: =1+MOD(M20-1, 9) -> 9 | O20: =N20 -> 9 | Q20: 07556 | R20: =1+MOD(Q20-1, 9) -> 5 | S20: =R20 -> 5 | U20: 09295 | V20: =1+MOD(U20-1, 9) -> 7 | W20: =V20 -> 7 | Y20: 11031 | Z20: =1+MOD(Y20-1, 9) -> 6 | AA20: =Z20 -> 6 | AC20: 12764 | AD20: =1+MOD(AC20-1, 9) -> 2 | AE20: =AD20 -> 2 | AG20: 14493 | AH20: =1+MOD(AG20-1, 9) -> 3 | AI20: =AH20 -> 3
A21: 00611 | B21: =1+MOD(A21-1, 9) -> 8 | C21: =B21 -> 8 | E21: 02356 | F21: =1+MOD(E21-1, 9) -> 7 | G21: =F21 -> 7 | I21: 04100 | J21: =1+MOD(I21-1, 9) -> 5 | K21: =J21 -> 5 | M21: 05843 | N21: =1+MOD(M21-1, 9) -> 2 | O21: =N21 -> 2 | Q21: 07585 | R21: =1+MOD(Q21-1, 9) -> 7 | S21: =R21 -> 7 | U21: 09324 | V21: =1+MOD(U21-1, 9) -> 9 | W21: =V21 -> 9 | Y21: 11060 | Z21: =1+MOD(Y21-1, 9) -> 8 | AA21: =Z21 -> 8 | AC21: 12793 | AD21: =1+MOD(AC21-1, 9) -> 4 | AE21: =AD21 -> 4 | AG21: 14522 | AH21: =1+MOD(AG21-1, 9) -> 5 | AI21: =AH21 -> 5
... A60: 01745 | B60: =1+MOD(A60-1, 9) -> 8 | C60: =B60 -> 8 | E60: 03490 | F60: =1+MOD(E60-1, 9) -> 7 | G60: =F60 -> 7 | I60: 05234 | J60: =1+MOD(I60-1, 9) -> 5 | K60: =J60 -> 5 | M60: 06976 | N60: =1+MOD(M60-1, 9) -> 1 | O60: =N60 -> 1 | Q60: 08715 | R60: =1+MOD(Q60-1, 9) -> 3 | S60: =R60 -> 3 | U60: 10453 | V60: =1+MOD(U60-1, 9) -> 4 | W60: =V60 -> 4 | Y60: 12187 | Z60: =1+MOD(Y60-1, 9) -> 1 | AA60: =Z60 -> 1 | AC60: 13917 | AD60: =1+MOD(AC60-1, 9) -> 3 | AE60: =AD60 -> 3 | AG60: 15643 | AH60: =1+MOD(AG60-1, 9) -> 1 | AI60: =AH60 -> 1

Sheet 10-18
A1: 15672 | B1: =1+MOD(A1-1, 9) -> 3 | C1: =B1 -> 3 | E1: 17393 | F1: =1+MOD(E1-1, 9) -> 5 | G1: =F1 -> 5 | I1: 19109 | J1: =1+MOD(I1-1, 9) -> 2 | K1: =J1 -> 2 | M1: 20820 | N1: =1+MOD(M1-1, 9) -> 3 | O1: =N1 -> 3 | Q1: 22523 | R1: =1+MOD(Q1-1, 9) -> 5 | S1: =R1 -> 5 | U1: 24220 | V1: =1+MOD(U1-1, 9) -> 1 | W1: =V1 -> 1 | Y1: 25910 | Z1: =1+MOD(Y1-1, 9) -> 8 | AA1: =Z1 -> 8 | AC1: 27592 | AD1: =1+MOD(AC1-1, 9) -> 7 | AE1: =AD1 -> 7 | AG1: 29265 | AH1: =1+MOD(AG1-1, 9) -> 6 | AI1: =AH1 -> 6 | AK1: 1 = RED
A2: 15701 | B2: =1+MOD(A2-1, 9) -> 5 | C2: =B2 -> 5 | E2: 17422 | F2: =1+MOD(E2-1, 9) -> 7 | G2: =F2 -> 7 | I2: 19138 | J2: =1+MOD(I2-1, 9) -> 4 | K2: =J2 -> 4 | M2: 20848 | N2: =1+MOD(M2-1, 9) -> 4 | O2: =N2 -> 4 | Q2: 22552 | R2: =1+MOD(Q2-1, 9) -> 7 | S2: =R2 -> 7 | U2: 24249 | V2: =1+MOD(U2-1, 9) -> 3 | W2: =V2 -> 3 | Y2: 25938 | Z2: =1+MOD(Y2-1, 9) -> 9 | AA2: =Z2 -> 9 | AC2: 27620 | AD2: =1+MOD(AC2-1, 9) -> 8 | AE2: =AD2 -> 8 | AG2: 29293 | AH2: =1+MOD(AG2-1, 9) -> 7 | AI2: =AH2 -> 7 | AK2: 2 = GREEN
A3: 15730 | B3: =1+MOD(A3-1, 9) -> 7 | C3: =B3 -> 7 | E3: 17451 | F3: =1+MOD(E3-1, 9) -> 9 | G3: =F3 -> 9 | I3: 19166 | J3: =1+MOD(I3-1, 9) -> 5 | K3: =J3 -> 5 | M3: 20876 | N3: =1+MOD(M3-1, 9) -> 5 | O3: =N3 -> 5 | Q3: 22580 | R3: =1+MOD(Q3-1, 9) -> 8 | S3: =R3 -> 8 | U3: 24277 | V3: =1+MOD(U3-1, 9) -> 4 | W3: =V3 -> 4 | Y3: 25966 | Z3: =1+MOD(Y3-1, 9) -> 1 | AA3: =Z3 -> 1 | AC3: 27648 | AD3: =1+MOD(AC3-1, 9) -> 9 | AE3: =AD3 -> 9 | AG3: 29321 | AH3: =1+MOD(AG3-1, 9) -> 8 | AI3: =AH3 -> 8 | AK3: 3 = BLUE
A4: 15758 | B4: =1+MOD(A4-1, 9) -> 8 | C4: =B4 -> 8 | E4: 17479 | F4: =1+MOD(E4-1, 9) -> 1 | G4: =F4 -> 1 | I4: 19195 | J4: =1+MOD(I4-1, 9) -> 7 | K4: =J4 -> 7 | M4: 20905 | N4: =1+MOD(M4-1, 9) -> 7 | O4: =N4 -> 7 | Q4: 22608 | R4: =1+MOD(Q4-1, 9) -> 9 | S4: =R4 -> 9 | U4: 24305 | V4: =1+MOD(U4-1, 9) -> 5 | W4: =V4 -> 5 | Y4: 25994 | Z4: =1+MOD(Y4-1, 9) -> 2 | AA4: =Z4 -> 2 | AC4: 27675 | AD4: =1+MOD(AC4-1, 9) -> 9 | AE4: =AD4 -> 9 | AG4: 29348 | AH4: =1+MOD(AG4-1, 9) -> 8 | AI4: =AH4 -> 8 | AK4: 4 = YELLOW
A5: 15787 | B5: =1+MOD(A5-1, 9) -> 1 | C5: =B5 -> 1 | E5: 17508 | F5: =1+MOD(E5-1, 9) -> 3 | G5: =F5 -> 3 | I5: 19224 | J5: =1+MOD(I5-1, 9) -> 9 | K5: =J5 -> 9 | M5: 20933 | N5: =1+MOD(M5-1, 9) -> 8 | O5: =N5 -> 8 | Q5: 22637 | R5: =1+MOD(Q5-1, 9) -> 2 | S5: =R5 -> 2 | U5: 24333 | V5: =1+MOD(U5-1, 9) -> 6 | W5: =V5 -> 6 | Y5: 26022 | Z5: =1+MOD(Y5-1, 9) -> 3 | AA5: =Z5 -> 3 | AC5: 27703 | AD5: =1+MOD(AC5-1, 9) -> 1 | AE5: =AD5 -> 1 | AG5: 29376 | AH5: =1+MOD(AG5-1, 9) -> 9 | AI5: =AH5 -> 9 | AK5: 5 = CYAN
A6: 15816 | B6: =1+MOD(A6-1, 9) -> 3 | C6: =B6 -> 3 | E6: 17537 | F6: =1+MOD(E6-1, 9) -> 5 | G6: =F6 -> 5 | I6: 19252 | J6: =1+MOD(I6-1, 9) -> 1 | K6: =J6 -> 1 | M6: 20962 | N6: =1+MOD(M6-1, 9) -> 1 | O6: =N6 -> 1 | Q6: 22665 | R6: =1+MOD(Q6-1, 9) -> 3 | S6: =R6 -> 3 | U6: 24361 | V6: =1+MOD(U6-1, 9) -> 7 | W6: =V6 -> 7 | Y6: 26050 | Z6: =1+MOD(Y6-1, 9) -> 4 | AA6: =Z6 -> 4 | AC6: 27731 | AD6: =1+MOD(AC6-1, 9) -> 2 | AE6: =AD6 -> 2 | AG6: 29404 | AH6: =1+MOD(AG6-1, 9) -> 1 | AI6: =AH6 -> 1 | AK6: 6 = PURPLE
A7: 15844 | B7: =1+MOD(A7-1, 9) -> 4 | C7: =B7 -> 4 | E7: 17565 | F7: =1+MOD(E7-1, 9) -> 6 | G7: =F7 -> 6 | I7: 19281 | J7: =1+MOD(I7-1, 9) -> 3 | K7: =J7 -> 3 | M7: 20990 | N7: =1+MOD(M7-1, 9) -> 2 | O7: =N7 -> 2 | Q7: 22693 | R7: =1+MOD(Q7-1, 9) -> 4 | S7: =R7 -> 4 | U7: 24390 | V7: =1+MOD(U7-1, 9) -> 9 | W7: =V7 -> 9 | Y7: 26078 | Z7: =1+MOD(Y7-1, 9) -> 5 | AA7: =Z7 -> 5 | AC7: 27759 | AD7: =1+MOD(AC7-1, 9) -> 3 | AE7: =AD7 -> 3 | AG7: 29432 | AH7: =1+MOD(AG7-1, 9) -> 2 | AI7: =AH7 -> 2 | AK7: 7 = WHITE
A8: 15873 | B8: =1+MOD(A8-1, 9) -> 6 | C8: =B8 -> 6 | E8: 17594 | F8: =1+MOD(E8-1, 9) -> 8 | G8: =F8 -> 8 | I8: 19309 | J8: =1+MOD(I8-1, 9) -> 4 | K8: =J8 -> 4 | M8: 21019 | N8: =1+MOD(M8-1, 9) -> 4 | O8: =N8 -> 4 | Q8: 22722 | R8: =1+MOD(Q8-1, 9) -> 6 | S8: =R8 -> 6 | U8: 24418 | V8: =1+MOD(U8-1, 9) -> 1 | W8: =V8 -> 1 | Y8: 26107 | Z8: =1+MOD(Y8-1, 9) -> 7 | AA8: =Z8 -> 7 | AC8: 27787 | AD8: =1+MOD(AC8-1, 9) -> 4 | AE8: =AD8 -> 4 | AG8: 29460 | AH8: =1+MOD(AG8-1, 9) -> 3 | AI8: =AH8 -> 3 | AK8: 8 = PINK
A9: 15902 | B9: =1+MOD(A9-1, 9) -> 8 | C9: =B9 -> 8 | E9: 17622 | F9: =1+MOD(E9-1, 9) -> 9 | G9: =F9 -> 9 | I9: 19338 | J9: =1+MOD(I9-1, 9) -> 6 | K9: =J9 -> 6 | M9: 21047 | N9: =1+MOD(M9-1, 9) -> 5 | O9: =N9 -> 5 | Q9: 22750 | R9: =1+MOD(Q9-1, 9) -> 7 | S9: =R9 -> 7 | U9: 24446 | V9: =1+MOD(U9-1, 9) -> 2 | W9: =V9 -> 2 | Y9: 26135 | Z9: =1+MOD(Y9-1, 9) -> 8 | AA9: =Z9 -> 8 | AC9: 27815 | AD9: =1+MOD(AC9-1, 9) -> 5 | AE9: =AD9 -> 5 | AG9: 29487 | AH9: =1+MOD(AG9-1, 9) -> 3 | AI9: =AH9 -> 3 | AK9: 9 = BROWN
A10: 15931 | B10: =1+MOD(A10-1, 9) -> 1 | C10: =B10 -> 1 | E10: 17651 | F10: =1+MOD(E10-1, 9) -> 2 | G10: =F10 -> 2 | I10: 19366 | J10: =1+MOD(I10-1, 9) -> 7 | K10: =J10 -> 7 | M10: 21076 | N10: =1+MOD(M10-1, 9) -> 7 | O10: =N10 -> 7 | Q10: 22778 | R10: =1+MOD(Q10-1, 9) -> 8 | S10: =R10 -> 8 | U10: 24474 | V10: =1+MOD(U10-1, 9) -> 3 | W10: =V10 -> 3 | Y10: 26163 | Z10: =1+MOD(Y10-1, 9) -> 9 | AA10: =Z10 -> 9 | AC10: 27843 | AD10: =1+MOD(AC10-1, 9) -> 6 | AE10: =AD10 -> 6 | AG10: 29515 | AH10: =1+MOD(AG10-1, 9) -> 4 | AI10: =AH10 -> 4
A11: 15959 | B11: =1+MOD(A11-1, 9) -> 2 | C11: =B11 -> 2 | E11: 17680 | F11: =1+MOD(E11-1, 9) -> 4 | G11: =F11 -> 4 | I11: 19395 | J11: =1+MOD(I11-1, 9) -> 9 | K11: =J11 -> 9 | M11: 21104 | N11: =1+MOD(M11-1, 9) -> 8 | O11: =N11 -> 8 | Q11: 22807 | R11: =1+MOD(Q11-1, 9) -> 1 | S11: =R11 -> 1 | U11: 24502 | V11: =1+MOD(U11-1, 9) -> 4 | W11: =V11 -> 4 | Y11: 26191 | Z11: =1+MOD(Y11-1, 9) -> 1 | AA11: =Z11 -> 1 | AC11: 27871 | AD11: =1+MOD(AC11-1, 9) -> 7 | AE11: =AD11 -> 7 | AG11: 29543 | AH11: =1+MOD(AG11-1, 9) -> 5 | AI11: =AH11 -> 5
A12: 15988 | B12: =1+MOD(A12-1, 9) -> 4 | C12: =B12 -> 4 | E12: 17708 | F12: =1+MOD(E12-1, 9) -> 5 | G12: =F12 -> 5 | I12: 19423 | J12: =1+MOD(I12-1, 9) -> 1 | K12: =J12 -> 1 | M12: 21132 | N12: =1+MOD(M12-1, 9) -> 9 | O12: =N12 -> 9 | Q12: 22835 | R12: =1+MOD(Q12-1, 9) -> 2 | S12: =R12 -> 2 | U12: 24531 | V12: =1+MOD(U12-1, 9) -> 6 | W12: =V12 -> 6 | Y12: 26219 | Z12: =1+MOD(Y12-1, 9) -> 2 | AA12: =Z12 -> 2 | AC12: 27899 | AD12: =1+MOD(AC12-1, 9) -> 8 | AE12: =AD12 -> 8 | AG12: 29571 | AH12: =1+MOD(AG12-1, 9) -> 6 | AI12: =AH12 -> 6
A13: 16017 | B13: =1+MOD(A13-1, 9) -> 6 | C13: =B13 -> 6 | E13: 17737 | F13: =1+MOD(E13-1, 9) -> 7 | G13: =F13 -> 7 | I13: 19452 | J13: =1+MOD(I13-1, 9) -> 3 | K13: =J13 -> 3 | M13: 21161 | N13: =1+MOD(M13-1, 9) -> 2 | O13: =N13 -> 2 | Q13: 22863 | R13: =1+MOD(Q13-1, 9) -> 3 | S13: =R13 -> 3 | U13: 24559 | V13: =1+MOD(U13-1, 9) -> 7 | W13: =V13 -> 7 | Y13: 26247 | Z13: =1+MOD(Y13-1, 9) -> 3 | AA13: =Z13 -> 3 | AC13: 27927 | AD13: =1+MOD(AC13-1, 9) -> 9 | AE13: =AD13 -> 9 | AG13: 29598 | AH13: =1+MOD(AG13-1, 9) -> 6 | AI13: =AH13 -> 6
A14: 16045 | B14: =1+MOD(A14-1, 9) -> 7 | C14: =B14 -> 7 | E14: 17766 | F14: =1+MOD(E14-1, 9) -> 9 | G14: =F14 -> 9 | I14: 19480 | J14: =1+MOD(I14-1, 9) -> 4 | K14: =J14 -> 4 | M14: 21189 | N14: =1+MOD(M14-1, 9) -> 3 | O14: =N14 -> 3 | Q14: 22892 | R14: =1+MOD(Q14-1, 9) -> 5 | S14: =R14 -> 5 | U14: 24587 | V14: =1+MOD(U14-1, 9) -> 8 | W14: =V14 -> 8 | Y14: 26275 | Z14: =1+MOD(Y14-1, 9) -> 4 | AA14: =Z14 -> 4 | AC14: 27955 | AD14: =1+MOD(AC14-1, 9) -> 1 | AE14: =AD14 -> 1 | AG14: 29626 | AH14: =1+MOD(AG14-1, 9) -> 7 | AI14: =AH14 -> 7
A15: 16074 | B15: =1+MOD(A15-1, 9) -> 9 | C15: =B15 -> 9 | E15: 17794 | F15: =1+MOD(E15-1, 9) -> 1 | G15: =F15 -> 1 | I15: 19509 | J15: =1+MOD(I15-1, 9) -> 6 | K15: =J15 -> 6 | M15: 21218 | N15: =1+MOD(M15-1, 9) -> 5 | O15: =N15 -> 5 | Q15: 22920 | R15: =1+MOD(Q15-1, 9) -> 6 | S15: =R15 -> 6 | U15: 24615 | V15: =1+MOD(U15-1, 9) -> 9 | W15: =V15 -> 9 | Y15: 26303 | Z15: =1+MOD(Y15-1, 9) -> 5 | AA15: =Z15 -> 5 | AC15: 27983 | AD15: =1+MOD(AC15-1, 9) -> 2 | AE15: =AD15 -> 2 | AG15: 29654 | AH15: =1+MOD(AG15-1, 9) -> 8 | AI15: =AH15 -> 8
A16: 16103 | B16: =1+MOD(A16-1, 9) -> 2 | C16: =B16 -> 2 | E16: 17823 | F16: =1+MOD(E16-1, 9) -> 3 | G16: =F16 -> 3 | I16: 19537 | J16: =1+MOD(I16-1, 9) -> 7 | K16: =J16 -> 7 | M16: 21246 | N16: =1+MOD(M16-1, 9) -> 6 | O16: =N16 -> 6 | Q16: 22948 | R16: =1+MOD(Q16-1, 9) -> 7 | S16: =R16 -> 7 | U16: 24643 | V16: =1+MOD(U16-1, 9) -> 1 | W16: =V16 -> 1 | Y16: 26331 | Z16: =1+MOD(Y16-1, 9) -> 6 | AA16: =Z16 -> 6 | AC16: 28011 | AD16: =1+MOD(AC16-1, 9) -> 3 | AE16: =AD16 -> 3 | AG16: 29682 | AH16: =1+MOD(AG16-1, 9) -> 9 | AI16: =AH16 -> 9
A17: 16132 | B17: =1+MOD(A17-1, 9) -> 4 | C17: =B17 -> 4 | E17: 17852 | F17: =1+MOD(E17-1, 9) -> 5 | G17: =F17 -> 5 | I17: 19566 | J17: =1+MOD(I17-1, 9) -> 9 | K17: =J17 -> 9 | M17: 21275 | N17: =1+MOD(M17-1, 9) -> 8 | O17: =N17 -> 8 | Q17: 22977 | R17: =1+MOD(Q17-1, 9) -> 9 | S17: =R17 -> 9 | U17: 24672 | V17: =1+MOD(U17-1, 9) -> 3 | W17: =V17 -> 3 | Y17: 26359 | Z17: =1+MOD(Y17-1, 9) -> 7 | AA17: =Z17 -> 7 | AC17: 28039 | AD17: =1+MOD(AC17-1, 9) -> 4 | AE17: =AD17 -> 4 | AG17: 29710 | AH17: =1+MOD(AG17-1, 9) -> 1 | AI17: =AH17 -> 1
A18: 16160 | B18: =1+MOD(A18-1, 9) -> 5 | C18: =B18 -> 5 | E18: 17880 | F18: =1+MOD(E18-1, 9) -> 6 | G18: =F18 -> 6 | I18: 19595 | J18: =1+MOD(I18-1, 9) -> 2 | K18: =J18 -> 2 | M18: 21303 | N18: =1+MOD(M18-1, 9) -> 9 | O18: =N18 -> 9 | Q18: 23005 | R18: =1+MOD(Q18-1, 9) -> 1 | S18: =R18 -> 1 | U18: 24700 | V18: =1+MOD(U18-1, 9) -> 4 | W18: =V18 -> 4 | Y18: 26387 | Z18: =1+MOD(Y18-1, 9) -> 8 | AA18: =Z18 -> 8 | AC18: 28067 | AD18: =1+MOD(AC18-1, 9) -> 5 | AE18: =AD18 -> 5 | AG18: 29737 | AH18: =1+MOD(AG18-1, 9) -> 1 | AI18: =AH18 -> 1
A19: 16189 | B19: =1+MOD(A19-1, 9) -> 7 | C19: =B19 -> 7 | E19: 17909 | F19: =1+MOD(E19-1, 9) -> 8 | G19: =F19 -> 8 | I19: 19623 | J19: =1+MOD(I19-1, 9) -> 3 | K19: =J19 -> 3 | M19: 21331 | N19: =1+MOD(M19-1, 9) -> 1 | O19: =N19 -> 1 | Q19: 23033 | R19: =1+MOD(Q19-1, 9) -> 2 | S19: =R19 -> 2 | U19: 24728 | V19: =1+MOD(U19-1, 9) -> 5 | W19: =V19 -> 5 | Y19: 26415 | Z19: =1+MOD(Y19-1, 9) -> 9 | AA19: =Z19 -> 9 | AC19: 28094 | AD19: =1+MOD(AC19-1, 9) -> 5 | AE19: =AD19 -> 5 | AG19: 29765 | AH19: =1+MOD(AG19-1, 9) -> 2 | AI19: =AH19 -> 2
A20: 16218 | B20: =1+MOD(A20-1, 9) -> 9 | C20: =B20 -> 9 | E20: 17937 | F20: =1+MOD(E20-1, 9) -> 9 | G20: =F20 -> 9 | I20: 19652 | J20: =1+MOD(I20-1, 9) -> 5 | K20: =J20 -> 5 | M20: 21360 | N20: =1+MOD(M20-1, 9) -> 3 | O20: =N20 -> 3 | Q20: 23061 | R20: =1+MOD(Q20-1, 9) -> 3 | S20: =R20 -> 3 | U20: 24756 | V20: =1+MOD(U20-1, 9) -> 6 | W20: =V20 -> 6 | Y20: 26443 | Z20: =1+MOD(Y20-1, 9) -> 1 | AA20: =Z20 -> 1 | AC20: 28122 | AD20: =1+MOD(AC20-1, 9) -> 6 | AE20: =AD20 -> 6 | AG20: 29793 | AH20: =1+MOD(AG20-1, 9) -> 3 | AI20: =AH20 -> 3
A21: 16246 | B21: =1+MOD(A21-1, 9) -> 1 | C21: =B21 -> 1 | E21: 17966 | F21: =1+MOD(E21-1, 9) -> 2 | G21: =F21 -> 2 | I21: 19680 | J21: =1+MOD(I21-1, 9) -> 6 | K21: =J21 -> 6 | M21: 21388 | N21: =1+MOD(M21-1, 9) -> 4 | O21: =N21 -> 4 | Q21: 23090 | R21: =1+MOD(Q21-1, 9) -> 5 | S21: =R21 -> 5 | U21: 24784 | V21: =1+MOD(U21-1, 9) -> 7 | W21: =V21 -> 7 | Y21: 26471 | Z21: =1+MOD(Y21-1, 9) -> 2 | AA21: =Z21 -> 2 | AC21: 28150 | AD21: =1+MOD(AC21-1, 9) -> 7 | AE21: =AD21 -> 7 | AG21: 29821 | AH21: =1+MOD(AG21-1, 9) -> 4 | AI21: =AH21 -> 4
... A60: 17365 | B60: =1+MOD(A60-1, 9) -> 4 | C60: =B60 -> 4 | E60: 19081 | F60: =1+MOD(E60-1, 9) -> 1 | G60: =F60 -> 1 | I60: 20791 | J60: =1+MOD(I60-1, 9) -> 1 | K60: =J60 -> 1 | M60: 22495 | N60: =1+MOD(M60-1, 9) -> 4 | O60: =N60 -> 4 | Q60: 24192 | R60: =1+MOD(Q60-1, 9) -> 9 | S60: =R60 -> 9 | U60: 25882 | V60: =1+MOD(U60-1, 9) -> 7 | W60: =V60 -> 7 | Y60: 27564 | Z60: =1+MOD(Y60-1, 9) -> 6 | AA60: =Z60 -> 6 | AC60: 29237 | AD60: =1+MOD(AC60-1, 9) -> 5 | AE60: =AD60 -> 5 | AG60: 30902 | AH60: =1+MOD(AG60-1, 9) -> 5 | AI60: =AH60 -> 5

Sheet 19-27
A1: 30929 | B1: =1+MOD(A1-1, 9) -> 5 | C1: =B1 -> 5 | E1: 32584 | F1: =1+MOD(E1-1, 9) -> 4 | G1: =F1 -> 4 | I1: 34229 | J1: =1+MOD(I1-1, 9) -> 2 | K1: =J1 -> 2 | M1: 35864 | N1: =1+MOD(M1-1, 9) -> 8 | O1: =N1 -> 8 | Q1: 37488 | R1: =1+MOD(Q1-1, 9) -> 3 | S1: =R1 -> 3 | U1: 39100 | V1: =1+MOD(U1-1, 9) -> 4 | W1: =V1 -> 4 | Y1: 40700 | Z1: =1+MOD(Y1-1, 9) -> 2 | AA1: =Z1 -> 2 | AC1: 42288 | AD1: =1+MOD(AC1-1, 9) -> 6 | AE1: =AD1 -> 6 | AG1: 43863 | AH1: =1+MOD(AG1-1, 9) -> 6 | AI1: =AH1 -> 6 | AK1: 1 = RED
A2: 30957 | B2: =1+MOD(A2-1, 9) -> 6 | C2: =B2 -> 6 | E2: 32612 | F2: =1+MOD(E2-1, 9) -> 5 | G2: =F2 -> 5 | I2: 34257 | J2: =1+MOD(I2-1, 9) -> 3 | K2: =J2 -> 3 | M2: 35891 | N2: =1+MOD(M2-1, 9) -> 8 | O2: =N2 -> 8 | Q2: 37514 | R2: =1+MOD(Q2-1, 9) -> 2 | S2: =R2 -> 2 | U2: 39126 | V2: =1+MOD(U2-1, 9) -> 3 | W2: =V2 -> 3 | Y2: 40727 | Z2: =1+MOD(Y2-1, 9) -> 2 | AA2: =Z2 -> 2 | AC2: 42314 | AD2: =1+MOD(AC2-1, 9) -> 5 | AE2: =AD2 -> 5 | AG2: 43889 | AH2: =1+MOD(AG2-1, 9) -> 5 | AI2: =AH2 -> 5 | AK2: 2 = GREEN
A3: 30985 | B3: =1+MOD(A3-1, 9) -> 7 | C3: =B3 -> 7 | E3: 32639 | F3: =1+MOD(E3-1, 9) -> 5 | G3: =F3 -> 5 | I3: 34284 | J3: =1+MOD(I3-1, 9) -> 3 | K3: =J3 -> 3 | M3: 35918 | N3: =1+MOD(M3-1, 9) -> 8 | O3: =N3 -> 8 | Q3: 37541 | R3: =1+MOD(Q3-1, 9) -> 2 | S3: =R3 -> 2 | U3: 39153 | V3: =1+MOD(U3-1, 9) -> 3 | W3: =V3 -> 3 | Y3: 40753 | Z3: =1+MOD(Y3-1, 9) -> 1 | AA3: =Z3 -> 1 | AC3: 42341 | AD3: =1+MOD(AC3-1, 9) -> 5 | AE3: =AD3 -> 5 | AG3: 43915 | AH3: =1+MOD(AG3-1, 9) -> 4 | AI3: =AH3 -> 4 | AK3: 3 = BLUE
A4: 31012 | B4: =1+MOD(A4-1, 9) -> 7 | C4: =B4 -> 7 | E4: 32667 | F4: =1+MOD(E4-1, 9) -> 6 | G4: =F4 -> 6 | I4: 34311 | J4: =1+MOD(I4-1, 9) -> 3 | K4: =J4 -> 3 | M4: 35945 | N4: =1+MOD(M4-1, 9) -> 8 | O4: =N4 -> 8 | Q4: 37568 | R4: =1+MOD(Q4-1, 9) -> 2 | S4: =R4 -> 2 | U4: 39180 | V4: =1+MOD(U4-1, 9) -> 3 | W4: =V4 -> 3 | Y4: 40780 | Z4: =1+MOD(Y4-1, 9) -> 1 | AA4: =Z4 -> 1 | AC4: 42367 | AD4: =1+MOD(AC4-1, 9) -> 4 | AE4: =AD4 -> 4 | AG4: 43942 | AH4: =1+MOD(AG4-1, 9) -> 4 | AI4: =AH4 -> 4 | AK4: 4 = YELLOW
A5: 31040 | B5: =1+MOD(A5-1, 9) -> 8 | C5: =B5 -> 8 | E5: 32694 | F5: =1+MOD(E5-1, 9) -> 6 | G5: =F5 -> 6 | I5: 34339 | J5: =1+MOD(I5-1, 9) -> 4 | K5: =J5 -> 4 | M5: 35972 | N5: =1+MOD(M5-1, 9) -> 8 | O5: =N5 -> 8 | Q5: 37595 | R5: =1+MOD(Q5-1, 9) -> 2 | S5: =R5 -> 2 | U5: 39207 | V5: =1+MOD(U5-1, 9) -> 3 | W5: =V5 -> 3 | Y5: 40806 | Z5: =1+MOD(Y5-1, 9) -> 9 | AA5: =Z5 -> 9 | AC5: 42394 | AD5: =1+MOD(AC5-1, 9) -> 4 | AE5: =AD5 -> 4 | AG5: 43968 | AH5: =1+MOD(AG5-1, 9) -> 3 | AI5: =AH5 -> 3 | AK5: 5 = CYAN
A6: 31068 | B6: =1+MOD(A6-1, 9) -> 9 | C6: =B6 -> 9 | E6: 32722 | F6: =1+MOD(E6-1, 9) -> 7 | G6: =F6 -> 7 | I6: 34366 | J6: =1+MOD(I6-1, 9) -> 4 | K6: =J6 -> 4 | M6: 36000 | N6: =1+MOD(M6-1, 9) -> 9 | O6: =N6 -> 9 | Q6: 37622 | R6: =1+MOD(Q6-1, 9) -> 2 | S6: =R6 -> 2 | U6: 39234 | V6: =1+MOD(U6-1, 9) -> 3 | W6: =V6 -> 3 | Y6: 40833 | Z6: =1+MOD(Y6-1, 9) -> 9 | AA6: =Z6 -> 9 | AC6: 42420 | AD6: =1+MOD(AC6-1, 9) -> 3 | AE6: =AD6 -> 3 | AG6: 43994 | AH6: =1+MOD(AG6-1, 9) -> 2 | AI6: =AH6 -> 2 | AK6: 6 = PURPLE
A7: 31095 | B7: =1+MOD(A7-1, 9) -> 9 | C7: =B7 -> 9 | E7: 32749 | F7: =1+MOD(E7-1, 9) -> 7 | G7: =F7 -> 7 | I7: 34393 | J7: =1+MOD(I7-1, 9) -> 4 | K7: =J7 -> 4 | M7: 36027 | N7: =1+MOD(M7-1, 9) -> 9 | O7: =N7 -> 9 | Q7: 37649 | R7: =1+MOD(Q7-1, 9) -> 2 | S7: =R7 -> 2 | U7: 39260 | V7: =1+MOD(U7-1, 9) -> 2 | W7: =V7 -> 2 | Y7: 40860 | Z7: =1+MOD(Y7-1, 9) -> 9 | AA7: =Z7 -> 9 | AC7: 42446 | AD7: =1+MOD(AC7-1, 9) -> 2 | AE7: =AD7 -> 2 | AG7: 44020 | AH7: =1+MOD(AG7-1, 9) -> 1 | AI7: =AH7 -> 1 | AK7: 7 = WHITE
A8: 31123 | B8: =1+MOD(A8-1, 9) -> 1 | C8: =B8 -> 1 | E8: 32777 | F8: =1+MOD(E8-1, 9) -> 8 | G8: =F8 -> 8 | I8: 34421 | J8: =1+MOD(I8-1, 9) -> 5 | K8: =J8 -> 5 | M8: 36054 | N8: =1+MOD(M8-1, 9) -> 9 | O8: =N8 -> 9 | Q8: 37676 | R8: =1+MOD(Q8-1, 9) -> 2 | S8: =R8 -> 2 | U8: 39287 | V8: =1+MOD(U8-1, 9) -> 2 | W8: =V8 -> 2 | Y8: 40886 | Z8: =1+MOD(Y8-1, 9) -> 8 | AA8: =Z8 -> 8 | AC8: 42473 | AD8: =1+MOD(AC8-1, 9) -> 2 | AE8: =AD8 -> 2 | AG8: 44046 | AH8: =1+MOD(AG8-1, 9) -> 9 | AI8: =AH8 -> 9 | AK8: 8 = PINK
A9: 31150 | B9: =1+MOD(A9-1, 9) -> 1 | C9: =B9 -> 1 | E9: 32804 | F9: =1+MOD(E9-1, 9) -> 8 | G9: =F9 -> 8 | I9: 34448 | J9: =1+MOD(I9-1, 9) -> 5 | K9: =J9 -> 5 | M9: 36081 | N9: =1+MOD(M9-1, 9) -> 9 | O9: =N9 -> 9 | Q9: 37703 | R9: =1+MOD(Q9-1, 9) -> 2 | S9: =R9 -> 2 | U9: 39314 | V9: =1+MOD(U9-1, 9) -> 2 | W9: =V9 -> 2 | Y9: 40913 | Z9: =1+MOD(Y9-1, 9) -> 8 | AA9: =Z9 -> 8 | AC9: 42499 | AD9: =1+MOD(AC9-1, 9) -> 1 | AE9: =AD9 -> 1 | AG9: 44072 | AH9: =1+MOD(AG9-1, 9) -> 8 | AI9: =AH9 -> 8 | AK9: 9 = BROWN
A10: 31178 | B10: =1+MOD(A10-1, 9) -> 2 | C10: =B10 -> 2 | E10: 32832 | F10: =1+MOD(E10-1, 9) -> 9 | G10: =F10 -> 9 | I10: 34475 | J10: =1+MOD(I10-1, 9) -> 5 | K10: =J10 -> 5 | M10: 36108 | N10: =1+MOD(M10-1, 9) -> 9 | O10: =N10 -> 9 | Q10: 37730 | R10: =1+MOD(Q10-1, 9) -> 2 | S10: =R10 -> 2 | U10: 39341 | V10: =1+MOD(U10-1, 9) -> 2 | W10: =V10 -> 2 | Y10: 40939 | Z10: =1+MOD(Y10-1, 9) -> 7 | AA10: =Z10 -> 7 | AC10: 42525 | AD10: =1+MOD(AC10-1, 9) -> 9 | AE10: =AD10 -> 9 | AG10: 44098 | AH10: =1+MOD(AG10-1, 9) -> 7 | AI10: =AH10 -> 7
A11: 31206 | B11: =1+MOD(A11-1, 9) -> 3 | C11: =B11 -> 3 | E11: 32859 | F11: =1+MOD(E11-1, 9) -> 9 | G11: =F11 -> 9 | I11: 34502 | J11: =1+MOD(I11-1, 9) -> 5 | K11: =J11 -> 5 | M11: 36135 | N11: =1+MOD(M11-1, 9) -> 9 | O11: =N11 -> 9 | Q11: 37757 | R11: =1+MOD(Q11-1, 9) -> 2 | S11: =R11 -> 2 | U11: 39367 | V11: =1+MOD(U11-1, 9) -> 1 | W11: =V11 -> 1 | Y11: 40966 | Z11: =1+MOD(Y11-1, 9) -> 7 | AA11: =Z11 -> 7 | AC11: 42552 | AD11: =1+MOD(AC11-1, 9) -> 9 | AE11: =AD11 -> 9 | AG11: 44124 | AH11: =1+MOD(AG11-1, 9) -> 6 | AI11: =AH11 -> 6
A12: 31233 | B12: =1+MOD(A12-1, 9) -> 3 | C12: =B12 -> 3 | E12: 32887 | F12: =1+MOD(E12-1, 9) -> 1 | G12: =F12 -> 1 | I12: 34530 | J12: =1+MOD(I12-1, 9) -> 6 | K12: =J12 -> 6 | M12: 36162 | N12: =1+MOD(M12-1, 9) -> 9 | O12: =N12 -> 9 | Q12: 37784 | R12: =1+MOD(Q12-1, 9) -> 2 | S12: =R12 -> 2 | U12: 39394 | V12: =1+MOD(U12-1, 9) -> 1 | W12: =V12 -> 1 | Y12: 40992 | Z12: =1+MOD(Y12-1, 9) -> 6 | AA12: =Z12 -> 6 | AC12: 42578 | AD12: =1+MOD(AC12-1, 9) -> 8 | AE12: =AD12 -> 8 | AG12: 44150 | AH12: =1+MOD(AG12-1, 9) -> 5 | AI12: =AH12 -> 5
A13: 31261 | B13: =1+MOD(A13-1, 9) -> 4 | C13: =B13 -> 4 | E13: 32914 | F13: =1+MOD(E13-1, 9) -> 1 | G13: =F13 -> 1 | I13: 34557 | J13: =1+MOD(I13-1, 9) -> 6 | K13: =J13 -> 6 | M13: 36189 | N13: =1+MOD(M13-1, 9) -> 9 | O13: =N13 -> 9 | Q13: 37811 | R13: =1+MOD(Q13-1, 9) -> 2 | S13: =R13 -> 2 | U13: 39421 | V13: =1+MOD(U13-1, 9) -> 1 | W13: =V13 -> 1 | Y13: 41019 | Z13: =1+MOD(Y13-1, 9) -> 6 | AA13: =Z13 -> 6 | AC13: 42604 | AD13: =1+MOD(AC13-1, 9) -> 7 | AE13: =AD13 -> 7 | AG13: 44177 | AH13: =1+MOD(AG13-1, 9) -> 5 | AI13: =AH13 -> 5
A14: 31289 | B14: =1+MOD(A14-1, 9) -> 5 | C14: =B14 -> 5 | E14: 32942 | F14: =1+MOD(E14-1, 9) -> 2 | G14: =F14 -> 2 | I14: 34584 | J14: =1+MOD(I14-1, 9) -> 6 | K14: =J14 -> 6 | M14: 36217 | N14: =1+MOD(M14-1, 9) -> 1 | O14: =N14 -> 1 | Q14: 37838 | R14: =1+MOD(Q14-1, 9) -> 2 | S14: =R14 -> 2 | U14: 39448 | V14: =1+MOD(U14-1, 9) -> 1 | W14: =V14 -> 1 | Y14: 41045 | Z14: =1+MOD(Y14-1, 9) -> 5 | AA14: =Z14 -> 5 | AC14: 42630 | AD14: =1+MOD(AC14-1, 9) -> 6 | AE14: =AD14 -> 6 | AG14: 44203 | AH14: =1+MOD(AG14-1, 9) -> 4 | AI14: =AH14 -> 4
A15: 31316 | B15: =1+MOD(A15-1, 9) -> 5 | C15: =B15 -> 5 | E15: 32969 | F15: =1+MOD(E15-1, 9) -> 2 | G15: =F15 -> 2 | I15: 34612 | J15: =1+MOD(I15-1, 9) -> 7 | K15: =J15 -> 7 | M15: 36244 | N15: =1+MOD(M15-1, 9) -> 1 | O15: =N15 -> 1 | Q15: 37865 | R15: =1+MOD(Q15-1, 9) -> 2 | S15: =R15 -> 2 | U15: 39474 | V15: =1+MOD(U15-1, 9) -> 9 | W15: =V15 -> 9 | Y15: 41072 | Z15: =1+MOD(Y15-1, 9) -> 5 | AA15: =Z15 -> 5 | AC15: 42657 | AD15: =1+MOD(AC15-1, 9) -> 6 | AE15: =AD15 -> 6 | AG15: 44229 | AH15: =1+MOD(AG15-1, 9) -> 3 | AI15: =AH15 -> 3
A16: 31344 | B16: =1+MOD(A16-1, 9) -> 6 | C16: =B16 -> 6 | E16: 32996 | F16: =1+MOD(E16-1, 9) -> 2 | G16: =F16 -> 2 | I16: 34639 | J16: =1+MOD(I16-1, 9) -> 7 | K16: =J16 -> 7 | M16: 36271 | N16: =1+MOD(M16-1, 9) -> 1 | O16: =N16 -> 1 | Q16: 37892 | R16: =1+MOD(Q16-1, 9) -> 2 | S16: =R16 -> 2 | U16: 39501 | V16: =1+MOD(U16-1, 9) -> 9 | W16: =V16 -> 9 | Y16: 41098 | Z16: =1+MOD(Y16-1, 9) -> 4 | AA16: =Z16 -> 4 | AC16: 42683 | AD16: =1+MOD(AC16-1, 9) -> 5 | AE16: =AD16 -> 5 | AG16: 44255 | AH16: =1+MOD(AG16-1, 9) -> 2 | AI16: =AH16 -> 2
A17: 31372 | B17: =1+MOD(A17-1, 9) -> 7 | C17: =B17 -> 7 | E17: 33024 | F17: =1+MOD(E17-1, 9) -> 3 | G17: =F17 -> 3 | I17: 34666 | J17: =1+MOD(I17-1, 9) -> 7 | K17: =J17 -> 7 | M17: 36298 | N17: =1+MOD(M17-1, 9) -> 1 | O17: =N17 -> 1 | Q17: 37919 | R17: =1+MOD(Q17-1, 9) -> 2 | S17: =R17 -> 2 | U17: 39528 | V17: =1+MOD(U17-1, 9) -> 9 | W17: =V17 -> 9 | Y17: 41125 | Z17: =1+MOD(Y17-1, 9) -> 4 | AA17: =Z17 -> 4 | AC17: 42709 | AD17: =1+MOD(AC17-1, 9) -> 4 | AE17: =AD17 -> 4 | AG17: 44281 | AH17: =1+MOD(AG17-1, 9) -> 1 | AI17: =AH17 -> 1
A18: 31399 | B18: =1+MOD(A18-1, 9) -> 7 | C18: =B18 -> 7 | E18: 33051 | F18: =1+MOD(E18-1, 9) -> 3 | G18: =F18 -> 3 | I18: 34693 | J18: =1+MOD(I18-1, 9) -> 7 | K18: =J18 -> 7 | M18: 36325 | N18: =1+MOD(M18-1, 9) -> 1 | O18: =N18 -> 1 | Q18: 37946 | R18: =1+MOD(Q18-1, 9) -> 2 | S18: =R18 -> 2 | U18: 39554 | V18: =1+MOD(U18-1, 9) -> 8 | W18: =V18 -> 8 | Y18: 41151 | Z18: =1+MOD(Y18-1, 9) -> 3 | AA18: =Z18 -> 3 | AC18: 42736 | AD18: =1+MOD(AC18-1, 9) -> 4 | AE18: =AD18 -> 4 | AG18: 44307 | AH18: =1+MOD(AG18-1, 9) -> 9 | AI18: =AH18 -> 9
A19: 31427 | B19: =1+MOD(A19-1, 9) -> 8 | C19: =B19 -> 8 | E19: 33079 | F19: =1+MOD(E19-1, 9) -> 4 | G19: =F19 -> 4 | I19: 34721 | J19: =1+MOD(I19-1, 9) -> 8 | K19: =J19 -> 8 | M19: 36352 | N19: =1+MOD(M19-1, 9) -> 1 | O19: =N19 -> 1 | Q19: 37972 | R19: =1+MOD(Q19-1, 9) -> 1 | S19: =R19 -> 1 | U19: 39581 | V19: =1+MOD(U19-1, 9) -> 8 | W19: =V19 -> 8 | Y19: 41178 | Z19: =1+MOD(Y19-1, 9) -> 3 | AA19: =Z19 -> 3 | AC19: 42762 | AD19: =1+MOD(AC19-1, 9) -> 3 | AE19: =AD19 -> 3 | AG19: 44333 | AH19: =1+MOD(AG19-1, 9) -> 8 | AI19: =AH19 -> 8
A20: 31454 | B20: =1+MOD(A20-1, 9) -> 8 | C20: =B20 -> 8 | E20: 33106 | F20: =1+MOD(E20-1, 9) -> 4 | G20: =F20 -> 4 | I20: 34748 | J20: =1+MOD(I20-1, 9) -> 8 | K20: =J20 -> 8 | M20: 36379 | N20: =1+MOD(M20-1, 9) -> 1 | O20: =N20 -> 1 | Q20: 37999 | R20: =1+MOD(Q20-1, 9) -> 1 | S20: =R20 -> 1 | U20: 39608 | V20: =1+MOD(U20-1, 9) -> 8 | W20: =V20 -> 8 | Y20: 41204 | Z20: =1+MOD(Y20-1, 9) -> 2 | AA20: =Z20 -> 2 | AC20: 42788 | AD20: =1+MOD(AC20-1, 9) -> 2 | AE20: =AD20 -> 2 | AG20: 44359 | AH20: =1+MOD(AG20-1, 9) -> 7 | AI20: =AH20 -> 7
A21: 31482 | B21: =1+MOD(A21-1, 9) -> 9 | C21: =B21 -> 9 | E21: 33134 | F21: =1+MOD(E21-1, 9) -> 5 | G21: =F21 -> 5 | I21: 34775 | J21: =1+MOD(I21-1, 9) -> 8 | K21: =J21 -> 8 | M21: 36406 | N21: =1+MOD(M21-1, 9) -> 1 | O21: =N21 -> 1 | Q21: 38026 | R21: =1+MOD(Q21-1, 9) -> 1 | S21: =R21 -> 1 | U21: 39635 | V21: =1+MOD(U21-1, 9) -> 8 | W21: =V21 -> 8 | Y21: 41231 | Z21: =1+MOD(Y21-1, 9) -> 2 | AA21: =Z21 -> 2 | AC21: 42815 | AD21: =1+MOD(AC21-1, 9) -> 2 | AE21: =AD21 -> 2 | AG21: 44385 | AH21: =1+MOD(AG21-1, 9) -> 6 | AI21: =AH21 -> 6
... A60: 32557 | B60: =1+MOD(A60-1, 9) -> 4 | C60: =B60 -> 4 | E60: 34202 | F60: =1+MOD(E60-1, 9) -> 2 | G60: =F60 -> 2 | I60: 35837 | J60: =1+MOD(I60-1, 9) -> 8 | K60: =J60 -> 8 | M60: 37461 | N60: =1+MOD(M60-1, 9) -> 3 | O60: =N60 -> 3 | Q60: 39073 | R60: =1+MOD(Q60-1, 9) -> 4 | S60: =R60 -> 4 | U60: 40674 | V60: =1+MOD(U60-1, 9) -> 3 | W60: =V60 -> 3 | Y60: 42262 | Z60: =1+MOD(Y60-1, 9) -> 7 | AA60: =Z60 -> 7 | AC60: 43837 | AD60: =1+MOD(AC60-1, 9) -> 7 | AE60: =AD60 -> 7 | AG60: 45399 | AH60: =1+MOD(AG60-1, 9) -> 3 | AI60: =AH60 -> 3

Sheet 28-36
A1: 45425 | B1: =1+MOD(A1-1, 9) -> 2 | C1: =B1 -> 2 | E1: 46973 | F1: =1+MOD(E1-1, 9) -> 2 | G1: =F1 -> 2 | I1: 48506 | J1: =1+MOD(I1-1, 9) -> 5 | K1: =J1 -> 5 | M1: 50025 | N1: =1+MOD(M1-1, 9) -> 3 | O1: =N1 -> 3 | Q1: 51529 | R1: =1+MOD(Q1-1, 9) -> 4 | S1: =R1 -> 4 | U1: 53016 | V1: =1+MOD(U1-1, 9) -> 6 | W1: =V1 -> 6 | Y1: 54488 | Z1: =1+MOD(Y1-1, 9) -> 2 | AA1: =Z1 -> 2 | AC1: 55943 | AD1: =1+MOD(AC1-1, 9) -> 8 | AE1: =AD1 -> 8 | AG1: 57381 | AH1: =1+MOD(AG1-1, 9) -> 6 | AI1: =AH1 -> 6 | AK1: 1 = RED
A2: 45451 | B2: =1+MOD(A2-1, 9) -> 1 | C2: =B2 -> 1 | E2: 46998 | F2: =1+MOD(E2-1, 9) -> 9 | G2: =F2 -> 9 | I2: 48532 | J2: =1+MOD(I2-1, 9) -> 4 | K2: =J2 -> 4 | M2: 50050 | N2: =1+MOD(M2-1, 9) -> 1 | O2: =N2 -> 1 | Q2: 51554 | R2: =1+MOD(Q2-1, 9) -> 2 | S2: =R2 -> 2 | U2: 53041 | V2: =1+MOD(U2-1, 9) -> 4 | W2: =V2 -> 4 | Y2: 54513 | Z2: =1+MOD(Y2-1, 9) -> 9 | AA2: =Z2 -> 9 | AC2: 55967 | AD2: =1+MOD(AC2-1, 9) -> 5 | AE2: =AD2 -> 5 | AG2: 57405 | AH2: =1+MOD(AG2-1, 9) -> 3 | AI2: =AH2 -> 3 | AK2: 2 = GREEN
A3: 45477 | B3: =1+MOD(A3-1, 9) -> 9 | C3: =B3 -> 9 | E3: 47024 | F3: =1+MOD(E3-1, 9) -> 8 | G3: =F3 -> 8 | I3: 48557 | J3: =1+MOD(I3-1, 9) -> 2 | K3: =J3 -> 2 | M3: 50075 | N3: =1+MOD(M3-1, 9) -> 8 | O3: =N3 -> 8 | Q3: 51578 | R3: =1+MOD(Q3-1, 9) -> 8 | S3: =R3 -> 8 | U3: 53066 | V3: =1+MOD(U3-1, 9) -> 2 | W3: =V3 -> 2 | Y3: 54537 | Z3: =1+MOD(Y3-1, 9) -> 6 | AA3: =Z3 -> 6 | AC3: 55992 | AD3: =1+MOD(AC3-1, 9) -> 3 | AE3: =AD3 -> 3 | AG3: 57429 | AH3: =1+MOD(AG3-1, 9) -> 9 | AI3: =AH3 -> 9 | AK3: 3 = BLUE
A4: 45503 | B4: =1+MOD(A4-1, 9) -> 8 | C4: =B4 -> 8 | E4: 47050 | F4: =1+MOD(E4-1, 9) -> 7 | G4: =F4 -> 7 | I4: 48583 | J4: =1+MOD(I4-1, 9) -> 1 | K4: =J4 -> 1 | M4: 50101 | N4: =1+MOD(M4-1, 9) -> 7 | O4: =N4 -> 7 | Q4: 51603 | R4: =1+MOD(Q4-1, 9) -> 6 | S4: =R4 -> 6 | U4: 53090 | V4: =1+MOD(U4-1, 9) -> 8 | W4: =V4 -> 8 | Y4: 54561 | Z4: =1+MOD(Y4-1, 9) -> 3 | AA4: =Z4 -> 3 | AC4: 56016 | AD4: =1+MOD(AC4-1, 9) -> 9 | AE4: =AD4 -> 9 | AG4: 57453 | AH4: =1+MOD(AG4-1, 9) -> 6 | AI4: =AH4 -> 6 | AK4: 4 = YELLOW
A5: 45528 | B5: =1+MOD(A5-1, 9) -> 6 | C5: =B5 -> 6 | E5: 47075 | F5: =1+MOD(E5-1, 9) -> 5 | G5: =F5 -> 5 | I5: 48608 | J5: =1+MOD(I5-1, 9) -> 8 | K5: =J5 -> 8 | M5: 50126 | N5: =1+MOD(M5-1, 9) -> 5 | O5: =N5 -> 5 | Q5: 51628 | R5: =1+MOD(Q5-1, 9) -> 4 | S5: =R5 -> 4 | U5: 53115 | V5: =1+MOD(U5-1, 9) -> 6 | W5: =V5 -> 6 | Y5: 54586 | Z5: =1+MOD(Y5-1, 9) -> 1 | AA5: =Z5 -> 1 | AC5: 56040 | AD5: =1+MOD(AC5-1, 9) -> 6 | AE5: =AD5 -> 6 | AG5: 57477 | AH5: =1+MOD(AG5-1, 9) -> 3 | AI5: =AH5 -> 3 | AK5: 5 = CYAN
A6: 45554 | B6: =1+MOD(A6-1, 9) -> 5 | C6: =B6 -> 5 | E6: 47101 | F6: =1+MOD(E6-1, 9) -> 4 | G6: =F6 -> 4 | I6: 48633 | J6: =1+MOD(I6-1, 9) -> 6 | K6: =J6 -> 6 | M6: 50151 | N6: =1+MOD(M6-1, 9) -> 3 | O6: =N6 -> 3 | Q6: 51653 | R6: =1+MOD(Q6-1, 9) -> 2 | S6: =R6 -> 2 | U6: 53140 | V6: =1+MOD(U6-1, 9) -> 4 | W6: =V6 -> 4 | Y6: 54610 | Z6: =1+MOD(Y6-1, 9) -> 7 | AA6: =Z6 -> 7 | AC6: 56064 | AD6: =1+MOD(AC6-1, 9) -> 3 | AE6: =AD6 -> 3 | AG6: 57500 | AH6: =1+MOD(AG6-1, 9) -> 8 | AI6: =AH6 -> 8 | AK6: 6 = PURPLE
A7: 45580 | B7: =1+MOD(A7-1, 9) -> 4 | C7: =B7 -> 4 | E7: 47127 | F7: =1+MOD(E7-1, 9) -> 3 | G7: =F7 -> 3 | I7: 48659 | J7: =1+MOD(I7-1, 9) -> 5 | K7: =J7 -> 5 | M7: 50176 | N7: =1+MOD(M7-1, 9) -> 1 | O7: =N7 -> 1 | Q7: 51678 | R7: =1+MOD(Q7-1, 9) -> 9 | S7: =R7 -> 9 | U7: 53164 | V7: =1+MOD(U7-1, 9) -> 1 | W7: =V7 -> 1 | Y7: 54634 | Z7: =1+MOD(Y7-1, 9) -> 4 | AA7: =Z7 -> 4 | AC7: 56088 | AD7: =1+MOD(AC7-1, 9) -> 9 | AE7: =AD7 -> 9 | AG7: 57524 | AH7: =1+MOD(AG7-1, 9) -> 5 | AI7: =AH7 -> 5 | AK7: 7 = WHITE
A8: 45606 | B8: =1+MOD(A8-1, 9) -> 3 | C8: =B8 -> 3 | E8: 47152 | F8: =1+MOD(E8-1, 9) -> 1 | G8: =F8 -> 1 | I8: 48684 | J8: =1+MOD(I8-1, 9) -> 3 | K8: =J8 -> 3 | M8: 50201 | N8: =1+MOD(M8-1, 9) -> 8 | O8: =N8 -> 8 | Q8: 51703 | R8: =1+MOD(Q8-1, 9) -> 7 | S8: =R8 -> 7 | U8: 53189 | V8: =1+MOD(U8-1, 9) -> 8 | W8: =V8 -> 8 | Y8: 54659 | Z8: =1+MOD(Y8-1, 9) -> 2 | AA8: =Z8 -> 2 | AC8: 56112 | AD8: =1+MOD(AC8-1, 9) -> 6 | AE8: =AD8 -> 6 | AG8: 57548 | AH8: =1+MOD(AG8-1, 9) -> 2 | AI8: =AH8 -> 2 | AK8: 8 = PINK
A9: 45632 | B9: =1+MOD(A9-1, 9) -> 2 | C9: =B9 -> 2 | E9: 47178 | F9: =1+MOD(E9-1, 9) -> 9 | G9: =F9 -> 9 | I9: 48710 | J9: =1+MOD(I9-1, 9) -> 2 | K9: =J9 -> 2 | M9: 50226 | N9: =1+MOD(M9-1, 9) -> 6 | O9: =N9 -> 6 | Q9: 51728 | R9: =1+MOD(Q9-1, 9) -> 5 | S9: =R9 -> 5 | U9: 53214 | V9: =1+MOD(U9-1, 9) -> 6 | W9: =V9 -> 6 | Y9: 54683 | Z9: =1+MOD(Y9-1, 9) -> 8 | AA9: =Z9 -> 8 | AC9: 56136 | AD9: =1+MOD(AC9-1, 9) -> 3 | AE9: =AD9 -> 3 | AG9: 57572 | AH9: =1+MOD(AG9-1, 9) -> 8 | AI9: =AH9 -> 8 | AK9: 9 = BROWN
A10: 45658 | B10: =1+MOD(A10-1, 9) -> 1 | C10: =B10 -> 1 | E10: 47204 | F10: =1+MOD(E10-1, 9) -> 8 | G10: =F10 -> 8 | I10: 48735 | J10: =1+MOD(I10-1, 9) -> 9 | K10: =J10 -> 9 | M10: 50252 | N10: =1+MOD(M10-1, 9) -> 5 | O10: =N10 -> 5 | Q10: 51753 | R10: =1+MOD(Q10-1, 9) -> 3 | S10: =R10 -> 3 | U10: 53238 | V10: =1+MOD(U10-1, 9) -> 3 | W10: =V10 -> 3 | Y10: 54708 | Z10: =1+MOD(Y10-1, 9) -> 6 | AA10: =Z10 -> 6 | AC10: 56160 | AD10: =1+MOD(AC10-1, 9) -> 9 | AE10: =AD10 -> 9 | AG10: 57596 | AH10: =1+MOD(AG10-1, 9) -> 5 | AI10: =AH10 -> 5
A11: 45684 | B11: =1+MOD(A11-1, 9) -> 9 | C11: =B11 -> 9 | E11: 47229 | F11: =1+MOD(E11-1, 9) -> 6 | G11: =F11 -> 6 | I11: 48760 | J11: =1+MOD(I11-1, 9) -> 7 | K11: =J11 -> 7 | M11: 50277 | N11: =1+MOD(M11-1, 9) -> 3 | O11: =N11 -> 3 | Q11: 51778 | R11: =1+MOD(Q11-1, 9) -> 1 | S11: =R11 -> 1 | U11: 53263 | V11: =1+MOD(U11-1, 9) -> 1 | W11: =V11 -> 1 | Y11: 54732 | Z11: =1+MOD(Y11-1, 9) -> 3 | AA11: =Z11 -> 3 | AC11: 56184 | AD11: =1+MOD(AC11-1, 9) -> 6 | AE11: =AD11 -> 6 | AG11: 57619 | AH11: =1+MOD(AG11-1, 9) -> 1 | AI11: =AH11 -> 1
A12: 45710 | B12: =1+MOD(A12-1, 9) -> 8 | C12: =B12 -> 8 | E12: 47255 | F12: =1+MOD(E12-1, 9) -> 5 | G12: =F12 -> 5 | I12: 48786 | J12: =1+MOD(I12-1, 9) -> 6 | K12: =J12 -> 6 | M12: 50302 | N12: =1+MOD(M12-1, 9) -> 1 | O12: =N12 -> 1 | Q12: 51803 | R12: =1+MOD(Q12-1, 9) -> 8 | S12: =R12 -> 8 | U12: 53288 | V12: =1+MOD(U12-1, 9) -> 8 | W12: =V12 -> 8 | Y12: 54756 | Z12: =1+MOD(Y12-1, 9) -> 9 | AA12: =Z12 -> 9 | AC12: 56208 | AD12: =1+MOD(AC12-1, 9) -> 3 | AE12: =AD12 -> 3 | AG12: 57643 | AH12: =1+MOD(AG12-1, 9) -> 7 | AI12: =AH12 -> 7
A13: 45736 | B13: =1+MOD(A13-1, 9) -> 7 | C13: =B13 -> 7 | E13: 47281 | F13: =1+MOD(E13-1, 9) -> 4 | G13: =F13 -> 4 | I13: 48811 | J13: =1+MOD(I13-1, 9) -> 4 | K13: =J13 -> 4 | M13: 50327 | N13: =1+MOD(M13-1, 9) -> 8 | O13: =N13 -> 8 | Q13: 51827 | R13: =1+MOD(Q13-1, 9) -> 5 | S13: =R13 -> 5 | U13: 53312 | V13: =1+MOD(U13-1, 9) -> 5 | W13: =V13 -> 5 | Y13: 54781 | Z13: =1+MOD(Y13-1, 9) -> 7 | AA13: =Z13 -> 7 | AC13: 56232 | AD13: =1+MOD(AC13-1, 9) -> 9 | AE13: =AD13 -> 9 | AG13: 57667 | AH13: =1+MOD(AG13-1, 9) -> 4 | AI13: =AH13 -> 4
A14: 45761 | B14: =1+MOD(A14-1, 9) -> 5 | C14: =B14 -> 5 | E14: 47306 | F14: =1+MOD(E14-1, 9) -> 2 | G14: =F14 -> 2 | I14: 48837 | J14: =1+MOD(I14-1, 9) -> 3 | K14: =J14 -> 3 | M14: 50352 | N14: =1+MOD(M14-1, 9) -> 6 | O14: =N14 -> 6 | Q14: 51852 | R14: =1+MOD(Q14-1, 9) -> 3 | S14: =R14 -> 3 | U14: 53337 | V14: =1+MOD(U14-1, 9) -> 3 | W14: =V14 -> 3 | Y14: 54805 | Z14: =1+MOD(Y14-1, 9) -> 4 | AA14: =Z14 -> 4 | AC14: 56256 | AD14: =1+MOD(AC14-1, 9) -> 6 | AE14: =AD14 -> 6 | AG14: 57691 | AH14: =1+MOD(AG14-1, 9) -> 1 | AI14: =AH14 -> 1
A15: 45787 | B15: =1+MOD(A15-1, 9) -> 4 | C15: =B15 -> 4 | E15: 47332 | F15: =1+MOD(E15-1, 9) -> 1 | G15: =F15 -> 1 | I15: 48862 | J15: =1+MOD(I15-1, 9) -> 1 | K15: =J15 -> 1 | M15: 50377 | N15: =1+MOD(M15-1, 9) -> 4 | O15: =N15 -> 4 | Q15: 51877 | R15: =1+MOD(Q15-1, 9) -> 1 | S15: =R15 -> 1 | U15: 53361 | V15: =1+MOD(U15-1, 9) -> 9 | W15: =V15 -> 9 | Y15: 54829 | Z15: =1+MOD(Y15-1, 9) -> 1 | AA15: =Z15 -> 1 | AC15: 56280 | AD15: =1+MOD(AC15-1, 9) -> 3 | AE15: =AD15 -> 3 | AG15: 57714 | AH15: =1+MOD(AG15-1, 9) -> 6 | AI15: =AH15 -> 6
A16: 45813 | B16: =1+MOD(A16-1, 9) -> 3 | C16: =B16 -> 3 | E16: 47357 | F16: =1+MOD(E16-1, 9) -> 8 | G16: =F16 -> 8 | I16: 48887 | J16: =1+MOD(I16-1, 9) -> 8 | K16: =J16 -> 8 | M16: 50402 | N16: =1+MOD(M16-1, 9) -> 2 | O16: =N16 -> 2 | Q16: 51902 | R16: =1+MOD(Q16-1, 9) -> 8 | S16: =R16 -> 8 | U16: 53386 | V16: =1+MOD(U16-1, 9) -> 7 | W16: =V16 -> 7 | Y16: 54854 | Z16: =1+MOD(Y16-1, 9) -> 8 | AA16: =Z16 -> 8 | AC16: 56304 | AD16: =1+MOD(AC16-1, 9) -> 9 | AE16: =AD16 -> 9 | AG16: 57738 | AH16: =1+MOD(AG16-1, 9) -> 3 | AI16: =AH16 -> 3
A17: 45839 | B17: =1+MOD(A17-1, 9) -> 2 | C17: =B17 -> 2 | E17: 47383 | F17: =1+MOD(E17-1, 9) -> 7 | G17: =F17 -> 7 | I17: 48913 | J17: =1+MOD(I17-1, 9) -> 7 | K17: =J17 -> 7 | M17: 50428 | N17: =1+MOD(M17-1, 9) -> 1 | O17: =N17 -> 1 | Q17: 51927 | R17: =1+MOD(Q17-1, 9) -> 6 | S17: =R17 -> 6 | U17: 53411 | V17: =1+MOD(U17-1, 9) -> 5 | W17: =V17 -> 5 | Y17: 54878 | Z17: =1+MOD(Y17-1, 9) -> 5 | AA17: =Z17 -> 5 | AC17: 56328 | AD17: =1+MOD(AC17-1, 9) -> 6 | AE17: =AD17 -> 6 | AG17: 57762 | AH17: =1+MOD(AG17-1, 9) -> 9 | AI17: =AH17 -> 9
A18: 45865 | B18: =1+MOD(A18-1, 9) -> 1 | C18: =B18 -> 1 | E18: 47409 | F18: =1+MOD(E18-1, 9) -> 6 | G18: =F18 -> 6 | I18: 48938 | J18: =1+MOD(I18-1, 9) -> 5 | K18: =J18 -> 5 | M18: 50453 | N18: =1+MOD(M18-1, 9) -> 8 | O18: =N18 -> 8 | Q18: 51952 | R18: =1+MOD(Q18-1, 9) -> 4 | S18: =R18 -> 4 | U18: 53435 | V18: =1+MOD(U18-1, 9) -> 2 | W18: =V18 -> 2 | Y18: 54902 | Z18: =1+MOD(Y18-1, 9) -> 2 | AA18: =Z18 -> 2 | AC18: 56353 | AD18: =1+MOD(AC18-1, 9) -> 4 | AE18: =AD18 -> 4 | AG18: 57786 | AH18: =1+MOD(AG18-1, 9) -> 6 | AI18: =AH18 -> 6
A19: 45891 | B19: =1+MOD(A19-1, 9) -> 9 | C19: =B19 -> 9 | E19: 47434 | F19: =1+MOD(E19-1, 9) -> 4 | G19: =F19 -> 4 | I19: 48964 | J19: =1+MOD(I19-1, 9) -> 4 | K19: =J19 -> 4 | M19: 50478 | N19: =1+MOD(M19-1, 9) -> 6 | O19: =N19 -> 6 | Q19: 51977 | R19: =1+MOD(Q19-1, 9) -> 2 | S19: =R19 -> 2 | U19: 53460 | V19: =1+MOD(U19-1, 9) -> 9 | W19: =V19 -> 9 | Y19: 54926 | Z19: =1+MOD(Y19-1, 9) -> 8 | AA19: =Z19 -> 8 | AC19: 56377 | AD19: =1+MOD(AC19-1, 9) -> 1 | AE19: =AD19 -> 1 | AG19: 57809 | AH19: =1+MOD(AG19-1, 9) -> 2 | AI19: =AH19 -> 2
A20: 45917 | B20: =1+MOD(A20-1, 9) -> 8 | C20: =B20 -> 8 | E20: 47460 | F20: =1+MOD(E20-1, 9) -> 3 | G20: =F20 -> 3 | I20: 48989 | J20: =1+MOD(I20-1, 9) -> 2 | K20: =J20 -> 2 | M20: 50503 | N20: =1+MOD(M20-1, 9) -> 4 | O20: =N20 -> 4 | Q20: 52002 | R20: =1+MOD(Q20-1, 9) -> 9 | S20: =R20 -> 9 | U20: 53484 | V20: =1+MOD(U20-1, 9) -> 6 | W20: =V20 -> 6 | Y20: 54951 | Z20: =1+MOD(Y20-1, 9) -> 6 | AA20: =Z20 -> 6 | AC20: 56401 | AD20: =1+MOD(AC20-1, 9) -> 7 | AE20: =AD20 -> 7 | AG20: 57833 | AH20: =1+MOD(AG20-1, 9) -> 8 | AI20: =AH20 -> 8
A21: 45942 | B21: =1+MOD(A21-1, 9) -> 6 | C21: =B21 -> 6 | E21: 47486 | F21: =1+MOD(E21-1, 9) -> 2 | G21: =F21 -> 2 | I21: 49014 | J21: =1+MOD(I21-1, 9) -> 9 | K21: =J21 -> 9 | M21: 50528 | N21: =1+MOD(M21-1, 9) -> 2 | O21: =N21 -> 2 | Q21: 52026 | R21: =1+MOD(Q21-1, 9) -> 6 | S21: =R21 -> 6 | U21: 53509 | V21: =1+MOD(U21-1, 9) -> 4 | W21: =V21 -> 4 | Y21: 54975 | Z21: =1+MOD(Y21-1, 9) -> 3 | AA21: =Z21 -> 3 | AC21: 56425 | AD21: =1+MOD(AC21-1, 9) -> 4 | AE21: =AD21 -> 4 | AG21: 57857 | AH21: =1+MOD(AG21-1, 9) -> 5 | AI21: =AH21 -> 5
... A60: 46947 | B60: =1+MOD(A60-1, 9) -> 3 | C60: =B60 -> 3 | E60: 48481 | F60: =1+MOD(E60-1, 9) -> 7 | G60: =F60 -> 7 | I60: 50000 | J60: =1+MOD(I60-1, 9) -> 5 | K60: =J60 -> 5 | M60: 51504 | N60: =1+MOD(M60-1, 9) -> 6 | O60: =N60 -> 6 | Q60: 52992 | R60: =1+MOD(Q60-1, 9) -> 9 | S60: =R60 -> 9 | U60: 54464 | V60: =1+MOD(U60-1, 9) -> 5 | W60: =V60 -> 5 | Y60: 55919 | Z60: =1+MOD(Y60-1, 9) -> 2 | AA60: =Z60 -> 2 | AC60: 57358 | AD60: =1+MOD(AC60-1, 9) -> 1 | AE60: =AD60 -> 1 | AG60: 58778 | AH60: =1+MOD(AG60-1, 9) -> 8 | AI60: =AH60 -> 8

Sheet 37-45
A1: 58802 | B1: =1+MOD(A1-1, 9) -> 5 | C1: =B1 -> 5 | E1: 60205 | F1: =1+MOD(E1-1, 9) -> 4 | G1: =F1 -> 4 | I1: 61589 | J1: =1+MOD(I1-1, 9) -> 2 | K1: =J1 -> 2 | M1: 62955 | N1: =1+MOD(M1-1, 9) -> 9 | O1: =N1 -> 9 | Q1: 64301 | R1: =1+MOD(Q1-1, 9) -> 5 | S1: =R1 -> 5 | U1: 65628 | V1: =1+MOD(U1-1, 9) -> 9 | W1: =V1 -> 9 | Y1: 66935 | Z1: =1+MOD(Y1-1, 9) -> 2 | AA1: =Z1 -> 2 | AC1: 68221 | AD1: =1+MOD(AC1-1, 9) -> 1 | AE1: =AD1 -> 1 | AG1: 69487 | AH1: =1+MOD(AG1-1, 9) -> 7 | AI1: =AH1 -> 7 | AK1: 1 = RED
A2: 58825 | B2: =1+MOD(A2-1, 9) -> 1 | C2: =B2 -> 1 | E2: 60228 | F2: =1+MOD(E2-1, 9) -> 9 | G2: =F2 -> 9 | I2: 61612 | J2: =1+MOD(I2-1, 9) -> 7 | K2: =J2 -> 7 | M2: 62977 | N2: =1+MOD(M2-1, 9) -> 4 | O2: =N2 -> 4 | Q2: 64323 | R2: =1+MOD(Q2-1, 9) -> 9 | S2: =R2 -> 9 | U2: 65650 | V2: =1+MOD(U2-1, 9) -> 4 | W2: =V2 -> 4 | Y2: 66956 | Z2: =1+MOD(Y2-1, 9) -> 5 | AA2: =Z2 -> 5 | AC2: 68242 | AD2: =1+MOD(AC2-1, 9) -> 4 | AE2: =AD2 -> 4 | AG2: 69508 | AH2: =1+MOD(AG2-1, 9) -> 1 | AI2: =AH2 -> 1 | AK2: 2 = GREEN
A3: 58849 | B3: =1+MOD(A3-1, 9) -> 7 | C3: =B3 -> 7 | E3: 60251 | F3: =1+MOD(E3-1, 9) -> 5 | G3: =F3 -> 5 | I3: 61635 | J3: =1+MOD(I3-1, 9) -> 3 | K3: =J3 -> 3 | M3: 63000 | N3: =1+MOD(M3-1, 9) -> 9 | O3: =N3 -> 9 | Q3: 64345 | R3: =1+MOD(Q3-1, 9) -> 4 | S3: =R3 -> 4 | U3: 65672 | V3: =1+MOD(U3-1, 9) -> 8 | W3: =V3 -> 8 | Y3: 66978 | Z3: =1+MOD(Y3-1, 9) -> 9 | AA3: =Z3 -> 9 | AC3: 68264 | AD3: =1+MOD(AC3-1, 9) -> 8 | AE3: =AD3 -> 8 | AG3: 69528 | AH3: =1+MOD(AG3-1, 9) -> 3 | AI3: =AH3 -> 3 | AK3: 3 = BLUE
A4: 58873 | B4: =1+MOD(A4-1, 9) -> 4 | C4: =B4 -> 4 | E4: 60274 | F4: =1+MOD(E4-1, 9) -> 1 | G4: =F4 -> 1 | I4: 61658 | J4: =1+MOD(I4-1, 9) -> 8 | K4: =J4 -> 8 | M4: 63022 | N4: =1+MOD(M4-1, 9) -> 4 | O4: =N4 -> 4 | Q4: 64368 | R4: =1+MOD(Q4-1, 9) -> 9 | S4: =R4 -> 9 | U4: 65694 | V4: =1+MOD(U4-1, 9) -> 3 | W4: =V4 -> 3 | Y4: 66999 | Z4: =1+MOD(Y4-1, 9) -> 3 | AA4: =Z4 -> 3 | AC4: 68285 | AD4: =1+MOD(AC4-1, 9) -> 2 | AE4: =AD4 -> 2 | AG4: 69549 | AH4: =1+MOD(AG4-1, 9) -> 6 | AI4: =AH4 -> 6 | AK4: 4 = YELLOW
A5: 58896 | B5: =1+MOD(A5-1, 9) -> 9 | C5: =B5 -> 9 | E5: 60298 | F5: =1+MOD(E5-1, 9) -> 7 | G5: =F5 -> 7 | I5: 61681 | J5: =1+MOD(I5-1, 9) -> 4 | K5: =J5 -> 4 | M5: 63045 | N5: =1+MOD(M5-1, 9) -> 9 | O5: =N5 -> 9 | Q5: 64390 | R5: =1+MOD(Q5-1, 9) -> 4 | S5: =R5 -> 4 | U5: 65716 | V5: =1+MOD(U5-1, 9) -> 7 | W5: =V5 -> 7 | Y5: 67021 | Z5: =1+MOD(Y5-1, 9) -> 7 | AA5: =Z5 -> 7 | AC5: 68306 | AD5: =1+MOD(AC5-1, 9) -> 5 | AE5: =AD5 -> 5 | AG5: 69570 | AH5: =1+MOD(AG5-1, 9) -> 9 | AI5: =AH5 -> 9 | AK5: 5 = CYAN
A6: 58920 | B6: =1+MOD(A6-1, 9) -> 6 | C6: =B6 -> 6 | E6: 60320 | F6: =1+MOD(E6-1, 9) -> 2 | G6: =F6 -> 2 | I6: 61703 | J6: =1+MOD(I6-1, 9) -> 8 | K6: =J6 -> 8 | M6: 63067 | N6: =1+MOD(M6-1, 9) -> 4 | O6: =N6 -> 4 | Q6: 64412 | R6: =1+MOD(Q6-1, 9) -> 8 | S6: =R6 -> 8 | U6: 65737 | V6: =1+MOD(U6-1, 9) -> 1 | W6: =V6 -> 1 | Y6: 67043 | Z6: =1+MOD(Y6-1, 9) -> 2 | AA6: =Z6 -> 2 | AC6: 68327 | AD6: =1+MOD(AC6-1, 9) -> 8 | AE6: =AD6 -> 8 | AG6: 69591 | AH6: =1+MOD(AG6-1, 9) -> 3 | AI6: =AH6 -> 3 | AK6: 6 = PURPLE
A7: 58943 | B7: =1+MOD(A7-1, 9) -> 2 | C7: =B7 -> 2 | E7: 60344 | F7: =1+MOD(E7-1, 9) -> 8 | G7: =F7 -> 8 | I7: 61726 | J7: =1+MOD(I7-1, 9) -> 4 | K7: =J7 -> 4 | M7: 63090 | N7: =1+MOD(M7-1, 9) -> 9 | O7: =N7 -> 9 | Q7: 64435 | R7: =1+MOD(Q7-1, 9) -> 4 | S7: =R7 -> 4 | U7: 65759 | V7: =1+MOD(U7-1, 9) -> 5 | W7: =V7 -> 5 | Y7: 67064 | Z7: =1+MOD(Y7-1, 9) -> 5 | AA7: =Z7 -> 5 | AC7: 68349 | AD7: =1+MOD(AC7-1, 9) -> 3 | AE7: =AD7 -> 3 | AG7: 69612 | AH7: =1+MOD(AG7-1, 9) -> 6 | AI7: =AH7 -> 6 | AK7: 7 = WHITE
A8: 58967 | B8: =1+MOD(A8-1, 9) -> 8 | C8: =B8 -> 8 | E8: 60367 | F8: =1+MOD(E8-1, 9) -> 4 | G8: =F8 -> 4 | I8: 61749 | J8: =1+MOD(I8-1, 9) -> 9 | K8: =J8 -> 9 | M8: 63113 | N8: =1+MOD(M8-1, 9) -> 5 | O8: =N8 -> 5 | Q8: 64457 | R8: =1+MOD(Q8-1, 9) -> 8 | S8: =R8 -> 8 | U8: 65781 | V8: =1+MOD(U8-1, 9) -> 9 | W8: =V8 -> 9 | Y8: 67086 | Z8: =1+MOD(Y8-1, 9) -> 9 | AA8: =Z8 -> 9 | AC8: 68370 | AD8: =1+MOD(AC8-1, 9) -> 6 | AE8: =AD8 -> 6 | AG8: 69633 | AH8: =1+MOD(AG8-1, 9) -> 9 | AI8: =AH8 -> 9 | AK8: 8 = PINK
A9: 58990 | B9: =1+MOD(A9-1, 9) -> 4 | C9: =B9 -> 4 | E9: 60390 | F9: =1+MOD(E9-1, 9) -> 9 | G9: =F9 -> 9 | I9: 61772 | J9: =1+MOD(I9-1, 9) -> 5 | K9: =J9 -> 5 | M9: 63135 | N9: =1+MOD(M9-1, 9) -> 9 | O9: =N9 -> 9 | Q9: 64479 | R9: =1+MOD(Q9-1, 9) -> 3 | S9: =R9 -> 3 | U9: 65803 | V9: =1+MOD(U9-1, 9) -> 4 | W9: =V9 -> 4 | Y9: 67107 | Z9: =1+MOD(Y9-1, 9) -> 3 | AA9: =Z9 -> 3 | AC9: 68391 | AD9: =1+MOD(AC9-1, 9) -> 9 | AE9: =AD9 -> 9 | AG9: 69654 | AH9: =1+MOD(AG9-1, 9) -> 3 | AI9: =AH9 -> 3 | AK9: 9 = BROWN
A10: 59014 | B10: =1+MOD(A10-1, 9) -> 1 | C10: =B10 -> 1 | E10: 60413 | F10: =1+MOD(E10-1, 9) -> 5 | G10: =F10 -> 5 | I10: 61795 | J10: =1+MOD(I10-1, 9) -> 1 | K10: =J10 -> 1 | M10: 63158 | N10: =1+MOD(M10-1, 9) -> 5 | O10: =N10 -> 5 | Q10: 64501 | R10: =1+MOD(Q10-1, 9) -> 7 | S10: =R10 -> 7 | U10: 65825 | V10: =1+MOD(U10-1, 9) -> 8 | W10: =V10 -> 8 | Y10: 67129 | Z10: =1+MOD(Y10-1, 9) -> 7 | AA10: =Z10 -> 7 | AC10: 68412 | AD10: =1+MOD(AC10-1, 9) -> 3 | AE10: =AD10 -> 3 | AG10: 69675 | AH10: =1+MOD(AG10-1, 9) -> 6 | AI10: =AH10 -> 6
A11: 59037 | B11: =1+MOD(A11-1, 9) -> 6 | C11: =B11 -> 6 | E11: 60437 | F11: =1+MOD(E11-1, 9) -> 2 | G11: =F11 -> 2 | I11: 61818 | J11: =1+MOD(I11-1, 9) -> 6 | K11: =J11 -> 6 | M11: 63180 | N11: =1+MOD(M11-1, 9) -> 9 | O11: =N11 -> 9 | Q11: 64523 | R11: =1+MOD(Q11-1, 9) -> 2 | S11: =R11 -> 2 | U11: 65847 | V11: =1+MOD(U11-1, 9) -> 3 | W11: =V11 -> 3 | Y11: 67150 | Z11: =1+MOD(Y11-1, 9) -> 1 | AA11: =Z11 -> 1 | AC11: 68433 | AD11: =1+MOD(AC11-1, 9) -> 6 | AE11: =AD11 -> 6 | AG11: 69696 | AH11: =1+MOD(AG11-1, 9) -> 9 | AI11: =AH11 -> 9
A12: 59060 | B12: =1+MOD(A12-1, 9) -> 2 | C12: =B12 -> 2 | E12: 60460 | F12: =1+MOD(E12-1, 9) -> 7 | G12: =F12 -> 7 | I12: 61841 | J12: =1+MOD(I12-1, 9) -> 2 | K12: =J12 -> 2 | M12: 63203 | N12: =1+MOD(M12-1, 9) -> 5 | O12: =N12 -> 5 | Q12: 64546 | R12: =1+MOD(Q12-1, 9) -> 7 | S12: =R12 -> 7 | U12: 65869 | V12: =1+MOD(U12-1, 9) -> 7 | W12: =V12 -> 7 | Y12: 67172 | Z12: =1+MOD(Y12-1, 9) -> 5 | AA12: =Z12 -> 5 | AC12: 68455 | AD12: =1+MOD(AC12-1, 9) -> 1 | AE12: =AD12 -> 1 | AG12: 69716 | AH12: =1+MOD(AG12-1, 9) -> 2 | AI12: =AH12 -> 2
A13: 59084 | B13: =1+MOD(A13-1, 9) -> 8 | C13: =B13 -> 8 | E13: 60483 | F13: =1+MOD(E13-1, 9) -> 3 | G13: =F13 -> 3 | I13: 61864 | J13: =1+MOD(I13-1, 9) -> 7 | K13: =J13 -> 7 | M13: 63225 | N13: =1+MOD(M13-1, 9) -> 9 | O13: =N13 -> 9 | Q13: 64568 | R13: =1+MOD(Q13-1, 9) -> 2 | S13: =R13 -> 2 | U13: 65891 | V13: =1+MOD(U13-1, 9) -> 2 | W13: =V13 -> 2 | Y13: 67194 | Z13: =1+MOD(Y13-1, 9) -> 9 | AA13: =Z13 -> 9 | AC13: 68476 | AD13: =1+MOD(AC13-1, 9) -> 4 | AE13: =AD13 -> 4 | AG13: 69737 | AH13: =1+MOD(AG13-1, 9) -> 5 | AI13: =AH13 -> 5
A14: 59107 | B14: =1+MOD(A14-1, 9) -> 4 | C14: =B14 -> 4 | E14: 60506 | F14: =1+MOD(E14-1, 9) -> 8 | G14: =F14 -> 8 | I14: 61886 | J14: =1+MOD(I14-1, 9) -> 2 | K14: =J14 -> 2 | M14: 63248 | N14: =1+MOD(M14-1, 9) -> 5 | O14: =N14 -> 5 | Q14: 64590 | R14: =1+MOD(Q14-1, 9) -> 6 | S14: =R14 -> 6 | U14: 65913 | V14: =1+MOD(U14-1, 9) -> 6 | W14: =V14 -> 6 | Y14: 67215 | Z14: =1+MOD(Y14-1, 9) -> 3 | AA14: =Z14 -> 3 | AC14: 68497 | AD14: =1+MOD(AC14-1, 9) -> 7 | AE14: =AD14 -> 7 | AG14: 69758 | AH14: =1+MOD(AG14-1, 9) -> 8 | AI14: =AH14 -> 8
A15: 59131 | B15: =1+MOD(A15-1, 9) -> 1 | C15: =B15 -> 1 | E15: 60529 | F15: =1+MOD(E15-1, 9) -> 4 | G15: =F15 -> 4 | I15: 61909 | J15: =1+MOD(I15-1, 9) -> 7 | K15: =J15 -> 7 | M15: 63270 | N15: =1+MOD(M15-1, 9) -> 9 | O15: =N15 -> 9 | Q15: 64612 | R15: =1+MOD(Q15-1, 9) -> 1 | S15: =R15 -> 1 | U15: 65934 | V15: =1+MOD(U15-1, 9) -> 9 | W15: =V15 -> 9 | Y15: 67237 | Z15: =1+MOD(Y15-1, 9) -> 7 | AA15: =Z15 -> 7 | AC15: 68518 | AD15: =1+MOD(AC15-1, 9) -> 1 | AE15: =AD15 -> 1 | AG15: 69779 | AH15: =1+MOD(AG15-1, 9) -> 2 | AI15: =AH15 -> 2
A16: 59154 | B16: =1+MOD(A16-1, 9) -> 6 | C16: =B16 -> 6 | E16: 60552 | F16: =1+MOD(E16-1, 9) -> 9 | G16: =F16 -> 9 | I16: 61932 | J16: =1+MOD(I16-1, 9) -> 3 | K16: =J16 -> 3 | M16: 63293 | N16: =1+MOD(M16-1, 9) -> 5 | O16: =N16 -> 5 | Q16: 64635 | R16: =1+MOD(Q16-1, 9) -> 6 | S16: =R16 -> 6 | U16: 65956 | V16: =1+MOD(U16-1, 9) -> 4 | W16: =V16 -> 4 | Y16: 67258 | Z16: =1+MOD(Y16-1, 9) -> 1 | AA16: =Z16 -> 1 | AC16: 68539 | AD16: =1+MOD(AC16-1, 9) -> 4 | AE16: =AD16 -> 4 | AG16: 69800 | AH16: =1+MOD(AG16-1, 9) -> 5 | AI16: =AH16 -> 5
A17: 59178 | B17: =1+MOD(A17-1, 9) -> 3 | C17: =B17 -> 3 | E17: 60576 | F17: =1+MOD(E17-1, 9) -> 6 | G17: =F17 -> 6 | I17: 61955 | J17: =1+MOD(I17-1, 9) -> 8 | K17: =J17 -> 8 | M17: 63315 | N17: =1+MOD(M17-1, 9) -> 9 | O17: =N17 -> 9 | Q17: 64657 | R17: =1+MOD(Q17-1, 9) -> 1 | S17: =R17 -> 1 | U17: 65978 | V17: =1+MOD(U17-1, 9) -> 8 | W17: =V17 -> 8 | Y17: 67280 | Z17: =1+MOD(Y17-1, 9) -> 5 | AA17: =Z17 -> 5 | AC17: 68561 | AD17: =1+MOD(AC17-1, 9) -> 8 | AE17: =AD17 -> 8 | AG17: 69821 | AH17: =1+MOD(AG17-1, 9) -> 8 | AI17: =AH17 -> 8
A18: 59201 | B18: =1+MOD(A18-1, 9) -> 8 | C18: =B18 -> 8 | E18: 60599 | F18: =1+MOD(E18-1, 9) -> 2 | G18: =F18 -> 2 | I18: 61978 | J18: =1+MOD(I18-1, 9) -> 4 | K18: =J18 -> 4 | M18: 63338 | N18: =1+MOD(M18-1, 9) -> 5 | O18: =N18 -> 5 | Q18: 64679 | R18: =1+MOD(Q18-1, 9) -> 5 | S18: =R18 -> 5 | U18: 66000 | V18: =1+MOD(U18-1, 9) -> 3 | W18: =V18 -> 3 | Y18: 67301 | Z18: =1+MOD(Y18-1, 9) -> 8 | AA18: =Z18 -> 8 | AC18: 68582 | AD18: =1+MOD(AC18-1, 9) -> 2 | AE18: =AD18 -> 2 | AG18: 69841 | AH18: =1+MOD(AG18-1, 9) -> 1 | AI18: =AH18 -> 1
A19: 59225 | B19: =1+MOD(A19-1, 9) -> 5 | C19: =B19 -> 5 | E19: 60622 | F19: =1+MOD(E19-1, 9) -> 7 | G19: =F19 -> 7 | I19: 62001 | J19: =1+MOD(I19-1, 9) -> 9 | K19: =J19 -> 9 | M19: 63360 | N19: =1+MOD(M19-1, 9) -> 9 | O19: =N19 -> 9 | Q19: 64701 | R19: =1+MOD(Q19-1, 9) -> 9 | S19: =R19 -> 9 | U19: 66022 | V19: =1+MOD(U19-1, 9) -> 7 | W19: =V19 -> 7 | Y19: 67323 | Z19: =1+MOD(Y19-1, 9) -> 3 | AA19: =Z19 -> 3 | AC19: 68603 | AD19: =1+MOD(AC19-1, 9) -> 5 | AE19: =AD19 -> 5 | AG19: 69862 | AH19: =1+MOD(AG19-1, 9) -> 4 | AI19: =AH19 -> 4
A20: 59248 | B20: =1+MOD(A20-1, 9) -> 1 | C20: =B20 -> 1 | E20: 60645 | F20: =1+MOD(E20-1, 9) -> 3 | G20: =F20 -> 3 | I20: 62023 | J20: =1+MOD(I20-1, 9) -> 4 | K20: =J20 -> 4 | M20: 63383 | N20: =1+MOD(M20-1, 9) -> 5 | O20: =N20 -> 5 | Q20: 64723 | R20: =1+MOD(Q20-1, 9) -> 4 | S20: =R20 -> 4 | U20: 66044 | V20: =1+MOD(U20-1, 9) -> 2 | W20: =V20 -> 2 | Y20: 67344 | Z20: =1+MOD(Y20-1, 9) -> 6 | AA20: =Z20 -> 6 | AC20: 68624 | AD20: =1+MOD(AC20-1, 9) -> 8 | AE20: =AD20 -> 8 | AG20: 69883 | AH20: =1+MOD(AG20-1, 9) -> 7 | AI20: =AH20 -> 7
A21: 59272 | B21: =1+MOD(A21-1, 9) -> 7 | C21: =B21 -> 7 | E21: 60668 | F21: =1+MOD(E21-1, 9) -> 8 | G21: =F21 -> 8 | I21: 62046 | J21: =1+MOD(I21-1, 9) -> 9 | K21: =J21 -> 9 | M21: 63405 | N21: =1+MOD(M21-1, 9) -> 9 | O21: =N21 -> 9 | Q21: 64745 | R21: =1+MOD(Q21-1, 9) -> 8 | S21: =R21 -> 8 | U21: 66066 | V21: =1+MOD(U21-1, 9) -> 6 | W21: =V21 -> 6 | Y21: 67366 | Z21: =1+MOD(Y21-1, 9) -> 1 | AA21: =Z21 -> 1 | AC21: 68645 | AD21: =1+MOD(AC21-1, 9) -> 2 | AE21: =AD21 -> 2 | AG21: 69904 | AH21: =1+MOD(AG21-1, 9) -> 1 | AI21: =AH21 -> 1
... A60: 60181 | B60: =1+MOD(A60-1, 9) -> 7 | C60: =B60 -> 7 | E60: 61566 | F60: =1+MOD(E60-1, 9) -> 6 | G60: =F60 -> 6 | I60: 62932 | J60: =1+MOD(I60-1, 9) -> 4 | K60: =J60 -> 4 | M60: 64279 | N60: =1+MOD(M60-1, 9) -> 1 | O60: =N60 -> 1 | Q60: 65606 | R60: =1+MOD(Q60-1, 9) -> 5 | S60: =R60 -> 5 | U60: 66913 | V60: =1+MOD(U60-1, 9) -> 7 | W60: =V60 -> 7 | Y60: 68200 | Z60: =1+MOD(Y60-1, 9) -> 7 | AA60: =Z60 -> 7 | AC60: 69466 | AD60: =1+MOD(AC60-1, 9) -> 4 | AE60: =AD60 -> 4 | AG60: 70711 | AH60: =1+MOD(AG60-1, 9) -> 7 | AI60: =AH60 -> 7

Sheet 46-54
A1: 70731 | B1: =1+MOD(A1-1, 9) -> 9 | C1: =B1 -> 9 | E1: 71954 | F1: =1+MOD(E1-1, 9) -> 8 | G1: =F1 -> 8 | I1: 73155 | J1: =1+MOD(I1-1, 9) -> 3 | K1: =J1 -> 3 | M1: 74334 | N1: =1+MOD(M1-1, 9) -> 3 | O1: =N1 -> 3 | Q1: 75490 | R1: =1+MOD(Q1-1, 9) -> 7 | S1: =R1 -> 7 | U1: 76623 | V1: =1+MOD(U1-1, 9) -> 6 | W1: =V1 -> 6 | Y1: 77733 | Z1: =1+MOD(Y1-1, 9) -> 9 | AA1: =Z1 -> 9 | AC1: 78819 | AD1: =1+MOD(AC1-1, 9) -> 6 | AE1: =AD1 -> 6 | AG1: 79881 | AH1: =1+MOD(AG1-1, 9) -> 6 | AI1: =AH1 -> 6 | AK1: 1 = RED
A2: 70752 | B2: =1+MOD(A2-1, 9) -> 3 | C2: =B2 -> 3 | E2: 71974 | F2: =1+MOD(E2-1, 9) -> 1 | G2: =F2 -> 1 | I2: 73175 | J2: =1+MOD(I2-1, 9) -> 5 | K2: =J2 -> 5 | M2: 74353 | N2: =1+MOD(M2-1, 9) -> 4 | O2: =N2 -> 4 | Q2: 75509 | R2: =1+MOD(Q2-1, 9) -> 8 | S2: =R2 -> 8 | U2: 76642 | V2: =1+MOD(U2-1, 9) -> 7 | W2: =V2 -> 7 | Y2: 77751 | Z2: =1+MOD(Y2-1, 9) -> 9 | AA2: =Z2 -> 9 | AC2: 78837 | AD2: =1+MOD(AC2-1, 9) -> 6 | AE2: =AD2 -> 6 | AG2: 79898 | AH2: =1+MOD(AG2-1, 9) -> 5 | AI2: =AH2 -> 5 | AK2: 2 = GREEN
A3: 70772 | B3: =1+MOD(A3-1, 9) -> 5 | C3: =B3 -> 5 | E3: 71994 | F3: =1+MOD(E3-1, 9) -> 3 | G3: =F3 -> 3 | I3: 73195 | J3: =1+MOD(I3-1, 9) -> 7 | K3: =J3 -> 7 | M3: 74373 | N3: =1+MOD(M3-1, 9) -> 6 | O3: =N3 -> 6 | Q3: 75528 | R3: =1+MOD(Q3-1, 9) -> 9 | S3: =R3 -> 9 | U3: 76660 | V3: =1+MOD(U3-1, 9) -> 7 | W3: =V3 -> 7 | Y3: 77769 | Z3: =1+MOD(Y3-1, 9) -> 9 | AA3: =Z3 -> 9 | AC3: 78855 | AD3: =1+MOD(AC3-1, 9) -> 6 | AE3: =AD3 -> 6 | AG3: 79916 | AH3: =1+MOD(AG3-1, 9) -> 5 | AI3: =AH3 -> 5 | AK3: 3 = BLUE
