Workbook

Sheet ANNOUNCEMENTS

Sheet by deposit
A1: DEPOSIT DATE | B1: AMOUNT | C1: NOTES
A2: DEPOSIT 4/21/21
A3: ANNUAL CONVENTION - GATLINBURG | B3: 115
A4: TOTAL CONVENTION | B4: =SUM(B3) -> 115
A6: ELIZABETHTON LODGE 1847 | B6: 240
A7: TIPTON, LOGAN | B7: 10
A8: TIPTON, CARLY | B8: 10
A9: ARNOLD, TAYLOR | B9: 100
A10: MOODY, KAYE | B10: 30
A11: JONES, JAMIE | B11: 40
A12: SOLOMON, DWAYNE | B12: 80
A13: AUSTIN, KERRI | B13: 20
A14: LIPFORD, BOB | B14: 20
A15: McCORMICK, ANN MARIE | B15: 20
A16: DUFFY, GEORGE | B16: 20
A17: DUFFY, CINDY | B17: 20
A18: WILLIAMS, BRADY | B18: 20
A19: TOTAL ELIZABETHTON LODGE 1847 | B19: =SUM(B6:B18) -> 630
A21: LAWRENCEBURG LODGE
A22: CROUCH, ALARIC | B22: 25
A23: TOTAL LAWRENCEBURG LODGE | B23: =SUM(B22) -> 25
A25: TOTAL 4/21/22 DEPOSIT | B25: =B4+B19+B23 -> 770
A27: DEPOSIT 6/9/22
A28: CHATTANOOGA LODGE #91 | B28: 600
A29: TOTAL CHATTANOOGA LODGE 91 | B29: =SUM(B28) -> 600
A30: TOTAL 6/9/22 DEPOSIT | B30: =SUM(B29) -> 600
A32: DEPOSIT 6/22/22
A33: ELIZABETHTON LODGE #1944 | B33: 1100
A34: TOTAL ELIZABETHON LODGE 1944 | B34: =SUM(B33) -> 1100
A35: TOTAL 6/22/22 DEPOSIT | B35: =SUM(B34) -> 1100
A42: TOTAL DEPOSITS | B42: =B25+B30+B35 -> 2470

Sheet by lodge
A1: LODGE | B1: LODGE # | C1: DISTRICT | D1: DONATION | E1: MEMBERSHIP AS OF 4-1-22 | F1: PER CAPITA AMT | G1: TEBT PER CAPITA | H1: over/under per capita
A3: ATHENS | B3: 1927 | C3: EAST | D3: 0 | E3: 213 | F3: 3.05 | G3: =E3*F3 -> 649.65
A4: CHATTANOOGA | B4: 91 | D4: ='by deposit'!B29 -> 600 | E4: 653 | F4: 3.05 | G4: =E4*F4 -> 1991.65
A5: CLEVELAND | B5: 1944 | D5: 0 | E5: 368 | F5: 3.05 | G5: =E5*F5 -> 1122.4
A6: ELIZABETHON | B6: 1847 | D6: ='by deposit'!B19+'by deposit'!B34 -> 1730 | E6: 308 | F6: 3.05 | G6: =E6*F6 -> 939.4
A7: ERWIN | B7: 1985 | D7: 0 | E7: 297 | F7: 3.05 | G7: =E7*F7 -> 905.85
A8: GATLINGBURG | B8: 1925 | D8: ='by deposit'!B293 -> 0 | E8: 298 | F8: 3.05 | G8: =E8*F8 -> 908.9
A9: JOHNSON CITY | B9: 825 | D9: ='by deposit'!B301 -> 0 | E9: 218 | F9: 3.05 | G9: =E9*F9 -> 664.9
A10: KNOXVILLE | B10: 160 | D10: ='by deposit'!B218 -> 0 | E10: 285 | F10: 3.05 | G10: =E10*F10 -> 869.25
A11: MORRISTOWN | B11: 1667 | D11: ='by deposit'!B108+'by deposit'!B353 -> 0 | E11: 538 | F11: 3.05 | G11: =E11*F11 -> 1640.9
A12: OAK RIDGE | B12: 1684 | D12: ='by deposit'!B270 -> 0 | E12: 176 | F12: 3.05 | G12: =E12*F12 -> 536.8
A13: TOTAL EAST | D13: =SUM(D4:D12) -> 2330 | E13: =SUM(E3:E12) -> 3354 | F13: 3.05 | G13: =E13*F13 -> 10229.7
A16: COLUMBIA | B16: 686 | C16: Middle | D16: ='by deposit'!B197+'by deposit'!B280 -> 0 | E16: 509 | F16: 3.05 | G16: =E16*F16 -> 1552.45
A17: CUMBERLAND COUNTY | B17: 2751 | D17: ='by deposit'!B344 -> 0 | E17: 352 | F17: 3.05 | G17: =E17*F17 -> 1073.6
A18: FAYETTEVILLE | B18: 1792 | D18: ='by deposit'!B214 -> 0 | E18: 362 | F18: 3.05 | G18: =E18*F18 -> 1104.1
A19: GALLATIN | B19: 2547 | D19: 0 | E19: 155 | F19: 3.05 | G19: =E19*F19 -> 472.75
A20: LAWRENCEBURG | B20: 2206 | D20: ='by deposit'!B23 -> 25 | E20: 298 | F20: 3.05 | G20: =E20*F20 -> 908.9
A21: LEWIS COUNTY | B21: 2883 | D21: =+'by deposit'!B224+'by deposit'!B242+'by deposit'!B329 -> 0 | E21: 181 | F21: 3.05 | G21: =E21*F21 -> 552.05
A22: LEWISBURG | B22: 1990 | D22: ='by deposit'!B227 -> 0 | E22: 323 | F22: 3.05 | G22: =E22*F22 -> 985.15
A23: MADISON | B23: 2473 | D23: ='by deposit'!B332 -> 0 | E23: 263 | F23: 3.05 | G23: =E23*F23 -> 802.15
A24: NASHVILLE/FRANKLIN | B24: 72 | D24: ='by deposit'!B184+'by deposit'!B312+'by deposit'!B356 -> 0 | E24: 431 | F24: 3.05 | G24: =E24*F24 -> 1314.55
A25: PULASKI | B25: 1827 | D25: ='by deposit'!B41+'by deposit'!B274+'by deposit'!B367 -> 0 | E25: 314 | F25: 3.05 | G25: =E25*F25 -> 957.7
A26: TOTAL MIDDLE | D26: =SUM(D16:D25) -> 25 | E26: =SUM(E16:E25) -> 3188 | F26: 3.05 | G26: =E26*F26 -> 9723.4
A29: CAMDEN | B29: 2156 | C29: West | D29: 0 | E29: 250 | F29: 3.05 | G29: =E29*F29 -> 762.5
A30: DECATUR COUNTY | B30: 2641 | D30: ='by deposit'!B211 -> 0 | E30: 192 | F30: 3.05 | G30: =E30*F30 -> 585.6
A31: DRESDEN | B31: 2373 | D31: ='by deposit'!B38+'by deposit'!B61+'by deposit'!B71+'by deposit'!B285+'by deposit'!B318 -> 0 | E31: 278 | F31: 3.05 | G31: =E31*F31 -> 847.9
A32: HENDERSON | B32: 2459 | D32: 0 | E32: 148 | F32: 3.05 | G32: =E32*F32 -> 451.4
A33: HUNTINGDON | B33: 2152 | D33: ='by deposit'!B321 -> 0 | E33: 241 | F33: 3.05 | G33: =E33*F33 -> 735.05
A34: JACKSON | B34: 192 | D34: ='by deposit'!B133+'by deposit'!B127+'by deposit'!B239+'by deposit'!B298+'by deposit'!B324 -> 0 | E34: 244 | F34: 3.05 | G34: =E34*F34 -> 744.2
A35: PARIS | B35: 816 | D35: ='by deposit'!B359 -> 0 | E35: 164 | F35: 3.05 | G35: =E35*F35 -> 500.2
A36: TRENTON | B36: 1279 | D36: ='by deposit'!B188+'by deposit'!B335 -> 0 | E36: 447 | F36: 3.05 | G36: =E36*F36 -> 1363.35
A37: WAVERLY | B37: 2289 | D37: ='by deposit'!B44+'by deposit'!B371 -> 0 | E37: 313 | F37: 3.05 | G37: =E37*F37 -> 954.65
A38: TOTAL WEST | D38: =SUM(D29:D37) -> 0 | E38: =SUM(E29:E37) -> 2277 | F38: 3.05 | G38: =SUM(G29:G37) -> 6944.85
A41: EAST DISTRICT | D41: =D13 -> 2330
A42: MIDDLE DISTRICT | D42: =D26 -> 25
A43: WEST DISTRICT | D43: =D38 -> 0
A44: CONVENTIONS | D44: ='by deposit'!B4 -> 115
A45: TELEAS | D45: ='by deposit'!B46 -> 0
A48: TOTAL DONATIONS | D48: =SUM(D41:D47) -> 2470

Sheet by member - by lodge
A1: LODGE | B1: MEMBER | C1: DONATION | D1: NOTES
A2: ATHENS LODGE 1927
A13: TOTAL ATHENS LODGE 1927
A16: CAMDEN LODGE 2156
B17: ALLEN, JOE | C17: 50
A18: TOTAL CAMDEN LODGE 2156 | C18: =SUM(C17) -> 50
A21: CHATANOOGA LODGE 91
B22: MARVIN, RETTA | C22: 10
B23: BONIN, MAURICE | C23: 10
B24: BOST, CHRISTOPHER | C24: 10
B25: MIZE, TODD | C25: 5
B26: NEWTON, KENNETH | C26: 60
B27: HOLLEY, KELLY | C27: 10
B28: BRINDLEY, RONNIE | C28: 10
B29: SNEED, JOSEPH | C29: 10
B30: OERTLE, JADE | C30: 5
B31: FERNANDEZ, HECTOR | C31: 5
A32: TOTAL CHATANOOGA LODGE 91 | C32: =SUM(C22:C31) -> 135
A35: CLEVELAND LODGE 1944 | B35: LODGE | C35: 1000
A36: TOTAL CLEVELAND LODGE 1944 | C36: =SUM(C35) -> 1000
A39: COLUMBIA LODGE 686
A40: TOTAL COLUMBIA LODGE 686
A43: CUMBERLAND COUNTY LODGE 2751
A45: TOTAL CUMBERLAND COUNTY LODGE 2751
A48: DECATUR COUNTY LODGE 2641
A54: TOTAL DECATUR COUNTY LODGE 2641
A57: DRESDEN LODGE 2373 | B57: LODGE | C57: 10 | D57: IN MEMORY OF CARMON PRITCHETT
A58: TOTAL DRESDEN LODGE 2373 | C58: =SUM(C57) -> 10
A66: ELIZABETHTHON LODGE 1847
A100: TOTAL ELIZABETHTON LODGE 1847
A103: FAYETTTEVILLE LODGE 1792
A104: TOTAL FAYETTEVILLE LODGE 1792
A107: GATLINBURG LODGE 1925
A108: TOTAL GATLINBURG LODGE 1925
A111: HUNTINGDON LODGE 2152
A113: TOTAL HUNTINGDON LODGE 2152
A116: JACKSON LODGE 192
A124: TOTAL JACKSON LODGE 192
A127: JOHNSON CITY LODGE 825
A128: TOTAL JOHNSON CITY LODGE 825
... A250: TOTALS

Sheet Running Total by Member
C1: 2018-2019 | D1: 2019-2020 | E1: 2020-2021 | F1: 2021-2022 | G1: 2022-2023 DONATIONS | H1: TOTAL
A2: LODGE | B2: MEMBER | C2: DONATIONS | D2: DONATIONS | E2: DONATIONS | F2: DONATIONS | H2: BY MEMBER
A3: Athens #1927 | B3: Lodge | C3: =151+200 -> 351 | D3: 38.31 | E3: 0 | F3: 0 | G3: 0 | H3: =SUM(C3:G3) -> 389.31
B4: Abbott, James R | C4: 0 | D4: 5 | E4: 5 | F4: 0 | G4: 0 | H4: =SUM(C4:F4) -> 10
B5: Breedlove, Lawson | C5: 0 | D5: 21.5 | E5: 34.75 | F5: 0 | G5: 0 | H5: =SUM(C5:F5) -> 56.25
B6: Childress, David | C6: 0 | D6: 50 | E6: 0 | F6: 0 | G6: 0 | H6: =SUM(C6:F6) -> 50
B7: Corvell, Alfred | C7: 0 | D7: 10 | E7: 0 | F7: 0 | G7: 0 | H7: =SUM(C7:F7) -> 10
B8: Ferrell, Susan | C8: 0 | D8: 10 | E8: 0 | F8: 0 | G8: 0 | H8: =SUM(C8:F8) -> 10
B9: Henderson, Debra | C9: 0 | D9: 10 | E9: 0 | F9: 0 | G9: 0 | H9: =SUM(C9:F9) -> 10
B10: Houston, William | C10: 15 | D10: 0 | E10: 0 | F10: 0 | G10: 0 | H10: =SUM(C10:F10) -> 15
B11: McCosh, Samuel | C11: 100 | D11: 0 | E11: 0 | F11: 0 | G11: 0 | H11: =SUM(C11:F11) -> 100
B12: McKee, Robert | C12: 0 | D12: 10 | E12: 0 | F12: 0 | G12: 0 | H12: =SUM(C12:F12) -> 10
B13: Nipper, Joseph | C13: 0 | D13: 5 | E13: 5 | F13: 0 | G13: 0 | H13: =SUM(C13:F13) -> 10
B14: Peterson, C T | C14: 5 | D14: 0 | E14: 0 | F14: 0 | G14: 0 | H14: =SUM(C14:F14) -> 5
B15: Pierce, Ricky | C15: 50 | D15: 0 | E15: 0 | F15: 0 | G15: 0 | H15: =SUM(C15:F15) -> 50
... B26: Womac, Tracey | C26: 0 | D26: 10 | E26: 10 | F26: 0 | G26: 0 | H26: =SUM(C26:F26) -> 20
C27: =SUM(C3:C26) -> 696 | D27: =SUM(D2:D26) -> 429.81 | E27: =SUM(E3:E26) -> 119.75 | F27: =SUM(F3:F26) -> 0 | G27: =SUM(G3:G26) -> 0 | H27: =C27+D27+E27 -> 1245.56 | I27: =SUM(C27:G27) -> 1245.56
A30: Camden# 2156 | B30: Lodge | C30: 0 | D30: 0 | E30: 0 | F30: 1008 | G30: 0 | H30: =SUM(C30:G30) -> 1008
B31: Allen, Joe | C31: 0 | D31: 50 | E31: 0 | F31: 50 | G31: 0 | H31: =SUM(C31:G31) -> 100
C32: =SUM(C31) -> 0 | D32: =SUM(D31) -> 50 | E32: =SUM(E31) -> 0 | F32: =SUM(F30:F31) -> 1058 | G32: =SUM(G30:G31) -> 0 | H32: =SUM(H30:H31) -> 1108 | I32: =SUM(C32:G32) -> 1108
A35: Chattanooga #91 | B35: Lodge | C35: =3580+500 -> 4080 | D35: =500+4298+500 -> 5298 | E35: =1680+2000 -> 3680 | F35: =1210+1112.5+2000 -> 4322.5 | G35: 600 | H35: =SUM(C35:F35) -> 17380.5
B36: Butler, Neal | C36: 25 | D36: 0 | E36: 0 | F36: 0 | G36: 0 | H36: =SUM(C36:F36) -> 25
B37: Hall, Reeda | C37: 95 | D37: 0 | E37: 0 | F37: 0 | G37: 0 | H37: =SUM(C37:F37) -> 95
B38: Marvin, Retta | C38: 0 | D38: 0 | E38: 0 | F38: 10 | G38: 0 | H38: =SUM(C38:F38) -> 10
B39: Bonin, Maurice | C39: 0 | D39: 0 | E39: 0 | F39: 10 | G39: 0 | H39: =SUM(C39:F39) -> 10
B40: Bost, Christopher | C40: 0 | D40: 0 | E40: 0 | F40: 10 | G40: 0 | H40: =SUM(C40:F40) -> 10
B41: Mize, Todd | C41: 0 | D41: 0 | E41: 0 | F41: 5 | G41: 0 | H41: =SUM(C41:F41) -> 5
B42: Newton, Kenneth | C42: 0 | D42: 0 | E42: 0 | F42: 60 | G42: 0 | H42: =SUM(C42:F42) -> 60
B43: Holley, Kelly | C43: 0 | D43: 0 | E43: 0 | F43: 10 | G43: 0 | H43: =SUM(C43:F43) -> 10
B44: Brindley, Ronnie | C44: 0 | D44: 0 | E44: 0 | F44: 10 | G44: 0 | H44: =SUM(C44:F44) -> 10
B45: Sneed, Joseph | C45: 0 | D45: 0 | E45: 0 | F45: 10 | G45: 0 | H45: =SUM(C45:F45) -> 10
B46: Oertle, Jade | C46: 0 | D46: 0 | E46: 0 | F46: 5 | G46: 0 | H46: =SUM(C46:F46) -> 5
B47: Fernandez, Hector | C47: 0 | D47: 0 | E47: 0 | F47: 5 | G47: 0 | H47: =SUM(C47:F47) -> 5
B48: Waters, Tyler | C48: 100 | D48: 0 | E48: 0 | F48: 0 | G48: 0 | H48: =SUM(C48:F48) -> 100
C49: =SUM(C35:C48) -> 4300 | D49: =SUM(D35:D48) -> 5298 | E49: =SUM(E35:E48) -> 3680 | F49: =SUM(F35:F48) -> 4457.5 | G49: =SUM(G35:G48) -> 600 | H49: =SUM(H35:H48) -> 17735.5 | I49: =SUM(C49:G49) -> 18335.5
A52: Cleveland #1944 | B52: Lodge | C52: 1000 | D52: 1000 | E52: 0 | F52: =1000+1000 -> 2000 | G52: 0 | H52: =SUM(C52:G52) -> 4000
C53: =SUM(C52) -> 1000 | D53: =SUM(D52) -> 1000 | E53: =SUM(E52) -> 0 | F53: =SUM(F52) -> 2000 | G53: =SUM(G52) -> 0 | H53: =SUM(C53:F53) -> 4000 | I53: =SUM(C53:G53) -> 4000
A56: Columbia #686 | B56: Lodge | C56: 1448.75 | D56: 0 | E56: 30.75 | F56: =500+1000 -> 1500 | G56: 0 | H56: =SUM(C56:F56) -> 2979.5
C57: =SUM(C56) -> 1448.75 | D57: =SUM(D56) -> 0 | E57: =SUM(E56) -> 30.75 | F57: =SUM(F56) -> 1500 | G57: =SUM(G56) -> 0 | H57: =SUM(H56) -> 2979.5 | I57: =SUM(C57:G57) -> 2979.5
A60: Cumberland Co #2751 | B60: Lodge | C60: 0 | D60: 1265.65 | E60: =400+800 -> 1200 | F60: 1061.14 | G60: 0 | H60: =SUM(C60:F60) -> 3526.79
B61: Grubb, Alton | C61: 50 | D61: 50 | E61: 50 | F61: 0 | G61: 0 | H61: =SUM(C61:G61) -> 150
C62: =SUM(C61) -> 50 | D62: =SUM(D60:D61) -> 1315.65 | E62: =SUM(E60:E61) -> 1250 | F62: =SUM(F60:F61) -> 1061.14 | G62: =SUM(G60:G61) -> 0 | H62: =SUM(H60:H61) -> 3676.79 | I62: =SUM(C62:G62) -> 3676.79
A65: Decatur County #2641 | B65: Lodge | C65: =80+100 -> 180 | D65: 200 | E65: =340+50 -> 390 | F65: 170 | G65: 0 | H65: =SUM(C65:F65) -> 940
B66: Cooley, Darrin | C66: 50 | D66: 0 | E66: 50 | F66: 0 | G66: 0 | H66: =SUM(C66:F66) -> 100
B67: Cooley, Doug | C67: 50 | D67: 0 | E67: 50 | F67: 50 | G67: 0 | H67: =SUM(C67:F67) -> 150
B68: Dawn, Jack | C68: 0 | D68: 0 | E68: 0 | F68: 20 | G68: 0 | H68: =SUM(C68:F68) -> 20
B69: Hauck, Peggy | C69: 0 | D69: 0 | E69: 0 | F69: 20 | G69: 0 | H69: =SUM(C69:F69) -> 20
B70: Herndon, Charles | C70: 100 | D70: 100 | E70: 0 | F70: 100 | G70: 0 | H70: =SUM(C70:F70) -> 300
B71: McBride, Christy | C71: 75 | D71: 100 | E71: 100 | F71: 25 | G71: 0 | H71: =SUM(C71:F71) -> 300
B72: Mathis, Janice | C72: 0 | D72: 0 | E72: 0 | F72: 20 | G72: 0 | H72: =SUM(C72:F72) -> 20
B73: Middleton, Tim | C73: 0 | D73: 0 | E73: 100 | F73: 0 | G73: 0 | H73: =SUM(C73:F73) -> 100
B74: Rinnger, Bill | C74: =20+80 -> 100 | D74: 200 | E74: 0 | F74: 65 | G74: 0 | H74: =SUM(C74:F74) -> 365
B75: Shea, Tanya | C75: 50 | D75: 0 | E75: 50 | F75: 0 | G75: 0 | H75: =SUM(C75:F75) -> 100
B76: Smith, Bryan | C76: 0 | D76: 0 | E76: 0 | F76: 20 | G76: 0 | H76: =SUM(C76:F76) -> 20
B77: Smith, Jason | C77: 0 | D77: 0 | E77: 0 | F77: 20 | G77: 0 | H77: =SUM(C77:F77) -> 20
B78: Tillman, Leann | C78: 0 | D78: 0 | E78: 0 | F78: 10 | G78: 0 | H78: =SUM(C78:F78) -> 10
B79: Yates, Billy | C79: 0 | D79: 0 | E79: 0 | F79: 80 | G79: 0 | H79: =SUM(C79:F79) -> 80
C80: =SUM(C65:C79) -> 605 | D80: =SUM(D65:D79) -> 600 | E80: =SUM(E65:E79) -> 740 | F80: =SUM(F65:F79) -> 600 | G80: =SUM(G65:G79) -> 0 | H80: =SUM(H65:H79) -> 2545 | I80: =SUM(C80:G80) -> 2545
A83: Dresden #2373 | B83: Lodge | C83: =10+10 -> 20 | D83: 10 | E83: =594+10+10+10+10+10 -> 644 | F83: =30+10+400 -> 440 | G83: 0 | H83: =SUM(C83:F83) -> 1114
B84: Page, Bob | C84: 100 | D84: 100 | E84: 100 | F84: 100 | G84: 0 | H84: =SUM(C84:G84) -> 400
C85: =SUM(C83:C84) -> 120 | D85: =SUM(D83:D84) -> 110 | E85: =SUM(E83:E84) -> 744 | F85: =SUM(F83:F84) -> 540 | G85: =SUM(G83:G84) -> 0 | H85: =SUM(H83:H84) -> 1514 | I85: =SUM(C85:G85) -> 1514
A88: Elizabethton #1847 | B88: Lodge | C88: =20+725 -> 745 | D88: 180 | E88: =181+673 -> 854 | F88: =37.5+10+71.5 -> 119 | G88: =240+1100 -> 1340 | H88: =SUM(C88:G88) -> 3238
B89: Anonymous | C89: 0 | D89: 0 | E89: 12 | F89: 0 | G89: 0 | H89: =SUM(C89:G89) -> 12
B90: Allison, Eddie | C90: 0 | D90: 30 | E90: 20 | F90: 0 | G90: 0 | H90: =SUM(C90:G90) -> 50
B91: Andes, David | C91: 0 | D91: 20 | E91: 13 | F91: 0 | G91: 0 | H91: =SUM(C91:G91) -> 33
B92: Arnold, Gerald | C92: 0 | D92: 0 | E92: 5 | F92: 0 | G92: 0 | H92: =SUM(C92:G92) -> 5
B93: Arnold, Taylor | C93: 0 | D93: 0 | E93: 20 | F93: 0 | G93: 100 | H93: =SUM(C93:G93) -> 120
B94: Arnold, Terry | C94: 0 | D94: 20 | E94: 0 | F94: 0 | G94: 0 | H94: =SUM(C94:G94) -> 20
B95: Austin, Keri | C95: 0 | D95: 0 | E95: 10 | F95: 0 | G95: 20 | H95: =SUM(C95:G95) -> 30
B96: Berry, Debby | C96: 0 | D96: 0 | E96: 5 | F96: 0 | G96: 0 | H96: =SUM(C96:G96) -> 5
B97: Blevins, Jackie | C97: 0 | D97: 0 | E97: 5 | F97: 0 | G97: 0 | H97: =SUM(C97:G97) -> 5
B98: Byrd, Robert | C98: 10 | D98: 0 | E98: 0 | F98: 0 | G98: 0 | H98: =SUM(C98:G98) -> 10
B99: Cindrick, Davie | C99: 0 | D99: 5 | E99: 0 | F99: 0 | G99: 0 | H99: =SUM(C99:G99) -> 5
B100: Coffey, Troy | C100: 0 | D100: 0 | E100: 0 | F100: 10 | G100: 0 | H100: =SUM(C100:G100) -> 10
... B114: Hardin, Tim | C114: 146 | D114: 0 | E114: 0 | F114: 0 | G114: 0 | H114: =SUM(C114:G114) -> 146
B115: Hawkins, Jessi | C115: 0 | D115: 5 | E115: 0 | F115: =52+55 -> 107 | G115: 0 | H115: =SUM(C115:G115) -> 112
B116: Hutchins, Jennifer | C116: 0 | D116: 20 | E116: 0 | F116: 0 | G116: 0 | H116: =SUM(C116:G116) -> 20
B117: Ingram, William | C117: 10 | D117: 20 | E117: 0 | F117: 0 | G117: 0 | H117: =SUM(C117:G117) -> 30
B118: Irick, Thelma | C118: 0 | D118: 0 | E118: 6 | F118: 10 | G118: 0 | H118: =SUM(C118:G118) -> 16
B119: Johnson, James | C119: 0 | D119: 0 | E119: 10 | F119: 0 | G119: 0 | H119: =SUM(C119:G119) -> 10
B120: Johnson, Rex | C120: 10 | D120: 20 | E120: 0 | F120: 0 | G120: 0 | H120: =SUM(C120:G120) -> 30
B121: Jones, Jamie | C121: 0 | D121: 0 | E121: 0 | F121: 0 | G121: 40 | H121: =SUM(C121:G121) -> 40
B122: Keene, Jack | C122: 0 | D122: 0 | E122: 0 | F122: 5 | G122: 0 | H122: =SUM(C122:G122) -> 5
B123: Kerr, Jim | C123: 0 | D123: 0 | E123: 20 | F123: 0 | G123: 0 | H123: =SUM(C123:G123) -> 20
B124: King, Denise | C124: 0 | D124: 10 | E124: 0 | F124: 0 | G124: 0 | H124: =SUM(C124:G124) -> 10
B125: Kitcher, Harold | C125: 15 | D125: 0 | E125: 0 | F125: 0 | G125: 0 | H125: =SUM(C125:G125) -> 15
B126: Ladd, Shell | C126: 0 | D126: 10 | E126: 0 | F126: 0 | G126: 0 | H126: =SUM(C126:G126) -> 10
B127: Largent, Ernest | C127: 0 | D127: 12.5 | E127: 0 | F127: 0 | G127: 0 | H127: =SUM(C127:G127) -> 12.5
... B170: Wise, Kim | C170: 10 | D170: 0 | E170: 0 | F170: 0 | G170: 0 | H170: =SUM(C170:G170) -> 10
C171: =SUM(C88:C170) -> 1371 | D171: =SUM(D88:D170) -> 880 | E171: =SUM(E88:E170) -> 1310 | F171: =SUM(F88:F170) -> 618 | G171: =SUM(G88:G170) -> 1730 | H171: =SUM(H88:H170) -> 5909 | I171: =SUM(C171:G171) -> 5909
A174: Erwin Lodge 1985 | B174: Lodge | C174: 0 | D174: 0 | E174: 0 | F174: 0 | G174: 0 | H174: =SUM(C174:G174) -> 0
C175: =SUM(C174) -> 0 | D175: =SUM(D174) -> 0 | E175: =SUM(E174) -> 0 | F175: =SUM(F174) -> 0 | G175: =SUM(G174) -> 0 | H175: =SUM(C175:F175) -> 0 | I175: =SUM(C175:G175) -> 0
A178: Fayetteville #1792 | B178: Lodge | C178: 1095 | D178: 1052.25 | E178: 1083 | F178: 1086 | G178: 0 | H178: =SUM(C178:G178) -> 4316.25
C179: =SUM(C178) -> 1095 | D179: =SUM(D178) -> 1052.25 | E179: =SUM(E178) -> 1083 | F179: =SUM(F178) -> 1086 | G179: =SUM(G178) -> 0 | H179: =SUM(H178) -> 4316.25 | I179: =SUM(C179:G179) -> 4316.25
A182: Gallatin #2847 | B182: Lodge | C182: 415 | D182: 415 | E182: 0 | F182: 0 | G182: 0 | H182: =SUM(C182:G182) -> 830
C183: =SUM(C182) -> 415 | D183: =SUM(D182) -> 415 | E183: =SUM(E182) -> 0 | F183: =SUM(F182) -> 0 | G183: =SUM(G182) -> 0 | H183: =SUM(H182) -> 830 | I183: =SUM(C183:G183) -> 830
A186: Gatlinburg# 1925 | B186: Lodge | C186: 818.4 | D186: 903 | E186: 840 | F186: 1000 | G186: 0 | H186: =SUM(C186:G186) -> 3561.4
C187: =SUM(C186) -> 818.4 | D187: =SUM(D186) -> 903 | E187: =SUM(E186) -> 840 | F187: =SUM(F186) -> 1000 | G187: =SUM(G186) -> 0 | H187: =SUM(H186) -> 3561.4 | I187: =SUM(C187:G187) -> 3561.4
A190: Jackson #192 | B190: Lodge | C190: 0 | D190: 300 | E190: 125 | F190: =25+25+25+930 -> 1005 | G190: 0 | H190: =SUM(C190:G190) -> 1430
B191: Bacome, Tommy | C191: 0 | D191: 0 | E191: 0 | F191: 25 | G191: 0 | H191: =SUM(C191:F191) -> 25
...

Sheet Acknowledgements
A1: In Memory of | B1: In Honor of | C1: Thank You | E1: Lodge | F1: Contribution | G1: Acknowledgement Card

Sheet in memory or honor of 
A1: donor | B1: lodge | C1: amount | D1: in memory | E1: in honor | F1: to | G1: address
