Workbook

Sheet ANNOUNCEMENTS

Sheet by deposit
A1: DEPOSIT DATE | B1: AMOUNT | C1: NOTES
A2: DEPOSIT 4/21/21
A3: ANNUAL CONVENTION - GATLINBURG | B3: 115
A4: TOTAL CONVENTION | B4: =SUM(B3) -> 115
A6: ELIZABETHTON LODGE 1847 | B6: 240
A7: TIPTON, LOGAN | B7: 10
A8: TIPTON, CARLY | B8: 10
A9: ARNOLD, TAYLOR | B9: 100
A10: MOODY, KAYE | B10: 30
A11: JONES, JAMIE | B11: 40
A12: SOLOMON, DWAYNE | B12: 80
A13: AUSTIN, KERRI | B13: 20
A14: LIPFORD, BOB | B14: 20
A15: McCORMICK, ANN MARIE | B15: 20
A16: DUFFY, GEORGE | B16: 20
A17: DUFFY, CINDY | B17: 20
A18: WILLIAMS, BRADY | B18: 20
A19: TOTAL ELIZABETHTON LODGE 1847 | B19: =SUM(B6:B18) -> 630
A21: LAWRENCEBURG LODGE
A22: CROUCH, ALARIC | B22: 25
A23: TOTAL LAWRENCEBURG LODGE | B23: =SUM(B22) -> 25
A25: TOTAL 4/21/22 DEPOSIT | B25: =B4+B19+B23 -> 770
A27: DEPOSIT 6/9/22
A28: CHATTANOOGA LODGE #91 | B28: 600
A29: TOTAL CHATTANOOGA LODGE 91 | B29: =SUM(B28) -> 600
A30: TOTAL 6/9/22 DEPOSIT | B30: =SUM(B29) -> 600
A32: DEPOSIT 6/22/22
A33: ELIZABETHTON LODGE #1944 | B33: 1100
A34: TOTAL ELIZABETHON LODGE 1944 | B34: =SUM(B33) -> 1100
A35: TOTAL 6/22/22 DEPOSIT | B35: =SUM(B34) -> 1100
A42: TOTAL DEPOSITS | B42: =B25+B30+B35 -> 2470

Sheet by lodge
A1: LODGE | B1: LODGE # | C1: DISTRICT | D1: DONATION | E1: MEMBERSHIP AS OF 4-1-22 | F1: PER CAPITA AMT | G1: TEBT PER CAPITA | H1: over/under per capita
A3: ATHENS | B3: 1927 | C3: EAST | D3: 0 | E3: 213 | F3: 3.05 | G3: =E3*F3 -> 649.65
A4: CHATTANOOGA | B4: 91 | D4: ='by deposit'!B29 -> 600 | E4: 653 | F4: 3.05 | G4: =E4*F4 -> 1991.65
A5: CLEVELAND | B5: 1944 | D5: 0 | E5: 368 | F5: 3.05 | G5: =E5*F5 -> 1122.4
A6: ELIZABETHON | B6: 1847 | D6: ='by deposit'!B19+'by deposit'!B34 -> 1730 | E6: 308 | F6: 3.05 | G6: =E6*F6 -> 939.4
A7: ERWIN | B7: 1985 | D7: 0 | E7: 297 | F7: 3.05 | G7: =E7*F7 -> 905.85
A8: GATLINGBURG | B8: 1925 | D8: ='by deposit'!B293 -> 0 | E8: 298 | F8: 3.05 | G8: =E8*F8 -> 908.9
A9: JOHNSON CITY | B9: 825 | D9: ='by deposit'!B301 -> 0 | E9: 218 | F9: 3.05 | G9: =E9*F9 -> 664.9
A10: KNOXVILLE | B10: 160 | D10: ='by deposit'!B218 -> 0 | E10: 285 | F10: 3.05 | G10: =E10*F10 -> 869.25
A11: MORRISTOWN | B11: 1667 | D11: ='by deposit'!B108+'by deposit'!B353 -> 0 | E11: 538 | F11: 3.05 | G11: =E11*F11 -> 1640.9
A12: OAK RIDGE | B12: 1684 | D12: ='by deposit'!B270 -> 0 | E12: 176 | F12: 3.05 | G12: =E12*F12 -> 536.8
A13: TOTAL EAST | D13: =SUM(D4:D12) -> 2330 | E13: =SUM(E3:E12) -> 3354 | F13: 3.05 | G13: =E13*F13 -> 10229.7
A16: COLUMBIA | B16: 686 | C16: Middle | D16: ='by deposit'!B197+'by deposit'!B280 -> 0 | E16: 509 | F16: 3.05 | G16: =E16*F16 -> 1552.45
A17: CUMBERLAND COUNTY | B17: 2751 | D17: ='by deposit'!B344 -> 0 | E17: 352 | F17: 3.05 | G17: =E17*F17 -> 1073.6
A18: FAYETTEVILLE | B18: 1792 | D18: ='by deposit'!B214 -> 0 | E18: 362 | F18: 3.05 | G18: =E18*F18 -> 1104.1
A19: GALLATIN | B19: 2547 | D19: 0 | E19: 155 | F19: 3.05 | G19: =E19*F19 -> 472.75
A20: LAWRENCEBURG | B20: 2206 | D20: ='by deposit'!B23 -> 25 | E20: 298 | F20: 3.05 | G20: =E20*F20 -> 908.9
A21: LEWIS COUNTY | B21: 2883 | D21: =+'by deposit'!B224+'by deposit'!B242+'by deposit'!B329 -> 0 | E21: 181 | F21: 3.05 | G21: =E21*F21 -> 552.05
A22: LEWISBURG | B22: 1990 | D22: ='by deposit'!B227 -> 0 | E22: 323 | F22: 3.05 | G22: =E22*F22 -> 985.15
A23: MADISON | B23: 2473 | D23: ='by deposit'!B332 -> 0 | E23: 263 | F23: 3.05 | G23: =E23*F23 -> 802.15
A24: NASHVILLE/FRANKLIN | B24: 72 | D24: ='by deposit'!B184+'by deposit'!B312+'by deposit'!B356 -> 0 | E24: 431 | F24: 3.05 | G24: =E24*F24 -> 1314.55
A25: PULASKI | B25: 1827 | D25: ='by deposit'!B41+'by deposit'!B274+'by deposit'!B367 -> 0 | E25: 314 | F25: 3.05 | G25: =E25*F25 -> 957.7
A26: TOTAL MIDDLE | D26: =SUM(D16:D25) -> 25 | E26: =SUM(E16:E25) -> 3188 | F26: 3.05 | G26: =E26*F26 -> 9723.4
A29: CAMDEN | B29: 2156 | C29: West | D29: 0 | E29: 250 | F29: 3.05 | G29: =E29*F29 -> 762.5
A30: DECATUR COUNTY | B30: 2641 | D30: ='by deposit'!B211 -> 0 | E30: 192 | F30: 3.05 | G30: =E30*F30 -> 585.6
A31: DRESDEN | B31: 2373 | D31: ='by deposit'!B38+'by deposit'!B61+'by deposit'!B71+'by deposit'!B285+'by deposit'!B318 -> 0 | E31: 278 | F31: 3.05 | G31: =E31*F31 -> 847.9
A32: HENDERSON | B32: 2459 | D32: 0 | E32: 148 | F32: 3.05 | G32: =E32*F32 -> 451.4
A33: HUNTINGDON | B33: 2152 | D33: ='by deposit'!B321 -> 0 | E33: 241 | F33: 3.05 | G33: =E33*F33 -> 735.05
A34: JACKSON | B34: 192 | D34: ='by deposit'!B133+'by deposit'!B127+'by deposit'!B239+'by deposit'!B298+'by deposit'!B324 -> 0 | E34: 244 | F34: 3.05 | G34: =E34*F34 -> 744.2
A35: PARIS | B35: 816 | D35: ='by deposit'!B359 -> 0 | E35: 164 | F35: 3.05 | G35: =E35*F35 -> 500.2
A36: TRENTON | B36: 1279 | D36: ='by deposit'!B188+'by deposit'!B335 -> 0 | E36: 447 | F36: 3.05 | G36: =E36*F36 -> 1363.35
A37: WAVERLY | B37: 2289 | D37: ='by deposit'!B44+'by deposit'!B371 -> 0 | E37: 313 | F37: 3.05 | G37: =E37*F37 -> 954.65
A38: TOTAL WEST | D38: =SUM(D29:D37) -> 0 | E38: =SUM(E29:E37) -> 2277 | F38: 3.05 | G38: =SUM(G29:G37) -> 6944.85
A41: EAST DISTRICT | D41: =D13 -> 2330
A42: MIDDLE DISTRICT | D42: =D26 -> 25
A43: WEST DISTRICT | D43: =D38 -> 0
A44: CONVENTIONS | D44: ='by deposit'!B4 -> 115
A45: TELEAS | D45: ='by deposit'!B46 -> 0
A48: TOTAL DONATIONS | D48: =SUM(D41:D47) -> 2470

Sheet by member - by lodge
A1: LODGE | B1: MEMBER | C1: DONATION | D1: NOTES
A2: ATHENS LODGE 1927
A13: TOTAL ATHENS LODGE 1927
A16: CAMDEN LODGE 2156
B17: ALLEN, JOE | C17: 50
A18: TOTAL CAMDEN LODGE 2156 | C18: =SUM(C17) -> 50
A21: CHATANOOGA LODGE 91
B22: MARVIN, RETTA | C22: 10
B23: BONIN, MAURICE | C23: 10
B24: BOST, CHRISTOPHER | C24: 10
B25: MIZE, TODD | C25: 5
B26: NEWTON, KENNETH | C26: 60
B27: HOLLEY, KELLY | C27: 10
B28: BRINDLEY, RONNIE | C28: 10
B29: SNEED, JOSEPH | C29: 10
B30: OERTLE, JADE | C30: 5
B31: FERNANDEZ, HECTOR | C31: 5
A32: TOTAL CHATANOOGA LODGE 91 | C32: =SUM(C22:C31) -> 135
A35: CLEVELAND LODGE 1944 | B35: LODGE | C35: 1000
A36: TOTAL CLEVELAND LODGE 1944 | C36: =SUM(C35) -> 1000
A39: COLUMBIA LODGE 686
A40: TOTAL COLUMBIA LODGE 686
A43: CUMBERLAND COUNTY LODGE 2751
A45: TOTAL CUMBERLAND COUNTY LODGE 2751
A48: DECATUR COUNTY LODGE 2641
A54: TOTAL DECATUR COUNTY LODGE 2641
A57: DRESDEN LODGE 2373 | B57: LODGE | C57: 10 | D57: IN MEMORY OF CARMON PRITCHETT
A58: TOTAL DRESDEN LODGE 2373 | C58: =SUM(C57) -> 10
A66: ELIZABETHTHON LODGE 1847
A100: TOTAL ELIZABETHTON LODGE 1847
A103: FAYETTTEVILLE LODGE 1792
A104: TOTAL FAYETTEVILLE LODGE 1792
A107: GATLINBURG LODGE 1925
A108: TOTAL GATLINBURG LODGE 1925
A111: HUNTINGDON LODGE 2152
A113: TOTAL HUNTINGDON LODGE 2152
A116: JACKSON LODGE 192
A124: TOTAL JACKSON LODGE 192
A127: JOHNSON CITY LODGE 825
A128: TOTAL JOHNSON CITY LODGE 825
...

Sheet Running Total by Member
C1: 2018-2019 | D1: 2019-2020 | E1: 2020-2021 | F1: 2021-2022 | G1: 2022-2023 DONATIONS | H1: TOTAL
A2: LODGE | B2: MEMBER | C2: DONATIONS | D2: DONATIONS | E2: DONATIONS | F2: DONATIONS | H2: BY MEMBER
A3: Athens #1927 | B3: Lodge | C3: =151+200 -> 351 | D3: 38.31 | E3: 0 | F3: 0 | G3: 0 | H3: =SUM(C3:G3) -> 389.31
B4: Abbott, James R | C4: 0 | D4: 5 | E4: 5 | F4: 0 | G4: 0 | H4: =SUM(C4:F4) -> 10
B5: Breedlove, Lawson | C5: 0 | D5: 21.5 | E5: 34.75 | F5: 0 | G5: 0 | H5: =SUM(C5:F5) -> 56.25
B6: Childress, David | C6: 0 | D6: 50 | E6: 0 | F6: 0 | G6: 0 | H6: =SUM(C6:F6) -> 50
B7: Corvell, Alfred | C7: 0 | D7: 10 | E7: 0 | F7: 0 | G7: 0 | H7: =SUM(C7:F7) -> 10
B8: Ferrell, Susan | C8: 0 | D8: 10 | E8: 0 | F8: 0 | G8: 0 | H8: =SUM(C8:F8) -> 10
B9: Henderson, Debra | C9: 0 | D9: 10 | E9: 0 | F9: 0 | G9: 0 | H9: =SUM(C9:F9) -> 10
B10: Houston, William | C10: 15 | D10: 0 | E10: 0 | F10: 0 | G10: 0 | H10: =SUM(C10:F10) -> 15
B11: McCosh, Samuel | C11: 100 | D11: 0 | E11: 0 | F11: 0 | G11: 0 | H11: =SUM(C11:F11) -> 100
B12: McKee, Robert | C12: 0 | D12: 10 | E12: 0 | F12: 0 | G12: 0 | H12: =SUM(C12:F12) -> 10
B13: Nipper, Joseph | C13: 0 | D13: 5 | E13: 5 | F13: 0 | G13: 0 | H13: =SUM(C13:F13) -> 10
B14: Peterson, C T | C14: 5 | D14: 0 | E14: 0 | F14: 0 | G14: 0 | H14: =SUM(C14:F14) -> 5
B15: Pierce, Ricky | C15: 50 | D15: 0 | E15: 0 | F15: 0 | G15: 0 | H15: =SUM(C15:F15) -> 50
... B26: Womac, Tracey | C26: 0 | D26: 10 | E26: 10 | F26: 0 | G26: 0 | H26: =SUM(C26:F26) -> 20
C27: =SUM(C3:C26) -> 696 | D27: =SUM(D2:D26) -> 429.81 | E27: =SUM(E3:E26) -> 119.75 | F27: =SUM(F3:F26) -> 0 | G27: =SUM(G3:G26) -> 0 | H27: =C27+D27+E27 -> 1245.56 | I27: =SUM(C27:G27) -> 1245.56
A30: Camden# 2156 | B30: Lodge | C30: 0 | D30: 0 | E30: 0 | F30: 1008 | G30: 0 | H30: =SUM(C30:G30) -> 1008
B31: Allen, Joe | C31: 0 | D31: 50 | E31: 0 | F31: 50 | G31: 0 | H31: =SUM(C31:G31) -> 100
C32: =SUM(C31) -> 0 | D32: =SUM(D31) -> 50 | E32: =SUM(E31) -> 0 | F32: =SUM(F30:F31) -> 1058 | G32: =SUM(G30:G31) -> 0 | H32: =SUM(H30:H31) -> 1108 | I32: =SUM(C32:G32) -> 1108
A35: Chattanooga #91 | B35: Lodge | C35: =3580+500 -> 4080 | D35: =500+4298+500 -> 5298 | E35: =1680+2000 -> 3680 | F35: =1210+1112.5+2000 -> 4322.5 | G35: 600 | H35: =SUM(C35:F35) -> 17380.5
B36: Butler, Neal | C36: 25 | D36: 0 | E36: 0 | F36: 0 | G36: 0 | H36: =SUM(C36:F36) -> 25
B37: Hall, Reeda | C37: 95 | D37: 0 | E37: 0 | F37: 0 | G37: 0 | H37: =SUM(C37:F37) -> 95
B38: Marvin, Retta | C38: 0 | D38: 0 | E38: 0 | F38: 10 | G38: 0 | H38: =SUM(C38:F38) -> 10
B39: Bonin, Maurice | C39: 0 | D39: 0 | E39: 0 | F39: 10 | G39: 0 | H39: =SUM(C39:F39) -> 10
B40: Bost, Christopher | C40: 0 | D40: 0 | E40: 0 | F40: 10 | G40: 0 | H40: =SUM(C40:F40) -> 10
B41: Mize, Todd | C41: 0 | D41: 0 | E41: 0 | F41: 5 | G41: 0 | H41: =SUM(C41:F41) -> 5
B42: Newton, Kenneth | C42: 0 | D42: 0 | E42: 0 | F42: 60 | G42: 0 | H42: =SUM(C42:F42) -> 60
B43: Holley, Kelly | C43: 0 | D43: 0 | E43: 0 | F43: 10 | G43: 0 | H43: =SUM(C43:F43) -> 10
B44: Brindley, Ronnie | C44: 0 | D44: 0 | E44: 0 | F44: 10 | G44: 0 | H44: =SUM(C44:F44) -> 10
B45: Sneed, Joseph | C45: 0 | D45: 0 | E45: 0 | F45: 10 | G45: 0 | H45: =SUM(C45:F45) -> 10
B46: Oertle, Jade | C46: 0 | D46: 0 | E46: 0 | F46: 5 | G46: 0 | H46: =SUM(C46:F46) -> 5
B47: Fernandez, Hector | C47: 0 | D47: 0 | E47: 0 | F47: 5 | G47: 0 | H47: =SUM(C47:F47) -> 5
B48: Waters, Tyler | C48: 100 | D48: 0 | E48: 0 | F48: 0 | G48: 0 | H48: =SUM(C48:F48) -> 100
C49: =SUM(C35:C48) -> 4300 | D49: =SUM(D35:D48) -> 5298 | E49: =SUM(E35:E48) -> 3680 | F49: =SUM(F35:F48) -> 4457.5 | G49: =SUM(G35:G48) -> 600 | H49: =SUM(H35:H48) -> 17735.5 | I49: =SUM(C49:G49) -> 18335.5
A52: Cleveland #1944 | B52: Lodge | C52: 1000 | D52: 1000 | E52: 0 | F52: =1000+1000 -> 2000 | G52: 0 | H52: =SUM(C52:G52) -> 4000
C53: =SUM(C52) -> 1000 | D53: =SUM(D52) -> 1000 | E53: =SUM(E52) -> 0 | F53: =SUM(F52) -> 2000 | G53: =SUM(G52) -> 0 | H53: =SUM(C53:F53) -> 4000 | I53: =SUM(C53:G53) -> 4000
A56: Columbia #686 | B56: Lodge | C56: 1448.75 | D56: 0 | E56: 30.75 | F56: =500+1000 -> 1500 | G56: 0 | H56: =SUM(C56:F56) -> 2979.5
C57: =SUM(C56) -> 1448.75 | D57: =SUM(D56) -> 0 | E57: =SUM(E56) -> 30.75 | F57: =SUM(F56) -> 1500 | G57: =SUM(G56) -> 0 | H57: =SUM(H56) -> 2979.5 | I57: =SUM(C57:G57) -> 2979.5
A60: Cumberland Co #2751 | B60: Lodge | C60: 0 | D60: 1265.65 | E60: =400+800 -> 1200 | F60: 1061.14 | G60: 0 | H60: =SUM(C60:F60) -> 3526.79
...

Sheet Acknowledgements
A1: In Memory of | B1: In Honor of | C1: Thank You | E1: Lodge | F1: Contribution | G1: Acknowledgement Card

Sheet in memory or honor of 
A1: donor | B1: lodge | C1: amount | D1: in memory | E1: in honor | F1: to | G1: address
