Workbook

Sheet ANNOUNCEMENTS
A2: HELLO
A4: I HOPE EVERYONE HAS HAD A GREAT HOLIDAY SEASON WITH FAMILY AND FRIENDS
A6: I APPOLIGIZE FOR TAKING SO LONG TO GET THIS UPDATED
A8: THANK YOU ALL FOR YOUR DONATIONS!!!
A13: LORI R NALLY,
A14: PLEDGE SECRETARY

Sheet by deposit
A1: DEPOSIT DATE | B1: AMOUNT | C1: NOTES
A2: DEPOSIT 5/1/2023 | B2: `
A3: CHATTANOOGA LODGE 91 | B3: 500
A4: TOTAL CHATTANOOGA LODGE 91 | B4: =SUM(B3) -> 500
A6: COLUMBIA LODGE 686
A7: KELLEY, BETTY | B7: 100
A8: TOTAL COLUMBIA LODGE 686 | B8: =SUM(B7) -> 100
A10: DRESDEN LODGE 2373
A11: SMITH, DONNIE | B11: 100 | C11: IN MEMORY OF DOUG CHEEK
A12: TOTAL DRESDEN LODGE 2373 | B12: =SUM(B11) -> 100
A14: HUNTINGDON LODGE 2152
A15: CRIDER, RICKY | B15: 100 | C15: IN MEMORY OF DOUG CHEEK
A16: TOTAL HUNTINGDON LODGE 2152 | B16: =SUM(B15) -> 100
A18: JACKSON LODGE 192
A19: WELLS, TRACIE | B19: 100 | C19: IN MEMORY OF DOUG CHEEK
A20: TOTAL JACKSON LODGE 192 | B20: =SUM(B19) -> 100
A22: LEWIS COUNTY LODGE 2883
A23: HANKINS, BRETT | B23: 100
A24: HANKINS, CAROL | B24: 100
A25: TOTAL LEWIS COUNTY LODGE 2883 | B25: =SUM(B23:B24) -> 200
A27: LEWISBURG LODGE 1990
A28: PARSONS, HILLARD | B28: 25
A29: THOMAS, EDWIN | B29: 50
A30: WHITE, DANNY | B30: 100
A31: TOTAL LEWISBURG LODGE 1990 | B31: =SUM(B28:B30) -> 175
A33: MADISON LODGE 2473 | B33: 1500
A34: TOTAL MADISON LODGE 2473 | B34: =SUM(B33) -> 1500
A36: WAVERLY LODGE 2289 | B36: 1015.65
A37: TOTAL WAVERLY LODGE 2289 | B37: =SUM(B36) -> 1015.65
A39: MISC
A40: HADLEY, BRUCE | B40: 100
A41: WISE, NELL | B41: 50
A42: TOTAL MISC | B42: =SUM(B40:B41) -> 150
A44: TOTAL 5/1/23 DEPOSIT | B44: =B4+B8+B12+B16+B20+B25+B31+B34+B37+B42 -> 3940.65
A47: DEPOSIT 5/4/023
A48: LEWISBURG LODGE 1990
A49: HENDERSON, CAROL | B49: 500
A50: LEE, DONNA | B50: 25
A51: TOTAL LEWISBURG LODGE 1990 | B51: =SUM(B49:B50) -> 525
A53: PULASKI LODGE 1827
A54: RISNER, TONY | B54: 100
A55: TOTAL PULASKI LODGE 1827 | B55: =SUM(B54) -> 100
A57: TOTAL 5/4/23 DEPOSIT | B57: =B51+B55 -> 625
A60: DEPOSIT 5/30/2023
A61: CHATTANOOGA LODGE 91
A62: BROWNFIELD, MATT | B62: 1000
A63: TOTAL CHATTANOOGA LODGE 91 | B63: =SUM(B62) -> 1000
A65: ELIZABETHTON LODGE 1847
A66: BISCHOFF, KATY | B66: 1200
A67: HARDIN, MICHAEL | B67: 35
A68: SEXTON, ELISA | B68: 15
A69: TOTAL ELIZABETHON LODGE 1847 | B69: =SUM(B66:B68) -> 1250
A71: GATLINBURG LODGE 1925 | B71: 1000
A72: TOTAL GATLINBURG LODGE 1925 | B72: =SUM(B71) -> 1000
A74: LEWIS COUNTY LODGE 2883
A75: BARBER, DON | B75: 150
A76: COTHAM, PAM | B76: 10
A77: DRAKE, SHERRY | B77: 10
A78: DUNN, WALTON | B78: 40
A79: MORSE, ROBERT | B79: 10
A80: PRICE, MARTHA | B80: 20
A81: RILEY, CISSY | B81: 10
A82: SKELTON, EDNA | B82: 10
A83: TAYLOR, ZADA | B83: 10
A84: TOTAL LEWIIS COUNTY LODGE 2883 | B84: =SUM(B75:B83) -> 270
A86: MADISON LODGE 2473
A87: GRAVES, RICHARD | B87: 100
A88: TOTAL MADISON LODGE 2473 | B88: =SUM(B87) -> 100
A90: MORRISTOWN LODGE 1667
A91: HOFER, JOHN | B91: 100
A92: TOTAL MORRISTOWN LODGE 1667 | B92: =SUM(B91) -> 100
A94: PULASKI LODGE 1827 | B94: 105
A95: TOTAL PULASKI LODGE 1827 | B95: =SUM(B94) -> 105
A97: TOTAL DEPOSIT 5/30/23 | B97: =B63+B69+B72+B84+B88+B92+B95 -> 3825
A100: DEPOSIT 8/24/23
A101: ELIZABETHON LODGE 1847
A102: BOOTH, JONATHAN | B102: 5
A103: COLLIGAN, JOHN | B103: 15
A104: HARDIN, MICHAEL | B104: 5
A105: KERR, JIM | B105: 40
A106: MAVE, CONN | B106: 20
A107: SCOTT, DEBBIE (EMPLOYEE DONATION) | B107: 40
A108: TOLLEY, HERMAN | B108: 15
A109: WOODS, LARRY | B109: 5
A110: TOTAL ELIZABETHON LODGE 1847 | B110: =SUM(B102:B109) -> 145
A112: FAYETTEVILLE LODGE 1792
A113: BAGLEY, BETTIE | B113: 5
A114: BARNETT, ROBERT | B114: 5
A115: BERGER, DONALD | B115: 5
A116: BOILY, DAVID | B116: 5
A117: BOMAR, ED | B117: 5
A118: BRINDLEY, PAUL | B118: 5
A119: BROWNING, MARK | B119: 5
A120: CALDWELL, JOHN | B120: 5
A121: CARTER, JIMMY | B121: 5
A122: COLLINS JR, JIMMY | B122: 5
A123: CORNSTOCK, PAMELA | B123: 5
A124: CREEKMORE, LLOYDE | B124: 5
... A177: YOUNG, JOHNNY | B177: 5
A178: TOTAL FAYETTEVILLE LODGE 1792 | B178: =SUM(B113:B177) -> 543
...

Sheet by lodge
A1: LODGE | B1: LODGE # | C1: DISTRICT | D1: DONATION | E1: MEMBERSHIP AS OF 4-1-23 | F1: GOAL AMOUNT | G1: TEBT PER GOAL | H1: OVER/UNDER GOAL
A3: ATHENS | B3: 1927 | C3: EAST | D3: 0 | E3: 271 | F3: 3.05 | G3: =E3*F3 -> 826.55 | H3: =D3-G3 -> -826.55
A4: CHATTANOOGA | B4: 91 | D4: ='by deposit'!B4+'by deposit'!B63+'by deposit'!B218 -> 2028.5 | E4: 699 | F4: 3.05 | G4: =E4*F4 -> 2131.95 | H4: =D4-G4 -> -103.45
A5: CLEVELAND | B5: 1944 | D5: ='by deposit'!B261 -> 100 | E5: 414 | F5: 3.05 | G5: =E5*F5 -> 1262.7 | H5: =D5-G5 -> -1162.7
A6: ELIZABETHON | B6: 1847 | D6: ='by deposit'!B69+'by deposit'!B110 -> 1395 | E6: 314 | F6: 3.05 | G6: =E6*F6 -> 957.7 | H6: =D6-G6 -> 437.3
A7: ERWIN | B7: 1985 | D7: 0 | E7: 320 | F7: 3.05 | G7: =E7*F7 -> 976 | H7: =D7-G7 -> -976
A8: GATLINGBURG | B8: 1925 | D8: ='by deposit'!B72+'by deposit'!B286 -> 1100 | E8: 267 | F8: 3.05 | G8: =E8*F8 -> 814.35 | H8: =D8-G8 -> 285.65
A9: JOHNSON CITY | B9: 825 | D9: 0 | E9: 242 | F9: 3.05 | G9: =E9*F9 -> 738.1 | H9: =D9-G9 -> -738.1
A10: KNOXVILLE | B10: 160 | D10: 0 | E10: 293 | F10: 3.05 | G10: =E10*F10 -> 893.65 | H10: =D10-G10 -> -893.65
A11: MORRISTOWN | B11: 1667 | D11: ='by deposit'!B92 -> 100 | E11: 485 | F11: 3.05 | G11: =E11*F11 -> 1479.25 | H11: =D11-G11 -> -1379.25
A12: OAK RIDGE | B12: 1684 | D12: 0 | E12: 176 | F12: 3.05 | G12: =E12*F12 -> 536.8 | H12: =D12-G12 -> -536.8
A13: TOTAL EAST | D13: =SUM(D4:D12) -> 4723.5 | E13: =SUM(E3:E12) -> 3481 | F13: 3.05 | G13: =E13*F13 -> 10617.05 | H13: =SUM(H3:H12) -> -5893.55
A16: COLUMBIA | B16: 686 | C16: Middle | D16: ='by deposit'!B8+'by deposit'!B205+'by deposit'!B244 -> 2900 | E16: 552 | F16: 3.05 | G16: =E16*F16 -> 1683.6 | H16: =D16-G16 -> 1216.4
A17: CUMBERLAND COUNTY | B17: 2751 | D17: ='by deposit'!B253 -> 580 | E17: 326 | F17: 3.05 | G17: =E17*F17 -> 994.3 | H17: =D17-G17 -> -414.3
A18: FAYETTEVILLE | B18: 1792 | D18: ='by deposit'!B178 -> 543 | E18: 369 | F18: 3.05 | G18: =E18*F18 -> 1125.45 | H18: =D18-G18 -> -582.45
A19: GALLATIN | B19: 2547 | D19: ='by deposit'!B299 -> 275 | E19: 149 | F19: 3.05 | G19: =E19*F19 -> 454.45 | H19: =D19-G19 -> -179.45
A20: LAWRENCEBURG | B20: 2206 | D20: ='by deposit'!B240 -> 1100 | E20: 321 | F20: 3.05 | G20: =E20*F20 -> 979.05 | H20: =D20-G20 -> 120.95
A21: LEWIS COUNTY | B21: 2883 | D21: ='by deposit'!B25+'by deposit'!B84+'by deposit'!B237 -> 1330 | E21: 216 | F21: 3.05 | G21: =E21*F21 -> 658.8 | H21: =D21-G21 -> 671.2
A22: LEWISBURG | B22: 1990 | D22: ='by deposit'!B31+'by deposit'!B51+'by deposit'!B227+'by deposit'!B307 -> 1000 | E22: 321 | F22: 3.05 | G22: =E22*F22 -> 979.05 | H22: =D22-G22 -> 20.95
A23: MADISON | B23: 2473 | D23: ='by deposit'!B34+'by deposit'!B88 -> 1600 | E23: 254 | F23: 3.05 | G23: =E23*F23 -> 774.7 | H23: =D23-G23 -> 825.3
A24: NASHVILLE/FRANKLIN | B24: 72 | D24: ='by deposit'!B248 -> 1000 | E24: 378 | F24: 3.05 | G24: =E24*F24 -> 1152.9 | H24: =D24-G24 -> -152.9
A25: PULASKI | B25: 1827 | D25: ='by deposit'!B55+'by deposit'!B95+'by deposit'!B197 -> 479 | E25: 292 | F25: 3.05 | G25: =E25*F25 -> 890.6 | H25: =D25-G25 -> -411.6
A26: TOTAL MIDDLE | D26: =SUM(D16:D25) -> 10807 | E26: =SUM(E16:E25) -> 3178 | F26: 3.05 | G26: =E26*F26 -> 9692.9 | H26: =SUM(H16:H25) -> 1114.1
A29: CAMDEN | B29: 2156 | C29: West | D29: 0 | E29: 261 | F29: 3.05 | G29: =E29*F29 -> 796.05 | H29: =D29-G29 -> -796.05
A30: DECATUR COUNTY | B30: 2641 | D30: ='by deposit'!B221+'by deposit'!B257 -> 110 | E30: 200 | F30: 3.05 | G30: =E30*F30 -> 610 | H30: =D30-G30 -> -500
A31: DRESDEN | B31: 2373 | D31: ='by deposit'!B12 -> 100 | E31: 319 | F31: 3.05 | G31: =E31*F31 -> 972.95 | H31: =D31-G31 -> -872.95
A32: HENDERSON | B32: 2459 | D32: 0 | E32: 140 | F32: 3.05 | G32: =E32*F32 -> 427 | H32: =D32-G32 -> -427
A33: HUNTINGDON | B33: 2152 | D33: ='by deposit'!B16 -> 100 | E33: 231 | F33: 3.05 | G33: =E33*F33 -> 704.55 | H33: =D33-G33 -> -604.55
A34: JACKSON | B34: 192 | D34: ='by deposit'!B20+'by deposit'!B282+'by deposit'!B310 -> 997.5 | E34: 269 | F34: 3.05 | G34: =E34*F34 -> 820.45 | H34: =D34-G34 -> 177.05
A35: PARIS | B35: 816 | D35: 0 | E35: 173 | F35: 3.05 | G35: =E35*F35 -> 527.65 | H35: =D35-G35 -> -527.65
A36: TRENTON | B36: 1279 | D36: 0 | E36: 419 | F36: 3.05 | G36: =E36*F36 -> 1277.95 | H36: =D36-G36 -> -1277.95
A37: WAVERLY | B37: 2289 | D37: ='by deposit'!B37 -> 1015.65 | E37: 333 | F37: 3.05 | G37: =E37*F37 -> 1015.65 | H37: =D37-G37 -> 0
A38: TOTAL WEST | D38: =SUM(D29:D37) -> 2323.15 | E38: =SUM(E29:E37) -> 2345 | F38: 3.05 | G38: =SUM(G29:G37) -> 7152.25 | H38: =SUM(H29:H37) -> -4829.1
A41: EAST DISTRICT | D41: =D13 -> 4723.5 | E41: =E13 -> 3481 | G41: =G13 -> 10617.05 | H41: =H13 -> -5893.55
A42: MIDDLE DISTRICT | D42: =D26 -> 10807 | E42: =E26 -> 3178 | G42: =G26 -> 9692.9 | H42: =H26 -> 1114.1
A43: WEST DISTRICT | D43: =D38 -> 2323.15 | E43: =E38 -> 2345 | G43: =G38 -> 7152.25 | H43: =H38 -> -4829.1
A44: CONVENTIONS | D44: 0
A45: MISC | D45: ='by deposit'!B42+'by deposit'!B292 -> 420
A46: TELAS | D46: ='by deposit'!B302 -> 500
A49: TOTAL DONATIONS | D49: =SUM(D41:D48) -> 18773.65 | E49: =SUM(E41:E48) -> 9004 | G49: =SUM(G41:G48) -> 27462.2 | H49: =SUM(H41:H48) -> -9608.55

Sheet by member - by lodge
A1: LODGE | B1: MEMBER | C1: DONATION | D1: NOTES
A2: ATHENS LODGE 1927
A13: TOTAL ATHENS LODGE 1927
A16: CAMDEN LODGE 2156
B17: ALLEN, JOE | C17: 50
A18: TOTAL CAMDEN LODGE 2156 | C18: =SUM(C17) -> 50
A21: CHATANOOGA LODGE 91
B22: MARVIN, RETTA | C22: 10
B23: BONIN, MAURICE | C23: 10
B24: BOST, CHRISTOPHER | C24: 10
B25: MIZE, TODD | C25: 5
B26: NEWTON, KENNETH | C26: 60
B27: HOLLEY, KELLY | C27: 10
B28: BRINDLEY, RONNIE | C28: 10
B29: SNEED, JOSEPH | C29: 10
B30: OERTLE, JADE | C30: 5
B31: FERNANDEZ, HECTOR | C31: 5
A32: TOTAL CHATANOOGA LODGE 91 | C32: =SUM(C22:C31) -> 135
A35: CLEVELAND LODGE 1944 | B35: LODGE | C35: 1000
A36: TOTAL CLEVELAND LODGE 1944 | C36: =SUM(C35) -> 1000
A39: COLUMBIA LODGE 686
A40: TOTAL COLUMBIA LODGE 686
A43: CUMBERLAND COUNTY LODGE 2751
A45: TOTAL CUMBERLAND COUNTY LODGE 2751
A48: DECATUR COUNTY LODGE 2641
A54: TOTAL DECATUR COUNTY LODGE 2641
A57: DRESDEN LODGE 2373 | B57: LODGE | C57: 10 | D57: IN MEMORY OF CARMON PRITCHETT
A58: TOTAL DRESDEN LODGE 2373 | C58: =SUM(C57) -> 10
A66: ELIZABETHTHON LODGE 1847
A100: TOTAL ELIZABETHTON LODGE 1847
A103: FAYETTTEVILLE LODGE 1792
A104: TOTAL FAYETTEVILLE LODGE 1792
A107: GATLINBURG LODGE 1925
A108: TOTAL GATLINBURG LODGE 1925
A111: HUNTINGDON LODGE 2152
A113: TOTAL HUNTINGDON LODGE 2152
A116: JACKSON LODGE 192
A124: TOTAL JACKSON LODGE 192
A127: JOHNSON CITY LODGE 825
A128: TOTAL JOHNSON CITY LODGE 825
... A250: TOTALS

Sheet Running Total by Member
C1: 2018-2019 | D1: 2019-2020 | E1: 2020-2021 | F1: 2021-2022 | G1: 2022-2023 | H1: 2023-2024 | I1: TOTAL
A2: LODGE | B2: MEMBER | C2: DONATIONS | D2: DONATIONS | E2: DONATIONS | F2: DONATIONS | G2: DONATONS | H2: DONATONS | I2: BY MEMBER
A3: Athens #1927 | B3: Lodge | C3: =151+200 -> 351 | D3: 38.31 | E3: 0 | F3: 0 | G3: 0 | I3: =SUM(C3:H3) -> 389.31
B4: Abbott, James R | C4: 0 | D4: 5 | E4: 5 | F4: 0 | G4: 0 | H4: 0 | I4: =SUM(C4:H4) -> 10
B5: Breedlove, Lawson | C5: 0 | D5: 21.5 | E5: 34.75 | F5: 0 | G5: 0 | H5: 0 | I5: =SUM(C5:H5) -> 56.25
B6: Childress, David | C6: 0 | D6: 50 | E6: 0 | F6: 0 | G6: 0 | H6: 0 | I6: =SUM(C6:H6) -> 50
B7: Corvell, Alfred | C7: 0 | D7: 10 | E7: 0 | F7: 0 | G7: 0 | H7: 0 | I7: =SUM(C7:H7) -> 10
B8: Ferrell, Susan | C8: 0 | D8: 10 | E8: 0 | F8: 0 | G8: 0 | H8: 0 | I8: =SUM(C8:H8) -> 10
B9: Henderson, Debra | C9: 0 | D9: 10 | E9: 0 | F9: 0 | G9: 0 | H9: 0 | I9: =SUM(C9:H9) -> 10
B10: Houston, William | C10: 15 | D10: 0 | E10: 0 | F10: 0 | G10: 0 | H10: 0 | I10: =SUM(C10:H10) -> 15
B11: McCosh, Samuel | C11: 100 | D11: 0 | E11: 0 | F11: 0 | G11: 0 | H11: 0 | I11: =SUM(C11:H11) -> 100
B12: McKee, Robert | C12: 0 | D12: 10 | E12: 0 | F12: 0 | G12: 0 | H12: 0 | I12: =SUM(C12:H12) -> 10
B13: Nipper, Joseph | C13: 0 | D13: 5 | E13: 5 | F13: 0 | G13: 0 | H13: 0 | I13: =SUM(C13:H13) -> 10
B14: Peterson, C T | C14: 5 | D14: 0 | E14: 0 | F14: 0 | G14: 0 | H14: 0 | I14: =SUM(C14:H14) -> 5
B15: Pierce, Ricky | C15: 50 | D15: 0 | E15: 0 | F15: 0 | G15: 0 | H15: 0 | I15: =SUM(C15:H15) -> 50
... B26: Womac, Tracey | C26: 0 | D26: 10 | E26: 10 | F26: 0 | G26: 0 | H26: 0 | I26: =SUM(C26:H26) -> 20
C27: =SUM(C3:C26) -> 696 | D27: =SUM(D3:D26) -> 429.81 | E27: =SUM(E3:E26) -> 119.75 | F27: =SUM(F3:F26) -> 0 | G27: =SUM(G3:G26) -> 0 | H27: =SUM(H3:H26) -> 0 | I27: =SUM(I3:I26) -> 1245.56 | J27: =SUM(C27:H27) -> 1245.56
A30: Camden# 2156 | B30: Lodge | C30: 0 | D30: 0 | E30: 0 | F30: 1008 | G30: 867.75 | H30: 0 | I30: =SUM(C30:H30) -> 1875.75
B31: Allen, Joe | C31: 0 | D31: 50 | E31: 0 | F31: 50 | G31: 0 | H31: 0 | I31: =SUM(C31:H31) -> 100
B32: Gossett, Gayle | C32: 0 | D32: 0 | E32: 0 | F32: 0 | G32: 200 | H32: 0 | I32: =SUM(C32:H32) -> 200
C33: =SUM(C30:C32) -> 0 | D33: =SUM(D30:D32) -> 50 | E33: =SUM(E30:E32) -> 0 | F33: =SUM(F30:F32) -> 1058 | G33: =SUM(G30:G32) -> 1067.75 | H33: =SUM(H30:H32) -> 0 | I33: =SUM(I30:I32) -> 2175.75 | J33: =SUM(C33:H33) -> 2175.75
A36: Chattanooga #91 | B36: Lodge | C36: =3580+500 -> 4080 | D36: =500+4298+500 -> 5298 | E36: =1680+2000 -> 3680 | F36: =1210+1112.5+2000 -> 4322.5 | G36: =500+500+6100 -> 7100 | H36: 500 | I36: =SUM(C36:H36) -> 24980.5
B37: Erwin Lodge | C37: 0 | D37: 0 | E37: 0 | F37: 0 | G37: 100 | H37: 0 | I37: =SUM(C37:H37) -> 100
B38: Bonin, Maurice | C38: 0 | D38: 0 | E38: 0 | F38: 10 | G38: 0 | H38: 0 | I38: =SUM(C38:H38) -> 10
B39: Bost, Christopher | C39: 0 | D39: 0 | E39: 0 | F39: 10 | G39: 0 | H39: 0 | I39: =SUM(C39:H39) -> 10
B40: Bowman, Tom | C40: 0 | D40: 0 | E40: 0 | F40: 0 | G40: 200 | H40: 0 | I40: =SUM(C40:H40) -> 200
B41: Brindley, Ronnie | C41: 0 | D41: 0 | E41: 0 | F41: 10 | G41: 0 | H41: 0 | I41: =SUM(C41:H41) -> 10
B42: Brownfield, Matt | C42: 0 | D42: 0 | E42: 0 | F42: 0 | G42: 0 | H42: 1000 | I42: =SUM(C42:H42) -> 1000
B43: Butler, Neal | C43: 25 | D43: 0 | E43: 0 | F43: 0 | G43: 0 | H43: 0 | I43: =SUM(C43:H43) -> 25
B44: Casteel, Penny | C44: 0 | D44: 0 | E44: 0 | F44: 0 | G44: 25 | H44: 0 | I44: =SUM(C44:H44) -> 25
B45: Fernandez, Hector | C45: 0 | D45: 0 | E45: 0 | F45: 5 | G45: 0 | H45: 0 | I45: =SUM(C45:H45) -> 5
B46: Fox, Vickey | C46: 0 | D46: 0 | E46: 0 | F46: 0 | G46: 500 | H46: 400 | I46: =SUM(C46:H46) -> 900
B47: Hall, Reeda | C47: 95 | D47: 0 | E47: 0 | F47: 0 | G47: 0 | H47: 0 | I47: =SUM(C47:H47) -> 95
B48: Holley, Kelly | C48: 0 | D48: 0 | E48: 0 | F48: 10 | G48: 0 | H48: 0 | I48: =SUM(C48:H48) -> 10
... B65: Weber, Tom | C65: 0 | D65: 0 | E65: 0 | F65: 0 | G65: 528 | H65: 0 | I65: =SUM(C65:H65) -> 528
C66: =SUM(C36:C65) -> 4300 | D66: =SUM(D36:D65) -> 5298 | E66: =SUM(E36:E65) -> 3680 | F66: =SUM(F36:F65) -> 4457.5 | G66: =SUM(G36:G65) -> 8612 | H66: =SUM(H36:H65) -> 2028.5 | I66: =SUM(I36:I65) -> 28376 | J66: =SUM(C66:H66) -> 28376
A69: Cleveland #1944 | B69: Lodge | C69: 1000 | D69: 1000 | E69: 0 | F69: =1000+1000 -> 2000 | G69: 1000 | H69: 0 | I69: =SUM(C69:H69) -> 5000
B70: Gary, George | C70: 0 | D70: 0 | E70: 0 | F70: 0 | G70: 0 | H70: 100 | I70: =SUM(C70:H70) -> 100
C71: =SUM(C69) -> 1000 | D71: =SUM(D69) -> 1000 | E71: =SUM(E69) -> 0 | F71: =SUM(F69) -> 2000 | G71: =SUM(G69) -> 1000 | H71: =SUM(H69:H70) -> 100 | I71: =SUM(I69:I70) -> 5100 | J71: =SUM(C71:H71) -> 5100
A74: Columbia #686 | B74: Lodge | C74: 1448.75 | D74: 0 | E74: 30.75 | F74: =500+1000 -> 1500 | G74: 2020 | H74: 2700 | I74: =SUM(C74:H74) -> 7699.5
B75: Kelley, Betty | C75: 0 | D75: 0 | E75: 0 | F75: 0 | G75: 0 | H75: 200 | I75: =SUM(C75:H75) -> 200
C76: =SUM(C74:C75) -> 1448.75 | D76: =SUM(D74:D75) -> 0 | E76: =SUM(E74:E75) -> 30.75 | F76: =SUM(F74:F75) -> 1500 | G76: =SUM(G74:G75) -> 2020 | H76: =SUM(H74:H75) -> 2900 | I76: =SUM(I74:I75) -> 7899.5 | J76: =SUM(C76:H76) -> 7899.5
A79: Cumberland Co #2751 | B79: Lodge | C79: 0 | D79: 1265.65 | E79: =400+800 -> 1200 | F79: 1061.14 | G79: 1000 | H79: 400 | I79: =SUM(C79:H79) -> 4926.79
B80: Ashe, Kelly | C80: 0 | D80: 0 | E80: 0 | F80: 0 | G80: 0 | H80: 100
B81: Grubb, Alton | C81: 50 | D81: 50 | E81: 50 | F81: 0 | G81: 100 | H81: 80 | I81: =SUM(C81:H81) -> 330
C82: =SUM(C79:C81) -> 50 | D82: =SUM(D79:D81) -> 1315.65 | E82: =SUM(E79:E81) -> 1250 | F82: =SUM(F79:F81) -> 1061.14 | G82: =SUM(G79:G81) -> 1100 | H82: =SUM(H79:H81) -> 580 | I82: =SUM(I79:I81) -> 5256.79 | J82: =SUM(C82:H82) -> 5356.79
A85: Decatur County #2641 | B85: Lodge | C85: =80+100 -> 180 | D85: 200 | E85: =340+50 -> 390 | F85: 170 | G85: 300 | H85: 0 | I85: =SUM(C85:H85) -> 1240
B86: Cooley, Darrin | C86: 50 | D86: 0 | E86: 50 | F86: 0 | G86: 0 | H86: 0 | I86: =SUM(C86:H86) -> 100
B87: Cooley, Doug | C87: 50 | D87: 0 | E87: 50 | F87: 50 | G87: 0 | H87: 0 | I87: =SUM(C87:H87) -> 150
B88: Dawn, Jack | C88: 0 | D88: 0 | E88: 0 | F88: 20 | G88: 0 | H88: 0 | I88: =SUM(C88:H88) -> 20
B89: Goodman, Chasse | C89: 0 | D89: 0 | E89: 0 | F89: 0 | G89: 50 | H89: 0 | I89: =SUM(C89:H89) -> 50
B90: Hawk, Peggy | C90: 0 | D90: 0 | E90: 0 | F90: 20 | G90: 30 | H90: 0 | I90: =SUM(C90:H90) -> 50
B91: Hawk, Tom | C91: 0 | D91: 0 | E91: 0 | F91: 0 | G91: 30 | H91: 0 | I91: =SUM(C91:H91) -> 30
B92: Herndon, Charles | C92: 100 | D92: 100 | E92: 0 | F92: 100 | G92: 100 | H92: 0 | I92: =SUM(C92:H92) -> 400
B93: McBride, Christy | C93: 75 | D93: 100 | E93: 100 | F93: 25 | G93: 100 | H93: 0 | I93: =SUM(C93:H93) -> 400
B94: Mathis, Janice | C94: 0 | D94: 0 | E94: 0 | F94: 20 | G94: 0 | H94: 0 | I94: =SUM(C94:H94) -> 20
B95: Middleton, Tim | C95: 0 | D95: 0 | E95: 100 | F95: 0 | G95: 0 | H95: 0 | I95: =SUM(C95:H95) -> 100
B96: Rinnger, Bill | C96: =20+80 -> 100 | D96: 200 | E96: 0 | F96: 65 | G96: 0 | H96: 100 | I96: =SUM(C96:H96) -> 465
B97: Shea, Tanya | C97: 50 | D97: 0 | E97: 50 | F97: 0 | G97: 0 | H97: 0 | I97: =SUM(C97:H97) -> 100
B98: Smith, Bryan | C98: 0 | D98: 0 | E98: 0 | F98: 20 | G98: 0 | H98: 0 | I98: =SUM(C98:H98) -> 20
B99: Smith, Jason | C99: 0 | D99: 0 | E99: 0 | F99: 20 | G99: 0 | H99: 0 | I99: =SUM(C99:H99) -> 20
B100: Tillman, Leann | C100: 0 | D100: 0 | E100: 0 | F100: 10 | G100: 0 | H100: 0 | I100: =SUM(C100:H100) -> 10
B101: Yates, Billy | C101: 0 | D101: 0 | E101: 0 | F101: 80 | G101: 100 | H101: 0 | I101: =SUM(C101:H101) -> 180
C102: =SUM(C85:C101) -> 605 | D102: =SUM(D85:D101) -> 600 | E102: =SUM(E85:E101) -> 740 | F102: =SUM(F85:F101) -> 600 | G102: =SUM(G85:G101) -> 710 | H102: =SUM(H85:H101) -> 100 | I102: =SUM(I85:I101) -> 3355 | J102: =SUM(C102:H102) -> 3355
A105: Dresden #2373 | B105: Lodge | C105: =10+10 -> 20 | D105: 10 | E105: =594+10+10+10+10+10 -> 644 | F105: =30+10+400 -> 440 | G105: 0 | H105: 10 | I105: =SUM(C105:H105) -> 1124
B106: Page, Bob | C106: 100 | D106: 100 | E106: 100 | F106: 100 | G106: 0 | H106: 0 | I106: =SUM(C106:H106) -> 400
B107: Smith, Donny | C107: 0 | D107: 0 | E107: 0 | F107: 0 | G107: 100 | H107: 100 | I107: =SUM(C107:H107) -> 200
C108: =SUM(C105:C107) -> 120 | D108: =SUM(D105:D107) -> 110 | E108: =SUM(E105:E107) -> 744 | F108: =SUM(F105:F107) -> 540 | G108: =SUM(G105:G107) -> 100 | H108: =SUM(H105:H107) -> 110 | I108: =SUM(I105:I107) -> 1724 | J108: =SUM(C108:H108) -> 1724
A111: Elizabethton #1847 | B111: Lodge | C111: =20+725 -> 745 | D111: 180 | E111: =181+673 -> 854 | F111: =37.5+10+71.5 -> 119 | G111: =240+1100 -> 1340 | H111: 0 | I111: =SUM(C111:H111) -> 3238
B112: Anonymous | C112: 0 | D112: 0 | E112: 12 | F112: 0 | G112: 0 | H112: 0 | I112: =SUM(C112:H112) -> 12
B113: Allison, Eddie | C113: 0 | D113: 30 | E113: 20 | F113: 0 | G113: 0 | H113: 0 | I113: =SUM(C113:H113) -> 50
B114: Andes, David | C114: 0 | D114: 20 | E114: 13 | F114: 0 | G114: 0 | H114: 0 | I114: =SUM(C114:H114) -> 33
B115: Arnold, Gerald | C115: 0 | D115: 0 | E115: 5 | F115: 0 | G115: 0 | H115: 0 | I115: =SUM(C115:H115) -> 5
B116: Arnold, Taylor | C116: 0 | D116: 0 | E116: 20 | F116: 0 | G116: 100 | H116: 0 | I116: =SUM(C116:H116) -> 120
B117: Arnold, Terry | C117: 0 | D117: 20 | E117: 0 | F117: 0 | G117: 0 | H117: 0 | I117: =SUM(C117:H117) -> 20
B118: Austin, Keri | C118: 0 | D118: 0 | E118: 10 | F118: 0 | G118: =20+100 -> 120 | H118: 0 | I118: =SUM(C118:H118) -> 130
B119: Berry, Debby | C119: 0 | D119: 0 | E119: 5 | F119: 0 | G119: 0 | H119: 0 | I119: =SUM(C119:H119) -> 5
B120: Bischoff, Katy | C120: 0 | D120: 0 | E120: 0 | F120: 0 | G120: 213.39 | H120: 1200 | I120: =SUM(C120:H120) -> 1413.39
B121: Blevins, Jackie | C121: 0 | D121: 0 | E121: 5 | F121: 0 | G121: 0 | H121: 0 | I121: =SUM(C121:H121) -> 5
B122: Booth, jonathan | C122: 0 | D122: 0 | E122: 0 | F122: 0 | G122: 0 | H122: 5 | I122: =SUM(C122:H122) -> 5
B123: Byrd, Robert | C123: 10 | D123: 0 | E123: 0 | F123: 0 | G123: 0 | H123: 0 | I123: =SUM(C123:H123) -> 10
B124: Campbell. Ginger | C124: 0 | D124: 0 | E124: 0 | F124: 0 | G124: 50 | H124: 0 | I124: =SUM(C124:H124) -> 50
B125: Cindrick, Davie | C125: 0 | D125: 5 | E125: 0 | F125: 0 | G125: 0 | H125: 0 | I125: =SUM(C125:H125) -> 5
B126: Coffey, Troy | C126: 0 | D126: 0 | E126: 0 | F126: 10 | G126: 0 | H126: 0 | I126: =SUM(C126:H126) -> 10
B127: Colligan, John | C127: 25 | D127: 0 | E127: 0 | F127: 0 | G127: 0 | H127: 15 | I127: =SUM(C127:H127) -> 40
B128: Davenport, Rocky | C128: 10 | D128: 0 | E128: 0 | F128: 0 | G128: 0 | H128: 0 | I128: =SUM(C128:H128) -> 10
B129: Davis, Gary | C129: 0 | D129: 20 | E129: 0 | F129: 0 | G129: 0 | H129: 0 | I129: =SUM(C129:H129) -> 20
B130: Duffy, Cindy | C130: 0 | D130: 0 | E130: 10 | F130: 0 | G130: 20 | H130: 0 | I130: =SUM(C130:H130) -> 30
B131: Duffy, George | C131: 0 | D131: 0 | E131: 0 | F131: 0 | G131: =20+100 -> 120 | H131: 0 | I131: =SUM(C131:H131) -> 120
B132: Dugger, Dave | C132: 12.5 | D132: 0 | E132: 0 | F132: 0 | G132: 0 | H132: 0 | I132: =SUM(C132:H132) -> 12.5
B133: Dugger, Janet | C133: 12.5 | D133: 30 | E133: 0 | F133: 0 | G133: 0 | H133: 0 | I133: =SUM(C133:H133) -> 42.5
B134: Durmon, Ginger | C134: 5 | D134: 0 | E134: 0 | F134: 0 | G134: 0 | H134: 0 | I134: =SUM(C134:H134) -> 5
B135: Estep, Roger | C135: 0 | D135: 0 | E135: 10 | F135: 0 | G135: 0 | H135: 0 | I135: =SUM(C135:H135) -> 10
B136: Gouge, Paul | C136: 0 | D136: 0 | E136: 0 | F136: 8 | G136: 0 | H136: 0 | I136: =SUM(C136:H136) -> 8
B137: Grindstaff, Nick | C137: 0 | D137: 25 | E137: 0 | F137: 0 | G137: 0 | H137: 0 | I137: =SUM(C137:H137) -> 25
B138: Harlow, Edward | C138: 12.5 | D138: 15 | E138: 0 | F138: 0 | G138: 0 | H138: 5 | I138: =SUM(C138:H138) -> 32.5
B139: Hardin, Mike | C139: 0 | D139: 0 | E139: 20 | F139: 34 | G139: 0 | H139: 0 | I139: =SUM(C139:H139) -> 54
B140: Hardin, Michael | C140: 0 | D140: 0 | E140: 0 | F140: 0 | G140: 0 | H140: 35 | I140: =SUM(C140:H140) -> 35
B141: Hardin, Tim | C141: 146 | D141: 0 | E141: 0 | F141: 0 | G141: 0 | H141: 0 | I141: =SUM(C141:H141) -> 146
B142: Hawkins, Jessi | C142: 0 | D142: 5 | E142: 0 | F142: =52+55 -> 107 | G142: 100 | H142: 0 | I142: =SUM(C142:H142) -> 212
...

Sheet Acknowledgements
A1: Lodge | B1: DONOR | C1: Contribution | D1: In Memory of | E1: In Honor of | F1: Acknowledgement Card
A2: CHATANOOGA LODGE 91 | B2: MATT BROWNFIELD | C2: 1000 | D2: DOUG CHEEK | F2: BECKY CHEEK | G2: 1625 COLLINS HOLLOW RD | H2: LEWISBURG | I2: TN | J2: 37091-4061
A3: COLUMBIA LODGE 686 | B3: BETTY & STEVE KELLEY | C3: 100 | D3: DOUG CHEEK | F3: BECKY CHEEK | G3: 1625 COLLINS HOLLOW RD | H3: LEWISBURG | I3: TN | J3: 37091-4061
A4: DRESDEN LODGE 2373 | B4: DONNIE SMITH | C4: 100 | D4: DOUG CHEEK | F4: BECKY CHEEK | G4: 1625 COLLINS HOLLOW RD | H4: LEWISBURG | I4: TN | J4: 37091-4061
A5: ELIZABETHTON LODGE 1847 | B5: KATY BISCHOFF | C5: 1200 | D5: DOUG CHEEK | F5: BECKY CHEEK | G5: 1625 COLLINS HOLLOW RD | H5: LEWISBURG | I5: TN | J5: 37091-4061
A6: GATLINBURG LODGE 1925 | B6: GATLINBURG LODGE 1925 | C6: 1000 | D6: DOUG CHEEK | F6: BECKY CHEEK | G6: 1625 COLLINS HOLLOW RD | H6: LEWISBURG | I6: TN | J6: 37091-4061
A7: HUNTINGDON 2152 | B7: RICKY CRIDER | C7: 100 | D7: DOUG CHEEK | F7: BECKY CHEEK | G7: 1625 COLLINS HOLLOW RD | H7: LEWISBURG | I7: TN | J7: 37091-4061
A8: JACKSON 192 | B8: TRACI WELLS | C8: 100 | D8: DOUG CHEEK | F8: BECKY CHEEK | G8: 1625 COLLINS HOLLOW RD | H8: LEWISBURG | I8: TN | J8: 37091-4061
A9: LEWISBURG LODGE 1990 | B9: DANNY WHITE C/O JUSTIN WHITE | C9: 100 | D9: DOUG CHEEK | F9: BECKY CHEEK | G9: 2875 OLD COLUMBIA RD | H9: LEWISBURG | I9: TN | J9: 37091-4061
A10: LEWISBURG LODGE 1990 | B10: E.L. & J.M. THOMAS | C10: 50 | D10: DOUG CHEEK | F10: BECKY CHEEK | G10: 1625 COLLINS HOLLOW RD | H10: LEWISBURG | I10: TN | J10: 37091-4061
A11: LEWISBURG LODGE 1990 | B11: DONNA LEE | C11: 25 | D11: DOUG CHEEK | F11: BECKY CHEEK | G11: 1625 COLLINS HOLLOW RD | H11: LEWISBURG | I11: TN | J11: 37091-4061
A12: LEWISBURG LODGE 1990 | B12: CAROL HENDERSON | C12: 500 | D12: DOUG CHEEK | F12: BECKY CHEEK | G12: 1625 COLLINS HOLLOW RD | H12: LEWISBURG | I12: TN | J12: 37091-4061
A13: LEWISBURG LODGE 1990 | B13: HAROLD PARSON | C13: 25 | D13: DOUG CHEEK | F13: BECKY CHEEK | G13: 1625 COLLINS HOLLOW RD | H13: LEWISBURG
A14: MADISON LODGE 2473 | B14: MADISON LODGE 2473 | C14: 500 | D14: DOUG CHEEK | F14: BECKY CHEEK | G14: 1625 COLLINS HOLLOW RD | H14: LEWISBURG | I14: TN | J14: 37091-4061
A15: MADISON LODGE 2473 | B15: RICHARD GRAVES | C15: 100 | D15: DOUG CHEEK | F15: BECKY CHEEK | G15: 1625 COLLINS HOLLOW RD | H15: LEWISBURG | I15: TN | J15: 37091-4061
A16: MAX & NELL WISE | B16: MAX & NELL WISE | C16: 50 | D16: DOUG CHEEK | F16: BECKY CHEEK | G16: 1625 COLLINS HOLLOW RD | H16: LEWISBURG | I16: TN | J16: 37091-4061
A17: MORRISTOWN LODGE 1667 | B17: JOHN HOFER | C17: 100 | D17: DOUG CHEEK | F17: BECKY CHEEK | G17: 1625 COLLINS HOLLOW RD | H17: LEWISBURG | I17: TN | J17: 37091-4061
A18: PULASKI LODGE 1827 | B18: PULASKI LODGE 1827 | C18: 35 | D18: DOUG CHEEEK | F18: BECKY CHEEK | G18: 1625 COLLINS HOLLOW RD | H18: LEWISBURG | I18: TN | J18: 37091-4061
A19: PULASKI LODGE 1827 | B19: TONY RISNER | C19: 100 | D19: DOUG CHEEK | F19: BECKY CHEEK | G19: 1625 COLLINS HOLLOW RD | H19: LEWISBURG | I19: TN | J19: 37091
A20: GATLINBURG LODGE 1925 | B20: YONAN, JIM | C20: 100 | D20: DOUG CHEECK | F20: BECKY CHEEK | G20: 1625 COLLINS HOLLOW RD | H20: LEWISBURG | I20: TN | J20: 37091-4061
A21: PULASKI LODGE 1827 | B21: PULASKI LODGE 1827 | C21: 35 | D21: JO ANN REID | F21: CHARLES & MACHELLE ENSEY | G21: 33530 ARDMORE RIDGE RD | H21: ARDMORE | I21: TN | J21: 38449-3113
A22: LEWISBURG LODGE 1990 | B22: CATHEY, PHILLIP & JANICE | C22: 25 | D22: DANNY WHITE | F22: DANNY WHITE FAMILY C/O JUSTIN WHITE | G22: 2875 OLD COLUMBIA RD | H22: LEWISBURG | I22: TN | J22: 37091
A23: LEWISBURG LODGE 1990 | B23: LEE, DONNA | C23: 25 | D23: DANNY WHITE | F23: DANNY WHITE FAMILY C/O JUSTIN WHITE | G23: 2875 OLD COLUMBIA RD | H23: LEWISBURG | I23: TN | J23: 37091
A24: ? | B24: JENSEN, WARD & JACQUE | C24: 50 | D24: DANNY WHITE | F24: DANNY WHITE FAMILY C/O JUSTIN WHITE | G24: 2875 OLD COLUMBIA RD | H24: LEWISBURG | I24: TN | J24: 37091
A25: LEWISBURG LODGE 1990 | B25: HENDERSON, CAROL | C25: 100 | D25: DANNY WHITE | F25: DANNY WHITE FAMILY C/O JUSTIN WHITE | G25: 2875 OLD COLUMBIA RD | H25: LEWISBURG | I25: TN | J25: 37091
A26: COLUMBIA LODGE 686 | B26: KELLEY, BETTY & STEVE | C26: 100 | D26: DANNY WHITE | F26: DANNY WHITE FAMILY C/O JUSTIN WHITE | G26: 2875 OLD COLUMBIA RD | H26: LEWISBURG | I26: TN | J26: 37091
A27: ? | B27: CARR RIGGS & INGRAM LLC | C27: 200 | D27: DANNY WHITE | F27: DANNY WHITE FAMILY C/O JUSTIN WHITE | G27: 2875 OLD COLUMBIA RD | H27: LEWISBURG | I27: TN | J27: 37091
A28: LEWISBURG LODGE 1990 | B28: CHEECK, REBECCA | C28: 50 | D28: DANNY WHITE | F28: DANNY WHITE FAMILY C/O JUSTIN WHITE | G28: 2875 OLD COLUMBIA RD | H28: LEWISBURG | I28: TN | J28: 37091
A29: DRESDEN LODGE 2373 | B29: DRESDEN LODGE 2373 | C29: 10 | D29: RAY HERRON | F29: NANCY HERRON | G29: 545 MEADOWLAWN DR | H29: DRESDEN | I29: TN | J29: 38225
A30: LEWIS CO LODGE 2883 | B30: PAM COTHAM | C30: 10 | D30: TONY "PINEAPPLE: BARBER | F30: THE FAMILY OF TONY BARBER
A31: LEWIS CO LODGE 2883 | B31: EDNA SKELTON | C31: 10 | D31: TONY "PINEAPPLE: BARBER | F31: THE FAMILY OF TONY BARBER
A32: LEWISBURG LODGE 1990 | B32: CAROL HENDERSON | C32: 100 | D32: OOPIE LIGGETT | F32: WANDA POTTS | G32: 341 S ELLINGTON PARKWAY | H32: LEWISBURG | I32: TN | J32: 37091

Sheet in memory or honor of 
A1: donor | B1: lodge | C1: amount | D1: in memory | E1: in honor | F1: to | G1: address

Sheet Sheet1
A1: ATHENS | B1: 1927
A2: CHATTANOOGA | B2: 91
A3: CLEVELAND | B3: 1944
A4: ELIZABETHON | B4: 1847
A5: ERWIN | B5: 1985
A6: GATLINGBURG | B6: 1925
A7: JOHNSON CITY | B7: 825
A8: KNOXVILLE | B8: 160
A9: MORRISTOWN | B9: 1667
A10: OAK RIDGE | B10: 1684
A11: TOTAL EAST
A14: COLUMBIA | B14: 686
A15: CUMBERLAND COUNTY | B15: 2751
A16: FAYETTEVILLE | B16: 1792
A17: GALLATIN | B17: 2547
A18: LAWRENCEBURG | B18: 2206
A19: LEWIS COUNTY | B19: 2883
A20: LEWISBURG | B20: 1990
A21: MADISON | B21: 2473
A22: NASHVILLE/FRANKLIN | B22: 72
A23: PULASKI | B23: 1827
A24: TOTAL MIDDLE
A31: CAMDEN | B31: 2156
A32: DECATUR COUNTY | B32: 2641
A33: DRESDEN | B33: 2373
A34: HENDERSON | B34: 2459
A35: HUNTINGDON | B35: 2152
A36: JACKSON | B36: 192
A37: PARIS | B37: 816
A38: TRENTON | B38: 1279
A39: WAVERLY | B39: 2289
A40: TOTAL WEST
A43: EAST DISTRICT
A44: MIDDLE DISTRICT
A45: WEST DISTRICT
A46: CONVENTIONS
A47: TELAS
