Workbook

Sheet ANNOUNCEMENTS
A2: HELLO
A4: I HOPE EVERYONE HAS HAD A GREAT HOLIDAY SEASON WITH FAMILY AND FRIENDS
A6: I APPOLIGIZE FOR TAKING SO LONG TO GET THIS UPDATED
A8: THANK YOU ALL FOR YOUR DONATIONS!!!
A13: LORI R NALLY,
A14: PLEDGE SECRETARY

Sheet by deposit
A1: DEPOSIT DATE | B1: AMOUNT | C1: NOTES
A2: DEPOSIT 5/1/2023 | B2: `
A3: CHATTANOOGA LODGE 91 | B3: 500
A4: TOTAL CHATTANOOGA LODGE 91 | B4: =SUM(B3) -> 500
A6: COLUMBIA LODGE 686
A7: KELLEY, BETTY | B7: 100
A8: TOTAL COLUMBIA LODGE 686 | B8: =SUM(B7) -> 100
A10: DRESDEN LODGE 2373
A11: SMITH, DONNIE | B11: 100 | C11: IN MEMORY OF DOUG CHEEK
A12: TOTAL DRESDEN LODGE 2373 | B12: =SUM(B11) -> 100
A14: HUNTINGDON LODGE 2152
A15: CRIDER, RICKY | B15: 100 | C15: IN MEMORY OF DOUG CHEEK
A16: TOTAL HUNTINGDON LODGE 2152 | B16: =SUM(B15) -> 100
A18: JACKSON LODGE 192
A19: WELLS, TRACIE | B19: 100 | C19: IN MEMORY OF DOUG CHEEK
A20: TOTAL JACKSON LODGE 192 | B20: =SUM(B19) -> 100
A22: LEWIS COUNTY LODGE 2883
A23: HANKINS, BRETT | B23: 100
A24: HANKINS, CAROL | B24: 100
A25: TOTAL LEWIS COUNTY LODGE 2883 | B25: =SUM(B23:B24) -> 200
A27: LEWISBURG LODGE 1990
A28: PARSONS, HILLARD | B28: 25
A29: THOMAS, EDWIN | B29: 50
A30: WHITE, DANNY | B30: 100
A31: TOTAL LEWISBURG LODGE 1990 | B31: =SUM(B28:B30) -> 175
A33: MADISON LODGE 2473 | B33: 1500
A34: TOTAL MADISON LODGE 2473 | B34: =SUM(B33) -> 1500
A36: WAVERLY LODGE 2289 | B36: 1015.65
A37: TOTAL WAVERLY LODGE 2289 | B37: =SUM(B36) -> 1015.65
A39: MISC
A40: HADLEY, BRUCE | B40: 100
A41: WISE, NELL | B41: 50
A42: TOTAL MISC | B42: =SUM(B40:B41) -> 150
A44: TOTAL 5/1/23 DEPOSIT | B44: =B4+B8+B12+B16+B20+B25+B31+B34+B37+B42 -> 3940.65
A47: DEPOSIT 5/4/023
A48: LEWISBURG LODGE 1990
A49: HENDERSON, CAROL | B49: 500
A50: LEE, DONNA | B50: 25
A51: TOTAL LEWISBURG LODGE 1990 | B51: =SUM(B49:B50) -> 525
A53: PULASKI LODGE 1827
...

Sheet by lodge
A1: LODGE | B1: LODGE # | C1: DISTRICT | D1: DONATION | E1: MEMBERSHIP AS OF 4-1-23 | F1: GOAL AMOUNT | G1: TEBT PER GOAL | H1: OVER/UNDER GOAL
A3: ATHENS | B3: 1927 | C3: EAST | D3: 0 | E3: 271 | F3: 3.05 | G3: =E3*F3 -> 826.55 | H3: =D3-G3 -> -826.55
A4: CHATTANOOGA | B4: 91 | D4: ='by deposit'!B4+'by deposit'!B63+'by deposit'!B218 -> 2028.5 | E4: 699 | F4: 3.05 | G4: =E4*F4 -> 2131.95 | H4: =D4-G4 -> -103.45
A5: CLEVELAND | B5: 1944 | D5: ='by deposit'!B261 -> 100 | E5: 414 | F5: 3.05 | G5: =E5*F5 -> 1262.7 | H5: =D5-G5 -> -1162.7
A6: ELIZABETHON | B6: 1847 | D6: ='by deposit'!B69+'by deposit'!B110 -> 1395 | E6: 314 | F6: 3.05 | G6: =E6*F6 -> 957.7 | H6: =D6-G6 -> 437.3
A7: ERWIN | B7: 1985 | D7: 0 | E7: 320 | F7: 3.05 | G7: =E7*F7 -> 976 | H7: =D7-G7 -> -976
A8: GATLINGBURG | B8: 1925 | D8: ='by deposit'!B72+'by deposit'!B286 -> 1100 | E8: 267 | F8: 3.05 | G8: =E8*F8 -> 814.35 | H8: =D8-G8 -> 285.65
A9: JOHNSON CITY | B9: 825 | D9: 0 | E9: 242 | F9: 3.05 | G9: =E9*F9 -> 738.1 | H9: =D9-G9 -> -738.1
A10: KNOXVILLE | B10: 160 | D10: 0 | E10: 293 | F10: 3.05 | G10: =E10*F10 -> 893.65 | H10: =D10-G10 -> -893.65
A11: MORRISTOWN | B11: 1667 | D11: ='by deposit'!B92 -> 100 | E11: 485 | F11: 3.05 | G11: =E11*F11 -> 1479.25 | H11: =D11-G11 -> -1379.25
A12: OAK RIDGE | B12: 1684 | D12: 0 | E12: 176 | F12: 3.05 | G12: =E12*F12 -> 536.8 | H12: =D12-G12 -> -536.8
A13: TOTAL EAST | D13: =SUM(D4:D12) -> 4723.5 | E13: =SUM(E3:E12) -> 3481 | F13: 3.05 | G13: =E13*F13 -> 10617.05 | H13: =SUM(H3:H12) -> -5893.55
A16: COLUMBIA | B16: 686 | C16: Middle | D16: ='by deposit'!B8+'by deposit'!B205+'by deposit'!B244 -> 2900 | E16: 552 | F16: 3.05 | G16: =E16*F16 -> 1683.6 | H16: =D16-G16 -> 1216.4
A17: CUMBERLAND COUNTY | B17: 2751 | D17: ='by deposit'!B253 -> 580 | E17: 326 | F17: 3.05 | G17: =E17*F17 -> 994.3 | H17: =D17-G17 -> -414.3
A18: FAYETTEVILLE | B18: 1792 | D18: ='by deposit'!B178 -> 543 | E18: 369 | F18: 3.05 | G18: =E18*F18 -> 1125.45 | H18: =D18-G18 -> -582.45
A19: GALLATIN | B19: 2547 | D19: ='by deposit'!B299 -> 275 | E19: 149 | F19: 3.05 | G19: =E19*F19 -> 454.45 | H19: =D19-G19 -> -179.45
A20: LAWRENCEBURG | B20: 2206 | D20: ='by deposit'!B240 -> 1100 | E20: 321 | F20: 3.05 | G20: =E20*F20 -> 979.05 | H20: =D20-G20 -> 120.95
A21: LEWIS COUNTY | B21: 2883 | D21: ='by deposit'!B25+'by deposit'!B84+'by deposit'!B237 -> 1330 | E21: 216 | F21: 3.05 | G21: =E21*F21 -> 658.8 | H21: =D21-G21 -> 671.2
A22: LEWISBURG | B22: 1990 | D22: ='by deposit'!B31+'by deposit'!B51+'by deposit'!B227+'by deposit'!B307 -> 1000 | E22: 321 | F22: 3.05 | G22: =E22*F22 -> 979.05 | H22: =D22-G22 -> 20.95
A23: MADISON | B23: 2473 | D23: ='by deposit'!B34+'by deposit'!B88 -> 1600 | E23: 254 | F23: 3.05 | G23: =E23*F23 -> 774.7 | H23: =D23-G23 -> 825.3
A24: NASHVILLE/FRANKLIN | B24: 72 | D24: ='by deposit'!B248 -> 1000 | E24: 378 | F24: 3.05 | G24: =E24*F24 -> 1152.9 | H24: =D24-G24 -> -152.9
A25: PULASKI | B25: 1827 | D25: ='by deposit'!B55+'by deposit'!B95+'by deposit'!B197 -> 479 | E25: 292 | F25: 3.05 | G25: =E25*F25 -> 890.6 | H25: =D25-G25 -> -411.6
A26: TOTAL MIDDLE | D26: =SUM(D16:D25) -> 10807 | E26: =SUM(E16:E25) -> 3178 | F26: 3.05 | G26: =E26*F26 -> 9692.9 | H26: =SUM(H16:H25) -> 1114.1
A29: CAMDEN | B29: 2156 | C29: West | D29: 0 | E29: 261 | F29: 3.05 | G29: =E29*F29 -> 796.05 | H29: =D29-G29 -> -796.05
A30: DECATUR COUNTY | B30: 2641 | D30: ='by deposit'!B221+'by deposit'!B257 -> 110 | E30: 200 | F30: 3.05 | G30: =E30*F30 -> 610 | H30: =D30-G30 -> -500
A31: DRESDEN | B31: 2373 | D31: ='by deposit'!B12 -> 100 | E31: 319 | F31: 3.05 | G31: =E31*F31 -> 972.95 | H31: =D31-G31 -> -872.95
A32: HENDERSON | B32: 2459 | D32: 0 | E32: 140 | F32: 3.05 | G32: =E32*F32 -> 427 | H32: =D32-G32 -> -427
A33: HUNTINGDON | B33: 2152 | D33: ='by deposit'!B16 -> 100 | E33: 231 | F33: 3.05 | G33: =E33*F33 -> 704.55 | H33: =D33-G33 -> -604.55
A34: JACKSON | B34: 192 | D34: ='by deposit'!B20+'by deposit'!B282+'by deposit'!B310 -> 997.5 | E34: 269 | F34: 3.05 | G34: =E34*F34 -> 820.45 | H34: =D34-G34 -> 177.05
A35: PARIS | B35: 816 | D35: 0 | E35: 173 | F35: 3.05 | G35: =E35*F35 -> 527.65 | H35: =D35-G35 -> -527.65
A36: TRENTON | B36: 1279 | D36: 0 | E36: 419 | F36: 3.05 | G36: =E36*F36 -> 1277.95 | H36: =D36-G36 -> -1277.95
A37: WAVERLY | B37: 2289 | D37: ='by deposit'!B37 -> 1015.65 | E37: 333 | F37: 3.05 | G37: =E37*F37 -> 1015.65 | H37: =D37-G37 -> 0
A38: TOTAL WEST | D38: =SUM(D29:D37) -> 2323.15 | E38: =SUM(E29:E37) -> 2345 | F38: 3.05 | G38: =SUM(G29:G37) -> 7152.25 | H38: =SUM(H29:H37) -> -4829.1
A41: EAST DISTRICT | D41: =D13 -> 4723.5 | E41: =E13 -> 3481 | G41: =G13 -> 10617.05 | H41: =H13 -> -5893.55
A42: MIDDLE DISTRICT | D42: =D26 -> 10807 | E42: =E26 -> 3178 | G42: =G26 -> 9692.9 | H42: =H26 -> 1114.1
A43: WEST DISTRICT | D43: =D38 -> 2323.15 | E43: =E38 -> 2345 | G43: =G38 -> 7152.25 | H43: =H38 -> -4829.1
A44: CONVENTIONS | D44: 0
A45: MISC | D45: ='by deposit'!B42+'by deposit'!B292 -> 420
A46: TELAS | D46: ='by deposit'!B302 -> 500
A49: TOTAL DONATIONS | D49: =SUM(D41:D48) -> 18773.65 | E49: =SUM(E41:E48) -> 9004 | G49: =SUM(G41:G48) -> 27462.2 | H49: =SUM(H41:H48) -> -9608.55

Sheet by member - by lodge
A1: LODGE | B1: MEMBER | C1: DONATION | D1: NOTES
A2: ATHENS LODGE 1927
A13: TOTAL ATHENS LODGE 1927
A16: CAMDEN LODGE 2156
B17: ALLEN, JOE | C17: 50
A18: TOTAL CAMDEN LODGE 2156 | C18: =SUM(C17) -> 50
A21: CHATANOOGA LODGE 91
B22: MARVIN, RETTA | C22: 10
B23: BONIN, MAURICE | C23: 10
B24: BOST, CHRISTOPHER | C24: 10
B25: MIZE, TODD | C25: 5
B26: NEWTON, KENNETH | C26: 60
B27: HOLLEY, KELLY | C27: 10
B28: BRINDLEY, RONNIE | C28: 10
B29: SNEED, JOSEPH | C29: 10
B30: OERTLE, JADE | C30: 5
B31: FERNANDEZ, HECTOR | C31: 5
A32: TOTAL CHATANOOGA LODGE 91 | C32: =SUM(C22:C31) -> 135
A35: CLEVELAND LODGE 1944 | B35: LODGE | C35: 1000
A36: TOTAL CLEVELAND LODGE 1944 | C36: =SUM(C35) -> 1000
A39: COLUMBIA LODGE 686
A40: TOTAL COLUMBIA LODGE 686
A43: CUMBERLAND COUNTY LODGE 2751
A45: TOTAL CUMBERLAND COUNTY LODGE 2751
A48: DECATUR COUNTY LODGE 2641
A54: TOTAL DECATUR COUNTY LODGE 2641
A57: DRESDEN LODGE 2373 | B57: LODGE | C57: 10 | D57: IN MEMORY OF CARMON PRITCHETT
A58: TOTAL DRESDEN LODGE 2373 | C58: =SUM(C57) -> 10
A66: ELIZABETHTHON LODGE 1847
A100: TOTAL ELIZABETHTON LODGE 1847
A103: FAYETTTEVILLE LODGE 1792
A104: TOTAL FAYETTEVILLE LODGE 1792
A107: GATLINBURG LODGE 1925
A108: TOTAL GATLINBURG LODGE 1925
A111: HUNTINGDON LODGE 2152
A113: TOTAL HUNTINGDON LODGE 2152
A116: JACKSON LODGE 192
A124: TOTAL JACKSON LODGE 192
A127: JOHNSON CITY LODGE 825
A128: TOTAL JOHNSON CITY LODGE 825
...

Sheet Running Total by Member
C1: 2018-2019 | D1: 2019-2020 | E1: 2020-2021 | F1: 2021-2022 | G1: 2022-2023 | H1: 2023-2024 | I1: TOTAL
A2: LODGE | B2: MEMBER | C2: DONATIONS | D2: DONATIONS | E2: DONATIONS | F2: DONATIONS | G2: DONATONS | H2: DONATONS | I2: BY MEMBER
A3: Athens #1927 | B3: Lodge | C3: =151+200 -> 351 | D3: 38.31 | E3: 0 | F3: 0 | G3: 0 | I3: =SUM(C3:H3) -> 389.31
B4: Abbott, James R | C4: 0 | D4: 5 | E4: 5 | F4: 0 | G4: 0 | H4: 0 | I4: =SUM(C4:H4) -> 10
B5: Breedlove, Lawson | C5: 0 | D5: 21.5 | E5: 34.75 | F5: 0 | G5: 0 | H5: 0 | I5: =SUM(C5:H5) -> 56.25
B6: Childress, David | C6: 0 | D6: 50 | E6: 0 | F6: 0 | G6: 0 | H6: 0 | I6: =SUM(C6:H6) -> 50
B7: Corvell, Alfred | C7: 0 | D7: 10 | E7: 0 | F7: 0 | G7: 0 | H7: 0 | I7: =SUM(C7:H7) -> 10
B8: Ferrell, Susan | C8: 0 | D8: 10 | E8: 0 | F8: 0 | G8: 0 | H8: 0 | I8: =SUM(C8:H8) -> 10
B9: Henderson, Debra | C9: 0 | D9: 10 | E9: 0 | F9: 0 | G9: 0 | H9: 0 | I9: =SUM(C9:H9) -> 10
B10: Houston, William | C10: 15 | D10: 0 | E10: 0 | F10: 0 | G10: 0 | H10: 0 | I10: =SUM(C10:H10) -> 15
B11: McCosh, Samuel | C11: 100 | D11: 0 | E11: 0 | F11: 0 | G11: 0 | H11: 0 | I11: =SUM(C11:H11) -> 100
B12: McKee, Robert | C12: 0 | D12: 10 | E12: 0 | F12: 0 | G12: 0 | H12: 0 | I12: =SUM(C12:H12) -> 10
B13: Nipper, Joseph | C13: 0 | D13: 5 | E13: 5 | F13: 0 | G13: 0 | H13: 0 | I13: =SUM(C13:H13) -> 10
B14: Peterson, C T | C14: 5 | D14: 0 | E14: 0 | F14: 0 | G14: 0 | H14: 0 | I14: =SUM(C14:H14) -> 5
B15: Pierce, Ricky | C15: 50 | D15: 0 | E15: 0 | F15: 0 | G15: 0 | H15: 0 | I15: =SUM(C15:H15) -> 50
... B26: Womac, Tracey | C26: 0 | D26: 10 | E26: 10 | F26: 0 | G26: 0 | H26: 0 | I26: =SUM(C26:H26) -> 20
C27: =SUM(C3:C26) -> 696 | D27: =SUM(D3:D26) -> 429.81 | E27: =SUM(E3:E26) -> 119.75 | F27: =SUM(F3:F26) -> 0 | G27: =SUM(G3:G26) -> 0 | H27: =SUM(H3:H26) -> 0 | I27: =SUM(I3:I26) -> 1245.56 | J27: =SUM(C27:H27) -> 1245.56
A30: Camden# 2156 | B30: Lodge | C30: 0 | D30: 0 | E30: 0 | F30: 1008 | G30: 867.75 | H30: 0 | I30: =SUM(C30:H30) -> 1875.75
B31: Allen, Joe | C31: 0 | D31: 50 | E31: 0 | F31: 50 | G31: 0 | H31: 0 | I31: =SUM(C31:H31) -> 100
B32: Gossett, Gayle | C32: 0 | D32: 0 | E32: 0 | F32: 0 | G32: 200 | H32: 0 | I32: =SUM(C32:H32) -> 200
C33: =SUM(C30:C32) -> 0 | D33: =SUM(D30:D32) -> 50 | E33: =SUM(E30:E32) -> 0 | F33: =SUM(F30:F32) -> 1058 | G33: =SUM(G30:G32) -> 1067.75 | H33: =SUM(H30:H32) -> 0 | I33: =SUM(I30:I32) -> 2175.75 | J33: =SUM(C33:H33) -> 2175.75
A36: Chattanooga #91 | B36: Lodge | C36: =3580+500 -> 4080 | D36: =500+4298+500 -> 5298 | E36: =1680+2000 -> 3680 | F36: =1210+1112.5+2000 -> 4322.5 | G36: =500+500+6100 -> 7100 | H36: 500 | I36: =SUM(C36:H36) -> 24980.5
B37: Erwin Lodge | C37: 0 | D37: 0 | E37: 0 | F37: 0 | G37: 100 | H37: 0 | I37: =SUM(C37:H37) -> 100
B38: Bonin, Maurice | C38: 0 | D38: 0 | E38: 0 | F38: 10 | G38: 0 | H38: 0 | I38: =SUM(C38:H38) -> 10
B39: Bost, Christopher | C39: 0 | D39: 0 | E39: 0 | F39: 10 | G39: 0 | H39: 0 | I39: =SUM(C39:H39) -> 10
B40: Bowman, Tom | C40: 0 | D40: 0 | E40: 0 | F40: 0 | G40: 200 | H40: 0 | I40: =SUM(C40:H40) -> 200
B41: Brindley, Ronnie | C41: 0 | D41: 0 | E41: 0 | F41: 10 | G41: 0 | H41: 0 | I41: =SUM(C41:H41) -> 10
B42: Brownfield, Matt | C42: 0 | D42: 0 | E42: 0 | F42: 0 | G42: 0 | H42: 1000 | I42: =SUM(C42:H42) -> 1000
B43: Butler, Neal | C43: 25 | D43: 0 | E43: 0 | F43: 0 | G43: 0 | H43: 0 | I43: =SUM(C43:H43) -> 25
B44: Casteel, Penny | C44: 0 | D44: 0 | E44: 0 | F44: 0 | G44: 25 | H44: 0 | I44: =SUM(C44:H44) -> 25
B45: Fernandez, Hector | C45: 0 | D45: 0 | E45: 0 | F45: 5 | G45: 0 | H45: 0 | I45: =SUM(C45:H45) -> 5
B46: Fox, Vickey | C46: 0 | D46: 0 | E46: 0 | F46: 0 | G46: 500 | H46: 400 | I46: =SUM(C46:H46) -> 900
B47: Hall, Reeda | C47: 95 | D47: 0 | E47: 0 | F47: 0 | G47: 0 | H47: 0 | I47: =SUM(C47:H47) -> 95
B48: Holley, Kelly | C48: 0 | D48: 0 | E48: 0 | F48: 10 | G48: 0 | H48: 0 | I48: =SUM(C48:H48) -> 10
... B65: Weber, Tom | C65: 0 | D65: 0 | E65: 0 | F65: 0 | G65: 528 | H65: 0 | I65: =SUM(C65:H65) -> 528
C66: =SUM(C36:C65) -> 4300 | D66: =SUM(D36:D65) -> 5298 | E66: =SUM(E36:E65) -> 3680 | F66: =SUM(F36:F65) -> 4457.5 | G66: =SUM(G36:G65) -> 8612 | H66: =SUM(H36:H65) -> 2028.5 | I66: =SUM(I36:I65) -> 28376 | J66: =SUM(C66:H66) -> 28376
A69: Cleveland #1944 | B69: Lodge | C69: 1000 | D69: 1000 | E69: 0 | F69: =1000+1000 -> 2000 | G69: 1000 | H69: 0 | I69: =SUM(C69:H69) -> 5000
B70: Gary, George | C70: 0 | D70: 0 | E70: 0 | F70: 0 | G70: 0 | H70: 100 | I70: =SUM(C70:H70) -> 100
C71: =SUM(C69) -> 1000 | D71: =SUM(D69) -> 1000 | E71: =SUM(E69) -> 0 | F71: =SUM(F69) -> 2000 | G71: =SUM(G69) -> 1000 | H71: =SUM(H69:H70) -> 100 | I71: =SUM(I69:I70) -> 5100 | J71: =SUM(C71:H71) -> 5100
A74: Columbia #686 | B74: Lodge | C74: 1448.75 | D74: 0 | E74: 30.75 | F74: =500+1000 -> 1500 | G74: 2020 | H74: 2700 | I74: =SUM(C74:H74) -> 7699.5
...

Sheet Acknowledgements
A1: Lodge | B1: DONOR | C1: Contribution | D1: In Memory of | E1: In Honor of | F1: Acknowledgement Card
A2: CHATANOOGA LODGE 91 | B2: MATT BROWNFIELD | C2: 1000 | D2: DOUG CHEEK | F2: BECKY CHEEK | G2: 1625 COLLINS HOLLOW RD | H2: LEWISBURG | I2: TN | J2: 37091-4061
A3: COLUMBIA LODGE 686 | B3: BETTY & STEVE KELLEY | C3: 100 | D3: DOUG CHEEK | F3: BECKY CHEEK | G3: 1625 COLLINS HOLLOW RD | H3: LEWISBURG | I3: TN | J3: 37091-4061
A4: DRESDEN LODGE 2373 | B4: DONNIE SMITH | C4: 100 | D4: DOUG CHEEK | F4: BECKY CHEEK | G4: 1625 COLLINS HOLLOW RD | H4: LEWISBURG | I4: TN | J4: 37091-4061
A5: ELIZABETHTON LODGE 1847 | B5: KATY BISCHOFF | C5: 1200 | D5: DOUG CHEEK | F5: BECKY CHEEK | G5: 1625 COLLINS HOLLOW RD | H5: LEWISBURG | I5: TN | J5: 37091-4061
A6: GATLINBURG LODGE 1925 | B6: GATLINBURG LODGE 1925 | C6: 1000 | D6: DOUG CHEEK | F6: BECKY CHEEK | G6: 1625 COLLINS HOLLOW RD | H6: LEWISBURG | I6: TN | J6: 37091-4061
A7: HUNTINGDON 2152 | B7: RICKY CRIDER | C7: 100 | D7: DOUG CHEEK | F7: BECKY CHEEK | G7: 1625 COLLINS HOLLOW RD | H7: LEWISBURG | I7: TN | J7: 37091-4061
A8: JACKSON 192 | B8: TRACI WELLS | C8: 100 | D8: DOUG CHEEK | F8: BECKY CHEEK | G8: 1625 COLLINS HOLLOW RD | H8: LEWISBURG | I8: TN | J8: 37091-4061
A9: LEWISBURG LODGE 1990 | B9: DANNY WHITE C/O JUSTIN WHITE | C9: 100 | D9: DOUG CHEEK | F9: BECKY CHEEK | G9: 2875 OLD COLUMBIA RD | H9: LEWISBURG | I9: TN | J9: 37091-4061
A10: LEWISBURG LODGE 1990 | B10: E.L. & J.M. THOMAS | C10: 50 | D10: DOUG CHEEK | F10: BECKY CHEEK | G10: 1625 COLLINS HOLLOW RD | H10: LEWISBURG | I10: TN | J10: 37091-4061
A11: LEWISBURG LODGE 1990 | B11: DONNA LEE | C11: 25 | D11: DOUG CHEEK | F11: BECKY CHEEK | G11: 1625 COLLINS HOLLOW RD | H11: LEWISBURG | I11: TN | J11: 37091-4061
A12: LEWISBURG LODGE 1990 | B12: CAROL HENDERSON | C12: 500 | D12: DOUG CHEEK | F12: BECKY CHEEK | G12: 1625 COLLINS HOLLOW RD | H12: LEWISBURG | I12: TN | J12: 37091-4061
A13: LEWISBURG LODGE 1990 | B13: HAROLD PARSON | C13: 25 | D13: DOUG CHEEK | F13: BECKY CHEEK | G13: 1625 COLLINS HOLLOW RD | H13: LEWISBURG
A14: MADISON LODGE 2473 | B14: MADISON LODGE 2473 | C14: 500 | D14: DOUG CHEEK | F14: BECKY CHEEK | G14: 1625 COLLINS HOLLOW RD | H14: LEWISBURG | I14: TN | J14: 37091-4061
A15: MADISON LODGE 2473 | B15: RICHARD GRAVES | C15: 100 | D15: DOUG CHEEK | F15: BECKY CHEEK | G15: 1625 COLLINS HOLLOW RD | H15: LEWISBURG | I15: TN | J15: 37091-4061
A16: MAX & NELL WISE | B16: MAX & NELL WISE | C16: 50 | D16: DOUG CHEEK | F16: BECKY CHEEK | G16: 1625 COLLINS HOLLOW RD | H16: LEWISBURG | I16: TN | J16: 37091-4061
A17: MORRISTOWN LODGE 1667 | B17: JOHN HOFER | C17: 100 | D17: DOUG CHEEK | F17: BECKY CHEEK | G17: 1625 COLLINS HOLLOW RD | H17: LEWISBURG | I17: TN | J17: 37091-4061
A18: PULASKI LODGE 1827 | B18: PULASKI LODGE 1827 | C18: 35 | D18: DOUG CHEEEK | F18: BECKY CHEEK | G18: 1625 COLLINS HOLLOW RD | H18: LEWISBURG | I18: TN | J18: 37091-4061
A19: PULASKI LODGE 1827 | B19: TONY RISNER | C19: 100 | D19: DOUG CHEEK | F19: BECKY CHEEK | G19: 1625 COLLINS HOLLOW RD | H19: LEWISBURG | I19: TN | J19: 37091
A20: GATLINBURG LODGE 1925 | B20: YONAN, JIM | C20: 100 | D20: DOUG CHEECK | F20: BECKY CHEEK | G20: 1625 COLLINS HOLLOW RD | H20: LEWISBURG | I20: TN | J20: 37091-4061
A21: PULASKI LODGE 1827 | B21: PULASKI LODGE 1827 | C21: 35 | D21: JO ANN REID | F21: CHARLES & MACHELLE ENSEY | G21: 33530 ARDMORE RIDGE RD | H21: ARDMORE | I21: TN | J21: 38449-3113
A22: LEWISBURG LODGE 1990 | B22: CATHEY, PHILLIP & JANICE | C22: 25 | D22: DANNY WHITE | F22: DANNY WHITE FAMILY C/O JUSTIN WHITE | G22: 2875 OLD COLUMBIA RD | H22: LEWISBURG | I22: TN | J22: 37091
A23: LEWISBURG LODGE 1990 | B23: LEE, DONNA | C23: 25 | D23: DANNY WHITE | F23: DANNY WHITE FAMILY C/O JUSTIN WHITE | G23: 2875 OLD COLUMBIA RD | H23: LEWISBURG | I23: TN | J23: 37091
A24: ? | B24: JENSEN, WARD & JACQUE | C24: 50 | D24: DANNY WHITE | F24: DANNY WHITE FAMILY C/O JUSTIN WHITE | G24: 2875 OLD COLUMBIA RD | H24: LEWISBURG | I24: TN | J24: 37091
A25: LEWISBURG LODGE 1990 | B25: HENDERSON, CAROL | C25: 100 | D25: DANNY WHITE | F25: DANNY WHITE FAMILY C/O JUSTIN WHITE | G25: 2875 OLD COLUMBIA RD | H25: LEWISBURG | I25: TN | J25: 37091
A26: COLUMBIA LODGE 686 | B26: KELLEY, BETTY & STEVE | C26: 100 | D26: DANNY WHITE | F26: DANNY WHITE FAMILY C/O JUSTIN WHITE | G26: 2875 OLD COLUMBIA RD | H26: LEWISBURG | I26: TN | J26: 37091
A27: ? | B27: CARR RIGGS & INGRAM LLC | C27: 200 | D27: DANNY WHITE | F27: DANNY WHITE FAMILY C/O JUSTIN WHITE | G27: 2875 OLD COLUMBIA RD | H27: LEWISBURG | I27: TN | J27: 37091
A28: LEWISBURG LODGE 1990 | B28: CHEECK, REBECCA | C28: 50 | D28: DANNY WHITE | F28: DANNY WHITE FAMILY C/O JUSTIN WHITE | G28: 2875 OLD COLUMBIA RD | H28: LEWISBURG | I28: TN | J28: 37091
A29: DRESDEN LODGE 2373 | B29: DRESDEN LODGE 2373 | C29: 10 | D29: RAY HERRON | F29: NANCY HERRON | G29: 545 MEADOWLAWN DR | H29: DRESDEN | I29: TN | J29: 38225
A30: LEWIS CO LODGE 2883 | B30: PAM COTHAM | C30: 10 | D30: TONY "PINEAPPLE: BARBER | F30: THE FAMILY OF TONY BARBER
A31: LEWIS CO LODGE 2883 | B31: EDNA SKELTON | C31: 10 | D31: TONY "PINEAPPLE: BARBER | F31: THE FAMILY OF TONY BARBER
A32: LEWISBURG LODGE 1990 | B32: CAROL HENDERSON | C32: 100 | D32: OOPIE LIGGETT | F32: WANDA POTTS | G32: 341 S ELLINGTON PARKWAY | H32: LEWISBURG | I32: TN | J32: 37091

Sheet in memory or honor of 
A1: donor | B1: lodge | C1: amount | D1: in memory | E1: in honor | F1: to | G1: address

Sheet Sheet1
A1: ATHENS | B1: 1927
A2: CHATTANOOGA | B2: 91
A3: CLEVELAND | B3: 1944
A4: ELIZABETHON | B4: 1847
A5: ERWIN | B5: 1985
A6: GATLINGBURG | B6: 1925
A7: JOHNSON CITY | B7: 825
A8: KNOXVILLE | B8: 160
A9: MORRISTOWN | B9: 1667
A10: OAK RIDGE | B10: 1684
A11: TOTAL EAST
A14: COLUMBIA | B14: 686
A15: CUMBERLAND COUNTY | B15: 2751
A16: FAYETTEVILLE | B16: 1792
A17: GALLATIN | B17: 2547
A18: LAWRENCEBURG | B18: 2206
A19: LEWIS COUNTY | B19: 2883
A20: LEWISBURG | B20: 1990
A21: MADISON | B21: 2473
A22: NASHVILLE/FRANKLIN | B22: 72
A23: PULASKI | B23: 1827
A24: TOTAL MIDDLE
A31: CAMDEN | B31: 2156
A32: DECATUR COUNTY | B32: 2641
A33: DRESDEN | B33: 2373
A34: HENDERSON | B34: 2459
A35: HUNTINGDON | B35: 2152
A36: JACKSON | B36: 192
A37: PARIS | B37: 816
A38: TRENTON | B38: 1279
A39: WAVERLY | B39: 2289
A40: TOTAL WEST
A43: EAST DISTRICT
A44: MIDDLE DISTRICT
A45: WEST DISTRICT
A46: CONVENTIONS
A47: TELAS
