Workbook

Sheet Brecha 14001
B2: ANÁLISIS DE BRECHA ISO 14001
B3: ACTIVIDAD | C3: ESTADO | D3: PUNTAJE | E3: EVIDENCIA/OBSERVACIÓN
B4: 4. Contexto de la organización
B5: 4.1 Comprensión de la organización y de su contexto | C5: Pendiente | D5: =IF(C5="Listo",100,IF(C5="En proceso",50,IF(C5="Pendiente",0," "))) -> 0
B6: 4.2 Comprensión de las necesidades y expectativas de la partes interesadas | C6: Pendiente | D6: =IF(C6="Listo",100,IF(C6="En proceso",50,IF(C6="Pendiente",0," "))) -> 0 | L6: Listo
B7: 4.3 Determinación del alcance del sistema de gestión ambiental | C7: Pendiente | D7: =IF(C7="Listo",100,IF(C7="En proceso",50,IF(C7="Pendiente",0," "))) -> 0 | L7: En proceso
B8: 4.4 Sistema de gestión ambiental | C8: Pendiente | D8: =IF(C8="Listo",100,IF(C8="En proceso",50,IF(C8="Pendiente",0," "))) -> 0 | L8: Pendiente
B9: 4. TOTAL | D9: =AVERAGE(D5:D8) -> 0 | L9: No aplica
B10: 5. Liderazgo
B11: 5.1 Liderazgo y compromiso | C11: Pendiente | D11: =IF(C11="Listo",100,IF(C11="En proceso",50,IF(C11="Pendiente",0," "))) -> 0
B12: 5.2 Política | C12: Pendiente | D12: =IF(C12="Listo",100,IF(C12="En proceso",50,IF(C12="Pendiente",0," "))) -> 0
B13: 5.3 Roles, responsabilidades y autoridad en la organización | C13: Pendiente | D13: =IF(C13="Listo",100,IF(C13="En proceso",50,IF(C13="Pendiente",0," "))) -> 0
B14: 5. TOTAL | D14: =AVERAGE(D11:D13) -> 0
B15: 6. Planificación
B16: 6.1 Acciones para abordar riesgos y oportunidades
B17: 6.1.1 Generalidades | C17: Pendiente | D17: =IF(C17="Listo",100,IF(C17="En proceso",50,IF(C17="Pendiente",0," "))) -> 0
B18: 6.1.2 Aspectos ambientales | C18: Pendiente | D18: =IF(C18="Listo",100,IF(C18="En proceso",50,IF(C18="Pendiente",0," "))) -> 0
B19: 6.1.3 Requisitos legales y otros requisitos | C19: Pendiente | D19: =IF(C19="Listo",100,IF(C19="En proceso",50,IF(C19="Pendiente",0," "))) -> 0
B20: 6.1.4 Planificación de acciones | C20: Pendiente | D20: =IF(C20="Listo",100,IF(C20="En proceso",50,IF(C20="Pendiente",0," "))) -> 0
B21: 6.1. Subtotal | D21: =AVERAGE(D17:D20) -> 0
B22: 6.2 Objetivos ambientales y planificación para lograrlos
B23: 6.2.1 Objetivos ambientales | C23: Pendiente | D23: =IF(C23="Listo",100,IF(C23="En proceso",50,IF(C23="Pendiente",0," "))) -> 0
B24: 6.2.2 Planificación de acciones para lograr los objetivos ambientales | C24: Pendiente | D24: =IF(C24="Listo",100,IF(C24="En proceso",50,IF(C24="Pendiente",0," "))) -> 0
B25: 6.2. Subtotal | D25: =AVERAGE(D23:D24) -> 0
B26: 6. TOTAL | D26: =AVERAGE(D21,D25) -> 0
B27: 7. Apoyo
B28: 7.1 Recursos | C28: Pendiente | D28: =IF(C28="Listo",100,IF(C28="En proceso",50,IF(C28="Pendiente",0," "))) -> 0
B29: 7.2 Competencia | C29: Pendiente | D29: =IF(C29="Listo",100,IF(C29="En proceso",50,IF(C29="Pendiente",0," "))) -> 0
B30: 7.3 Toma de conciencia | C30: Pendiente | D30: =IF(C30="Listo",100,IF(C30="En proceso",50,IF(C30="Pendiente",0," "))) -> 0
B31: 7.4 Comunicación
B32: 7.4.1 Generalidades | C32: Pendiente | D32: =IF(C32="Listo",100,IF(C32="En proceso",50,IF(C32="Pendiente",0," "))) -> 0
B33: 7.4.2 Comunicación interna | C33: Pendiente | D33: =IF(C33="Listo",100,IF(C33="En proceso",50,IF(C33="Pendiente",0," "))) -> 0
B34: 7.4.3 Comunicación externa | C34: Pendiente | D34: =IF(C34="Listo",100,IF(C34="En proceso",50,IF(C34="Pendiente",0," "))) -> 0
B35: 7.4. Subtotal | D35: =AVERAGE(D32:D34) -> 0
B36: 7.5 Información documentada
B37: 7.5.1 Generalidades | C37: Pendiente | D37: =IF(C37="Listo",100,IF(C37="En proceso",50,IF(C37="Pendiente",0," "))) -> 0
B38: 7.5.2 Creación y actualización | C38: Pendiente | D38: =IF(C38="Listo",100,IF(C38="En proceso",50,IF(C38="Pendiente",0," "))) -> 0
B39: 7.5.3 Control de la información documentada | C39: Pendiente | D39: =IF(C39="Listo",100,IF(C39="En proceso",50,IF(C39="Pendiente",0," "))) -> 0
B40: 7.5. Subtotal | D40: =AVERAGE(D37:D39) -> 0
B41: 7. TOTAL | D41: =AVERAGE(D28,D29,D30,D35,D40) -> 0
...

Sheet Análisis
B2: ='Brecha 14001'!B2:E2 -> ANÁLISIS DE BRECHA ISO 14001
B3: Capítulo de la norma ISO 14001 | C3: Puntaje
B4: ='Brecha 14001'!B4:E4 -> 4. Contexto de la organización | C4: ='Brecha 14001'!D9 -> 0
B5: ='Brecha 14001'!B10:E10 -> 5. Liderazgo | C5: ='Brecha 14001'!D14 -> 0
B6: ='Brecha 14001'!B15:E15 -> 6. Planificación | C6: ='Brecha 14001'!D26 -> 0
B7: ='Brecha 14001'!B27:E27 -> 7. Apoyo | C7: ='Brecha 14001'!D41 -> 0
B8: ='Brecha 14001'!B42:E42 -> 8. Operación | C8: ='Brecha 14001'!D45 -> 0
B9: ='Brecha 14001'!B46:E46 -> 9. Evaluación del desempeño | C9: ='Brecha 14001'!D56 -> 0
B10: ='Brecha 14001'!B57:E57 -> 10. Mejora | C10: ='Brecha 14001'!D61 -> 0
B11: ='Brecha 14001'!B62:C62 -> % DE AVANCE | C11: ='Brecha 14001'!D62 -> 0
