Workbook

Sheet Evaluación 
B2: ANÁLISIS DE BRECHA ISO 9001
B3: ACTIVIDAD | C3: ESTADO | D3: PUNTAJE | E3: EVIDENCIA/OBSERVACIÓN
B4: 4. Contexto de la organización
B5: 4.1 Comprensión de la organización y de su contexto | C5: Pendiente | D5: =IF(C5="Listo",100,IF(C5="En proceso",50,IF(C5="Pendiente",0," "))) -> 0
B6: 4.2 Comprensión de las necesidades y expectativas de la partes interesadas | C6: Pendiente | D6: =IF(C6="Listo",100,IF(C6="En proceso",50,IF(C6="Pendiente",0," "))) -> 0 | L6: Listo
B7: 4.3 Determinación del alcance del sistema de gestión de la calidad | C7: Pendiente | D7: =IF(C7="Listo",100,IF(C7="En proceso",50,IF(C7="Pendiente",0," "))) -> 0 | L7: En proceso
B8: 4.4 Sistema de gestión de calidad y sus procesos | C8: Pendiente | D8: =IF(C8="Listo",100,IF(C8="En proceso",50,IF(C8="Pendiente",0," "))) -> 0 | L8: Pendiente
B9: 4. TOTAL | D9: =AVERAGE(D5:D8) -> 0 | L9: No aplica
B10: 5. Liderazgo
B11: 5.1 Liderazgo y compromiso
B12: 5.1.1 Generalidades | C12: Pendiente | D12: =IF(C12="Listo",100,IF(C12="En proceso",50,IF(C12="Pendiente",0," "))) -> 0
B13: 5.1.2 Enfoque al cliente | C13: Pendiente | D13: =IF(C13="Listo",100,IF(C13="En proceso",50,IF(C13="Pendiente",0," "))) -> 0
B14: 5.1. Subtotal | D14: =AVERAGE(D12:D13) -> 0
B15: 5.2 Política
B16: 5.2.1 Establecimiento de la política de calidad | C16: Pendiente | D16: =IF(C16="Listo",100,IF(C16="En proceso",50,IF(C16="Pendiente",0," "))) -> 0
B17: 5.2.3 Comunicación de la política de calidad | C17: Pendiente | D17: =IF(C17="Listo",100,IF(C17="En proceso",50,IF(C17="Pendiente",0," "))) -> 0
B18: 5.2. Subtotal | D18: =AVERAGE(D15:D16) -> 0
B19: 5.3 Roles, responsabilidades y autoridad en la organización | C19: Pendiente | D19: =IF(C19="Listo",100,IF(C19="En proceso",50,IF(C19="Pendiente",0," "))) -> 0
B20: 5. TOTAL | D20: =AVERAGE(D14,D18,D19) -> 0
B21: 6. Planificación
B22: 6.1 Acciones para abordar riesgos y oportunidades | C22: Pendiente | D22: =IF(C22="Listo",100,IF(C22="En proceso",50,IF(C22="Pendiente",0," "))) -> 0
B23: 6.2 Objetivos de la calidad y planificación para lograrlos | C23: Pendiente | D23: =IF(C23="Listo",100,IF(C23="En proceso",50,IF(C23="Pendiente",0," "))) -> 0
B24: 6.3 Planificación de los cambios | C24: Pendiente | D24: =IF(C24="Listo",100,IF(C24="En proceso",50,IF(C24="Pendiente",0," "))) -> 0
B25: 6. TOTAL | D25: =AVERAGE(D22:D24) -> 0
B26: 7. Apoyo
B27: 7.1 Recursos
B28: 7.1.1 Generalidades | C28: Pendiente | D28: =IF(C28="Listo",100,IF(C28="En proceso",50,IF(C28="Pendiente",0," "))) -> 0
B29: 7.1.2 Personas | C29: Pendiente | D29: =IF(C29="Listo",100,IF(C29="En proceso",50,IF(C29="Pendiente",0," "))) -> 0
B30: 7.1.3 Infraestructura | C30: Pendiente | D30: =IF(C30="Listo",100,IF(C30="En proceso",50,IF(C30="Pendiente",0," "))) -> 0
B31: 7.1.4 Ambiente para la operación de los procesos | C31: Pendiente | D31: =IF(C31="Listo",100,IF(C31="En proceso",50,IF(C31="Pendiente",0," "))) -> 0
B32: 7.1.5 Rercursos de seguimiento y medición | C32: Pendiente | D32: =IF(C32="Listo",100,IF(C32="En proceso",50,IF(C32="Pendiente",0," "))) -> 0
B33: 7.1.6 Conocimientos de la organización | C33: Pendiente | D33: =IF(C33="Listo",100,IF(C33="En proceso",50,IF(C33="Pendiente",0," "))) -> 0
B34: 7.1. Subtotal | D34: =AVERAGE(D28:D33) -> 0
B35: 7.2 Competencia | C35: Pendiente | D35: =IF(C35="Listo",100,IF(C35="En proceso",50,IF(C35="Pendiente",0," "))) -> 0
B36: 7.3 Toma de conciencia | C36: Pendiente | D36: =IF(C36="Listo",100,IF(C36="En proceso",50,IF(C36="Pendiente",0," "))) -> 0
B37: 7.4 Comunicación | C37: Pendiente | D37: =IF(C37="Listo",100,IF(C37="En proceso",50,IF(C37="Pendiente",0," "))) -> 0
B38: 7.5 Información documentada
B39: 7.5.1 Generalidades | C39: Pendiente | D39: =IF(C39="Listo",100,IF(C39="En proceso",50,IF(C39="Pendiente",0," "))) -> 0
B40: 7.5.2 Creación y actualización | C40: Pendiente | D40: =IF(C40="Listo",100,IF(C40="En proceso",50,IF(C40="Pendiente",0," "))) -> 0
B41: 7.5.3 Control de la información documentada | C41: Pendiente | D41: =IF(C41="Listo",100,IF(C41="En proceso",50,IF(C41="Pendiente",0," "))) -> 0
B42: 7.5. Subtotal | D42: =AVERAGE(D39:D41) -> 0
B43: 7. TOTAL | D43: =AVERAGE(D34,D35:D37,D42) -> 0
B44: 8. Operación
B45: 8.1 Planificación y control operacional | C45: Pendiente | D45: =IF(C45="Listo",100,IF(C45="En proceso",50,IF(C45="Pendiente",0," "))) -> 0
B46: 8.2 Requisitos para los productos y servicios
B47: 8.2.1 Comunicación con el cliente | C47: Pendiente | D47: =IF(C47="Listo",100,IF(C47="En proceso",50,IF(C47="Pendiente",0," "))) -> 0
B48: 8.2.2 Determinación de los requisitos para los productos y servicios | C48: Pendiente | D48: =IF(C48="Listo",100,IF(C48="En proceso",50,IF(C48="Pendiente",0," "))) -> 0
B49: 8.2.3 Revisión de los requisitos para los productos y servicios | C49: Pendiente | D49: =IF(C49="Listo",100,IF(C49="En proceso",50,IF(C49="Pendiente",0," "))) -> 0
B50: 8.2.4 Cambios en los requisitos para los productos y servicios | C50: Pendiente | D50: =IF(C50="Listo",100,IF(C50="En proceso",50,IF(C50="Pendiente",0," "))) -> 0
B51: 8.2. Subtotal | D51: =AVERAGE(D47:D50) -> 0
B52: 8.3 Diseño y desarrollo de los productos y servicios
B53: 8.3.1 Generalidades | C53: Pendiente | D53: =IF(C53="Listo",100,IF(C53="En proceso",50,IF(C53="Pendiente",0," "))) -> 0
B54: 8.3.2 Planificación del diseño y desarrollo | C54: Pendiente | D54: =IF(C54="Listo",100,IF(C54="En proceso",50,IF(C54="Pendiente",0," "))) -> 0
B55: 8.3.3 Entradas para el diseño y desarrollo | C55: Pendiente | D55: =IF(C55="Listo",100,IF(C55="En proceso",50,IF(C55="Pendiente",0," "))) -> 0
B56: 8.3.4 Controles del diseño y desarrollo | C56: Pendiente | D56: =IF(C56="Listo",100,IF(C56="En proceso",50,IF(C56="Pendiente",0," "))) -> 0
B57: 8.3.5 Salidas del diseño y desarrollo | C57: Pendiente | D57: =IF(C57="Listo",100,IF(C57="En proceso",50,IF(C57="Pendiente",0," "))) -> 0
B58: 8.3.6 Cambios del diseño y desarrollo | C58: Pendiente | D58: =IF(C58="Listo",100,IF(C58="En proceso",50,IF(C58="Pendiente",0," "))) -> 0
B59: 8.3. Subtotal | D59: =AVERAGE(D53:D58) -> 0
B60: 8.4 Control de los procesos, productos y servicios suministrados externamente
B61: 8.4.1 Generalidades | C61: Pendiente | D61: =IF(C61="Listo",100,IF(C61="En proceso",50,IF(C61="Pendiente",0," "))) -> 0
B62: 8.4.2 Tipo y alcance del control | C62: Pendiente | D62: =IF(C62="Listo",100,IF(C62="En proceso",50,IF(C62="Pendiente",0," "))) -> 0
B63: 8.4.3 Información para los proveedores externos | C63: Pendiente | D63: =IF(C63="Listo",100,IF(C63="En proceso",50,IF(C63="Pendiente",0," "))) -> 0
B64: 8.4. Subtotal | D64: =AVERAGE(D61:D63) -> 0
B65: 8.5 Produccción y provisión del servicio
B66: 8.5.1 Control de la producción y la provisión del servicio | C66: Pendiente | D66: =IF(C66="Listo",100,IF(C66="En proceso",50,IF(C66="Pendiente",0," "))) -> 0
B67: 8.5.2 Identificación y trazabilidad | C67: Pendiente | D67: =IF(C67="Listo",100,IF(C67="En proceso",50,IF(C67="Pendiente",0," "))) -> 0
B68: 8.5.3 Propiedad perteneciente a los clientes o proveedores externos | C68: Pendiente | D68: =IF(C68="Listo",100,IF(C68="En proceso",50,IF(C68="Pendiente",0," "))) -> 0
B69: 8.5.4 Preservación | C69: Pendiente | D69: =IF(C69="Listo",100,IF(C69="En proceso",50,IF(C69="Pendiente",0," "))) -> 0
B70: 8.5.5 Actividades posteriores a la entrega | C70: Pendiente | D70: =IF(C70="Listo",100,IF(C70="En proceso",50,IF(C70="Pendiente",0," "))) -> 0
B71: 8.5.6 Control de los cambios | C71: Pendiente | D71: =IF(C71="Listo",100,IF(C71="En proceso",50,IF(C71="Pendiente",0," "))) -> 0
B72: 8.5. Subtotal | D72: =AVERAGE(D66:D71) -> 0
B73: 8.6 Liberación de los productos y servicios | C73: Pendiente | D73: =IF(C73="Listo",100,IF(C73="En proceso",50,IF(C73="Pendiente",0," "))) -> 0
B74: 8.7 Control de las salidas no conformes | C74: Pendiente | D74: =IF(C74="Listo",100,IF(C74="En proceso",50,IF(C74="Pendiente",0," "))) -> 0
B75: 8. TOTAL | D75: =AVERAGE(D45,D51,D59,D64,D72,D73:D74) -> 0
B76: 9. Evaluación del desempeño
B77: 9.1 Seguimiento, medición, análisis y evaluación
B78: 9.1.1 Generalidades | C78: Pendiente | D78: =IF(C78="Listo",100,IF(C78="En proceso",50,IF(C78="Pendiente",0," "))) -> 0
B79: 9.1.2 a Satifacción del cliente | C79: Pendiente | D79: =IF(C79="Listo",100,IF(C79="En proceso",50,IF(C79="Pendiente",0," "))) -> 0
B80: 9.1.3 Análisis y evaluación | C80: Pendiente | D80: =IF(C80="Listo",100,IF(C80="En proceso",50,IF(C80="Pendiente",0," "))) -> 0
B81: 9.1. Subtotal | D81: =AVERAGE(D78:D80) -> 0
B82: 9.2 Auditoría interna | C82: Pendiente | D82: =IF(C82="Listo",100,IF(C82="En proceso",50,IF(C82="Pendiente",0," "))) -> 0
B83: 9.3 Revisión por la Dirección
B84: 9.3.1 Generalidades | C84: Pendiente | D84: =IF(C84="Listo",100,IF(C84="En proceso",50,IF(C84="Pendiente",0," "))) -> 0
B85: 9.3.2 Entradas de la revisión por la dirección | C85: Pendiente | D85: =IF(C85="Listo",100,IF(C85="En proceso",50,IF(C85="Pendiente",0," "))) -> 0
B86: 9.3.3 Salidas de la revisión por la dirección | C86: Pendiente | D86: =IF(C86="Listo",100,IF(C86="En proceso",50,IF(C86="Pendiente",0," "))) -> 0
B87: 9.3. Subtotal | D87: =AVERAGE(D84:D86) -> 0
B88: 9. TOTAL | D88: =AVERAGE(D81,D82,D87) -> 0
B89: 10. Mejora
B90: 10.1 Generalidades | C90: Pendiente | D90: =IF(C90="Listo",100,IF(C90="En proceso",50,IF(C90="Pendiente",0," "))) -> 0
B91: 10.2 No conformidad y acción correctiva | C91: Pendiente | D91: =IF(C91="Listo",100,IF(C91="En proceso",50,IF(C91="Pendiente",0," "))) -> 0
B92: 10.3 Mejora continua | C92: Pendiente | D92: =IF(C92="Listo",100,IF(C92="En proceso",50,IF(C92="Pendiente",0," "))) -> 0
B93: 10. TOTAL | D93: =AVERAGE(D90:D92) -> 0
B94: % DE AVANCE | D94: =AVERAGE(D20,D25,D43,D75,D88,D93) -> 0

Sheet Análisis
B2: ='Evaluación '!B2:E2 -> ANÁLISIS DE BRECHA ISO 9001
B3: Capítulo de la norma 9001 | C3: Puntaje
B4: ='Evaluación '!B4:E4 -> 4. Contexto de la organización | C4: ='Evaluación '!D9 -> 0
B5: ='Evaluación '!B10:E10 -> 5. Liderazgo | C5: ='Evaluación '!D20 -> 0
B6: ='Evaluación '!B21:E21 -> 6. Planificación | C6: ='Evaluación '!D25 -> 0
B7: ='Evaluación '!B26:E26 -> 7. Apoyo | C7: ='Evaluación '!D43 -> 0
B8: ='Evaluación '!B44:E44 -> 8. Operación | C8: ='Evaluación '!D75 -> 0
B9: ='Evaluación '!B76:E76 -> 9. Evaluación del desempeño | C9: ='Evaluación '!D88 -> 0
B10: ='Evaluación '!B89:E89 -> 10. Mejora | C10: ='Evaluación '!D93 -> 0
B11: ='Evaluación '!B94:C94 -> % DE AVANCE | C11: ='Evaluación '!D94 -> 0
