Workbook

Sheet Evaluación 
B2: ANÁLISIS DE BRECHA ISO 9001
B3: ACTIVIDAD | C3: ESTADO | D3: PUNTAJE | E3: EVIDENCIA/OBSERVACIÓN
B4: 4. Contexto de la organización
B5: 4.1 Comprensión de la organización y de su contexto | C5: Pendiente | D5: =IF(C5="Listo",100,IF(C5="En proceso",50,IF(C5="Pendiente",0," "))) -> 0
B6: 4.2 Comprensión de las necesidades y expectativas de la partes interesadas | C6: Pendiente | D6: =IF(C6="Listo",100,IF(C6="En proceso",50,IF(C6="Pendiente",0," "))) -> 0 | L6: Listo
B7: 4.3 Determinación del alcance del sistema de gestión de la calidad | C7: Pendiente | D7: =IF(C7="Listo",100,IF(C7="En proceso",50,IF(C7="Pendiente",0," "))) -> 0 | L7: En proceso
B8: 4.4 Sistema de gestión de calidad y sus procesos | C8: Pendiente | D8: =IF(C8="Listo",100,IF(C8="En proceso",50,IF(C8="Pendiente",0," "))) -> 0 | L8: Pendiente
B9: 4. TOTAL | D9: =AVERAGE(D5:D8) -> 0 | L9: No aplica
B10: 5. Liderazgo
B11: 5.1 Liderazgo y compromiso
B12: 5.1.1 Generalidades | C12: Pendiente | D12: =IF(C12="Listo",100,IF(C12="En proceso",50,IF(C12="Pendiente",0," "))) -> 0
B13: 5.1.2 Enfoque al cliente | C13: Pendiente | D13: =IF(C13="Listo",100,IF(C13="En proceso",50,IF(C13="Pendiente",0," "))) -> 0
B14: 5.1. Subtotal | D14: =AVERAGE(D12:D13) -> 0
B15: 5.2 Política
B16: 5.2.1 Establecimiento de la política de calidad | C16: Pendiente | D16: =IF(C16="Listo",100,IF(C16="En proceso",50,IF(C16="Pendiente",0," "))) -> 0
B17: 5.2.3 Comunicación de la política de calidad | C17: Pendiente | D17: =IF(C17="Listo",100,IF(C17="En proceso",50,IF(C17="Pendiente",0," "))) -> 0
B18: 5.2. Subtotal | D18: =AVERAGE(D15:D16) -> 0
B19: 5.3 Roles, responsabilidades y autoridad en la organización | C19: Pendiente | D19: =IF(C19="Listo",100,IF(C19="En proceso",50,IF(C19="Pendiente",0," "))) -> 0
B20: 5. TOTAL | D20: =AVERAGE(D14,D18,D19) -> 0
B21: 6. Planificación
B22: 6.1 Acciones para abordar riesgos y oportunidades | C22: Pendiente | D22: =IF(C22="Listo",100,IF(C22="En proceso",50,IF(C22="Pendiente",0," "))) -> 0
B23: 6.2 Objetivos de la calidad y planificación para lograrlos | C23: Pendiente | D23: =IF(C23="Listo",100,IF(C23="En proceso",50,IF(C23="Pendiente",0," "))) -> 0
B24: 6.3 Planificación de los cambios | C24: Pendiente | D24: =IF(C24="Listo",100,IF(C24="En proceso",50,IF(C24="Pendiente",0," "))) -> 0
B25: 6. TOTAL | D25: =AVERAGE(D22:D24) -> 0
B26: 7. Apoyo
B27: 7.1 Recursos
B28: 7.1.1 Generalidades | C28: Pendiente | D28: =IF(C28="Listo",100,IF(C28="En proceso",50,IF(C28="Pendiente",0," "))) -> 0
B29: 7.1.2 Personas | C29: Pendiente | D29: =IF(C29="Listo",100,IF(C29="En proceso",50,IF(C29="Pendiente",0," "))) -> 0
B30: 7.1.3 Infraestructura | C30: Pendiente | D30: =IF(C30="Listo",100,IF(C30="En proceso",50,IF(C30="Pendiente",0," "))) -> 0
B31: 7.1.4 Ambiente para la operación de los procesos | C31: Pendiente | D31: =IF(C31="Listo",100,IF(C31="En proceso",50,IF(C31="Pendiente",0," "))) -> 0
B32: 7.1.5 Rercursos de seguimiento y medición | C32: Pendiente | D32: =IF(C32="Listo",100,IF(C32="En proceso",50,IF(C32="Pendiente",0," "))) -> 0
B33: 7.1.6 Conocimientos de la organización | C33: Pendiente | D33: =IF(C33="Listo",100,IF(C33="En proceso",50,IF(C33="Pendiente",0," "))) -> 0
B34: 7.1. Subtotal | D34: =AVERAGE(D28:D33) -> 0
B35: 7.2 Competencia | C35: Pendiente | D35: =IF(C35="Listo",100,IF(C35="En proceso",50,IF(C35="Pendiente",0," "))) -> 0
B36: 7.3 Toma de conciencia | C36: Pendiente | D36: =IF(C36="Listo",100,IF(C36="En proceso",50,IF(C36="Pendiente",0," "))) -> 0
B37: 7.4 Comunicación | C37: Pendiente | D37: =IF(C37="Listo",100,IF(C37="En proceso",50,IF(C37="Pendiente",0," "))) -> 0
B38: 7.5 Información documentada
B39: 7.5.1 Generalidades | C39: Pendiente | D39: =IF(C39="Listo",100,IF(C39="En proceso",50,IF(C39="Pendiente",0," "))) -> 0
B40: 7.5.2 Creación y actualización | C40: Pendiente | D40: =IF(C40="Listo",100,IF(C40="En proceso",50,IF(C40="Pendiente",0," "))) -> 0
B41: 7.5.3 Control de la información documentada | C41: Pendiente | D41: =IF(C41="Listo",100,IF(C41="En proceso",50,IF(C41="Pendiente",0," "))) -> 0
...

Sheet Análisis
B2: ='Evaluación '!B2:E2 -> ANÁLISIS DE BRECHA ISO 9001
B3: Capítulo de la norma 9001 | C3: Puntaje
B4: ='Evaluación '!B4:E4 -> 4. Contexto de la organización | C4: ='Evaluación '!D9 -> 0
B5: ='Evaluación '!B10:E10 -> 5. Liderazgo | C5: ='Evaluación '!D20 -> 0
B6: ='Evaluación '!B21:E21 -> 6. Planificación | C6: ='Evaluación '!D25 -> 0
B7: ='Evaluación '!B26:E26 -> 7. Apoyo | C7: ='Evaluación '!D43 -> 0
B8: ='Evaluación '!B44:E44 -> 8. Operación | C8: ='Evaluación '!D75 -> 0
B9: ='Evaluación '!B76:E76 -> 9. Evaluación del desempeño | C9: ='Evaluación '!D88 -> 0
B10: ='Evaluación '!B89:E89 -> 10. Mejora | C10: ='Evaluación '!D93 -> 0
B11: ='Evaluación '!B94:C94 -> % DE AVANCE | C11: ='Evaluación '!D94 -> 0
