Workbook

Sheet Evaluación 
B2: ANÁLISIS DE BRECHA ISO 9001 / ISO 14001
B3: ACTIVIDAD | C3: ESTADO | D3: PUNTAJE | E3: EVIDENCIA/OBSERVACIÓN
B4: 4. Contexto de la organización
B5: 4.1 Comprensión de la organización y de su contexto | C5: Pendiente | D5: =IF(C5="Listo",100,IF(C5="En proceso",50,IF(C5="Pendiente",0," "))) -> 0
B6: 4.2 Comprensión de las necesidades y expectativas de la partes interesadas | C6: Pendiente | D6: =IF(C6="Listo",100,IF(C6="En proceso",50,IF(C6="Pendiente",0," "))) -> 0 | L6: Listo
B7: 4.3 Determinación del alcance del sistema de gestión integrado | C7: Pendiente | D7: =IF(C7="Listo",100,IF(C7="En proceso",50,IF(C7="Pendiente",0," "))) -> 0 | L7: En proceso
B8: 4.4 Sistema de gestión intregrado y sus procesos | C8: Pendiente | D8: =IF(C8="Listo",100,IF(C8="En proceso",50,IF(C8="Pendiente",0," "))) -> 0 | L8: Pendiente
B9: 4. TOTAL | D9: =AVERAGE(D5:D8) -> 0 | L9: No aplica
B10: 5. Liderazgo
B11: 5.1 Liderazgo y compromiso
B12: 5.1.1 Generalidades | C12: Pendiente | D12: =IF(C12="Listo",100,IF(C12="En proceso",50,IF(C12="Pendiente",0," "))) -> 0
B13: 5.1.2 Enfoque al cliente | C13: Pendiente | D13: =IF(C13="Listo",100,IF(C13="En proceso",50,IF(C13="Pendiente",0," "))) -> 0
B14: 5.1. Subtotal | D14: =AVERAGE(D12:D13) -> 0
B15: 5.2 Política
B16: 5.2.1 Establecimiento de la política | C16: Pendiente | D16: =IF(C16="Listo",100,IF(C16="En proceso",50,IF(C16="Pendiente",0," "))) -> 0
B17: 5.2.3 Comunicación de la política | C17: Pendiente | D17: =IF(C17="Listo",100,IF(C17="En proceso",50,IF(C17="Pendiente",0," "))) -> 0
B18: 5.2. Subtotal | D18: =AVERAGE(D15:D16) -> 0
B19: 5.3 Roles, responsabilidades y autoridad en la organización | C19: Pendiente | D19: =IF(C19="Listo",100,IF(C19="En proceso",50,IF(C19="Pendiente",0," "))) -> 0
B20: 5. TOTAL | D20: =AVERAGE(D14,D18,D19) -> 0
B21: 6. Planificación
B22: 6.1 Acciones para abordar riesgos y oportunidades
B23: 6.1.1 Generalidades | C23: Pendiente | D23: =IF(C23="Listo",100,IF(C23="En proceso",50,IF(C23="Pendiente",0," "))) -> 0
B24: 6.1.2 Aspectos ambientales | C24: Pendiente | D24: =IF(C24="Listo",100,IF(C24="En proceso",50,IF(C24="Pendiente",0," "))) -> 0
B25: 6.1.3 Requisitos legales y otros requisitos | C25: Pendiente | D25: =IF(C25="Listo",100,IF(C25="En proceso",50,IF(C25="Pendiente",0," "))) -> 0
B26: 6.1.4 Planificación de acciones | C26: Pendiente | D26: =IF(C26="Listo",100,IF(C26="En proceso",50,IF(C26="Pendiente",0," "))) -> 0
B27: 6.1. Subtotal | D27: =AVERAGE(D23:D26) -> 0
B28: 6.2 Objetivos integrados de gestión y planificación para lograrlos
B29: 6.2.1 Objetivos integrados de gestión | C29: Pendiente | D29: =IF(C29="Listo",100,IF(C29="En proceso",50,IF(C29="Pendiente",0," "))) -> 0
B30: 6.2.2 Planificación para lograr los objetivos | C30: Pendiente | D30: =IF(C30="Listo",100,IF(C30="En proceso",50,IF(C30="Pendiente",0," "))) -> 0
B31: 6.2. Subtotal | D31: =AVERAGE(D29:D30) -> 0
B32: 6.3 Planificación de los cambios | C32: Pendiente | D32: =IF(C32="Listo",100,IF(C32="En proceso",50,IF(C32="Pendiente",0," "))) -> 0
B33: 6. TOTAL | D33: =AVERAGE(D27,D31,D32) -> 0
B34: 7. Apoyo
B35: 7.1 Recursos
B36: 7.1.1 Generalidades | C36: Pendiente | D36: =IF(C36="Listo",100,IF(C36="En proceso",50,IF(C36="Pendiente",0," "))) -> 0
B37: 7.1.2 Personas | C37: Pendiente | D37: =IF(C37="Listo",100,IF(C37="En proceso",50,IF(C37="Pendiente",0," "))) -> 0
B38: 7.1.3 Infraestructura | C38: Pendiente | D38: =IF(C38="Listo",100,IF(C38="En proceso",50,IF(C38="Pendiente",0," "))) -> 0
B39: 7.1.4 Ambiente para la operación de los procesos | C39: Pendiente | D39: =IF(C39="Listo",100,IF(C39="En proceso",50,IF(C39="Pendiente",0," "))) -> 0
B40: 7.1.5 Rercursos de seguimiento y medición | C40: Pendiente | D40: =IF(C40="Listo",100,IF(C40="En proceso",50,IF(C40="Pendiente",0," "))) -> 0
B41: 7.1.6 Conocimientos de la organización | C41: Pendiente | D41: =IF(C41="Listo",100,IF(C41="En proceso",50,IF(C41="Pendiente",0," "))) -> 0
B42: 7.1. Subtotal | D42: =AVERAGE(D36:D41) -> 0
B43: 7.2 Competencia | C43: Pendiente | D43: =IF(C43="Listo",100,IF(C43="En proceso",50,IF(C43="Pendiente",0," "))) -> 0
B44: 7.3 Toma de conciencia | C44: Pendiente | D44: =IF(C44="Listo",100,IF(C44="En proceso",50,IF(C44="Pendiente",0," "))) -> 0
B45: 7.4 Comunicación
B46: 7.4.1 Generalidades | C46: Pendiente | D46: =IF(C46="Listo",100,IF(C46="En proceso",50,IF(C46="Pendiente",0," "))) -> 0
B47: 7.4.2 Comunicación interna | C47: Pendiente | D47: =IF(C47="Listo",100,IF(C47="En proceso",50,IF(C47="Pendiente",0," "))) -> 0
B48: 7.4.3 Comunicación externa | C48: Pendiente | D48: =IF(C48="Listo",100,IF(C48="En proceso",50,IF(C48="Pendiente",0," "))) -> 0
B49: 7.4. Subtotal | D49: =AVERAGE(D46:D48) -> 0
B50: 7.5 Información documentada
B51: 7.5.1 Generalidades | C51: Pendiente | D51: =IF(C51="Listo",100,IF(C51="En proceso",50,IF(C51="Pendiente",0," "))) -> 0
B52: 7.5.2 Creación y actualización | C52: Pendiente | D52: =IF(C52="Listo",100,IF(C52="En proceso",50,IF(C52="Pendiente",0," "))) -> 0
B53: 7.5.3 Control de la información documentada | C53: Pendiente | D53: =IF(C53="Listo",100,IF(C53="En proceso",50,IF(C53="Pendiente",0," "))) -> 0
B54: 7.5. Subtotal | D54: =AVERAGE(D51:D53) -> 0
B55: 7. TOTAL | D55: =AVERAGE(D42,D49,D43,D44,D54) -> 0
B56: 8. Operación
B57: 8.1 Planificación y control operacional | C57: Pendiente | D57: =IF(C57="Listo",100,IF(C57="En proceso",50,IF(C57="Pendiente",0," "))) -> 0
B58: 8.2 Preparación y respuesta ante emergencias y Requisitos para los productos y servicios
B59: 8.2.A Preparación y respuesta ante emergencias | C59: Pendiente | D59: =IF(C59="Listo",100,IF(C59="En proceso",50,IF(C59="Pendiente",0," "))) -> 0
B60: 8.2.B Requisitos para los productos y servicios
B61: 8.2.1 Comunicación con el cliente | C61: Pendiente | D61: =IF(C61="Listo",100,IF(C61="En proceso",50,IF(C61="Pendiente",0," "))) -> 0
B62: 8.2.2 Determinación de los requisitos para los productos y servicios | C62: Pendiente | D62: =IF(C62="Listo",100,IF(C62="En proceso",50,IF(C62="Pendiente",0," "))) -> 0
B63: 8.2.3 Revisión de los requisitos para los productos y servicios | C63: Pendiente | D63: =IF(C63="Listo",100,IF(C63="En proceso",50,IF(C63="Pendiente",0," "))) -> 0
B64: 8.2.4 Cambios en los requisitos para los productos y servicios | C64: Pendiente | D64: =IF(C64="Listo",100,IF(C64="En proceso",50,IF(C64="Pendiente",0," "))) -> 0
B65: 8.2.B. Subtotal | D65: =AVERAGE(D61:D64) -> 0
B66: 8.2. Subtotal | D66: =AVERAGE(D59,D65) -> 0
B67: 8.3 Diseño y desarrollo de los productos y servicios
B68: 8.3.1 Generalidades | C68: Pendiente | D68: =IF(C68="Listo",100,IF(C68="En proceso",50,IF(C68="Pendiente",0," "))) -> 0
B69: 8.3.2 Planificación del diseño y desarrollo | C69: Pendiente | D69: =IF(C69="Listo",100,IF(C69="En proceso",50,IF(C69="Pendiente",0," "))) -> 0
B70: 8.3.3 Entradas para el diseño y desarrollo | C70: Pendiente | D70: =IF(C70="Listo",100,IF(C70="En proceso",50,IF(C70="Pendiente",0," "))) -> 0
B71: 8.3.4 Controles del diseño y desarrollo | C71: Pendiente | D71: =IF(C71="Listo",100,IF(C71="En proceso",50,IF(C71="Pendiente",0," "))) -> 0
B72: 8.3.5 Salidas del diseño y desarrollo | C72: Pendiente | D72: =IF(C72="Listo",100,IF(C72="En proceso",50,IF(C72="Pendiente",0," "))) -> 0
B73: 8.3.6 Cambios del diseño y desarrollo | C73: Pendiente | D73: =IF(C73="Listo",100,IF(C73="En proceso",50,IF(C73="Pendiente",0," "))) -> 0
B74: 8.3. Subtotal | D74: =AVERAGE(D68:D73) -> 0
B75: 8.4 Control de los procesos, productos y servicios suministrados externamente
B76: 8.4.1 Generalidades | C76: Pendiente | D76: =IF(C76="Listo",100,IF(C76="En proceso",50,IF(C76="Pendiente",0," "))) -> 0
B77: 8.4.2 Tipo y alcance del control | C77: Pendiente | D77: =IF(C77="Listo",100,IF(C77="En proceso",50,IF(C77="Pendiente",0," "))) -> 0
B78: 8.4.3 Información para los proveedores externos | C78: Pendiente | D78: =IF(C78="Listo",100,IF(C78="En proceso",50,IF(C78="Pendiente",0," "))) -> 0
B79: 8.4. Subtotal | D79: =AVERAGE(D76:D78) -> 0
B80: 8.5 Produccción y provisión del servicio
B81: 8.5.1 Control de la producción y la provisión del servicio | C81: Pendiente | D81: =IF(C81="Listo",100,IF(C81="En proceso",50,IF(C81="Pendiente",0," "))) -> 0
B82: 8.5.2 Identificación y trazabilidad | C82: Pendiente | D82: =IF(C82="Listo",100,IF(C82="En proceso",50,IF(C82="Pendiente",0," "))) -> 0
B83: 8.5.3 Propiedad perteneciente a los clientes o proveedores externos | C83: Pendiente | D83: =IF(C83="Listo",100,IF(C83="En proceso",50,IF(C83="Pendiente",0," "))) -> 0
B84: 8.5.4 Preservación | C84: Pendiente | D84: =IF(C84="Listo",100,IF(C84="En proceso",50,IF(C84="Pendiente",0," "))) -> 0
B85: 8.5.5 Actividades posteriores a la entrega | C85: Pendiente | D85: =IF(C85="Listo",100,IF(C85="En proceso",50,IF(C85="Pendiente",0," "))) -> 0
B86: 8.5.6 Control de los cambios | C86: Pendiente | D86: =IF(C86="Listo",100,IF(C86="En proceso",50,IF(C86="Pendiente",0," "))) -> 0
B87: 8.5. Subtotal | D87: =AVERAGE(D81:D86) -> 0
B88: 8.6 Liberación de los productos y servicios | C88: Pendiente | D88: =IF(C88="Listo",100,IF(C88="En proceso",50,IF(C88="Pendiente",0," "))) -> 0
B89: 8.7 Control de las salidas no conformes | C89: Pendiente | D89: =IF(C89="Listo",100,IF(C89="En proceso",50,IF(C89="Pendiente",0," "))) -> 0
B90: 8. TOTAL | D90: =AVERAGE(D57,D66,D74,D79,D87,D88,D89) -> 0
B91: 9. Evaluación del desempeño
B92: 9.1 Seguimiento, medición, análisis y evaluación
B93: 9.1.1 Generalidades | C93: Pendiente | D93: =IF(C93="Listo",100,IF(C93="En proceso",50,IF(C93="Pendiente",0," "))) -> 0
B94: 9.1.2 Satisfacción del cliente y Análisis y evaluación del cumplimiento
B95: 9.1.2 a Satifacción del cliente | C95: Pendiente | D95: =IF(C95="Listo",100,IF(C95="En proceso",50,IF(C95="Pendiente",0," "))) -> 0
B96: 9.1.2 b Análisis y evaluación del cumplimiento | C96: Pendiente | D96: =IF(C96="Listo",100,IF(C96="En proceso",50,IF(C96="Pendiente",0," "))) -> 0
B97: 9.1.2 Subtotal | D97: =AVERAGE(D95:D96) -> 0
B98: 9.1.3 Análisis y evaluación | C98: Pendiente | D98: =IF(C98="Listo",100,IF(C98="En proceso",50,IF(C98="Pendiente",0," "))) -> 0
B99: 9.1. Subtotal | D99: =AVERAGE(D93,D97,D98) -> 0
B100: 9.2 Auditoría interna
B101: 9.2.1 Generalidades | C101: Pendiente | D101: =IF(C101="Listo",100,IF(C101="En proceso",50,IF(C101="Pendiente",0," "))) -> 0
...

Sheet Análisis
B2: ='Evaluación '!B2:E2 -> ANÁLISIS DE BRECHA ISO 9001 / ISO 14001
B3: Capítulo de la norma 9001 Y 14001 | C3: Puntaje
B4: ='Evaluación '!B4:E4 -> 4. Contexto de la organización | C4: ='Evaluación '!D9 -> 0
B5: ='Evaluación '!B10:E10 -> 5. Liderazgo | C5: ='Evaluación '!D20 -> 0
B6: ='Evaluación '!B21:E21 -> 6. Planificación | C6: ='Evaluación '!D33 -> 0
B7: ='Evaluación '!B34:E34 -> 7. Apoyo | C7: ='Evaluación '!D55 -> 0
B8: ='Evaluación '!B56:E56 -> 8. Operación | C8: ='Evaluación '!D90 -> 0
B9: ='Evaluación '!B91:E91 -> 9. Evaluación del desempeño | C9: ='Evaluación '!D109 -> 0
B10: ='Evaluación '!B110:E110 -> 10. Mejora | C10: ='Evaluación '!D114 -> 0
B11: ='Evaluación '!B115:C115 -> % DE AVANCE | C11: ='Evaluación '!D115 -> 0

Sheet Evaluación 2
B2: ANÁLISIS DE BRECHA ISO 9001 / ISO 14001
B3: Requisito | C3: Tipo documento | K3: Puntaje | L3: Observaciones
C4: Manual | D4: Calificación | E4: Procedimiento | F4: Calificación | G4: Formulario | H4: Calificación | I4: Registro | J4: Calificación
B5: 3. Manual | K5: =K6 -> 0
B6: 3.0 Manual Sistema Integrado | C6: Pendiente | D6: =IF(C6="Listo",100,IF(C6="En proceso",50,IF(C6="Pendiente",0," "))) -> 0 | E6: Pendiente | F6: =IF(E6="Listo",100,IF(E6="En proceso",50,IF(E6="Pendiente",0," "))) -> 0 | G6: Pendiente | H6: =IF(G6="Listo",100,IF(G6="En proceso",50,IF(G6="Pendiente",0," "))) -> 0 | I6: Pendiente | J6: =IF(I6="Listo",100,IF(I6="Iniciando",33.3,IF(I6="Avanzado",66.67,IF(I6="Pendiente",0," ")))) -> 0 | K6: =AVERAGE(D6,F6,H6,J6) -> 0 | O6: Listo | P6: Listo
B7: 4. Contexto de la organización | K7: =AVERAGE(K8:K12) -> 0 | O7: En proceso | P7: Iniciando
B8: 4.1 Contexto interno | C8: Pendiente | D8: =IF(C8="Listo",100,IF(C8="En proceso",50,IF(C8="Pendiente",0," "))) -> 0 | E8: Pendiente | F8: =IF(E8="Listo",100,IF(E8="En proceso",50,IF(E8="Pendiente",0," "))) -> 0 | G8: Pendiente | H8: =IF(G8="Listo",100,IF(G8="En proceso",50,IF(G8="Pendiente",0," "))) -> 0 | I8: Pendiente | J8: =IF(I8="Listo",100,IF(I8="Iniciando",33.3,IF(I8="Avanzado",66.67,IF(I8="Pendiente",0," ")))) -> 0 | K8: =AVERAGE(D8,F8,H8,J8) -> 0 | O8: Pendiente | P8: Avanzado
B9: 4.1 Contexto externo | C9: Pendiente | D9: =IF(C9="Listo",100,IF(C9="En proceso",50,IF(C9="Pendiente",0," "))) -> 0 | E9: Pendiente | F9: =IF(E9="Listo",100,IF(E9="En proceso",50,IF(E9="Pendiente",0," "))) -> 0 | G9: Pendiente | H9: =IF(G9="Listo",100,IF(G9="En proceso",50,IF(G9="Pendiente",0," "))) -> 0 | I9: Pendiente | J9: =IF(I9="Listo",100,IF(I9="Iniciando",33.3,IF(I9="Avanzado",66.67,IF(I9="Pendiente",0," ")))) -> 0 | K9: =AVERAGE(D9,F9,H9,J9) -> 0 | O9: NA | P9: Pendiente
B10: 4.2 Partes interesadas | C10: Pendiente | D10: =IF(C10="Listo",100,IF(C10="En proceso",50,IF(C10="Pendiente",0," "))) -> 0 | E10: Pendiente | F10: =IF(E10="Listo",100,IF(E10="En proceso",50,IF(E10="Pendiente",0," "))) -> 0 | G10: Pendiente | H10: =IF(G10="Listo",100,IF(G10="En proceso",50,IF(G10="Pendiente",0," "))) -> 0 | I10: Pendiente | J10: =IF(I10="Listo",100,IF(I10="Iniciando",33.3,IF(I10="Avanzado",66.67,IF(I10="Pendiente",0," ")))) -> 0 | K10: =AVERAGE(D10,F10,H10,J10) -> 0 | P10: NA
B11: 4.3 Alcance | C11: Pendiente | D11: =IF(C11="Listo",100,IF(C11="En proceso",50,IF(C11="Pendiente",0," "))) -> 0 | E11: Pendiente | F11: =IF(E11="Listo",100,IF(E11="En proceso",50,IF(E11="Pendiente",0," "))) -> 0 | G11: Pendiente | H11: =IF(G11="Listo",100,IF(G11="En proceso",50,IF(G11="Pendiente",0," "))) -> 0 | I11: Pendiente | J11: =IF(I11="Listo",100,IF(I11="Iniciando",33.3,IF(I11="Avanzado",66.67,IF(I11="Pendiente",0," ")))) -> 0 | K11: =AVERAGE(D11,F11,H11,J11) -> 0
B12: 4.4 Sistema de Gestión | C12: Pendiente | D12: =IF(C12="Listo",100,IF(C12="En proceso",50,IF(C12="Pendiente",0," "))) -> 0 | E12: Pendiente | F12: =IF(E12="Listo",100,IF(E12="En proceso",50,IF(E12="Pendiente",0," "))) -> 0 | G12: Pendiente | H12: =IF(G12="Listo",100,IF(G12="En proceso",50,IF(G12="Pendiente",0," "))) -> 0 | I12: Pendiente | J12: =IF(I12="Listo",100,IF(I12="Iniciando",33.3,IF(I12="Avanzado",66.67,IF(I12="Pendiente",0," ")))) -> 0 | K12: =AVERAGE(D12,F12,H12,J12) -> 0
B13: 5. Liderazgo | K13: =AVERAGE(K14:K16) -> 0
B14: 5.1 Liderazgo y compromiso | C14: Pendiente | D14: =IF(C14="Listo",100,IF(C14="En proceso",50,IF(C14="Pendiente",0," "))) -> 0 | E14: Pendiente | F14: =IF(E14="Listo",100,IF(E14="En proceso",50,IF(E14="Pendiente",0," "))) -> 0 | G14: Pendiente | H14: =IF(G14="Listo",100,IF(G14="En proceso",50,IF(G14="Pendiente",0," "))) -> 0 | I14: Pendiente | J14: =IF(I14="Listo",100,IF(I14="Iniciando",33.3,IF(I14="Avanzado",66.67,IF(I14="Pendiente",0," ")))) -> 0 | K14: =AVERAGE(D14,F14,H14,J14) -> 0
B15: 5.2 Política | C15: Pendiente | D15: =IF(C15="Listo",100,IF(C15="En proceso",50,IF(C15="Pendiente",0," "))) -> 0 | E15: Pendiente | F15: =IF(E15="Listo",100,IF(E15="En proceso",50,IF(E15="Pendiente",0," "))) -> 0 | G15: Pendiente | H15: =IF(G15="Listo",100,IF(G15="En proceso",50,IF(G15="Pendiente",0," "))) -> 0 | I15: Pendiente | J15: =IF(I15="Listo",100,IF(I15="Iniciando",33.3,IF(I15="Avanzado",66.67,IF(I15="Pendiente",0," ")))) -> 0 | K15: =AVERAGE(D15,F15,H15,J15) -> 0
B16: 5.3 Responsabilidades | C16: Pendiente | D16: =IF(C16="Listo",100,IF(C16="En proceso",50,IF(C16="Pendiente",0," "))) -> 0 | E16: Pendiente | F16: =IF(E16="Listo",100,IF(E16="En proceso",50,IF(E16="Pendiente",0," "))) -> 0 | G16: Pendiente | H16: =IF(G16="Listo",100,IF(G16="En proceso",50,IF(G16="Pendiente",0," "))) -> 0 | I16: Pendiente | J16: =IF(I16="Listo",100,IF(I16="Iniciando",33.3,IF(I16="Avanzado",66.67,IF(I16="Pendiente",0," ")))) -> 0 | K16: =AVERAGE(D16,F16,H16,J16) -> 0
B17: 6. Planificación | K17: =AVERAGE(K18:K23) -> 0
B18: 6.1.1 Generalidades | C18: Pendiente | D18: =IF(C18="Listo",100,IF(C18="En proceso",50,IF(C18="Pendiente",0," "))) -> 0 | E18: Pendiente | F18: =IF(E18="Listo",100,IF(E18="En proceso",50,IF(E18="Pendiente",0," "))) -> 0 | G18: Pendiente | H18: =IF(G18="Listo",100,IF(G18="En proceso",50,IF(G18="Pendiente",0," "))) -> 0 | I18: Pendiente | J18: =IF(I18="Listo",100,IF(I18="Iniciando",33.3,IF(I18="Avanzado",66.67,IF(I18="Pendiente",0," ")))) -> 0 | K18: =AVERAGE(D18,F18,H18,J18) -> 0
B19: 6.1.2 Aspectos ambientales | C19: Pendiente | D19: =IF(C19="Listo",100,IF(C19="En proceso",50,IF(C19="Pendiente",0," "))) -> 0 | E19: Pendiente | F19: =IF(E19="Listo",100,IF(E19="En proceso",50,IF(E19="Pendiente",0," "))) -> 0 | G19: Pendiente | H19: =IF(G19="Listo",100,IF(G19="En proceso",50,IF(G19="Pendiente",0," "))) -> 0 | I19: Pendiente | J19: =IF(I19="Listo",100,IF(I19="Iniciando",33.3,IF(I19="Avanzado",66.67,IF(I19="Pendiente",0," ")))) -> 0 | K19: =AVERAGE(D19,F19,H19,J19) -> 0
B20: 6.1.3 Requisitos legales | C20: Pendiente | D20: =IF(C20="Listo",100,IF(C20="En proceso",50,IF(C20="Pendiente",0," "))) -> 0 | E20: Pendiente | F20: =IF(E20="Listo",100,IF(E20="En proceso",50,IF(E20="Pendiente",0," "))) -> 0 | G20: Pendiente | H20: =IF(G20="Listo",100,IF(G20="En proceso",50,IF(G20="Pendiente",0," "))) -> 0 | I20: Pendiente | J20: =IF(I20="Listo",100,IF(I20="Iniciando",33.3,IF(I20="Avanzado",66.67,IF(I20="Pendiente",0," ")))) -> 0 | K20: =AVERAGE(D20,F20,H20,J20) -> 0
B21: 6.1.4 Planificación | C21: Pendiente | D21: =IF(C21="Listo",100,IF(C21="En proceso",50,IF(C21="Pendiente",0," "))) -> 0 | E21: Pendiente | F21: =IF(E21="Listo",100,IF(E21="En proceso",50,IF(E21="Pendiente",0," "))) -> 0 | G21: Pendiente | H21: =IF(G21="Listo",100,IF(G21="En proceso",50,IF(G21="Pendiente",0," "))) -> 0 | I21: Pendiente | J21: =IF(I21="Listo",100,IF(I21="Iniciando",33.3,IF(I21="Avanzado",66.67,IF(I21="Pendiente",0," ")))) -> 0 | K21: =AVERAGE(D21,F21,H21,J21) -> 0
B22: 6.2.1 Objetivos ambientales | C22: Pendiente | D22: =IF(C22="Listo",100,IF(C22="En proceso",50,IF(C22="Pendiente",0," "))) -> 0 | E22: Pendiente | F22: =IF(E22="Listo",100,IF(E22="En proceso",50,IF(E22="Pendiente",0," "))) -> 0 | G22: Pendiente | H22: =IF(G22="Listo",100,IF(G22="En proceso",50,IF(G22="Pendiente",0," "))) -> 0 | I22: Pendiente | J22: =IF(I22="Listo",100,IF(I22="Iniciando",33.3,IF(I22="Avanzado",66.67,IF(I22="Pendiente",0," ")))) -> 0 | K22: =AVERAGE(D22,F22,H22,J22) -> 0
B23: 6.2.2 Planificación para objetivos | C23: Pendiente | D23: =IF(C23="Listo",100,IF(C23="En proceso",50,IF(C23="Pendiente",0," "))) -> 0 | E23: Pendiente | F23: =IF(E23="Listo",100,IF(E23="En proceso",50,IF(E23="Pendiente",0," "))) -> 0 | G23: Pendiente | H23: =IF(G23="Listo",100,IF(G23="En proceso",50,IF(G23="Pendiente",0," "))) -> 0 | I23: Pendiente | J23: =IF(I23="Listo",100,IF(I23="Iniciando",33.3,IF(I23="Avanzado",66.67,IF(I23="Pendiente",0," ")))) -> 0 | K23: =AVERAGE(D23,F23,H23,J23) -> 0
B24: 7. Apoyo | K24: =AVERAGE(K25:K33) -> 0
B25: 7.1 Recursos | C25: Pendiente | D25: =IF(C25="Listo",100,IF(C25="En proceso",50,IF(C25="Pendiente",0," "))) -> 0 | E25: Pendiente | F25: =IF(E25="Listo",100,IF(E25="En proceso",50,IF(E25="Pendiente",0," "))) -> 0 | G25: Pendiente | H25: =IF(G25="Listo",100,IF(G25="En proceso",50,IF(G25="Pendiente",0," "))) -> 0 | I25: Pendiente | J25: =IF(I25="Listo",100,IF(I25="Iniciando",33.3,IF(I25="Avanzado",66.67,IF(I25="Pendiente",0," ")))) -> 0 | K25: =AVERAGE(D25,F25,H25,J25) -> 0
B26: 7.2 Competencia | C26: Pendiente | D26: =IF(C26="Listo",100,IF(C26="En proceso",50,IF(C26="Pendiente",0," "))) -> 0 | E26: Pendiente | F26: =IF(E26="Listo",100,IF(E26="En proceso",50,IF(E26="Pendiente",0," "))) -> 0 | G26: Pendiente | H26: =IF(G26="Listo",100,IF(G26="En proceso",50,IF(G26="Pendiente",0," "))) -> 0 | I26: Pendiente | J26: =IF(I26="Listo",100,IF(I26="Iniciando",33.3,IF(I26="Avanzado",66.67,IF(I26="Pendiente",0," ")))) -> 0 | K26: =AVERAGE(D26,F26,H26,J26) -> 0
B27: 7.3 Conciencia | C27: Pendiente | D27: =IF(C27="Listo",100,IF(C27="En proceso",50,IF(C27="Pendiente",0," "))) -> 0 | E27: Pendiente | F27: =IF(E27="Listo",100,IF(E27="En proceso",50,IF(E27="Pendiente",0," "))) -> 0 | G27: Pendiente | H27: =IF(G27="Listo",100,IF(G27="En proceso",50,IF(G27="Pendiente",0," "))) -> 0 | I27: Pendiente | J27: =IF(I27="Listo",100,IF(I27="Iniciando",33.3,IF(I27="Avanzado",66.67,IF(I27="Pendiente",0," ")))) -> 0 | K27: =AVERAGE(D27,F27,H27,J27) -> 0
B28: 7.4.1 Generalidades | C28: Pendiente | D28: =IF(C28="Listo",100,IF(C28="En proceso",50,IF(C28="Pendiente",0," "))) -> 0 | E28: Pendiente | F28: =IF(E28="Listo",100,IF(E28="En proceso",50,IF(E28="Pendiente",0," "))) -> 0 | G28: Pendiente | H28: =IF(G28="Listo",100,IF(G28="En proceso",50,IF(G28="Pendiente",0," "))) -> 0 | I28: Pendiente | J28: =IF(I28="Listo",100,IF(I28="Iniciando",33.3,IF(I28="Avanzado",66.67,IF(I28="Pendiente",0," ")))) -> 0 | K28: =AVERAGE(D28,F28,H28,J28) -> 0
B29: 7.4.2 Comunicación interna | C29: Pendiente | D29: =IF(C29="Listo",100,IF(C29="En proceso",50,IF(C29="Pendiente",0," "))) -> 0 | E29: Pendiente | F29: =IF(E29="Listo",100,IF(E29="En proceso",50,IF(E29="Pendiente",0," "))) -> 0 | G29: Pendiente | H29: =IF(G29="Listo",100,IF(G29="En proceso",50,IF(G29="Pendiente",0," "))) -> 0 | I29: Pendiente | J29: =IF(I29="Listo",100,IF(I29="Iniciando",33.3,IF(I29="Avanzado",66.67,IF(I29="Pendiente",0," ")))) -> 0 | K29: =AVERAGE(D29,F29,H29,J29) -> 0
B30: 7.4.3 Comunicación externa | C30: Pendiente | D30: =IF(C30="Listo",100,IF(C30="En proceso",50,IF(C30="Pendiente",0," "))) -> 0 | E30: Pendiente | F30: =IF(E30="Listo",100,IF(E30="En proceso",50,IF(E30="Pendiente",0," "))) -> 0 | G30: Pendiente | H30: =IF(G30="Listo",100,IF(G30="En proceso",50,IF(G30="Pendiente",0," "))) -> 0 | I30: Pendiente | J30: =IF(I30="Listo",100,IF(I30="Iniciando",33.3,IF(I30="Avanzado",66.67,IF(I30="Pendiente",0," ")))) -> 0 | K30: =AVERAGE(D30,F30,H30,J30) -> 0
B31: 7.5.1 Generalidades | C31: Pendiente | D31: =IF(C31="Listo",100,IF(C31="En proceso",50,IF(C31="Pendiente",0," "))) -> 0 | E31: Pendiente | F31: =IF(E31="Listo",100,IF(E31="En proceso",50,IF(E31="Pendiente",0," "))) -> 0 | G31: Pendiente | H31: =IF(G31="Listo",100,IF(G31="En proceso",50,IF(G31="Pendiente",0," "))) -> 0 | I31: Pendiente | J31: =IF(I31="Listo",100,IF(I31="Iniciando",33.3,IF(I31="Avanzado",66.67,IF(I31="Pendiente",0," ")))) -> 0 | K31: =AVERAGE(D31,F31,H31,J31) -> 0
B32: 7.5.2 Creación y actualización | C32: Pendiente | D32: =IF(C32="Listo",100,IF(C32="En proceso",50,IF(C32="Pendiente",0," "))) -> 0 | E32: Pendiente | F32: =IF(E32="Listo",100,IF(E32="En proceso",50,IF(E32="Pendiente",0," "))) -> 0 | G32: Pendiente | H32: =IF(G32="Listo",100,IF(G32="En proceso",50,IF(G32="Pendiente",0," "))) -> 0 | I32: Pendiente | J32: =IF(I32="Listo",100,IF(I32="Iniciando",33.3,IF(I32="Avanzado",66.67,IF(I32="Pendiente",0," ")))) -> 0 | K32: =AVERAGE(D32,F32,H32,J32) -> 0
B33: 7.5.3 Control de la información | C33: Pendiente | D33: =IF(C33="Listo",100,IF(C33="En proceso",50,IF(C33="Pendiente",0," "))) -> 0 | E33: Pendiente | F33: =IF(E33="Listo",100,IF(E33="En proceso",50,IF(E33="Pendiente",0," "))) -> 0 | G33: Pendiente | H33: =IF(G33="Listo",100,IF(G33="En proceso",50,IF(G33="Pendiente",0," "))) -> 0 | I33: Pendiente | J33: =IF(I33="Listo",100,IF(I33="Iniciando",33.3,IF(I33="Avanzado",66.67,IF(I33="Pendiente",0," ")))) -> 0 | K33: =AVERAGE(D33,F33,H33,J33) -> 0
B34: 8. Operación | K34: =AVERAGE(K35:K57) -> 0
B35: 8.1 Control operacional / enfoque de ciclo de vida | C35: Pendiente | D35: =IF(C35="Listo",100,IF(C35="En proceso",50,IF(C35="Pendiente",0," "))) -> 0 | E35: Pendiente | F35: =IF(E35="Listo",100,IF(E35="En proceso",50,IF(E35="Pendiente",0," "))) -> 0 | G35: Pendiente | H35: =IF(G35="Listo",100,IF(G35="En proceso",50,IF(G35="Pendiente",0," "))) -> 0 | I35: Pendiente | J35: =IF(I35="Listo",100,IF(I35="Iniciando",33.3,IF(I35="Avanzado",66.67,IF(I35="Pendiente",0," ")))) -> 0 | K35: =AVERAGE(D35,F35,H35,J35) -> 0
B36: 8.2 Emergencias | C36: Pendiente | D36: =IF(C36="Listo",100,IF(C36="En proceso",50,IF(C36="Pendiente",0," "))) -> 0 | E36: Pendiente | F36: =IF(E36="Listo",100,IF(E36="En proceso",50,IF(E36="Pendiente",0," "))) -> 0 | G36: Pendiente | H36: =IF(G36="Listo",100,IF(G36="En proceso",50,IF(G36="Pendiente",0," "))) -> 0 | I36: Pendiente | J36: =IF(I36="Listo",100,IF(I36="Iniciando",33.3,IF(I36="Avanzado",66.67,IF(I36="Pendiente",0," ")))) -> 0 | K36: =AVERAGE(D36,F36,H36,J36) -> 0
B37: 8.2.1 Comunicación con cliente | C37: Pendiente | D37: =IF(C37="Listo",100,IF(C37="En proceso",50,IF(C37="Pendiente",0," "))) -> 0 | E37: Pendiente | F37: =IF(E37="Listo",100,IF(E37="En proceso",50,IF(E37="Pendiente",0," "))) -> 0 | G37: Pendiente | H37: =IF(G37="Listo",100,IF(G37="En proceso",50,IF(G37="Pendiente",0," "))) -> 0 | I37: Pendiente | J37: =IF(I37="Listo",100,IF(I37="Iniciando",33.3,IF(I37="Avanzado",66.67,IF(I37="Pendiente",0," ")))) -> 0 | K37: =AVERAGE(D37,F37,H37,J37) -> 0
B38: 8.2.2 Determinación requisitos productos y servicios | C38: Pendiente | D38: =IF(C38="Listo",100,IF(C38="En proceso",50,IF(C38="Pendiente",0," "))) -> 0 | E38: Pendiente | F38: =IF(E38="Listo",100,IF(E38="En proceso",50,IF(E38="Pendiente",0," "))) -> 0 | G38: Pendiente | H38: =IF(G38="Listo",100,IF(G38="En proceso",50,IF(G38="Pendiente",0," "))) -> 0 | I38: Pendiente | J38: =IF(I38="Listo",100,IF(I38="Iniciando",33.3,IF(I38="Avanzado",66.67,IF(I38="Pendiente",0," ")))) -> 0 | K38: =AVERAGE(D38,F38,H38,J38) -> 0
B39: 8.2.3 Revisión req. Prod. Y serv. | C39: Pendiente | D39: =IF(C39="Listo",100,IF(C39="En proceso",50,IF(C39="Pendiente",0," "))) -> 0 | E39: Pendiente | F39: =IF(E39="Listo",100,IF(E39="En proceso",50,IF(E39="Pendiente",0," "))) -> 0 | G39: Pendiente | H39: =IF(G39="Listo",100,IF(G39="En proceso",50,IF(G39="Pendiente",0," "))) -> 0 | I39: Pendiente | J39: =IF(I39="Listo",100,IF(I39="Iniciando",33.3,IF(I39="Avanzado",66.67,IF(I39="Pendiente",0," ")))) -> 0 | K39: =AVERAGE(D39,F39,H39,J39) -> 0
B40: 8.2.4 Cambios req. Prod. Y serv. | C40: Pendiente | D40: =IF(C40="Listo",100,IF(C40="En proceso",50,IF(C40="Pendiente",0," "))) -> 0 | E40: Pendiente | F40: =IF(E40="Listo",100,IF(E40="En proceso",50,IF(E40="Pendiente",0," "))) -> 0 | G40: Pendiente | H40: =IF(G40="Listo",100,IF(G40="En proceso",50,IF(G40="Pendiente",0," "))) -> 0 | I40: Pendiente | J40: =IF(I40="Listo",100,IF(I40="Iniciando",33.3,IF(I40="Avanzado",66.67,IF(I40="Pendiente",0," ")))) -> 0 | K40: =AVERAGE(D40,F40,H40,J40) -> 0
B41: 8.3.1 Generalidades | C41: Pendiente | D41: =IF(C41="Listo",100,IF(C41="En proceso",50,IF(C41="Pendiente",0," "))) -> 0 | E41: Pendiente | F41: =IF(E41="Listo",100,IF(E41="En proceso",50,IF(E41="Pendiente",0," "))) -> 0 | G41: Pendiente | H41: =IF(G41="Listo",100,IF(G41="En proceso",50,IF(G41="Pendiente",0," "))) -> 0 | I41: Pendiente | J41: =IF(I41="Listo",100,IF(I41="Iniciando",33.3,IF(I41="Avanzado",66.67,IF(I41="Pendiente",0," ")))) -> 0 | K41: =AVERAGE(D41,F41,H41,J41) -> 0
B42: 8.3.2 Planificación diseño y desarrollo | C42: Pendiente | D42: =IF(C42="Listo",100,IF(C42="En proceso",50,IF(C42="Pendiente",0," "))) -> 0 | E42: Pendiente | F42: =IF(E42="Listo",100,IF(E42="En proceso",50,IF(E42="Pendiente",0," "))) -> 0 | G42: Pendiente | H42: =IF(G42="Listo",100,IF(G42="En proceso",50,IF(G42="Pendiente",0," "))) -> 0 | I42: Pendiente | J42: =IF(I42="Listo",100,IF(I42="Iniciando",33.3,IF(I42="Avanzado",66.67,IF(I42="Pendiente",0," ")))) -> 0 | K42: =AVERAGE(D42,F42,H42,J42) -> 0
B43: 8.3.3 Entradas diseño y desarrollo | C43: Pendiente | D43: =IF(C43="Listo",100,IF(C43="En proceso",50,IF(C43="Pendiente",0," "))) -> 0 | E43: Pendiente | F43: =IF(E43="Listo",100,IF(E43="En proceso",50,IF(E43="Pendiente",0," "))) -> 0 | G43: Pendiente | H43: =IF(G43="Listo",100,IF(G43="En proceso",50,IF(G43="Pendiente",0," "))) -> 0 | I43: Pendiente | J43: =IF(I43="Listo",100,IF(I43="Iniciando",33.3,IF(I43="Avanzado",66.67,IF(I43="Pendiente",0," ")))) -> 0 | K43: =AVERAGE(D43,F43,H43,J43) -> 0
B44: 8.3.4 Controles diseño y desarrollo | C44: Pendiente | D44: =IF(C44="Listo",100,IF(C44="En proceso",50,IF(C44="Pendiente",0," "))) -> 0 | E44: Pendiente | F44: =IF(E44="Listo",100,IF(E44="En proceso",50,IF(E44="Pendiente",0," "))) -> 0 | G44: Pendiente | H44: =IF(G44="Listo",100,IF(G44="En proceso",50,IF(G44="Pendiente",0," "))) -> 0 | I44: Pendiente | J44: =IF(I44="Listo",100,IF(I44="Iniciando",33.3,IF(I44="Avanzado",66.67,IF(I44="Pendiente",0," ")))) -> 0 | K44: =AVERAGE(D44,F44,H44,J44) -> 0
B45: 8.3.5 Salidas diseño y desarrollo | C45: Pendiente | D45: =IF(C45="Listo",100,IF(C45="En proceso",50,IF(C45="Pendiente",0," "))) -> 0 | E45: Pendiente | F45: =IF(E45="Listo",100,IF(E45="En proceso",50,IF(E45="Pendiente",0," "))) -> 0 | G45: Pendiente | H45: =IF(G45="Listo",100,IF(G45="En proceso",50,IF(G45="Pendiente",0," "))) -> 0 | I45: Pendiente | J45: =IF(I45="Listo",100,IF(I45="Iniciando",33.3,IF(I45="Avanzado",66.67,IF(I45="Pendiente",0," ")))) -> 0 | K45: =AVERAGE(D45,F45,H45,J45) -> 0
B46: 8.3.6 Cambios diseño y desarrollo | C46: Pendiente | D46: =IF(C46="Listo",100,IF(C46="En proceso",50,IF(C46="Pendiente",0," "))) -> 0 | E46: Pendiente | F46: =IF(E46="Listo",100,IF(E46="En proceso",50,IF(E46="Pendiente",0," "))) -> 0 | G46: Pendiente | H46: =IF(G46="Listo",100,IF(G46="En proceso",50,IF(G46="Pendiente",0," "))) -> 0 | I46: Pendiente | J46: =IF(I46="Listo",100,IF(I46="Iniciando",33.3,IF(I46="Avanzado",66.67,IF(I46="Pendiente",0," ")))) -> 0 | K46: =AVERAGE(D46,F46,H46,J46) -> 0
... B57: 8.7 Salidas no conformes | C57: Pendiente | D57: =IF(C57="Listo",100,IF(C57="En proceso",50,IF(C57="Pendiente",0," "))) -> 0 | E57: Pendiente | F57: =IF(E57="Listo",100,IF(E57="En proceso",50,IF(E57="Pendiente",0," "))) -> 0 | G57: Pendiente | H57: =IF(G57="Listo",100,IF(G57="En proceso",50,IF(G57="Pendiente",0," "))) -> 0 | I57: Pendiente | J57: =IF(I57="Listo",100,IF(I57="Iniciando",33.3,IF(I57="Avanzado",66.67,IF(I57="Pendiente",0," ")))) -> 0 | K57: =AVERAGE(D57,F57,H57,J57) -> 0
B58: 9. Evaluación del desempeño | K58: =AVERAGE(K59:K63) -> 0
B59: 9.1.1 Generalidades | C59: Pendiente | D59: =IF(C59="Listo",100,IF(C59="En proceso",50,IF(C59="Pendiente",0," "))) -> 0 | E59: Pendiente | F59: =IF(E59="Listo",100,IF(E59="En proceso",50,IF(E59="Pendiente",0," "))) -> 0 | G59: Pendiente | H59: =IF(G59="Listo",100,IF(G59="En proceso",50,IF(G59="Pendiente",0," "))) -> 0 | I59: Pendiente | J59: =IF(I59="Listo",100,IF(I59="Iniciando",33.3,IF(I59="Avanzado",66.67,IF(I59="Pendiente",0," ")))) -> 0 | K59: =AVERAGE(D59,F59,H59,J59) -> 0
B60: 9.1.2 Evaluación de cumplimiento | C60: Pendiente | D60: =IF(C60="Listo",100,IF(C60="En proceso",50,IF(C60="Pendiente",0," "))) -> 0 | E60: Pendiente | F60: =IF(E60="Listo",100,IF(E60="En proceso",50,IF(E60="Pendiente",0," "))) -> 0 | G60: Pendiente | H60: =IF(G60="Listo",100,IF(G60="En proceso",50,IF(G60="Pendiente",0," "))) -> 0 | I60: Pendiente | J60: =IF(I60="Listo",100,IF(I60="Iniciando",33.3,IF(I60="Avanzado",66.67,IF(I60="Pendiente",0," ")))) -> 0 | K60: =AVERAGE(D60,F60,H60,J60) -> 0
B61: 9.2.1 Generalidades | C61: Pendiente | D61: =IF(C61="Listo",100,IF(C61="En proceso",50,IF(C61="Pendiente",0," "))) -> 0 | E61: Pendiente | F61: =IF(E61="Listo",100,IF(E61="En proceso",50,IF(E61="Pendiente",0," "))) -> 0 | G61: Pendiente | H61: =IF(G61="Listo",100,IF(G61="En proceso",50,IF(G61="Pendiente",0," "))) -> 0 | I61: Pendiente | J61: =IF(I61="Listo",100,IF(I61="Iniciando",33.3,IF(I61="Avanzado",66.67,IF(I61="Pendiente",0," ")))) -> 0 | K61: =AVERAGE(D61,F61,H61,J61) -> 0
B62: 9.2.2 Programa de auditoría | C62: Pendiente | D62: =IF(C62="Listo",100,IF(C62="En proceso",50,IF(C62="Pendiente",0," "))) -> 0 | E62: Pendiente | F62: =IF(E62="Listo",100,IF(E62="En proceso",50,IF(E62="Pendiente",0," "))) -> 0 | G62: Pendiente | H62: =IF(G62="Listo",100,IF(G62="En proceso",50,IF(G62="Pendiente",0," "))) -> 0 | I62: Pendiente | J62: =IF(I62="Listo",100,IF(I62="Iniciando",33.3,IF(I62="Avanzado",66.67,IF(I62="Pendiente",0," ")))) -> 0 | K62: =AVERAGE(D62,F62,H62,J62) -> 0
B63: 9.3 Revisión por la dirección | C63: Pendiente | D63: =IF(C63="Listo",100,IF(C63="En proceso",50,IF(C63="Pendiente",0," "))) -> 0 | E63: Pendiente | F63: =IF(E63="Listo",100,IF(E63="En proceso",50,IF(E63="Pendiente",0," "))) -> 0 | G63: Pendiente | H63: =IF(G63="Listo",100,IF(G63="En proceso",50,IF(G63="Pendiente",0," "))) -> 0 | I63: Pendiente | J63: =IF(I63="Listo",100,IF(I63="Iniciando",33.3,IF(I63="Avanzado",66.67,IF(I63="Pendiente",0," ")))) -> 0 | K63: =AVERAGE(D63,F63,H63,J63) -> 0
B64: 10. Mejora | K64: =AVERAGE(K65:K67) -> 0
B65: 10.1 Generalidades | C65: Pendiente | D65: =IF(C65="Listo",100,IF(C65="En proceso",50,IF(C65="Pendiente",0," "))) -> 0 | E65: Pendiente | F65: =IF(E65="Listo",100,IF(E65="En proceso",50,IF(E65="Pendiente",0," "))) -> 0 | G65: Pendiente | H65: =IF(G65="Listo",100,IF(G65="En proceso",50,IF(G65="Pendiente",0," "))) -> 0 | I65: Pendiente | J65: =IF(I65="Listo",100,IF(I65="Iniciando",33.3,IF(I65="Avanzado",66.67,IF(I65="Pendiente",0," ")))) -> 0 | K65: =AVERAGE(D65,F65,H65,J65) -> 0
B66: 10.2 No conformidad y acción correctiva | C66: Pendiente | D66: =IF(C66="Listo",100,IF(C66="En proceso",50,IF(C66="Pendiente",0," "))) -> 0 | E66: Pendiente | F66: =IF(E66="Listo",100,IF(E66="En proceso",50,IF(E66="Pendiente",0," "))) -> 0 | G66: Pendiente | H66: =IF(G66="Listo",100,IF(G66="En proceso",50,IF(G66="Pendiente",0," "))) -> 0 | I66: Pendiente | J66: =IF(I66="Listo",100,IF(I66="Iniciando",33.3,IF(I66="Avanzado",66.67,IF(I66="Pendiente",0," ")))) -> 0 | K66: =AVERAGE(D66,F66,H66,J66) -> 0
B67: 10.3 Mejora continua | C67: Pendiente | D67: =IF(C67="Listo",100,IF(C67="En proceso",50,IF(C67="Pendiente",0," "))) -> 0 | E67: Pendiente | F67: =IF(E67="Listo",100,IF(E67="En proceso",50,IF(E67="Pendiente",0," "))) -> 0 | G67: Pendiente | H67: =IF(G67="Listo",100,IF(G67="En proceso",50,IF(G67="Pendiente",0," "))) -> 0 | I67: Pendiente | J67: =IF(I67="Listo",100,IF(I67="Iniciando",33.3,IF(I67="Avanzado",66.67,IF(I67="Pendiente",0," ")))) -> 0 | K67: =AVERAGE(D67,F67,H67,J67) -> 0
B68: % de Avance | K68: =AVERAGE(K5,K7,K13,K17,K24,K34,K58,K64) -> 0
O32194: hh

Sheet Análisis 2
B2: ='Evaluación '!B2:E2 -> ANÁLISIS DE BRECHA ISO 9001 / ISO 14001
B3: Capítulo de la norma 9001 Y 14001 | C3: Puntaje
B4: 3. Manual del SIG | C4: ='Evaluación 2'!K5 -> 0
B5: ='Evaluación '!B4:E4 -> 4. Contexto de la organización | C5: ='Evaluación 2'!K7 -> 0
B6: ='Evaluación '!B10:E10 -> 5. Liderazgo | C6: ='Evaluación 2'!K13 -> 0
B7: ='Evaluación '!B21:E21 -> 6. Planificación | C7: ='Evaluación 2'!K17 -> 0
B8: ='Evaluación '!B34:E34 -> 7. Apoyo | C8: ='Evaluación 2'!K24 -> 0
B9: ='Evaluación '!B56:E56 -> 8. Operación | C9: ='Evaluación 2'!K34 -> 0
B10: ='Evaluación '!B91:E91 -> 9. Evaluación del desempeño | C10: ='Evaluación 2'!K58 -> 0
B11: ='Evaluación '!B110:E110 -> 10. Mejora | C11: ='Evaluación 2'!K64 -> 0
B12: ='Evaluación '!B115:C115 -> % DE AVANCE | C12: ='Evaluación 2'!K68 -> 0
