Workbook

Sheet Brecha 19600
A1: LINEAMIENTOS ORIENTADORES Y FACILITADORES DE LA IMPLEMENTACIÓN INTEGRAL DE UN SISTEMA DE GESTIÓN DE CUMPLIMIENTO BASADO EN LA NORMA INTE/ISO 19600:2017
A3: Sección | B3: Requisito | C3: Estado | D3: Puntaje | E3: Evidencia / Observación
A5: 4.Contexto de la organización | I5: Listo
A6: 4.1 Comprensión de la organización y su contexto. | B6: La organización determina las cuestiones externas e internas que son pertinentes para su propósito y que afectan a su capacidad para lograr los resultados previstos de su sistema de Gestión de Cumplimiento, considerando el contexto regulatorio, social y cultural, la situación económica y de aspectos internos tales como las políticas,procedimientos, procesos y recursos. | C6: Pendiente | D6: =IF(C6="Listo",100,IF(C6="En proceso",50,IF(C6="Pendiente",0," "))) -> 0 | I6: En proceso
B7: Promedio Sección 4.1 | D7: =AVERAGE(D6:D6) -> 0 | I7: Pendiente
A8: 4.2 Comprensión de las necesidades y expectativas de las partes interesadas. | B8: La organización determina las partes interesadas que son pertinentes al Sistema de Gestión de Cumplimiento. | C8: Pendiente | D8: =IF(C8="Listo",100,IF(C8="En proceso",50,IF(C8="Pendiente",0," "))) -> 0 | I8: No aplica
B9: La organización determina los requisitos pertinentes de estas partes interesadas para el Sistema de Gestión de Cumplimiento. | C9: Pendiente | D9: =IF(C9="Listo",100,IF(C9="En proceso",50,IF(C9="Pendiente",0," "))) -> 0
B10: Promedio Sección 4.2 | D10: =AVERAGE(D8:D9) -> 0
A11: 4.3 Determinación del alcance del sistema de gestión de cumplimiento. | B11: La organización determina los límites y la aplicabilidad del Sistema de Gestión de Cumplimiento para establecer su alcance. | C11: Pendiente | D11: =IF(C11="Listo",100,IF(C11="En proceso",50,IF(C11="Pendiente",0," "))) -> 0
B12: Para determinar el alcance la organización considera las cuestiones externas e internas indicadas en el apartado 4.1. | C12: Pendiente | D12: =IF(C12="Listo",100,IF(C12="En proceso",50,IF(C12="Pendiente",0," "))) -> 0
B13: Para determinar el alcance la organización considera los requisitos indicados en el apartado 4.1 y 4.5.1 | C13: Pendiente
B14: El alcance está disponible facilmente como información documentada. | C14: Pendiente | D14: =IF(C14="Listo",100,IF(C14="En proceso",50,IF(C14="Pendiente",0," "))) -> 0
B15: Promedio Sección 4.3 | D15: =AVERAGE(D11:D14) -> 0
A16: 4.4 Sistema de gestión de cumplimiento y principios de buena gobernanza | B16: La organización establece, desarrolla, implementa, evalua, mantiene y mejora continuamente un sistema de gestión de cumplimiento, incluidos los procesos necesarios y sus interacciones, de acuerdo con esta Norma, tomando en consideración el acceso directo de la función de cumplimiento al órgano de gobierno;la independencia de la función de cumplimiento;y la dotación a la función de cumplimiento de la autoridad suficiente y de los recursos necesarios. | C16: Pendiente | D16: =IF(C16="Listo",100,IF(C16="En proceso",50,IF(C16="Pendiente",0," "))) -> 0
B17: El sistema de gestión de cumplimiento refleja los valores, objetivos, estrategia y riesgos de cumplimiento de la organización. | C17: Pendiente | D17: =IF(C17="Listo",100,IF(C17="En proceso",50,IF(C17="Pendiente",0," "))) -> 0
B18: Promedio Sección 4.4 | D18: =AVERAGE(D16:D17) -> 0
A19: 4.5. Obligaciones de Cumplimiento
A20: 4.5.1 Identificación de las obligaciones de cumplimiento | B20: La organización identifica sistemáticamente, tanto sus obligaciones de cumplimiento y las implicaciones que estas tienen para sus actividades, productos y servicios | C20: Pendiente | D20: =IF(C20="Listo",100,IF(C20="En proceso",50,IF(C20="Pendiente",0," "))) -> 0
B21: La organización considera las obligaciones de cumplimiento identificadas, en el establecimiento, desarrollo, implementación, evaluación, mantenimiento y mejora de su sistema de gestión de cumplimiento. | C21: Pendiente | D21: =IF(C21="Listo",100,IF(C21="En proceso",50,IF(C21="Pendiente",0," "))) -> 0
B22: La organización documenta sus obligaciones de cumplimiento de forma adecuada a su tamaño, complejidad, estructura y operaciones. | C22: Pendiente | D22: =IF(C22="Listo",100,IF(C22="En proceso",50,IF(C22="Pendiente",0," "))) -> 0
B23: Las fuentes de las obligaciones de cumplimiento incluyen requisitos de cumplimiento, y pueden incluir compromisos de cumplimiento. | C23: Pendiente | D23: =IF(C23="Listo",100,IF(C23="En proceso",50,IF(C23="Pendiente",0," "))) -> 0
A24: 4.5.2 Mantenimiento de las obligaciones de cumplimiento | B24: La organizacion dispone de procesos que identifiquen novedades y modificaciones en la legislación, los códigos y otras obligaciones de cumplimiento, para asegurar un cumplimiento continuo. | C24: Pendiente | D24: =IF(C24="Listo",100,IF(C24="En proceso",50,IF(C24="Pendiente",0," "))) -> 0
B25: Las organizaciones cuenta con procesos para evaluar el impacto de los cambios identificados y para implementar cualquier cambio en la gestión de las obligaciones de cumplimiento. | C25: Pendiente | D25: =IF(C25="Listo",100,IF(C25="En proceso",50,IF(C25="Pendiente",0," "))) -> 0
B26: Promedio Sección 4.5 | D26: =AVERAGE(D20:D25) -> 0
A27: 4.6 Identificación, análisis y evaluación de los riesgos de cumplimiento | B27: La organización identifica y evalua sus riesgos de cumplimiento, basandose en una valoración de riesgos formal o a través de enfoques alternativos | C27: Pendiente | D27: =IF(C27="Listo",100,IF(C27="En proceso",50,IF(C27="Pendiente",0," "))) -> 0
B28: La organización identifica los riesgos de cumplimiento relacionando sus obligaciones de cumplimiento con sus actividades, productos, servicios y aspectos pertinentes de sus operaciones, con objeto de identificar situaciones en las que pueden ocurrir incumplimientos. | C28: Pendiente | D28: =IF(C28="Listo",100,IF(C28="En proceso",50,IF(C28="Pendiente",0," "))) -> 0
B29: La organización identifica las causas y las consecuencias de los incumplimientos. | C29: Pendiente | D29: =IF(C29="Listo",100,IF(C29="En proceso",50,IF(C29="Pendiente",0," "))) -> 0
B30: La organización analiza los riesgos de cumplimiento considerando las causas y las fuentes de los incumplimientos y la gravedad de sus consecuencias, así como la probabilidad de que ocurran los incumplimientos y las consecuencias asociadas. | C30: Pendiente | D30: =IF(C30="Listo",100,IF(C30="En proceso",50,IF(C30="Pendiente",0," "))) -> 0
B31: Los riesgos de cumplimiento se reevaluan cuando hay: - actividades, productos o servicios nuevos o modificados; - cambios en la estructura o en la estrategia de la organización; - cambios externos significativos, tales como circunstancias económico-financieras, condiciones de mercado, contingencias y relaciones con los clientes; - cambios en las obligaciones de cumplimiento (ver apartado 4.5). - incumplimientos | C31: Pendiente | D31: =IF(C31="Listo",100,IF(C31="En proceso",50,IF(C31="Pendiente",0," "))) -> 0
B32: Promedio Sección 4.6 | D32: =AVERAGE(D27:D31) -> 0
A33: Promedio Total Capítulo 4. Contexto de la Organización | D33: =AVERAGE(D7,D10,D15,D18,D26,D32) -> 0
A34: 5. Liderazgo
A35: 5.1 Liderazgo y compromiso. | B35: El órgano de gobierno y la alta dirección demuestran liderazgo y compromiso con respecto al sistema de gestión de cumplimiento a través del establecimiento y resguardo de los valores fundamentales de la organización | C35: Pendiente | D35: =IF(C35="Listo",100,IF(C35="En proceso",50,IF(C35="Pendiente",0," "))) -> 0
B36: El órgano de gobierno y la alta dirección demuestran liderazgo y compromiso con respecto al sistema de gestión de cumplimiento asegurando que la política de cumplimiento y los objetivos de cumplimiento sean establecidos y coherentes con los valores, los objetivos y la dirección estratégica de la organización (ver 6.2) | C36: Pendiente | D36: =IF(C36="Listo",100,IF(C36="En proceso",50,IF(C36="Pendiente",0," "))) -> 0
B37: El órgano de gobierno y la alta dirección demuestran liderazgo y compromiso con respecto al sistema de gestión de cumplimiento asegurando que las políticas, procedimientos y procesos son desarrollados e implementados para lograr los objetivos de cumplimiento | C37: Pendiente | D37: =IF(C37="Listo",100,IF(C37="En proceso",50,IF(C37="Pendiente",0," "))) -> 0
B38: El órgano de gobierno y la alta dirección demuestran liderazgo y compromiso con respecto al sistema de gestión de cumplimiento asegurando que los recursos necesarios para el sistema de gestión de cumplimiento están disponibles, distribuidos y asignados | C38: Pendiente | D38: =IF(C38="Listo",100,IF(C38="En proceso",50,IF(C38="Pendiente",0," "))) -> 0
B39: El órgano de gobierno y la alta dirección demuestran liderazgo y compromiso con respecto al sistema de gestión de cumplimiento asegurando la integración de los requisitos del sistema de gestión de cumplimiento en los procesos de negocio de la organización | C39: Pendiente | D39: =IF(C39="Listo",100,IF(C39="En proceso",50,IF(C39="Pendiente",0," "))) -> 0
B40: El órgano de gobierno y la alta dirección demuestran liderazgo y compromiso con respecto al sistema de gestión de cumplimiento comunicando la importancia de contar con un sistema de gestión de cumplimiento eficaz y la importancia de estar en conformidad con los requisitos del sistema de gestión de cumplimiento | C40: Pendiente | D40: =IF(C40="Listo",100,IF(C40="En proceso",50,IF(C40="Pendiente",0," "))) -> 0
B41: El órgano de gobierno y la alta dirección demuestran liderazgo y compromiso con respecto al sistema de gestión de cumplimiento dirigiendo y apoyando a los colaboradores para contribuir a la eficacia del sistema de gestión de cumplimiento | C41: Pendiente | D41: =IF(C41="Listo",100,IF(C41="En proceso",50,IF(C41="Pendiente",0," "))) -> 0
B42: El órgano de gobierno y la alta dirección demuestran liderazgo y compromiso con respecto al sistema de gestión de cumplimiento a través del apoyo a otras funciones de la dirección pertinentes a fin de demostrar su liderazgo, en lo que concierne a sus áreas de responsabilidad en materia de cumplimiento | C42: Pendiente | D42: =IF(C42="Listo",100,IF(C42="En proceso",50,IF(C42="Pendiente",0," "))) -> 0
B43: El órgano de gobierno y la alta dirección demuestran liderazgo y compromiso con respecto al sistema de gestión de cumplimiento asegurando el alineamiento entre los objetivos operacionales y las obligaciones de cumplimiento | C43: Pendiente | D43: =IF(C43="Listo",100,IF(C43="En proceso",50,IF(C43="Pendiente",0," "))) -> 0
B44: El órgano de gobierno y la alta dirección demuestran liderazgo y compromiso con respecto al sistema de gestión de cumplimiento a través del establecimiento y mantenimiento de mecanismos de rendición de cuentas, incluyendo el reporte oportuno sobre cuestiones de cumplimiento, como también los incumplimientos | C44: Pendiente | D44: =IF(C44="Listo",100,IF(C44="En proceso",50,IF(C44="Pendiente",0," "))) -> 0
B45: El órgano de gobierno y la alta dirección demuestran liderazgo y compromiso con respecto al sistema de gestión de cumplimiento asegurando que el sistema de gestión de cumplimiento logre los resultados previstos | C45: Pendiente | D45: =IF(C45="Listo",100,IF(C45="En proceso",50,IF(C45="Pendiente",0," "))) -> 0
B46: El órgano de gobierno y la alta dirección demuestran liderazgo y compromiso con respecto al sistema de gestión de cumplimiento promoviendo la mejora continua | C46: Pendiente | D46: =IF(C46="Listo",100,IF(C46="En proceso",50,IF(C46="Pendiente",0," "))) -> 0
B47: Promedio Sección 5.1 | D47: =AVERAGE(D35:D46) -> 0
A48: 5.2 Política de cumplimiento
A49: 5.2.1 Generalidades | B49: El órgano de gobierno y la alta dirección, preferiblemente consultando a los empleados, establece una política de cumplimiento que es apropiada al propósito de la organización. | C49: Pendiente | D49: =IF(C49="Listo",100,IF(C49="En proceso",50,IF(C49="Pendiente",0," "))) -> 0
B50: El órgano de gobierno y la alta dirección, preferiblemente consultando a los empleados, establece una política de cumplimiento que proporciona un marco de referencia para establecer los objetivos de cumplimiento | C50: Pendiente | D50: =IF(C50="Listo",100,IF(C50="En proceso",50,IF(C50="Pendiente",0," "))) -> 0
B51: El órgano de gobierno y la alta dirección, preferiblemente consultando a los empleados, establece una política de cumplimiento que incluye un compromiso de cumplir los requisitos aplicables; | C51: Pendiente | D51: =IF(C51="Listo",100,IF(C51="En proceso",50,IF(C51="Pendiente",0," "))) -> 0
B52: El órgano de gobierno y la alta dirección, preferiblemente consultando a los empleados, establece una política de cumplimiento que incluye un compromiso de mejora continua del sistema de gestión de cumplimiento | C52: Pendiente | D52: =IF(C52="Listo",100,IF(C52="En proceso",50,IF(C52="Pendiente",0," "))) -> 0
B53: La política de cumplimiento articula el alcance del sistema de gestión de cumplimiento | C53: Pendiente | D53: =IF(C53="Listo",100,IF(C53="En proceso",50,IF(C53="Pendiente",0," "))) -> 0
B54: La política de cumplimiento articula la aplicación y el contexto del sistema en relación al tamaño, la naturaleza y la complejidad de la organización y su entorno operativo; | C54: Pendiente | D54: =IF(C54="Listo",100,IF(C54="En proceso",50,IF(C54="Pendiente",0," "))) -> 0
B55: La política de cumplimiento articula a medida en la cual el cumplimiento estará integrado con otras funciones, tales como gobernanza, riesgo, auditoría y legal; | C55: Pendiente | D55: =IF(C55="Listo",100,IF(C55="En proceso",50,IF(C55="Pendiente",0," "))) -> 0
B56: La política de cumplimiento articula el grado en el cual el cumplimiento estará incorporado en las políticas, procedimientos y procesos operacionales | C56: Pendiente | D56: =IF(C56="Listo",100,IF(C56="En proceso",50,IF(C56="Pendiente",0," "))) -> 0
B57: La política de cumplimiento articula el grado de independencia y autonomía de la función de cumplimiento | C57: Pendiente | D57: =IF(C57="Listo",100,IF(C57="En proceso",50,IF(C57="Pendiente",0," "))) -> 0
B58: La política de cumplimiento articula la responsabilidad para gestionar e informar cuestiones de cumplimiento | C58: Pendiente | D58: =IF(C58="Listo",100,IF(C58="En proceso",50,IF(C58="Pendiente",0," "))) -> 0
B59: La política de cumplimiento articula los principios bajo los cuales se gestionarán las relaciones con partes interesadas internas y externas | C59: Pendiente | D59: =IF(C59="Listo",100,IF(C59="En proceso",50,IF(C59="Pendiente",0," "))) -> 0
B60: La política de cumplimiento articula la normas y reglas requeridas de conducta y de rendición de cuentas las consecuencias del incumplimiento. | C60: Pendiente | D60: =IF(C60="Listo",100,IF(C60="En proceso",50,IF(C60="Pendiente",0," "))) -> 0
B61: La política de cumplimiento está disponible como información documentada | C61: Pendiente | D61: =IF(C61="Listo",100,IF(C61="En proceso",50,IF(C61="Pendiente",0," "))) -> 0
... B69: La política de cumplimiento está apoyado por otros documentos, incluyendo políticas, procedimientos y procesos operacionales. | C69: Pendiente | D69: =IF(C69="Listo",100,IF(C69="En proceso",50,IF(C69="Pendiente",0," "))) -> 0
B70: Promedio Sección 5.2.1 | D70: =AVERAGE(D49:D69) -> 0
A71: 5.2.2 Desarrollo | B71: Al desarrollar la política de cumplimiento se considera las obligaciones específicas internacionales, regionales o locales | C71: Pendiente | D71: =IF(C71="Listo",100,IF(C71="En proceso",50,IF(C71="Pendiente",0," "))) -> 0
B72: Al desarrollar la política de cumplimiento se considera la estrategia, los objetivos y los valores de la organización | C72: Pendiente | D72: =IF(C72="Listo",100,IF(C72="En proceso",50,IF(C72="Pendiente",0," "))) -> 0
B73: Al desarrollar la política de cumplimiento se considera la estructura de la organización y el marco de gobernanza | C73: Pendiente | D73: =IF(C73="Listo",100,IF(C73="En proceso",50,IF(C73="Pendiente",0," "))) -> 0
B74: Al desarrollar la política de cumplimiento se considera a naturaleza y el nivel de riesgo asociado a los incumplimientos otras políticas, normas y códigos internos | C74: Pendiente | D74: =IF(C74="Listo",100,IF(C74="En proceso",50,IF(C74="Pendiente",0," "))) -> 0
B75: Al desarrollar la política de cumplimiento se considera otras políticas, normas y códigos internos | C75: Pendiente | D75: =IF(C75="Listo",100,IF(C75="En proceso",50,IF(C75="Pendiente",0," "))) -> 0
B76: Promedio Sección 5.2.2 | D76: =AVERAGE(D71:D75) -> 0
B77: Promedio Sección 5.2 | D77: =AVERAGE(D76,D70) -> 0
A78: 5.3 Roles, responsabilidades y autoridades en la organización.
A79: 5.3.1 Generalidades | B79: La alta dirección se asegura de que las responsabilidades y autoridades para los roles pertinentes se asignen, comuniquen y se entiendan dentro de la organización. | C79: Pendiente | D79: =IF(C79="Listo",100,IF(C79="En proceso",50,IF(C79="Pendiente",0," "))) -> 0
B80: El órgano de gobierno y la alta dirección asigna la responsabilidad y autoridad para: a) asegurar que el sistema de gestión del cumplimiento es coherente con esta Norma b) informar sobre el desempeño del sistema de gestión de cumplimiento al órgano de gobierno y a la alta dirección. | C80: Pendiente | D80: =IF(C80="Listo",100,IF(C80="En proceso",50,IF(C80="Pendiente",0," "))) -> 0
B81: Promedio Sección 5.3.1 | D81: =AVERAGE(D79:D80) -> 0
A82: 5.3.2 Asignación de la responsabilidad por el cumplimiento en la organización | B82: El órgano de gobierno y la alta dirección lideren con el ejemplo, adhiriéndose y apoyando activamente el cumplimiento y el sistema de gestión de cumplimiento. | C82: Pendiente | D82: =IF(C82="Listo",100,IF(C82="En proceso",50,IF(C82="Pendiente",0," "))) -> 0
B83: Los directores tienen un rol en el sistema de gestión de cumplimiento. Por lo tanto se establecen claramente sus responsabilidades y se incluyen en sus descripciones de puesto de trabajo. | C83: Pendiente | D83: =IF(C83="Listo",100,IF(C83="En proceso",50,IF(C83="Pendiente",0," "))) -> 0
B84: Promedio Sección 5.3.2 | D84: =AVERAGE(D82:D83) -> 0
A85: 5.3.3 Rol y responsabilidad del órgano de gobierno y de la alta dirección | B85: El órgano de gobierno y la alta dirección establece una política de cumplimiento de acuerdo con lo previsto en 5.2.2 | C85: Pendiente | D85: =IF(C85="Listo",100,IF(C85="En proceso",50,IF(C85="Pendiente",0," "))) -> 0
B86: El órgano de gobierno y la alta dirección asegura que se mantiene el compromiso con el cumplimiento y que el incumplimiento y los comportamientos no conformes se abordan adecuadamente | C86: Pendiente | D86: =IF(C86="Listo",100,IF(C86="En proceso",50,IF(C86="Pendiente",0," "))) -> 0
B87: El órgano de gobierno y la alta dirección incluye las responsabilidades de cumplimiento en las descripciones de puestos de los altos directivos | C87: Pendiente | D87: =IF(C87="Listo",100,IF(C87="En proceso",50,IF(C87="Pendiente",0," "))) -> 0
B88: El órgano de gobierno y la alta dirección designa o nombra una función de cumplimiento con autoridad y responsabilidad para el diseño, coherencia e integridad del sistema de gestión de cumplimiento | C88: Pendiente | D88: =IF(C88="Listo",100,IF(C88="En proceso",50,IF(C88="Pendiente",0," "))) -> 0
B89: El órgano de gobierno y la alta dirección designa o nombra una función de cumplimiento con apoyo claro y sin ambigüedades del órgano de gobierno y la alta dirección y acceso directo a ellos; | C89: Pendiente | D89: =IF(C89="Listo",100,IF(C89="En proceso",50,IF(C89="Pendiente",0," "))) -> 0
B90: El órgano de gobierno y la alta dirección designa o nombra una función de cumplimiento con acceso a: - quienes toman las decisiones a alto nivel y la oportunidad de contribuir tempranamente en el proceso de toma de decisiones; - todos los niveles de la organización; - toda la documentación e información necesaria para desarrollar las tareas de cumplimiento; - asesoramiento experto en leyes, regulaciones, códigos y normas de la organización, que sean pertinentes; | C90: Pendiente | D90: =IF(C90="Listo",100,IF(C90="En proceso",50,IF(C90="Pendiente",0," "))) -> 0
B91: El órgano de gobierno y la alta dirección designa o nombra una función de cumplimiento con la autoridad y capacidad para ejercer poder de negociación al mostrar las consecuencias para el cumplimiento en los procesos de toma de decisión pertinentes | C91: Pendiente | D91: =IF(C91="Listo",100,IF(C91="En proceso",50,IF(C91="Pendiente",0," "))) -> 0
B92: El órgano de gobierno y la alta dirección se asegura que la función de cumplimiento tiene la autoridad para actuar con independencia y que no está subordinada a otras prioridades que entren en conflicto, especialmente en los casos en que el cumplimiento está integrado en el negocio. | C92: Pendiente | D92: =IF(C92="Listo",100,IF(C92="En proceso",50,IF(C92="Pendiente",0," "))) -> 0
B93: La alta dirección asigna los recursos adecuados y apropiados para establecer, desarrollar, implementar, evaluar, mantener y mejorar el sistema de gestión de cumplimiento y los resultados de desempeño; | C93: Pendiente | D93: =IF(C93="Listo",100,IF(C93="En proceso",50,IF(C93="Pendiente",0," "))) -> 0
B94: La alta dirección asegura que se asignen las responsabilidades y autoridades para los roles pertinentes y que sean comunicados dentro de la organización; | C94: Pendiente | D94: =IF(C94="Listo",100,IF(C94="En proceso",50,IF(C94="Pendiente",0," "))) -> 0
B95: La alta dirección asegura que existan sistemas de reportes eficaces y oportunos | C95: Pendiente | D95: =IF(C95="Listo",100,IF(C95="En proceso",50,IF(C95="Pendiente",0," "))) -> 0
B96: La alta dirección se mide contra los indicadores claves de desempeño o de resultados de cumplimiento | C96: Pendiente | D96: =IF(C96="Listo",100,IF(C96="En proceso",50,IF(C96="Pendiente",0," "))) -> 0
B97: La alta dirección asigna la responsabilidad de informar sobre el desempeño del sistema de gestión de cumplimiento al órgano de gobierno y a la alta dirección | C97: Pendiente | D97: =IF(C97="Listo",100,IF(C97="En proceso",50,IF(C97="Pendiente",0," "))) -> 0
B98: Promedio Sección 5.3.3 | D98: =AVERAGE(D85:D97) -> 0
A99: 5.3.4. Función de Cumplimiento | B99: La función de cumplimiento en conjunto con la dirección identifica las obligaciones de cumplimiento con el apoyo de los recursos pertinentes y traduce esas obligaciones en políticas, procedimientos y procesos viables (o realizables). | C99: Pendiente | D99: =IF(C99="Listo",100,IF(C99="En proceso",50,IF(C99="Pendiente",0," "))) -> 0
B100: La función de cumplimiento en conjunto con la dirección integra las obligaciones de cumplimiento en las políticas, procedimientos y procesos existentes | C100: Pendiente | D100: =IF(C100="Listo",100,IF(C100="En proceso",50,IF(C100="Pendiente",0," "))) -> 0
B101: La función de cumplimiento en conjunto con la dirección proporciona u organiza el apoyo continuo de capacitación de la nómina para asegurar que todos los empleados pertinentes están capacitados de manera regular | C101: Pendiente | D101: =IF(C101="Listo",100,IF(C101="En proceso",50,IF(C101="Pendiente",0," "))) -> 0
B102: La función de cumplimiento en conjunto con la dirección promueve la inclusión de las responsabilidades de cumplimiento en las descripciones del puesto de trabajo y en los procesos de evaluación de desempeño de los empleados | C102: Pendiente | D102: =IF(C102="Listo",100,IF(C102="En proceso",50,IF(C102="Pendiente",0," "))) -> 0
B103: La función de cumplimiento en conjunto con la dirección pone en marcha un Sistema de información y documentación de cumplimiento | C103: Pendiente | D103: =IF(C103="Listo",100,IF(C103="En proceso",50,IF(C103="Pendiente",0," "))) -> 0
B104: La función de cumplimiento en conjunto con la dirección desarrollan e implementan procesos de gestión de información, tales como las quejas y/o retroalimentación recibidos por medio de la línea directa, un sistema de denuncia de irregularidades y otros mecanismos | C104: Pendiente | D104: =IF(C104="Listo",100,IF(C104="En proceso",50,IF(C104="Pendiente",0," "))) -> 0
B105: La función de cumplimiento en conjunto con la dirección establece indicadores de desempeño de cumplimiento y supervisa y mide el desempeño de cumplimiento | C105: Pendiente | D105: =IF(C105="Listo",100,IF(C105="En proceso",50,IF(C105="Pendiente",0," "))) -> 0
B106: La función de cumplimiento en conjunto con la dirección analiza el desempeño para identificar la necesidad de acciones correctivas | C106: Pendiente | D106: =IF(C106="Listo",100,IF(C106="En proceso",50,IF(C106="Pendiente",0," "))) -> 0
B107: La función de cumplimiento en conjunto con la dirección identifica los riesgos de cumplimiento y gestiona los riesgos relacionados con terceros, tales como proveedores, agentes, distribuidores, consultores y contratistas | C107: Pendiente | D107: =IF(C107="Listo",100,IF(C107="En proceso",50,IF(C107="Pendiente",0," "))) -> 0
B108: La función de cumplimiento en conjunto con la dirección se asegura que el sistema de gestión de cumplimiento sea revisado a intervalos planificados | C108: Pendiente | D108: =IF(C108="Listo",100,IF(C108="En proceso",50,IF(C108="Pendiente",0," "))) -> 0
B109: La función de cumplimiento en conjunto con la dirección asegura el acceso al asesoramiento profesional adecuado para el establecimiento, la aplicación y mantenimiento del sistema de gestión de cumplimiento | C109: Pendiente | D109: =IF(C109="Listo",100,IF(C109="En proceso",50,IF(C109="Pendiente",0," "))) -> 0
...

Sheet Análisis
B3: ANÁLISIS DE BRECHA
B4: Capítulo de la norma ISO 19600 | C4: Puntaje
B5: 4. Contexto de la organización | C5: ='Brecha 19600'!D33 -> 0
B6: 5. Liderazgo | C6: ='Brecha 19600'!D132 -> 0
B7: 6. Planificación | C7: ='Brecha 19600'!D155 -> 0
B8: 7. Apoyo | C8: ='Brecha 19600'!D220 -> 0
B9: 8. Operación | C9: ='Brecha 19600'!D241 -> 0
B10: 9. Evaluación del desempeño | C10: ='Brecha 19600'!D305 -> 0
B11: 10. Mejora | C11: ='Brecha 19600'!D324 -> 0
B12: % DE AVANCE | C12: =AVERAGE(C5:C11) -> 0
