Workbook

Sheet Brecha 19600
A1: LINEAMIENTOS ORIENTADORES Y FACILITADORES DE LA IMPLEMENTACIÓN INTEGRAL DE UN SISTEMA DE GESTIÓN DE CUMPLIMIENTO BASADO EN LA NORMA INTE/ISO 19600:2017
A3: Sección | B3: Requisito | C3: Estado | D3: Puntaje | E3: Evidencia / Observación
A5: 4.Contexto de la organización | I5: Listo
A6: 4.1 Comprensión de la organización y su contexto. | B6: La organización determina las cuestiones externas e internas que son pertinentes para su propósito y que afectan a su capacidad para lograr los resultados previstos de su sistema de Gestión de Cumplimiento, considerando el contexto regulatorio, social y cultural, la situación económica y de aspectos internos tales como las políticas,procedimientos, procesos y recursos. | C6: Pendiente | D6: =IF(C6="Listo",100,IF(C6="En proceso",50,IF(C6="Pendiente",0," "))) -> 0 | I6: En proceso
B7: Promedio Sección 4.1 | D7: =AVERAGE(D6:D6) -> 0 | I7: Pendiente
A8: 4.2 Comprensión de las necesidades y expectativas de las partes interesadas. | B8: La organización determina las partes interesadas que son pertinentes al Sistema de Gestión de Cumplimiento. | C8: Pendiente | D8: =IF(C8="Listo",100,IF(C8="En proceso",50,IF(C8="Pendiente",0," "))) -> 0 | I8: No aplica
B9: La organización determina los requisitos pertinentes de estas partes interesadas para el Sistema de Gestión de Cumplimiento. | C9: Pendiente | D9: =IF(C9="Listo",100,IF(C9="En proceso",50,IF(C9="Pendiente",0," "))) -> 0
B10: Promedio Sección 4.2 | D10: =AVERAGE(D8:D9) -> 0
A11: 4.3 Determinación del alcance del sistema de gestión de cumplimiento. | B11: La organización determina los límites y la aplicabilidad del Sistema de Gestión de Cumplimiento para establecer su alcance. | C11: Pendiente | D11: =IF(C11="Listo",100,IF(C11="En proceso",50,IF(C11="Pendiente",0," "))) -> 0
B12: Para determinar el alcance la organización considera las cuestiones externas e internas indicadas en el apartado 4.1. | C12: Pendiente | D12: =IF(C12="Listo",100,IF(C12="En proceso",50,IF(C12="Pendiente",0," "))) -> 0
B13: Para determinar el alcance la organización considera los requisitos indicados en el apartado 4.1 y 4.5.1 | C13: Pendiente
B14: El alcance está disponible facilmente como información documentada. | C14: Pendiente | D14: =IF(C14="Listo",100,IF(C14="En proceso",50,IF(C14="Pendiente",0," "))) -> 0
B15: Promedio Sección 4.3 | D15: =AVERAGE(D11:D14) -> 0
A16: 4.4 Sistema de gestión de cumplimiento y principios de buena gobernanza | B16: La organización establece, desarrolla, implementa, evalua, mantiene y mejora continuamente un sistema de gestión de cumplimiento, incluidos los procesos necesarios y sus interacciones, de acuerdo con esta Norma, tomando en consideración el acceso directo de la función de cumplimiento al órgano de gobierno;la independencia de la función de cumplimiento;y la dotación a la función de cumplimiento de la autoridad suficiente y de los recursos necesarios. | C16: Pendiente | D16: =IF(C16="Listo",100,IF(C16="En proceso",50,IF(C16="Pendiente",0," "))) -> 0
B17: El sistema de gestión de cumplimiento refleja los valores, objetivos, estrategia y riesgos de cumplimiento de la organización. | C17: Pendiente | D17: =IF(C17="Listo",100,IF(C17="En proceso",50,IF(C17="Pendiente",0," "))) -> 0
B18: Promedio Sección 4.4 | D18: =AVERAGE(D16:D17) -> 0
A19: 4.5. Obligaciones de Cumplimiento
A20: 4.5.1 Identificación de las obligaciones de cumplimiento | B20: La organización identifica sistemáticamente, tanto sus obligaciones de cumplimiento y las implicaciones que estas tienen para sus actividades, productos y servicios | C20: Pendiente | D20: =IF(C20="Listo",100,IF(C20="En proceso",50,IF(C20="Pendiente",0," "))) -> 0
B21: La organización considera las obligaciones de cumplimiento identificadas, en el establecimiento, desarrollo, implementación, evaluación, mantenimiento y mejora de su sistema de gestión de cumplimiento. | C21: Pendiente | D21: =IF(C21="Listo",100,IF(C21="En proceso",50,IF(C21="Pendiente",0," "))) -> 0
B22: La organización documenta sus obligaciones de cumplimiento de forma adecuada a su tamaño, complejidad, estructura y operaciones. | C22: Pendiente | D22: =IF(C22="Listo",100,IF(C22="En proceso",50,IF(C22="Pendiente",0," "))) -> 0
B23: Las fuentes de las obligaciones de cumplimiento incluyen requisitos de cumplimiento, y pueden incluir compromisos de cumplimiento. | C23: Pendiente | D23: =IF(C23="Listo",100,IF(C23="En proceso",50,IF(C23="Pendiente",0," "))) -> 0
A24: 4.5.2 Mantenimiento de las obligaciones de cumplimiento | B24: La organizacion dispone de procesos que identifiquen novedades y modificaciones en la legislación, los códigos y otras obligaciones de cumplimiento, para asegurar un cumplimiento continuo. | C24: Pendiente | D24: =IF(C24="Listo",100,IF(C24="En proceso",50,IF(C24="Pendiente",0," "))) -> 0
B25: Las organizaciones cuenta con procesos para evaluar el impacto de los cambios identificados y para implementar cualquier cambio en la gestión de las obligaciones de cumplimiento. | C25: Pendiente | D25: =IF(C25="Listo",100,IF(C25="En proceso",50,IF(C25="Pendiente",0," "))) -> 0
B26: Promedio Sección 4.5 | D26: =AVERAGE(D20:D25) -> 0
A27: 4.6 Identificación, análisis y evaluación de los riesgos de cumplimiento | B27: La organización identifica y evalua sus riesgos de cumplimiento, basandose en una valoración de riesgos formal o a través de enfoques alternativos | C27: Pendiente | D27: =IF(C27="Listo",100,IF(C27="En proceso",50,IF(C27="Pendiente",0," "))) -> 0
B28: La organización identifica los riesgos de cumplimiento relacionando sus obligaciones de cumplimiento con sus actividades, productos, servicios y aspectos pertinentes de sus operaciones, con objeto de identificar situaciones en las que pueden ocurrir incumplimientos. | C28: Pendiente | D28: =IF(C28="Listo",100,IF(C28="En proceso",50,IF(C28="Pendiente",0," "))) -> 0
B29: La organización identifica las causas y las consecuencias de los incumplimientos. | C29: Pendiente | D29: =IF(C29="Listo",100,IF(C29="En proceso",50,IF(C29="Pendiente",0," "))) -> 0
B30: La organización analiza los riesgos de cumplimiento considerando las causas y las fuentes de los incumplimientos y la gravedad de sus consecuencias, así como la probabilidad de que ocurran los incumplimientos y las consecuencias asociadas. | C30: Pendiente | D30: =IF(C30="Listo",100,IF(C30="En proceso",50,IF(C30="Pendiente",0," "))) -> 0
B31: Los riesgos de cumplimiento se reevaluan cuando hay: - actividades, productos o servicios nuevos o modificados; - cambios en la estructura o en la estrategia de la organización; - cambios externos significativos, tales como circunstancias económico-financieras, condiciones de mercado, contingencias y relaciones con los clientes; - cambios en las obligaciones de cumplimiento (ver apartado 4.5). - incumplimientos | C31: Pendiente | D31: =IF(C31="Listo",100,IF(C31="En proceso",50,IF(C31="Pendiente",0," "))) -> 0
B32: Promedio Sección 4.6 | D32: =AVERAGE(D27:D31) -> 0
A33: Promedio Total Capítulo 4. Contexto de la Organización | D33: =AVERAGE(D7,D10,D15,D18,D26,D32) -> 0
A34: 5. Liderazgo
A35: 5.1 Liderazgo y compromiso. | B35: El órgano de gobierno y la alta dirección demuestran liderazgo y compromiso con respecto al sistema de gestión de cumplimiento a través del establecimiento y resguardo de los valores fundamentales de la organización | C35: Pendiente | D35: =IF(C35="Listo",100,IF(C35="En proceso",50,IF(C35="Pendiente",0," "))) -> 0
B36: El órgano de gobierno y la alta dirección demuestran liderazgo y compromiso con respecto al sistema de gestión de cumplimiento asegurando que la política de cumplimiento y los objetivos de cumplimiento sean establecidos y coherentes con los valores, los objetivos y la dirección estratégica de la organización (ver 6.2) | C36: Pendiente | D36: =IF(C36="Listo",100,IF(C36="En proceso",50,IF(C36="Pendiente",0," "))) -> 0
B37: El órgano de gobierno y la alta dirección demuestran liderazgo y compromiso con respecto al sistema de gestión de cumplimiento asegurando que las políticas, procedimientos y procesos son desarrollados e implementados para lograr los objetivos de cumplimiento | C37: Pendiente | D37: =IF(C37="Listo",100,IF(C37="En proceso",50,IF(C37="Pendiente",0," "))) -> 0
B38: El órgano de gobierno y la alta dirección demuestran liderazgo y compromiso con respecto al sistema de gestión de cumplimiento asegurando que los recursos necesarios para el sistema de gestión de cumplimiento están disponibles, distribuidos y asignados | C38: Pendiente | D38: =IF(C38="Listo",100,IF(C38="En proceso",50,IF(C38="Pendiente",0," "))) -> 0
B39: El órgano de gobierno y la alta dirección demuestran liderazgo y compromiso con respecto al sistema de gestión de cumplimiento asegurando la integración de los requisitos del sistema de gestión de cumplimiento en los procesos de negocio de la organización | C39: Pendiente | D39: =IF(C39="Listo",100,IF(C39="En proceso",50,IF(C39="Pendiente",0," "))) -> 0
B40: El órgano de gobierno y la alta dirección demuestran liderazgo y compromiso con respecto al sistema de gestión de cumplimiento comunicando la importancia de contar con un sistema de gestión de cumplimiento eficaz y la importancia de estar en conformidad con los requisitos del sistema de gestión de cumplimiento | C40: Pendiente | D40: =IF(C40="Listo",100,IF(C40="En proceso",50,IF(C40="Pendiente",0," "))) -> 0
B41: El órgano de gobierno y la alta dirección demuestran liderazgo y compromiso con respecto al sistema de gestión de cumplimiento dirigiendo y apoyando a los colaboradores para contribuir a la eficacia del sistema de gestión de cumplimiento | C41: Pendiente | D41: =IF(C41="Listo",100,IF(C41="En proceso",50,IF(C41="Pendiente",0," "))) -> 0
B42: El órgano de gobierno y la alta dirección demuestran liderazgo y compromiso con respecto al sistema de gestión de cumplimiento a través del apoyo a otras funciones de la dirección pertinentes a fin de demostrar su liderazgo, en lo que concierne a sus áreas de responsabilidad en materia de cumplimiento | C42: Pendiente | D42: =IF(C42="Listo",100,IF(C42="En proceso",50,IF(C42="Pendiente",0," "))) -> 0
...

Sheet Análisis
B3: ANÁLISIS DE BRECHA
B4: Capítulo de la norma ISO 19600 | C4: Puntaje
B5: 4. Contexto de la organización | C5: ='Brecha 19600'!D33 -> 0
B6: 5. Liderazgo | C6: ='Brecha 19600'!D132 -> 0
B7: 6. Planificación | C7: ='Brecha 19600'!D155 -> 0
B8: 7. Apoyo | C8: ='Brecha 19600'!D220 -> 0
B9: 8. Operación | C9: ='Brecha 19600'!D241 -> 0
B10: 9. Evaluación del desempeño | C10: ='Brecha 19600'!D305 -> 0
B11: 10. Mejora | C11: ='Brecha 19600'!D324 -> 0
B12: % DE AVANCE | C12: =AVERAGE(C5:C11) -> 0
