Workbook

Sheet Brecha 22000
A1: LINEAMIENTOS ORIENTADORES Y FACILITADORES DE LA IMPLEMENTACIÓN INTEGRAL DE UN SISTEMA DE GESTIÓN DE LA INOCUIDAD DE LOS ALIMENTOS (SGIA) BASADO EN LA NORMA ISO 22000:2018
A3: Sección | B3: Requisito | C3: Estado | D3: Puntaje | E3: Evidencia / Observación
A5: 4.Contexto de la organización | I5: Listo
A6: 4.1 Comprensión de la organización y su contexto. | B6: La organización determina las cuestiones externas e internas que son pertinentes para su propósito y que afectan a su capacidad para lograr los resultados previstos de su SGIA. | C6: Pendiente | D6: =IF(C6="Listo",100,IF(C6="En proceso",50,IF(C6="Pendiente",0," "))) -> 0 | I6: En proceso
B7: La organización identifica, revisa y actualiza la información relacionada con esas cuestiones internas y externas. | C7: Pendiente | D7: =IF(C7="Listo",100,IF(C7="En proceso",50,IF(C7="Pendiente",0," "))) -> 0 | I7: Pendiente
B8: Promedio Sección 4.1 | D8: =AVERAGE(D6:D7) -> 0
A9: 4.2 Comprensión de las necesidades y expectativas de las partes interesadas. | B9: La organización determina las partes interesadas que son pertinentes al SGIA. | C9: Pendiente | D9: =IF(C9="Listo",100,IF(C9="En proceso",50,IF(C9="Pendiente",0," "))) -> 0 | I9: No aplica
B10: La organización determina los requisitos pertinentes de estas partes interesadas para el SGIA. | C10: Pendiente | D10: =IF(C10="Listo",100,IF(C10="En proceso",50,IF(C10="Pendiente",0," "))) -> 0
B11: La organización identifica, revisa y actualiza la información relacionada a estas partes interesadas y sus requisitos. | C11: Pendiente | D11: =IF(C11="Listo",100,IF(C11="En proceso",50,IF(C11="Pendiente",0," "))) -> 0
B12: Promedio Sección 4.2 | D12: =AVERAGE(D9:D11) -> 0
A13: 4.3 Determinación del alcance del sistema de gestión de inocuidad de los alimentos | B13: La organización determina los límites y la aplicabilidad del SGIA para establecer su alcance. | C13: Pendiente | D13: =IF(C13="Listo",100,IF(C13="En proceso",50,IF(C13="Pendiente",0," "))) -> 0
B14: El alcance especifica los productos y servicios, procesos y sitios de producción que se incluyen en el SGIA. | C14: Pendiente | D14: =IF(C14="Listo",100,IF(C14="En proceso",50,IF(C14="Pendiente",0," "))) -> 0
B15: El alcance incluye las actividades, procesos, productos o servicios que pueden influir en la inocuidad de los alimentos de sus productos terminados. | C15: Pendiente | D15: =IF(C15="Listo",100,IF(C15="En proceso",50,IF(C15="Pendiente",0," "))) -> 0
B16: Cuando se determina este alcance, la organización considera: a) las cuestiones externas e internas indicadas en el apartado 4.1 b) los requisitos indicados en el apartado 4.2. | C16: Pendiente | D16: =IF(C16="Listo",100,IF(C16="En proceso",50,IF(C16="Pendiente",0," "))) -> 0
B17: El alcance esta disponible y se mantiene como información documentada. | C17: Pendiente | D17: =IF(C17="Listo",100,IF(C17="En proceso",50,IF(C17="Pendiente",0," "))) -> 0
B18: Promedio Sección 4.3 | D18: =AVERAGE(D13:D17) -> 0
A19: 4.4 Sistema de gestión de inocuidad de los alimentos | B19: La organización establece, implementa, mantiene, actualiza y mejora continuamente el SGIA, incluyendo los procesos necesarios y sus interacciones, de acuerdo con los requisitos de esta norma. | C19: Pendiente | D19: =IF(C19="Listo",100,IF(C19="En proceso",50,IF(C19="Pendiente",0," "))) -> 0
B20: Promedio Sección 4.4 | D20: =AVERAGE(D19:D19) -> 0
A21: Promedio Total Capítulo 4. Contexto de la Organización | D21: =AVERAGE(D8,D12,D18,D20) -> 0
A22: 5. Liderazgo
A23: 5.1 Liderazgo y compromiso. | B23: La alta dirección se asegura que la política de inocuidad de los alimentos y los objetivos del SGIA están establecidos y que éstos son compatibles con la dirección estratégica de la organización. | C23: Pendiente | D23: =IF(C23="Listo",100,IF(C23="En proceso",50,IF(C23="Pendiente",0," "))) -> 0
B24: La alta dirección se asegura la integración de los requisitos del SGIA en los procesos de negocio de la organización. | C24: Pendiente | D24: =IF(C24="Listo",100,IF(C24="En proceso",50,IF(C24="Pendiente",0," "))) -> 0
B25: La alta dirección se asegura que estén disponibles los recursos necesarios para el SGIA. | C25: Pendiente | D25: =IF(C25="Listo",100,IF(C25="En proceso",50,IF(C25="Pendiente",0," "))) -> 0
B26: La alta dirección comunica la importancia de una gestión eficaz de la inocuidad de los alimentos y cumple con los requisitos del SGIA, los requisitos legales y reglamentarios aplicables, y los requisitos relacionados con la inocuidad de los alimentos acordados mutuamente con los clientes. | C26: Pendiente | D26: =IF(C26="Listo",100,IF(C26="En proceso",50,IF(C26="Pendiente",0," "))) -> 0
B27: La alta dirección se asegura que el SGIA se evalúa y mantiene para lograr sus resultados previstos. | C27: Pendiente | D27: =IF(C27="Listo",100,IF(C27="En proceso",50,IF(C27="Pendiente",0," "))) -> 0
B28: La alta dirección dirige y apoya a las personas para que contribuyan con la eficacia del SGIA. | C28: Pendiente | D28: =IF(C28="Listo",100,IF(C28="En proceso",50,IF(C28="Pendiente",0," "))) -> 0
B29: La alta dirección promueve la mejora continua. | C29: Pendiente | D29: =IF(C29="Listo",100,IF(C29="En proceso",50,IF(C29="Pendiente",0," "))) -> 0
B30: La alta dirección apoya en otros roles pertinentes a la dirección, para demostrar su liderazgo en lo que respecta a sus áreas de responsabilidad. | C30: Pendiente | D30: =IF(C30="Listo",100,IF(C30="En proceso",50,IF(C30="Pendiente",0," "))) -> 0
B31: Promedio Sección 5.1 | D31: =AVERAGE(D23:D30) -> 0
A32: 5.2 Política
B33: Promedio Sección 5.2 | D33: =+AVERAGE(D40,D44) -> 0
A34: 5.2.1 Establecimiento de la política de la inocuidad de los alimentos | B34: La alta dirección establece, implementa y mantiene una política de la inocuidad de los alimentos que sea apropiada al propósito y contexto de la organización. | C34: Pendiente | D34: =IF(C34="Listo",100,IF(C34="En proceso",50,IF(C34="Pendiente",0," "))) -> 0
B35: La política ambiental proporciona un marco de referencia para establecer y revisar los objetivos del SGIA | C35: Pendiente | D35: =IF(C35="Listo",100,IF(C35="En proceso",50,IF(C35="Pendiente",0," "))) -> 0
B36: La política incluye el compromiso de cumplir con los requisitos de inocuidad de los alimentos aplicables, incluidos los requisitos legales y reglamentarios y los requisitos mutuamente acordados con los clientes relacionados con la inocuidad de los alimentos. | C36: Pendiente | D36: =IF(C36="Listo",100,IF(C36="En proceso",50,IF(C36="Pendiente",0," "))) -> 0
B37: La política aborda la comunicación interna y externa. | C37: Pendiente | D37: =IF(C37="Listo",100,IF(C37="En proceso",50,IF(C37="Pendiente",0," "))) -> 0
B38: Incluye un compromiso con la mejora continua del SGIA. | C38: Pendiente | D38: =IF(C38="Listo",100,IF(C38="En proceso",50,IF(C38="Pendiente",0," "))) -> 0
B39: La política aborda la necesidad de asegurar las competencias relacionadas con la inocuidad de los alimentos. | C39: Pendiente | D39: =IF(C39="Listo",100,IF(C39="En proceso",50,IF(C39="Pendiente",0," "))) -> 0
B40: Promedio Sección 5.2.1 | D40: =AVERAGE(D34:D39) -> 0
A41: 5.2.2 Comunicación de la Política | B41: La política del SGIA está disponible y se mantiene como información documentada. | C41: Pendiente | D41: =IF(C41="Listo",100,IF(C41="En proceso",50,IF(C41="Pendiente",0," "))) -> 0
B42: La política se comunica, se entiende y se aplica a todos los niveles dentro de la organización. | C42: Pendiente | D42: =IF(C42="Listo",100,IF(C42="En proceso",50,IF(C42="Pendiente",0," "))) -> 0
...

Sheet Análisis
B3: ANÁLISIS DE BRECHA
B4: Capítulo de la norma ISO 22000 | C4: Puntaje
B5: 4. Contexto de la organización | C5: ='Brecha 22000'!D21 -> 0
B6: 5. Liderazgo | C6: ='Brecha 22000'!D52 -> 0
B7: 6. Planificación | C7: ='Brecha 22000'!D88 -> 0
B8: 7. Apoyo | C8: ='Brecha 22000'!D180 -> 0
B9: 8. Operación | C9: ='Brecha 22000'!D417 -> 0
B10: 9. Evaluación del desempeño | C10: ='Brecha 22000'!D469 -> 0
B11: 10. Mejora | C11: ='Brecha 22000'!D486 -> 0
B12: % DE AVANCE | C12: =AVERAGE(C5:C11) -> 0
