Workbook

Sheet Brecha 22000
A1: LINEAMIENTOS ORIENTADORES Y FACILITADORES DE LA IMPLEMENTACIÓN INTEGRAL DE UN SISTEMA DE GESTIÓN DE LA INOCUIDAD DE LOS ALIMENTOS (SGIA) BASADO EN LA NORMA ISO 22000:2018
A3: Sección | B3: Requisito | C3: Estado | D3: Puntaje | E3: Evidencia / Observación
A5: 4.Contexto de la organización | I5: Listo
A6: 4.1 Comprensión de la organización y su contexto. | B6: La organización determina las cuestiones externas e internas que son pertinentes para su propósito y que afectan a su capacidad para lograr los resultados previstos de su SGIA. | C6: Pendiente | D6: =IF(C6="Listo",100,IF(C6="En proceso",50,IF(C6="Pendiente",0," "))) -> 0 | I6: En proceso
B7: La organización identifica, revisa y actualiza la información relacionada con esas cuestiones internas y externas. | C7: Pendiente | D7: =IF(C7="Listo",100,IF(C7="En proceso",50,IF(C7="Pendiente",0," "))) -> 0 | I7: Pendiente
B8: Promedio Sección 4.1 | D8: =AVERAGE(D6:D7) -> 0
A9: 4.2 Comprensión de las necesidades y expectativas de las partes interesadas. | B9: La organización determina las partes interesadas que son pertinentes al SGIA. | C9: Pendiente | D9: =IF(C9="Listo",100,IF(C9="En proceso",50,IF(C9="Pendiente",0," "))) -> 0 | I9: No aplica
B10: La organización determina los requisitos pertinentes de estas partes interesadas para el SGIA. | C10: Pendiente | D10: =IF(C10="Listo",100,IF(C10="En proceso",50,IF(C10="Pendiente",0," "))) -> 0
B11: La organización identifica, revisa y actualiza la información relacionada a estas partes interesadas y sus requisitos. | C11: Pendiente | D11: =IF(C11="Listo",100,IF(C11="En proceso",50,IF(C11="Pendiente",0," "))) -> 0
B12: Promedio Sección 4.2 | D12: =AVERAGE(D9:D11) -> 0
A13: 4.3 Determinación del alcance del sistema de gestión de inocuidad de los alimentos | B13: La organización determina los límites y la aplicabilidad del SGIA para establecer su alcance. | C13: Pendiente | D13: =IF(C13="Listo",100,IF(C13="En proceso",50,IF(C13="Pendiente",0," "))) -> 0
B14: El alcance especifica los productos y servicios, procesos y sitios de producción que se incluyen en el SGIA. | C14: Pendiente | D14: =IF(C14="Listo",100,IF(C14="En proceso",50,IF(C14="Pendiente",0," "))) -> 0
B15: El alcance incluye las actividades, procesos, productos o servicios que pueden influir en la inocuidad de los alimentos de sus productos terminados. | C15: Pendiente | D15: =IF(C15="Listo",100,IF(C15="En proceso",50,IF(C15="Pendiente",0," "))) -> 0
B16: Cuando se determina este alcance, la organización considera: a) las cuestiones externas e internas indicadas en el apartado 4.1 b) los requisitos indicados en el apartado 4.2. | C16: Pendiente | D16: =IF(C16="Listo",100,IF(C16="En proceso",50,IF(C16="Pendiente",0," "))) -> 0
B17: El alcance esta disponible y se mantiene como información documentada. | C17: Pendiente | D17: =IF(C17="Listo",100,IF(C17="En proceso",50,IF(C17="Pendiente",0," "))) -> 0
B18: Promedio Sección 4.3 | D18: =AVERAGE(D13:D17) -> 0
A19: 4.4 Sistema de gestión de inocuidad de los alimentos | B19: La organización establece, implementa, mantiene, actualiza y mejora continuamente el SGIA, incluyendo los procesos necesarios y sus interacciones, de acuerdo con los requisitos de esta norma. | C19: Pendiente | D19: =IF(C19="Listo",100,IF(C19="En proceso",50,IF(C19="Pendiente",0," "))) -> 0
B20: Promedio Sección 4.4 | D20: =AVERAGE(D19:D19) -> 0
A21: Promedio Total Capítulo 4. Contexto de la Organización | D21: =AVERAGE(D8,D12,D18,D20) -> 0
A22: 5. Liderazgo
A23: 5.1 Liderazgo y compromiso. | B23: La alta dirección se asegura que la política de inocuidad de los alimentos y los objetivos del SGIA están establecidos y que éstos son compatibles con la dirección estratégica de la organización. | C23: Pendiente | D23: =IF(C23="Listo",100,IF(C23="En proceso",50,IF(C23="Pendiente",0," "))) -> 0
B24: La alta dirección se asegura la integración de los requisitos del SGIA en los procesos de negocio de la organización. | C24: Pendiente | D24: =IF(C24="Listo",100,IF(C24="En proceso",50,IF(C24="Pendiente",0," "))) -> 0
B25: La alta dirección se asegura que estén disponibles los recursos necesarios para el SGIA. | C25: Pendiente | D25: =IF(C25="Listo",100,IF(C25="En proceso",50,IF(C25="Pendiente",0," "))) -> 0
B26: La alta dirección comunica la importancia de una gestión eficaz de la inocuidad de los alimentos y cumple con los requisitos del SGIA, los requisitos legales y reglamentarios aplicables, y los requisitos relacionados con la inocuidad de los alimentos acordados mutuamente con los clientes. | C26: Pendiente | D26: =IF(C26="Listo",100,IF(C26="En proceso",50,IF(C26="Pendiente",0," "))) -> 0
B27: La alta dirección se asegura que el SGIA se evalúa y mantiene para lograr sus resultados previstos. | C27: Pendiente | D27: =IF(C27="Listo",100,IF(C27="En proceso",50,IF(C27="Pendiente",0," "))) -> 0
B28: La alta dirección dirige y apoya a las personas para que contribuyan con la eficacia del SGIA. | C28: Pendiente | D28: =IF(C28="Listo",100,IF(C28="En proceso",50,IF(C28="Pendiente",0," "))) -> 0
B29: La alta dirección promueve la mejora continua. | C29: Pendiente | D29: =IF(C29="Listo",100,IF(C29="En proceso",50,IF(C29="Pendiente",0," "))) -> 0
B30: La alta dirección apoya en otros roles pertinentes a la dirección, para demostrar su liderazgo en lo que respecta a sus áreas de responsabilidad. | C30: Pendiente | D30: =IF(C30="Listo",100,IF(C30="En proceso",50,IF(C30="Pendiente",0," "))) -> 0
B31: Promedio Sección 5.1 | D31: =AVERAGE(D23:D30) -> 0
A32: 5.2 Política
B33: Promedio Sección 5.2 | D33: =+AVERAGE(D40,D44) -> 0
A34: 5.2.1 Establecimiento de la política de la inocuidad de los alimentos | B34: La alta dirección establece, implementa y mantiene una política de la inocuidad de los alimentos que sea apropiada al propósito y contexto de la organización. | C34: Pendiente | D34: =IF(C34="Listo",100,IF(C34="En proceso",50,IF(C34="Pendiente",0," "))) -> 0
B35: La política ambiental proporciona un marco de referencia para establecer y revisar los objetivos del SGIA | C35: Pendiente | D35: =IF(C35="Listo",100,IF(C35="En proceso",50,IF(C35="Pendiente",0," "))) -> 0
B36: La política incluye el compromiso de cumplir con los requisitos de inocuidad de los alimentos aplicables, incluidos los requisitos legales y reglamentarios y los requisitos mutuamente acordados con los clientes relacionados con la inocuidad de los alimentos. | C36: Pendiente | D36: =IF(C36="Listo",100,IF(C36="En proceso",50,IF(C36="Pendiente",0," "))) -> 0
B37: La política aborda la comunicación interna y externa. | C37: Pendiente | D37: =IF(C37="Listo",100,IF(C37="En proceso",50,IF(C37="Pendiente",0," "))) -> 0
B38: Incluye un compromiso con la mejora continua del SGIA. | C38: Pendiente | D38: =IF(C38="Listo",100,IF(C38="En proceso",50,IF(C38="Pendiente",0," "))) -> 0
B39: La política aborda la necesidad de asegurar las competencias relacionadas con la inocuidad de los alimentos. | C39: Pendiente | D39: =IF(C39="Listo",100,IF(C39="En proceso",50,IF(C39="Pendiente",0," "))) -> 0
B40: Promedio Sección 5.2.1 | D40: =AVERAGE(D34:D39) -> 0
A41: 5.2.2 Comunicación de la Política | B41: La política del SGIA está disponible y se mantiene como información documentada. | C41: Pendiente | D41: =IF(C41="Listo",100,IF(C41="En proceso",50,IF(C41="Pendiente",0," "))) -> 0
B42: La política se comunica, se entiende y se aplica a todos los niveles dentro de la organización. | C42: Pendiente | D42: =IF(C42="Listo",100,IF(C42="En proceso",50,IF(C42="Pendiente",0," "))) -> 0
B43: La política está disponible para las partes interesadas pertinentes, según sea apropiado. | C43: Pendiente | D43: =IF(C43="Listo",100,IF(C43="En proceso",50,IF(C43="Pendiente",0," "))) -> 0
B44: Promedio Sección 5.2.2 | D44: =AVERAGE(D41:D43) -> 0
A45: 5.3 Roles, responsabilidades y autoridades en la organización.
B46: Promedio Sección 5.3 | D46: =+AVERAGE(D49,D50,D51) -> 0
A47: 5.3.1 | B47: La alta dirección se asegura de que las responsabilidades y autoridades para los roles pertinentes se asignen, comuniquen y se entiendan dentro de la organización. | C47: Pendiente | D47: =IF(C47="Listo",100,IF(C47="En proceso",50,IF(C47="Pendiente",0," "))) -> 0
B48: La alta dirección asigna la responsabilidad y autoridad para: a) asegurar que el SGIA es conforme con los requisitos de este documento; b) informar a la alta dirección sobre el desempeño del SGIA; c) designar al equipo de inocuidad de los alimentos y al líder del equipo de inocuidad de los alimentos; d) designar personas con responsabilidad y autoridad definidas para iniciar y documentar acciones. | C48: Pendiente | D48: =IF(C48="Listo",100,IF(C48="En proceso",50,IF(C48="Pendiente",0," "))) -> 0
B49: Promedio Sección 5.3.1 | D49: =AVERAGE(D47:D48) -> 0
A50: 5.3.2 | B50: El líder del equipo de inocuidad de los alimentos es responsable de: a) asegurar que se establece, implementa, mantiene y actualiza el SGIA; b) gestionar y organizar el trabajo del equipo de inocuidad de los alimentos; c) asegurar la formación y las competencias pertinentes para el equipo de inocuidad de los alimentos (véase 7.2): d) informar a la alta dirección sobre la eficacia y pertinencia del SGIA. | C50: Pendiente | D50: =IF(C50="Listo",100,IF(C50="En proceso",50,IF(C50="Pendiente",0," "))) -> 0
A51: 5.3.3 | B51: Todas las personas tienen la responsabilidad de informar los problemas con respecto al SGIA a las personas identificadas. | C51: Pendiente | D51: =IF(C51="Listo",100,IF(C51="En proceso",50,IF(C51="Pendiente",0," "))) -> 0
A52: Promedio Total Capítulo 5. Liderazgo | D52: =AVERAGE(D31,D33,D46) -> 0
A53: 6. Planificación
A54: 6.1 Acciones para abordar riesgos y oportunidades.
B55: Promedio Sección 6.1 | D55: =AVERAGE(D56,D60,D64) -> 0
A56: 6.1.1 | B56: Al planificar el SGIA, la organización considera las cuestiones referidas en el apartado 4.1 y los requisitos referidos en los apartados 4.2 y 4.3 y determinar los riesgos y oportunidades, que es necesario abordar con el fin de: a) asegurar que el SGIA pueda lograr sus resultados previstos; b) aumentar los efectos deseables; c) prevenir o reducir efectos no deseados; d) lograr la mejora continua. | C56: Pendiente | D56: =IF(C56="Listo",100,IF(C56="En proceso",50,IF(C56="Pendiente",0," "))) -> 0
A57: 6.1.2 | B57: La organización planifica las acciones para abordar estos riesgos y oportunidades. | C57: Pendiente | D57: =IF(C57="Listo",100,IF(C57="En proceso",50,IF(C57="Pendiente",0," "))) -> 0
B58: La organización planifica la manera de integrar e implementar las acciones en sus procesos del SGIA. | C58: Pendiente | D58: =IF(C58="Listo",100,IF(C58="En proceso",50,IF(C58="Pendiente",0," "))) -> 0
B59: La organización planifica la manera de evaluar la eficacia de estas acciones. | C59: Pendiente | D59: =IF(C59="Listo",100,IF(C59="En proceso",50,IF(C59="Pendiente",0," "))) -> 0
B60: Promedio Sección 6.1.2 | D60: =AVERAGE(D57:D59) -> 0
A61: 6.1.3 | B61: Las acciones tomadas por la organización para abordar los riesgos y oportunidades son proporcionales al impacto en los requisitos de inocuidad de los alimentos. | C61: Pendiente | D61: =IF(C61="Listo",100,IF(C61="En proceso",50,IF(C61="Pendiente",0," "))) -> 0
B62: Las acciones tomadas por la organización para abordar los riesgos y oportunidades son proporcionales a la conformidad de los productos alimentarios y servicios para los clientes. | C62: Pendiente | D62: =IF(C62="Listo",100,IF(C62="En proceso",50,IF(C62="Pendiente",0," "))) -> 0
B63: Las acciones tomadas por la organización para abordar los riesgos y oportunidades son proporcionales a los requisitos de las partes interesadas en la cadena alimentaria. | C63: Pendiente | D63: =IF(C63="Listo",100,IF(C63="En proceso",50,IF(C63="Pendiente",0," "))) -> 0
B64: Promedio Sección 6.1.3 | D64: =AVERAGE(D61:D63) -> 0
A65: 6.2 Objetivos del SGIA y su planificación para lograrlos.
B66: Promedio Sección 6.2 | D66: =AVERAGE(D75,D81) -> 0
A67: 6.2.1 | B67: La organización establece objetivos para el SGIA para las funciones y niveles pertinentes. | C67: Pendiente | D67: =IF(C67="Listo",100,IF(C67="En proceso",50,IF(C67="Pendiente",0," "))) -> 0
B68: Los objetivos del SGIA son coherentes con la política de inocuidad de los alimentos. | C68: Pendiente | D68: =IF(C68="Listo",100,IF(C68="En proceso",50,IF(C68="Pendiente",0," "))) -> 0
B69: Los objetivos son medibles. | C69: Pendiente | D69: =IF(C69="Listo",100,IF(C69="En proceso",50,IF(C69="Pendiente",0," "))) -> 0
B70: Los objetivos tienen en cuenta los requisitos aplicables de la inocuidad de los alimentos, incluyendo los requisitos legales, reglamentarios y de los clientes. | C70: Pendiente | D70: =IF(C70="Listo",100,IF(C70="En proceso",50,IF(C70="Pendiente",0," "))) -> 0
B71: Los objetivos son objeto de seguimiento y verificación. | C71: Pendiente | D71: =IF(C71="Listo",100,IF(C71="En proceso",50,IF(C71="Pendiente",0," "))) -> 0
B72: Los objetivos son comunicados. | C72: Pendiente | D72: =IF(C72="Listo",100,IF(C72="En proceso",50,IF(C72="Pendiente",0," "))) -> 0
B73: Los objetivos son mantenidos y actualizados según sea apropiado. | C73: Pendiente
B74: La organización conserva la información documentada sobre los objetivos para el SGIA. | C74: Pendiente | D74: =IF(C74="Listo",100,IF(C74="En proceso",50,IF(C74="Pendiente",0," "))) -> 0
B75: Promedio Sección 6.2.1 | D75: =AVERAGE(D67:D74) -> 0
A76: 6.2.3 | B76: Al planificar cómo lograr los objetivos ambientales, la organización determina qué se va a hacer. | C76: Pendiente | D76: =IF(C76="Listo",100,IF(C76="En proceso",50,IF(C76="Pendiente",0," "))) -> 0
B77: Determina qué recursos se requerirán. | C77: Pendiente | D77: =IF(C77="Listo",100,IF(C77="En proceso",50,IF(C77="Pendiente",0," "))) -> 0
B78: Determina quién será responsable. | C78: Pendiente | D78: =IF(C78="Listo",100,IF(C78="En proceso",50,IF(C78="Pendiente",0," "))) -> 0
B79: Determina cuándo se finalizará. | C79: Pendiente | D79: =IF(C79="Listo",100,IF(C79="En proceso",50,IF(C79="Pendiente",0," "))) -> 0
B80: Determina cómo se evaluarán los resultados. | C80: Pendiente | D80: =IF(C80="Listo",100,IF(C80="En proceso",50,IF(C80="Pendiente",0," "))) -> 0
B81: Promedio Sección 6.2.2 | D81: =AVERAGE(D76:D80) -> 0
A82: 6.3 Planificación de los cambios | B82: Cuando la organización determina la necesidad de cambios en el SGIA, incluidos los cambios de personal, estos cambios se llevan a cabo y se comunican de manera planificada. | C82: Pendiente | D82: =IF(C82="Listo",100,IF(C82="En proceso",50,IF(C82="Pendiente",0," "))) -> 0
B83: La organización considera el propósito de los cambios y sus consecuencias potenciales. | C83: Pendiente | D83: =IF(C83="Listo",100,IF(C83="En proceso",50,IF(C83="Pendiente",0," "))) -> 0
B84: La organización considera la continua integridad del SGIA. | C84: Pendiente | D84: =IF(C84="Listo",100,IF(C84="En proceso",50,IF(C84="Pendiente",0," "))) -> 0
B85: La organización considera la disponibilidad de recursos para implementar eficazmente los cambios. | C85: Pendiente | D85: =IF(C85="Listo",100,IF(C85="En proceso",50,IF(C85="Pendiente",0," "))) -> 0
B86: La organización considera la asignación o reasignación de responsabilidades y autoridades. | C86: Pendiente | D86: =IF(C86="Listo",100,IF(C86="En proceso",50,IF(C86="Pendiente",0," "))) -> 0
B87: Promedio Sección 6.3 | D87: =AVERAGE(D82:D86) -> 0
A88: Promedio Total Capítulo 6.Planificación | D88: =AVERAGE(D55,D66,D87) -> 0
A89: 7.Apoyo
A90: 7.1 Recursos
B91: Promedio Sección 7.1 | D91: =+AVERAGE(D95,D98,D100,D102,D108,D113) -> 0
A92: 7.1.1 Generalidades | B92: La organización determina y proporciona los recursos necesarios para el abastecimiento , implementación, mantenimiento y mejora continua del SGIA. | C92: Pendiente | D92: =IF(C92="Listo",100,IF(C92="En proceso",50,IF(C92="Pendiente",0," "))) -> 0
B93: La organización considera la capacidad de, y toda limitación sobre, los recursos internos existentes. | C93: Pendiente | D93: =IF(C93="Listo",100,IF(C93="En proceso",50,IF(C93="Pendiente",0," "))) -> 0
B94: La organización considera la necesidad de recursos externos. | C94: Pendiente | D94: =IF(C94="Listo",100,IF(C94="En proceso",50,IF(C94="Pendiente",0," "))) -> 0
B95: Promedio Sección 7.1.1 | D95: =AVERAGE(D92:D94) -> 0
A96: 7.1.2 Personas | B96: La organización asegura que las personas necesarias para operar y mantener un SGIA eficaz, sean competentes (véase 7.2). | C96: Pendiente | D96: =IF(C96="Listo",100,IF(C96="En proceso",50,IF(C96="Pendiente",0," "))) -> 0
B97: Cuando se utiliza la asistencia de expertos externos para el desarrollo, implementación, operación o evaluación del SGIA, se conserva como información documentada la evidencia de acuerdos o contratos que definen la competencia, responsabilidad y autoridad de dichos expertos externos. | C97: Pendiente | D97: =IF(C97="Listo",100,IF(C97="En proceso",50,IF(C97="Pendiente",0," "))) -> 0
B98: Promedio Sección 7.1.2 | D98: =AVERAGE(D96:D97) -> 0
A99: 7.1.3 Infraestructura | B99: La organización proporciona los recursos para la determinación, establecimiento y mantenimiento de la infraestructura necesaria para lograr la conformidad con los requisitos del SGIA. | C99: Pendiente | D99: =IF(C99="Listo",100,IF(C99="En proceso",50,IF(C99="Pendiente",0," "))) -> 0
B100: Promedio Sección 7.1.3 | D100: =AVERAGE(D99:D99) -> 0
A101: 7.1.4 Ambiente de trabajo | B101: La organización determina, proporciona y mantiene los recursos para el establecimiento, la gestión y el mantenimiento del ambiente de trabajo necesario para lograr la conformidad con los requisitos del SGIA. | C101: Pendiente | D101: =IF(C101="Listo",100,IF(C101="En proceso",50,IF(C101="Pendiente",0," "))) -> 0
B102: Promedio Sección 7.1.4 | D102: =AVERAGE(D101:D101) -> 0
...

Sheet Análisis
B3: ANÁLISIS DE BRECHA
B4: Capítulo de la norma ISO 22000 | C4: Puntaje
B5: 4. Contexto de la organización | C5: ='Brecha 22000'!D21 -> 0
B6: 5. Liderazgo | C6: ='Brecha 22000'!D52 -> 0
B7: 6. Planificación | C7: ='Brecha 22000'!D88 -> 0
B8: 7. Apoyo | C8: ='Brecha 22000'!D180 -> 0
B9: 8. Operación | C9: ='Brecha 22000'!D417 -> 0
B10: 9. Evaluación del desempeño | C10: ='Brecha 22000'!D469 -> 0
B11: 10. Mejora | C11: ='Brecha 22000'!D486 -> 0
B12: % DE AVANCE | C12: =AVERAGE(C5:C11) -> 0
