Workbook

Sheet Análisis de Brecha
A1: ANÁLISIS DE BRECHA PARA EVALUAR LA IMPLEMENTACIÓN DE LOS SISTEMAS DE GESTIÓN ENERGÉTICA EN LAS EMPRESAS BASADO EN LA NORMA ISO 50001:2018
A2: Para evaluar la empresa se selecciona en la columna de calificación el número que mejor representa la situación de la misma de acuerdo con la siguiente escala :
A3: No se ha implementado | B3: 0
A4: Parcialmente implementado | B4: 50
A5: Satisfactoriamente implementado | B5: 100
A7: REQUISITO | B7: Análisis de Brecha inicial
B8: FECHA:
B9: Calificación | C9: Descripción
A10: 4 CONTEXTO DE LA ORGANIZACIÓN
A11: 4.1 Comprensión de la organización y su contexto
A12: La organización debe determinar las cuestiones externas e internas que son pertinentes para su propósito, y que afectan su capacidad de lograr los resultados previstos de su SGEn y mejorar su desempeño energético. | B12: 0
A13: 4.2 Comprensión de las necesidades y las expectativas de las partes interesadas
A14: La organización debe determinar: a) las partes interesadas que son pertinentes para el desempeño energético y el SGEn; b) los requisitos pertinentes de esas partes interesadas; c) cuáles de las necesidades y expectativas identificadas aborda la organización mediante su SGEn. La organización debe: — asegurar que tiene acceso a los requisitos legales aplicables y a otros requisitos relacionados con su eficiencia energética, uso de la energía y consumo de energía; — determinar cómo estos requisitos se aplican a su eficiencia energética, a su uso de la energía y a su consumo de energía; — asegurar que estos requisitos son tomados en cuenta; — revisar a intervalos definidos sus requisitos legales y otros requisitos. | B14: 0
A15: 4.3 Determinación del alcance del sistema de gestión de la energía
A16: La organización debe determinar los límites y la aplicabilidad del SGEn para establecer su alcance. Al determinar el alcance del SGEn, la organización debe considerar: a) las cuestiones externas e internas a las que se hace referencia en el apartado 4.1; b) los requisitos a los que se hace referencia en el apartado 4.2. La organización debe asegurar que tiene la autoridad de controlar su eficiencia energética, el uso de la energía y el consumo de energía dentro del alcance y los límites. La organización no debe excluir ningún tipo de energía que esté dentro del alcance y de los límites. El alcance y los límites del SGEn se deben mantener como información documentada | B16: 0
A17: 4.4 Sistema de gestión de la energía
A18: La organización debe establecer, implementar, mantener y mejorar continuamente un SGEn, incluyendo los procesos necesarios y sus interacciones, y mejorar continuamente el desempeño energético, de acuerdo con los requisitos de este documento. | B18: 0
A19: Promedio 4 Contexto de la Organización | B19: =AVERAGE(B12,B14,B16,B18) -> 0
A20: 5 LIDERAZGO
A21: 5.1 Liderazgo y compromiso
A22: La alta dirección debe demostrar liderazgo y compromiso con respecto a la mejora continua de su desempeño energético y la eficacia de su SGEn: a) asegurando que se han establecido el alcance y los límites del SGEn; b) asegurando que se han establecido la política energética (véase 5.2), los objetivos, las metas energéticas (véase 6.2), y que son compatibles con la dirección estratégica de la organización; c) asegurando la integración de los requisitos del SGEn en los procesos del negocio de la organización; d) asegurando que los planes de acción están aprobados e implementados; e) asegurando que están disponibles los recursos necesarios para el SGEn; f) comunicando la importancia de la gestión de la energía eficaz y en conformidad con los requisitos del SGEn; g) asegurando que el SGEn logra los resultados previstos; h) promoviendo la mejora continua del desempeño energético y del SGEn; i) asegurando la conformación de un equipo de gestión de la energía; j) dirigiendo y apoyando a las personas para que contribuyan a la eficacia del SGEn y a la mejora del desempeño energético; k) apoyando a otros roles pertinentes para la gestión a demostrar su liderazgo, según se aplique a sus áreas de responsabilidad; l) asegurando que los IDEn representan apropiadamente el desempeño energético; m) asegurando que los procesos se establecen e implementan para identificar y abordar los cambios que afectan al SGEn y al desempeño energético dentro del alcance y los límites del SGEn. | B22: 0
A23: 5.2 Política Energética
A24: La alta dirección debe establecer una política energética que: a) sea apropiada a los propósitos de la organización; b) proporcione el marco para establecer y revisar los objetivos y las metas energéticas (véase 6.2); c) incluya el compromiso de asegurar la disponibilidad de la información y de los recursos necesarios para lograr los objetivos y las metas energéticas; d) incluya el compromiso de satisfacer los requisitos legales aplicables y otros requisitos (véase 4.2) relacionados con la eficiencia energética, el uso de la energía y el consumo de energía; e) incluya el compromiso de la mejora continua (véase 10.2) del desempeño energético y del SGEn; f) apoye la adquisición (véase 8.3) de productos y servicios de eficiencia energética que impactan en el desempeño energético; g) apoye las actividades de diseño (véase 8.2) que consideren la mejora del desempeño energético. La política energética debe: — estar disponible como información documentada (véase 7.5); — ser comunicada dentro de la organización; — estar disponible para las partes interesadas, cuando sea apropiado; — ser periódicamente revisada y actualizada cuando sea necesario. | B24: 0
A25: 5.3 Roles, responsabilidades y autoridades en la organización
A26: La alta dirección debe asegurar que las responsabilidades y las autoridades para los roles pertinentes son asignados y comunicados dentro de la organización. La alta dirección debe asignar la responsabilidad y la autoridad al equipo de gestión de la energía para: a) asegurar que el SGEn se establezca, implemente, mantenga y mejoren continuamente; b) asegurar que el SGEn cumple con los requisitos de este documento; c) implementar planes de acción (véase 6.2) para la mejora continua del desempeño energético; d) informar sobre el desempeño del SGEn y la mejora del desempeño energético a la alta dirección, a intervalos determinados; e) establecer los criterios y métodos necesarios para asegurar que la operación y el control del SGEn sean eficaz. | B26: 0
A27: Promedio 5 Liderazgo | B27: =AVERAGE(B22,B24,B26) -> 0
A28: 6 PLANIFICACIÓN
A29: 6.1 Acciones para abordar los riesgos y las oportunidades
A30: 6.1.1 Al planificar para el SGEn, la organización debe considerar las cuestiones a las que se hacen referencia en el apartado 4.1, los requisitos mencionados en el apartado 4.2, revisar las actividades de la organización y los procesos que puedan afectar el desempeño energético. La planificación debe ser consistente con la política energética, y debe conducir a las acciones que dan como resultado la mejora continua en el desempeño energético. La organización debe determinar los riesgos y las oportunidades que es necesario abordar con el fin de: — garantizar que el SGEn puede alcanzar los resultados previstos, incluyendo la mejora del desempeño energético; — prevenir o reducir los efectos no deseados; — lograr la mejora continua del SGEn y del desempeño energético. | B30: 0
A31: 6.1.2 La organización debe planificar: a) las acciones para abordar estos riesgos y oportunidades; b) la manera de: 1) integrar e implementar las acciones en su SGEn y en sus procesos de desempeño energético; 2) evaluar la eficacia de estas acciones. | B31: 0
A32: 6.2 Objetivos, metas energéticas y la planificación para lograrlos
A33: 6.2.1 La organización debe establecer objetivos en las funciones y los niveles pertinentes. La organización debe establecer metas energéticas. | B33: 0
A34: 6.2.2 Los objetivos y las metas energéticas deben: a) ser consistentes con la política energética (véase 5.2); b) ser medibles (si es factible); c) tomar en cuenta los requisitos aplicables; d) considerar los USE (véase 6.3); e) tomar en cuenta las oportunidades (véase 6.3) para mejorar el desempeño energético; f) ser objeto de seguimiento; g) ser comunicados; h) ser actualizados según sea apropiado. La organización debe conservar la información documentada (véase 7.5) sobre los objetivos y las metas energéticas. | B34: 0
A35: 6.2.3 Al planificar cómo alcanzar sus objetivos y sus metas energéticas, la organización debe establecer y mantener planes de acción que incluyan: — qué se hará; — qué recursos serán necesarios; — quién será responsable; — cuándo se completará; — cómo se evaluarán los resultados, incluyendo los métodos utilizados para verificar las mejoras del desempeño energético (véase 9.1). La organización debe considerar cómo las acciones para alcanzar sus objetivos y las metas energéticas se pueden integrar a los procesos del negocio de la organización. La organización debe conservar la información documentada de los planes de acción. | B35: 0
A36: 6.3 Revisión energética
A37: La organización debe desarrollar y llevar a cabo una revisión energética. Para desarrollar la revisión energética, la organización debe: a) analizar el uso y el consumo de energía con base en la medición y otros datos, es decir: 1) identificar los tipos de energía actuales (véase 3.5.1); 2) evaluar el uso y el consumo de energía en el pasado y en la actualidad; b) con base en el análisis, identificar los USE (véase 3.5.6); c) para cada USE: 1) determinar las variables relevantes; 2) determinar el desempeño energético actual; 3) identificar las personas que trabajan bajo su control que influyen o afectan a los USE; d) determinar y priorizar las oportunidades para mejorar el desempeño energético; e) estimar los usos y consumos de energía en el futuro. La revisión energética se debe actualizar a intervalos de tiempo definidos, y también como respuesta a los cambios importantes en la instalación, el equipo, los sistemas o los procesos que utilizan energía. La organización debe mantener los métodos y criterios utilizados para desarrollar la revisión energética como información documentada (véase 7.5), y debe conservar la información documentada de sus resultados. | B37: 0
A38: 6.4 Indicadores de desempeño energético
A39: La organización debe determinar los IDEn que: a) sean apropiados para la medición y el seguimiento de su desempeño energético, y; b) le permitan a la organización demostrar la mejora del desempeño energético. El método para determinar y actualizar los IDEn se debe mantener como información documentada (véase 7.5). Cuando la organización tenga datos que indiquen que las variables relevantes afectan en forma significativa el desempeño energético, la organización debe considerar dichos datos para establecer los IDEn apropiados. Los valores de los IDEn se deben revisar y comparar con sus respectivas LBEn, según sea apropiado. La organización debe conservar la información documentada (véase 7.5) de los valores de los IDEn. | B39: 0
A40: 6.5 Línea de base energética
A41: La organización debe establecer una o varias LBEn utilizando la información de la revisión energética (véase 6.3), tomando en cuenta un período adecuado de tiempo. Cuando la organización tenga datos que indiquen que las variables relevantes afectan en forma significativa el desempeño energético, la organización debe realizar la normalización de los valores de los IDEn y las correspondientes LBEn. Nota: Dependiendo de la naturaleza de las actividades, la normalización puede ser un simple ajuste, o un procedimiento más complejo. Las LBEn se deben revisar en caso de uno o más de los siguientes: a) los IDEn ya no reflejan el desempeño energético de la organización; b) hayan existido cambios importantes en los factores estáticos; c) de acuerdo con un método predeterminado. La organización debe conservar la información de las LBEn, los datos de las variables relevantes y las modificaciones a las LBEn como información documentada (véase 7.5). | B41: 0
...

Sheet Gráficos
A2: Cláusula ISO 50001 | B2: Análisis de brecha inicial
A3: ='Análisis de Brecha'!A10:C10 -> 4 CONTEXTO DE LA ORGANIZACIÓN | B3: ='Análisis de Brecha'!B19 -> 0
A4: ='Análisis de Brecha'!A20:C20 -> 5 LIDERAZGO | B4: ='Análisis de Brecha'!B27 -> 0
A5: ='Análisis de Brecha'!A28:C28 -> 6 PLANIFICACIÓN | B5: ='Análisis de Brecha'!B44 -> 0
A6: ='Análisis de Brecha'!A45:C45 -> 7 APOYO | B6: ='Análisis de Brecha'!B58 -> 0
A7: ='Análisis de Brecha'!A59:C59 -> 8 OPERACIÓN | B7: ='Análisis de Brecha'!B66 -> 0
A8: ='Análisis de Brecha'!A67:C67 -> 9 EVALUACIÓN DEL DESEMPEÑO | B8: ='Análisis de Brecha'!B79 -> 0
A9: ='Análisis de Brecha'!A80:C80 -> 10 MEJORA | B9: ='Análisis de Brecha'!B85 -> 0
A10: Promedio General | B10: =AVERAGE(B3:B9) -> 0
A23: Apartado | B23: Análisis de brecha inicial
A24: 4.1 | B24: ='Análisis de Brecha'!B12 -> 0
A25: 4.2 | B25: ='Análisis de Brecha'!B14 -> 0
A26: 4.3 | B26: ='Análisis de Brecha'!B16 -> 0
A27: 4.4 | B27: ='Análisis de Brecha'!B18 -> 0
A28: 5.1 | B28: ='Análisis de Brecha'!B22 -> 0
A29: 5.2 | B29: ='Análisis de Brecha'!B24 -> 0
A30: 5.3 | B30: ='Análisis de Brecha'!B26 -> 0
A31: 6.1 | B31: =AVERAGE('Análisis de Brecha'!B30,'Análisis de Brecha'!B31) -> 0
A32: 6.2 | B32: =AVERAGE('Análisis de Brecha'!B33,'Análisis de Brecha'!B34,'Análisis de Brecha'!B35) -> 0
A33: 6.3 | B33: ='Análisis de Brecha'!B37 -> 0
A34: 6.4 | B34: ='Análisis de Brecha'!B39 -> 0
A35: 6.5 | B35: ='Análisis de Brecha'!B41 -> 0
A36: 6.6 | B36: ='Análisis de Brecha'!B43 -> 0
A37: 7.1 | B37: ='Análisis de Brecha'!B47 -> 0
A38: 7.2 | B38: ='Análisis de Brecha'!B49 -> 0
A39: 7.3 | B39: ='Análisis de Brecha'!B51 -> 0
A40: 7.4 | B40: ='Análisis de Brecha'!B53 -> 0
A41: 7.5 | B41: =AVERAGE('Análisis de Brecha'!B55,'Análisis de Brecha'!B56,'Análisis de Brecha'!B57) -> 0
A42: 8.1 | B42: ='Análisis de Brecha'!B61 -> 0
A43: 8.2 | B43: ='Análisis de Brecha'!B63 -> 0
A44: 8.3 | B44: ='Análisis de Brecha'!B65 -> 0
A45: 9.1 | B45: =AVERAGE('Análisis de Brecha'!B69,'Análisis de Brecha'!B70) -> 0
A46: 9.2 | B46: =AVERAGE('Análisis de Brecha'!B72,'Análisis de Brecha'!B73) -> 0
A47: 9.3 | B47: =AVERAGE('Análisis de Brecha'!B75,'Análisis de Brecha'!B76,'Análisis de Brecha'!B77,'Análisis de Brecha'!B78) -> 0
A48: 10.1 | B48: ='Análisis de Brecha'!B82 -> 0
A49: 10.2 | B49: ='Análisis de Brecha'!B84 -> 0
