Workbook

Sheet Análisis de Brecha
A1: ANÁLISIS DE BRECHA PARA EVALUAR LA IMPLEMENTACIÓN DE LOS SISTEMAS DE GESTIÓN ENERGÉTICA EN LAS EMPRESAS BASADO EN LA NORMA ISO 50001:2018
A2: Para evaluar la empresa se selecciona en la columna de calificación el número que mejor representa la situación de la misma de acuerdo con la siguiente escala :
A3: No se ha implementado | B3: 0
A4: Parcialmente implementado | B4: 50
A5: Satisfactoriamente implementado | B5: 100
A7: REQUISITO | B7: Análisis de Brecha inicial
B8: FECHA:
B9: Calificación | C9: Descripción
A10: 4 CONTEXTO DE LA ORGANIZACIÓN
A11: 4.1 Comprensión de la organización y su contexto
A12: La organización debe determinar las cuestiones externas e internas que son pertinentes para su propósito, y que afectan su capacidad de lograr los resultados previstos de su SGEn y mejorar su desempeño energético. | B12: 0
A13: 4.2 Comprensión de las necesidades y las expectativas de las partes interesadas
A14: La organización debe determinar: a) las partes interesadas que son pertinentes para el desempeño energético y el SGEn; b) los requisitos pertinentes de esas partes interesadas; c) cuáles de las necesidades y expectativas identificadas aborda la organización mediante su SGEn. La organización debe: — asegurar que tiene acceso a los requisitos legales aplicables y a otros requisitos relacionados con su eficiencia energética, uso de la energía y consumo de energía; — determinar cómo estos requisitos se aplican a su eficiencia energética, a su uso de la energía y a su consumo de energía; — asegurar que estos requisitos son tomados en cuenta; — revisar a intervalos definidos sus requisitos legales y otros requisitos. | B14: 0
A15: 4.3 Determinación del alcance del sistema de gestión de la energía
A16: La organización debe determinar los límites y la aplicabilidad del SGEn para establecer su alcance. Al determinar el alcance del SGEn, la organización debe considerar: a) las cuestiones externas e internas a las que se hace referencia en el apartado 4.1; b) los requisitos a los que se hace referencia en el apartado 4.2. La organización debe asegurar que tiene la autoridad de controlar su eficiencia energética, el uso de la energía y el consumo de energía dentro del alcance y los límites. La organización no debe excluir ningún tipo de energía que esté dentro del alcance y de los límites. El alcance y los límites del SGEn se deben mantener como información documentada | B16: 0
A17: 4.4 Sistema de gestión de la energía
A18: La organización debe establecer, implementar, mantener y mejorar continuamente un SGEn, incluyendo los procesos necesarios y sus interacciones, y mejorar continuamente el desempeño energético, de acuerdo con los requisitos de este documento. | B18: 0
A19: Promedio 4 Contexto de la Organización | B19: =AVERAGE(B12,B14,B16,B18) -> 0
A20: 5 LIDERAZGO
A21: 5.1 Liderazgo y compromiso
A22: La alta dirección debe demostrar liderazgo y compromiso con respecto a la mejora continua de su desempeño energético y la eficacia de su SGEn: a) asegurando que se han establecido el alcance y los límites del SGEn; b) asegurando que se han establecido la política energética (véase 5.2), los objetivos, las metas energéticas (véase 6.2), y que son compatibles con la dirección estratégica de la organización; c) asegurando la integración de los requisitos del SGEn en los procesos del negocio de la organización; d) asegurando que los planes de acción están aprobados e implementados; e) asegurando que están disponibles los recursos necesarios para el SGEn; f) comunicando la importancia de la gestión de la energía eficaz y en conformidad con los requisitos del SGEn; g) asegurando que el SGEn logra los resultados previstos; h) promoviendo la mejora continua del desempeño energético y del SGEn; i) asegurando la conformación de un equipo de gestión de la energía; j) dirigiendo y apoyando a las personas para que contribuyan a la eficacia del SGEn y a la mejora del desempeño energético; k) apoyando a otros roles pertinentes para la gestión a demostrar su liderazgo, según se aplique a sus áreas de responsabilidad; l) asegurando que los IDEn representan apropiadamente el desempeño energético; m) asegurando que los procesos se establecen e implementan para identificar y abordar los cambios que afectan al SGEn y al desempeño energético dentro del alcance y los límites del SGEn. | B22: 0
A23: 5.2 Política Energética
A24: La alta dirección debe establecer una política energética que: a) sea apropiada a los propósitos de la organización; b) proporcione el marco para establecer y revisar los objetivos y las metas energéticas (véase 6.2); c) incluya el compromiso de asegurar la disponibilidad de la información y de los recursos necesarios para lograr los objetivos y las metas energéticas; d) incluya el compromiso de satisfacer los requisitos legales aplicables y otros requisitos (véase 4.2) relacionados con la eficiencia energética, el uso de la energía y el consumo de energía; e) incluya el compromiso de la mejora continua (véase 10.2) del desempeño energético y del SGEn; f) apoye la adquisición (véase 8.3) de productos y servicios de eficiencia energética que impactan en el desempeño energético; g) apoye las actividades de diseño (véase 8.2) que consideren la mejora del desempeño energético. La política energética debe: — estar disponible como información documentada (véase 7.5); — ser comunicada dentro de la organización; — estar disponible para las partes interesadas, cuando sea apropiado; — ser periódicamente revisada y actualizada cuando sea necesario. | B24: 0
A25: 5.3 Roles, responsabilidades y autoridades en la organización
A26: La alta dirección debe asegurar que las responsabilidades y las autoridades para los roles pertinentes son asignados y comunicados dentro de la organización. La alta dirección debe asignar la responsabilidad y la autoridad al equipo de gestión de la energía para: a) asegurar que el SGEn se establezca, implemente, mantenga y mejoren continuamente; b) asegurar que el SGEn cumple con los requisitos de este documento; c) implementar planes de acción (véase 6.2) para la mejora continua del desempeño energético; d) informar sobre el desempeño del SGEn y la mejora del desempeño energético a la alta dirección, a intervalos determinados; e) establecer los criterios y métodos necesarios para asegurar que la operación y el control del SGEn sean eficaz. | B26: 0
A27: Promedio 5 Liderazgo | B27: =AVERAGE(B22,B24,B26) -> 0
A28: 6 PLANIFICACIÓN
A29: 6.1 Acciones para abordar los riesgos y las oportunidades
A30: 6.1.1 Al planificar para el SGEn, la organización debe considerar las cuestiones a las que se hacen referencia en el apartado 4.1, los requisitos mencionados en el apartado 4.2, revisar las actividades de la organización y los procesos que puedan afectar el desempeño energético. La planificación debe ser consistente con la política energética, y debe conducir a las acciones que dan como resultado la mejora continua en el desempeño energético. La organización debe determinar los riesgos y las oportunidades que es necesario abordar con el fin de: — garantizar que el SGEn puede alcanzar los resultados previstos, incluyendo la mejora del desempeño energético; — prevenir o reducir los efectos no deseados; — lograr la mejora continua del SGEn y del desempeño energético. | B30: 0
A31: 6.1.2 La organización debe planificar: a) las acciones para abordar estos riesgos y oportunidades; b) la manera de: 1) integrar e implementar las acciones en su SGEn y en sus procesos de desempeño energético; 2) evaluar la eficacia de estas acciones. | B31: 0
A32: 6.2 Objetivos, metas energéticas y la planificación para lograrlos
A33: 6.2.1 La organización debe establecer objetivos en las funciones y los niveles pertinentes. La organización debe establecer metas energéticas. | B33: 0
A34: 6.2.2 Los objetivos y las metas energéticas deben: a) ser consistentes con la política energética (véase 5.2); b) ser medibles (si es factible); c) tomar en cuenta los requisitos aplicables; d) considerar los USE (véase 6.3); e) tomar en cuenta las oportunidades (véase 6.3) para mejorar el desempeño energético; f) ser objeto de seguimiento; g) ser comunicados; h) ser actualizados según sea apropiado. La organización debe conservar la información documentada (véase 7.5) sobre los objetivos y las metas energéticas. | B34: 0
A35: 6.2.3 Al planificar cómo alcanzar sus objetivos y sus metas energéticas, la organización debe establecer y mantener planes de acción que incluyan: — qué se hará; — qué recursos serán necesarios; — quién será responsable; — cuándo se completará; — cómo se evaluarán los resultados, incluyendo los métodos utilizados para verificar las mejoras del desempeño energético (véase 9.1). La organización debe considerar cómo las acciones para alcanzar sus objetivos y las metas energéticas se pueden integrar a los procesos del negocio de la organización. La organización debe conservar la información documentada de los planes de acción. | B35: 0
A36: 6.3 Revisión energética
A37: La organización debe desarrollar y llevar a cabo una revisión energética. Para desarrollar la revisión energética, la organización debe: a) analizar el uso y el consumo de energía con base en la medición y otros datos, es decir: 1) identificar los tipos de energía actuales (véase 3.5.1); 2) evaluar el uso y el consumo de energía en el pasado y en la actualidad; b) con base en el análisis, identificar los USE (véase 3.5.6); c) para cada USE: 1) determinar las variables relevantes; 2) determinar el desempeño energético actual; 3) identificar las personas que trabajan bajo su control que influyen o afectan a los USE; d) determinar y priorizar las oportunidades para mejorar el desempeño energético; e) estimar los usos y consumos de energía en el futuro. La revisión energética se debe actualizar a intervalos de tiempo definidos, y también como respuesta a los cambios importantes en la instalación, el equipo, los sistemas o los procesos que utilizan energía. La organización debe mantener los métodos y criterios utilizados para desarrollar la revisión energética como información documentada (véase 7.5), y debe conservar la información documentada de sus resultados. | B37: 0
A38: 6.4 Indicadores de desempeño energético
A39: La organización debe determinar los IDEn que: a) sean apropiados para la medición y el seguimiento de su desempeño energético, y; b) le permitan a la organización demostrar la mejora del desempeño energético. El método para determinar y actualizar los IDEn se debe mantener como información documentada (véase 7.5). Cuando la organización tenga datos que indiquen que las variables relevantes afectan en forma significativa el desempeño energético, la organización debe considerar dichos datos para establecer los IDEn apropiados. Los valores de los IDEn se deben revisar y comparar con sus respectivas LBEn, según sea apropiado. La organización debe conservar la información documentada (véase 7.5) de los valores de los IDEn. | B39: 0
A40: 6.5 Línea de base energética
A41: La organización debe establecer una o varias LBEn utilizando la información de la revisión energética (véase 6.3), tomando en cuenta un período adecuado de tiempo. Cuando la organización tenga datos que indiquen que las variables relevantes afectan en forma significativa el desempeño energético, la organización debe realizar la normalización de los valores de los IDEn y las correspondientes LBEn. Nota: Dependiendo de la naturaleza de las actividades, la normalización puede ser un simple ajuste, o un procedimiento más complejo. Las LBEn se deben revisar en caso de uno o más de los siguientes: a) los IDEn ya no reflejan el desempeño energético de la organización; b) hayan existido cambios importantes en los factores estáticos; c) de acuerdo con un método predeterminado. La organización debe conservar la información de las LBEn, los datos de las variables relevantes y las modificaciones a las LBEn como información documentada (véase 7.5). | B41: 0
A42: 6.6 Planificación para la recopilación de datos de la energía
A43: La organización debe asegurar que las características principales de sus operaciones, que afectan el desempeño energético sean identificadas, medidas, ser objeto de seguimiento, y analizadas a intervalos planificados (véase 9.1). La organización debe definir e implementar un plan de recopilación de datos de la energía apropiado a sus dimensiones, complejidad, recursos, y a sus equipos de seguimiento y medición. El plan debe especificar los datos necesarios para el seguimiento de las características principales, y establecer cómo y con qué frecuencia se deben recopilar y conservar los datos. Los datos a recopilar (u obtener por mediciones, según aplique) y la información documentada a conservar (véase 7.5) deben incluir: a) las variables relevantes para los USE; b) el consumo de energía relacionado con los USE y con la organización; c) los criterios operacionales relacionados con los USE; d) los factores estáticos, si aplicara; e) los datos especificados en el plan de acción. La recopilación de datos de la energía se debe revisar y actualizar a intervalos definidos, si es aplicable. La organización debe asegurar que el equipo utilizado para la medición de las características más importantes proporcione datos que sean precisos y repetibles. La organización debe conservar la información documentada (véase 7.5) sobre las mediciones, seguimiento y otros medios para establecer la precisión y la repetición. | B43: 0
A44: Promedio 6 Planificación | B44: =AVERAGE(B27,B31,B33,B34,B35,B37,B39,B43) -> 0
A45: 7 APOYO
A46: 7.1 Recursos
A47: La organización debe determinar y proporcionar los recursos necesarios para establecer, implementar, mantener y mejorar continuamente el desempeño energético y el SGEn. | B47: 0
A48: 7.2 Competencia
A49: La organización debe: a) determinar la competencia necesaria de las personas que trabajen bajo su control, que afecten su desempeño energético y el SGEn; b) asegurar que dichas personas son competentes sobre la base de la formación apropiada, la capacitación, las habilidades o la experiencia; c) cuando sea aplicable, tomar acción para adquirir la competencia necesaria y evaluar la eficacia de las acciones adoptadas; d) conservar la información documentada apropiada (véase 7.5) como evidencia de la competencia. | B49: 0
A50: 7.3 Toma de conciencia
A51: Las personas que estén trabajando bajo el control de la organización deben tomar consciencia de: a) la política energética (véase 5.2); b) su contribución a la eficacia del SGEn, incluyendo el logro de los objetivos y las metas energéticas (véase 6.2), y los beneficios de mejorar el desempeño energético; c) el impacto de sus actividades o de su comportamiento con respecto al desempeño energético; d) las implicaciones de no cumplir con los requisitos del SGEn. | B51: 0
A52: 7.4 Comunicación
A53: La organización debe determinar las comunicaciones internas y externas que son pertinentes para el SGEn, incluyendo: a) qué comunicar; b) cuándo comunicar; c) a quién comunicar; d) cómo comunicar; e) quién comunica. Al establecer sus procesos de comunicación, la organización debe asegurar que la información comunicada es consistente con la información generada en el SGEn y que es confiable. La organización debe establecer e implementar un proceso mediante el cual cualquier persona que trabaje bajo el control de la organización pueda realizar comentarios o sugerencias para mejorar el SGEn o el desempeño energético. La organización debe considerar conservar la información documentada (véase 7.5) de las mejoras sugeridas. | B53: 0
A54: 7.5 Información documentada
A55: 7.5.1 Generalidades El SGEn de la organización debe incluir: a) la información documentada requerida por este documento; b) la información documentada que la organización determine como necesaria para la eficacia del SGEn y que demuestre la mejora del desempeño energético. — la dimensión de la organización y el tipo de sus actividades, procesos, productos y servicios; — la complejidad de los procesos y sus interacciones; — la competencia de las personas. | B55: 0
A56: 7.5.2 Crear y actualizar Al crear y actualizar la información documentada, la organización debe asegurar que los siguientes aspectos sean apropiados: a) la identificación y la descripción (por ejemplo, el título, la fecha, el autor o el número de referencia); b) el formato (por ejemplo, el lenguaje, la versión de software, los gráficos) y los medios (por ejemplo, papel, electrónico); c) la revisión y la aprobación para que sean idóneos y adecuados. | B56: 0
A57: 7.5.3 Control de la información documentada La información documentada requerida por el SGEn y por este documento se debe controlar para asegurar que: a) está disponible y es adecuada para su utilización, cuándo y dónde sea necesaria; b) está adecuadamente protegida (por ejemplo, de la pérdida de confidencialidad, del uso inapropiado, de la pérdida de integridad). Para el control de la información documentada, la organización debe abordar las siguientes actividades, según sea aplicable: — la distribución, acceso, recuperación y utilización; — el almacenamiento y la preservación, incluyendo la preservación de la legibilidad; — el control de los cambios (por ejemplo, el control de la versión); — la conservación y la disposición. La información documentada de origen externo que la organización determine como necesaria para la planificación y operación del SGEn, se deben identificar, según sea apropiado, y controlar. | B57: 0
A58: Promedio 7 Apoyo | B58: =AVERAGE(B47,B49,B51,B53,B55,B56,B57) -> 0
A59: 8 OPERACIÓN
A60: 8.1 Planificación y control operacional
A61: La organización debe planificar, implementar y controlar los procesos relacionados con sus USE (véase 6.3), necesarios para cumplir con sus requisitos e implementar las acciones determinadas en el apartado 6.2 mediante: a) el establecimiento de criterios para los procesos, incluyendo la operación y el mantenimiento eficaz de las instalaciones, el equipo, los sistemas, y los procesos que utilizan energía, en los cuales su ausencia puede conducir a un desvío significativo del desempeño energético previsto; b) la comunicación (véase 7.4) de los criterios a las personas pertinentes que trabajan bajo el control de la organización; c) la implementación del control de los procesos de acuerdo con los criterios, incluyendo la operación y el mantenimiento de las instalaciones, el equipo, los sistemas y procesos que utilizan energía, de acuerdo con los criterios establecidos; d) el mantenimiento de la información documentada (véase 7.5) en la medida necesaria para tener la confianza de que los procesos se han llevado a cabo según lo planificado. La organización debe controlar los cambios planificados y revisar las consecuencias de los cambios no previstos, tomando acción para mitigar cualquier efecto adverso, según sea necesario. La organización debe asegurar que los USE contratados externamente o que los procesos relacionados con sus USE (véase 6.3) están controlados | B61: 0
A62: 8.2 Diseño
A63: La organización debe considerar las oportunidades de mejora del desempeño energético y el control operacional en el diseño de instalaciones, equipo, sistemas y procesos que utilizan energía, que sean nuevos, modificados y renovados, que puedan tener impacto significativo en su desempeño energético durante el tiempo de vida planificado o esperado. Donde sea aplicable, los resultados de la consideración del desempeño energético se deben incorporar a las actividades de especificación, diseño y adquisición. La organización debe conservar la información documentada de las actividades de diseño relacionadas con el desempeño energético (véase 7.5). | B63: 0
A64: 8.3 Adquisición
A65: La organización debe establecer e implementar los criterios para la evaluación del desempeño energético durante el tiempo de vida operativo planificado o esperado al adquirir productos, equipos y servicios que utilizan energía, y que se espera que tengan impacto significativo en el desempeño energético de la organización. Al adquirir productos, equipos y servicios que utilizan energía, que tienen, o pueden tener, impacto en los USE, la organización debe informar a los proveedores que el desempeño energético es uno de los criterios de evaluación para la adquisición. Cuando sea aplicable, la organización debe definir y comunicar las especificaciones para: a) asegurar el desempeño energético del equipo y de los servicios adquiridos; b) la adquisición de energía. | B65: 0
A66: Promedio 8 Operación | B66: =AVERAGE(B61,B63,B65) -> 0
A67: 9 EVALUACIÓN DEL DESEMPEÑO
A68: 9.1 Seguimiento, medición, análisis y evaluación del desempeño energético y del SGEn
A69: 9.1.1 Generalidades La organización debe determinar para el desempeño energético y el SGEn: a) qué necesita tener seguimiento y ser medido, incluyendo, como mínimo, las siguientes características clave: 1) la eficacia de los planes de acción para alcanzar los objetivos y las metas energéticas; 2) los IDEn; 3) la operación de los USE; 4) el consumo de energía real versus el consumo esperado; b) los métodos de seguimiento, medición, análisis y evaluación, según corresponda, para asegurar resultados válidos; c) cuándo se deben realizar el seguimiento y la medición; d) cuándo se deben analizar y evaluar los resultados del seguimiento y la medición. La organización debe evaluar su desempeño energético y la eficacia del SGEn (véase 6.6). La mejora en el desempeño energético se debe evaluar comparando los valores de los IDEn (véase 6.4) con respecto a las correspondientes LBEn (véase 6.5). La organización debe investigar y responder a las desviaciones significativas en el desempeño energético. La organización debe conservar la información documentada sobre los resultados de la investigación y la respuesta (véase 7.5). La organización debe conservar la información documentada sobre el seguimiento y las mediciones | B69: 0
A70: 9.1.2 Evaluación del cumplimiento de los requisitos legales y otros requisitos La organización debe tener un procedimiento para evaluar, a intervalos planificados, el cumplimiento con los requisitos legales y otros requisitos (véase 4.2) relacionados con su eficiencia energética, el uso de la energía, el consumo de energía y el SGEn. La organización debe conservar la información documentada (véase 7.5) sobre los resultados de la evaluación del cumplimiento y las acciones tomadas. | B70: 0
A71: 9.2 Auditoría interna
A72: 9.2.1 La organización debe realizar auditorías internas del SGEn a intervalos planificados para proporcionar información sobre si el SGEn: a) mejora el desempeño energético; b) cumple con: — los requisitos propios de la organización para su SGEn; — la política energética (véase 5.2), y los objetivos y metas energéticas (véase 6.2) establecidos por la organización; — los requisitos de este documento; c) está eficazmente implementado y mantenido. | B72: 0
A73: 9.2.2 La organización debe: a) planificar, establecer, implementar y mantener un programa de auditorías que incluyan los métodos, responsabilidades, requisitos de planificación e información, que deben considerar la importancia de los procesos en cuestión y los resultados de auditorías previas; b) definir el criterio y el alcance para cada auditoria; c) seleccionar auditores y realizar auditorías para asegurar la objetividad y la imparcialidad del proceso de auditoría; d) asegurar que los resultados de las auditorias se informen a la dirección pertinente; e) tomar las acciones apropiadas de acuerdo con los apartados 10.1 y 10.2; f) conservar la información documentada (véase 7.5) como evidencia de la implementación del programa de auditoría, y los resultados de la misma. | B73: 0
A74: 9.3 Revisión por la Dirección
A75: 9.3.1 La alta dirección debe revisar el SGEn de la organización, a intervalos planificados, para asegurar su continua idoneidad, adecuación, eficacia y alineación con la dirección estratégica de la organización. | B75: 0
A76: 9.3.2 La revisión por la dirección debe considerar: a) el estado de las acciones de las revisiones previas por la dirección; b) cambios en las cuestiones internas y externas, los riesgos asociados y las oportunidades pertinentes para el SGEn; c) información sobre el desempeño del SGEn, incluyendo las tendencias en: 1) no conformidades y acciones correctivas; 2) resultados del seguimiento y las mediciones; 3) resultados de las auditorías; 4) resultados de la evaluación del cumplimiento con los requisitos legales y otros requisitos; d) oportunidades para la mejora continua, incluyendo las referidas a la competencia; e) la política energética. | B76: 0
A77: 9.3.3 Las entradas relativas al desempeño energético para la revisión por la dirección deben incluir: — el grado de cumplimiento de los objetivos y las metas energéticas; — el desempeño energético y las mejoras del desempeño energético, con base en los resultados del seguimiento y las mediciones, incluyendo los IDEn; — el estado de los planes de acción. | B77: 0
A78: 9.3.4 Las salidas de la revisión por la dirección deben incluir las decisiones relacionadas con las oportunidades de mejora continua y cualquier necesidad de cambios al SGEn, incluyendo: a) las oportunidades para mejorar el desempeño energético; b) la política energética; c) los IDEn o las LBEn; d) los objetivos, las metas energéticas, los planes de acción u otros elementos del SGEn, y las acciones a ser tomadas si no se alcanzan; e) las oportunidades para mejorar la integración con los procesos del negocio; f) la asignación de recursos; g) la mejora de la competencia, de la toma de conciencia y de la comunicación. La organización debe conservar la información documentada como evidencia de los resultados de las revisiones por la dirección. | B78: 0
A79: Promedio 9 Evaluación del desempeño | B79: =AVERAGE(B69,B70,B72,B73,B75,B76,B77,B78) -> 0
A80: 10 MEJORA
A81: 10.1 No conformidad y acción correctiva
A82: Cuando se identifica una no conformidad la organización debe: a) reaccionar a dicha no conformidad, y, según sea aplicable: 1) tomar acción para controlarla y corregirla; 2) ocuparse de las consecuencias; b) evaluar la necesidad de acciones para eliminar las causas de la no conformidad, con el fin de que no vuelva a ocurrir ni ocurra en otra parte, mediante: 1) la revisión de la no conformidad; 2) la determinación de las causas de la no conformidad; 3) la determinación de la existencia de no conformidades similares, o que potencialmente pueden ocurrir; c) implementar cualquier acción que sea necesaria; d) revisar la eficacia de cualquier acción correctiva tomada; e) realizar los cambios al SGEn, si fuera necesario. Las acciones correctivas deben ser apropiadas a los efectos de las no conformidades encontradas. La organización debe conservar la información documentada de: — la naturaleza de las no conformidades, y las acciones subsiguientes, si se hubieran tomado; — los resultados de cualquier acción correctiva. | B82: 0
A83: 10.2 Mejora continua
A84: La organización debe mejorar continuamente la idoneidad, adecuación y eficacia del SGEn. La organización debe demostrar la mejora continua del desempeño energético. | B84: 0
A85: Promedio 10 Mejora | B85: =AVERAGE(B82,B84) -> 0

Sheet Gráficos
A2: Cláusula ISO 50001 | B2: Análisis de brecha inicial
A3: ='Análisis de Brecha'!A10:C10 -> 4 CONTEXTO DE LA ORGANIZACIÓN | B3: ='Análisis de Brecha'!B19 -> 0
A4: ='Análisis de Brecha'!A20:C20 -> 5 LIDERAZGO | B4: ='Análisis de Brecha'!B27 -> 0
A5: ='Análisis de Brecha'!A28:C28 -> 6 PLANIFICACIÓN | B5: ='Análisis de Brecha'!B44 -> 0
A6: ='Análisis de Brecha'!A45:C45 -> 7 APOYO | B6: ='Análisis de Brecha'!B58 -> 0
A7: ='Análisis de Brecha'!A59:C59 -> 8 OPERACIÓN | B7: ='Análisis de Brecha'!B66 -> 0
A8: ='Análisis de Brecha'!A67:C67 -> 9 EVALUACIÓN DEL DESEMPEÑO | B8: ='Análisis de Brecha'!B79 -> 0
A9: ='Análisis de Brecha'!A80:C80 -> 10 MEJORA | B9: ='Análisis de Brecha'!B85 -> 0
A10: Promedio General | B10: =AVERAGE(B3:B9) -> 0
A23: Apartado | B23: Análisis de brecha inicial
A24: 4.1 | B24: ='Análisis de Brecha'!B12 -> 0
A25: 4.2 | B25: ='Análisis de Brecha'!B14 -> 0
A26: 4.3 | B26: ='Análisis de Brecha'!B16 -> 0
A27: 4.4 | B27: ='Análisis de Brecha'!B18 -> 0
A28: 5.1 | B28: ='Análisis de Brecha'!B22 -> 0
A29: 5.2 | B29: ='Análisis de Brecha'!B24 -> 0
A30: 5.3 | B30: ='Análisis de Brecha'!B26 -> 0
A31: 6.1 | B31: =AVERAGE('Análisis de Brecha'!B30,'Análisis de Brecha'!B31) -> 0
A32: 6.2 | B32: =AVERAGE('Análisis de Brecha'!B33,'Análisis de Brecha'!B34,'Análisis de Brecha'!B35) -> 0
A33: 6.3 | B33: ='Análisis de Brecha'!B37 -> 0
A34: 6.4 | B34: ='Análisis de Brecha'!B39 -> 0
A35: 6.5 | B35: ='Análisis de Brecha'!B41 -> 0
A36: 6.6 | B36: ='Análisis de Brecha'!B43 -> 0
A37: 7.1 | B37: ='Análisis de Brecha'!B47 -> 0
A38: 7.2 | B38: ='Análisis de Brecha'!B49 -> 0
A39: 7.3 | B39: ='Análisis de Brecha'!B51 -> 0
A40: 7.4 | B40: ='Análisis de Brecha'!B53 -> 0
A41: 7.5 | B41: =AVERAGE('Análisis de Brecha'!B55,'Análisis de Brecha'!B56,'Análisis de Brecha'!B57) -> 0
A42: 8.1 | B42: ='Análisis de Brecha'!B61 -> 0
A43: 8.2 | B43: ='Análisis de Brecha'!B63 -> 0
A44: 8.3 | B44: ='Análisis de Brecha'!B65 -> 0
A45: 9.1 | B45: =AVERAGE('Análisis de Brecha'!B69,'Análisis de Brecha'!B70) -> 0
A46: 9.2 | B46: =AVERAGE('Análisis de Brecha'!B72,'Análisis de Brecha'!B73) -> 0
A47: 9.3 | B47: =AVERAGE('Análisis de Brecha'!B75,'Análisis de Brecha'!B76,'Análisis de Brecha'!B77,'Análisis de Brecha'!B78) -> 0
A48: 10.1 | B48: ='Análisis de Brecha'!B82 -> 0
A49: 10.2 | B49: ='Análisis de Brecha'!B84 -> 0
