Workbook

Sheet Sessions
A1: ENA Emergency Nursing 2026 · Education sessions Sept 29–Oct 1
A2: Type Y in the yellow Pick column. 'Competing' = sessions starting at the same time. 'Overlaps' flags your picks that clash with another pick. Source: ENA Events (Swapcard) Full Program, pulled Sept 26, 2026.
A4: Day | B4: Start | C4: End | D4: Minutes | E4: Competing | F4: Pick (Y) | G4: Overlaps | H4: Title | I4: Format | J4: Topic | K4: Room | L4: Speakers
A5: Tue Sep 29 | B5: 0.33333333 | C5: 0.39583333 | D5: =ROUND((C5-B5)*1440,0) -> 90 | E5: =COUNTIFS($A$5:$A$154,A5,$B$5:$B$154,B5) -> 1 | G5: =IF(F5="Y",IF(COUNTIFS($A$5:$A$154,A5,$F$5:$F$154,"Y",$B$5:$B$154,"<"&C5,$C$5:$C$154,">"&B5)>1,"CLASH",""),"") | H5: Emergency Nursing 2026 Opening General Session: Secrets to Lock In that Only 6% of People Know | I5: Keynote | K5: Hall E
A6: Tue Sep 29 | B6: 0.40625 | C6: 0.42013889 | D6: =ROUND((C6-B6)*1440,0) -> 20 | E6: =COUNTIFS($A$5:$A$154,A6,$B$5:$B$154,B6) -> 9 | G6: =IF(F6="Y",IF(COUNTIFS($A$5:$A$154,A6,$F$5:$F$154,"Y",$B$5:$B$154,"<"&C6,$C$5:$C$154,">"&B6)>1,"CLASH",""),"") | H6: 45 Minutes Matters: Improving ED Throughput through Interdepartmental Collaboration | I6: Fast Track | J6: Leadership & Management | K6: 121ABC | L6: ASHEL KRUETZKAMP · ST. ELIZABETH HEALTHCARE; LAURA SIMPSON
A7: Tue Sep 29 | B7: 0.40625 | C7: 0.42013889 | D7: =ROUND((C7-B7)*1440,0) -> 20 | E7: =COUNTIFS($A$5:$A$154,A7,$B$5:$B$154,B7) -> 9 | G7: =IF(F7="Y",IF(COUNTIFS($A$5:$A$154,A7,$F$5:$F$154,"Y",$B$5:$B$154,"<"&C7,$C$5:$C$154,">"&B7)>1,"CLASH",""),"") | H7: Beyond Rapid Sequence Intubation: Safe, Effective Awake Intubation Strategies for ED Nurses | I7: Fast Track | J7: Clinical | K7: 127ABC | L7: NICOLE TRAINER · GEORGE WASHINGTON UNIVERSITY
A8: Tue Sep 29 | B8: 0.40625 | C8: 0.42013889 | D8: =ROUND((C8-B8)*1440,0) -> 20 | E8: =COUNTIFS($A$5:$A$154,A8,$B$5:$B$154,B8) -> 9 | G8: =IF(F8="Y",IF(COUNTIFS($A$5:$A$154,A8,$F$5:$F$154,"Y",$B$5:$B$154,"<"&C8,$C$5:$C$154,">"&B8)>1,"CLASH",""),"") | H8: Closing the Gap: Implementing Delirium Triage Screening for Geriatric ED Patients | I8: Fast Track | J8: Educator | K8: 224AB | L8: JENNA ZEHLER · STANFORD HEALTH CARE; BRITTANY TAYLOR · STANFORD HEALTHCARE
A9: Tue Sep 29 | B9: 0.40625 | C9: 0.42013889 | D9: =ROUND((C9-B9)*1440,0) -> 20 | E9: =COUNTIFS($A$5:$A$154,A9,$B$5:$B$154,B9) -> 9 | G9: =IF(F9="Y",IF(COUNTIFS($A$5:$A$154,A9,$F$5:$F$154,"Y",$B$5:$B$154,"<"&C9,$C$5:$C$154,">"&B9)>1,"CLASH",""),"") | H9: Don't Let the Beat Drop! Pearls & Pitfalls in Transcutaneous Pacing | I9: Fast Track | J9: Air & Surface Transport | K9: 131ABC | L9: JACOB MILLER · UNIVERSITY OF CINCINNATI MEDICAL CENTER
A10: Tue Sep 29 | B10: 0.40625 | C10: 0.42013889 | D10: =ROUND((C10-B10)*1440,0) -> 20 | E10: =COUNTIFS($A$5:$A$154,A10,$B$5:$B$154,B10) -> 9 | G10: =IF(F10="Y",IF(COUNTIFS($A$5:$A$154,A10,$F$5:$F$154,"Y",$B$5:$B$154,"<"&C10,$C$5:$C$154,">"&B10)>1,"CLASH",""),"") | H10: Geriatric Trauma: Navigating Complex Care in a Vulnerable Population | I10: Fast Track | J10: Clinical | K10: 132ABC | L10: ELEANOR SANDERS-ESTES · KAISER PERMANENTE SOUTH SACRAMENTO
A11: Tue Sep 29 | B11: 0.40625 | C11: 0.42013889 | D11: =ROUND((C11-B11)*1440,0) -> 20 | E11: =COUNTIFS($A$5:$A$154,A11,$B$5:$B$154,B11) -> 9 | G11: =IF(F11="Y",IF(COUNTIFS($A$5:$A$154,A11,$F$5:$F$154,"Y",$B$5:$B$154,"<"&C11,$C$5:$C$154,">"&B11)>1,"CLASH",""),"") | H11: No Spectators Allowed: Engaging Every ED Nurse in Disaster Preparedness | I11: Fast Track | J11: Clinical | K11: 129AB | L11: CHRISTINE REID · HOUSTON METHODIST; WILLIAM HAMLYN · HOUSTON METHODIST CYPRESS
A12: Tue Sep 29 | B12: 0.40625 | C12: 0.42013889 | D12: =ROUND((C12-B12)*1440,0) -> 20 | E12: =COUNTIFS($A$5:$A$154,A12,$B$5:$B$154,B12) -> 9 | G12: =IF(F12="Y",IF(COUNTIFS($A$5:$A$154,A12,$F$5:$F$154,"Y",$B$5:$B$154,"<"&C12,$C$5:$C$154,">"&B12)>1,"CLASH",""),"") | H12: Practice Under Pressure: The Olympics of Emergency Nursing Airway Training | I12: Fast Track | J12: Educator | K12: 221ABC | L12: DAWN PETA · ALBERTA HEALTH SERVICES; REBECCA CAULFIELD · INTERNATIONAL DELEGATE
A13: Tue Sep 29 | B13: 0.40625 | C13: 0.42013889 | D13: =ROUND((C13-B13)*1440,0) -> 20 | E13: =COUNTIFS($A$5:$A$154,A13,$B$5:$B$154,B13) -> 9 | G13: =IF(F13="Y",IF(COUNTIFS($A$5:$A$154,A13,$F$5:$F$154,"Y",$B$5:$B$154,"<"&C13,$C$5:$C$154,">"&B13)>1,"CLASH",""),"") | H13: Precision Prescribing Through Pharmacogenetics | I13: Fast Track | J13: Advanced Practice | K13: 124AB | L13: SANDRA SCHINDLER · SANFORD HEALTH
A14: Tue Sep 29 | B14: 0.40625 | C14: 0.42013889 | D14: =ROUND((C14-B14)*1440,0) -> 20 | E14: =COUNTIFS($A$5:$A$154,A14,$B$5:$B$154,B14) -> 9 | G14: =IF(F14="Y",IF(COUNTIFS($A$5:$A$154,A14,$F$5:$F$154,"Y",$B$5:$B$154,"<"&C14,$C$5:$C$154,">"&B14)>1,"CLASH",""),"") | H14: Supporting Neuro-divergent Pediatric Patients in the ED | I14: Fast Track | J14: Clinical | K14: 229AB | L14: SARA DAYKIN · UNIVERSITY OF NEW MEXICO
A15: Tue Sep 29 | B15: 0.42708333 | C15: 0.45833333 | D15: =ROUND((C15-B15)*1440,0) -> 45 | E15: =COUNTIFS($A$5:$A$154,A15,$B$5:$B$154,B15) -> 9 | G15: =IF(F15="Y",IF(COUNTIFS($A$5:$A$154,A15,$F$5:$F$154,"Y",$B$5:$B$154,"<"&C15,$C$5:$C$154,">"&B15)>1,"CLASH",""),"") | H15: A Push in the Right Direction: Reinventing Alcohol Withdrawal Care | I15: Education Encounter | J15: Clinical | K15: 132ABC | L15: JENNIFER POOLE · MEDSTAR WASHINGTON HOSPITAL CENTER; JULIETTA VERISH; DANIELL KEMPTON · Inova Health
A16: Tue Sep 29 | B16: 0.42708333 | C16: 0.45833333 | D16: =ROUND((C16-B16)*1440,0) -> 45 | E16: =COUNTIFS($A$5:$A$154,A16,$B$5:$B$154,B16) -> 9 | G16: =IF(F16="Y",IF(COUNTIFS($A$5:$A$154,A16,$F$5:$F$154,"Y",$B$5:$B$154,"<"&C16,$C$5:$C$154,">"&B16)>1,"CLASH",""),"") | H16: ENA: Residency | I16: Education Encounter | J16: ENA Product | K16: 229AB | L16: Greta Pemsl · EMERGENCY NURSES ASSOCIATION
A17: Tue Sep 29 | B17: 0.42708333 | C17: 0.45833333 | D17: =ROUND((C17-B17)*1440,0) -> 45 | E17: =COUNTIFS($A$5:$A$154,A17,$B$5:$B$154,B17) -> 9 | G17: =IF(F17="Y",IF(COUNTIFS($A$5:$A$154,A17,$F$5:$F$154,"Y",$B$5:$B$154,"<"&C17,$C$5:$C$154,">"&B17)>1,"CLASH",""),"") | H17: Empowering Practice: Protocols that Improve International ED Outcomes | I17: Education Encounter | J17: Global | K17: 129AB | L17: ASHLEY BARNEY · Intermountain Health-Spanish Fork Hospital; SARAH WELLS · NEW THING NURSE; DAWN PETA · ALBERTA HEALTH SERVICES
... A23: Tue Sep 29 | B23: 0.42708333 | C23: 0.45833333 | D23: =ROUND((C23-B23)*1440,0) -> 45 | E23: =COUNTIFS($A$5:$A$154,A23,$B$5:$B$154,B23) -> 9 | G23: =IF(F23="Y",IF(COUNTIFS($A$5:$A$154,A23,$F$5:$F$154,"Y",$B$5:$B$154,"<"&C23,$C$5:$C$154,">"&B23)>1,"CLASH",""),"") | H23: Trust but Verify: AI Alerts, Clinical Judgment and Patient Safety | I23: Education Encounter | J23: Clinical | K23: 131ABC | L23: ANNA CECIL · Dnv; KATHERINE HAMMOND · OHSU
A24: Tue Sep 29 | B24: 0.46875 | C24: 0.48958333 | D24: =ROUND((C24-B24)*1440,0) -> 30 | E24: =COUNTIFS($A$5:$A$154,A24,$B$5:$B$154,B24) -> 1 | G24: =IF(F24="Y",IF(COUNTIFS($A$5:$A$154,A24,$F$5:$F$154,"Y",$B$5:$B$154,"<"&C24,$C$5:$C$154,">"&B24)>1,"CLASH",""),"") | H24: DisastER: A Tale of Two Cities: Two Hospital Evacuations in Four Months | I24: DisastER talk | K24: Hall 4-6 | L24: RYAN HAY
A25: Tue Sep 29 | B25: 0.47222222 | C25: 0.48611111 | D25: =ROUND((C25-B25)*1440,0) -> 20 | E25: =COUNTIFS($A$5:$A$154,A25,$B$5:$B$154,B25) -> 1 | G25: =IF(F25="Y",IF(COUNTIFS($A$5:$A$154,A25,$F$5:$F$154,"Y",$B$5:$B$154,"<"&C25,$C$5:$C$154,">"&B25)>1,"CLASH",""),"") | H25: ED Talks (Aerogen): Beyond the Device: Implementing Meaningful Change in Emergency Care | I25: ED Talk (sponsor) | K25: Hall 4-6
A26: Tue Sep 29 | B26: 0.48958333 | C26: 0.50347222 | D26: =ROUND((C26-B26)*1440,0) -> 20 | E26: =COUNTIFS($A$5:$A$154,A26,$B$5:$B$154,B26) -> 1 | G26: =IF(F26="Y",IF(COUNTIFS($A$5:$A$154,A26,$F$5:$F$154,"Y",$B$5:$B$154,"<"&C26,$C$5:$C$154,">"&B26)>1,"CLASH",""),"") | H26: ED Talks (Flosonics Medical): Point-of-Care Fluid Responsiveness: Why Carotid Flow Time Deserves a Place in Your ED | I26: ED Talk (sponsor) | K26: Hall 4-6
A27: Tue Sep 29 | B27: 0.5 | C27: 0.52083333 | D27: =ROUND((C27-B27)*1440,0) -> 30 | E27: =COUNTIFS($A$5:$A$154,A27,$B$5:$B$154,B27) -> 1 | G27: =IF(F27="Y",IF(COUNTIFS($A$5:$A$154,A27,$F$5:$F$154,"Y",$B$5:$B$154,"<"&C27,$C$5:$C$154,">"&B27)>1,"CLASH",""),"") | H27: DisastER: Silent Trauma: Beyond the Shift | I27: DisastER talk | K27: Hall 4-6
A28: Tue Sep 29 | B28: 0.50694444 | C28: 0.52083333 | D28: =ROUND((C28-B28)*1440,0) -> 20 | E28: =COUNTIFS($A$5:$A$154,A28,$B$5:$B$154,B28) -> 1 | G28: =IF(F28="Y",IF(COUNTIFS($A$5:$A$154,A28,$F$5:$F$154,"Y",$B$5:$B$154,"<"&C28,$C$5:$C$154,">"&B28)>1,"CLASH",""),"") | H28: ED Talks (Pelstar): You've Got Your Patient's Back. Who's Got Yours? Modernizing Patient Handling in the Emergency Department | I28: ED Talk (sponsor) | K28: Hall 4-6
A29: Tue Sep 29 | B29: 0.52083333 | C29: 0.63541667 | D29: =ROUND((C29-B29)*1440,0) -> 165 | E29: =COUNTIFS($A$5:$A$154,A29,$B$5:$B$154,B29) -> 1 | G29: =IF(F29="Y",IF(COUNTIFS($A$5:$A$154,A29,$F$5:$F$154,"Y",$B$5:$B$154,"<"&C29,$C$5:$C$154,">"&B29)>1,"CLASH",""),"") | H29: PECC Principles to Practice: Advancing Pediatric Readiness by Building Systems, Skills and Confidence | I29: Deep Dive | J29: Leadership & Management | K29: 229AB | L29: MEGAN PETRUCELLI · CT EMSC; ROBIN GOODMAN · EIIC; LAURA GARCIA · PIH HEALTH WHITTIER HOSPITAL
A30: Tue Sep 29 | B30: 0.52430556 | C30: 0.53819444 | D30: =ROUND((C30-B30)*1440,0) -> 20 | E30: =COUNTIFS($A$5:$A$154,A30,$B$5:$B$154,B30) -> 1 | G30: =IF(F30="Y",IF(COUNTIFS($A$5:$A$154,A30,$F$5:$F$154,"Y",$B$5:$B$154,"<"&C30,$C$5:$C$154,">"&B30)>1,"CLASH",""),"") | H30: ED Talks (BSN Medical Inc., an Essity Company): Make Ortho Love You: 2 Splinting Pearls That Work | I30: ED Talk (sponsor) | K30: Hall 4-6
A31: Tue Sep 29 | B31: 0.54166667 | C31: 0.63541667 | D31: =ROUND((C31-B31)*1440,0) -> 135 | E31: =COUNTIFS($A$5:$A$154,A31,$B$5:$B$154,B31) -> 6 | G31: =IF(F31="Y",IF(COUNTIFS($A$5:$A$154,A31,$F$5:$F$154,"Y",$B$5:$B$154,"<"&C31,$C$5:$C$154,">"&B31)>1,"CLASH",""),"") | H31: Mechanism to Management: Comprehensive Chest Trauma Care Across the Continuum | I31: Deep Dive | J31: Clinical | K31: 124AB | L31: JACQUELINE ROLAND · AIR NATIONAL GUARD; KATHERINE DORE · UNITED STATES AIR FORCE
A32: Tue Sep 29 | B32: 0.54166667 | C32: 0.63541667 | D32: =ROUND((C32-B32)*1440,0) -> 135 | E32: =COUNTIFS($A$5:$A$154,A32,$B$5:$B$154,B32) -> 6 | G32: =IF(F32="Y",IF(COUNTIFS($A$5:$A$154,A32,$F$5:$F$154,"Y",$B$5:$B$154,"<"&C32,$C$5:$C$154,">"&B32)>1,"CLASH",""),"") | H32: No Psychiatrist On Call: Assessment of the Suicidal Patient in Lower-resource Settings | I32: Deep Dive | J32: Clinical | K32: 221ABC | L32: LISA WOLF · UMASS AMHERST
A33: Tue Sep 29 | B33: 0.54166667 | C33: 0.57291667 | D33: =ROUND((C33-B33)*1440,0) -> 45 | E33: =COUNTIFS($A$5:$A$154,A33,$B$5:$B$154,B33) -> 6 | G33: =IF(F33="Y",IF(COUNTIFS($A$5:$A$154,A33,$F$5:$F$154,"Y",$B$5:$B$154,"<"&C33,$C$5:$C$154,">"&B33)>1,"CLASH",""),"") | H33: Right Scope, Right Practice: Planning for your career in Advanced Practice | I33: Education Encounter | J33: Advanced Practice | K33: 131ABC | L33: MARGARET CARMAN · MARTHA'S VINEYARD HOSPITAL
A34: Tue Sep 29 | B34: 0.54166667 | C34: 0.63541667 | D34: =ROUND((C34-B34)*1440,0) -> 135 | E34: =COUNTIFS($A$5:$A$154,A34,$B$5:$B$154,B34) -> 6 | G34: =IF(F34="Y",IF(COUNTIFS($A$5:$A$154,A34,$F$5:$F$154,"Y",$B$5:$B$154,"<"&C34,$C$5:$C$154,">"&B34)>1,"CLASH",""),"") | H34: Sparking a Spirit of Inquiry: EBP Skills to Challenge 'The Way We've Always Done It' | I34: Deep Dive | J34: Educator | K34: 132ABC | L34: KACI RAINEY · CHRISTIANACARE
A35: Tue Sep 29 | B35: 0.54166667 | C35: 0.63541667 | D35: =ROUND((C35-B35)*1440,0) -> 135 | E35: =COUNTIFS($A$5:$A$154,A35,$B$5:$B$154,B35) -> 6 | G35: =IF(F35="Y",IF(COUNTIFS($A$5:$A$154,A35,$F$5:$F$154,"Y",$B$5:$B$154,"<"&C35,$C$5:$C$154,">"&B35)>1,"CLASH",""),"") | H35: Trauma Around the World | I35: Deep Dive | J35: Global | K35: 121ABC | L35: REBECCA VANSTANTON · MICHIGAN ENA STATE COUNCIL
A36: Tue Sep 29 | B36: 0.54166667 | C36: 0.55555556 | D36: =ROUND((C36-B36)*1440,0) -> 20 | E36: =COUNTIFS($A$5:$A$154,A36,$B$5:$B$154,B36) -> 6 | G36: =IF(F36="Y",IF(COUNTIFS($A$5:$A$154,A36,$F$5:$F$154,"Y",$B$5:$B$154,"<"&C36,$C$5:$C$154,">"&B36)>1,"CLASH",""),"") | H36: ED Talks (Mednition): How High-Performing EDs are utilizing AI to Improve Patient Care | I36: ED Talk (sponsor) | K36: Hall 4-6
A37: Tue Sep 29 | B37: 0.55208333 | C37: 0.57291667 | D37: =ROUND((C37-B37)*1440,0) -> 30 | E37: =COUNTIFS($A$5:$A$154,A37,$B$5:$B$154,B37) -> 1 | G37: =IF(F37="Y",IF(COUNTIFS($A$5:$A$154,A37,$F$5:$F$154,"Y",$B$5:$B$154,"<"&C37,$C$5:$C$154,">"&B37)>1,"CLASH",""),"") | H37: DisastER: Transport Nurses: Who Are These People, What Do They Want, and How Can I Be One? | I37: DisastER talk | K37: Hall 4-6 | L37: MICHAEL FRAKES · BOSTON MEDFLIGHT
A38: Tue Sep 29 | B38: 0.55902778 | C38: 0.57291667 | D38: =ROUND((C38-B38)*1440,0) -> 20 | E38: =COUNTIFS($A$5:$A$154,A38,$B$5:$B$154,B38) -> 1 | G38: =IF(F38="Y",IF(COUNTIFS($A$5:$A$154,A38,$F$5:$F$154,"Y",$B$5:$B$154,"<"&C38,$C$5:$C$154,">"&B38)>1,"CLASH",""),"") | H38: ED Talks (Elsevier): Building Confidence and Competency in Emergency Nursing | I38: ED Talk (sponsor) | K38: Hall 4-6
A39: Tue Sep 29 | B39: 0.57638889 | C39: 0.59027778 | D39: =ROUND((C39-B39)*1440,0) -> 20 | E39: =COUNTIFS($A$5:$A$154,A39,$B$5:$B$154,B39) -> 1 | G39: =IF(F39="Y",IF(COUNTIFS($A$5:$A$154,A39,$F$5:$F$154,"Y",$B$5:$B$154,"<"&C39,$C$5:$C$154,">"&B39)>1,"CLASH",""),"") | H39: ED Talks (Elsevier): Preparing the Emergency Nursing Workforce for What's Next | I39: ED Talk (sponsor) | K39: Hall 4-6
A40: Tue Sep 29 | B40: 0.58333333 | C40: 0.61458333 | D40: =ROUND((C40-B40)*1440,0) -> 45 | E40: =COUNTIFS($A$5:$A$154,A40,$B$5:$B$154,B40) -> 1 | G40: =IF(F40="Y",IF(COUNTIFS($A$5:$A$154,A40,$F$5:$F$154,"Y",$B$5:$B$154,"<"&C40,$C$5:$C$154,">"&B40)>1,"CLASH",""),"") | H40: Successful Government Relations in a Challenging Political Environment – Top Advocacy Strategies to Achieve Breakthrough Results for Emergency Nurses and Their Patients | I40: Education Encounter | J40: Leadership & Management | K40: 131ABC | L40: Richard Mereu · Emergency Nurses Association
A41: Tue Sep 29 | B41: 0.59375 | C41: 0.60763889 | D41: =ROUND((C41-B41)*1440,0) -> 20 | E41: =COUNTIFS($A$5:$A$154,A41,$B$5:$B$154,B41) -> 1 | G41: =IF(F41="Y",IF(COUNTIFS($A$5:$A$154,A41,$F$5:$F$154,"Y",$B$5:$B$154,"<"&C41,$C$5:$C$154,">"&B41)>1,"CLASH",""),"") | H41: ED Talks (BD): When Innovation Becomes Personal: Redefining Patient Care | I41: ED Talk (sponsor) | K41: Hall 4-6
A42: Tue Sep 29 | B42: 0.61111111 | C42: 0.625 | D42: =ROUND((C42-B42)*1440,0) -> 20 | E42: =COUNTIFS($A$5:$A$154,A42,$B$5:$B$154,B42) -> 1 | G42: =IF(F42="Y",IF(COUNTIFS($A$5:$A$154,A42,$F$5:$F$154,"Y",$B$5:$B$154,"<"&C42,$C$5:$C$154,">"&B42)>1,"CLASH",""),"") | H42: ED Talks (Kurin): Creating Sustainable Outcomes Through Best Practices and Partnerships | I42: ED Talk (sponsor) | K42: Hall 4-6
A43: Tue Sep 29 | B43: 0.62847222 | C43: 0.64236111 | D43: =ROUND((C43-B43)*1440,0) -> 20 | E43: =COUNTIFS($A$5:$A$154,A43,$B$5:$B$154,B43) -> 1 | G43: =IF(F43="Y",IF(COUNTIFS($A$5:$A$154,A43,$F$5:$F$154,"Y",$B$5:$B$154,"<"&C43,$C$5:$C$154,">"&B43)>1,"CLASH",""),"") | H43: ED Talks (HealthStream): From Surviving to Thriving as an ED Nurse | I43: ED Talk (sponsor) | K43: Hall 4-6
A44: Tue Sep 29 | B44: 0.64583333 | C44: 0.67708333 | D44: =ROUND((C44-B44)*1440,0) -> 45 | E44: =COUNTIFS($A$5:$A$154,A44,$B$5:$B$154,B44) -> 9 | G44: =IF(F44="Y",IF(COUNTIFS($A$5:$A$154,A44,$F$5:$F$154,"Y",$B$5:$B$154,"<"&C44,$C$5:$C$154,">"&B44)>1,"CLASH",""),"") | H44: Beyond Knobs and Dials: Four Foundational Principles in Mechanical Ventilator Management | I44: Education Encounter | J44: Air & Surface Transport | K44: 127AB | L44: MICHAEL FRAKES · BOSTON MEDFLIGHT
A45: Tue Sep 29 | B45: 0.64583333 | C45: 0.67708333 | D45: =ROUND((C45-B45)*1440,0) -> 45 | E45: =COUNTIFS($A$5:$A$154,A45,$B$5:$B$154,B45) -> 9 | G45: =IF(F45="Y",IF(COUNTIFS($A$5:$A$154,A45,$F$5:$F$154,"Y",$B$5:$B$154,"<"&C45,$C$5:$C$154,">"&B45)>1,"CLASH",""),"") | H45: Improving Maternal Care with Obstetric Alerts in the ED | I45: Education Encounter | J45: Clinical | K45: 221ABC | L45: ALEXANDRA LEE · CHI ST ELIZABETH; LORI GAVER · CHI HEALTH ST. ELIZABETH
A46: Tue Sep 29 | B46: 0.64583333 | C46: 0.67708333 | D46: =ROUND((C46-B46)*1440,0) -> 45 | E46: =COUNTIFS($A$5:$A$154,A46,$B$5:$B$154,B46) -> 9 | G46: =IF(F46="Y",IF(COUNTIFS($A$5:$A$154,A46,$F$5:$F$154,"Y",$B$5:$B$154,"<"&C46,$C$5:$C$154,">"&B46)>1,"CLASH",""),"") | H46: Mediating Us vs. Them: Healing ED Inpatient Tension Through Shared EBP | I46: Education Encounter | J46: Educator | K46: 129AB | L46: ASHLEIGH MANN · ADVENTHEALTH; THERESA JONES · AdventHealth; AMY MULL · AdventHealth
...

Sheet Recordings Checklist
A1: Recordings checklist
A2: Type Y in Watched and CNE Claimed as you go. Includes all Fast Track, Education Encounter and Deep Dive lectures plus the two keynotes.
A3: Watched | B3: =COUNTIF(F6:F132,"Y")&" of "&COUNTA(D6:D132) -> 0 of 127 | C3: CNE claimed | D3: =COUNTIF(G6:G132,"Y")&" of "&COUNTA(D6:D132) -> 0 of 127
A5: Day | B5: Start | C5: Minutes | D5: Title | E5: Format | F5: Watched (Y) | G5: CNE Claimed (Y) | H5: Picked live? | I5: Speakers
A6: Tue Sep 29 | B6: 0.33333333 | C6: 90 | D6: Emergency Nursing 2026 Opening General Session: Secrets to Lock In that Only 6% of People Know | E6: Keynote | H6: =IF(Sessions!F5="Y","Yes","")
A7: Tue Sep 29 | B7: 0.40625 | C7: 20 | D7: 45 Minutes Matters: Improving ED Throughput through Interdepartmental Collaboration | E7: Fast Track | H7: =IF(Sessions!F6="Y","Yes","") | I7: ASHEL KRUETZKAMP · ST. ELIZABETH HEALTHCARE; LAURA SIMPSON
A8: Tue Sep 29 | B8: 0.40625 | C8: 20 | D8: Beyond Rapid Sequence Intubation: Safe, Effective Awake Intubation Strategies for ED Nurses | E8: Fast Track | H8: =IF(Sessions!F7="Y","Yes","") | I8: NICOLE TRAINER · GEORGE WASHINGTON UNIVERSITY
A9: Tue Sep 29 | B9: 0.40625 | C9: 20 | D9: Closing the Gap: Implementing Delirium Triage Screening for Geriatric ED Patients | E9: Fast Track | H9: =IF(Sessions!F8="Y","Yes","") | I9: JENNA ZEHLER · STANFORD HEALTH CARE; BRITTANY TAYLOR · STANFORD HEALTHCARE
A10: Tue Sep 29 | B10: 0.40625 | C10: 20 | D10: Don't Let the Beat Drop! Pearls & Pitfalls in Transcutaneous Pacing | E10: Fast Track | H10: =IF(Sessions!F9="Y","Yes","") | I10: JACOB MILLER · UNIVERSITY OF CINCINNATI MEDICAL CENTER
A11: Tue Sep 29 | B11: 0.40625 | C11: 20 | D11: Geriatric Trauma: Navigating Complex Care in a Vulnerable Population | E11: Fast Track | H11: =IF(Sessions!F10="Y","Yes","") | I11: ELEANOR SANDERS-ESTES · KAISER PERMANENTE SOUTH SACRAMENTO
A12: Tue Sep 29 | B12: 0.40625 | C12: 20 | D12: No Spectators Allowed: Engaging Every ED Nurse in Disaster Preparedness | E12: Fast Track | H12: =IF(Sessions!F11="Y","Yes","") | I12: CHRISTINE REID · HOUSTON METHODIST; WILLIAM HAMLYN · HOUSTON METHODIST CYPRESS
A13: Tue Sep 29 | B13: 0.40625 | C13: 20 | D13: Practice Under Pressure: The Olympics of Emergency Nursing Airway Training | E13: Fast Track | H13: =IF(Sessions!F12="Y","Yes","") | I13: DAWN PETA · ALBERTA HEALTH SERVICES; REBECCA CAULFIELD · INTERNATIONAL DELEGATE
A14: Tue Sep 29 | B14: 0.40625 | C14: 20 | D14: Precision Prescribing Through Pharmacogenetics | E14: Fast Track | H14: =IF(Sessions!F13="Y","Yes","") | I14: SANDRA SCHINDLER · SANFORD HEALTH
A15: Tue Sep 29 | B15: 0.40625 | C15: 20 | D15: Supporting Neuro-divergent Pediatric Patients in the ED | E15: Fast Track | H15: =IF(Sessions!F14="Y","Yes","") | I15: SARA DAYKIN · UNIVERSITY OF NEW MEXICO
A16: Tue Sep 29 | B16: 0.42708333 | C16: 45 | D16: A Push in the Right Direction: Reinventing Alcohol Withdrawal Care | E16: Education Encounter | H16: =IF(Sessions!F15="Y","Yes","") | I16: JENNIFER POOLE · MEDSTAR WASHINGTON HOSPITAL CENTER; JULIETTA VERISH; DANIELL KEMPTON · Inova Health
A17: Tue Sep 29 | B17: 0.42708333 | C17: 45 | D17: ENA: Residency | E17: Education Encounter | H17: =IF(Sessions!F16="Y","Yes","") | I17: Greta Pemsl · EMERGENCY NURSES ASSOCIATION
A18: Tue Sep 29 | B18: 0.42708333 | C18: 45 | D18: Empowering Practice: Protocols that Improve International ED Outcomes | E18: Education Encounter | H18: =IF(Sessions!F17="Y","Yes","") | I18: ASHLEY BARNEY · Intermountain Health-Spanish Fork Hospital; SARAH WELLS · NEW THING NURSE; DAWN PETA · ALBERTA HEALTH SERVICES
... A24: Tue Sep 29 | B24: 0.42708333 | C24: 45 | D24: Trust but Verify: AI Alerts, Clinical Judgment and Patient Safety | E24: Education Encounter | H24: =IF(Sessions!F23="Y","Yes","") | I24: ANNA CECIL · Dnv; KATHERINE HAMMOND · OHSU
A25: Tue Sep 29 | B25: 0.52083333 | C25: 165 | D25: PECC Principles to Practice: Advancing Pediatric Readiness by Building Systems, Skills and Confidence | E25: Deep Dive | H25: =IF(Sessions!F29="Y","Yes","") | I25: MEGAN PETRUCELLI · CT EMSC; ROBIN GOODMAN · EIIC; LAURA GARCIA · PIH HEALTH WHITTIER HOSPITAL
A26: Tue Sep 29 | B26: 0.54166667 | C26: 135 | D26: Mechanism to Management: Comprehensive Chest Trauma Care Across the Continuum | E26: Deep Dive | H26: =IF(Sessions!F31="Y","Yes","") | I26: JACQUELINE ROLAND · AIR NATIONAL GUARD; KATHERINE DORE · UNITED STATES AIR FORCE
A27: Tue Sep 29 | B27: 0.54166667 | C27: 135 | D27: No Psychiatrist On Call: Assessment of the Suicidal Patient in Lower-resource Settings | E27: Deep Dive | H27: =IF(Sessions!F32="Y","Yes","") | I27: LISA WOLF · UMASS AMHERST
A28: Tue Sep 29 | B28: 0.54166667 | C28: 45 | D28: Right Scope, Right Practice: Planning for your career in Advanced Practice | E28: Education Encounter | H28: =IF(Sessions!F33="Y","Yes","") | I28: MARGARET CARMAN · MARTHA'S VINEYARD HOSPITAL
A29: Tue Sep 29 | B29: 0.54166667 | C29: 135 | D29: Sparking a Spirit of Inquiry: EBP Skills to Challenge 'The Way We've Always Done It' | E29: Deep Dive | H29: =IF(Sessions!F34="Y","Yes","") | I29: KACI RAINEY · CHRISTIANACARE
A30: Tue Sep 29 | B30: 0.54166667 | C30: 135 | D30: Trauma Around the World | E30: Deep Dive | H30: =IF(Sessions!F35="Y","Yes","") | I30: REBECCA VANSTANTON · MICHIGAN ENA STATE COUNCIL
A31: Tue Sep 29 | B31: 0.58333333 | C31: 45 | D31: Successful Government Relations in a Challenging Political Environment – Top Advocacy Strategies to Achieve Breakthrough Results for Emergency Nurses and Their Patients | E31: Education Encounter | H31: =IF(Sessions!F40="Y","Yes","") | I31: Richard Mereu · Emergency Nurses Association
A32: Tue Sep 29 | B32: 0.64583333 | C32: 45 | D32: Beyond Knobs and Dials: Four Foundational Principles in Mechanical Ventilator Management | E32: Education Encounter | H32: =IF(Sessions!F44="Y","Yes","") | I32: MICHAEL FRAKES · BOSTON MEDFLIGHT
A33: Tue Sep 29 | B33: 0.64583333 | C33: 45 | D33: Improving Maternal Care with Obstetric Alerts in the ED | E33: Education Encounter | H33: =IF(Sessions!F45="Y","Yes","") | I33: ALEXANDRA LEE · CHI ST ELIZABETH; LORI GAVER · CHI HEALTH ST. ELIZABETH
A34: Tue Sep 29 | B34: 0.64583333 | C34: 45 | D34: Mediating Us vs. Them: Healing ED Inpatient Tension Through Shared EBP | E34: Education Encounter | H34: =IF(Sessions!F46="Y","Yes","") | I34: ASHLEIGH MANN · ADVENTHEALTH; THERESA JONES · AdventHealth; AMY MULL · AdventHealth
A35: Tue Sep 29 | B35: 0.64583333 | C35: 45 | D35: Pediatric Readiness in Action: Strengthening Care Through EMS-ED Simulation and High-reliability Team Communication | E35: Education Encounter | H35: =IF(Sessions!F47="Y","Yes","") | I35: CYNTHIA WRIGHT JOHNSON · MARYLAND EMSC; DANIELLE JOY · MEDSTAR ST. MARY'S HOSPITAL; DOUG WALTERS · TIDALHEALTH PENINSULA REGIONAL MEDICAL
A36: Tue Sep 29 | B36: 0.64583333 | C36: 45 | D36: Safe and Secure: Strategies for Protecting Patients While They Wait | E36: Education Encounter | H36: =IF(Sessions!F48="Y","Yes","") | I36: KATE FOSTER · NORTHWESTERN MEDICINE CDH
A37: Tue Sep 29 | B37: 0.64583333 | C37: 45 | D37: Sugar, Secrets and Scales: Adolescent DKA and Diabulimia | E37: Education Encounter | H37: =IF(Sessions!F49="Y","Yes","") | I37: TERI CAMPBELL · UNIVERSITY OF CHICAGO
A38: Tue Sep 29 | B38: 0.64583333 | C38: 45 | D38: The Power of Boundaries: Preserving Your Energy and Protecting Your Peace in Nursing | E38: Education Encounter | H38: =IF(Sessions!F50="Y","Yes","") | I38: ASHLEY BARNEY · Intermountain Health-Spanish Fork Hospital; KELSEA HEIMAN · UT MD ANDERSON CANCER CENTER
A39: Tue Sep 29 | B39: 0.6875 | C39: 20 | D39: A Secret Society: Nurses in Recovery | E39: Fast Track | H39: =IF(Sessions!F53="Y","Yes","") | I39: COLLEEN CLAFFEY · MEMORIAL HEALTHCARE SYSTEM
A40: Tue Sep 29 | B40: 0.6875 | C40: 20 | D40: A Year in Practice: Seasonal Presentations Every Advanced Practice Provider Should Master | E40: Fast Track | H40: =IF(Sessions!F54="Y","Yes","") | I40: JULIA PONDER
A41: Tue Sep 29 | B41: 0.6875 | C41: 20 | D41: Across the Continuum: What Emergency Clinicians Must Know about Caring for International Travelers | E41: Fast Track | H41: =IF(Sessions!F55="Y","Yes","") | I41: DEBBIE MCCREA · UT-HEALTH-HOUSTON
A42: Tue Sep 29 | B42: 0.6875 | C42: 20 | D42: From Inbox to Impact: Specialty-designed Trauma Newsletters Transforming Bedside Learning | E42: Fast Track | H42: =IF(Sessions!F56="Y","Yes","") | I42: ELEANOR SANDERS-ESTES · KAISER PERMANENTE SOUTH SACRAMENTO
A43: Tue Sep 29 | B43: 0.6875 | C43: 20 | D43: Reality vs. Myth: The Truth about Rabies | E43: Fast Track | H43: =IF(Sessions!F57="Y","Yes","")
A44: Tue Sep 29 | B44: 0.6875 | C44: 20 | D44: Space Nursing: Surviving a Shift Beyond Earth | E44: Fast Track | H44: =IF(Sessions!F58="Y","Yes","") | I44: CHERYL RANDOLPH · SAN FRANCISCO GENERAL HOSPITAL
A45: Tue Sep 29 | B45: 0.6875 | C45: 20 | D45: The Case Study of Testicular Pain that Changed My Practice | E45: Fast Track | H45: =IF(Sessions!F59="Y","Yes","") | I45: ADAM PALOMINO
A46: Tue Sep 29 | B46: 0.6875 | C46: 20 | D46: The Quiet Before the Code: Recognizing Subtle Signs of Shock Before the Vitals Crash | E46: Fast Track | H46: =IF(Sessions!F60="Y","Yes","") | I46: SARAH LORENZINI · RAPID RESPONSE RN PODCAST
...
