Workbook

Sheet Sessions
A1: ENA Emergency Nursing 2026 · Education sessions Sept 29–Oct 1
A2: Type Y in the yellow Pick column. 'Competing' = sessions starting at the same time. 'Overlaps' flags your picks that clash with another pick. Source: ENA Events (Swapcard) Full Program, pulled Sept 26, 2026.
A4: Day | B4: Start | C4: End | D4: Minutes | E4: Competing | F4: Pick (Y) | G4: Overlaps | H4: Title | I4: Format | J4: Topic | K4: Room | L4: Speakers
A5: Tue Sep 29 | B5: 0.33333333 | C5: 0.39583333 | D5: =ROUND((C5-B5)*1440,0) -> 90 | E5: =COUNTIFS($A$5:$A$154,A5,$B$5:$B$154,B5) -> 1 | G5: =IF(F5="Y",IF(COUNTIFS($A$5:$A$154,A5,$F$5:$F$154,"Y",$B$5:$B$154,"<"&C5,$C$5:$C$154,">"&B5)>1,"CLASH",""),"") | H5: Emergency Nursing 2026 Opening General Session: Secrets to Lock In that Only 6% of People Know | I5: Keynote | K5: Hall E
A6: Tue Sep 29 | B6: 0.40625 | C6: 0.42013889 | D6: =ROUND((C6-B6)*1440,0) -> 20 | E6: =COUNTIFS($A$5:$A$154,A6,$B$5:$B$154,B6) -> 9 | G6: =IF(F6="Y",IF(COUNTIFS($A$5:$A$154,A6,$F$5:$F$154,"Y",$B$5:$B$154,"<"&C6,$C$5:$C$154,">"&B6)>1,"CLASH",""),"") | H6: 45 Minutes Matters: Improving ED Throughput through Interdepartmental Collaboration | I6: Fast Track | J6: Leadership & Management | K6: 121ABC | L6: ASHEL KRUETZKAMP · ST. ELIZABETH HEALTHCARE; LAURA SIMPSON
A7: Tue Sep 29 | B7: 0.40625 | C7: 0.42013889 | D7: =ROUND((C7-B7)*1440,0) -> 20 | E7: =COUNTIFS($A$5:$A$154,A7,$B$5:$B$154,B7) -> 9 | G7: =IF(F7="Y",IF(COUNTIFS($A$5:$A$154,A7,$F$5:$F$154,"Y",$B$5:$B$154,"<"&C7,$C$5:$C$154,">"&B7)>1,"CLASH",""),"") | H7: Beyond Rapid Sequence Intubation: Safe, Effective Awake Intubation Strategies for ED Nurses | I7: Fast Track | J7: Clinical | K7: 127ABC | L7: NICOLE TRAINER · GEORGE WASHINGTON UNIVERSITY
A8: Tue Sep 29 | B8: 0.40625 | C8: 0.42013889 | D8: =ROUND((C8-B8)*1440,0) -> 20 | E8: =COUNTIFS($A$5:$A$154,A8,$B$5:$B$154,B8) -> 9 | G8: =IF(F8="Y",IF(COUNTIFS($A$5:$A$154,A8,$F$5:$F$154,"Y",$B$5:$B$154,"<"&C8,$C$5:$C$154,">"&B8)>1,"CLASH",""),"") | H8: Closing the Gap: Implementing Delirium Triage Screening for Geriatric ED Patients | I8: Fast Track | J8: Educator | K8: 224AB | L8: JENNA ZEHLER · STANFORD HEALTH CARE; BRITTANY TAYLOR · STANFORD HEALTHCARE
A9: Tue Sep 29 | B9: 0.40625 | C9: 0.42013889 | D9: =ROUND((C9-B9)*1440,0) -> 20 | E9: =COUNTIFS($A$5:$A$154,A9,$B$5:$B$154,B9) -> 9 | G9: =IF(F9="Y",IF(COUNTIFS($A$5:$A$154,A9,$F$5:$F$154,"Y",$B$5:$B$154,"<"&C9,$C$5:$C$154,">"&B9)>1,"CLASH",""),"") | H9: Don't Let the Beat Drop! Pearls & Pitfalls in Transcutaneous Pacing | I9: Fast Track | J9: Air & Surface Transport | K9: 131ABC | L9: JACOB MILLER · UNIVERSITY OF CINCINNATI MEDICAL CENTER
A10: Tue Sep 29 | B10: 0.40625 | C10: 0.42013889 | D10: =ROUND((C10-B10)*1440,0) -> 20 | E10: =COUNTIFS($A$5:$A$154,A10,$B$5:$B$154,B10) -> 9 | G10: =IF(F10="Y",IF(COUNTIFS($A$5:$A$154,A10,$F$5:$F$154,"Y",$B$5:$B$154,"<"&C10,$C$5:$C$154,">"&B10)>1,"CLASH",""),"") | H10: Geriatric Trauma: Navigating Complex Care in a Vulnerable Population | I10: Fast Track | J10: Clinical | K10: 132ABC | L10: ELEANOR SANDERS-ESTES · KAISER PERMANENTE SOUTH SACRAMENTO
A11: Tue Sep 29 | B11: 0.40625 | C11: 0.42013889 | D11: =ROUND((C11-B11)*1440,0) -> 20 | E11: =COUNTIFS($A$5:$A$154,A11,$B$5:$B$154,B11) -> 9 | G11: =IF(F11="Y",IF(COUNTIFS($A$5:$A$154,A11,$F$5:$F$154,"Y",$B$5:$B$154,"<"&C11,$C$5:$C$154,">"&B11)>1,"CLASH",""),"") | H11: No Spectators Allowed: Engaging Every ED Nurse in Disaster Preparedness | I11: Fast Track | J11: Clinical | K11: 129AB | L11: CHRISTINE REID · HOUSTON METHODIST; WILLIAM HAMLYN · HOUSTON METHODIST CYPRESS
A12: Tue Sep 29 | B12: 0.40625 | C12: 0.42013889 | D12: =ROUND((C12-B12)*1440,0) -> 20 | E12: =COUNTIFS($A$5:$A$154,A12,$B$5:$B$154,B12) -> 9 | G12: =IF(F12="Y",IF(COUNTIFS($A$5:$A$154,A12,$F$5:$F$154,"Y",$B$5:$B$154,"<"&C12,$C$5:$C$154,">"&B12)>1,"CLASH",""),"") | H12: Practice Under Pressure: The Olympics of Emergency Nursing Airway Training | I12: Fast Track | J12: Educator | K12: 221ABC | L12: DAWN PETA · ALBERTA HEALTH SERVICES; REBECCA CAULFIELD · INTERNATIONAL DELEGATE
A13: Tue Sep 29 | B13: 0.40625 | C13: 0.42013889 | D13: =ROUND((C13-B13)*1440,0) -> 20 | E13: =COUNTIFS($A$5:$A$154,A13,$B$5:$B$154,B13) -> 9 | G13: =IF(F13="Y",IF(COUNTIFS($A$5:$A$154,A13,$F$5:$F$154,"Y",$B$5:$B$154,"<"&C13,$C$5:$C$154,">"&B13)>1,"CLASH",""),"") | H13: Precision Prescribing Through Pharmacogenetics | I13: Fast Track | J13: Advanced Practice | K13: 124AB | L13: SANDRA SCHINDLER · SANFORD HEALTH
A14: Tue Sep 29 | B14: 0.40625 | C14: 0.42013889 | D14: =ROUND((C14-B14)*1440,0) -> 20 | E14: =COUNTIFS($A$5:$A$154,A14,$B$5:$B$154,B14) -> 9 | G14: =IF(F14="Y",IF(COUNTIFS($A$5:$A$154,A14,$F$5:$F$154,"Y",$B$5:$B$154,"<"&C14,$C$5:$C$154,">"&B14)>1,"CLASH",""),"") | H14: Supporting Neuro-divergent Pediatric Patients in the ED | I14: Fast Track | J14: Clinical | K14: 229AB | L14: SARA DAYKIN · UNIVERSITY OF NEW MEXICO
A15: Tue Sep 29 | B15: 0.42708333 | C15: 0.45833333 | D15: =ROUND((C15-B15)*1440,0) -> 45 | E15: =COUNTIFS($A$5:$A$154,A15,$B$5:$B$154,B15) -> 9 | G15: =IF(F15="Y",IF(COUNTIFS($A$5:$A$154,A15,$F$5:$F$154,"Y",$B$5:$B$154,"<"&C15,$C$5:$C$154,">"&B15)>1,"CLASH",""),"") | H15: A Push in the Right Direction: Reinventing Alcohol Withdrawal Care | I15: Education Encounter | J15: Clinical | K15: 132ABC | L15: JENNIFER POOLE · MEDSTAR WASHINGTON HOSPITAL CENTER; JULIETTA VERISH; DANIELL KEMPTON · Inova Health
A16: Tue Sep 29 | B16: 0.42708333 | C16: 0.45833333 | D16: =ROUND((C16-B16)*1440,0) -> 45 | E16: =COUNTIFS($A$5:$A$154,A16,$B$5:$B$154,B16) -> 9 | G16: =IF(F16="Y",IF(COUNTIFS($A$5:$A$154,A16,$F$5:$F$154,"Y",$B$5:$B$154,"<"&C16,$C$5:$C$154,">"&B16)>1,"CLASH",""),"") | H16: ENA: Residency | I16: Education Encounter | J16: ENA Product | K16: 229AB | L16: Greta Pemsl · EMERGENCY NURSES ASSOCIATION
A17: Tue Sep 29 | B17: 0.42708333 | C17: 0.45833333 | D17: =ROUND((C17-B17)*1440,0) -> 45 | E17: =COUNTIFS($A$5:$A$154,A17,$B$5:$B$154,B17) -> 9 | G17: =IF(F17="Y",IF(COUNTIFS($A$5:$A$154,A17,$F$5:$F$154,"Y",$B$5:$B$154,"<"&C17,$C$5:$C$154,">"&B17)>1,"CLASH",""),"") | H17: Empowering Practice: Protocols that Improve International ED Outcomes | I17: Education Encounter | J17: Global | K17: 129AB | L17: ASHLEY BARNEY · Intermountain Health-Spanish Fork Hospital; SARAH WELLS · NEW THING NURSE; DAWN PETA · ALBERTA HEALTH SERVICES
... A23: Tue Sep 29 | B23: 0.42708333 | C23: 0.45833333 | D23: =ROUND((C23-B23)*1440,0) -> 45 | E23: =COUNTIFS($A$5:$A$154,A23,$B$5:$B$154,B23) -> 9 | G23: =IF(F23="Y",IF(COUNTIFS($A$5:$A$154,A23,$F$5:$F$154,"Y",$B$5:$B$154,"<"&C23,$C$5:$C$154,">"&B23)>1,"CLASH",""),"") | H23: Trust but Verify: AI Alerts, Clinical Judgment and Patient Safety | I23: Education Encounter | J23: Clinical | K23: 131ABC | L23: ANNA CECIL · Dnv; KATHERINE HAMMOND · OHSU
A24: Tue Sep 29 | B24: 0.46875 | C24: 0.48958333 | D24: =ROUND((C24-B24)*1440,0) -> 30 | E24: =COUNTIFS($A$5:$A$154,A24,$B$5:$B$154,B24) -> 1 | G24: =IF(F24="Y",IF(COUNTIFS($A$5:$A$154,A24,$F$5:$F$154,"Y",$B$5:$B$154,"<"&C24,$C$5:$C$154,">"&B24)>1,"CLASH",""),"") | H24: DisastER: A Tale of Two Cities: Two Hospital Evacuations in Four Months | I24: DisastER talk | K24: Hall 4-6 | L24: RYAN HAY
A25: Tue Sep 29 | B25: 0.47222222 | C25: 0.48611111 | D25: =ROUND((C25-B25)*1440,0) -> 20 | E25: =COUNTIFS($A$5:$A$154,A25,$B$5:$B$154,B25) -> 1 | G25: =IF(F25="Y",IF(COUNTIFS($A$5:$A$154,A25,$F$5:$F$154,"Y",$B$5:$B$154,"<"&C25,$C$5:$C$154,">"&B25)>1,"CLASH",""),"") | H25: ED Talks (Aerogen): Beyond the Device: Implementing Meaningful Change in Emergency Care | I25: ED Talk (sponsor) | K25: Hall 4-6
A26: Tue Sep 29 | B26: 0.48958333 | C26: 0.50347222 | D26: =ROUND((C26-B26)*1440,0) -> 20 | E26: =COUNTIFS($A$5:$A$154,A26,$B$5:$B$154,B26) -> 1 | G26: =IF(F26="Y",IF(COUNTIFS($A$5:$A$154,A26,$F$5:$F$154,"Y",$B$5:$B$154,"<"&C26,$C$5:$C$154,">"&B26)>1,"CLASH",""),"") | H26: ED Talks (Flosonics Medical): Point-of-Care Fluid Responsiveness: Why Carotid Flow Time Deserves a Place in Your ED | I26: ED Talk (sponsor) | K26: Hall 4-6
A27: Tue Sep 29 | B27: 0.5 | C27: 0.52083333 | D27: =ROUND((C27-B27)*1440,0) -> 30 | E27: =COUNTIFS($A$5:$A$154,A27,$B$5:$B$154,B27) -> 1 | G27: =IF(F27="Y",IF(COUNTIFS($A$5:$A$154,A27,$F$5:$F$154,"Y",$B$5:$B$154,"<"&C27,$C$5:$C$154,">"&B27)>1,"CLASH",""),"") | H27: DisastER: Silent Trauma: Beyond the Shift | I27: DisastER talk | K27: Hall 4-6
A28: Tue Sep 29 | B28: 0.50694444 | C28: 0.52083333 | D28: =ROUND((C28-B28)*1440,0) -> 20 | E28: =COUNTIFS($A$5:$A$154,A28,$B$5:$B$154,B28) -> 1 | G28: =IF(F28="Y",IF(COUNTIFS($A$5:$A$154,A28,$F$5:$F$154,"Y",$B$5:$B$154,"<"&C28,$C$5:$C$154,">"&B28)>1,"CLASH",""),"") | H28: ED Talks (Pelstar): You've Got Your Patient's Back. Who's Got Yours? Modernizing Patient Handling in the Emergency Department | I28: ED Talk (sponsor) | K28: Hall 4-6
A29: Tue Sep 29 | B29: 0.52083333 | C29: 0.63541667 | D29: =ROUND((C29-B29)*1440,0) -> 165 | E29: =COUNTIFS($A$5:$A$154,A29,$B$5:$B$154,B29) -> 1 | G29: =IF(F29="Y",IF(COUNTIFS($A$5:$A$154,A29,$F$5:$F$154,"Y",$B$5:$B$154,"<"&C29,$C$5:$C$154,">"&B29)>1,"CLASH",""),"") | H29: PECC Principles to Practice: Advancing Pediatric Readiness by Building Systems, Skills and Confidence | I29: Deep Dive | J29: Leadership & Management | K29: 229AB | L29: MEGAN PETRUCELLI · CT EMSC; ROBIN GOODMAN · EIIC; LAURA GARCIA · PIH HEALTH WHITTIER HOSPITAL
A30: Tue Sep 29 | B30: 0.52430556 | C30: 0.53819444 | D30: =ROUND((C30-B30)*1440,0) -> 20 | E30: =COUNTIFS($A$5:$A$154,A30,$B$5:$B$154,B30) -> 1 | G30: =IF(F30="Y",IF(COUNTIFS($A$5:$A$154,A30,$F$5:$F$154,"Y",$B$5:$B$154,"<"&C30,$C$5:$C$154,">"&B30)>1,"CLASH",""),"") | H30: ED Talks (BSN Medical Inc., an Essity Company): Make Ortho Love You: 2 Splinting Pearls That Work | I30: ED Talk (sponsor) | K30: Hall 4-6
A31: Tue Sep 29 | B31: 0.54166667 | C31: 0.63541667 | D31: =ROUND((C31-B31)*1440,0) -> 135 | E31: =COUNTIFS($A$5:$A$154,A31,$B$5:$B$154,B31) -> 6 | G31: =IF(F31="Y",IF(COUNTIFS($A$5:$A$154,A31,$F$5:$F$154,"Y",$B$5:$B$154,"<"&C31,$C$5:$C$154,">"&B31)>1,"CLASH",""),"") | H31: Mechanism to Management: Comprehensive Chest Trauma Care Across the Continuum | I31: Deep Dive | J31: Clinical | K31: 124AB | L31: JACQUELINE ROLAND · AIR NATIONAL GUARD; KATHERINE DORE · UNITED STATES AIR FORCE
A32: Tue Sep 29 | B32: 0.54166667 | C32: 0.63541667 | D32: =ROUND((C32-B32)*1440,0) -> 135 | E32: =COUNTIFS($A$5:$A$154,A32,$B$5:$B$154,B32) -> 6 | G32: =IF(F32="Y",IF(COUNTIFS($A$5:$A$154,A32,$F$5:$F$154,"Y",$B$5:$B$154,"<"&C32,$C$5:$C$154,">"&B32)>1,"CLASH",""),"") | H32: No Psychiatrist On Call: Assessment of the Suicidal Patient in Lower-resource Settings | I32: Deep Dive | J32: Clinical | K32: 221ABC | L32: LISA WOLF · UMASS AMHERST
A33: Tue Sep 29 | B33: 0.54166667 | C33: 0.57291667 | D33: =ROUND((C33-B33)*1440,0) -> 45 | E33: =COUNTIFS($A$5:$A$154,A33,$B$5:$B$154,B33) -> 6 | G33: =IF(F33="Y",IF(COUNTIFS($A$5:$A$154,A33,$F$5:$F$154,"Y",$B$5:$B$154,"<"&C33,$C$5:$C$154,">"&B33)>1,"CLASH",""),"") | H33: Right Scope, Right Practice: Planning for your career in Advanced Practice | I33: Education Encounter | J33: Advanced Practice | K33: 131ABC | L33: MARGARET CARMAN · MARTHA'S VINEYARD HOSPITAL
A34: Tue Sep 29 | B34: 0.54166667 | C34: 0.63541667 | D34: =ROUND((C34-B34)*1440,0) -> 135 | E34: =COUNTIFS($A$5:$A$154,A34,$B$5:$B$154,B34) -> 6 | G34: =IF(F34="Y",IF(COUNTIFS($A$5:$A$154,A34,$F$5:$F$154,"Y",$B$5:$B$154,"<"&C34,$C$5:$C$154,">"&B34)>1,"CLASH",""),"") | H34: Sparking a Spirit of Inquiry: EBP Skills to Challenge 'The Way We've Always Done It' | I34: Deep Dive | J34: Educator | K34: 132ABC | L34: KACI RAINEY · CHRISTIANACARE
A35: Tue Sep 29 | B35: 0.54166667 | C35: 0.63541667 | D35: =ROUND((C35-B35)*1440,0) -> 135 | E35: =COUNTIFS($A$5:$A$154,A35,$B$5:$B$154,B35) -> 6 | G35: =IF(F35="Y",IF(COUNTIFS($A$5:$A$154,A35,$F$5:$F$154,"Y",$B$5:$B$154,"<"&C35,$C$5:$C$154,">"&B35)>1,"CLASH",""),"") | H35: Trauma Around the World | I35: Deep Dive | J35: Global | K35: 121ABC | L35: REBECCA VANSTANTON · MICHIGAN ENA STATE COUNCIL
A36: Tue Sep 29 | B36: 0.54166667 | C36: 0.55555556 | D36: =ROUND((C36-B36)*1440,0) -> 20 | E36: =COUNTIFS($A$5:$A$154,A36,$B$5:$B$154,B36) -> 6 | G36: =IF(F36="Y",IF(COUNTIFS($A$5:$A$154,A36,$F$5:$F$154,"Y",$B$5:$B$154,"<"&C36,$C$5:$C$154,">"&B36)>1,"CLASH",""),"") | H36: ED Talks (Mednition): How High-Performing EDs are utilizing AI to Improve Patient Care | I36: ED Talk (sponsor) | K36: Hall 4-6
A37: Tue Sep 29 | B37: 0.55208333 | C37: 0.57291667 | D37: =ROUND((C37-B37)*1440,0) -> 30 | E37: =COUNTIFS($A$5:$A$154,A37,$B$5:$B$154,B37) -> 1 | G37: =IF(F37="Y",IF(COUNTIFS($A$5:$A$154,A37,$F$5:$F$154,"Y",$B$5:$B$154,"<"&C37,$C$5:$C$154,">"&B37)>1,"CLASH",""),"") | H37: DisastER: Transport Nurses: Who Are These People, What Do They Want, and How Can I Be One? | I37: DisastER talk | K37: Hall 4-6 | L37: MICHAEL FRAKES · BOSTON MEDFLIGHT
A38: Tue Sep 29 | B38: 0.55902778 | C38: 0.57291667 | D38: =ROUND((C38-B38)*1440,0) -> 20 | E38: =COUNTIFS($A$5:$A$154,A38,$B$5:$B$154,B38) -> 1 | G38: =IF(F38="Y",IF(COUNTIFS($A$5:$A$154,A38,$F$5:$F$154,"Y",$B$5:$B$154,"<"&C38,$C$5:$C$154,">"&B38)>1,"CLASH",""),"") | H38: ED Talks (Elsevier): Building Confidence and Competency in Emergency Nursing | I38: ED Talk (sponsor) | K38: Hall 4-6
A39: Tue Sep 29 | B39: 0.57638889 | C39: 0.59027778 | D39: =ROUND((C39-B39)*1440,0) -> 20 | E39: =COUNTIFS($A$5:$A$154,A39,$B$5:$B$154,B39) -> 1 | G39: =IF(F39="Y",IF(COUNTIFS($A$5:$A$154,A39,$F$5:$F$154,"Y",$B$5:$B$154,"<"&C39,$C$5:$C$154,">"&B39)>1,"CLASH",""),"") | H39: ED Talks (Elsevier): Preparing the Emergency Nursing Workforce for What's Next | I39: ED Talk (sponsor) | K39: Hall 4-6
A40: Tue Sep 29 | B40: 0.58333333 | C40: 0.61458333 | D40: =ROUND((C40-B40)*1440,0) -> 45 | E40: =COUNTIFS($A$5:$A$154,A40,$B$5:$B$154,B40) -> 1 | G40: =IF(F40="Y",IF(COUNTIFS($A$5:$A$154,A40,$F$5:$F$154,"Y",$B$5:$B$154,"<"&C40,$C$5:$C$154,">"&B40)>1,"CLASH",""),"") | H40: Successful Government Relations in a Challenging Political Environment – Top Advocacy Strategies to Achieve Breakthrough Results for Emergency Nurses and Their Patients | I40: Education Encounter | J40: Leadership & Management | K40: 131ABC | L40: Richard Mereu · Emergency Nurses Association
A41: Tue Sep 29 | B41: 0.59375 | C41: 0.60763889 | D41: =ROUND((C41-B41)*1440,0) -> 20 | E41: =COUNTIFS($A$5:$A$154,A41,$B$5:$B$154,B41) -> 1 | G41: =IF(F41="Y",IF(COUNTIFS($A$5:$A$154,A41,$F$5:$F$154,"Y",$B$5:$B$154,"<"&C41,$C$5:$C$154,">"&B41)>1,"CLASH",""),"") | H41: ED Talks (BD): When Innovation Becomes Personal: Redefining Patient Care | I41: ED Talk (sponsor) | K41: Hall 4-6
A42: Tue Sep 29 | B42: 0.61111111 | C42: 0.625 | D42: =ROUND((C42-B42)*1440,0) -> 20 | E42: =COUNTIFS($A$5:$A$154,A42,$B$5:$B$154,B42) -> 1 | G42: =IF(F42="Y",IF(COUNTIFS($A$5:$A$154,A42,$F$5:$F$154,"Y",$B$5:$B$154,"<"&C42,$C$5:$C$154,">"&B42)>1,"CLASH",""),"") | H42: ED Talks (Kurin): Creating Sustainable Outcomes Through Best Practices and Partnerships | I42: ED Talk (sponsor) | K42: Hall 4-6
A43: Tue Sep 29 | B43: 0.62847222 | C43: 0.64236111 | D43: =ROUND((C43-B43)*1440,0) -> 20 | E43: =COUNTIFS($A$5:$A$154,A43,$B$5:$B$154,B43) -> 1 | G43: =IF(F43="Y",IF(COUNTIFS($A$5:$A$154,A43,$F$5:$F$154,"Y",$B$5:$B$154,"<"&C43,$C$5:$C$154,">"&B43)>1,"CLASH",""),"") | H43: ED Talks (HealthStream): From Surviving to Thriving as an ED Nurse | I43: ED Talk (sponsor) | K43: Hall 4-6
A44: Tue Sep 29 | B44: 0.64583333 | C44: 0.67708333 | D44: =ROUND((C44-B44)*1440,0) -> 45 | E44: =COUNTIFS($A$5:$A$154,A44,$B$5:$B$154,B44) -> 9 | G44: =IF(F44="Y",IF(COUNTIFS($A$5:$A$154,A44,$F$5:$F$154,"Y",$B$5:$B$154,"<"&C44,$C$5:$C$154,">"&B44)>1,"CLASH",""),"") | H44: Beyond Knobs and Dials: Four Foundational Principles in Mechanical Ventilator Management | I44: Education Encounter | J44: Air & Surface Transport | K44: 127AB | L44: MICHAEL FRAKES · BOSTON MEDFLIGHT
A45: Tue Sep 29 | B45: 0.64583333 | C45: 0.67708333 | D45: =ROUND((C45-B45)*1440,0) -> 45 | E45: =COUNTIFS($A$5:$A$154,A45,$B$5:$B$154,B45) -> 9 | G45: =IF(F45="Y",IF(COUNTIFS($A$5:$A$154,A45,$F$5:$F$154,"Y",$B$5:$B$154,"<"&C45,$C$5:$C$154,">"&B45)>1,"CLASH",""),"") | H45: Improving Maternal Care with Obstetric Alerts in the ED | I45: Education Encounter | J45: Clinical | K45: 221ABC | L45: ALEXANDRA LEE · CHI ST ELIZABETH; LORI GAVER · CHI HEALTH ST. ELIZABETH
A46: Tue Sep 29 | B46: 0.64583333 | C46: 0.67708333 | D46: =ROUND((C46-B46)*1440,0) -> 45 | E46: =COUNTIFS($A$5:$A$154,A46,$B$5:$B$154,B46) -> 9 | G46: =IF(F46="Y",IF(COUNTIFS($A$5:$A$154,A46,$F$5:$F$154,"Y",$B$5:$B$154,"<"&C46,$C$5:$C$154,">"&B46)>1,"CLASH",""),"") | H46: Mediating Us vs. Them: Healing ED Inpatient Tension Through Shared EBP | I46: Education Encounter | J46: Educator | K46: 129AB | L46: ASHLEIGH MANN · ADVENTHEALTH; THERESA JONES · AdventHealth; AMY MULL · AdventHealth
A47: Tue Sep 29 | B47: 0.64583333 | C47: 0.67708333 | D47: =ROUND((C47-B47)*1440,0) -> 45 | E47: =COUNTIFS($A$5:$A$154,A47,$B$5:$B$154,B47) -> 9 | G47: =IF(F47="Y",IF(COUNTIFS($A$5:$A$154,A47,$F$5:$F$154,"Y",$B$5:$B$154,"<"&C47,$C$5:$C$154,">"&B47)>1,"CLASH",""),"") | H47: Pediatric Readiness in Action: Strengthening Care Through EMS-ED Simulation and High-reliability Team Communication | I47: Education Encounter | J47: Educator | K47: 132ABC | L47: CYNTHIA WRIGHT JOHNSON · MARYLAND EMSC; DANIELLE JOY · MEDSTAR ST. MARY'S HOSPITAL; DOUG WALTERS · TIDALHEALTH PENINSULA REGIONAL MEDICAL
A48: Tue Sep 29 | B48: 0.64583333 | C48: 0.67708333 | D48: =ROUND((C48-B48)*1440,0) -> 45 | E48: =COUNTIFS($A$5:$A$154,A48,$B$5:$B$154,B48) -> 9 | G48: =IF(F48="Y",IF(COUNTIFS($A$5:$A$154,A48,$F$5:$F$154,"Y",$B$5:$B$154,"<"&C48,$C$5:$C$154,">"&B48)>1,"CLASH",""),"") | H48: Safe and Secure: Strategies for Protecting Patients While They Wait | I48: Education Encounter | J48: Clinical | K48: 229AB | L48: KATE FOSTER · NORTHWESTERN MEDICINE CDH
A49: Tue Sep 29 | B49: 0.64583333 | C49: 0.67708333 | D49: =ROUND((C49-B49)*1440,0) -> 45 | E49: =COUNTIFS($A$5:$A$154,A49,$B$5:$B$154,B49) -> 9 | G49: =IF(F49="Y",IF(COUNTIFS($A$5:$A$154,A49,$F$5:$F$154,"Y",$B$5:$B$154,"<"&C49,$C$5:$C$154,">"&B49)>1,"CLASH",""),"") | H49: Sugar, Secrets and Scales: Adolescent DKA and Diabulimia | I49: Education Encounter | J49: Clinical | K49: 124AB | L49: TERI CAMPBELL · UNIVERSITY OF CHICAGO
A50: Tue Sep 29 | B50: 0.64583333 | C50: 0.67708333 | D50: =ROUND((C50-B50)*1440,0) -> 45 | E50: =COUNTIFS($A$5:$A$154,A50,$B$5:$B$154,B50) -> 9 | G50: =IF(F50="Y",IF(COUNTIFS($A$5:$A$154,A50,$F$5:$F$154,"Y",$B$5:$B$154,"<"&C50,$C$5:$C$154,">"&B50)>1,"CLASH",""),"") | H50: The Power of Boundaries: Preserving Your Energy and Protecting Your Peace in Nursing | I50: Education Encounter | J50: Emerging Professional | K50: 121ABC | L50: ASHLEY BARNEY · Intermountain Health-Spanish Fork Hospital; KELSEA HEIMAN · UT MD ANDERSON CANCER CENTER
A51: Tue Sep 29 | B51: 0.64583333 | C51: 0.66666667 | D51: =ROUND((C51-B51)*1440,0) -> 30 | E51: =COUNTIFS($A$5:$A$154,A51,$B$5:$B$154,B51) -> 9 | G51: =IF(F51="Y",IF(COUNTIFS($A$5:$A$154,A51,$F$5:$F$154,"Y",$B$5:$B$154,"<"&C51,$C$5:$C$154,">"&B51)>1,"CLASH",""),"") | H51: DisastER: When the Community Hospital Becomes Ground Zero: Lessons from a Rural MCI | I51: DisastER talk | K51: Hall 4-6
A52: Tue Sep 29 | B52: 0.64583333 | C52: 0.65972222 | D52: =ROUND((C52-B52)*1440,0) -> 20 | E52: =COUNTIFS($A$5:$A$154,A52,$B$5:$B$154,B52) -> 9 | G52: =IF(F52="Y",IF(COUNTIFS($A$5:$A$154,A52,$F$5:$F$154,"Y",$B$5:$B$154,"<"&C52,$C$5:$C$154,">"&B52)>1,"CLASH",""),"") | H52: ED Talks (Athena Security): Emergency Room Safety-Security Technology | I52: ED Talk (sponsor) | K52: Hall 4-6
A53: Tue Sep 29 | B53: 0.6875 | C53: 0.70138889 | D53: =ROUND((C53-B53)*1440,0) -> 20 | E53: =COUNTIFS($A$5:$A$154,A53,$B$5:$B$154,B53) -> 8 | G53: =IF(F53="Y",IF(COUNTIFS($A$5:$A$154,A53,$F$5:$F$154,"Y",$B$5:$B$154,"<"&C53,$C$5:$C$154,">"&B53)>1,"CLASH",""),"") | H53: A Secret Society: Nurses in Recovery | I53: Fast Track | J53: Leadership & Management | K53: 129AB | L53: COLLEEN CLAFFEY · MEMORIAL HEALTHCARE SYSTEM
A54: Tue Sep 29 | B54: 0.6875 | C54: 0.70138889 | D54: =ROUND((C54-B54)*1440,0) -> 20 | E54: =COUNTIFS($A$5:$A$154,A54,$B$5:$B$154,B54) -> 8 | G54: =IF(F54="Y",IF(COUNTIFS($A$5:$A$154,A54,$F$5:$F$154,"Y",$B$5:$B$154,"<"&C54,$C$5:$C$154,">"&B54)>1,"CLASH",""),"") | H54: A Year in Practice: Seasonal Presentations Every Advanced Practice Provider Should Master | I54: Fast Track | J54: Advanced Practice | K54: 121ABC | L54: JULIA PONDER
A55: Tue Sep 29 | B55: 0.6875 | C55: 0.70138889 | D55: =ROUND((C55-B55)*1440,0) -> 20 | E55: =COUNTIFS($A$5:$A$154,A55,$B$5:$B$154,B55) -> 8 | G55: =IF(F55="Y",IF(COUNTIFS($A$5:$A$154,A55,$F$5:$F$154,"Y",$B$5:$B$154,"<"&C55,$C$5:$C$154,">"&B55)>1,"CLASH",""),"") | H55: Across the Continuum: What Emergency Clinicians Must Know about Caring for International Travelers | I55: Fast Track | J55: Global | K55: 132ABC | L55: DEBBIE MCCREA · UT-HEALTH-HOUSTON
A56: Tue Sep 29 | B56: 0.6875 | C56: 0.70138889 | D56: =ROUND((C56-B56)*1440,0) -> 20 | E56: =COUNTIFS($A$5:$A$154,A56,$B$5:$B$154,B56) -> 8 | G56: =IF(F56="Y",IF(COUNTIFS($A$5:$A$154,A56,$F$5:$F$154,"Y",$B$5:$B$154,"<"&C56,$C$5:$C$154,">"&B56)>1,"CLASH",""),"") | H56: From Inbox to Impact: Specialty-designed Trauma Newsletters Transforming Bedside Learning | I56: Fast Track | J56: Educator | K56: 221ABC | L56: ELEANOR SANDERS-ESTES · KAISER PERMANENTE SOUTH SACRAMENTO
A57: Tue Sep 29 | B57: 0.6875 | C57: 0.70138889 | D57: =ROUND((C57-B57)*1440,0) -> 20 | E57: =COUNTIFS($A$5:$A$154,A57,$B$5:$B$154,B57) -> 8 | G57: =IF(F57="Y",IF(COUNTIFS($A$5:$A$154,A57,$F$5:$F$154,"Y",$B$5:$B$154,"<"&C57,$C$5:$C$154,">"&B57)>1,"CLASH",""),"") | H57: Reality vs. Myth: The Truth about Rabies | I57: Fast Track | J57: Clinical | K57: 127ABC
A58: Tue Sep 29 | B58: 0.6875 | C58: 0.70138889 | D58: =ROUND((C58-B58)*1440,0) -> 20 | E58: =COUNTIFS($A$5:$A$154,A58,$B$5:$B$154,B58) -> 8 | G58: =IF(F58="Y",IF(COUNTIFS($A$5:$A$154,A58,$F$5:$F$154,"Y",$B$5:$B$154,"<"&C58,$C$5:$C$154,">"&B58)>1,"CLASH",""),"") | H58: Space Nursing: Surviving a Shift Beyond Earth | I58: Fast Track | J58: Clinical | K58: 224AB | L58: CHERYL RANDOLPH · SAN FRANCISCO GENERAL HOSPITAL
A59: Tue Sep 29 | B59: 0.6875 | C59: 0.70138889 | D59: =ROUND((C59-B59)*1440,0) -> 20 | E59: =COUNTIFS($A$5:$A$154,A59,$B$5:$B$154,B59) -> 8 | G59: =IF(F59="Y",IF(COUNTIFS($A$5:$A$154,A59,$F$5:$F$154,"Y",$B$5:$B$154,"<"&C59,$C$5:$C$154,">"&B59)>1,"CLASH",""),"") | H59: The Case Study of Testicular Pain that Changed My Practice | I59: Fast Track | J59: Back to Basics | K59: 124AB | L59: ADAM PALOMINO
A60: Tue Sep 29 | B60: 0.6875 | C60: 0.70138889 | D60: =ROUND((C60-B60)*1440,0) -> 20 | E60: =COUNTIFS($A$5:$A$154,A60,$B$5:$B$154,B60) -> 8 | G60: =IF(F60="Y",IF(COUNTIFS($A$5:$A$154,A60,$F$5:$F$154,"Y",$B$5:$B$154,"<"&C60,$C$5:$C$154,">"&B60)>1,"CLASH",""),"") | H60: The Quiet Before the Code: Recognizing Subtle Signs of Shock Before the Vitals Crash | I60: Fast Track | J60: Back to Basics | K60: 131ABC | L60: SARAH LORENZINI · RAPID RESPONSE RN PODCAST
A61: Wed Sep 30 | B61: 0.34375 | C61: 0.375 | D61: =ROUND((C61-B61)*1440,0) -> 45 | E61: =COUNTIFS($A$5:$A$154,A61,$B$5:$B$154,B61) -> 9 | G61: =IF(F61="Y",IF(COUNTIFS($A$5:$A$154,A61,$F$5:$F$154,"Y",$B$5:$B$154,"<"&C61,$C$5:$C$154,">"&B61)>1,"CLASH",""),"") | H61: ENA: Trauma Nursing Advanced Course (TNAC): A Minimum of “3 Whys” | I61: Education Encounter | J61: ENA Product | K61: 131ABC | L61: Deb Jeffries · EMERGENCY NURSES ASSOCIATION
A62: Wed Sep 30 | B62: 0.34375 | C62: 0.375 | D62: =ROUND((C62-B62)*1440,0) -> 45 | E62: =COUNTIFS($A$5:$A$154,A62,$B$5:$B$154,B62) -> 9 | G62: =IF(F62="Y",IF(COUNTIFS($A$5:$A$154,A62,$F$5:$F$154,"Y",$B$5:$B$154,"<"&C62,$C$5:$C$154,">"&B62)>1,"CLASH",""),"") | H62: From Collapse to Compliance: How Chest Tubes Restore the Breath | I62: Education Encounter | J62: Clinical | K62: 221ABC | L62: JACQUELINE ROLAND · AIR NATIONAL GUARD
A63: Wed Sep 30 | B63: 0.34375 | C63: 0.375 | D63: =ROUND((C63-B63)*1440,0) -> 45 | E63: =COUNTIFS($A$5:$A$154,A63,$B$5:$B$154,B63) -> 9 | G63: =IF(F63="Y",IF(COUNTIFS($A$5:$A$154,A63,$F$5:$F$154,"Y",$B$5:$B$154,"<"&C63,$C$5:$C$154,">"&B63)>1,"CLASH",""),"") | H63: Grace Under Pressure: Navigating End of Life in the Emergency Department | I63: Education Encounter | J63: Clinical | K63: 129AB | L63: DEBORAH CLARK · PENN STATE WORLD CAMPUS
A64: Wed Sep 30 | B64: 0.34375 | C64: 0.375 | D64: =ROUND((C64-B64)*1440,0) -> 45 | E64: =COUNTIFS($A$5:$A$154,A64,$B$5:$B$154,B64) -> 9 | G64: =IF(F64="Y",IF(COUNTIFS($A$5:$A$154,A64,$F$5:$F$154,"Y",$B$5:$B$154,"<"&C64,$C$5:$C$154,">"&B64)>1,"CLASH",""),"") | H64: Hidden in Plain Sight: Recognizing and Responding to Strangulation in the ED | I64: Education Encounter | J64: Forensic Nursing | K64: 132ABC | L64: ALEXIS CLENDENIN · UCHEALTH; ERIN ASCHMAN · UCHEALTH
A65: Wed Sep 30 | B65: 0.34375 | C65: 0.375 | D65: =ROUND((C65-B65)*1440,0) -> 45 | E65: =COUNTIFS($A$5:$A$154,A65,$B$5:$B$154,B65) -> 9 | G65: =IF(F65="Y",IF(COUNTIFS($A$5:$A$154,A65,$F$5:$F$154,"Y",$B$5:$B$154,"<"&C65,$C$5:$C$154,">"&B65)>1,"CLASH",""),"") | H65: Leveraging AI to Transform Emergency Nursing Education: Creating Games, Online Simulations, and Tracking Competency | I65: Deep Dive | J65: Educator | K65: 224AB | L65: NICOLE TRAINER · GEORGE WASHINGTON UNIVERSITY
A66: Wed Sep 30 | B66: 0.34375 | C66: 0.375 | D66: =ROUND((C66-B66)*1440,0) -> 45 | E66: =COUNTIFS($A$5:$A$154,A66,$B$5:$B$154,B66) -> 9 | G66: =IF(F66="Y",IF(COUNTIFS($A$5:$A$154,A66,$F$5:$F$154,"Y",$B$5:$B$154,"<"&C66,$C$5:$C$154,">"&B66)>1,"CLASH",""),"") | H66: Long QT Syndrome: High‑risk QT Meds & Practice Implications | I66: Education Encounter | J66: Clinical | K66: 127ABC | L66: JOANNE NAVARROLI · CHANDLER REGIONAL MEDICAL CENTER -DIGNITY HEALTH
A67: Wed Sep 30 | B67: 0.34375 | C67: 0.375 | D67: =ROUND((C67-B67)*1440,0) -> 45 | E67: =COUNTIFS($A$5:$A$154,A67,$B$5:$B$154,B67) -> 9 | G67: =IF(F67="Y",IF(COUNTIFS($A$5:$A$154,A67,$F$5:$F$154,"Y",$B$5:$B$154,"<"&C67,$C$5:$C$154,">"&B67)>1,"CLASH",""),"") | H67: Mentoring with Purpose: Clarifying the Mentor Role | I67: Education Encounter | J67: Leadership & Management | K67: 229AB | L67: MICHELE LEE · SENTARA HEALTHCARE
A68: Wed Sep 30 | B68: 0.34375 | C68: 0.375 | D68: =ROUND((C68-B68)*1440,0) -> 45 | E68: =COUNTIFS($A$5:$A$154,A68,$B$5:$B$154,B68) -> 9 | G68: =IF(F68="Y",IF(COUNTIFS($A$5:$A$154,A68,$F$5:$F$154,"Y",$B$5:$B$154,"<"&C68,$C$5:$C$154,">"&B68)>1,"CLASH",""),"") | H68: Missing the Occlusion: The High Cost of the STEMI Misnomer | I68: Education Encounter | J68: Advanced Practice | K68: 124AB | L68: ANDREW BOWMAN · BCEM
A69: Wed Sep 30 | B69: 0.34375 | C69: 0.375 | D69: =ROUND((C69-B69)*1440,0) -> 45 | E69: =COUNTIFS($A$5:$A$154,A69,$B$5:$B$154,B69) -> 9 | G69: =IF(F69="Y",IF(COUNTIFS($A$5:$A$154,A69,$F$5:$F$154,"Y",$B$5:$B$154,"<"&C69,$C$5:$C$154,">"&B69)>1,"CLASH",""),"") | H69: System-wide Strategies to Reduce ED Boarding | I69: Education Encounter | J69: Leadership & Management | K69: 121ABC | L69: KRISTINE POWELL · BAYLOR SCOTT & WHITE HEALTH
A70: Wed Sep 30 | B70: 0.38194444 | C70: 0.39583333 | D70: =ROUND((C70-B70)*1440,0) -> 20 | E70: =COUNTIFS($A$5:$A$154,A70,$B$5:$B$154,B70) -> 1 | G70: =IF(F70="Y",IF(COUNTIFS($A$5:$A$154,A70,$F$5:$F$154,"Y",$B$5:$B$154,"<"&C70,$C$5:$C$154,">"&B70)>1,"CLASH",""),"") | H70: ED Talks (Stryker): Prevention is in: Saving Skin in the ED | I70: ED Talk (sponsor) | K70: Hall 4-6
A71: Wed Sep 30 | B71: 0.39930556 | C71: 0.41319444 | D71: =ROUND((C71-B71)*1440,0) -> 20 | E71: =COUNTIFS($A$5:$A$154,A71,$B$5:$B$154,B71) -> 1 | G71: =IF(F71="Y",IF(COUNTIFS($A$5:$A$154,A71,$F$5:$F$154,"Y",$B$5:$B$154,"<"&C71,$C$5:$C$154,">"&B71)>1,"CLASH",""),"") | H71: ED Talks (Diasorin): When Every Minute Matters: Improving Infection Decision-Making in the Emergency Department | I71: ED Talk (sponsor) | K71: Hall 4-6
A72: Wed Sep 30 | B72: 0.40625 | C72: 0.42708333 | D72: =ROUND((C72-B72)*1440,0) -> 30 | E72: =COUNTIFS($A$5:$A$154,A72,$B$5:$B$154,B72) -> 1 | G72: =IF(F72="Y",IF(COUNTIFS($A$5:$A$154,A72,$F$5:$F$154,"Y",$B$5:$B$154,"<"&C72,$C$5:$C$154,">"&B72)>1,"CLASH",""),"") | H72: DisastER: REBOA- What do we do with this? | I72: DisastER talk | K72: Hall 4-6
A73: Wed Sep 30 | B73: 0.41666667 | C73: 0.43055556 | D73: =ROUND((C73-B73)*1440,0) -> 20 | E73: =COUNTIFS($A$5:$A$154,A73,$B$5:$B$154,B73) -> 1 | G73: =IF(F73="Y",IF(COUNTIFS($A$5:$A$154,A73,$F$5:$F$154,"Y",$B$5:$B$154,"<"&C73,$C$5:$C$154,">"&B73)>1,"CLASH",""),"") | H73: ED Talks (Covista): Grace Under Pressure: The Art of Emergency Department Leadership | I73: ED Talk (sponsor) | K73: Hall 4-6
A74: Wed Sep 30 | B74: 0.43402778 | C74: 0.44791667 | D74: =ROUND((C74-B74)*1440,0) -> 20 | E74: =COUNTIFS($A$5:$A$154,A74,$B$5:$B$154,B74) -> 1 | G74: =IF(F74="Y",IF(COUNTIFS($A$5:$A$154,A74,$F$5:$F$154,"Y",$B$5:$B$154,"<"&C74,$C$5:$C$154,">"&B74)>1,"CLASH",""),"") | H74: ED Talks (Teleflex): Rapid Blood and Fluid Infusion Performance Evaluation | I74: ED Talk (sponsor) | K74: Hall 4-6
A75: Wed Sep 30 | B75: 0.4375 | C75: 0.51041667 | D75: =ROUND((C75-B75)*1440,0) -> 105 | E75: =COUNTIFS($A$5:$A$154,A75,$B$5:$B$154,B75) -> 7 | G75: =IF(F75="Y",IF(COUNTIFS($A$5:$A$154,A75,$F$5:$F$154,"Y",$B$5:$B$154,"<"&C75,$C$5:$C$154,">"&B75)>1,"CLASH",""),"") | H75: Advanced Pupil Measurement and Interpretation | I75: Deep Dive | J75: Advanced Practice | K75: 229AB | L75: DAIWAI OLSON · UT SOUTHWESTERN, DALLAS, TX, USA
A76: Wed Sep 30 | B76: 0.4375 | C76: 0.46875 | D76: =ROUND((C76-B76)*1440,0) -> 45 | E76: =COUNTIFS($A$5:$A$154,A76,$B$5:$B$154,B76) -> 7 | G76: =IF(F76="Y",IF(COUNTIFS($A$5:$A$154,A76,$F$5:$F$154,"Y",$B$5:$B$154,"<"&C76,$C$5:$C$154,">"&B76)>1,"CLASH",""),"") | H76: DNP Panel | I76: Education Encounter | J76: Advanced Practice | K76: 127ABC | L76: JULIA PONDER
A77: Wed Sep 30 | B77: 0.4375 | C77: 0.46875 | D77: =ROUND((C77-B77)*1440,0) -> 45 | E77: =COUNTIFS($A$5:$A$154,A77,$B$5:$B$154,B77) -> 7 | G77: =IF(F77="Y",IF(COUNTIFS($A$5:$A$154,A77,$F$5:$F$154,"Y",$B$5:$B$154,"<"&C77,$C$5:$C$154,">"&B77)>1,"CLASH",""),"") | H77: Decluttering the Nonsense: Helping Early Career Nurses Thrive in the ED | I77: Education Encounter | J77: Global | K77: 129AB | L77: SARAH WELLS · NEW THING NURSE; WALTER SERGIO LUGARI · STÄDTISCHES KLINIKUM SOLINGEN
A78: Wed Sep 30 | B78: 0.4375 | C78: 0.46875 | D78: =ROUND((C78-B78)*1440,0) -> 45 | E78: =COUNTIFS($A$5:$A$154,A78,$B$5:$B$154,B78) -> 7 | G78: =IF(F78="Y",IF(COUNTIFS($A$5:$A$154,A78,$F$5:$F$154,"Y",$B$5:$B$154,"<"&C78,$C$5:$C$154,">"&B78)>1,"CLASH",""),"") | H78: Global Emergency Care, Beyond Hospital Walls: Extending Care into the Community to Reduce ED Attendance and Boarding | I78: Education Encounter | J78: Global | K78: 124AB | L78: RUSETTE TESANI · JMHCC; COLIN FLEMING · CLEVELAND CLINIC ABU DHABI; CHRISTOPHER JOHN FERNANDEZ · SCARBOROUGH HEALTH NETWORK
A79: Wed Sep 30 | B79: 0.4375 | C79: 0.5 | D79: =ROUND((C79-B79)*1440,0) -> 90 | E79: =COUNTIFS($A$5:$A$154,A79,$B$5:$B$154,B79) -> 7 | G79: =IF(F79="Y",IF(COUNTIFS($A$5:$A$154,A79,$F$5:$F$154,"Y",$B$5:$B$154,"<"&C79,$C$5:$C$154,">"&B79)>1,"CLASH",""),"") | H79: Lighting the Way to Excellence: Lantern Award Panel Session | I79: Deep Dive | J79: Leadership & Management | K79: 132ABC | L79: ALEX WILSON · BANNER ESTRELLA MEDICAL CENTER; MELISSA CRAMER; IVAN CLUTE · THE QUEENS MEDICAL CENTER; KATHERINE ANN GABIN; KRISTIN QUEJA and others
A80: Wed Sep 30 | B80: 0.4375 | C80: 0.46875 | D80: =ROUND((C80-B80)*1440,0) -> 45 | E80: =COUNTIFS($A$5:$A$154,A80,$B$5:$B$154,B80) -> 7 | G80: =IF(F80="Y",IF(COUNTIFS($A$5:$A$154,A80,$F$5:$F$154,"Y",$B$5:$B$154,"<"&C80,$C$5:$C$154,">"&B80)>1,"CLASH",""),"") | H80: Red Flags & Rapid Decisions: Black Box Warnings and High-risk Medications You Should Know | I80: Education Encounter | J80: Back to Basics | K80: 224AB | L80: KATHERINE HAMMOND · OHSU; ERIC CHRISTENSEN · EHC CONSULTING, LLC
A81: Wed Sep 30 | B81: 0.4375 | C81: 0.46875 | D81: =ROUND((C81-B81)*1440,0) -> 45 | E81: =COUNTIFS($A$5:$A$154,A81,$B$5:$B$154,B81) -> 7 | G81: =IF(F81="Y",IF(COUNTIFS($A$5:$A$154,A81,$F$5:$F$154,"Y",$B$5:$B$154,"<"&C81,$C$5:$C$154,">"&B81)>1,"CLASH",""),"") | H81: Seeing Spots: Measles Considerations for Health Care Providers | I81: Education Encounter | J81: Clinical | K81: 221ABC | L81: AMY KRUPA · RILEY HOSPITAL FOR CHILDREN AT IU HEALTH
A82: Wed Sep 30 | B82: 0.45138889 | C82: 0.46527778 | D82: =ROUND((C82-B82)*1440,0) -> 20 | E82: =COUNTIFS($A$5:$A$154,A82,$B$5:$B$154,B82) -> 1 | G82: =IF(F82="Y",IF(COUNTIFS($A$5:$A$154,A82,$F$5:$F$154,"Y",$B$5:$B$154,"<"&C82,$C$5:$C$154,">"&B82)>1,"CLASH",""),"") | H82: ED Talks (ImPACTS): From Assessment to Action: Helping Emergency Departments Advance Pediatric Readiness | I82: ED Talk (sponsor) | K82: Hall 4-6
A83: Wed Sep 30 | B83: 0.46875 | C83: 0.48958333 | D83: =ROUND((C83-B83)*1440,0) -> 30 | E83: =COUNTIFS($A$5:$A$154,A83,$B$5:$B$154,B83) -> 2 | G83: =IF(F83="Y",IF(COUNTIFS($A$5:$A$154,A83,$F$5:$F$154,"Y",$B$5:$B$154,"<"&C83,$C$5:$C$154,">"&B83)>1,"CLASH",""),"") | H83: DisastER: Aviation Lessons for Emergency Teams | I83: DisastER talk | K83: Hall 4-6
A84: Wed Sep 30 | B84: 0.46875 | C84: 0.48263889 | D84: =ROUND((C84-B84)*1440,0) -> 20 | E84: =COUNTIFS($A$5:$A$154,A84,$B$5:$B$154,B84) -> 2 | G84: =IF(F84="Y",IF(COUNTIFS($A$5:$A$154,A84,$F$5:$F$154,"Y",$B$5:$B$154,"<"&C84,$C$5:$C$154,">"&B84)>1,"CLASH",""),"") | H84: ED Talks (Kedrion Biopharma): Don’t Just Scratch the Surface: Increase Your Rabies PEP Knowledge and Confidence | I84: ED Talk (sponsor) | K84: Hall 4-6
A85: Wed Sep 30 | B85: 0.5 | C85: 0.53125 | D85: =ROUND((C85-B85)*1440,0) -> 45 | E85: =COUNTIFS($A$5:$A$154,A85,$B$5:$B$154,B85) -> 1 | G85: =IF(F85="Y",IF(COUNTIFS($A$5:$A$154,A85,$F$5:$F$154,"Y",$B$5:$B$154,"<"&C85,$C$5:$C$154,">"&B85)>1,"CLASH",""),"") | H85: Inside the Journal of Emergency Nursing: An Open Forum with the Editors | I85: Education Encounter | J85: Educator | K85: 121ABC | L85: ALISON DAY; MICHAEL CALLIHAN · UNCG
A86: Wed Sep 30 | B86: 0.52083333 | C86: 0.53472222 | D86: =ROUND((C86-B86)*1440,0) -> 20 | E86: =COUNTIFS($A$5:$A$154,A86,$B$5:$B$154,B86) -> 8 | G86: =IF(F86="Y",IF(COUNTIFS($A$5:$A$154,A86,$F$5:$F$154,"Y",$B$5:$B$154,"<"&C86,$C$5:$C$154,">"&B86)>1,"CLASH",""),"") | H86: Addressing Pain and Addiction: CNS-led Community Engagement and Indirect Patient Care | I86: Fast Track | J86: Advanced Practice | K86: 124AB | L86: MIRANDA SCOGGINS · ADVOCATE HEALTH
A87: Wed Sep 30 | B87: 0.52083333 | C87: 0.53472222 | D87: =ROUND((C87-B87)*1440,0) -> 20 | E87: =COUNTIFS($A$5:$A$154,A87,$B$5:$B$154,B87) -> 8 | G87: =IF(F87="Y",IF(COUNTIFS($A$5:$A$154,A87,$F$5:$F$154,"Y",$B$5:$B$154,"<"&C87,$C$5:$C$154,">"&B87)>1,"CLASH",""),"") | H87: Fall Reduction in the ED: A Nursing-led Initiative | I87: Fast Track | J87: Clinical | K87: 229AB | L87: BRITTANY TAYLOR · STANFORD HEALTHCARE
A88: Wed Sep 30 | B88: 0.52083333 | C88: 0.53472222 | D88: =ROUND((C88-B88)*1440,0) -> 20 | E88: =COUNTIFS($A$5:$A$154,A88,$B$5:$B$154,B88) -> 8 | G88: =IF(F88="Y",IF(COUNTIFS($A$5:$A$154,A88,$F$5:$F$154,"Y",$B$5:$B$154,"<"&C88,$C$5:$C$154,">"&B88)>1,"CLASH",""),"") | H88: Game On: A Hands-on Learning Approach to Teaching ED Triage and Flow | I88: Fast Track | J88: Educator | K88: 224AB | L88: MELISSA RATZMER · FROEDTERT THEDACARE
A89: Wed Sep 30 | B89: 0.52083333 | C89: 0.53472222 | D89: =ROUND((C89-B89)*1440,0) -> 20 | E89: =COUNTIFS($A$5:$A$154,A89,$B$5:$B$154,B89) -> 8 | G89: =IF(F89="Y",IF(COUNTIFS($A$5:$A$154,A89,$F$5:$F$154,"Y",$B$5:$B$154,"<"&C89,$C$5:$C$154,">"&B89)>1,"CLASH",""),"") | H89: If It Is Not Documented, It Did Not Happen: ED Charting for Safety and Accountability | I89: Fast Track | J89: Clinical | K89: 131ABC | L89: DAWN PETA · ALBERTA HEALTH SERVICES; ANNA CECIL · Dnv
A90: Wed Sep 30 | B90: 0.52083333 | C90: 0.53472222 | D90: =ROUND((C90-B90)*1440,0) -> 20 | E90: =COUNTIFS($A$5:$A$154,A90,$B$5:$B$154,B90) -> 8 | G90: =IF(F90="Y",IF(COUNTIFS($A$5:$A$154,A90,$F$5:$F$154,"Y",$B$5:$B$154,"<"&C90,$C$5:$C$154,">"&B90)>1,"CLASH",""),"") | H90: Keep It Simple: Quick Interventions That Can Positively Impact Pediatric Outcomes | I90: Fast Track | J90: Clinical | K90: 132ABC | L90: SARA DAYKIN · UNIVERSITY OF NEW MEXICO
A91: Wed Sep 30 | B91: 0.52083333 | C91: 0.53472222 | D91: =ROUND((C91-B91)*1440,0) -> 20 | E91: =COUNTIFS($A$5:$A$154,A91,$B$5:$B$154,B91) -> 8 | G91: =IF(F91="Y",IF(COUNTIFS($A$5:$A$154,A91,$F$5:$F$154,"Y",$B$5:$B$154,"<"&C91,$C$5:$C$154,">"&B91)>1,"CLASH",""),"") | H91: The Exit Mystery Solved: Smarter Coding for Safer Care | I91: Fast Track | J91: Leadership & Management | K91: 221ABC | L91: JENNIFER POOLE · MEDSTAR WASHINGTON HOSPITAL CENTER; DANIELL KEMPTON · Inova Health
A92: Wed Sep 30 | B92: 0.52083333 | C92: 0.53472222 | D92: =ROUND((C92-B92)*1440,0) -> 20 | E92: =COUNTIFS($A$5:$A$154,A92,$B$5:$B$154,B92) -> 8 | G92: =IF(F92="Y",IF(COUNTIFS($A$5:$A$154,A92,$F$5:$F$154,"Y",$B$5:$B$154,"<"&C92,$C$5:$C$154,">"&B92)>1,"CLASH",""),"") | H92: To Clot or Not to Clot: Viscoelastic Testing in Trauma-induced Coagulopathy | I92: Fast Track | J92: Clinical | K92: 129AB | L92: JUSTIN MILICI · ELSEVIER CLINICAL SOLUTIONS
A93: Wed Sep 30 | B93: 0.52083333 | C93: 0.53472222 | D93: =ROUND((C93-B93)*1440,0) -> 20 | E93: =COUNTIFS($A$5:$A$154,A93,$B$5:$B$154,B93) -> 8 | G93: =IF(F93="Y",IF(COUNTIFS($A$5:$A$154,A93,$F$5:$F$154,"Y",$B$5:$B$154,"<"&C93,$C$5:$C$154,">"&B93)>1,"CLASH",""),"") | H93: What Does the Patient LOOK Like? A Discussion on Documentation | I93: Fast Track | J93: Back to Basics | K93: 127ABC | L93: DEBRA DELANEY · DELANEY HEALTHCARE
A94: Wed Sep 30 | B94: 0.54166667 | C94: 0.63541667 | D94: =ROUND((C94-B94)*1440,0) -> 135 | E94: =COUNTIFS($A$5:$A$154,A94,$B$5:$B$154,B94) -> 1 | G94: =IF(F94="Y",IF(COUNTIFS($A$5:$A$154,A94,$F$5:$F$154,"Y",$B$5:$B$154,"<"&C94,$C$5:$C$154,">"&B94)>1,"CLASH",""),"") | H94: The Complexity of Trauma Care: A Concept-mapping Experience | I94: Deep Dive | J94: Clinical | K94: 222ABC | L94: Deb Jeffries · EMERGENCY NURSES ASSOCIATION
A95: Wed Sep 30 | B95: 0.54513889 | C95: 0.55902778 | D95: =ROUND((C95-B95)*1440,0) -> 20 | E95: =COUNTIFS($A$5:$A$154,A95,$B$5:$B$154,B95) -> 8 | G95: =IF(F95="Y",IF(COUNTIFS($A$5:$A$154,A95,$F$5:$F$154,"Y",$B$5:$B$154,"<"&C95,$C$5:$C$154,">"&B95)>1,"CLASH",""),"") | H95: Breathe Easier, Treat Faster: A Nurse-led Protocol for Pediatric Asthma in the ED | I95: Fast Track | J95: Clinical | K95: 132ABC | L95: JOLIE MRSNY · STANFORD HEALTH CARE; LINDSEY CATTERSON · STANFORD HEALTH CARE
A96: Wed Sep 30 | B96: 0.54513889 | C96: 0.55902778 | D96: =ROUND((C96-B96)*1440,0) -> 20 | E96: =COUNTIFS($A$5:$A$154,A96,$B$5:$B$154,B96) -> 8 | G96: =IF(F96="Y",IF(COUNTIFS($A$5:$A$154,A96,$F$5:$F$154,"Y",$B$5:$B$154,"<"&C96,$C$5:$C$154,">"&B96)>1,"CLASH",""),"") | H96: Heat Emergencies Can Happen Anywhere: Recognition Management and Response | I96: Fast Track | J96: Clinical | K96: 121ABC | L96: JOANNE NAVARROLI · CHANDLER REGIONAL MEDICAL CENTER -DIGNITY HEALTH
... A108: Wed Sep 30 | B108: 0.57291667 | C108: 0.60416667 | D108: =ROUND((C108-B108)*1440,0) -> 45 | E108: =COUNTIFS($A$5:$A$154,A108,$B$5:$B$154,B108) -> 9 | G108: =IF(F108="Y",IF(COUNTIFS($A$5:$A$154,A108,$F$5:$F$154,"Y",$B$5:$B$154,"<"&C108,$C$5:$C$154,">"&B108)>1,"CLASH",""),"") | H108: Take the Mic: Your Guide to Speaking at ENA Conference | I108: Education Encounter | J108: Leadership & Management | K108: 229AB | L108: ROGER CECIL · IMAGETREND; RHONDA MANOR COOMBES · BAYLOR SCOTT & WHITE LAKEWAY
A109: Wed Sep 30 | B109: 0.57291667 | C109: 0.60416667 | D109: =ROUND((C109-B109)*1440,0) -> 45 | E109: =COUNTIFS($A$5:$A$154,A109,$B$5:$B$154,B109) -> 9 | G109: =IF(F109="Y",IF(COUNTIFS($A$5:$A$154,A109,$F$5:$F$154,"Y",$B$5:$B$154,"<"&C109,$C$5:$C$154,">"&B109)>1,"CLASH",""),"") | H109: Ten Reasons You Should Never Trust a Newborn | I109: Education Encounter | J109: Clinical | K109: 121ABC
A110: Wed Sep 30 | B110: 0.57291667 | C110: 0.60416667 | D110: =ROUND((C110-B110)*1440,0) -> 45 | E110: =COUNTIFS($A$5:$A$154,A110,$B$5:$B$154,B110) -> 9 | G110: =IF(F110="Y",IF(COUNTIFS($A$5:$A$154,A110,$F$5:$F$154,"Y",$B$5:$B$154,"<"&C110,$C$5:$C$154,">"&B110)>1,"CLASH",""),"") | H110: The Awake but Not Okay Patient: High-Risk Neuro Cases You Can't Miss | I110: Education Encounter | J110: Clinical | K110: 224AB | L110: ASHLEY MARTINEZ-MALO · HCA FLORIDA NORTH FLORIDA HOSPITAL; SARAH LORENZINI · RAPID RESPONSE RN PODCAST
A111: Wed Sep 30 | B111: 0.57291667 | C111: 0.60416667 | D111: =ROUND((C111-B111)*1440,0) -> 45 | E111: =COUNTIFS($A$5:$A$154,A111,$B$5:$B$154,B111) -> 9 | G111: =IF(F111="Y",IF(COUNTIFS($A$5:$A$154,A111,$F$5:$F$154,"Y",$B$5:$B$154,"<"&C111,$C$5:$C$154,">"&B111)>1,"CLASH",""),"") | H111: Your Next Shift: Expanding Your Career Beyond the Bedside | I111: Education Encounter | J111: Leadership & Management | K111: 124AB | L111: KATHY VAN DUSEN · AACN; TERI CAMPBELL · UNIVERSITY OF CHICAGO; MARGARET CARMAN · MARTHA'S VINEYARD HOSPITAL
A112: Wed Sep 30 | B112: 0.61458333 | C112: 0.64583333 | D112: =ROUND((C112-B112)*1440,0) -> 45 | E112: =COUNTIFS($A$5:$A$154,A112,$B$5:$B$154,B112) -> 8 | G112: =IF(F112="Y",IF(COUNTIFS($A$5:$A$154,A112,$F$5:$F$154,"Y",$B$5:$B$154,"<"&C112,$C$5:$C$154,">"&B112)>1,"CLASH",""),"") | H112: Atopic Dermatitis: Management of the Condition, Comorbidities and Complications | I112: Education Encounter | J112: Advanced Practice | K112: 124AB | L112: TIFFANY NIELSEN · UNIVERSITY OF CALIFORNIA, IRVINE; CANDICE WHEALON
A113: Wed Sep 30 | B113: 0.61458333 | C113: 0.64583333 | D113: =ROUND((C113-B113)*1440,0) -> 45 | E113: =COUNTIFS($A$5:$A$154,A113,$B$5:$B$154,B113) -> 8 | G113: =IF(F113="Y",IF(COUNTIFS($A$5:$A$154,A113,$F$5:$F$154,"Y",$B$5:$B$154,"<"&C113,$C$5:$C$154,">"&B113)>1,"CLASH",""),"") | H113: ENA: Lucky #7: ENPC's Brand New 7th Edition | I113: Education Encounter | J113: ENA Product | K113: 131ABC | L113: Courtney Simmons · EMERGENCY NURSES ASSOCIATION
A114: Wed Sep 30 | B114: 0.61458333 | C114: 0.64583333 | D114: =ROUND((C114-B114)*1440,0) -> 45 | E114: =COUNTIFS($A$5:$A$154,A114,$B$5:$B$154,B114) -> 8 | G114: =IF(F114="Y",IF(COUNTIFS($A$5:$A$154,A114,$F$5:$F$154,"Y",$B$5:$B$154,"<"&C114,$C$5:$C$154,">"&B114)>1,"CLASH",""),"") | H114: From Awareness to Action: Trauma-informed Care for the Health Care Team | I114: Education Encounter | J114: Educator | K114: 129AB | L114: ZOE FRENCH · OVERLAKE HOSPTIAL
A115: Wed Sep 30 | B115: 0.61458333 | C115: 0.64583333 | D115: =ROUND((C115-B115)*1440,0) -> 45 | E115: =COUNTIFS($A$5:$A$154,A115,$B$5:$B$154,B115) -> 8 | G115: =IF(F115="Y",IF(COUNTIFS($A$5:$A$154,A115,$F$5:$F$154,"Y",$B$5:$B$154,"<"&C115,$C$5:$C$154,">"&B115)>1,"CLASH",""),"") | H115: No One Gets Left Behind: Making the Invisible - VISIBLE! | I115: Education Encounter | J115: Global | K115: 132ABC | L115: TISHA D. THOMPSON DNP RN · University of Maryland Shore Regional Health
A116: Wed Sep 30 | B116: 0.61458333 | C116: 0.71875 | D116: =ROUND((C116-B116)*1440,0) -> 150 | E116: =COUNTIFS($A$5:$A$154,A116,$B$5:$B$154,B116) -> 8 | G116: =IF(F116="Y",IF(COUNTIFS($A$5:$A$154,A116,$F$5:$F$154,"Y",$B$5:$B$154,"<"&C116,$C$5:$C$154,">"&B116)>1,"CLASH",""),"") | H116: Process Improvement (PI) Showcase | I116: Deep Dive | J116: Educator | K116: 229AB
A117: Wed Sep 30 | B117: 0.61458333 | C117: 0.64583333 | D117: =ROUND((C117-B117)*1440,0) -> 45 | E117: =COUNTIFS($A$5:$A$154,A117,$B$5:$B$154,B117) -> 8 | G117: =IF(F117="Y",IF(COUNTIFS($A$5:$A$154,A117,$F$5:$F$154,"Y",$B$5:$B$154,"<"&C117,$C$5:$C$154,">"&B117)>1,"CLASH",""),"") | H117: Recognizing and Managing Oncology Emergencies: A High-Level Overview | I117: Education Encounter | J117: Clinical | K117: 127ABC | L117: ISADORA VIEIRA; ALESSIA LAMANNA · SUNNYBROOK HEALTH SCIENCES CENTRE; LOWYL NOTARIO · Sunnybrook Health Sciences Centre
...

Sheet Recordings Checklist
A1: Recordings checklist
A2: Type Y in Watched and CNE Claimed as you go. Includes all Fast Track, Education Encounter and Deep Dive lectures plus the two keynotes.
A3: Watched | B3: =COUNTIF(F6:F132,"Y")&" of "&COUNTA(D6:D132) -> 0 of 127 | C3: CNE claimed | D3: =COUNTIF(G6:G132,"Y")&" of "&COUNTA(D6:D132) -> 0 of 127
A5: Day | B5: Start | C5: Minutes | D5: Title | E5: Format | F5: Watched (Y) | G5: CNE Claimed (Y) | H5: Picked live? | I5: Speakers
A6: Tue Sep 29 | B6: 0.33333333 | C6: 90 | D6: Emergency Nursing 2026 Opening General Session: Secrets to Lock In that Only 6% of People Know | E6: Keynote | H6: =IF(Sessions!F5="Y","Yes","")
A7: Tue Sep 29 | B7: 0.40625 | C7: 20 | D7: 45 Minutes Matters: Improving ED Throughput through Interdepartmental Collaboration | E7: Fast Track | H7: =IF(Sessions!F6="Y","Yes","") | I7: ASHEL KRUETZKAMP · ST. ELIZABETH HEALTHCARE; LAURA SIMPSON
A8: Tue Sep 29 | B8: 0.40625 | C8: 20 | D8: Beyond Rapid Sequence Intubation: Safe, Effective Awake Intubation Strategies for ED Nurses | E8: Fast Track | H8: =IF(Sessions!F7="Y","Yes","") | I8: NICOLE TRAINER · GEORGE WASHINGTON UNIVERSITY
A9: Tue Sep 29 | B9: 0.40625 | C9: 20 | D9: Closing the Gap: Implementing Delirium Triage Screening for Geriatric ED Patients | E9: Fast Track | H9: =IF(Sessions!F8="Y","Yes","") | I9: JENNA ZEHLER · STANFORD HEALTH CARE; BRITTANY TAYLOR · STANFORD HEALTHCARE
A10: Tue Sep 29 | B10: 0.40625 | C10: 20 | D10: Don't Let the Beat Drop! Pearls & Pitfalls in Transcutaneous Pacing | E10: Fast Track | H10: =IF(Sessions!F9="Y","Yes","") | I10: JACOB MILLER · UNIVERSITY OF CINCINNATI MEDICAL CENTER
A11: Tue Sep 29 | B11: 0.40625 | C11: 20 | D11: Geriatric Trauma: Navigating Complex Care in a Vulnerable Population | E11: Fast Track | H11: =IF(Sessions!F10="Y","Yes","") | I11: ELEANOR SANDERS-ESTES · KAISER PERMANENTE SOUTH SACRAMENTO
A12: Tue Sep 29 | B12: 0.40625 | C12: 20 | D12: No Spectators Allowed: Engaging Every ED Nurse in Disaster Preparedness | E12: Fast Track | H12: =IF(Sessions!F11="Y","Yes","") | I12: CHRISTINE REID · HOUSTON METHODIST; WILLIAM HAMLYN · HOUSTON METHODIST CYPRESS
A13: Tue Sep 29 | B13: 0.40625 | C13: 20 | D13: Practice Under Pressure: The Olympics of Emergency Nursing Airway Training | E13: Fast Track | H13: =IF(Sessions!F12="Y","Yes","") | I13: DAWN PETA · ALBERTA HEALTH SERVICES; REBECCA CAULFIELD · INTERNATIONAL DELEGATE
A14: Tue Sep 29 | B14: 0.40625 | C14: 20 | D14: Precision Prescribing Through Pharmacogenetics | E14: Fast Track | H14: =IF(Sessions!F13="Y","Yes","") | I14: SANDRA SCHINDLER · SANFORD HEALTH
A15: Tue Sep 29 | B15: 0.40625 | C15: 20 | D15: Supporting Neuro-divergent Pediatric Patients in the ED | E15: Fast Track | H15: =IF(Sessions!F14="Y","Yes","") | I15: SARA DAYKIN · UNIVERSITY OF NEW MEXICO
A16: Tue Sep 29 | B16: 0.42708333 | C16: 45 | D16: A Push in the Right Direction: Reinventing Alcohol Withdrawal Care | E16: Education Encounter | H16: =IF(Sessions!F15="Y","Yes","") | I16: JENNIFER POOLE · MEDSTAR WASHINGTON HOSPITAL CENTER; JULIETTA VERISH; DANIELL KEMPTON · Inova Health
A17: Tue Sep 29 | B17: 0.42708333 | C17: 45 | D17: ENA: Residency | E17: Education Encounter | H17: =IF(Sessions!F16="Y","Yes","") | I17: Greta Pemsl · EMERGENCY NURSES ASSOCIATION
A18: Tue Sep 29 | B18: 0.42708333 | C18: 45 | D18: Empowering Practice: Protocols that Improve International ED Outcomes | E18: Education Encounter | H18: =IF(Sessions!F17="Y","Yes","") | I18: ASHLEY BARNEY · Intermountain Health-Spanish Fork Hospital; SARAH WELLS · NEW THING NURSE; DAWN PETA · ALBERTA HEALTH SERVICES
... A24: Tue Sep 29 | B24: 0.42708333 | C24: 45 | D24: Trust but Verify: AI Alerts, Clinical Judgment and Patient Safety | E24: Education Encounter | H24: =IF(Sessions!F23="Y","Yes","") | I24: ANNA CECIL · Dnv; KATHERINE HAMMOND · OHSU
A25: Tue Sep 29 | B25: 0.52083333 | C25: 165 | D25: PECC Principles to Practice: Advancing Pediatric Readiness by Building Systems, Skills and Confidence | E25: Deep Dive | H25: =IF(Sessions!F29="Y","Yes","") | I25: MEGAN PETRUCELLI · CT EMSC; ROBIN GOODMAN · EIIC; LAURA GARCIA · PIH HEALTH WHITTIER HOSPITAL
A26: Tue Sep 29 | B26: 0.54166667 | C26: 135 | D26: Mechanism to Management: Comprehensive Chest Trauma Care Across the Continuum | E26: Deep Dive | H26: =IF(Sessions!F31="Y","Yes","") | I26: JACQUELINE ROLAND · AIR NATIONAL GUARD; KATHERINE DORE · UNITED STATES AIR FORCE
A27: Tue Sep 29 | B27: 0.54166667 | C27: 135 | D27: No Psychiatrist On Call: Assessment of the Suicidal Patient in Lower-resource Settings | E27: Deep Dive | H27: =IF(Sessions!F32="Y","Yes","") | I27: LISA WOLF · UMASS AMHERST
A28: Tue Sep 29 | B28: 0.54166667 | C28: 45 | D28: Right Scope, Right Practice: Planning for your career in Advanced Practice | E28: Education Encounter | H28: =IF(Sessions!F33="Y","Yes","") | I28: MARGARET CARMAN · MARTHA'S VINEYARD HOSPITAL
A29: Tue Sep 29 | B29: 0.54166667 | C29: 135 | D29: Sparking a Spirit of Inquiry: EBP Skills to Challenge 'The Way We've Always Done It' | E29: Deep Dive | H29: =IF(Sessions!F34="Y","Yes","") | I29: KACI RAINEY · CHRISTIANACARE
A30: Tue Sep 29 | B30: 0.54166667 | C30: 135 | D30: Trauma Around the World | E30: Deep Dive | H30: =IF(Sessions!F35="Y","Yes","") | I30: REBECCA VANSTANTON · MICHIGAN ENA STATE COUNCIL
A31: Tue Sep 29 | B31: 0.58333333 | C31: 45 | D31: Successful Government Relations in a Challenging Political Environment – Top Advocacy Strategies to Achieve Breakthrough Results for Emergency Nurses and Their Patients | E31: Education Encounter | H31: =IF(Sessions!F40="Y","Yes","") | I31: Richard Mereu · Emergency Nurses Association
A32: Tue Sep 29 | B32: 0.64583333 | C32: 45 | D32: Beyond Knobs and Dials: Four Foundational Principles in Mechanical Ventilator Management | E32: Education Encounter | H32: =IF(Sessions!F44="Y","Yes","") | I32: MICHAEL FRAKES · BOSTON MEDFLIGHT
A33: Tue Sep 29 | B33: 0.64583333 | C33: 45 | D33: Improving Maternal Care with Obstetric Alerts in the ED | E33: Education Encounter | H33: =IF(Sessions!F45="Y","Yes","") | I33: ALEXANDRA LEE · CHI ST ELIZABETH; LORI GAVER · CHI HEALTH ST. ELIZABETH
A34: Tue Sep 29 | B34: 0.64583333 | C34: 45 | D34: Mediating Us vs. Them: Healing ED Inpatient Tension Through Shared EBP | E34: Education Encounter | H34: =IF(Sessions!F46="Y","Yes","") | I34: ASHLEIGH MANN · ADVENTHEALTH; THERESA JONES · AdventHealth; AMY MULL · AdventHealth
A35: Tue Sep 29 | B35: 0.64583333 | C35: 45 | D35: Pediatric Readiness in Action: Strengthening Care Through EMS-ED Simulation and High-reliability Team Communication | E35: Education Encounter | H35: =IF(Sessions!F47="Y","Yes","") | I35: CYNTHIA WRIGHT JOHNSON · MARYLAND EMSC; DANIELLE JOY · MEDSTAR ST. MARY'S HOSPITAL; DOUG WALTERS · TIDALHEALTH PENINSULA REGIONAL MEDICAL
A36: Tue Sep 29 | B36: 0.64583333 | C36: 45 | D36: Safe and Secure: Strategies for Protecting Patients While They Wait | E36: Education Encounter | H36: =IF(Sessions!F48="Y","Yes","") | I36: KATE FOSTER · NORTHWESTERN MEDICINE CDH
A37: Tue Sep 29 | B37: 0.64583333 | C37: 45 | D37: Sugar, Secrets and Scales: Adolescent DKA and Diabulimia | E37: Education Encounter | H37: =IF(Sessions!F49="Y","Yes","") | I37: TERI CAMPBELL · UNIVERSITY OF CHICAGO
A38: Tue Sep 29 | B38: 0.64583333 | C38: 45 | D38: The Power of Boundaries: Preserving Your Energy and Protecting Your Peace in Nursing | E38: Education Encounter | H38: =IF(Sessions!F50="Y","Yes","") | I38: ASHLEY BARNEY · Intermountain Health-Spanish Fork Hospital; KELSEA HEIMAN · UT MD ANDERSON CANCER CENTER
A39: Tue Sep 29 | B39: 0.6875 | C39: 20 | D39: A Secret Society: Nurses in Recovery | E39: Fast Track | H39: =IF(Sessions!F53="Y","Yes","") | I39: COLLEEN CLAFFEY · MEMORIAL HEALTHCARE SYSTEM
A40: Tue Sep 29 | B40: 0.6875 | C40: 20 | D40: A Year in Practice: Seasonal Presentations Every Advanced Practice Provider Should Master | E40: Fast Track | H40: =IF(Sessions!F54="Y","Yes","") | I40: JULIA PONDER
A41: Tue Sep 29 | B41: 0.6875 | C41: 20 | D41: Across the Continuum: What Emergency Clinicians Must Know about Caring for International Travelers | E41: Fast Track | H41: =IF(Sessions!F55="Y","Yes","") | I41: DEBBIE MCCREA · UT-HEALTH-HOUSTON
A42: Tue Sep 29 | B42: 0.6875 | C42: 20 | D42: From Inbox to Impact: Specialty-designed Trauma Newsletters Transforming Bedside Learning | E42: Fast Track | H42: =IF(Sessions!F56="Y","Yes","") | I42: ELEANOR SANDERS-ESTES · KAISER PERMANENTE SOUTH SACRAMENTO
A43: Tue Sep 29 | B43: 0.6875 | C43: 20 | D43: Reality vs. Myth: The Truth about Rabies | E43: Fast Track | H43: =IF(Sessions!F57="Y","Yes","")
A44: Tue Sep 29 | B44: 0.6875 | C44: 20 | D44: Space Nursing: Surviving a Shift Beyond Earth | E44: Fast Track | H44: =IF(Sessions!F58="Y","Yes","") | I44: CHERYL RANDOLPH · SAN FRANCISCO GENERAL HOSPITAL
A45: Tue Sep 29 | B45: 0.6875 | C45: 20 | D45: The Case Study of Testicular Pain that Changed My Practice | E45: Fast Track | H45: =IF(Sessions!F59="Y","Yes","") | I45: ADAM PALOMINO
A46: Tue Sep 29 | B46: 0.6875 | C46: 20 | D46: The Quiet Before the Code: Recognizing Subtle Signs of Shock Before the Vitals Crash | E46: Fast Track | H46: =IF(Sessions!F60="Y","Yes","") | I46: SARAH LORENZINI · RAPID RESPONSE RN PODCAST
A47: Wed Sep 30 | B47: 0.34375 | C47: 45 | D47: ENA: Trauma Nursing Advanced Course (TNAC): A Minimum of “3 Whys” | E47: Education Encounter | H47: =IF(Sessions!F61="Y","Yes","") | I47: Deb Jeffries · EMERGENCY NURSES ASSOCIATION
A48: Wed Sep 30 | B48: 0.34375 | C48: 45 | D48: From Collapse to Compliance: How Chest Tubes Restore the Breath | E48: Education Encounter | H48: =IF(Sessions!F62="Y","Yes","") | I48: JACQUELINE ROLAND · AIR NATIONAL GUARD
A49: Wed Sep 30 | B49: 0.34375 | C49: 45 | D49: Grace Under Pressure: Navigating End of Life in the Emergency Department | E49: Education Encounter | H49: =IF(Sessions!F63="Y","Yes","") | I49: DEBORAH CLARK · PENN STATE WORLD CAMPUS
A50: Wed Sep 30 | B50: 0.34375 | C50: 45 | D50: Hidden in Plain Sight: Recognizing and Responding to Strangulation in the ED | E50: Education Encounter | H50: =IF(Sessions!F64="Y","Yes","") | I50: ALEXIS CLENDENIN · UCHEALTH; ERIN ASCHMAN · UCHEALTH
A51: Wed Sep 30 | B51: 0.34375 | C51: 45 | D51: Leveraging AI to Transform Emergency Nursing Education: Creating Games, Online Simulations, and Tracking Competency | E51: Deep Dive | H51: =IF(Sessions!F65="Y","Yes","") | I51: NICOLE TRAINER · GEORGE WASHINGTON UNIVERSITY
A52: Wed Sep 30 | B52: 0.34375 | C52: 45 | D52: Long QT Syndrome: High‑risk QT Meds & Practice Implications | E52: Education Encounter | H52: =IF(Sessions!F66="Y","Yes","") | I52: JOANNE NAVARROLI · CHANDLER REGIONAL MEDICAL CENTER -DIGNITY HEALTH
A53: Wed Sep 30 | B53: 0.34375 | C53: 45 | D53: Mentoring with Purpose: Clarifying the Mentor Role | E53: Education Encounter | H53: =IF(Sessions!F67="Y","Yes","") | I53: MICHELE LEE · SENTARA HEALTHCARE
A54: Wed Sep 30 | B54: 0.34375 | C54: 45 | D54: Missing the Occlusion: The High Cost of the STEMI Misnomer | E54: Education Encounter | H54: =IF(Sessions!F68="Y","Yes","") | I54: ANDREW BOWMAN · BCEM
A55: Wed Sep 30 | B55: 0.34375 | C55: 45 | D55: System-wide Strategies to Reduce ED Boarding | E55: Education Encounter | H55: =IF(Sessions!F69="Y","Yes","") | I55: KRISTINE POWELL · BAYLOR SCOTT & WHITE HEALTH
A56: Wed Sep 30 | B56: 0.4375 | C56: 105 | D56: Advanced Pupil Measurement and Interpretation | E56: Deep Dive | H56: =IF(Sessions!F75="Y","Yes","") | I56: DAIWAI OLSON · UT SOUTHWESTERN, DALLAS, TX, USA
A57: Wed Sep 30 | B57: 0.4375 | C57: 45 | D57: DNP Panel | E57: Education Encounter | H57: =IF(Sessions!F76="Y","Yes","") | I57: JULIA PONDER
A58: Wed Sep 30 | B58: 0.4375 | C58: 45 | D58: Decluttering the Nonsense: Helping Early Career Nurses Thrive in the ED | E58: Education Encounter | H58: =IF(Sessions!F77="Y","Yes","") | I58: SARAH WELLS · NEW THING NURSE; WALTER SERGIO LUGARI · STÄDTISCHES KLINIKUM SOLINGEN
A59: Wed Sep 30 | B59: 0.4375 | C59: 45 | D59: Global Emergency Care, Beyond Hospital Walls: Extending Care into the Community to Reduce ED Attendance and Boarding | E59: Education Encounter | H59: =IF(Sessions!F78="Y","Yes","") | I59: RUSETTE TESANI · JMHCC; COLIN FLEMING · CLEVELAND CLINIC ABU DHABI; CHRISTOPHER JOHN FERNANDEZ · SCARBOROUGH HEALTH NETWORK
A60: Wed Sep 30 | B60: 0.4375 | C60: 90 | D60: Lighting the Way to Excellence: Lantern Award Panel Session | E60: Deep Dive | H60: =IF(Sessions!F79="Y","Yes","") | I60: ALEX WILSON · BANNER ESTRELLA MEDICAL CENTER; MELISSA CRAMER; IVAN CLUTE · THE QUEENS MEDICAL CENTER; KATHERINE ANN GABIN; KRISTIN QUEJA and others
A61: Wed Sep 30 | B61: 0.4375 | C61: 45 | D61: Red Flags & Rapid Decisions: Black Box Warnings and High-risk Medications You Should Know | E61: Education Encounter | H61: =IF(Sessions!F80="Y","Yes","") | I61: KATHERINE HAMMOND · OHSU; ERIC CHRISTENSEN · EHC CONSULTING, LLC
A62: Wed Sep 30 | B62: 0.4375 | C62: 45 | D62: Seeing Spots: Measles Considerations for Health Care Providers | E62: Education Encounter | H62: =IF(Sessions!F81="Y","Yes","") | I62: AMY KRUPA · RILEY HOSPITAL FOR CHILDREN AT IU HEALTH
A63: Wed Sep 30 | B63: 0.5 | C63: 45 | D63: Inside the Journal of Emergency Nursing: An Open Forum with the Editors | E63: Education Encounter | H63: =IF(Sessions!F85="Y","Yes","") | I63: ALISON DAY; MICHAEL CALLIHAN · UNCG
A64: Wed Sep 30 | B64: 0.52083333 | C64: 20 | D64: Addressing Pain and Addiction: CNS-led Community Engagement and Indirect Patient Care | E64: Fast Track | H64: =IF(Sessions!F86="Y","Yes","") | I64: MIRANDA SCOGGINS · ADVOCATE HEALTH
A65: Wed Sep 30 | B65: 0.52083333 | C65: 20 | D65: Fall Reduction in the ED: A Nursing-led Initiative | E65: Fast Track | H65: =IF(Sessions!F87="Y","Yes","") | I65: BRITTANY TAYLOR · STANFORD HEALTHCARE
A66: Wed Sep 30 | B66: 0.52083333 | C66: 20 | D66: Game On: A Hands-on Learning Approach to Teaching ED Triage and Flow | E66: Fast Track | H66: =IF(Sessions!F88="Y","Yes","") | I66: MELISSA RATZMER · FROEDTERT THEDACARE
A67: Wed Sep 30 | B67: 0.52083333 | C67: 20 | D67: If It Is Not Documented, It Did Not Happen: ED Charting for Safety and Accountability | E67: Fast Track | H67: =IF(Sessions!F89="Y","Yes","") | I67: DAWN PETA · ALBERTA HEALTH SERVICES; ANNA CECIL · Dnv
A68: Wed Sep 30 | B68: 0.52083333 | C68: 20 | D68: Keep It Simple: Quick Interventions That Can Positively Impact Pediatric Outcomes | E68: Fast Track | H68: =IF(Sessions!F90="Y","Yes","") | I68: SARA DAYKIN · UNIVERSITY OF NEW MEXICO
A69: Wed Sep 30 | B69: 0.52083333 | C69: 20 | D69: The Exit Mystery Solved: Smarter Coding for Safer Care | E69: Fast Track | H69: =IF(Sessions!F91="Y","Yes","") | I69: JENNIFER POOLE · MEDSTAR WASHINGTON HOSPITAL CENTER; DANIELL KEMPTON · Inova Health
A70: Wed Sep 30 | B70: 0.52083333 | C70: 20 | D70: To Clot or Not to Clot: Viscoelastic Testing in Trauma-induced Coagulopathy | E70: Fast Track | H70: =IF(Sessions!F92="Y","Yes","") | I70: JUSTIN MILICI · ELSEVIER CLINICAL SOLUTIONS
A71: Wed Sep 30 | B71: 0.52083333 | C71: 20 | D71: What Does the Patient LOOK Like? A Discussion on Documentation | E71: Fast Track | H71: =IF(Sessions!F93="Y","Yes","") | I71: DEBRA DELANEY · DELANEY HEALTHCARE
A72: Wed Sep 30 | B72: 0.54166667 | C72: 135 | D72: The Complexity of Trauma Care: A Concept-mapping Experience | E72: Deep Dive | H72: =IF(Sessions!F94="Y","Yes","") | I72: Deb Jeffries · EMERGENCY NURSES ASSOCIATION
A73: Wed Sep 30 | B73: 0.54513889 | C73: 20 | D73: Breathe Easier, Treat Faster: A Nurse-led Protocol for Pediatric Asthma in the ED | E73: Fast Track | H73: =IF(Sessions!F95="Y","Yes","") | I73: JOLIE MRSNY · STANFORD HEALTH CARE; LINDSEY CATTERSON · STANFORD HEALTH CARE
A74: Wed Sep 30 | B74: 0.54513889 | C74: 20 | D74: Heat Emergencies Can Happen Anywhere: Recognition Management and Response | E74: Fast Track | H74: =IF(Sessions!F96="Y","Yes","") | I74: JOANNE NAVARROLI · CHANDLER REGIONAL MEDICAL CENTER -DIGNITY HEALTH
... A86: Wed Sep 30 | B86: 0.57291667 | C86: 45 | D86: Take the Mic: Your Guide to Speaking at ENA Conference | E86: Education Encounter | H86: =IF(Sessions!F108="Y","Yes","") | I86: ROGER CECIL · IMAGETREND; RHONDA MANOR COOMBES · BAYLOR SCOTT & WHITE LAKEWAY
A87: Wed Sep 30 | B87: 0.57291667 | C87: 45 | D87: Ten Reasons You Should Never Trust a Newborn | E87: Education Encounter | H87: =IF(Sessions!F109="Y","Yes","")
A88: Wed Sep 30 | B88: 0.57291667 | C88: 45 | D88: The Awake but Not Okay Patient: High-Risk Neuro Cases You Can't Miss | E88: Education Encounter | H88: =IF(Sessions!F110="Y","Yes","") | I88: ASHLEY MARTINEZ-MALO · HCA FLORIDA NORTH FLORIDA HOSPITAL; SARAH LORENZINI · RAPID RESPONSE RN PODCAST
A89: Wed Sep 30 | B89: 0.57291667 | C89: 45 | D89: Your Next Shift: Expanding Your Career Beyond the Bedside | E89: Education Encounter | H89: =IF(Sessions!F111="Y","Yes","") | I89: KATHY VAN DUSEN · AACN; TERI CAMPBELL · UNIVERSITY OF CHICAGO; MARGARET CARMAN · MARTHA'S VINEYARD HOSPITAL
A90: Wed Sep 30 | B90: 0.61458333 | C90: 45 | D90: Atopic Dermatitis: Management of the Condition, Comorbidities and Complications | E90: Education Encounter | H90: =IF(Sessions!F112="Y","Yes","") | I90: TIFFANY NIELSEN · UNIVERSITY OF CALIFORNIA, IRVINE; CANDICE WHEALON
A91: Wed Sep 30 | B91: 0.61458333 | C91: 45 | D91: ENA: Lucky #7: ENPC's Brand New 7th Edition | E91: Education Encounter | H91: =IF(Sessions!F113="Y","Yes","") | I91: Courtney Simmons · EMERGENCY NURSES ASSOCIATION
A92: Wed Sep 30 | B92: 0.61458333 | C92: 45 | D92: From Awareness to Action: Trauma-informed Care for the Health Care Team | E92: Education Encounter | H92: =IF(Sessions!F114="Y","Yes","") | I92: ZOE FRENCH · OVERLAKE HOSPTIAL
A93: Wed Sep 30 | B93: 0.61458333 | C93: 45 | D93: No One Gets Left Behind: Making the Invisible - VISIBLE! | E93: Education Encounter | H93: =IF(Sessions!F115="Y","Yes","") | I93: TISHA D. THOMPSON DNP RN · University of Maryland Shore Regional Health
A94: Wed Sep 30 | B94: 0.61458333 | C94: 150 | D94: Process Improvement (PI) Showcase | E94: Deep Dive | H94: =IF(Sessions!F116="Y","Yes","")
A95: Wed Sep 30 | B95: 0.61458333 | C95: 45 | D95: Recognizing and Managing Oncology Emergencies: A High-Level Overview | E95: Education Encounter | H95: =IF(Sessions!F117="Y","Yes","") | I95: ISADORA VIEIRA; ALESSIA LAMANNA · SUNNYBROOK HEALTH SCIENCES CENTRE; LOWYL NOTARIO · Sunnybrook Health Sciences Centre
A96: Wed Sep 30 | B96: 0.61458333 | C96: 45 | D96: The Harsh Truth About Leading Others: What Your Promotion Letter Didn't Mention | E96: Education Encounter | H96: =IF(Sessions!F118="Y","Yes","") | I96: DEBRA DELANEY · DELANEY HEALTHCARE
A97: Wed Sep 30 | B97: 0.61458333 | C97: 45 | D97: Use Your Head: Managing Traumatic Brain Injuries | E97: Education Encounter | H97: =IF(Sessions!F119="Y","Yes","") | I97: JACOB MILLER · UNIVERSITY OF CINCINNATI MEDICAL CENTER
A98: Wed Sep 30 | B98: 0.65625 | C98: 45 | D98: A Picture CAN Be Worth a Thousand Words: A Primer for New Leaders on How to Visualize Data | E98: Education Encounter | H98: =IF(Sessions!F120="Y","Yes","") | I98: KRISTINE POWELL · BAYLOR SCOTT & WHITE HEALTH
A99: Wed Sep 30 | B99: 0.65625 | C99: 45 | D99: Beyond Epinephrine and Antihistamines: A Case Study of Angioedema Management | E99: Education Encounter | H99: =IF(Sessions!F121="Y","Yes","") | I99: Greta Pemsl · EMERGENCY NURSES ASSOCIATION
A100: Wed Sep 30 | B100: 0.65625 | C100: 45 | D100: Clicks, Clips & Clinical Judgement: Educating the TikTok Generation of Nurses | E100: Education Encounter | H100: =IF(Sessions!F122="Y","Yes","") | I100: RYAN MION; ROBERT HENNIGAR · HMH HACKENSACK MERIDIAN HEALTH
A101: Wed Sep 30 | B101: 0.65625 | C101: 45 | D101: ENA: The Evolution of the Trauma Nursing Core Course (TNCC): The History and Horizon | E101: Education Encounter | H101: =IF(Sessions!F123="Y","Yes","") | I101: Deb Jeffries · EMERGENCY NURSES ASSOCIATION
A102: Wed Sep 30 | B102: 0.65625 | C102: 45 | D102: Forecasting Endocrine Emergencies: Storms, Freezes and System Failures | E102: Education Encounter | H102: =IF(Sessions!F124="Y","Yes","") | I102: TOBI SANETRA · Regions Hospital; JENNIFER PEDERSON · HEALTHPARTNERS
A103: Wed Sep 30 | B103: 0.65625 | C103: 45 | D103: Implementation of an ED Nurse Navigator for Efficient Patient Throughput | E103: Education Encounter | H103: =IF(Sessions!F125="Y","Yes","") | I103: COLLEEN CONNOR; ERIN CHESSON
A104: Thu Oct 1 | B104: 0.33333333 | C104: 60 | D104: Emergency Nursing 2026 Sun-Rise & Reflect Session | E104: Keynote | H104: =IF(Sessions!F126="Y","Yes","")
A105: Thu Oct 1 | B105: 0.38541667 | C105: 45 | D105: "What Do I Want to Do When I Grow Up?" | E105: Education Encounter | H105: =IF(Sessions!F127="Y","Yes","") | I105: ROGER CECIL · IMAGETREND
A106: Thu Oct 1 | B106: 0.38541667 | C106: 45 | D106: Disaster by Design: What Emergency Nurses Can Learn from the Fireground | E106: Education Encounter | H106: =IF(Sessions!F128="Y","Yes","") | I106: GINA SLOBOGIN · SOLHEIM ENTERPRISES
A107: Thu Oct 1 | B107: 0.38541667 | C107: 45 | D107: GLP-1s: Emergency Care when Patients Take a Shot at Weight Management | E107: Education Encounter | H107: =IF(Sessions!F129="Y","Yes","") | I107: ANDI FOLEY · MEDNITION
A108: Thu Oct 1 | B108: 0.38541667 | C108: 45 | D108: High-Risk Fever, High-Reliability Care: An Emergency Department Pathway for Pediatric Oncology Patients | E108: Education Encounter | H108: =IF(Sessions!F130="Y","Yes","") | I108: MARISSA GUARNERE · INOVA FAIRFAX HOSPITAL; STEPHANIE TURNER · INOVA FAIRFAX HOSPITAL; HARTLEY WENGER · INOVA L.J. MURPHY CHILDREN'S HOSPITAL
A109: Thu Oct 1 | B109: 0.38541667 | C109: 45 | D109: Kawasaki Disease: Avoiding the Missed Diagnosis | E109: Education Encounter | H109: =IF(Sessions!F131="Y","Yes","")
A110: Thu Oct 1 | B110: 0.38541667 | C110: 45 | D110: Leading Yourself First: Building a Healthy Emergency Department, One Shift at a Time | E110: Education Encounter | H110: =IF(Sessions!F132="Y","Yes","") | I110: ANDREW SLIFKO · Engage
A111: Thu Oct 1 | B111: 0.38541667 | C111: 45 | D111: Lessons from the County Coroner: Collaborative Education and Debriefing for Emergency Nurses | E111: Education Encounter | H111: =IF(Sessions!F133="Y","Yes","") | I111: BRADLEY RUND · Shelbyville Fire Dept. / Major Health Partners
A112: Thu Oct 1 | B112: 0.38541667 | C112: 45 | D112: Stripping the Stigma: Reducing Bias and Improving Care for Mental Health Pediatric Patients in the ED | E112: Education Encounter | H112: =IF(Sessions!F134="Y","Yes","") | I112: JAMLA RIZEK · ADVENTURES WITH NURSE JAMLA; ASHLEY BARNEY · Intermountain Health-Spanish Fork Hospital; SARAH WELLS · NEW THING NURSE; DAWN PETA · ALBERTA HEALTH SERVICES
A113: Thu Oct 1 | B113: 0.38541667 | C113: 45 | D113: The ED Skills Gauntlet: Innovative Relay-style Simulation for Nurse Onboarding | E113: Education Encounter | H113: =IF(Sessions!F135="Y","Yes","") | I113: CAMMI LABOA · Lee Health
A114: Thu Oct 1 | B114: 0.38541667 | C114: 45 | D114: Through the Eyes of Migrant Nurses in the ED: A Global Perspective | E114: Education Encounter | H114: =IF(Sessions!F136="Y","Yes","") | I114: RUSETTE TESANI · JMHCC
A115: Thu Oct 1 | B115: 0.42708333 | C115: 45 | D115: Disaster Nursing Foundations: Building Preparedness, Resilience and Trauma-informed Practice for Early-career Nurses | E115: Education Encounter | H115: =IF(Sessions!F137="Y","Yes","") | I115: JAMLA RIZEK · ADVENTURES WITH NURSE JAMLA; SARAH WELLS · NEW THING NURSE
A116: Thu Oct 1 | B116: 0.42708333 | C116: 45 | D116: Don't CRASH your Patient! Mitigating the Physiologically Difficult Airway | E116: Education Encounter | H116: =IF(Sessions!F138="Y","Yes","") | I116: JACOB MILLER · UNIVERSITY OF CINCINNATI MEDICAL CENTER
A117: Thu Oct 1 | B117: 0.42708333 | C117: 45 | D117: Global Perspectives: International Approaches to Emergency Nursing Skills, Systems, and Successes | E117: Education Encounter | H117: =IF(Sessions!F139="Y","Yes","") | I117: TRENT MOSER · ALBERTA HEALTH SERVICES
...
