Workbook
Name ________________________________RMR1: #N/A
Name ________________________________RMR1: IF('Slab Culvert Drawing'!Values_Entered,[0]!Header_Row+'Slab Culvert Drawing'!Number_of_Payments,[0]!Header_Row)
Name ________________________________RMR1: #N/A
Name _______________________________RMR1: #N/A
Name _____________________________RMR1: #N/A
Name ___________________________RMR1: #N/A
Name _________________________RMR1: #N/A
Name ________________________IRC40: [1]MRATES!$M$12
Name ________________________IRC40: [2]MRATES!$M$12
Name ________________________IRC40: [1]MRATES!$M$12
Name ________________________RMR1: #N/A
Name _______________________IRC12: [1]MRATES!$M$9
Name _______________________IRC12: [2]MRATES!$M$9
Name _______________________IRC12: [1]MRATES!$M$9
Name _______________________IRC19: [1]MRATES!$M$10
Name _______________________IRC19: [2]MRATES!$M$10
Name _______________________IRC19: [1]MRATES!$M$10
Name _______________________IRC25: [1]MRATES!$M$11
Name _______________________IRC25: [2]MRATES!$M$11
Name _______________________IRC25: [1]MRATES!$M$11
Name _______________________IRC40: [3]MRATES!$M$12
Name _______________________IRC5: [1]MRATES!$M$7
Name _______________________IRC5: [2]MRATES!$M$7
Name _______________________IRC5: [1]MRATES!$M$7
Name _______________________IRC50: [1]MRATES!$M$13
Name _______________________IRC50: [2]MRATES!$M$13
Name _______________________IRC50: [1]MRATES!$M$13
Name _______________________IRC9: [1]MRATES!$M$8
Name _______________________IRC9: [2]MRATES!$M$8
Name _______________________IRC9: [1]MRATES!$M$8
Name _______________________RMR1: #N/A
Name _______________________SS10: [1]MRATES!$J$7
Name _______________________SS10: [2]MRATES!$J$7
Name _______________________SS10: [1]MRATES!$J$7
Name _______________________SS12: [1]MRATES!$J$8
Name _______________________SS12: [2]MRATES!$J$8
Name _______________________SS12: [1]MRATES!$J$8
Name _______________________SS20: [1]MRATES!$J$9
Name _______________________SS20: [2]MRATES!$J$9
Name _______________________SS20: [1]MRATES!$J$9
Name _______________________SS25: [1]MRATES!$J$10
Name _______________________SS25: [2]MRATES!$J$10
Name _______________________SS25: [1]MRATES!$J$10
Name _______________________SS40: [1]MRATES!$J$11
Name _______________________SS40: [2]MRATES!$J$11
Name _______________________SS40: [1]MRATES!$J$11
Name _______________________SS6: [1]MRATES!$J$6
Name _______________________SS6: [2]MRATES!$J$6
Name _______________________SS6: [1]MRATES!$J$6
Name ______________________IRC12: [3]MRATES!$M$9
Name ______________________IRC19: [3]MRATES!$M$10
Name ______________________IRC25: [3]MRATES!$M$11
Name ______________________IRC5: [3]MRATES!$M$7
Name ______________________IRC50: [3]MRATES!$M$13
Name ______________________IRC60: [1]MRATES!$M$14
Name ______________________IRC60: [2]MRATES!$M$14
Name ______________________IRC60: [1]MRATES!$M$14
Name ______________________IRC9: [3]MRATES!$M$8
Name ______________________RMR1: #N/A
Name ______________________SS10: [3]MRATES!$J$7

Sheet 0000000000000

Sheet 1000000000000

Sheet Cover
B18: ROADS & BUILDINGS DEPARTMENT
B20: Name of work : | D20: Construction of Helipad with Cement concrete for the visit of Hon'ble Chief Minister of Andhra pradesh Sri Nara Chandrababu Naidu Garu on the occasion of "Pattadar Pass Book- distribution" Programme at Siddantham village of Penugonda mandal (Achanta constituency)in West Godavari District on 8.6.2026.
C28: Estimate Amount : | G28: =Abstract!G18/100000 -> 7.8 | I28: Lakhs
B32: Assembly Constituency : Achanta
B34: Parliament Constituency : Narsapuram
B38: (R&B) Section : Penugonda
B40: (R&B) Sub-Division : Tanuku
B42: (R&B) Division : Bhimavaram
B44: (R&B) Circle : Eluru
B46: WEST GODAVARI DISTRICT

Sheet Specification
B1: Specification Report to accompany the estimate “Construction of Helipad with Cement concrete for the visit of Hon'ble Chief Minister of Andhra pradesh Sri Nara Chandrababu Naidu Garu on the occasion of "Pattadar Pass Book- distribution" Programme at Siddantham village of Penugonda mandal (Achanta constituency)in West Godavari District on 8.6.2026.”
E2: Estimate Amount :- | H2: =Abstract!G18/100000 -> 7.8 | I2: Lakhs
B3: Authority :-
B4: Instructions of the Higher Authorities in view of visit of Hon'ble Chief minister of Andhra Pradesh Sri Nara Chandrababu Naidu at Siddantham of Penugonda Mandal in West Godavari District on Dt 8.6.2026 on Pass Book Distribution programme . The Collector &Disrtict Magistrate,W.G.Dt was instructed vide proceedings e- File No. 1976814/Cord/Proto/2025 Dt.3.06.2026of the Collector & DistructMgistrate,West GodavariDistrict, Bhimavaram. For arrangements of construction of Helipad for Landing Helicopter at Siddantham village of Penugonda Mandal of Achanta Assembly constituency. | K4: The Siddantham - Juttiga road (SH215) is an important State Highway in the West Godavari District. This road connects NH216A with State Highways Martair - Prakkilanka road (SH022) and Kanuru - Lankalakoderu Road (SH228). This road connects number of villeages like Penugonda, Kakileru, Kanteru, Karthavapadu, Podalada and Juttiga. The agricultural produces from the surrounding villages are transported to the nearest market places by this road. The road stretch in the village limits has an built up area along the road causes stagnation of rain water during every rainy season on the road causes damage to the road. Hence, it is essential to provide CC pavement in the village limits. This road was damaged with deep sunken portions and pot holes due to recent cyclonic rains. The public was facing much inconcenience while plying on this road due to damaged condition of the road. The traffic intensity on this road is very high. This road was last renewed during the year 2011-12.
B5: Necessity:-
B6: Accordingly the Estimate is prepared as per the instructions of the Higher Authorities for construction of Helipad arrangements on private layout at Siddantham with CC Helipad as per instructions of the higher Authorities for security of the landing of chapper..
B7: Hence an estimate is prepared with the following Provisions.
C8: Provisions:-
B9: 1 | C9: Scarifying the existing B.T surface to a depth of 50 mm by Mechanical means and disposal of scarified material with all leads and lifts upto 1000 Mtrs as per MoRT&H (5th Revision) Specn. No.305.4.3
B10: 2 | C10: Providing, Laying, Spreading and compacting graded HBG crushed stone aggregate to Wet Mix macadem specification (5th Revision) as per Table 400-13, including cost of all materials and including premixing the material with water at OMC in Mechanical mix plant carriage of mixed material by tipper to site, laying in uniform layers with paver in base courses on well prepared surface and compacting with Vibratory roller to acheive the desired density etc., as directed by the Engineer-in-Charge and as per MoRT&H specification 406 (5th revision) for finished item of work.
B11: 3 | C11: Providing and applying prime coat with bitumen emulsion (SS1) Bulk using emulsion pressure distributor on prepared surface of granular base including clearing of road surface and spraying emulsion at the rate of 0.70 kg/sqm using emulsion pressure distributor for finished item of work etc., complete as per MoRT&H Specification 502 (5th revision) and as directed by the Engineer-in-charge
B12: 4 | C12: Providing and applying tack coat with bitumen VG-10 (Bulk) using Bitumen pressure distributor at the rate of 0.25 kgs per sqm on the prepared Granular surface treated with primer cleaned with mechanical broom for finished item of work as per MoRT&H Specification 503 (5th revision) and as directed by the Engineer-in-Charge.
B13: 1 | C13: =Estimate!B53 -> Forming Subgrade with borrowed useful selected soils having MDD of not less than 1.75 gm/cc and CBR not less than 10%, from outside road boundary by mechanical means up to SDR with all leads and lifts including pre-watering of soil at borrow area, removal of top soil, excavation of soils at borrowed area, conveyance of soil, depositing the soil on the embankment, spreading soil, breaking clods, sectioning, grading and consolidation with 8 to 10 Tonnes Vibratory Road Roller @ OMC to meet requirement of table 300-2 of MoRT&H, including all hire and operational charges of T&P, complete for finished item of work as per MoRT&H (5th Revision) Specification Clause No. 305
B14: 2 | C14: =Estimate!B98 -> Construction of Granular sub-base by providing HBG material confirming to Grading - V of MoRT&H Table 400-1 including cost and conveyance of all materials to work site and spreading in uniform layers with motor grader or by approved means, on prepared surface mixing by mix in place method with Rotavator / approved means at OMC and compacting with vibratory roller to achieve the desired density etc., complete for finished item of work as per MoRT&H Specification 401 (5th revision) and as directed by the Engineer-in-charge.
B15: 1 | C15: =Estimate!B104 -> Vibrated reinforced cement concrete M 25 grade using 20mm & 10mm HBG crushed stone aggregate (Coarse aggregate conforming to table 1000-1 and fine aggregate conforming to table 1000-2) including cost, conveyance of all materials to site and labour charges, centering, machine mixing, laying, vibrating, curing etc., including all other incidental and operational charges of all T&P etc., complete for finished item of work as per Approved drawing but excluding cost of steel and its fabrication charges as per MoRT&H specification 1500, 1600, 1700 & 2704 (5th Revision) and as directed by the Engineer-in-Charge
B16: 2 | C16: =Estimate!B109 -> Painting with best approved white cement two coats including cost and conveyance of all materials and labour charges, cost of brushes etc., complete for finished item of work.
B17: 5 | C17: Forming embankment with borrowed useful earth from outside road boundary by mechanical means upto SDR with all leads and lifts including pre-watering of soil at borrow area, removal of top soil, excavation of soils at borrowed area, conveyance of soil, depositing the soil on the embankment, spreading soil, breaking clods, sectioning, grading and consolidation with 8 to 10 Tonnes Vibratory Road Roller @ OMC to meet requirement of table 300-2 of MoRT&H, including all hire and operational charges of T&P, complete for finished item of work as per MoRT&H specification 305 (5th revision) (Payment will be made based on level for finished item of work).
B18: 3 | C18: =Estimate!B117 -> Hire chargesd of front end loader for clearing Debris and levelling ground including oils and all other incidental charges etc as directed by the engineer -in -charge
B19: 11 | C19: Providing B.T. patch work for pot holes using 20mm HBG machine crushed metal with required quantity of 10 to 12mm size HBG key chips and 80/100 grade 72 kgs /1 cum of work for filling the pot holes including removal of loose material in the pot holes, trimming the edges to provideform vertical faces, cleaning the surface, applying tack coat with hot bitumen, filling the pot holes compacting with power road roller of 8 to 10 T and finishing including cost and conveyance of materials T&P charges and all labour charges for all operations etc., complete for finished item of work as directed by the Engineer-In-Charge.
B20: 4 | C20: =Estimate!B120 -> Hire charges of water tanker for wartering the helipad ground and alround Helipad including oils, and all other incidental charges etc complete as directed by the Engineer - in - Charge .
B21: 13 | C21: Forming embankment with Side earth by mechanical means upto SDR including pre-watering of soil, removal of top soil, excavation of soils, depositing the soils on the embankment, spreading soil, breaking clods, sectioning, grading and consolidation with 8 to 10 Tonnes Vibratory Road Roller @ OMC to meet requirement of table 300-2 of MoRT&H, including all hire and operational charges of T&P, complete for finished item of work as per MoRT&H specification 305 (5th revision) (Payment will be made based on level for finished item of work).
B22: 8 | C22: Earthwork excavation in soils upto SDR by mechanical means including trimming bottom and side slopes in accordance with requirements of lines, grades and cross sections etc., complete for finished item of work for trench cutting as per MoRT&H specification 301 (5th Revision) and as directed by the Engineer-in-Charge
B23: 5 | C23: =Estimate!B124 -> Hire charges of vibratory roller 8-10 Tonnes, conveyance of Machinery to work site and all other incidental charges etc complete as directed by the Engineer - in - Charge .
B24: 7 | C24: Providing Dry lean cement concrete Sub- base over a prepared sub-grade with coarse and fine aggregate conforming to IS: 383, the size of coarse aggregate not exceeding 25 mm, aggregate cement ratio not to exceed 15:1, aggregate gradation after blending to be as per table 600-1, cement content not to be less than 150 kg/ cum, optimum moisture content to be determined during trial length construction, concrete strength not to be less than 10 Mpa at 7 days, mixed in a concrete mixer 0.28/0.4 cum capacity with weigh batcher, laid with a paver / manual means, compacting with 8-10 tonnes vibratory roller, finishing and curing complete for finished item of work as per MoRT&H specification 601 (5th Revision) and as directed by the Engineer-in-Charge for base coarse below CC Pavement.
B25: 8 | C25: Construction of un-reinforced, dowel jointed, plain cement concrete pavement over a prepared sub base with 43 grade cement @ 400 kg per cum, coarse and fine aggregate conforming to IS 383, maximum size of coarse aggregate not exceeding 25 mm and confirming to clause 602.2.6.4 mixed in concrete mixer 0.28/0.4 cum capacity with weigh batcher as per approved mix design, laid with a fixed form paver / manual means, spread, compacted and finished in a continuous operation including provision of contraction, expansion, construction and longitudinal joints, joint filler, separation membrane, sealant primer, joint sealant, debonding strip, dowel bar, tie rod, admixtures as approved, curing compound, finishing to lines and grades as per drawing complete for finished item of work as per MoRT&H specification 602 (5th Revision) and as directed by the Engineer-in-Charge
B26: 9 | C26: Forming shoulders with borrowed useful seclected earth having MDD of not less than 1.75 gms/cc from outside road boundary by mechnical means with all leads and lifts including pre-watering of soil at borrow area, removal of top soil, excavation of soils at borrowed area, conveyance of soil, depositing the soils on the embankment, spreading soils, breaking clods, sectioning and consolidation with vibratory road roller @ OMC to meet requirement of table 300-2 of MORT&H including all hire and operational charges of T&P, complete for finished item of work as per MORT&H specification 305 (5th revision) (Payment will be made based on levels for finished item of work)
B27: 25 | C27: Vibrated reinforced cement concrete M 30 grade using 20mm & 10mm HBG crushed stone aggregate (Coarse aggregate conforming to table 1000-1 and fine aggregate conforming to table 1000-2) including cost, conveyance of all materials to site and labour charges, centering, machine mixing, laying, vibrating, curing etc., including all other incidental and operational charges of all T&P etc., complete for finished item of work as per drawing BD/1-69( A) but excluding cost of steel and its fabrication charges as per MoRT&H specification 1500, 1600, 1700 & 2702 (5th Revision) and as directed by the Engineer-in-Charge for wearing coat over Deck slab.
B28: 26 | C28: Slab Culvert Provisions:-
B29: 27 | C29: Dismantling of existing structures like culverts, bridges, retaining walls and other structures comprising of masonry, cement, concrete, wood work, steel work, including T&P and scaffolding wherever necessary sorting the dismantled material, disposal of unserviceable materials and stacking the materials with all lifts and lead of 1000 m ( By Mechanical means in Cement concrete grade M-15 & M-20) as per MoRTH specification 202, 2.4 II (A) (5th revision)
B30: 28 | C30: Earthwork excavation in soils upto SDR by mechanical means for foundations of structures as per drawing and technical specification including setting out, construction of shoring and bracing, removal of stumps and other deleterious matter, dressing sides of bottom, back filling the excavation earth to the extent required etc., complete for finished item of work, excluding seigniorage charges, as per MoRT&H specification 304 (5th Revision) and as directed by the Engineer-in-Charge
B31: 29 | C31: Sand filling in foundation including cost and conveyence of all materials to site and watering, tamping etc., complete for finshed item of work as per MoRT&H specification 304 (5th Revision) and as directed by the Engineer-in-Charge.
B32: 30 | C32: Providing Vibrated Cement Concrete (1:3:6) mix using 40mm size HBG crushed stone aggregate and fine aggregate conforming to table 1000-2 of MoRT&H including cost, conveyance of all materials to site and labour charges, centering, machine mixing, laying, Vibrating, curing etc., including all other incidental and operational charges of all T&P etc., complete for finished item of work as per MoRT&H specification 1500, 1700, 2100 (5th Revision) and as directed by the Engineer-in-Charge for Base Course
B33: 31 | C33: Vibrated reinforced cement concrete M 20 grade using 20mm & 10mm HBG crushed stone aggregate (Coarse aggregate conforming to table 1000-1 and fine aggregate conforming to table 1000-2) including cost, conveyance of all materials to site and labour charges, centering, machine mixing, laying, vibrating, curing etc., including other incidental hire and operational charges of all T&P as per approved drawings and as directed during execution but excluding cost of steel and its fabrication charges for finished item as per MoRT&H specification 1500, 1600, 1700 & 2100 (5th revision ) and as directed by the Engineer-in-Charge for for Raft Foundations
B34: 32 | C34: Vibrated cement concrete M 15 Grade Concrete using 40mm, 20mm and 10mm size HBG crushed stone aggregate (Coarse aggregate conforming to table 1000-1 and fine aggregate conforming to table 1000-2) including cost and conveyance of all materials to site and all labour charges for machine mixing, laying in position, Compacting, Vibrating and curing including all other incidental and all other operational charges of T&P required etc., complete as per MoRT&H Specification 1500, 1700, 2200 (5th Revision) for Sub structure.
B35: 33 | C35: Vibrated reinforced cement concrete M 20 grade using 20mm & 10mm HBG crushed stone aggregate (Coarse aggregate conforming to table 1000-1 and fine aggregate conforming to table 1000-2) including cost, conveyance of all materials to site and labour charges, centering, machine mixing, laying, vibrating, curing etc., including other incidental hire and operational charges of all T&P as per approved drawings and as directed during execution but excluding cost of steel and its fabrication charges for finished item as per MoRT&H specification 1500, 1600, 1700 & 2200 (5th revision) and as directed by the Engineer-in-Charge for Bed blocks & Backing walls
... B45: 43 | C45: Supplying and fixing of CI Drainage spouts complete as per MoRT&H specification No. 2705 (5th Revision) and as per drawing Sd/205
C46: Pipe Culverts Provisions:-
B47: 11 | C47: Earthwork excavation in soils upto SDR by mechanical means for foundations of structures as per drawing and technical specification including setting out, construction of shoring and bracing, removal of stumps and other deleterious matter, dressing sides of bottom, back filling the excavation earth to the extent required etc., complete for finished item of work, excluding seigniorage charges, as per MoRT&H specification 304 (5th Revision) and as directed by the Engineer-in-Charge
B48: 12 | C48: Sand filling in foundation including cost and conveyence of all materials to site and watering, tamping etc., complete for finshed item of work as per MoRT&H specification 304 (5th Revision) and as directed by the Engineer-in-Charge.
B49: 13 | C49: Vibrated cement concrete M 15 Grade Concrete using 40mm, 20mm and 10mm size HBG crushed stone aggregate (Coarse aggregate conforming to table 1000-1 and fine aggregate conforming to table 1000-2) including cost and conveyance of all materials to site and all labour charges for machine mixing, laying in position, Compacting, Vibrating and curing including all other incidental and all other operational charges of T&P required etc., complete as per MoRT&H Specification 1500, 1700, 2100 (5th Revision) for Foundations
...

Sheet Abstract
B1: GENERAL ABSTRACT
B3: Name of Work :- | C3: =Cover!D20 -> Construction of Helipad with Cement concrete for the visit of Hon'ble Chief Minister of Andhra pradesh Sri Nara Chandrababu Naidu Garu on the occasion of "Pattadar Pass Book- distribution" Programme at Siddantham village of Penugonda mandal (Achanta constituency)in West Godavari District on 8.6.2026.
B5: S. No | C5: Description | G5: Amount in Rs.
B6: 1 | C6: Road wok | G6: =Estimate!L152 -> 637864 | I6: 7157621 | J6: =G6-I6 -> -6519757
C7: Sub Total ECV | G7: =SUM(G6:G6) -> 637864 | I7: 8043355 | J7: =G7-I7 -> -7405491
C8: Part - B:- Ls Provisions
B9: 3 | C9: Provision for Seignorage Charges | G9: =Seigniorage!C52 -> 17588
B10: 4 | C10: Provision for Price Adjustment | G10: 0 | H10: =G7*3% -> 19135.92
B11: 5 | C11: Provision for Corpus fund of NAC @ 0.1% | G11: =ROUND((G7+G9+G10)*0.1%,0) -> 655
B12: 6 | C12: Provision for GST @ 18% | G12: =ROUND((G7+G9+G10+G11)*18%,0) -> 118099
B13: 7 | C13: Provision for Qulaity Control Charges | G13: 0
B14: 8 | C14: Provision for CD Works | G14: 0
B15: 9 | C15: Provision for Shifting of Electrical Poles | G15: 0
B16: 10 | C16: Provision for Avagahana Sadassu | G16: 0
B17: 11 | C17: Unforceen items & Rounding off | G17: 5794
C18: Grand Total | G18: =SUM(G7:G17) -> 780000 | H18: =775000-G18 -> -5000
C23: Assistant Engineer (R&B) | F23: Deputy Executive Engineer (R&B)
C24: (R&B) Section - Penugonda | F24: (R&B) Sub Division - Tanuku
C29: Executive Engineer (R&B)
C30: (R&B) Division - Bhimavaram

Sheet Road Work Detailed
A1: DETAILED CUM ABSTRACT ESTIMATE
A3: Name of Work :- | C3: =Cover!D20 -> Construction of Helipad with Cement concrete for the visit of Hon'ble Chief Minister of Andhra pradesh Sri Nara Chandrababu Naidu Garu on the occasion of "Pattadar Pass Book- distribution" Programme at Siddantham village of Penugonda mandal (Achanta constituency)in West Godavari District on 8.6.2026.
A6: S. No | B6: Description of item | D6: No | G6: Length | H6: Breadth | I6: Depth | J6: Quantity | K6: Rate / Unit | L6: Amunt
A8: 1 | B8: 2 | D8: 3 | G8: 4 | H8: 5 | I8: 6 | J8: 7 | K8: 8 | L8: 9
A10: 1 | B10: Scarifying the existing B.T surface to a depth of 50 mm by Mechanical means and disposal of scarified material with all leads and lifts upto 1000 Mtrs as per MoRT&H (5th Revision) Specn. No.305.4.3
B12: Km | C12: 10.600 to 12.244 | D12: 1 | E12: x | G12: =12244-10600 -> 1644 | H12: 3.66 | J12: =D12*F12*G12*H12 -> 0
B13: KLK Road Junction Approach | D13: 1 | E13: x | G13: 126 | H13: 3.66 | J13: =D13*F13*G13*H13 -> 0 | N13: 1.77
G14: =SUM(G12:G13) -> 1770 | J14: =SUM(J12:J13) -> 0
N15: =12.244-10.6 -> 1.644 | O15: =N13-N15 -> 0.126
I16: Say | J16: =ROUNDUP(J14,0) -> 0 | K16: =' Road data'!J175 -> 10.3 | L16: =ROUND(J16*K16,0) -> 0
J17: Sqm | K17: / 1 Sqm
A19: 2 | B19: Providing, Laying, Spreading and compacting graded HBG crushed stone aggregate to Wet Mix macadem specification (5th Revision) as per Table 400-13, including cost of all materials and including premixing the material with water at OMC in Mechanical mix plant carriage of mixed material by tipper to site, laying in uniform layers with paver in base courses on well prepared surface and compacting with Vibratory roller to acheive the desired density etc., as directed by the Engineer-in-Charge and as per MoRT&H specification 406 (5th revision) for finished item of work. | N19: =12.244+0.126 -> 12.37 | O19: =N19+0.832 -> 13.202 | P19: =13.076-0.832 -> 12.244
B21: Km | C21: 10.600 to 12.244 | D21: 1 | E21: x | G21: =12244-10600 -> 1644 | H21: 3.96 | I21: 0.15 | J21: =D21*F21*G21*H21*I21 -> 0
B22: KLK Road Junction Approach | D22: 1 | E22: x | G22: 126 | H22: 3.96 | I22: 0.15 | J22: =D22*F22*G22*H22*I22 -> 0 | M22: =+H21+0.3 -> 4.26
G23: =SUM(G21:G22) -> 1770 | J23: =SUM(J21:J22) -> 0
I25: Say | J25: =ROUNDUP(J23,0) -> 0 | K25: =' Road data'!J207 -> 3063 | L25: =ROUND(J25*K25,0) -> 0
J26: Cum | K26: / 1 Cum | N26: 2 | O26: 20 | P26: =5.5-3.75 -> 1.75 | Q26: =N26*O26*P26 -> 70 | R26: =Q26*0.15 -> 10.5
A28: 3 | B28: Providing and applying prime coat with bitumen emulsion (SS1) Bulk using emulsion pressure distributor on prepared surface of granular base including clearing of road surface and spraying emulsion at the rate of 0.70 kg/sqm using emulsion pressure distributor for finished item of work etc., complete as per MoRT&H Specification 502 (5th revision) and as directed by the Engineer-in-charge
B30: Km | C30: 10.600 to 12.244 | D30: 1 | E30: x | G30: =12244-10600 -> 1644 | H30: 3.66 | J30: =D30*F30*G30*H30 -> 0
B31: KLK Road Junction Approach | D31: 1 | E31: x | G31: 126 | H31: 3.66 | J31: =D31*F31*G31*H31 -> 0
G32: =SUM(G30:G31) -> 1770 | J32: =SUM(J30:J31) -> 0
I34: Say | J34: =ROUNDUP(J32,0) -> 0 | K34: =' Road data'!J231 -> 65.6 | L34: =ROUND(J34*K34,0) -> 0
J35: Sqm | K35: / 1 Sqm
A37: 4 | B37: Providing and applying tack coat with bitumen VG-10 (Bulk) using Bitumen pressure distributor at the rate of 0.25 kgs per sqm on the prepared Granular surface treated with primer cleaned with mechanical broom for finished item of work as per MoRT&H Specification 503 (5th revision) and as directed by the Engineer-in-Charge.
B38: For BM Layer
B39: Km | C39: 10.600 to 12.244 | D39: 1 | E39: x | G39: =12244-10600 -> 1644 | H39: 3.66 | J39: =D39*F39*G39*H39 -> 0
B40: KLK Road Junction Approach | D40: 1 | E40: x | G40: 126 | H40: 3.66 | J40: =D40*F40*G40*H40 -> 0
B41: Service Roads
G42: =SUM(G39:G40) -> 1770 | J42: =SUM(J39:J41) -> 0
I44: Say | J44: =ROUNDUP(J42,0) -> 0 | K44: =' Road data'!J279 -> 23.9 | L44: =ROUND(J44*K44,0) -> 0
J45: Sqm | K45: / 1 Sqm
A46: 4 | B46: Forming shoulders with borrowed useful seclected earth having MDD of not less than 1.75 gms/cc from outside road boundary by mechnical means with all leads and lifts including pre-watering of soil at borrow area, removal of top soil, excavation of soils at borrowed area, conveyance of soil, depositing the soils on the embankment, spreading soils, breaking clods, sectioning and consolidation with vibratory road roller @ OMC to meet requirement of table 300-2 of MORT&H including all hire and operational charges of T&P, complete for finished item of work as per MORT&H specification 305 (5th revision)
B48: For helipad base | D48: 1 | E48: x | F48: 1 | G48: 26 | H48: 26 | I48: 0.35 | J48: =D48*F48*G48*H48*I48 -> 236.6
J49: =SUM(J48:J48) -> 236.6
I51: Say | J51: 0 | K51: =' Road data'!J1515 -> 921 | L51: =ROUND(J51*K51,0) -> 0
J52: Cum | K52: / 1 Cum
A54: 9 | B54: Forming embankment with borrowed useful earth from outside road boundary by mechanical means upto SDR with all leads and lifts including pre-watering of soil at borrow area, removal of top soil, excavation of soils at borrowed area, conveyance of soil, depositing the soil on the embankment, spreading soil, breaking clods, sectioning, grading and consolidation with 8 to 10 Tonnes Vibratory Road Roller @ OMC to meet requirement of table 300-2 of MoRT&H, including all hire and operational charges of T&P, complete for finished item of work as per MoRT&H specification 305 (5th revision) (Payment will be made based on level for finished item of work).
B56: For Helipad | D56: 1 | E56: x | F56: 1 | G56: 26 | H56: 26 | I56: 0.3 | J56: =D56*F56*G56*H56*I56 -> 202.8
J57: =SUM(J56:J56) -> 202.8 | N57: 3.200 to 5.000 | O57: 2 | P57: x | Q57: 1 | R57: 830 | S57: 1/2*(1.5*3)
I58: Say | J58: =ROUND(J57,0) -> 203 | K58: =' Road data'!J49 -> 322 | L58: =ROUND(J58*K58,0) -> 65366
...

Sheet Estimate
A1: DETAILED CUM ABSTRACT ESTIMATE
A3: Name of Work :- | C3: =Cover!D20 -> Construction of Helipad with Cement concrete for the visit of Hon'ble Chief Minister of Andhra pradesh Sri Nara Chandrababu Naidu Garu on the occasion of "Pattadar Pass Book- distribution" Programme at Siddantham village of Penugonda mandal (Achanta constituency)in West Godavari District on 8.6.2026.
P4: A) Preparation of Helipad Base
A5: S. No | B5: Description of item | D5: No | G5: Length | H5: Breadth | I5: Depth | J5: Quantity | K5: Rate / Unit | L5: Amunt | P5: B) Construction of Helipad with CC and leveling the ground
P6: C) Providing barricading for the visit of Hon'ble Chief Minister of Andhra pradesh on 8.6.2026 to participate for the occasion of PattadarPass Book
A7: 1 | B7: 2 | D7: 3 | G7: 4 | H7: 5 | I7: 6 | J7: 7 | K7: 8 | L7: 9
A9: 1 | B9: Scarifying the existing B.T surface to a depth of 50 mm by Mechanical means and disposal of scarified material with all leads and lifts upto 1000 Mtrs as per MoRT&H (5th Revision) Specn. No.305.4.3
B11: Km | C11: 10.600 to 12.244 | D11: 1 | E11: x | G11: =12244-10600 -> 1644 | H11: 3.66 | J11: =D11*F11*G11*H11 -> 0
B12: KLK Road Junction Approach | D12: 1 | E12: x | G12: 126 | H12: 3.66 | J12: =D12*F12*G12*H12 -> 0
G13: =SUM(G11:G12) -> 1770 | J13: =SUM(J11:J12) -> 0
I15: Say | J15: =ROUNDUP(J13,0) -> 0 | K15: =' Road data'!J175 -> 10.3 | L15: =ROUND(J15*K15,0) -> 0
J16: Sqm | K16: / 1 Sqm
A18: 2 | B18: Providing, Laying, Spreading and compacting graded HBG crushed stone aggregate to Wet Mix macadem specification (5th Revision) as per Table 400-13, including cost of all materials and including premixing the material with water at OMC in Mechanical mix plant carriage of mixed material by tipper to site, laying in uniform layers with paver in base courses on well prepared surface and compacting with Vibratory roller to acheive the desired density etc., as directed by the Engineer-in-Charge and as per MoRT&H specification 406 (5th revision) for finished item of work.
B20: Km | C20: 10.600 to 12.244 | D20: 1 | E20: x | G20: =12244-10600 -> 1644 | H20: 3.96 | I20: 0.15 | J20: =D20*F20*G20*H20*I20 -> 0
B21: KLK Road Junction Approach | D21: 1 | E21: x | G21: 126 | H21: 3.96 | I21: 0.15 | J21: =D21*F21*G21*H21*I21 -> 0 | M21: =+H20+0.3 -> 4.26
G22: =SUM(G20:G21) -> 1770 | J22: =SUM(J20:J21) -> 0
I24: Say | J24: =ROUNDUP(J22,0) -> 0 | K24: =' Road data'!J207 -> 3063 | L24: =ROUND(J24*K24,0) -> 0
J25: Cum | K25: / 1 Cum
A27: 3 | B27: Providing and applying prime coat with bitumen emulsion (SS1) Bulk using emulsion pressure distributor on prepared surface of granular base including clearing of road surface and spraying emulsion at the rate of 0.70 kg/sqm using emulsion pressure distributor for finished item of work etc., complete as per MoRT&H Specification 502 (5th revision) and as directed by the Engineer-in-charge
B29: Km | C29: 10.600 to 12.244 | D29: 1 | E29: x | G29: =12244-10600 -> 1644 | H29: 3.66 | J29: =D29*F29*G29*H29 -> 0
B30: KLK Road Junction Approach | D30: 1 | E30: x | G30: 126 | H30: 3.66 | J30: =D30*F30*G30*H30 -> 0
G31: =SUM(G29:G30) -> 1770 | J31: =SUM(J29:J30) -> 0
I33: Say | J33: =ROUNDUP(J31,0) -> 0 | K33: =' Road data'!J231 -> 65.6 | L33: =ROUND(J33*K33,0) -> 0
J34: Sqm | K34: / 1 Sqm
A36: 4 | B36: Providing and applying tack coat with bitumen VG-10 (Bulk) using Bitumen pressure distributor at the rate of 0.25 kgs per sqm on the prepared Granular surface treated with primer cleaned with mechanical broom for finished item of work as per MoRT&H Specification 503 (5th revision) and as directed by the Engineer-in-Charge.
B37: For BM Layer
B38: Km | C38: 10.600 to 12.244 | D38: 1 | E38: x | G38: =12244-10600 -> 1644 | H38: 3.66 | J38: =D38*F38*G38*H38 -> 0
B39: KLK Road Junction Approach | D39: 1 | E39: x | G39: 126 | H39: 3.66 | J39: =D39*F39*G39*H39 -> 0
B40: Service Roads
G41: =SUM(G38:G39) -> 1770 | J41: =SUM(J38:J40) -> 0
I43: Say | J43: =ROUNDUP(J41,0) -> 0 | K43: =' Road data'!J279 -> 23.9 | L43: =ROUND(J43*K43,0) -> 0
J44: Sqm | K44: / 1 Sqm
A45: 4 | B45: Forming shoulders with borrowed useful seclected earth having MDD of not less than 1.75 gms/cc from outside road boundary by mechnical means with all leads and lifts including pre-watering of soil at borrow area, removal of top soil, excavation of soils at borrowed area, conveyance of soil, depositing the soils on the embankment, spreading soils, breaking clods, sectioning and consolidation with vibratory road roller @ OMC to meet requirement of table 300-2 of MORT&H including all hire and operational charges of T&P, complete for finished item of work as per MORT&H specification 305 (5th revision)
B47: For helipad base | D47: 1 | E47: x | F47: 1 | G47: 26 | H47: 26 | I47: 0.35 | J47: =D47*F47*G47*H47*I47 -> 236.6
J48: =SUM(J47:J47) -> 236.6
I50: Say | J50: 0 | K50: =' Road data'!J1515 -> 921 | L50: =ROUND(J50*K50,0) -> 0
J51: Cum | K51: / 1 Cum
A53: 1 | B53: Forming Subgrade with borrowed useful selected soils having MDD of not less than 1.75 gm/cc and CBR not less than 10%, from outside road boundary by mechanical means up to SDR with all leads and lifts including pre-watering of soil at borrow area, removal of top soil, excavation of soils at borrowed area, conveyance of soil, depositing the soil on the embankment, spreading soil, breaking clods, sectioning, grading and consolidation with 8 to 10 Tonnes Vibratory Road Roller @ OMC to meet requirement of table 300-2 of MoRT&H, including all hire and operational charges of T&P, complete for finished item of work as per MoRT&H (5th Revision) Specification Clause No. 305
B54: For Helipad | D54: 1 | E54: x | F54: 1 | G54: 26 | H54: 26 | I54: 0.3 | J54: =D54*F54*G54*H54*I54 -> 202.8
C55: approach road | D55: 1 | F55: 1 | G55: 18 | H55: 7 | I55: 0.15 | J55: =D55*F55*G55*H55*I55 -> 18.9
...

Sheet RSI
A1: Name of Work :- | D1: =Cover!D20 -> Construction of Helipad with Cement concrete for the visit of Hon'ble Chief Minister of Andhra pradesh Sri Nara Chandrababu Naidu Garu on the occasion of "Pattadar Pass Book- distribution" Programme at Siddantham village of Penugonda mandal (Achanta constituency)in West Godavari District on 8.6.2026.
A2: DETAILED CUM ABSTRACT ESTIMATE for RSI
A3: Sl No | B3: Description of item | E3: No | I3: Measurements | L3: Qty | M3: Rate / Unit | N3: Amount
I4: L | J4: B | K4: D
A5: 1 | B5: Supplying of hot applied thermoplastic road marking compound, 2.5mm thick including reflectorising glass beads @ 250gms with Reflectorising Glass Beads on Bituminous Surface at 250 gms per sqm area, thickness of 2.5mm is exclusive of surface applied glass bead as per IRC: 35, the material should be of BERGER Company/ BERGER Equivalent/ Equivalent brand and must comply with the following: a) White index for the product should be in the range of 60-70 when measured against standard reference. The applied panel 7/8 number must be submitted for checking up the white index in the department lab. In case the department approves the white index of any vendor, the department engineer may carryout random checking of the applied products at site against the approved panel. In case of any major deviation, beyond acceptance limit, department reserve the right to cancel or reject the total supplied consignment of the said material and will compell the vendor has to replace the full consignment by the desired material as per approved panel at his own cost and additional demurrages may be claimed due to loss of man days (as per the rules of the department). b) Luminance factor of the material should be in the range of 80-85% at 45 degree centigrade as per AASTHOM 249. c) Crack resistance: The applied panel cured for 7 days under ambient condition and then should be tested as per BS3262, Part-1, 1989 and should pass at the range of '0' degree centigrade to '-10' degree centigrade D) Adhesion : Strong E) Softening point: 102 degree centigrade F) Dried film finish : Smooth and uniform G) Night Vision: High as directed by the Engineer-in-Charge and confirming to IS: 164-1961 (1st revision reaffirmed in 1986) and clause conforming to IRC 35-1997
O6: =3570/7.5 -> 476
B7: Centre Line | E7: 1 | F7: x | G7: 476 | H7: 3 | I7: 0.1 | L7: =E7*G7*H7*I7 -> 142.8
B8: Edge Lines | E8: 2 | F8: x | G8: 1 | H8: 3570 | I8: 0.1 | L8: =E8*G8*H8*I8 -> 714
B9: Zebra Crossings | E9: 4 | F9: x | G9: 7*3 | H9: 3 | I9: 0.5 | L9: =E9*H9*I9*7*3 -> 126 | O9: =7.24*2*2 -> 28.96
B10: Curves | F10: x | G10: 2 | H10: 50 | I10: 0.1 | L10: =E10*G10*H10*I10 -> 0
K11: Total | L11: =SUM(L7:L10) -> 982.8
K13: Say | L13: =ROUND(L11,0) -> 983 | M13: 601 | N13: =ROUND(L13*M13,0) -> 590783
L14: Sqm | M14: / 1 Sqm
A16: 2 | B16: Supplying & Fixing of Molded Shanks Raised Pavement Markers made of polycarbonate and ABS moulded body and reflective panels with micro prismatic lens capable of providing total internal reflection of the light entering the lens face and shall support a load of 16000 kg tested in accordance to ASTM D 4280 Type H and complying to Specifications of Category A of MORTH Circular No RW/NH/33023/10-97 – DO III Dt 11.06. 1997. The height, width and length shall not exceed 50 mm, 100 mm and 100 mm and with minimum reflective area of 13 Sqcm on each side and the slope to the base shall be 35 +/- 5 degree. The strength of detachment of the integrated cylindrical shanks, (of diameter not less than 19 +/- 2 mm and height not less than 30+/- 2 mm) from the body is to be a minimum value of 700 Kgs. Fixing will be by drilling holes on the road for the twin shanks to go inside, without nails and using epoxy resin based adhesive as per manufacturer’s recommendation and complete as directed by the engineer.
B18: Centre Line | E18: 1 | F18: x | G18: 1 | H18: =G7 -> 476 | L18: =E18*G18*H18 -> 476
B19: Edge Lines | E19: 2 | F19: x | G19: 1 | H19: =H18 -> 476 | L19: =E19*G19*H19 -> 952 | O19: =2825/7.5 -> 376.66667
B20: =B9 -> Zebra Crossings | E20: =E9 -> 4 | F20: x | G20: 7 | H20: 4 | L20: =E20*G20*H20 -> 112
B21: Curves | E21: =E10 -> 0 | F21: x | G21: 2 | H21: 7 | L21: =E21*G21*H21 -> 0
K22: Say | L22: =SUM(L18:L21) -> 1540 | M22: 388 | N22: =ROUND(L22*M22,0) -> 597520
L23: No | M23: / 1 No
A25: 3 | B25: Providing and fixing Cautionary / Warning sign boards size 900 mm equilateral triangle made out of Type - XI of ASTMD 4956-09 wide angle cube cornered micro Prismatic Retro reflective sheeting and confirming to IRC 67:2012 for full background of White colour and letters/logos done by screen printing in Black colour, boarders by screen printing in Red colour and fixed over 4MM Aluminium Composite Material sheet having minimum 0.5 mm thick Aluminium skin on both sides with back side painted grey colour and fixed over back support frame of M.S angle 25x25x3mm all round and fixing with 35x35x4mm and mounted on a MS angle post of size 75x75x6mm with clear height of not less than 2.1 m from the ground level to the bottom of the board. The signpost should be painted with one coat of red oxide paint and 2 coats of synthetic enamel paint Black and White colour with bands of 30cm of height. The signpost shall be firmly fixed with MS base angle 35x35x4 mm in to the ground by M-15 Concrete foundation of size 450x450x600mm including cost and conveyance of all materials ,equipment, machinery and labour with all leads and lift, loading chages necessary for satisfactory completion of the work as directed by Engineer -in-Charge.
B26: at Curves, speed breakers, schools, Junction of two roads, Narrow culverts, Dip.etc
D27: 4 | E27: x | F27: 2 | G27: x | H27: 2 | L27: =D27*F27*H27 -> 16
K29: Say | L29: =L27 -> 16 | M29: 7496 | N29: =ROUND(L29*M29,0) -> 119936
L30: No | M30: / 1 No
A32: 4 | B32: Providing and fixing Village name board size 900x450 mm made out of Type - IV of ASTMD 4956-09 High Intensity Prismatic Prismatic Retro reflective sheeting and confirming to IRC 67:2012 for full background of Green Colour & White Letters and fixed over 3MM Alluminium Composite Material sheet having minimum 0.30 mm thick Aluminium skin on both sides with back side painted grey colour and fixed over back support frame of M.S angle 25x25x3mm all round and fixing with 35x35x4mm and mounted on a MS angle post of size 75x75x6mm with clear height of not less than 2.1 m from the ground level to the bottom of the board. The signpost should be painted with one coat of red oxide paint and 2 coats of synthetic enamel paint Black and White colour with bands of 30cm of height. The signpost shall be firmly fixed with MS base angle 35x35x4 mm in to the ground by M-15 Concrete foundation of size 450x450x600mm including cost and conveyance of all materials, equipment, machinery and labour with all leads and lift, loading charges necessary for satisfactory completion of the work as directed by Engineer -in-Charge.
E34: 5 | F34: x | G34: 2 | L34: =E34*G34 -> 10
K36: Say | L36: =L34 -> 10 | M36: 7119 | N36: =ROUND(L36*M36,0) -> 71190
L37: No | M37: / 1 No
A39: 5 | B39: Supply and installation of Hazard Markers/Delinators using M.S angle of size 55x55x6 mm and 120 cm high above ground level painted with two coats of black & white strips of 15cm wide with first quality synthetic enamel paint over one coat of appropriate primer of approved brand, colour, with 30cm x 90cm Type- XI of ASTMD 4956-09 wide angle cube concerned micro prismatic Retro Reflective sheeting of Yellow yellow colour and confirming to IRC 67:2012 fixed over 3mm aluminum composite material having minimum 0.30mm thick Aluminium skin on both sides with standard supports consisting of alternately black and yellow strips, in screen printing slopoing downward at an angle of 45 degrees towards the side of the obstruction on which the traffic is to pass and buried into the ground in a trench of size 30cm x 30cm and 50cm depth filled with CC M-20 including cost and conveyhance of all materials, equipment,machinery and labour with all leads and lifts, loading and unloading charges necessaryu for successful completion of the work on any road in division as directed by the Engineer-in-charge and conforming to IRC 67-2012 & MoRT&H specification No 805 and approved drawings etc., complete for finished item of work.
B41: At bridges | D41: 2 | E41: x | F41: 1 | G41: x | H41: 2 | L41: =D41*H41 -> 4
K43: Say | L43: =L41 -> 4 | M43: 4623 | N43: =ROUND(L43*M43,0) -> 18492
L44: No | M44: / 1 No
A46: 6 | B46: Providing & fixing junctin boards of size 1500 x 1200 mm made out of Type - XI of ASTMD 4956-09 wide angle cube cornered micro Prismatic Retro reflective sheeting and confirming to IRC 67:2012 for full background of Green Colour & White Letters and fixed over 4MM Alluminium Composite Material sheet having minimum 0.5 mm thick Aluminium skin on both sides with back side painted grey colour and fixed over back support frame of M.S angle 25x25x3mm all round and fixing with 35x35x4mm and mounted on a MS angle post of size 75x75x6mm with clear height of not less than 2.1 m from the ground level to the bottom of the board. The signpost should be painted with one coat of red oxide paint and 2 coats of synthetic enamel paint Black and White colour with bands of 30cm of height. The signpost shall be firmly fixed with MS base angle 35x35x4 mm in to the ground by M-15 Concrete foundation of size 450x450x600mm including cost and conveyance of all materials, equipment, machinery and labour with all leads and lift, loading charges necessary for satisfactory completion of the work as directed by Engineer -in-Charge.
L48: 6 | M48: 30492 | N48: =ROUND(L48*M48,0) -> 182952
L49: No | M49: / 1 No
L51: Total | N51: =SUM(N13:N48) -> 1580873
L52: for 1 Km | N52: =N51/10 -> 158087.3
M53: say /Km | N53: 175000
C58: Assistant Executive Engineer (R&B) | L58: Deputy Executive Engineer (R&B)
...

Sheet Seigniorage
A1: Seigniorage Charges Statement
A3: Name of Work :- | B3: =Cover!D20 -> Construction of Helipad with Cement concrete for the visit of Hon'ble Chief Minister of Andhra pradesh Sri Nara Chandrababu Naidu Garu on the occasion of "Pattadar Pass Book- distribution" Programme at Siddantham village of Penugonda mandal (Achanta constituency)in West Godavari District on 8.6.2026.
A4: S. No. | B4: Description of item | C4: Quantity in Cum | D4: loose quantity per cum | E4: Seigniorage Charges per unit | F4: Amount in Rs.
B5: Road work
A6: 1 | B6: WMM | C6: ='Road Work Detailed'!J25 -> 0 | D6: 1.32 | E6: =105*1.5 -> 157.5 | F6: =C6*D6*E6 -> 0
A7: 1 | B7: BM | C7: 0 | D7: 1.416 | E7: =105*1.5 -> 157.5 | F7: =C7*D7*E7 -> 0
A8: 2 | B8: BC | C8: 0 | D8: 1.49 | E8: =105*1.5 -> 157.5 | F8: =C8*D8*E8 -> 0
A9: 3 | B9: Shoulders | C9: 0 | D9: 1 | E9: 82.5 | F9: =C9*D9*E9 -> 0
A10: 4 | B10: Sub Grade | C10: 0 | D10: 1 | E10: 100 | F10: =C10*D10*E10 -> 0
A11: 4 | B11: BT Patchwork 40mm | C11: 0 | D11: 1.33 | E11: =105*1.5 -> 157.5 | F11: =C11*D11*E11 -> 0
A12: 7 | B12: BT Patchwork 20mm | C12: ='Road Work Detailed'!J74 -> 0 | D12: 1.33 | E12: =105*1.5 -> 157.5 | F12: =C12*D12*E12 -> 0
A13: 6 | B13: Earthwork Excavation | C13: ='Road Work Detailed'!J95 -> 0 | D13: 1 | E13: =105*1.5 -> 157.5 | F13: =C13*D13*E13 -> 0
A14: 5 | B14: GSB | C14: 0 | D14: 1.28 | E14: =105*1.5 -> 157.5 | F14: =C14*D14*E14 -> 0
A15: 6 | B15: M25 | C15: =Estimate!J107 -> 94 | D15: 0.9 | E15: =105*1.5 -> 157.5 | F15: =C15*D15*E15 -> 13324.5
A16: 7 | B16: PQC | C16: 0 | D16: 0.9 | E16: =105*1.5 -> 157.5 | F16: =C16*D16*E16 -> 0
A17: 8 | B17: Shoulders | C17: 0 | D17: 1 | E17: 82.5 | F17: =C17*D17*E17 -> 0
B18: Pipe Culverts
A19: 9 | B19: Earth Work Excavation | D19: 1 | E19: 45 | F19: =C19*D19*E19 -> 0
A20: 10 | B20: Sand Filling | D20: 1.2 | E20: 100 | F20: =C20*D20*E20 -> 0
A21: 11 | B21: VCC M15 for Foundations | D21: 0.9 | E21: 90 | F21: =C21*D21*E21 -> 0
D22: 0.45 | E22: 100 | F22: =C22*D22*E22 -> 0
A23: 12 | B23: VCC M15 for Body Walls | D23: 0.9 | E23: 90 | F23: =C23*D23*E23 -> 0
D24: 0.45 | E24: 100 | F24: =C24*D24*E24 -> 0
A25: 13 | B25: Filling inbetween Body Walls | D25: 1.2 | E25: 45 | F25: =C25*D25*E25 -> 0
B26: Slab Culverts
A27: 9 | B27: Earth Work Excavation | D27: 1 | E27: 45 | F27: =C27*D27*E27 -> 0
A28: 10 | B28: Sand Filling | D28: 1.2 | E28: 100 | F28: =C28*D28*E28 -> 0
A29: 11 | B29: VCC (1:3:6) Base Course | D29: 0.9 | E29: 90 | F29: =C29*D29*E29 -> 0
D30: 0.45 | E30: 100 | F30: =C30*D30*E30 -> 0
A31: 12 | B31: VRCC M20 for Raft | D31: 0.9 | E31: 90 | F31: =C31*D31*E31 -> 0
D32: 0.45 | E32: 100 | F32: =C32*D32*E32 -> 0
A33: 13 | B33: VCC M15 Footing | D33: 0.9 | E33: 90 | F33: =C33*D33*E33 -> 0
D34: 0.45 | E34: 100 | F34: =C34*D34*E34 -> 0
A35: 13 | B35: VCC M15 Sub Structure | D35: 0.9 | E35: 90 | F35: =C35*D35*E35 -> 0
D36: 0.45 | E36: 100 | F36: =C36*D36*E36 -> 0
A37: 14 | B37: VRCC M20 for Bed blocks | D37: 0.9 | E37: 90 | F37: =C37*D37*E37 -> 0
D38: 0.45 | E38: 100 | F38: =C38*D38*E38 -> 0
A39: 15 | B39: VRCC M20 for Deck Slab | D39: 0.9 | E39: 90 | F39: =C39*D39*E39 -> 0
D40: 0.45 | E40: 100 | F40: =C40*D40*E40 -> 0
A41: 16 | B41: VRCC M30 for Wearing Coat | D41: 0.9 | E41: 90 | F41: =C41*D41*E41 -> 0
...

Sheet Lead
A1: Lead Statement
A3: Name of Work :- | B3: =Cover!D20 -> Construction of Helipad with Cement concrete for the visit of Hon'ble Chief Minister of Andhra pradesh Sri Nara Chandrababu Naidu Garu on the occasion of "Pattadar Pass Book- distribution" Programme at Siddantham village of Penugonda mandal (Achanta constituency)in West Godavari District on 8.6.2026.
A5: 1 | B5: HBG Metal from Katheru Quarry
B7: CT | J7: - | K7: 1
B8: Extra CT | J8: - | K8: 0.1
B9: Bolleddupalem Road (PR Road) | J9: - | K9: 2 | O9: 2
B10: Raghavapuram - Gokavaram Road | F10: Km | G10: 0 | H10: to | I10: 2.2 | J10: - | K10: =I10-G10 -> 2.2 | O10: 2.2
B11: Korukonda - Seethanagaram Road | F11: Km | G11: 0 | H11: to | I11: 7.4 | J11: - | K11: =I11-G11 -> 7.4 | O11: 7.4
B12: via Nagampalli
B13: RMBH Road | F13: Km | G13: 5.6 | H13: to | I13: 19.6 | J13: - | K13: =I13-G13 -> 14 | O13: 14
B14: Bypass Road IV th Bridge | F14: Km | G14: 0 | H14: to | I14: 5.4 | J14: - | K14: =I14-G14 -> 5.4
B15: EGK Bridge | F15: Km | G15: 82.4 | H15: to | I15: 83.121 | J15: - | K15: =I15-G15 -> 0.721
B16: AGRB Road | F16: Km | G16: 10.23 | H16: to | I16: 0 | J16: - | K16: =G16-I16 -> 10.23
B17: PWD Road | F17: Km | G17: 0.79 | H17: to | I17: 0 | J17: - | K17: =G17-I17 -> 0.79
B18: VN Road | F18: Km | G18: 0 | H18: to | I18: 4.2 | J18: - | K18: =I18-G18 -> 4.2 | M18: =1.17-K18 -> -3.03
B19: D Muppavaram Road | F19: Km | G19: 1.91 | H19: to | I19: 4.62 | J19: - | K19: =I19-G19 -> 2.71
B20: MP Road | F20: Km | G20: 30.1 | H20: to | I20: 4 | J20: - | K20: =G20-I20 -> 26.1
B21: SJ Road | F21: Km | G21: 8 | H21: to | I21: 1.45 | J21: - | K21: =G21-I21 -> 6.55
B22: Layout road | J22: - | K22: 0.25 | M22: =5.654/2 -> 2.827
I23: Total | J23: - | K23: =SUM(K7:K22) -> 83.651 | L23: Kms
I25: Weighted Average Lead | J25: :- | K25: =ROUND(K23,0) -> 84 | L25: Kms
A27: 1 | B27: HBG Metal from I. Pangidi Quarry Km 72/4 of EGK Road
B28: CT | J28: - | K28: 0.5
B29: Extra CT | J29: - | K29: 0.05
B30: EGK Road | F30: Km | G30: 72.4 | H30: to | I30: 74.3 | J30: - | K30: =I30-G30 -> 1.9
B31: MP Road | F31: Km | G31: 48.3 | H31: to | I31: 4 | J31: - | K31: =G31-I31 -> 44.3
B32: SJ Road | F32: Km | G32: 8 | H32: to | I32: 1.45 | J32: - | K32: =G32-I32 -> 6.55
B33: Layout road | J33: - | K33: 0.25
I34: Total | J34: - | K34: =SUM(K28:K33) -> 53.55 | L34: Kms
I35: Weighted Average Lead | J35: :- | K35: =ROUND(K34,0) -> 54 | L35: Kms
A36: 2 | B36: Gravel from Arugolanu Quarry
B37: ZP Road | F37: Km | G37: 0 | H37: to | I37: 3 | J37: - | K37: =I37-G37 -> 3
B38: PN Road | F38: Km | G38: 2.8 | H38: to | I38: 0 | J38: - | K38: =G38-I38 -> 2.8
B39: VV Road | F39: Km | G39: 119.5 | H39: to | I39: 139.77 | J39: - | K39: =I39-G39 -> 20.27 | M39: =59-31.93 -> 27.07
B40: MP Road | F40: Km | G40: 14.396 | H40: to | I40: 4 | J40: - | K40: =G40-I40 -> 10.396
B41: SJ Road | F41: Km | G41: 8 | H41: to | I41: 1.45 | J41: - | K41: =G41-I41 -> 6.55
B42: Layout road | J42: - | K42: 0.25
I43: Total | J43: - | K43: =SUM(K37:K42) -> 43.266 | L43: Kms
I44: Weighted Average Lead | J44: :- | K44: =ROUND(K43,0) -> 43 | L44: Kms
A45: 4 | B45: Sand at Siddantham
...

Sheet RMR Katheru
B1: ROAD METAL RATES (SoR 2025-26)
B2: Name of Work :- | D2: =Cover!D20 -> Construction of Helipad with Cement concrete for the visit of Hon'ble Chief Minister of Andhra pradesh Sri Nara Chandrababu Naidu Garu on the occasion of "Pattadar Pass Book- distribution" Programme at Siddantham village of Penugonda mandal (Achanta constituency)in West Godavari District on 8.6.2026.
B3: Sl. No | C3: Description of Material | D3: Source of Supply | E3: Lead in Kms | F3: Conveyance | G3: Initial cost | H3: Blasting charges | I3: Machine crushing charges | J3: Toal Cost per Cum
C4: A) FOR ROAD WORKS
B5: 1 | C5: 60 to 63 mm IRC and MoRTH HBG metal | D5: Katheru | E5: =Lead!K25 -> 84 | F5: =INDEX(Sheet1!$B$3:$D$152,MATCH(E5,Sheet1!$B$3:$B$152,0),3) -> 1137.05 | G5: =Sheet1!G4 -> 509 | H5: =Sheet1!$G$40 -> 70 | J5: =SUM(F5:I5) -> 1716.05
B6: 2 | C6: 40 to 45 mm IRC and MoRTH HBG metal | D6: "" | E6: =E5 -> 84 | F6: =INDEX(Sheet1!$B$3:$D$152,MATCH(E6,Sheet1!$B$3:$B$152,0),3) -> 1137.05 | G6: =Sheet1!G6 -> 745 | H6: =Sheet1!$G$40 -> 70 | J6: =SUM(F6:I6) -> 1952.05
B7: 3 | C7: SS Revetment work 300mm | D7: "" | E7: =E6 -> 84 | F7: =INDEX(Sheet1!$B$3:$D$152,MATCH(E7,Sheet1!$B$3:$B$152,0),3) -> 1137.05 | G7: =Sheet1!G11 -> 206 | H7: =Sheet1!$G$41 -> 70 | J7: =SUM(F7:I7) -> 1413.05
B8: 3 | C8: Quarry spall (Field picked metal) Av. Of rate 25mm & 40mm | D8: "" | E8: =E7 -> 84 | F8: =INDEX(Sheet1!$B$3:$D$152,MATCH(E8,Sheet1!$B$3:$B$152,0),3) -> 1137.05 | G8: =Sheet1!G16 -> 47.15 | J8: =SUM(F8:I8) -> 1184.2
B9: 5 | C9: 150 mm soling stone HBG metal | D9: "" | E9: =E8 -> 84 | F9: =INDEX(Sheet1!$B$3:$D$152,MATCH(E9,Sheet1!$B$3:$B$152,0),3) -> 1137.05 | G9: =Sheet1!G17 -> 105 | H9: =Sheet1!$G$40 -> 70 | J9: =SUM(F9:I9) -> 1312.05
B10: 6 | C10: Jeddy Stone 450 mm to 600 mm thick | D10: "" | E10: =E9 -> 84 | F10: =INDEX(Sheet1!$B$3:$D$152,MATCH(E10,Sheet1!$B$3:$B$152,0),3) -> 1137.05 | G10: =Sheet1!G15 -> 223 | H10: 70 | J10: =SUM(F10:I10) -> 1430.05
B11: 4 | C11: 50 to 55 mm IRC and MoRTH HBG metal | D11: "" | E11: =E10 -> 84 | F11: =INDEX(Sheet1!$B$3:$D$152,MATCH(E11,Sheet1!$B$3:$B$152,0),3) -> 1137.05 | G11: =Sheet1!G5 -> 555 | H11: =Sheet1!$G$40 -> 70 | I11: =ROUND(G11/4,2) -> 138.75 | J11: =SUM(F11:I11) -> 1900.8
B12: 5 | C12: 40 to 45 mm IRC and MoRTH HBG M/C metal | D12: "" | E12: =E11 -> 84 | F12: =INDEX(Sheet1!$B$3:$D$152,MATCH(E12,Sheet1!$B$3:$B$152,0),3) -> 1137.05 | G12: =Sheet1!G18 -> 745 | H12: =Sheet1!$G$40 -> 70 | I12: =ROUND(G12/4,2) -> 186.25 | J12: =SUM(F12:I12) -> 2138.3
B13: 6 | C13: 25 to 27 mm IRC and MoRTH HBG M/C metal | D13: "" | E13: =E12 -> 84 | F13: =INDEX(Sheet1!$B$3:$D$152,MATCH(E13,Sheet1!$B$3:$B$152,0),3) -> 1137.05 | G13: =Sheet1!G19 -> 1163 | H13: =Sheet1!$G$40 -> 70 | I13: =ROUND(G13/4,2) -> 290.75 | J13: =SUM(F13:I13) -> 2660.8
B14: 7 | C14: 19 to 22 mm IRC and MoRTH HBG M/C metal | D14: "" | E14: =E13 -> 84 | F14: =INDEX(Sheet1!$B$3:$D$152,MATCH(E14,Sheet1!$B$3:$B$152,0),3) -> 1137.05 | G14: =Sheet1!G20 -> 1170 | H14: =Sheet1!$G$40 -> 70 | I14: =ROUND(G14/4,2) -> 292.5 | J14: =SUM(F14:I14) -> 2669.55
B15: 8 | C15: 12 to 14 mm IRC and MoRTH HBG M/C metal | D15: "" | E15: =E14 -> 84 | F15: =INDEX(Sheet1!$B$3:$D$152,MATCH(E15,Sheet1!$B$3:$B$152,0),3) -> 1137.05 | G15: =Sheet1!G21 -> 951 | H15: =Sheet1!$G$40 -> 70 | I15: =ROUND(G15/4,2) -> 237.75 | J15: =SUM(F15:I15) -> 2395.8
B16: 9 | C16: 9.5 to 11.20 mm IRC and MoRTH HBG M/C metal | D16: "" | E16: =E15 -> 84 | F16: =INDEX(Sheet1!$B$3:$D$152,MATCH(E16,Sheet1!$B$3:$B$152,0),3) -> 1137.05 | G16: =Sheet1!G22 -> 840 | H16: =Sheet1!$G$40 -> 70 | I16: =ROUND(G16/4,2) -> 210 | J16: =SUM(F16:I16) -> 2257.05
B17: 10 | C17: 5 to 7 mm IRC and MoRTH HBG M/C metal | D17: "" | E17: =E16 -> 84 | F17: =INDEX(Sheet1!$B$3:$D$152,MATCH(E17,Sheet1!$B$3:$B$152,0),3) -> 1137.05 | G17: =Sheet1!G23 -> 716 | H17: =Sheet1!$G$40 -> 70 | I17: =ROUND(G17/4,2) -> 179 | J17: =SUM(F17:I17) -> 2102.05
B18: 11 | C18: 2.36 to 5 mm IRC and MoRTH HBG M/C metal | D18: "" | E18: =E17 -> 84 | F18: =INDEX(Sheet1!$B$3:$D$152,MATCH(E18,Sheet1!$B$3:$B$152,0),3) -> 1137.05 | G18: =Sheet1!G24 -> 487 | H18: =Sheet1!$G$40 -> 70 | I18: =ROUND(G18/4,2) -> 121.75 | J18: =SUM(F18:I18) -> 1815.8
B19: 12 | C19: HBG Stone chips 2.36mm and below | D19: "" | E19: =E18 -> 84 | F19: =INDEX(Sheet1!$B$3:$D$152,MATCH(E19,Sheet1!$B$3:$B$152,0),3) -> 1137.05 | G19: =Sheet1!G25 -> 466 | J19: =SUM(F19:I19) -> 1603.05
B20: 13 | C20: Filler material | D20: "" | E20: =E19 -> 84 | F20: =INDEX(Sheet1!$B$3:$D$152,MATCH(E20,Sheet1!$B$3:$B$152,0),3) -> 1137.05 | G20: =Sheet1!G7 -> 99 | J20: =SUM(F20:I20) -> 1236.05
C24: Assistant Executive Engineer (R&B) | H24: Deputy Executive Engineer (R&B)
C25: (R&B) Section - Penugonda | H25: (R&B) Sub Division - Tanuku
C30: Executive Engineer (R&B) | H30: Superintending Engineer (R&B)
C31: (R&B) Division - Bhimavaram | H31: (R&B) Circle - Eluru

Sheet BTR
B2: COST OF BITUMEN / MT WITH LEADS
A4: Name of Work :- | C4: =Cover!D20 -> Construction of Helipad with Cement concrete for the visit of Hon'ble Chief Minister of Andhra pradesh Sri Nara Chandrababu Naidu Garu on the occasion of "Pattadar Pass Book- distribution" Programme at Siddantham village of Penugonda mandal (Achanta constituency)in West Godavari District on 8.6.2026.
B7: Ref :- | C7: For Emulsion (Bulk), HINCOL Price List with effect from | H7: Dt.16.05.2026 | P7: Dt.01.09.2021
C8: For Bulk Bitumen VG-30 & VG-10, HPCL Price List With effect from | H8: Dt.16.05.2026
C9: For Emulsion (Bulk), IOCL Price List with effect from | H9: Dt.16.05.2026
C10: For Bulk Bitumen VG-30 & VG-10, IOCL Price List With effect from | H10: Dt.16.05.2026
F12: Bulk VG-30 Grade | G12: Emulsion (SS1) | H12: Bulk VG-10 Grade | N12: Bulk VG-30 Grade | O12: Emulsion (SS1) | P12: Bulk VG-10 Grade
F13: Vizag | G13: Vizag | H13: Vizag | N13: IOCL Chennai | O13: IOCL Chennai | P13: IOCL Chennai
B15: Basic Price | F15: 76140 | G15: 77800 | H15: 72870 | J15: Basic Price | N15: 37360 | O15: 44630 | P15: 36560
B18: Lead from Vizag | J18: Lead from Chennai
D19: =Lead!K60 -> 217 | E19: Kms | F19: =ROUND(2*D19,0)*D21 -> 868 | G19: =ROUND(2*D19,0)*D21 -> 868 | H19: =G19 -> 868 | L19: ='1 Lead'!F14 -> 0 | M19: Kms | N19: =ROUND(2*L19,0)*L21 -> 0 | O19: =ROUND(2*L19,0)*L21 -> 0 | P19: =O19 -> 0
B20: Lead charges for Bulk @ | J20: Lead charges for Bulk @
D21: 2 | E21: per KM | L21: 1.75 | M21: per KM
F23: =F15+F19 -> 77008 | G23: =G15+G19 -> 78668 | H23: =H15+H19 -> 73738 | N23: =#REF!+N19 -> #REF! | O23: =O15+O19 -> 44630 | P23: =P15+P19 -> 36560
F26: Bulk VG-30 Grade | G26: Emulsion (SS1) | H26: Bulk VG-10 Grade
F27: IOCL Chennai | G27: IOCL Chennai | H27: IOCL Chennai
B29: Basic Price | F29: 74922 | G29: 76157 | H29: 75652
B32: Lead from Chennai
D33: =Lead!K70 -> 580 | E33: Kms | F33: =ROUND(2*D33,0)*D35 -> 2320 | G33: =ROUND(2*D33,0)*D35 -> 2320 | H33: =G33 -> 2320
B34: Lead charges for Bulk @
D35: =D21 -> 2 | E35: per KM
F37: =SUM(F28:F36) -> 77242 | G37: =SUM(G28:G36) -> 78477 | H37: =SUM(H28:H36) -> 77972
B39: Lowest Price | F39: =F23 -> 77008 | G39: =G37 -> 78477 | H39: =H23 -> 73738
C44: Assistant Executive Engineer (R&B) | G44: Deputy Executive Engineer (R&B)
C45: (R&B) Section - Penugonda | G45: (R&B) Sub Division - Tanuku
C50: Executive Engineer (R&B) | G50: Superintending Engineer (R&B)
C51: (R&B) Division - Bhimavaram | G51: (R&B) Circle - Eluru

Sheet RMR
B1: ROAD METAL RATES (SoR 2025-26)
B2: Name of Work :- | D2: =Cover!D20 -> Construction of Helipad with Cement concrete for the visit of Hon'ble Chief Minister of Andhra pradesh Sri Nara Chandrababu Naidu Garu on the occasion of "Pattadar Pass Book- distribution" Programme at Siddantham village of Penugonda mandal (Achanta constituency)in West Godavari District on 8.6.2026.
B3: Sl. No | C3: Description of Material | D3: Source of Supply | E3: Lead in Kms | F3: Conveyance | G3: Initial cost | H3: Blasting charges | I3: Machine crushing charges | J3: Toal Cost per Cum
C4: A) FOR ROAD WORKS
B5: 1 | C5: 60 to 63 mm IRC and MoRTH HBG metal | D5: I. Pangidi | E5: =Lead!K35 -> 54 | F5: =INDEX(Sheet1!$B$3:$D$152,MATCH(E5,Sheet1!$B$3:$B$152,0),3) -> 766.25 | G5: =Sheet1!G4 -> 509 | H5: =Sheet1!$G$40 -> 70 | J5: =SUM(F5:I5) -> 1345.25
B6: 2 | C6: 40 to 45 mm IRC and MoRTH HBG metal | D6: "" | E6: =E5 -> 54 | F6: =INDEX(Sheet1!$B$3:$D$152,MATCH(E6,Sheet1!$B$3:$B$152,0),3) -> 766.25 | G6: =Sheet1!G6 -> 745 | H6: =Sheet1!$G$40 -> 70 | J6: =SUM(F6:I6) -> 1581.25
B7: 3 | C7: SS Revetment work 300mm | D7: "" | E7: =E6 -> 54 | F7: =INDEX(Sheet1!$B$3:$D$152,MATCH(E7,Sheet1!$B$3:$B$152,0),3) -> 766.25 | G7: =Sheet1!G11 -> 206 | H7: =Sheet1!$G$41 -> 70 | J7: =SUM(F7:I7) -> 1042.25
B8: 4 | C8: Quarry spall (Field picked metal) Av. Of rate 25mm & 40mm | D8: "" | E8: =E7 -> 54 | F8: =INDEX(Sheet1!$B$3:$D$152,MATCH(E8,Sheet1!$B$3:$B$152,0),3) -> 766.25 | G8: =Sheet1!G16 -> 47.15 | J8: =SUM(F8:I8) -> 813.4
B9: 5 | C9: 150 mm soling stone HBG metal | D9: "" | E9: =E8 -> 54 | F9: =INDEX(Sheet1!$B$3:$D$152,MATCH(E9,Sheet1!$B$3:$B$152,0),3) -> 766.25 | G9: =Sheet1!G17 -> 105 | H9: =Sheet1!$G$40 -> 70 | J9: =SUM(F9:I9) -> 941.25
B10: 6 | C10: Jeddy Stone 450 mm to 600 mm thick | D10: "" | E10: =E9 -> 54 | F10: =INDEX(Sheet1!$B$3:$D$152,MATCH(E10,Sheet1!$B$3:$B$152,0),3) -> 766.25 | G10: =Sheet1!G15 -> 223 | H10: 70 | J10: =SUM(F10:I10) -> 1059.25
