Workbook
Name \: #REF!
Name \: #REF!
Name \0: #REF!
Name \0: #REF!
Name \a: #REF!
Name \a: #REF!
Name \B: #REF!
Name \C: #REF!
Name \d: #REF!
Name \e: #REF!
Name \G: #REF!
Name \I: #REF!
Name \M: #REF!
Name \N: #REF!
Name \N1: #REF!
Name \O: #REF!
Name \P: #REF!
Name \Q: #REF!
Name \R: #REF!
Name \S: #REF!
Name \U: #REF!
Name \V: #REF!
Name \x: #REF!
Name _: #REF!
Name ____________________________________________________________________________________can430: 40.73
Name ____________________________________________________________________________________can435: 43.3
Name ___________________________________________________________________________________bla1: [1]leads!$H$7
Name ___________________________________________________________________________________can430: 40.73
Name ___________________________________________________________________________________can435: 43.3
Name ___________________________________________________________________________________l1: [2]leads!$A$3:$E$108
Name ___________________________________________________________________________________l4: [3]Sheet1!$W$2:$Y$103
Name ___________________________________________________________________________________mm1: [4]r!$F$4
Name ___________________________________________________________________________________rr3: [5]v!$A$2:$E$51
Name ___________________________________________________________________________________rrr1: [5]r!$B$1:$I$145
Name ___________________________________________________________________________________SS12: [6]MRATES!$J$8
Name ___________________________________________________________________________________SS20: [6]MRATES!$J$9
Name ___________________________________________________________________________________SS40: [6]MRATES!$J$11
Name __________________________________________________________________________________can430: 40.73
Name __________________________________________________________________________________can435: 43.3
Name __________________________________________________________________________________cur1: [7]r!$F$30
Name __________________________________________________________________________________l2: [7]r!$F$29
Name __________________________________________________________________________________l6: [7]r!$F$4
Name __________________________________________________________________________________l7: [8]r!$F$4
Name __________________________________________________________________________________l8: [7]r!$F$2
Name __________________________________________________________________________________l9: [7]r!$F$3
Name __________________________________________________________________________________mm11: [7]r!$F$4
Name __________________________________________________________________________________mm111: [8]r!$F$4
Name _________________________________________________________________________________bla1: [1]leads!$H$7
Name _________________________________________________________________________________can430: 40.73
Name _________________________________________________________________________________can435: 43.3
Name _________________________________________________________________________________cur1: [7]r!$F$30
Name _________________________________________________________________________________l1: [2]leads!$A$3:$E$108
Name _________________________________________________________________________________l2: [7]r!$F$29
Name _________________________________________________________________________________l4: [3]Sheet1!$W$2:$Y$103
Name _________________________________________________________________________________l6: [7]r!$F$4
Name _________________________________________________________________________________l7: [8]r!$F$4
Name _________________________________________________________________________________l8: [7]r!$F$2
Name _________________________________________________________________________________l9: [7]r!$F$3
Name _________________________________________________________________________________mm1: [4]r!$F$4
Name _________________________________________________________________________________mm11: [7]r!$F$4

Sheet 0000000000000

Sheet 1000000000000

Sheet COVER
C4: GOVERNMENT OF ANDHRA PRADESH
B8: ROADS & BUILDINGS DEPARTMENT
B10: (R&B) Circle, Guntur
C12: “Widening and Strengthening of Bapatla – Pandurangapuram road fom Km 0/000 to 8/000 in Bapatla District”
C19: ESTIMATE AMOUNT
F20: Rs.1480.00 Lakhs
C25: Circle | I25: Guntur
C26: Constituency
C27: Division | D27: Division | I27: Bapatla
C28: Sub Division | I28: Bapatla
C29: Section | I29: Bapatla

Sheet TS MEMO
B1: Government of Andhra Pradesh Roads and Buildings Department Major District Roads
B3: TS Memo No: /MDR Plan/ENC(MDR) /DCE(R)/ EE(TEC) /DEE-IV /AEE,2025-26, Dated -02-2025.
B4: 1 | C4: Major Head of Account : | D4: 5054 - Capital outlay on Roads & Bridges
B5: 2 | C5: Minor Head of Account : | D5: 04- District and Other roads
B6: 3 | C6: Sub Head of Account : | D6: MH-337 - Road works
B7: 4 | C7: Detailed Head of Account : | D7: 11-State Develeoment Schemes S.H(09)- Major District Roads 530 - Major Works, 531- Major Works.
B8: 5 | C8: Name of the Work : | D8: =+COVER!C12 -> “Widening and Strengthening of Bapatla – Pandurangapuram road fom Km 0/000 to 8/000 in Bapatla District”
B9: 6 | C9: Amount of Estimate : | D9: 1480.00 Lakhs
B10: 7 | C10: Administrative Sanction : | D10: Administrative sanction is accorded for Rs.1520.00 Lakhs vide G.O RT No.665 of TR&B (R.III) Dept., Dt:24.12.2025. Govt of A.P.
B11: 8 | C11: Technical Sanction : | D11: Technical Sanction is hereby accorded for Rs.1480.00 lakhs ( Rupees Fourteen crores and Eighty lakhs only) based on SSR 2025-26.
B17: AEE DEE-IV EE(TEC) DCE(R) Engineer -in-Chief(R&B)
D18: Major District Roads

Sheet Gen Abs 2026-27
A1: GENERAL ABSTRACT
B2: =+COVER!C12 -> “Widening and Strengthening of Bapatla – Pandurangapuram road fom Km 0/000 to 8/000 in Bapatla District”
A4: S.No | B4: Description | C4: Amount in Rs
A5: I | B5: PART-A
A6: a | B6: Road Work | C6: =+'Abstrac- Road work'!E39 -> 89945075
A7: b | B7: CC pavement | C7: =+'Abstrac- CC Pavement'!E20 -> 16498859
A8: c | B8: Pipe Culverts | C8: =+'Abstract -Pipe Culvert'!E23 -> 3267248
A9: d | B9: Slab Culvert 2Vx 6m span | C9: =+'Abstract -Slab Culvert'!E81 -> 7172992
A10: e | B10: RSI | C10: =+RSI!E23 -> 2946611
B11: Total (ECV) | C11: =SUM(C6:C10) -> 119830785
A12: 2 | B12: LS Provision towards Seigniorage Charges+DMF+Merit | C12: =+Seig!L48 -> 8596500
A13: 3 | B13: LS Provision towards Price Adjustment | C13: 100000
B14: Sub total (1+2+3) | C14: =SUM(C11:C13) -> 128527285
A15: 4 | B15: LS Provision for Corpus Fund of NAC @ 0.1% on (1+2+3) | C15: =ROUNDUP(C14*0.1%,-2) -> 128600
B16: Sub total (1+2+3+4) | C16: =SUM(C14:C15) -> 128655885
A17: II | B17: PART-B
A18: 5 | B18: LS Provision towards GST @ 18% | C18: =ROUNDUP(C16*18%,-2) -> 23158100
A19: 6 | B19: LS Provision towards Quality Control Charges | C19: 400000
A20: 7 | B20: LS Provision towards Shifting of Electrical poles | C20: 550000
A21: 8 | B21: LS Provision towards Avagahana Sadassu | C21: 5000
A22: 9 | B22: LS Provision towards Unforeseen items & Rounding off | C22: =155000-486+300+1000-15112 -> 140702
B23: TOTAL | C23: =SUM(C16:C22) -> 152909687 | E23: =1529-1480 -> 49
B24: (Rupees Fourteeen Crores and Eighty lakhs Only) | E24: =+E23/1480*100 -> 3.3108108
A25: Technical Sanction is hereby accorded for Rs.1480.00 Lakhs (Rupees Fourteeen Crores and Eighty lakhs Only) which is based on the SSR 2025-26, against the Administrative Sanction accorded for Rs.1520.00 Lakhs vide G.O RT No.6658 of TR&B (R.III) Dept., Dt: 24.12.2025. Govt of A.P.
A28: AEE | B28: DEE-IV EE(TEC) DCE(R) Engineer-in-Chief (R&B)
B29: Major District Roads

Sheet Slab Culvert
A1: SLAB CULVERT DETAILED CUM ABSTRACT ESTIMATE | O1: SLAB CULVERT DETAILED CUM ABSTRACT ESTIMATE
A2: Name of work: | C2: Improvements to Uppuluru - Madduru road from Km.0.000 to 4.650 in Krishna District. | O2: Name of work: | Q2: Improvements to Uppuluru - Madduru road from Km.0.000 to 4.200 & 4.650 to 10.825 in Krishna District. ( Working reach from Km 0/0 to 4/2)
C3: Reconstruction of Slab Culvert in km 2/6, 3/6, 3/10 ( 1 Vent of 2.00 m) | O3: Sub- work: | Q3: Reconstruction of Slab Culvert in km 2/6, 3/6, 3/10 ( 1 Vent of 3.00 m)
A4: S. No | B4: Description of Item | D4: Measurements | J4: Quantity | K4: Rate | L4: Amount | O4: S. No | P4: Description of Item | R4: Measurements | X4: Quantity | Y4: Rate | Z4: Amount
D5: No | G5: L | H5: B | I5: D | R5: No | U5: L | V5: B | W5: D
A6: 1 | B6: 2 | D6: 3 | G6: 4 | H6: 5 | I6: 6 | J6: 7 | K6: 8 | L6: 9 | O6: 1 | P6: 2 | R6: 3 | U6: 4 | V6: 5 | W6: 6 | X6: 7 | Y6: 8 | Z6: 9
A7: 1 | B7: Dismantling of existing structures like culverts , bridges, retaining walls and other structures comprising of masonry, cement, concrete, wood work , steel work, including T&P and scaffolding wherever necessary sorting the dismantled material, disposal of unserviceable materials and stacking the materials with all lifts and lead of 1000 m ( By Mechanical means in Cement concrete grade M-15 & M-20) as per MoRTH specification 202 , 2.4 II (A) (5th revision) | O7: 1 | P7: Dismantling of existing structures like culverts , bridges, retaining walls and other structures comprising of masonry, cement, concrete, wood work , steel work, including T&P and scaffolding wherever necessary sorting the dismantled material, disposal of unserviceable materials and stacking the materials with all lifts and lead of 1000 m ( By Mechanical means in Cement concrete grade M-15 & M-20) as per MoRTH specification 202 , 2.4 II (A) (5th revision)
B8: For foundation | D8: 3 | E8: x | F8: 1 | G8: 5.6 | H8: 6 | I8: 0.5 | J8: =I8*H8*G8*F8*D8 -> 50.4 | P8: For foundation | R8: 3 | S8: x | T8: 1 | U8: 5.6 | V8: 6 | W8: 0.5 | X8: =W8*V8*U8*T8*R8 -> 50.4
J9: =SUM(J8:J8) -> 50.4 | X9: =SUM(X8:X8) -> 50.4
I10: say | J10: =ROUNDUP(J9,0) -> 51 | K10: ='[659]Road data'!J1600 -> 856 | L10: =ROUND(J10*K10,0) -> 43656 | W10: say | X10: =ROUNDUP(X9,0) -> 51 | Y10: ='[659]Road data'!X1600 -> 0 | Z10: =ROUND(X10*Y10,0) -> 0
J11: cum | K11: Cum | X11: cum | Y11: Cum
A13: 2 | B13: Dismantling of existing structures like Stone Masonry in Cement Mortar by mechanical means including T&P and scaffolding wherever necessary sorting the dismantled material, disposal of unserviceable materials and stacking the materials with all lifts and lead of 1000 m as per MoRTH specification 202 , 2.4 III (B) (5th revision) | O13: 2 | P13: Dismantling of existing structures like Stone Masonry in Cement Mortar by mechanical means including T&P and scaffolding wherever necessary sorting the dismantled material, disposal of unserviceable materials and stacking the materials with all lifts and lead of 1000 m as per MoRTH specification 202 , 2.4 III (B) (5th revision)
B14: For abutments | C14: km.0/10 | D14: 3 | E14: x | F14: 2 | G14: 5.6 | H14: 1.2 | I14: 3 | J14: =I14*H14*G14*F14*D14 -> 120.96 | P14: For abutments | Q14: km.0/10 | R14: 3 | S14: x | T14: 2 | U14: 5.6 | V14: 1.2 | W14: 1.3 | X14: =W14*V14*U14*T14*R14 -> 52.416
J15: =SUM(J14:J14) -> 120.96 | X15: =SUM(X14:X14) -> 52.416
I16: say | J16: =ROUNDUP(J15,0) -> 121 | K16: ='[659]Road data'!J1620 -> 578 | L16: =ROUND(J16*K16,0) -> 69938 | W16: say | X16: =ROUNDUP(X15,0) -> 53 | Y16: ='[659]Road data'!X1620 -> 0 | Z16: =ROUND(X16*Y16,0) -> 0
J17: cum | K17: Cum | X17: cum | Y17: Cum
A19: 3 | B19: Dismantling of existing structures like Prestressed / reinforced Cement contrete grade M-20 & above by mechanical means including T&P and scaffolding wherever necessary sorting the dismantled material, disposal of unserviceable materials and stacking the materials with all lifts and lead of 1000 m as per MoRTH specification 202 , 2.4 II (B) (5th revision) | O19: 3 | P19: Dismantling of existing structures like Prestressed / reinforced Cement contrete grade M-20 & above by mechanical means including T&P and scaffolding wherever necessary sorting the dismantled material, disposal of unserviceable materials and stacking the materials with all lifts and lead of 1000 m as per MoRTH specification 202 , 2.4 II (B) (5th revision)
B20: For deck slab | C20: km.0/10 | D20: 3 | E20: x | F20: 1 | G20: 3.2 | H20: 6 | I20: 0.5 | J20: =I20*H20*G20*F20*D20 -> 28.8 | P20: For deck slab | Q20: km.0/10 | R20: 3 | S20: x | T20: 1 | U20: 3.2 | V20: 6 | W20: 0.5 | X20: =W20*V20*U20*T20*R20 -> 28.8
J21: =SUM(J20:J20) -> 28.8 | X21: =SUM(X20:X20) -> 28.8
I22: say | J22: =ROUNDUP(J21,0) -> 29 | K22: ='[659]Road data'!J1643 -> 1498 | L22: =ROUND(J22*K22,0) -> 43442 | W22: say | X22: =ROUNDUP(X21,0) -> 29 | Y22: ='[659]Road data'!X1643 -> 0 | Z22: =ROUND(X22*Y22,0) -> 0
J23: cum | K23: Cum | X23: cum | Y23: Cum
A25: 4 | B25: Earthwork excavation in soils upto SDR by mechanical means including trimming bottom and side slopes in accordance with requirements of lines , grades and cross sections etc., complete for finished item of work for trench cutting as per MoRT&H specification 301(5th Revision) and as directed by the Engineer-in-Charge | O25: 4 | P25: Earthwork excavation in soils upto SDR by mechanical means including trimming bottom and side slopes in accordance with requirements of lines , grades and cross sections etc., complete for finished item of work for trench cutting as per MoRT&H specification 301(5th Revision) and as directed by the Engineer-in-Charge
B26: For foundation | C26: km.0/10 | D26: 3 | E26: x | F26: 1 | G26: 7 | H26: 10.6 | I26: 1.5 | J26: =I26*H26*G26*F26*D26 -> 333.9 | P26: For foundation | Q26: km.0/10 | R26: 3 | S26: x | T26: 2 | U26: 2.65 | V26: 10.6 | W26: 2.45 | X26: =W26*V26*U26*T26*R26 -> 412.923
B27: For wing walls | C27: km.0/10 | D27: 3 | E27: x | F27: 4 | G27: 2.5 | H27: 2.65 | I27: 1.5 | J27: =I27*H27*G27*F27*D27 -> 119.25 | P27: For wing walls | Q27: km.0/10 | R27: 3 | S27: x | T27: 4 | U27: 2.4 | V27: 1.93 | W27: 2.5 | X27: =W27*V27*U27*T27*R27 -> 138.96
J28: =SUM(J26:J27) -> 453.15 | X28: =SUM(X26:X27) -> 551.883
I29: say | J29: =ROUNDUP(J28,0) -> 454 | K29: ='[659]Pipe Culvert'!I12 -> 128.4 | L29: =ROUND(J29*K29,0) -> 58294 | W29: say | X29: =ROUNDUP(X28,0) -> 552 | Y29: ='[659]Pipe Culvert'!W12 -> 0 | Z29: =ROUND(X29*Y29,0) -> 0
J30: cum | K30: Cum | X30: cum | Y30: Cum
A31: 5 | B31: Sand filling in foundation including cost and conveyence of all materials to site and watering, tamping etc., complete for finshed item of work as per MoRT&H specification 304 (5th Revision) and as directed by the Engineer - in - Charge. | O31: 5 | P31: Sand filling in foundation including cost and conveyence of all materials to site and watering, tamping etc., complete for finshed item of work as per MoRT&H specification 304 (5th Revision) and as directed by the Engineer - in - Charge.
B32: For foundation | C32: km.0/10 | D32: 3 | E32: x | F32: 1 | G32: 7 | H32: 10.6 | I32: 0.15 | J32: =I32*H32*G32*F32*D32 -> 33.39 | P32: For foundation | Q32: km.0/10 | R32: 3 | S32: x | T32: 2 | U32: 2.65 | V32: 10.6 | W32: 0.15 | X32: =W32*V32*U32*T32*R32 -> 25.281
B33: For wing walls | C33: km.0/10 | D33: 3 | E33: x | F33: 4 | G33: 2.5 | H33: 2.65 | I33: 0.15 | J33: =I33*(2.65+1.65)/2*G33*F33*D33 -> 9.675 | P33: For wing walls | Q33: km.0/10 | R33: 3 | S33: x | T33: 4 | U33: 2.4 | V33: 1.93 | W33: 0.15 | X33: =W33*V33*U33*T33*R33 -> 8.3376
J34: =SUM(J32:J33) -> 43.065 | X34: =SUM(X32:X33) -> 33.6186
I35: say | J35: =ROUNDUP(J34,0) -> 44 | K35: ='[659]Pipe Culvert'!I22 -> 469 | L35: =ROUND(J35*K35,0) -> 20636 | W35: say | X35: =ROUNDUP(X34,0) -> 34 | Y35: ='[659]Pipe Culvert'!W22 -> 0 | Z35: =ROUND(X35*Y35,0) -> 0
J36: cum | K36: Cum | X36: cum | Y36: Cum
A38: 6 | B38: Providing Vibrated Cement Concrete (1:3:6) mix using 40mm size HBG crushed stone aggregate and fine aggregate conforming to table 1000-2 of MoRT&H including cost, conveyance of all materials to site and labour charges, centering, machine mixing, laying, Vibrating, curing etc., including all other incidental and operational charges of all T&P etc., complete for finished item of work as per MoRT&H specification 1500,1700, 2100 (5th Revision) and as directed by the Engineer-in-Charge for foundation. | O38: 6 | P38: Providing Vibrated Cement Concrete (1:3:6) mix using 40mm size HBG crushed stone aggregate and fine aggregate conforming to table 1000-2 of MoRT&H including cost, conveyance of all materials to site and labour charges, centering, machine mixing, laying, Vibrating, curing etc., including all other incidental and operational charges of all T&P etc., complete for finished item of work as per MoRT&H specification 1500,1700, 2100 (5th Revision) and as directed by the Engineer-in-Charge for foundation.
B39: For foundation | C39: km.0/10 | D39: 3 | E39: x | F39: 1 | G39: 7 | H39: 10.6 | I39: 0.2 | J39: =I39*H39*G39*F39*D39 -> 44.52 | P39: For foundation | Q39: km.0/10 | R39: 3 | S39: x | T39: 2 | U39: 2.65 | V39: 10.6 | W39: 0.2 | X39: =W39*V39*U39*T39*R39 -> 33.708
B40: For wing walls | C40: km.0/10 | D40: 3 | E40: x | F40: 4 | G40: 2.5 | H40: 2.65 | I40: 0.4 | J40: =I40*(2.65+1.65)/2*G40*F40*D40 -> 25.8 | P40: For wing walls | Q40: km.0/10 | R40: 3 | S40: x | T40: 4 | U40: 2.4 | V40: 1.93 | W40: 0.2 | X40: =W40*V40*U40*T40*R40 -> 11.1168
J41: =SUM(J39:J40) -> 70.32 | X41: =SUM(X39:X40) -> 44.8248
I42: say | J42: =ROUNDUP(J41,0) -> 71 | K42: ='[659]Road data'!J696 -> 4794 | L42: =ROUND(J42*K42,0) -> 340374 | W42: say | X42: =ROUNDUP(X41,0) -> 45 | Y42: ='[659]Road data'!X696 -> 0 | Z42: =ROUND(X42*Y42,0) -> 0
J43: cum | X43: cum
A44: 7 | B44: Vibrated cement concrete M 15 Grade Concrete using 40mm , 20mm and 10mm size HBG crushed stone aggregate (Coarse aggregate conforming to table 1000-1 and fine aggregate conforming to table 1000-2) including cost and conveyance of all materials to site and all labour charges for machine mixing,laying in position, Compacting , Vibrating and curing including all other incidental and all other operational charges of T&P required etc., complete as per MoRT&H Specification 1500,1700, 2100 (5th Revision) for footings and Raft foundation . | O44: 7 | P44: Vibrated cement concrete M 15 Grade Concrete using 40mm , 20mm and 10mm size HBG crushed stone aggregate (Coarse aggregate conforming to table 1000-1 and fine aggregate conforming to table 1000-2) including cost and conveyance of all materials to site and all labour charges for machine mixing,laying in position, Compacting , Vibrating and curing including all other incidental and all other operational charges of T&P required etc., complete as per MoRT&H Specification 1500,1700, 2100 (5th Revision) for footings and Raft foundation .
...

Sheet Abstrac- Road work
A1: =+COVER!C12 -> “Widening and Strengthening of Bapatla – Pandurangapuram road fom Km 0/000 to 8/000 in Bapatla District”
A2: ABSTRACT E S T I M A T E- Road Work
A3: Sl. No | B3: Description of item | C3: Quantity | D3: Rate /Per | E3: Amount in Rs.
B5: BT Road
A6: 1 | B6: Forming embankment with Side earth by mechanical means upto SDR including pre-watering of soil , removal of top soil, excavation of soils , depositing the soils on the embankment, spreading soil, breaking clods, sectioning , grading and consolidation with 8 to 10 Tonnes Vibratory Road Roller @ OMC to meet requirement of table 300-2 of MoRT&H, including all hire and operational charges of T&P, complete for finished item of work as per MoRT&H specification 305 (5th revision) (Payment will be made based on level for finished item of work).
C7: 20115 | D7: =+'Road data'!J25 -> 206 | E7: =ROUND(D7*C7,0) -> 4143690
C8: Cum | D8: Cum
A9: 2 | B9: Forming embankment with borrowed useful earth from outside road boundary by mechanical means upto SDR with all leads and lifts including pre-watering of soil at borrow area, removal of top soil, excavation of soils at borrowed area, conveyance of soil, depositing the soil on the embankment, spreading soil, breaking clods, sectioning, grading and consolidation with 8 to 10 Tonnes Vibratory Road Roller @ OMC to meet requirement of table 300-2 of MoRT&H, including all hire and operational charges of T&P , complete for finished item of work as per MoRT&H specification 305 (5th revision) (Payment will be made based on level for finished item of work).
C10: 6323 | D10: =+'Road data'!J49 -> 1093 | E10: =ROUND(D10*C10,0) -> 6911039
A12: 3 | B12: Scarifying the existing B.T surface to a depth of 50 mm by Mechanical means and disposal of scarified material with all leads and lifts upto 1000 Mtrs as per MoRT&H (5th Revision) Specn. No.305.4.3
C13: 31734 | D13: =+'Road data'!J165 -> 11.2 | E13: =ROUND(D13*C13,0) -> 355421
C14: Sqm | D14: Sqm
A15: 4 | B15: Construction of Granular sub-base by providing HBG material confirming to Grading - V of MoRT&H Table 400-1 including cost and conveyance of all materials to work site and spreading in uniform layers with motor grader or by approved means, on prepared surface mixing by mix in place method with Rotavator / approved means at OMC and compacting with vibratory roller to achieve the desired density etc., complete for finished item of work as per MoRT&H Specification 401 (5th revision) and as directed by the Engineer-in-charge.
A16: 6 | C16: 3165 | D16: =+'Road data'!J145 -> 2984 | E16: =ROUND(D16*C16,0) -> 9444360
C17: Cum | D17: Cum
A18: 5 | B18: Providing, Laying, Spreading and compacting graded HBG crushed stone aggregate to Wet Mix macadem specification ( 5th Revision) as per Table 400-13, including cost of all materials and including premixing the material with water at OMC in Mechanical mix plant carriage of mixed material by tipper to site , laying in uniform layers with paver in base courses on well prepared surface and compacting with Vibratory roller to acheive the desired density etc., as directed by the Engineer-in-Charge and as per MoRT&H specification.406 (5th revision) for finished item of work.
C19: 7767 | D19: =+'Road data'!J197 -> 3249 | E19: =ROUND(D19*C19,0) -> 25234983
C20: Cum | D20: Cum
A21: 6 | B21: Providing and applying prime coat with bitumen emulsion (SS1) Bulk using emulsion pressure distributor on prepared surface of granular base including clearing of road surface and spraying emulsion at the rate of 0.70 kg/sqm using emulsion pressure distributor for finished item of work etc., complete as per MoRT&H Specification 502 (5th revision) and as directed by the Engineer-in-charge
C22: 40853 | D22: =+'Road data'!J221 -> 41.2 | E22: =ROUND(D22*C22,0) -> 1683144
C23: Sqm | D23: Sqm
A24: 7 | B24: Providing and applying tack coat with bitumen VG-10 (Bulk) using Bitumen pressure distributor at the rate of 0.25 kgs per sqm on the prepared Granular surface treated with primer cleaned with mechanical broom for finished item of work as per MoRT&H Specification 503 (5th revision) and as directed by the Engineer-in-Charge.
C25: 40853 | D25: =+'Road data'!J269 -> 16.2 | E25: =ROUND(D25*C25,0) -> 661819
C26: Sqm | D26: Sqm
A27: 8 | B27: Providing and applying tack coat with bitumen VG-10 (Bulk) using Bitumen pressure distributor at the rate of 0.20 kgs per sqm on the prepared bituminous surface cleaned with mechanical broom for finished item of work as per MoRT&H Specification 503 (5th revision) and as directed by the Engineer-in-Charge.
C28: 47684 | D28: =+'Road data'!J245 -> 13.5 | E28: =ROUND(D28*C28,0) -> 643734
C29: Sqm | D29: Sqm
A30: 9 | B30: Providing and laying of 50mm thick Bituminous Macadam with 100 -120 TPH hot mix plant producing an average output of 75 tonnes per hour using hard blasted granite crushed aggregates of Grading - II as per table 500-7 of MoRT&H specificaion 504 (5th Revision) premixed with bituminous binder of VG-30 grade @ 3.4 % by weight of total mixture, transported to site, laid over a previously prepared surface with Hydrostatic paver finisher with sensor control to the required grade, level and alignment and rolled as per Clauses 501.6 and 501.7 to achieve the desired compaction for finished item of work as directed by the Engineer-in-Charge including hire and opeational charges all T&P and all other contingent charges necessary , complete and as per MoRTH specification No. 504 (5th Revision) .
C31: 2043 | D31: =+'Road data'!J313 -> 8871 | E31: =ROUND(D31*C31,0) -> 18123453
C32: Cum | D32: Cum
A33: 10 | B33: Providing and laying of 30 mm thick Bituminous Concrete with 100 - 120 TPH batch type hot mix plant producing an average output of 75 tones per hour using hard blasted granite crushed aggregates of Grading – II as per Table 500-17 of specification 507 of MoRT&H (5th revision), premixed with Bituminous binder of VG 30 Grade @ 5.4 % of mix and filler, transporting the hot mix to work site, laying with hydrostatic sensor paver finisher to the required grade, level and alignment, rolling with smooth wheeled, vibratory and tandem rollers to achieve the desired compaction as per MoRT&H Specification 507 (5th revision) complete for finished item of work in all respects as directed by Engineer-in-Charge
C34: 1431 | D34: =+'Road data'!J436 -> 11611 | E34: =ROUND(D34*C34,0) -> 16615341
C35: Cum | D35: Cum
A36: 11 | B36: Forming shoulders with borrowed useful seclected earth having MDD of not less than 1.75 gms/cc from outside road boundary by mechnical means with all leads and lifts including pre-watering of soil at borrow area, removal of top soil, excavation of soils at borrowed area, conveyance of soil, depositing the soils on the embankment, spreading soils, breaking clods, sectioning and consolidation with vibratory road roller @ OMC to meet requirement of table 300-2 of MORT&H including all hire and operational charges of T&P , complete for finished item of work as per MORT&H specification 305 (5th revision) (Payment will be made based on levels for finished item of work)
C37: 5853 | D37: =+'Road data'!J1578 -> 1047 | E37: =ROUND(D37*C37,0) -> 6128091
C38: Cum | D38: Cum
E39: =SUM(E5:E38) -> 89945075
B43: AEE DEE-IV EE(TEC) | C43: DCE(R). | E43: ENC(MDRs)

Sheet Abstrac- CC Pavement
A1: =+COVER!C12 -> “Widening and Strengthening of Bapatla – Pandurangapuram road fom Km 0/000 to 8/000 in Bapatla District”
A2: ABSTRACT E S T I M A T E- CC Pavement
A3: Sl. No | B3: Description of item | C3: Quantity | D3: Rate /Per | E3: Amount in Rs.
A5: 1 | B5: Removal of unserviceable soils upto SDR including excavation, loading and disposal upto 1000 mts etc., complete for finished item of work as per MoRT&H specification 301(5th Revision) and as directed by the Engineer-in-Charge
C6: 662 | D6: =+'Road data'!J88 -> 146.4 | E6: =ROUND(D6*C6,0) -> 96917
C7: Cum | D7: Cum
A8: 2 | B8: Construction of Granular sub-base by providing HBG material confirming to Grading - V of MoRT&H Table 400-1 including cost and conveyance of all materials to work site and spreading in uniform layers with motor grader or by approved means, on prepared surface mixing by mix in place method with Rotavator / approved means at OMC and compacting with vibratory roller to achieve the desired density etc., complete for finished item of work as per MoRT&H Specification 401 (5th revision) and as directed by the Engineer-in-charge.
C9: 450 | D9: =+'Road data'!J145 -> 2984 | E9: =ROUND(D9*C9,0) -> 1342800
C10: Cum | D10: Cum
A11: 3 | B11: Providing Dry lean cement concrete Sub- base over a prepared sub-grade with coarse and fine aggregate conforming to IS: 383, the size of coarse aggregate not exceeding 25 mm, aggregate cement ratio not to exceed 15:1, aggregate gradation after blending to be as per table 600-1, cement content not to be less than 150 kg/ cum, optimum moisture content to be determined during trial length construction, concrete strength not to be less than 10 Mpa at 7 days, mixed in a concrete mixer 0.28/0.40 cum capacity with weigh batcher laid with a paver/manula means , compacting with 8-10 tonnes vibratory roller, finishing and curing complete for finished item of work as per MoRT&H (5th Revision) specification 601 (5th Revision) and as directed by the Engineer-in-Charge for base coarse below CC Pavement.
C12: 747 | D12: =+'Road data'!J581 -> 4846 | E12: =ROUND(D12*C12,0) -> 3619962
C13: Cum | D13: Cum
A14: 4 | B14: Construction of un-reinforced, dowel jointed, plain cement concrete pavement over a prepared sub base with 43 grade cement @ 400 kg per cum, coarse and fine aggregate conforming to IS 383, maximum size of coarse aggregate not exceeding 25 mm, and confirming to clause 602.2.6.4 mixed in Concrete mixer 0.28/0.4 cum capacity (6 mixers) with weigh batcher as per approved mix design, laid with a fixed form paver/Manual means, spread, compacted and finished in a continuous operation including provision of contraction, expansion, construction and longitudinal joints, joint filler, separation membrane, sealant primer, joint sealant, debonding strip, dowel bar, tie rod, admixtures as approved, curing compound, finishing to lines and grades etc., as per MoRT&H specification No. 602 (5th Revision) and as directed by the Engineer-in-Chief
C15: 1471 | D15: =+'Road data'!J627 -> 7730 | E15: =ROUND(D15*C15,0) -> 11370830
C16: Cum | D16: Cum
A17: 5 | B17: Providing, laying Reinforced cement concrete Hume pipes of 300mm Dia., NP-4 class for pipe culverts including cost and conveyance of Pipes etc., complete and Labour charges for laying, jointing of 300 mm dia. R.C.C Hume pipes in position including lifting, aligning, lowering and hoisting etc., as per drawing and as per MoRT&H Specification 2900, 2905 and 2906 (5th Revision) and IRC Special Publication No: 13 and as directed by the Engineer-in-Charge for finished item of work.
C18: 50 | D18: =+'Road data'!J746 -> 1367 | E18: =ROUND(D18*C18,0) -> 68350
C19: RM | D19: RM
E20: =SUM(E5:E19) -> 16498859
B25: AEE DEE-IV EE(TEC) | C25: DCE(R). | E25: ENC(MDRs)

Sheet Abstract -Pipe Culvert
A1: =+'Abstrac- Road work'!A1:E1 -> “Widening and Strengthening of Bapatla – Pandurangapuram road fom Km 0/000 to 8/000 in Bapatla District”
A2: ABSTRACT E S T I M A T E- CD Works( Pipe Culverts- 1Rx1000 dia -7 Nos @ Km 5/6, 5/10, 6/4, 6/10, 7/2, 7/4, 7/10
A3: Sl. No | B3: Description of item | C3: Quantity | D3: Rate /Per | E3: Amount in Rs.
A5: 1 | B5: Earthwork excavation in soils upto SDR by mechanical means for foundations of structures as per drawing and technical specification including setting out, construction of shoring and bracing, removal of stumps and other deleterious matter, dressing sides of bottom, back filling the excavation earth to the extent required etc., complete for finished item of work, excluding seigniorage charges, as per MoRT&H specification 304 (5th Revision) and as directed by the Engineer-in-Charge
C6: 461 | D6: =+'Road data'!J645 -> 108.5 | E6: =ROUND(D6*C6,0) -> 50019
C7: CUM | D7: CUM
A8: 2 | B8: Sand filling in foundation including cost and conveyence of all materials to site and watering, tamping etc., complete for finshed item of work as per MoRT&H specification 304 (5th Revision) and as directed by the Engineer - in - Charge.
C9: 79 | D9: =+'Road data'!J1409 -> 1465 | E9: =ROUND(D9*C9,0) -> 115735
C10: CUM | D10: CUM
A11: 3 | B11: Providing Vibrated Cement Concrete (1:3:6) mix using 40mm size HBG crushed stone aggregate and fine aggregate conforming to table 1000-2 of MoRT&H including cost, conveyance of all materials to site and labour charges, centering, machine mixing, laying, Vibrating, curing etc., including all other incidental and operational charges of all T&P etc., complete for finished item of work as per MoRT&H specification 1500,1700, 2100 (5th Revision) and as directed by the Engineer-in-Charge for foundation.
C12: 45 | D12: =+'Road data'!J696 -> 5579 | E12: =ROUND(D12*C12,0) -> 251055
C13: CUM | D13: CUM
A14: 4 | B14: Vibrated cement concrete M 15 Grade Concrete using 40mm , 20mm and 10mm size HBG crushed stone aggregate (Coarse aggregate conforming to table 1000-1 and fine aggregate conforming to table 1000-2) including cost and conveyance of all materials to site and all labour charges for machine mixing, laying in position,Compacting, Vibrating and curing including all other incidental and all other operational charges of T&P required etc., complete as per MoRT&H Specification 1500,1700, 2200 (5th Revision) for Sub structure / Body walls.
C15: 205 | D15: =+'Road data'!J973 -> 6809 | E15: =ROUND(D15*C15,0) -> 1395845
C16: CUM | D16: CUM
A17: 5 | B17: Providing, laying Reinforced cement concrete Hume pipes of 1000 mm Dia., NP-4 class for pipe culverts including cost and conveyance of Pipes etc., complete and Labour charges for laying, jointing of 1000 mm dia. R.C.C Hume pipes in position including lifting, aligning, lowering and hoisting etc., as per drawing and as per MoRT&H Specification 2900, 2905 and 2906 (5th Revision) and IRC Special Publication No: 13 and as directed by the Engineer-in-Charge for finished item of work.
C18: 87.5 | D18: =+'Road data'!J836 -> 10874 | E18: =ROUND(D18*C18,0) -> 951475
C19: RM | D19: RM
A20: 6 | B20: Filling in between body walls with gravel including cost and conveyance of all materials to site etc., complete as per Clause 710.1.4 of IRC : 78 and as per MoRT&H Specification No. 2200 & 2907 (5th Revision) and as per Drawing and technical specifications for finished item of work.
C21: 263 | D21: =+'Road data'!J877 -> 1913 | E21: =ROUND(D21*C21,0) -> 503119
C22: CUM | D22: CUM
A23: Total | E23: =SUM(E5:E22) -> 3267248
B30: AEE-I DEE-IV EE(TEC) | C30: DCE(R). | E30: ENC(MDRs)

Sheet Abstract -Slab Culvert
A1: =+'[660]Abstrac- Road work'!A1:E1 -> Name of Road:“ Improvements to Uppuluru- Madduru road from Km 0.000 to 4.650 in Krishna district".
A2: ABSTRACT E S T I M A T E- CD Works( Slab Culvert-2Vx6m span-1 No)
A3: Sl. No | B3: Description of item | C3: Quantity | D3: Rate /Per | E3: Amount in Rs.
A5: 1 | B5: Dismantling of existing structures like culverts , bridges, retaining walls and other structures comprising of masonry, cement, concrete, wood work , steel work, including T&P and scaffolding wherever necessary sorting the dismantled material, disposal of unserviceable materials and stacking the materials with all lifts and lead of 1000 m ( By Mechanical means in Cement concrete grade M-15 & M-20) as per MoRTH specification 202 , 2.4 II (A) (5th revision)
C6: 143.8 | D6: =+'Road data'!J1600 -> 917 | E6: =ROUND(D6*C6,0) -> 131865
C7: CUM | D7: CUM
A8: 2 | B8: Earthwork excavation in soils upto SDR by mechanical means for foundations of structures as per drawing and technical specification including setting out, construction of shoring and bracing, removal of stumps and other deleterious matter, dressing sides of bottom, back filling the excavation earth to the extent required etc., complete for finished item of work, excluding seigniorage charges, as per MoRT&H specification 304 (5th Revision) and as directed by the Engineer-in-Charge
C9: 748 | D9: =+'Road data'!J645 -> 108.5 | E9: =ROUND(D9*C9,0) -> 81158
C10: CUM | D10: CUM
A11: 3 | B11: Sand filling in foundation including cost and conveyence of all materials to site and watering, tamping etc., complete for finshed item of work as per MoRT&H specification 304 (5th Revision) and as directed by the Engineer - in - Charge.
C12: 89 | D12: =+'Road data'!J1409 -> 1465 | E12: =ROUND(D12*C12,0) -> 130385
C13: CUM | D13: CUM
A14: 4 | B14: Providing Vibrated Cement Concrete (1:3:6) mix using 40mm size HBG crushed stone aggregate and fine aggregate conforming to table 1000-2 of MoRT&H including cost, conveyance of all materials to site and labour charges, centering, machine mixing, laying, Vibrating, curing etc., including all other incidental and operational charges of all T&P etc., complete for finished item of work as per MoRT&H specification 1500,1700, 2100 (5th Revision) and as directed by the Engineer-in-Charge for foundation.
C15: 67 | D15: =+'Road data'!J696 -> 5579 | E15: =ROUND(D15*C15,0) -> 373793
C16: CUM | D16: CUM
A17: 5 | B17: Vibrated cement concrete M 15 Grade Concrete using 40mm , 20mm and 10mm size HBG crushed stone aggregate (Coarse aggregate conforming to table 1000-1 and fine aggregate conforming to table 1000-2) including cost and conveyance of all materials to site and all labour charges for machine mixing,laying in position, Compacting , Vibrating and curing including all other incidental and all other operational charges of T&P required etc., complete as per MoRT&H Specification 1500,1700, 2100 (5th Revision) for footings and Raft foundation .
C18: 270 | D18: =+'Road data'!J943 -> 6437 | E18: =ROUND(D18*C18,0) -> 1737990
C19: CUM | D19: CUM
A20: 6 | B20: Vibrated cement concrete M 15 Grade Concrete using 40mm , 20mm and 10mm size HBG crushed stone aggregate (Coarse aggregate conforming to table 1000-1 and fine aggregate conforming to table 1000-2) including cost and conveyance of all materials to site and all labour charges for machine mixing, laying in position,Compacting, Vibrating and curing including all other incidental and all other operational charges of T&P required etc., complete as per MoRT&H Specification 1500,1700, 2200 (5th Revision) for Sub structure
C21: 109 | D21: =+'Road data'!J973 -> 6809 | E21: =ROUND(D21*C21,0) -> 742181
C22: CUM | D22: CUM
A23: 7 | B23: Vibrated reinforced cement concrete M 20 grade using 20mm & 10mm HBG crushed stone aggregate (Coarse aggregate conforming to table 1000-1 and fine aggregate conforming to table 1000-2) including cost, conveyance of all materials to site and labour charges, centering, machine mixing, laying, vibrating, curing etc., including other incidental hire and operational charges of all T&P as per approved drawings and as directed during execution but excluding cost of steel and its fabrication charges for finished item as per MoRT&H specification 1500,1600,1700 & 2200 (4th revision ) and as directed by the Engineer-in-Charge for Bed blocks & Backing walls (Sub-structure)
C24: 10.1 | D24: =+'Road data'!J1031 -> 7432 | E24: =ROUND(D24*C24,0) -> 75063
C25: CUM | D25: CUM
A26: 8 | B26: Vibrated reinforced cement concrete M 30 grade using 20mm & 10mm HBG crushed stone aggregate (Coarse aggregate conforming to table 1000-1 and fine aggregate conforming to table 1000-2) including cost, conveyance of all materials to site and labour charges, centering, machine mixing, laying, vibrating, curing etc., including other incidental hire and operational charges of all T&P etc., complete as per approved drawings and as directed during execution but excluding cost of steel and its fabrication charges for finished item as per MoRT&H specification 1500,1600,1700 & 2300 (5th revision ) and as directed by the Engineer-in-Charge for Deck slab
C27: 87.6 | D27: =+'Road data'!J1060 -> 8554 | E27: =ROUND(D27*C27,0) -> 749330
C28: CUM | D28: CUM
A29: 9 | B29: Vibrated reinforced cement concrete M 30 grade using 20mm & 10mm HBG crushed stone aggregate (Coarse aggregate conforming to table 1000-1 and fine aggregate conforming to table 1000-2) including cost, conveyance of all materials to site and labour charges, centering, machine mixing, laying, vibrating, curing etc., including all other incidental and operational charges of all T&P etc., complete for finished item of work as per drawing BD/1-69( A) but excluding cost of steel and its fabrication charges as per MoRT&H specification 1500, 1600,1700, & 2702 (5th Revision) and as directed by the Engineer-in-Charge for wearing coat over Deck slab.
C30: 16.7 | D30: =+'Road data'!J1090 -> 7246 | E30: =ROUND(D30*C30,0) -> 121008
C31: CUM | D31: CUM
A32: 10 | B32: Construction of precast VRCC railing of M30 grade using HBG crushed stone aggregate of size not exceeding 12 mm and fine aggregate conforming to table 1000-2 true to line and grade, tolerance of vertical RCC post not to exceed 1 in 500, centre to centre spacing between vertical posts not to exceed 2000mm, leaving adequate space between vertical posts for expansion including cost, conveyance of all materials to site and labour charges, centering, machine mixing, laying, vibrating, curing etc., including other incidental hire and operational charges of all T&P as per approved drawings and as directed during execution but excluding cost of steel and its fabrication charges as per approved drawings and technical specifications for finished item of work as per MoRT&H Specification 2703, 1500, 1600, 1700(5th Revision)
C33: 41 | D33: =+'Road data'!J1160 -> 442 | E33: =ROUND(D33*C33,0) -> 18122
C34: RM | D34: RM
A35: 11 | B35: Providing HYSD bars ( Fe-415 ) of different diameters, wrought and put up bars of all diameters including cost and conveyance of steel to site and all labour charges for fabrication of reinforcement including cutting, bending, binding rods, tying grills, placing them in position etc., complete including cost and conveyance of binding wire and all handling charges and operational charges etc., and including over lapping welding if required etc., complete for all R.C.C items for finished item of work as per standard drawings, as per the directions of the Engineer-in-Charge and as per MoRT&H specification 1600 & 2100 (5th revision) and as per I.S.1786 of 1985 for foundations of R.C.C items.
C36: 2 | D36: =+'Road data'!J1352 -> 76931 | E36: =ROUND(D36*C36,0) -> 153862
C37: MT | D37: MT
A38: 12 | B38: Providing HYSD bars ( Fe-415 ) of different diameters, wrought and put up bars of all diameters including cost and conveyance of steel to site and all labour charges for fabrication of reinforcement including cutting, bending, binding rods, tying grills, placing them in position etc., complete including cost and conveyance of binding wire and all handling charges and operational charges etc., and including over lapping welding if required etc., complete for all R.C.C items for finished item of work as per standard drawings, as per the directions of the Engineer-in-Charge and as per MoRT&H specification 1600 & 2200 (5th revision) and as per I.S.1786 of 1985 for Sub structure of R.C.C items.
C39: 0.9 | D39: =+'Road data'!J1332 -> 77755 | E39: =ROUND(D39*C39,0) -> 69980
C40: MT | D40: MT
A41: 13 | B41: Providing HYSD bars ( Fe-415 ) of different diameters, wrought and put up bars of all diameters including cost and conveyance of steel to site and all labour charges for fabrication of reinforcement including cutting, bending, binding rods, tying grills, placing them in position etc., complete including cost and conveyance of binding wire and all handling charges and operational charges etc., and including over lapping welding if required etc., complete for all R.C.C items for finished item of work as per standard drawings, as per the directions of the Engineer-in-Charge and as per MoRT&H specification 1600 & 2300 (5th revision) and as per I.S.1786 of 1985 for Super structure of R.C.C items.
...

Sheet Road data
A1: DATA WITH SSR 2025-26 | L1: Area Allowances As per SOR 2021-22
B2: Whether to Add MAA or Any other Area Allowance | H2: Yes/No | I2: Allowable% | L2: A | M2: CORPORATIONS & MUNICIPALITIES
B3: Name of Work ::- | D3: =RMR!D2 -> “Widening and Strengthening of Bapatla – Pandurangapuram road fom Km 0/000 to 8/000 in Bapatla District” | M3: VIJAYAWADA & VISAKHAPATNAM | O3: %
M4: All other Municipal Corporations except above | O4: %
B5: Quantity | D5: Description of Item | H5: Rate | I5: per | J5: Amount | M5: Amaravathi Capital Region | O5: %
B6: Forming embankment with Side earth by mechanical means upto SDR including pre-watering of soil , removal of top soil, excavation of soils , depositing the soils on the embankment, spreading soil, breaking clods, sectioning , grading and consolidation with 8 to 10 Tonnes Vibratory Road Roller @ OMC to meet requirement of table 300-2 of MoRT&H, including all hire and operational charges of T&P, complete for finished item of work as per MoRT&H specification 305 (5th revision) (Payment will be made based on level for finished item of work). | M6: All other Municipalities and District Head Quarters | O6: %
B7: Unit : Cum | M7: Tirumal Hills in Chittor District | O7: %
B8: Taking out put = 100 Cum | F8: Page 70 of MoRT&H SDB | M8: Horsily Hills in Chittor District | O8: %
B9: (A) | C9: Labour | M9: Inside Tirumal Temple over & above Tirumala Hills | O9: %
B10: 0.02 | C10: day | D10: Mate | H10: =Sheet1!$G$48 -> 730 | I10: day | J10: =ROUND(B10*H10,2) -> 14.6
B11: 0.5 | C11: day | D11: Mazdoor unskilled | H11: =Sheet1!$G$50 -> 680 | I11: day | J11: =ROUND(B11*H11,2) -> 340 | M11: For Works located inside T.T.D Temples of Sri Padmavathi Ammavari Temple, Tiruchanoor, Sri Govindaraja Swamy Temple at Tirupathi, Sri Kapleswara Swamy Temple, Kapilatheerthm, Tirupathi and Sri Kalyana Venkateswara Swamy Temple, Srinivasa Mangapuram , 20% extra over the basic rates of labour component for Tirupathi Municipal Corporation is allowed | O11: %
B12: =J2 -> 0 | C12: % | D12: Add MAA or Any other Area Allowance | H12: =SUM(J10:J11) -> 354.6 | J12: =ROUND(H12*B12/100,2) -> 0
J13: =SUM(J10:J12) -> 354.6
B14: (B) | C14: Machinery
B15: 1.67 | C15: hr | D15: Hydraulic Excavator 1 cum bucket capacity @ 60 cum per hour | H15: =Sheet1!G54 -> 3767.61 | I15: hr | J15: =ROUND(B15*H15,2) -> 6291.91
B16: 1 | C16: hr | D16: Motor Grador for Grading @ 100 cum per hour | H16: =Sheet1!G53 -> 4066 | I16: hr | J16: =ROUND(B16*H16,2) -> 4066
B17: 4 | C17: hr | D17: Water tanker 6 KL | H17: =Sheet1!G59 -> 872 | I17: hr | J17: =ROUND(B17*H17,2) -> 3488
B18: 1 | C18: hr | D18: Vibratory roller 8T | H18: =Sheet1!G57 -> 3703.96 | I18: hr | J18: =ROUND(B18*H18,2) -> 3703.96
J19: =SUM(J15:J18) -> 17549.87
B20: (C) | C20: OH charges @ 4.615% on (A) + (B) | J20: =(J19+J13)*4.615/100 -> 826.29129
B21: (D) | C21: Total of (A) + (B)+( C) | J21: =J13+J19+J20 -> 18730.761 | L21: B | M21: JAIL COMPOUNDS | O21: %
B22: (E) | C22: Add Contractors Profit at 10% on (D) | J22: =J21*10/100 -> 1873.0761 | L22: C | M22: INDUSTRIAL AREA
C23: Cost per 100 cum (D)+(E ) | J23: =SUM(J21:J22) -> 20603.837 | M23: for works situated within 10Kms belt of Industrial area of, Ibrahimpatnam, Vuyyuru, Jaggaiahpeta in Krishna District, Macherla, Gurajala, Challapalli in Guntur District Garividi in Vijayanagaram District, Renigunta in Chittoor District and Yerraguntla & Mangampet in Kadapa District, Hindupur, Tadipatri, Anantapur, Guntakal, Rayalcheruvu, Yadiki of Anantapur District and Adoni, Dhone,Cement Nagar, Nandyal, Kurnool, Yemmiganur & Bethamcherla of Kurnool District, Anakapally of Vishakhapatnam District. | O23: %
C24: Rate per Cum | J24: =J23/100 -> 206.03837
D25: Rate per 1 cum | J25: =ROUND(J24,0) -> 206
J26: 1 Cum
B27: Forming embankment with borrowed useful earth from outside road boundary by mechanical means upto SDR with all leads and lifts including pre-watering of soil at borrow area, removal of top soil, excavation of soils at borrowed area, conveyance of soil, depositing the soil on the embankment, spreading soil, breaking clods, sectioning, grading and consolidation with 8 to 10 Tonnes Vibratory Road Roller @ OMC to meet requirement of table 300-2 of MoRT&H, including all hire and operational charges of T&P , complete for finished item of work as per MoRT&H specification 305 (5th revision) (Payment will be made based on level for finished item of work).
B28: Unit : Cum
B29: Taking out put = 100 Cum | F29: Page 68,69 of MoRT&H SDB | O29: 1.28
B30: (A) | C30: Labour
B31: 0.04 | C31: day | D31: Mate | H31: =Sheet1!$G$48 -> 730 | I31: day | J31: =ROUND(B31*H31,2) -> 29.2
B32: 1 | C32: day | D32: Mazdoor unskilled | H32: =Sheet1!$G$50 -> 680 | I32: day | J32: =ROUND(B32*H32,2) -> 680
B33: =J2 -> 0 | C33: % | D33: Add MAA or Any other Area Allowance | H33: =SUM(J31:J32) -> 709.2 | J33: =ROUND(H33*B33/100,2) -> 0
J34: =SUM(J31:J33) -> 709.2
B35: (B) | C35: Machinery
B36: 1.67 | C36: hr | D36: Hydraulic Excavator 1 cum bucket capacity @ 60 cum per hour | H36: =Sheet1!G54 -> 3767.61 | I36: hr | J36: =ROUND(B36*H36,2) -> 6291.91
B37: =F37*G37 -> 7680 | C37: t.km | D37: Tipper (for 1 Km ) | F37: 160 | G37: 48 | H37: =Sheet1!G78 -> 8.9 | I37: t.km | J37: =ROUND(B37*H37,2) -> 68352
D38: Add 10% of cost of carriage to cover cost of loading and unloading | J38: =ROUND(J37*10/100,2) -> 6835.2 | M38: =24*0.15*0.15 -> 0.54
B39: 0.5 | C39: hr | D39: Dozer 80 HP for spreading @ 200 cum per hour | H39: =Sheet1!G52 -> 3151.13 | I39: hr | J39: =ROUND(B39*H39,2) -> 1575.57
B40: 1 | C40: hr | D40: Motor Grador for Grading @ 100 cum per hour | H40: =Sheet1!G53 -> 4066 | I40: hr | J40: =ROUND(B40*H40,2) -> 4066
...

Sheet RSI
A1: =+COVER!C12 -> “Widening and Strengthening of Bapatla – Pandurangapuram road fom Km 0/000 to 8/000 in Bapatla District”
A2: ABSTRACT E S T I M A T E- RSI
A3: Sl. No | B3: Description of item | C3: Quantity | D3: Rate /Per | E3: Amount in Rs.
A5: 1 | B5: Supplying of hot applied Thermo plastic road marking compound 2.5 mm thick including reflectorising glass bends on bitumen surface at 250 grams per Sqm area, thickness of 2.5 mm exclusive of surface applied glass bend as per IRC: 35,the material should be of BERGER Company/BERGER equivalent and must comply with following a) white index for the product should be in the range of 60-70 when measured against standard reference, the applied pannel 7/8 No must be submitted for checking up the white index in the department lab. In case the department approves the white index of any vendor, the department Engineer may carry out random checking of the applied products at site against the approved pannel. In case of any major deviation, beyond acceptance limit, department reserve the right to cancel or reject the total supplied consignment of the said material and will compell the vendor has to replace the full consignment by the desired material as per approved pannel at his own cosyt and additional demaruges may be claimed due to loss of mandays (As per the rules of the department). b) Luminance factor of the material should be in the range of 80-85 % at 45 degree centigrade as per AASTHOM 249. c) Crack resistance: the applied pannel cured for 7 days under ambient condition and then should be tested as per BS 3262 part-1, 1989 and should pass at the range of 0 degree centigrade to -10 degree centigrade. d) Adhesion : strong e) Softening point 102 degree centigrade f) Dried film finish : Smooth and uniform g) Night vision : High as directed by the Engineer-in- Charge and confirming to IS: 164-1961 ( Ist Revision reaffirmed in 1986) and clause confirming to IRC : 35-1997.
C6: 2569 | D6: 601 | E6: =ROUND(D6*C6,0) -> 1543969
C7: Sqm | D7: Sqm
A8: 2 | B8: Supplying & Fixing of Molded Shanks Raised Pavement Markers made of plastic body moulded from HIPS(HI-impact polysterene) or ABS or ASA(Acrylic strene Acrylonitrite) and reflective panels with micro prismatic lens capable of providing total internal reflection of the light entering the lens face and shall support a load of 16000 kg tested in accordance to ASTM D 4280 Type H and complying to Specifications of Category A of MORTH Circular No RW/NH/33023/10-97 – DO III Dt 11.06. 1997. The height, width and length shall not exceed 50 mm, 100 mm and 100 mm and with minimum reflective area of 13 Sqcm on each side and the slope to the base shall be 35 +/- 5 degree. The strength of detachment of the integrated cylindrical shanks, (of diameter not less than 19 +/- 2 mm and height not less than 30+/- 2 mm) from the body is to be a minimum value of 700 Kgs. Fixing will be by drilling holes on the road for the twin shanks to go inside, without nails and using epoxy resin based adhesive as per manufacturer’s recommendation and complete as directed by the engineer.
C9: 2699 | D9: 388 | E9: =ROUND(D9*C9,0) -> 1047212
C10: Nos | D10: Each
A11: 3 | B11: Providing & fixing junction boards of size 1500 x 1050 mm made out of Type – IV of ASTMD 4956-09 High Intensity Prismatic Retro reflective sheeting Prismatic Retro reflective sheeting and confirming to IRC 67:2012 for full background of Green Colour & White Letters and fixed over 4MM Alluminium Composite Material sheet having minimum 0.5 mm thick Aluminium skin on both sides with back side painted grey colour and fixed over back support frame of M.S angle 25x25x3mm all round and fixing with 35x35x4mm and mounted on a MS angle post of size 75x75x6mm with clear height of not less than 2.1 m from the ground level to the bottom of the board. The signpost should be painted with one coat of red oxide paint and 2 coats of synthetic enamel paint Black and White colour with bands of 30cm of height. The signpost shall be firmly fixed with MS base angle 35x35x4 mm in to the ground by M-15 Concrete foundation of size 450x450x600mm including cost and conveyance of all materials ,equipment, machinery and labour with all leads and lift, loading charges necessary for satisfactory completion of the work as directed by Engineer -in-Charge.
C12: 2 | D12: 23734 | E12: =ROUND(D12*C12,0) -> 47468
C13: Nos | D13: Each
A14: 4 | B14: Providing and fixing Village name board size 450x750 mm made out of Type – IV of ASTMD 4956-09 High Intensity Prismatic Retro reflective sheeting and confirming to IRC 67:2012 for full background of Green Colour & White Letters and fixed over 3MM Alluminium Composite Material sheet having minimum 0.30 mm thick Aluminium skin on both sides with back side painted grey colour and fixed over back support frame of M.S angle 25x25x3mm all round and fixing with 35x35x4mm and mounted on a MS angle post of size 75x75x6mm with clear height of not less than 2.1 m from the ground level to the bottom of the board. The signpost should be painted with one coat of red oxide paint and 2 coats of synthetic enamel paint Black and White colour with bands of 30cm of height. The signpost shall be firmly fixed with MS base angle 35x35x4 mm in to the ground by M-15 Concrete foundation of size 450x450x600mm including cost and conveyance of all materials equipment, machinery and labour with all leads and lift, loading charges necessary for satisfactory completion of the work as directed by Engineer –in-Charge
C15: 6 | D15: 6522 | E15: =ROUND(D15*C15,0) -> 39132
C16: Nos | D16: Each
A17: 2 | B17: Supplying and installation of Hazard Markers/Delinators using M.S. angle of size 55x55x6 mm and 120cm high above ground level painted with two coats of black & white stripes of 15cm wide with first quality synthetic enamel paint over one coat of appropriate primer of approved brand,colour, with 30cm x 90cm Type – IV of ASTMD 4956-09 High Intensity Prismatic Retro reflective sheeting of Yellow colour and confirming to IRC 67:2012 fixed over 3MM Alluminium Composite Material having minimum 0.30 mm thick Aluminium skin on both sides with standard supports consisting of alternately black and Yellow with black stripes in screen printing sloping downward at an angle of 45 degrees towards the side of the obstruction on which the traffic is to pass and buried into the ground in a trench of size 30cm x 30cm and 50cm depth filled with CC M-20 including cost and conveyance of all materials, equipment, machinery and labour with all leads and lifts, loading and un-loading charges necessary for successfull completion of the work on any road in division as directed by Engineer-in-Charge and conforming to IRC 67-2012 &MORT&H specification No.805 and approved drawings etc., complete for finished item of work.
C18: 30 | D18: 4051 | E18: =ROUND(D18*C18,0) -> 121530
C19: Nos | D19: Each
A20: 3 | B20: Providing and fixing Cautionary / Warning sign boards size 600 mm equilateral triangle made out of Type – IV of ASTMD D4956-09 High Intensity Prismatic Retro reflective sheeting and confirming to IRC 67:2012 for full background of White colour and letters/logos done by screen printing in Black colour, boarders by screen printing in Red colour and fixed over 3MM Alluminium Composite Material ( ACM ) sheet having minimum 0.30 mm thick Aluminium skin on both sides with back side painted grey colour and fixed over back support frame of M.S angle 25x25x3mm all round and fixing with 35x35x4mm and mounted on a MS angle post of size 75x75x6mm with clear height of not less than 2.1 m from the ground level the bottom of the board. The signpost should be painted with one coat of red oxide paint and 2 coats of synthetic enamel paint Black and White colour with bands of 30cm of height. The signpost shall be firmly fixed with MS base angle 35x35x4 mm in to the ground by M15 Concrete foundation of size 450x450x600mm including cost and conveyance of all materials ,equipment, machinery and labour with all leads and lift, loading changes necessary for satisfactory completion of the work as directed by Engineer -in-Charge.
C21: 30 | D21: 4910 | E21: =ROUND(D21*C21,0) -> 147300
C22: Nos | D22: Each
A23: Total | E23: =SUM(E5:E22) -> 2946611
B28: AEE DEE-IV EE(TEC) | C28: DCE(R). | E28: ENC(MDRs)

Sheet Seig
B1: =+RMR!D2 -> “Widening and Strengthening of Bapatla – Pandurangapuram road fom Km 0/000 to 8/000 in Bapatla District”
A3: Seigniorage + DMF + MERIT CHARGES
A5: S.No | B5: Item | D5: Qty | E5: Unit | F5: Coefficient for loose quantity | G5: Material Qty | H5: Rate of seignorage | I5: Total Seignorage charges Rs | J5: DMF (30% of Seignorage) | K5: MERIT (2% of Seignorage) | L5: Seigniorage Charges+DMF + MERIT charges Rs
B6: Road Work
A7: 1 | B7: Forming Embankment | C7: Earth | D7: =+'Abstrac- Road work'!C7+'Abstrac- Road work'!C10 -> 26438 | E7: Cum | F7: 1 | G7: =F7*D7 -> 26438 | H7: =55*1.5 -> 82.5 | I7: =H7*G7 -> 2181135 | J7: =I7*0.3 -> 654340.5 | K7: =+I7*0.02 -> 43622.7 | L7: =+I7+J7+K7 -> 2879098.2
A8: 2 | B8: GSB | C8: Metal | D8: =+'Abstrac- Road work'!C16 -> 3165 | E8: Cum | F8: 1.28 | G8: =F8*D8 -> 4051.2 | H8: =105*1.5 -> 157.5 | I8: =H8*G8 -> 638064 | J8: =I8*0.3 -> 191419.2 | K8: =+I8*0.02 -> 12761.28 | L8: =+I8+J8+K8 -> 842244.48
A9: 3 | B9: WMM | C9: Metal | D9: =+'Abstrac- Road work'!C19 -> 7767 | E9: Cum | F9: 1.32 | G9: =F9*D9 -> 10252.44 | H9: =105*1.5 -> 157.5 | I9: =H9*G9 -> 1614759.3 | J9: =I9*0.3 -> 484427.79 | K9: =+I9*0.02 -> 32295.186 | L9: =+I9+J9+K9 -> 2131482.3
A10: 3 | B10: BT Patch work 40mm-45mm | C10: Metal | E10: Cum | F10: 1.33 | G10: =F10*D10 -> 0 | H10: =105*1.5 -> 157.5 | I10: =H10*G10 -> 0 | J10: =I10*0.3 -> 0 | K10: =+I10*0.02 -> 0 | L10: =+I10+J10+K10 -> 0
A11: 4 | B11: BM 50mm Thick | C11: Metal | D11: =+'Abstrac- Road work'!C31 -> 2043 | E11: Cum | F11: 1.414 | G11: =F11*D11 -> 2888.802 | H11: =105*1.5 -> 157.5 | I11: =H11*G11 -> 454986.31 | J11: =I11*0.3 -> 136495.89 | K11: =+I11*0.02 -> 9099.7263 | L11: =+I11+J11+K11 -> 600581.94
A12: 5 | B12: BC - 30mm thick | C12: Metal | D12: =+'Abstrac- Road work'!C34 -> 1431 | E12: Cum | F12: 1.486 | G12: =F12*D12 -> 2126.466 | H12: =105*1.5 -> 157.5 | I12: =H12*G12 -> 334918.39 | J12: =I12*0.3 -> 100475.52 | K12: =+I12*0.02 -> 6698.3679 | L12: =+I12+J12+K12 -> 442092.28
A13: 6 | B13: Forming shoulders | C13: Earth | D13: =+'Abstrac- Road work'!C37 -> 5853 | E13: Cum | F13: 1 | G13: =F13*D13 -> 5853 | H13: =55*1.5 -> 82.5 | I13: =H13*G13 -> 482872.5 | J13: =I13*0.3 -> 144861.75 | K13: =+I13*0.02 -> 9657.45 | L13: =+I13+J13+K13 -> 637391.7
A14: 7 | B14: Forming Embankment | C14: Earth | E14: Cum | F14: 1 | G14: =F14*D14 -> 0 | H14: =55*1.5 -> 82.5 | I14: =H14*G14 -> 0 | J14: =I14*0.3 -> 0 | K14: =+I14*0.02 -> 0 | L14: =+I14+J14+K14 -> 0
B15: Earth work Excavation | C15: Earth | E15: Cum | F15: 1 | G15: =F15*D15 -> 0 | H15: =55*1.5 -> 82.5 | I15: =H15*G15 -> 0 | J15: =I15*0.3 -> 0 | K15: =+I15*0.02 -> 0 | L15: =+I15+J15+K15 -> 0
B16: CC Road
A17: 7 | B17: Remaval of unserviceable spils | C17: Cum | D17: =+'Abstrac- CC Pavement'!C6 -> 662 | E17: Cum | F17: 1 | G17: =F17*D17 -> 662 | H17: =55*1.5 -> 82.5 | I17: =H17*G17 -> 54615 | J17: =I17*0.3 -> 16384.5 | K17: =+I17*0.02 -> 1092.3 | L17: =+I17+J17+K17 -> 72091.8
A18: 8 | B18: GSB | C18: Earth | D18: =+'Abstrac- CC Pavement'!C9 -> 450 | E18: Cum | F18: 1 | G18: =F18*D18 -> 450 | H18: 157.5 | I18: =H18*G18 -> 70875 | J18: =I18*0.3 -> 21262.5 | K18: =+I18*0.02 -> 1417.5 | L18: =+I18+J18+K18 -> 93555
