Workbook

Sheet Start Here!
A2: #VALUE!
A3: incometaxplusinc.ca | 705-878-3392
A4: Self-Employed Workbook
A5: This workbook is designed to hep out clients track all the information we need to file your taxes as a self-employed individual. Whether you operate a small business, or you are self-employed operating as a sub-contractor, this workbook is designed to make things easy and answer the most frequently asked questions along the way.
A7: How to use this workbook:
A8: 1 | B8: Begin by completing your business information on the next tab.
A10: 2 | B10: Enter data from your receipts and invoices into the appropriate categories. All your hard work in the sales and expense categories will automatically transfer the totals to the summary page. You must keep original receipts or invoices in paper or electronic format in the event of an audit.
A12: 3 | B12: Email or print your completed workbook when it's time to your taxes.
A14: Helpful hints:
B15: Use the Summary Page to navigate to the sales or expense category you need! Simply click on the sales or expense name that you wish to nagivate to, and this workbook will take you directly to the category to enter the data.
B17: This workbook can be used alongside some of the other free resources on our website. You can DIY your own business organization kit (instructions online), or purchase one of ours. Our free guide, "Recordkeeping Basics, a Cheat Sheet for Small Business Owners" has even more in depth information if you're looking for it. The orange numbers in the expense categories correspond with the DIY or business organization kits we have available for purchase.
A18: #VALUE! | B18: Click HERE to visit our website to access these free resources.
B20: The description and date categories are more to help you than us! We enter your income and expense totals for the year, to save time - you could skip this step, but entering it would be helpful in the event of an audit or to help you locate a specific invoice.
B22: If your business is not GST/HST registered, simply leave the GST/HST and subtotal columns blank and use only the Totals column.
B24: If your business became GST/HST registered part-way throughout the year, keep two separate workbooks. One up to your GST/HST registration date, and one after your GST/HST registration date.
B26: More questions? We're here to help, and we'd love to hear from you.

Sheet Information
A1: Business Information
A2: Enter your business information in the light blue cells, if applicable.
B3: Your Name:
B4: Business Name:
B5: Tax Year or Period Covered:
B7: Main Product or Service:
B8: Business Address:
B9: Email Address:
B10: Telephone:
B11: Website (if applicable):
B13: GST/HST Registration Number: | E13: Access Code:
B15: Motor Vehicle Expenses:
B16: If you regularly use your personal vehicle for business and personal trips, you can claim the part of your total operating expenses that are business related. You must keep a vehicle log book to determine the business-use percentage and to support your claim in an audit. Keep a separate log for each vehicle. Our website offers a free printable vehicle log book, or you can explore apps like Triplog or MileIQ.
B17: If you purchase a vehicle in the tax year, please include the bill of sale with your tax documents. If you sold or traded-in a vehicle, please record the capital disposal.
B19: Vehicle 1: | E19: Vehicle 2:
B20: Vehicle Make | E20: Vehicle Make
B21: Vehcile Model | E21: Vehcile Model
B22: Vehicle Year | E22: Vehicle Year
B24: Odometer Start | C24: 1 | E24: Odometer Start | F24: 1
B25: Odometer End | C25: 2 | E25: Odometer End | F25: 2
B26: Total Kilometers Driven | C26: =SUM(C25-C24) -> 1 | E26: Total Kilometers Driven | F26: =SUM(F25-F24) -> 1
B28: KMs Driven for Business-Use | C28: 1 | E28: KMs Driven for Business-Use | F28: 1
B29: (according to your log book) | E29: (according to your log book)
B30: Business Use Percentage | C30: =SUM(C28/C26) -> 1 | E30: Business Use Percentage | F30: =SUM(F28/F26) -> 1
B32: Business-Use-Of-Home Expenses
B33: You can deduct expenses for the business-use of a work space in your home if the space is your principal place of business or you use the space only to earn your business income, and you use it on an ongoing basis to meet your clients or patients.
B34: Dedicated Business Space: | E34: Shared Business Space:
E35: (example: desk in your family room)
B36: Total Square Footage of Home | C36: 1 | E36: Average Hours Per Week the Space is used for Business Purposes | F36: 168
B37: Square Footage of Business Space | C37: 1
B39: Business-Use Percentage | C39: =SUM(C37/C36) -> 1 | E39: Bus-Use Percentage (shared space) | F39: =SUM(C39*F36/168) -> 1
B41: Personal Cell Phone
B42: If you use your cell phone for both business and personal use, you can deduct the percentage of expenses realted to earning your business income. The CRA guidelines calculate the business-use percentage based on time. We will automatically claim 24% unless specified otherwise by you, below. (40 hours business-use per week / 168 available hours per week = 24%)
B44: Average Hours Per Week Working in your Business: | E44: 40 | F44: =SUM(E44/168) -> 0.23809524
A46: #VALUE!

Sheet Summary
A1: Self-Employed Summary | H1: Notes
A3: =_xlfn.ARRAYTOTEXT(Information!C3) -> #VALUE! | F3: =_xlfn.ARRAYTOTEXT(Information!C5) -> #VALUE! | H3: Use the section below to leave notes or questions for the tax preparer.
A5: Sales | C5: Subtotal | E5: GST/HST Collected | F5: Total | H5: 1
B6: Rename | C6: =SUM(Sales!D5) -> 0 | E6: =SUM(Sales!E5) -> 0 | F6: =SUM(Sales!F5) -> 0
B7: Rename | C7: =SUM(Sales!J5) -> 0 | E7: =SUM(Sales!K5) -> 0 | F7: =SUM(Sales!L5) -> 0
B8: Rename | C8: =SUM(Sales!P5) -> 0 | E8: =SUM(Sales!Q5) -> 0 | F8: =SUM(Sales!R5) -> 0
B9: Rename | C9: =SUM(Sales!V5) -> 0 | E9: =SUM(Sales!W5) -> 0 | F9: =SUM(Sales!X5) -> 0
B10: Capital Disposals (See Tab) | C10: =SUM('Capital Assets'!C40) -> 0 | E10: =SUM('Capital Assets'!D25) -> 0 | F10: =SUM('Capital Assets'!E25) -> 0 | H10: 2
C11: =SUM(C6:D10) -> 0 | E11: =SUM(E6:E10) -> 0 | F11: =SUM(F6:F10) -> 0
A13: Expenses | C13: Subtotal | E13: GST/HST Paid at Business-Use % | F13: Total
B14: Purchases | C14: =SUM(Expenses!D4) -> 0 | E14: =SUM(Expenses!E4) -> 0 | F14: =SUM(Expenses!F4) -> 0 | H14: 3
B15: Sub Contractors (See Tab) | C15: =SUM('Expenses - Sub Contractors'!C8+'Expenses - Sub Contractors'!H8+'Expenses - Sub Contractors'!M8+'Expenses - Sub Contractors'!R8+'Expenses - Sub Contractors'!W8) -> 0 | E15: =SUM('Expenses - Sub Contractors'!D8+'Expenses - Sub Contractors'!I8+'Expenses - Sub Contractors'!N8+'Expenses - Sub Contractors'!S8+'Expenses - Sub Contractors'!X8) -> 0 | F15: =SUM('Expenses - Sub Contractors'!E8+'Expenses - Sub Contractors'!J8+'Expenses - Sub Contractors'!O8+'Expenses - Sub Contractors'!T8+'Expenses - Sub Contractors'!Y8) -> 0
B16: Advertising | C16: =SUM(Expenses!J4) -> 0 | E16: =SUM(Expenses!K4) -> 0 | F16: =SUM(Expenses!L4) -> 0
B17: Meals & Entertainment | C17: =SUM(Expenses!P4) -> 0 | E17: =SUM(Expenses!Q5) -> 0 | F17: =SUM(Expenses!R4) -> 0
B18: Insurance | C18: =SUM(Expenses!V4) -> 0 | E18: 0 | F18: =SUM(Expenses!V4) -> 0 | H18: 4
B19: Interest & Bank Charges | C19: =SUM(Expenses!Z4) -> 0 | E19: 0 | F19: =SUM(Expenses!Z4) -> 0
B20: Business Fees, Memberships & Subscriptions | C20: =SUM(Expenses!AD4) -> 0 | E20: =SUM(Expenses!AE4) -> 0 | F20: =SUM(Expenses!AF4) -> 0
B21: Office Expenses | C21: =SUM(Expenses!AJ4) -> 0 | E21: =SUM(Expenses!AK4) -> 0 | F21: =SUM(Expenses!AL4) -> 0
B22: Professional Fees | C22: =SUM(Expenses!AP4) -> 0 | E22: =SUM(Expenses!AQ4) -> 0 | F22: =SUM(Expenses!AR4) -> 0 | H22: 5
B23: Rent or Property Taxes | C23: =SUM(Expenses!AU4) -> 0 | E23: =SUM(Expenses!AV4) -> 0 | F23: =SUM(Expenses!AW4) -> 0
B24: Repairs & Maintenance | C24: =SUM(Expenses!BA4) -> 0 | E24: =SUM(Expenses!BB4) -> 0 | F24: =SUM(Expenses!BC4) -> 0
B25: Travel Expenses | C25: =SUM(Expenses!BG4) -> 0 | E25: =SUM(Expenses!BH4) -> 0 | F25: =SUM(Expenses!BI4) -> 0
B26: Utilities - Electricity, Heat & Water/Sewer | C26: =SUM(Expenses!BM4) -> 0 | E26: =SUM(Expenses!BN4) -> 0 | F26: =SUM(Expenses!BO4) -> 0 | H26: 6
B27: Utilities - Telephone & Internet | C27: =SUM(Expenses!BS4) -> 0 | E27: =SUM(Expenses!BT4) -> 0 | F27: =SUM(Expenses!BU4) -> 0
B28: Fuel Costs (Except for Motor Vehicles) | C28: =SUM(Expenses!BY4) -> 0 | E28: =SUM(Expenses!BZ4) -> 0 | F28: =SUM(Expenses!CA4) -> 0
B29: Delivery, Freight & Express | C29: =SUM(Expenses!CE4) -> 0 | E29: =SUM(Expenses!CF4) -> 0 | F29: =SUM(Expenses!CG4) -> 0
B30: Supplies | C30: =SUM(Expenses!CK4) -> 0 | E30: =SUM(Expenses!CL4) -> 0 | F30: =SUM(Expenses!CM4) -> 0 | H30: 7
B31: Small Tools | C31: =SUM(Expenses!CQ4) -> 0 | E31: =SUM(Expenses!CR4) -> 0 | F31: =SUM(Expenses!CS4) -> 0
B32: Other 1 | C32: =SUM(Expenses!CW4) -> 0 | E32: =SUM(Expenses!CX4) -> 0 | F32: =SUM(Expenses!CY4) -> 0
B33: Other 2 | C33: =SUM(Expenses!DC4) -> 0 | E33: =SUM(Expenses!DD4) -> 0 | F33: =SUM(Expenses!DE4) -> 0
B34: Other 3 | C34: =SUM(Expenses!DI4) -> 0 | E34: =SUM(Expenses!DJ4) -> 0 | F34: =SUM(Expenses!DK4) -> 0 | H34: 8
B35: Other 4 | C35: =SUM(Expenses!DO4) -> 0 | E35: =SUM(Expenses!DP4) -> 0 | F35: =SUM(Expenses!DQ4) -> 0
B36: Other 5 | C36: =SUM(Expenses!DU4) -> 0 | E36: =SUM(Expenses!DV4) -> 0 | F36: =SUM(Expenses!DW4) -> 0
C37: Vehicle 1 | D37: Vehicle 2
B38: Fuel | C38: =SUM('Expenses - Vehicle 1'!C6) -> 0 | D38: =SUM('Expenses - Vehicle 2'!C6) -> 0 | E38: =SUM('Expenses - Vehicle 1'!D7+'Expenses - Vehicle 2'!D7) -> 0 | F38: =SUM('Expenses - Vehicle 1'!E6+'Expenses - Vehicle 2'!E6) -> 0 | H38: 9
B39: Interest on Automobile Loan | C39: =SUM('Expenses - Vehicle 1'!H6) -> 0 | D39: =SUM('Expenses - Vehicle 2'!H6) -> 0 | E39: 0 | F39: =SUM('Expenses - Vehicle 1'!H6+'Expenses - Vehicle 2'!H6) -> 0
B40: Insurance | C40: =SUM('Expenses - Vehicle 1'!K6) -> 0 | D40: =SUM('Expenses - Vehicle 2'!K6) -> 0 | E40: 0 | F40: =SUM('Expenses - Vehicle 1'!K6+'Expenses - Vehicle 2'!K6) -> 0
B41: Maintenance & Repairs | C41: =SUM('Expenses - Vehicle 1'!N6) -> 0 | D41: =SUM('Expenses - Vehicle 2'!N6) -> 0 | E41: =SUM('Expenses - Vehicle 1'!O7+'Expenses - Vehicle 2'!O7) -> 0 | F41: =SUM('Expenses - Vehicle 1'!P6+'Expenses - Vehicle 2'!P6) -> 0
B42: Leasing Costs | C42: =SUM('Expenses - Vehicle 1'!S6) -> 0 | D42: =SUM('Expenses - Vehicle 2'!S6) -> 0 | E42: =SUM('Expenses - Vehicle 1'!T7+'Expenses - Vehicle 2'!T7) -> 0 | F42: =SUM('Expenses - Vehicle 1'!U6+'Expenses - Vehicle 2'!U6) -> 0 | H42: 10
B43: Washes, Parking, Highway Tolls | C43: =SUM('Expenses - Vehicle 1'!X6) -> 0 | D43: =SUM('Expenses - Vehicle 2'!X6) -> 0 | E43: =SUM('Expenses - Vehicle 1'!Y7+'Expenses - Vehicle 2'!Y7) -> 0 | F43: =SUM('Expenses - Vehicle 1'!Z6+'Expenses - Vehicle 2'!Z6) -> 0
...

Sheet Inventory
A1: Inventory
A2: Part of calculating your deduction for Cost of Goods Sold requires your annual inventory count. Unsold items that you have purchased, but have not yet sold are considered an asset, not an expense yet.
A4: Cost of Goods Sold = Opening Inventory + Purchases - Ending Inventory
A5: Opening Inventory: Carried over from the previous year's ending, this is the total value of unsold goods you had at the start of the year.
A6: Purchases: How much you paid during the year to buy new products for reasale (including raw materials).
A7: Ending Inventory: The physical count and total value of unsold items still left on hand at the end of the year.
A9: Subtracting your ending inventory from your total available stock ensures you only deduct the items you actually parted with and sold to customers during that tax year.
A11: Item Description | B11: Qauntity | C11: Fair Market Value of Item | D11: Total Fair Market Value
D12: =SUM(B12*C12) -> 0
D13: =SUM(B13*C13) -> 0
D14: =SUM(B14*C14) -> 0
D15: =SUM(B15*C15) -> 0
D16: =SUM(B16*C16) -> 0
D17: =SUM(B17*C17) -> 0
D18: =SUM(B18*C18) -> 0
D19: =SUM(B19*C19) -> 0
D20: =SUM(B20*C20) -> 0
D21: =SUM(B21*C21) -> 0
D22: =SUM(B22*C22) -> 0
D23: =SUM(B23*C23) -> 0
... D85: =SUM(B85*C85) -> 0
C86: Total | D86: =SUM(D12:D85) -> 0

Sheet Capital Assets
A1: Capital Purchases & Disposals
A2: This section is used to dispose of assets that no longer exist and add new assets to the Capital Cost Allowance. Capital purchases are depreciated at different rates depending on the type of asset.
A3: To determine if the purchase is a capital or current expense, you can ask these questions:
A4: Does the expense provide a lasting beneit?
B5: A capital expense generally gives a lasting benefit. Example: a tool that can be used for multiple projects. A current expense is one that usually recurs after a short period.
A6: Does the expense maintain or improve the property or an item?
B7: A capital expense generally improves the property beyond its original condition. Example: If you replace wooden steps with concrete steps. A current expense restores property to its original condition. Example: the cost of repairing wooden steps.
A8: New Capital Purchases
A9: Date | B9: Description | C9: Subtotal | D9: GST/HST | E9: Total
E10: =SUM(C10+D10) -> 0
E11: =SUM(C11+D11) -> 0
E12: =SUM(C12+D12) -> 0
E13: =SUM(C13+D13) -> 0
E14: =SUM(C14+D14) -> 0
E15: =SUM(C15+D15) -> 0
E16: =SUM(C16+D16) -> 0
E17: =SUM(C17+D17) -> 0
E18: =SUM(C18+D18) -> 0
E19: =SUM(C19+D19) -> 0
E20: =SUM(C20+D20) -> 0
E21: =SUM(C21+D21) -> 0
... E24: =SUM(C24+D24) -> 0
B25: Total | C25: =SUM(C10:C24) -> 0 | D25: =SUM(D10:D24) -> 0 | E25: =SUM(E10:E24) -> 0
A27: Disposal of Capital Assets
A28: Date | B28: Description | C28: Subtotal | D28: GST/HST | E28: Total
E29: =SUM(C29+D29) -> 0
E30: =SUM(C30+D30) -> 0
E31: =SUM(C31+D31) -> 0
E32: =SUM(C32+D32) -> 0
E33: =SUM(C33+D33) -> 0
E34: =SUM(C34+D34) -> 0
E35: =SUM(C35+D35) -> 0
E36: =SUM(C36+D36) -> 0
E37: =SUM(C37+D37) -> 0
E38: =SUM(C38+D38) -> 0
E39: =SUM(C39+D39) -> 0
B40: Total | C40: =SUM(C29:C39) -> 0 | D40: =SUM(D29:D39) -> 0 | E40: =SUM(E29:E39) -> 0

Sheet Sales
A1: Sales (Income)
A2: Enter all your sales here. If your business is not GST/HST registered, do not enter data in the GST/HST columns. This workbook allows you to record multiple types of services or sales if you offer a variety of different products or services and wish to separate your income streams.
A4: Sale or Service Type 1 | G4: Sale or Service Type 2 | M4: Sale or Service Type 3 | S4: Sale or Service Type 4
A5: Rename above an on summary page. | C5: Category Total | D5: =SUM(D7:D1000) -> 0 | E5: =SUM(E7:E1000) -> 0 | F5: =SUM(F7:F1000) -> 0 | G5: Rename above an on summary page. | I5: Category Total | J5: =SUM(J7:J1000) -> 0 | K5: =SUM(K7:K1000) -> 0 | L5: =SUM(L7:L1000) -> 0 | M5: Rename above an on summary page. | O5: Category Total | P5: =SUM(P7:P1000) -> 0 | Q5: =SUM(Q7:Q1000) -> 0 | R5: =SUM(R7:R1000) -> 0 | S5: Rename above an on summary page. | U5: Category Total | V5: =SUM(V7:V1000) -> 0 | W5: =SUM(W7:W1000) -> 0 | X5: =SUM(X7:X1000) -> 0
A6: Date | B6: Customer | C6: Description | D6: Subtotal | E6: GST/HST | F6: Total | G6: Date | H6: Vendor | I6: Description | J6: Subtotal | K6: GST/HST | L6: Total | M6: Date | N6: Vendor | O6: Description | P6: Subtotal | Q6: GST/HST | R6: Total | S6: Date | T6: Vendor | U6: Description | V6: Subtotal | W6: GST/HST | X6: Total
F7: =SUM(D7:E7) -> 0 | L7: =SUM(J7:K7) -> 0 | R7: =SUM(P7:Q7) -> 0 | X7: =SUM(V7:W7) -> 0
F8: =SUM(D8:E8) -> 0 | L8: =SUM(J8:K8) -> 0 | R8: =SUM(P8:Q8) -> 0 | X8: =SUM(V8:W8) -> 0
F9: =SUM(D9:E9) -> 0 | L9: =SUM(J9:K9) -> 0 | R9: =SUM(P9:Q9) -> 0 | X9: =SUM(V9:W9) -> 0
F10: =SUM(D10:E10) -> 0 | L10: =SUM(J10:K10) -> 0 | R10: =SUM(P10:Q10) -> 0 | X10: =SUM(V10:W10) -> 0
F11: =SUM(D11:E11) -> 0 | L11: =SUM(J11:K11) -> 0 | R11: =SUM(P11:Q11) -> 0 | X11: =SUM(V11:W11) -> 0
F12: =SUM(D12:E12) -> 0 | L12: =SUM(J12:K12) -> 0 | R12: =SUM(P12:Q12) -> 0 | X12: =SUM(V12:W12) -> 0
F13: =SUM(D13:E13) -> 0 | L13: =SUM(J13:K13) -> 0 | R13: =SUM(P13:Q13) -> 0 | X13: =SUM(V13:W13) -> 0
F14: =SUM(D14:E14) -> 0 | L14: =SUM(J14:K14) -> 0 | R14: =SUM(P14:Q14) -> 0 | X14: =SUM(V14:W14) -> 0
F15: =SUM(D15:E15) -> 0 | L15: =SUM(J15:K15) -> 0 | R15: =SUM(P15:Q15) -> 0 | X15: =SUM(V15:W15) -> 0
F16: =SUM(D16:E16) -> 0 | L16: =SUM(J16:K16) -> 0 | R16: =SUM(P16:Q16) -> 0 | X16: =SUM(V16:W16) -> 0
F17: =SUM(D17:E17) -> 0 | L17: =SUM(J17:K17) -> 0 | R17: =SUM(P17:Q17) -> 0 | X17: =SUM(V17:W17) -> 0
F18: =SUM(D18:E18) -> 0 | L18: =SUM(J18:K18) -> 0 | R18: =SUM(P18:Q18) -> 0 | X18: =SUM(V18:W18) -> 0
... F999: =SUM(D999:E999) -> 0 | L999: =SUM(J999:K999) -> 0 | R999: =SUM(P999:Q999) -> 0 | X999: =SUM(V999:W999) -> 0

Sheet Expenses
A1: Expenses
A2: Purchases (Cost of Goods Sold) | F2: 2 | G2: Advertising | L2: 4 | M2: Meals & Entertainment | R2: 5 | S2: Insurance | V2: 6 | W2: Interest & Bank Charges | Z2: 7 | AA2: Business Fees, Memberships and Subscriptions | AF2: 8 | AG2: Office Expenses | AL2: 8 | AM2: Professional Fees | AR2: 12 | AS2: Rent or Property Taxes | AW2: 13 | AX2: Repairs & Maintenance + Equipment Rental | BC2: 14 | BD2: Travel Expenses | BI2: 16 | BJ2: Utilities - Electricity, Heating, Water/Sewer | BO2: 13 | BP2: Utilities - Telephone & Internet | BU2: 9 | BV2: Fuels Costs - Except for Motor Vehicles | CA2: 17 | CB2: Delivery, Freight & Express | CG2: 8 | CH2: Supplies | CM2: 10 | CN2: Small Tools | CS2: 11 | CT2: Other Operating Expense Category 1 | CZ2: Other Operating Expense Category 2 | DF2: Other Operating Expense Category 3 | DL2: Other Operating Expense Category 4 | DR2: Other Operating Expense Category 5
A3: The direct purchases associated with the production of goods that a business sells. If you run a construction company, your raw materials might be lumber. If you are a hair stylist, your raaw materials might be hair dye. | G3: Thses are expenses related to promoting your business. Some examples include; radio and newspaper advertising, business cards or flyers, or promotional items with your branding. | M3: Provided to current or potential customers and incurred for the purpose of earning an income. Meals for yourself are not deductible. The CRA limits the deductibility of this category to 50% of the cost. GST/HST registrants - Claim 50% of the GST/HST paid here in ITCs. | S3: Do not include your home, automobile, medical, or life insurance in this category. There is no GST/HST on insurance premiums. | W3: Interest on money borrowed for business purposes only. Bank charges on a business bank account. There is no GST/HST on interest or finance charges. | AA3: Fees related to your business, such as license renewals, dues paid to keep your membership in a trade or commercial association. Example: trade licenses, beverage licenses or permits, etc. | AG3: Office expenses related to earning business income. Examples include; pens, stationary, cleaning supplies, etc. Items such as office furniture and computer equipment are generally considered capital expenses - see the capital expenses tab in this workbook. | AM3: Fees paid for professional advice and services such as accounting & legal fees. | AS3: Do not include rent or municipal taxes paid for your principal residence here. See the business-use-of-home tab in this workbook. | AX3: Expenses related to maintaining equipment used to operate your business, or to buildings that your business owns or rents. Equipment or tools rented to perform a specific taks for your business can also be deducted. Do not include; the cost of your own labour, repairs that are capital in nature, auto repairs (see automobile expenses tab) | BD3: Travel expenses incurred to earn business income. Examples include; transportation fares, hotels and meals (while away - not to be confused with meals & entertainment category). Do not include personal travel in this category. | BJ3: Record utility costs for buildings that are used solely for your business. Do not include the utilities you pay for your principal residence here. See business-use-of-home tab in this workbook. | BP3: Record the cost of telephone & internet that is used for business purposes only. If you use your phone for both business and personal use, record this in the business-use-of-home tab. | BV3: Use this category to record fuels costs for machinery used in your work. Do not include fuel for your automobile here. Instead, record in the automobile expenses tab. | CB3: Shipping and delivery costs for purchases, or for delivering goods to your customer. | CH3: Supplies used in the day-to-day operations of a business but are not part of the production of good sold. If you operate a retail business, you might include cleaning supplies or small displays. If you are a contractor, you might include nails, glue, zip ties, etc. | CN3: Include small tool purchases in this category. Generally, if the cost is under $200, and the tool's useful life is a year or less, it belongs here. For larger tools purchases that are intended to be used over a period of time, enter in the capital expenses tab. | CT3: For things that don't quite fit into the provided cateogires. Rename above and on the summary tab. | CZ3: For things that don't quite fit into the provided cateogires. Rename above and on the summary tab. | DF3: For things that don't quite fit into the provided cateogires. Rename above and on the summary tab. | DL3: For things that don't quite fit into the provided cateogires. Rename above and on the summary tab. | DR3: For things that don't quite fit into the provided cateogires. Rename above and on the summary tab.
C4: Category Total | D4: =SUM(D7:D999) -> 0 | E4: =SUM(E7:E999) -> 0 | F4: =SUM(F7:F999) -> 0 | I4: Category Total | J4: =SUM(J7:J999) -> 0 | K4: =SUM(K7:K999) -> 0 | L4: =SUM(L7:L999) -> 0 | O4: Category Total | P4: =SUM(P7:P999) -> 0 | Q4: =SUM(Q7:Q999) -> 0 | R4: =SUM(R7:R999) -> 0 | U4: Category Total | V4: =SUM(V7:V999) -> 0 | Y4: Category Total | Z4: =SUM(Z7:Z999) -> 0 | AC4: Category Total | AD4: =SUM(AD7:AD999) -> 0 | AE4: =SUM(AE7:AE999) -> 0 | AF4: =SUM(AF7:AF999) -> 0 | AI4: Category Total | AJ4: =SUM(AJ7:AJ999) -> 0 | AK4: =SUM(AK7:AK999) -> 0 | AL4: =SUM(AL7:AL999) -> 0 | AO4: Category Total | AP4: =SUM(AP7:AP999) -> 0 | AQ4: =SUM(AQ7:AQ999) -> 0 | AR4: =SUM(AR7:AR999) -> 0 | AT4: Category Total | AU4: =SUM(AU7:AU999) -> 0 | AV4: =SUM(AV7:AV999) -> 0 | AW4: =SUM(AW7:AW999) -> 0 | AZ4: Category Total | BA4: =SUM(BA7:BA999) -> 0 | BB4: =SUM(BB7:BB999) -> 0 | BC4: =SUM(BC7:BC999) -> 0 | BF4: Category Total | BG4: =SUM(BG7:BG999) -> 0 | BH4: =SUM(BH7:BH999) -> 0 | BI4: =SUM(BI7:BI999) -> 0 | BL4: Category Total | BM4: =SUM(BM7:BM999) -> 0 | BN4: =SUM(BN7:BN999) -> 0 | BO4: =SUM(BO7:BO999) -> 0 | BR4: Category Total | BS4: =SUM(BS7:BS999) -> 0 | BT4: =SUM(BT7:BT999) -> 0 | BU4: =SUM(BU7:BU999) -> 0 | BX4: Category Total | BY4: =SUM(BY7:BY999) -> 0 | BZ4: =SUM(BZ7:BZ999) -> 0 | CA4: =SUM(CA7:CA999) -> 0 | CD4: Category Total | CE4: =SUM(CE7:CE999) -> 0 | CF4: =SUM(CF7:CF999) -> 0 | CG4: =SUM(CG7:CG999) -> 0 | CJ4: Category Total | CK4: =SUM(CK7:CK999) -> 0 | CL4: =SUM(CL7:CL999) -> 0 | CM4: =SUM(CM7:CM999) -> 0 | CP4: Category Total | CQ4: =SUM(CQ7:CQ999) -> 0 | CR4: =SUM(CR7:CR999) -> 0 | CS4: =SUM(CS7:CS999) -> 0 | CV4: Category Total | CW4: =SUM(CW7:CW999) -> 0 | CX4: =SUM(CX7:CX999) -> 0 | CY4: =SUM(CY7:CY999) -> 0 | DB4: Category Total | DC4: =SUM(DC7:DC999) -> 0 | DD4: =SUM(DD7:DD999) -> 0 | DE4: =SUM(DE7:DE999) -> 0 | DH4: Category Total | DI4: =SUM(DI7:DI999) -> 0 | DJ4: =SUM(DJ7:DJ999) -> 0 | DK4: =SUM(DK7:DK999) -> 0 | DN4: Category Total | DO4: =SUM(DO7:DO999) -> 0 | DP4: =SUM(DP7:DP999) -> 0 | DQ4: =SUM(DQ7:DQ999) -> 0 | DT4: Category Total | DU4: =SUM(DU7:DU999) -> 0 | DV4: =SUM(DV7:DV999) -> 0 | DW4: =SUM(DW7:DW999) -> 0
O5: Allowable Portion 50% | P5: =SUM(P4*0.5) -> 0 | Q5: =SUM(Q4*0.5) -> 0 | R5: =SUM(R4*0.5) -> 0
A6: Date | B6: Vendor | C6: Description | D6: Subtotal | E6: GST/HST | F6: Total | G6: Date | H6: Vendor | I6: Description | J6: Subtotal | K6: GST/HST | L6: Total | M6: Date | N6: Vendor | O6: Description | P6: Subtotal | Q6: GST/HST | R6: Total | S6: Date | T6: Vendor | U6: Description | V6: Total | W6: Date | X6: Vendor | Y6: Description | Z6: Total | AA6: Date | AB6: Vendor | AC6: Description | AD6: Subtotal | AE6: GST/HST | AF6: Total | AG6: Date | AH6: Vendor | AI6: Description | AJ6: Subtotal | AK6: GST/HST | AL6: Total | AM6: Date | AN6: Vendor | AO6: Description | AP6: Subtotal | AQ6: GST/HST | AR6: Total | AS6: Date | AT6: Vendor | AU6: Subtotal | AV6: GST/HST | AW6: Total | AX6: Date | AY6: Vendor | AZ6: Description | BA6: Subtotal | BB6: GST/HST | BC6: Total | BD6: Date | BE6: Vendor | BF6: Description | BG6: Subtotal | BH6: GST/HST | BI6: Total | BJ6: Date | BK6: Vendor | BL6: Description | BM6: Subtotal | BN6: GST/HST | BO6: Total | BP6: Date | BQ6: Vendor | BR6: Description | BS6: Subtotal | BT6: GST/HST | BU6: Total | BV6: Date | BW6: Vendor | BX6: Description | BY6: Subtotal | BZ6: GST/HST | CA6: Total | CB6: Date | CC6: Vendor | CD6: Description | CE6: Subtotal | CF6: GST/HST | CG6: Total | CH6: Date | CI6: Vendor | CJ6: Description | CK6: Subtotal | CL6: GST/HST | CM6: Total | CN6: Date | CO6: Vendor | CP6: Description | CQ6: Subtotal | CR6: GST/HST | CS6: Total | CT6: Date | CU6: Vendor | CV6: Description | CW6: Subtotal | CX6: GST/HST | CY6: Total | CZ6: Date | DA6: Vendor | DB6: Description | DC6: Subtotal | DD6: GST/HST | DE6: Total | DF6: Date | DG6: Vendor | DH6: Description | DI6: Subtotal | DJ6: GST/HST | DK6: Total | DL6: Date | DM6: Vendor | DN6: Description | DO6: Subtotal | DP6: GST/HST | DQ6: Total | DR6: Date | DS6: Vendor | DT6: Description | DU6: Subtotal | DV6: GST/HST | DW6: Total
F7: =SUM(D7:E7) -> 0 | L7: =SUM(J7:K7) -> 0 | R7: =SUM(P7:Q7) -> 0 | V7: =SUM(T7:U7) -> 0 | Z7: =SUM(X7:Y7) -> 0 | AF7: =SUM(AD7:AE7) -> 0 | AL7: =SUM(AJ7:AK7) -> 0 | AR7: =SUM(AP7:AQ7) -> 0 | AW7: =SUM(AU7:AV7) -> 0 | BC7: =SUM(BA7:BB7) -> 0 | BI7: =SUM(BG7:BH7) -> 0 | BO7: =SUM(BM7:BN7) -> 0 | BU7: =SUM(BS7:BT7) -> 0 | CA7: =SUM(BY7:BZ7) -> 0 | CG7: =SUM(CE7:CF7) -> 0 | CM7: =SUM(CK7:CL7) -> 0 | CS7: =SUM(CQ7:CR7) -> 0 | CY7: =SUM(CW7:CX7) -> 0 | DE7: =SUM(DC7:DD7) -> 0 | DK7: =SUM(DI7:DJ7) -> 0 | DQ7: =SUM(DO7:DP7) -> 0 | DW7: =SUM(DU7:DV7) -> 0
F8: =SUM(D8:E8) -> 0 | L8: =SUM(J8:K8) -> 0 | R8: =SUM(P8:Q8) -> 0 | V8: =SUM(T8:U8) -> 0 | Z8: =SUM(X8:Y8) -> 0 | AF8: =SUM(AD8:AE8) -> 0 | AL8: =SUM(AJ8:AK8) -> 0 | AR8: =SUM(AP8:AQ8) -> 0 | AW8: =SUM(AU8:AV8) -> 0 | BC8: =SUM(BA8:BB8) -> 0 | BI8: =SUM(BG8:BH8) -> 0 | BO8: =SUM(BM8:BN8) -> 0 | BU8: =SUM(BS8:BT8) -> 0 | CA8: =SUM(BY8:BZ8) -> 0 | CG8: =SUM(CE8:CF8) -> 0 | CM8: =SUM(CK8:CL8) -> 0 | CS8: =SUM(CQ8:CR8) -> 0 | CY8: =SUM(CW8:CX8) -> 0 | DE8: =SUM(DC8:DD8) -> 0 | DK8: =SUM(DI8:DJ8) -> 0 | DQ8: =SUM(DO8:DP8) -> 0 | DW8: =SUM(DU8:DV8) -> 0
F9: =SUM(D9:E9) -> 0 | L9: =SUM(J9:K9) -> 0 | R9: =SUM(P9:Q9) -> 0 | V9: =SUM(T9:U9) -> 0 | Z9: =SUM(X9:Y9) -> 0 | AF9: =SUM(AD9:AE9) -> 0 | AL9: =SUM(AJ9:AK9) -> 0 | AR9: =SUM(AP9:AQ9) -> 0 | AW9: =SUM(AU9:AV9) -> 0 | BC9: =SUM(BA9:BB9) -> 0 | BI9: =SUM(BG9:BH9) -> 0 | BO9: =SUM(BM9:BN9) -> 0 | BU9: =SUM(BS9:BT9) -> 0 | CA9: =SUM(BY9:BZ9) -> 0 | CG9: =SUM(CE9:CF9) -> 0 | CM9: =SUM(CK9:CL9) -> 0 | CS9: =SUM(CQ9:CR9) -> 0 | CY9: =SUM(CW9:CX9) -> 0 | DE9: =SUM(DC9:DD9) -> 0 | DK9: =SUM(DI9:DJ9) -> 0 | DQ9: =SUM(DO9:DP9) -> 0 | DW9: =SUM(DU9:DV9) -> 0
F10: =SUM(D10:E10) -> 0 | L10: =SUM(J10:K10) -> 0 | R10: =SUM(P10:Q10) -> 0 | V10: =SUM(T10:U10) -> 0 | Z10: =SUM(X10:Y10) -> 0 | AF10: =SUM(AD10:AE10) -> 0 | AL10: =SUM(AJ10:AK10) -> 0 | AR10: =SUM(AP10:AQ10) -> 0 | AW10: =SUM(AU10:AV10) -> 0 | BC10: =SUM(BA10:BB10) -> 0 | BI10: =SUM(BG10:BH10) -> 0 | BO10: =SUM(BM10:BN10) -> 0 | BU10: =SUM(BS10:BT10) -> 0 | CA10: =SUM(BY10:BZ10) -> 0 | CG10: =SUM(CE10:CF10) -> 0 | CM10: =SUM(CK10:CL10) -> 0 | CS10: =SUM(CQ10:CR10) -> 0 | CY10: =SUM(CW10:CX10) -> 0 | DE10: =SUM(DC10:DD10) -> 0 | DK10: =SUM(DI10:DJ10) -> 0 | DQ10: =SUM(DO10:DP10) -> 0 | DW10: =SUM(DU10:DV10) -> 0
F11: =SUM(D11:E11) -> 0 | L11: =SUM(J11:K11) -> 0 | R11: =SUM(P11:Q11) -> 0 | V11: =SUM(T11:U11) -> 0 | Z11: =SUM(X11:Y11) -> 0 | AF11: =SUM(AD11:AE11) -> 0 | AL11: =SUM(AJ11:AK11) -> 0 | AR11: =SUM(AP11:AQ11) -> 0 | AW11: =SUM(AU11:AV11) -> 0 | BC11: =SUM(BA11:BB11) -> 0 | BI11: =SUM(BG11:BH11) -> 0 | BO11: =SUM(BM11:BN11) -> 0 | BU11: =SUM(BS11:BT11) -> 0 | CA11: =SUM(BY11:BZ11) -> 0 | CG11: =SUM(CE11:CF11) -> 0 | CM11: =SUM(CK11:CL11) -> 0 | CS11: =SUM(CQ11:CR11) -> 0 | CY11: =SUM(CW11:CX11) -> 0 | DE11: =SUM(DC11:DD11) -> 0 | DK11: =SUM(DI11:DJ11) -> 0 | DQ11: =SUM(DO11:DP11) -> 0 | DW11: =SUM(DU11:DV11) -> 0
F12: =SUM(D12:E12) -> 0 | L12: =SUM(J12:K12) -> 0 | R12: =SUM(P12:Q12) -> 0 | V12: =SUM(T12:U12) -> 0 | Z12: =SUM(X12:Y12) -> 0 | AF12: =SUM(AD12:AE12) -> 0 | AL12: =SUM(AJ12:AK12) -> 0 | AR12: =SUM(AP12:AQ12) -> 0 | AW12: =SUM(AU12:AV12) -> 0 | BC12: =SUM(BA12:BB12) -> 0 | BI12: =SUM(BG12:BH12) -> 0 | BO12: =SUM(BM12:BN12) -> 0 | BU12: =SUM(BS12:BT12) -> 0 | CA12: =SUM(BY12:BZ12) -> 0 | CG12: =SUM(CE12:CF12) -> 0 | CM12: =SUM(CK12:CL12) -> 0 | CS12: =SUM(CQ12:CR12) -> 0 | CY12: =SUM(CW12:CX12) -> 0 | DE12: =SUM(DC12:DD12) -> 0 | DK12: =SUM(DI12:DJ12) -> 0 | DQ12: =SUM(DO12:DP12) -> 0 | DW12: =SUM(DU12:DV12) -> 0
F13: =SUM(D13:E13) -> 0 | L13: =SUM(J13:K13) -> 0 | R13: =SUM(P13:Q13) -> 0 | V13: =SUM(T13:U13) -> 0 | Z13: =SUM(X13:Y13) -> 0 | AF13: =SUM(AD13:AE13) -> 0 | AL13: =SUM(AJ13:AK13) -> 0 | AR13: =SUM(AP13:AQ13) -> 0 | AW13: =SUM(AU13:AV13) -> 0 | BC13: =SUM(BA13:BB13) -> 0 | BI13: =SUM(BG13:BH13) -> 0 | BO13: =SUM(BM13:BN13) -> 0 | BU13: =SUM(BS13:BT13) -> 0 | CA13: =SUM(BY13:BZ13) -> 0 | CG13: =SUM(CE13:CF13) -> 0 | CM13: =SUM(CK13:CL13) -> 0 | CS13: =SUM(CQ13:CR13) -> 0 | CY13: =SUM(CW13:CX13) -> 0 | DE13: =SUM(DC13:DD13) -> 0 | DK13: =SUM(DI13:DJ13) -> 0 | DQ13: =SUM(DO13:DP13) -> 0 | DW13: =SUM(DU13:DV13) -> 0
F14: =SUM(D14:E14) -> 0 | L14: =SUM(J14:K14) -> 0 | R14: =SUM(P14:Q14) -> 0 | V14: =SUM(T14:U14) -> 0 | Z14: =SUM(X14:Y14) -> 0 | AF14: =SUM(AD14:AE14) -> 0 | AL14: =SUM(AJ14:AK14) -> 0 | AR14: =SUM(AP14:AQ14) -> 0 | AW14: =SUM(AU14:AV14) -> 0 | BC14: =SUM(BA14:BB14) -> 0 | BI14: =SUM(BG14:BH14) -> 0 | BO14: =SUM(BM14:BN14) -> 0 | BU14: =SUM(BS14:BT14) -> 0 | CA14: =SUM(BY14:BZ14) -> 0 | CG14: =SUM(CE14:CF14) -> 0 | CM14: =SUM(CK14:CL14) -> 0 | CS14: =SUM(CQ14:CR14) -> 0 | CY14: =SUM(CW14:CX14) -> 0 | DE14: =SUM(DC14:DD14) -> 0 | DK14: =SUM(DI14:DJ14) -> 0 | DQ14: =SUM(DO14:DP14) -> 0 | DW14: =SUM(DU14:DV14) -> 0
F15: =SUM(D15:E15) -> 0 | L15: =SUM(J15:K15) -> 0 | R15: =SUM(P15:Q15) -> 0 | V15: =SUM(T15:U15) -> 0 | Z15: =SUM(X15:Y15) -> 0 | AF15: =SUM(AD15:AE15) -> 0 | AL15: =SUM(AJ15:AK15) -> 0 | AR15: =SUM(AP15:AQ15) -> 0 | AW15: =SUM(AU15:AV15) -> 0 | BC15: =SUM(BA15:BB15) -> 0 | BI15: =SUM(BG15:BH15) -> 0 | BO15: =SUM(BM15:BN15) -> 0 | BU15: =SUM(BS15:BT15) -> 0 | CA15: =SUM(BY15:BZ15) -> 0 | CG15: =SUM(CE15:CF15) -> 0 | CM15: =SUM(CK15:CL15) -> 0 | CS15: =SUM(CQ15:CR15) -> 0 | CY15: =SUM(CW15:CX15) -> 0 | DE15: =SUM(DC15:DD15) -> 0 | DK15: =SUM(DI15:DJ15) -> 0 | DQ15: =SUM(DO15:DP15) -> 0 | DW15: =SUM(DU15:DV15) -> 0
F16: =SUM(D16:E16) -> 0 | L16: =SUM(J16:K16) -> 0 | R16: =SUM(P16:Q16) -> 0 | V16: =SUM(T16:U16) -> 0 | Z16: =SUM(X16:Y16) -> 0 | AF16: =SUM(AD16:AE16) -> 0 | AL16: =SUM(AJ16:AK16) -> 0 | AR16: =SUM(AP16:AQ16) -> 0 | AW16: =SUM(AU16:AV16) -> 0 | BC16: =SUM(BA16:BB16) -> 0 | BI16: =SUM(BG16:BH16) -> 0 | BO16: =SUM(BM16:BN16) -> 0 | BU16: =SUM(BS16:BT16) -> 0 | CA16: =SUM(BY16:BZ16) -> 0 | CG16: =SUM(CE16:CF16) -> 0 | CM16: =SUM(CK16:CL16) -> 0 | CS16: =SUM(CQ16:CR16) -> 0 | CY16: =SUM(CW16:CX16) -> 0 | DE16: =SUM(DC16:DD16) -> 0 | DK16: =SUM(DI16:DJ16) -> 0 | DQ16: =SUM(DO16:DP16) -> 0 | DW16: =SUM(DU16:DV16) -> 0
F17: =SUM(D17:E17) -> 0 | L17: =SUM(J17:K17) -> 0 | R17: =SUM(P17:Q17) -> 0 | V17: =SUM(T17:U17) -> 0 | Z17: =SUM(X17:Y17) -> 0 | AF17: =SUM(AD17:AE17) -> 0 | AL17: =SUM(AJ17:AK17) -> 0 | AR17: =SUM(AP17:AQ17) -> 0 | AW17: =SUM(AU17:AV17) -> 0 | BC17: =SUM(BA17:BB17) -> 0 | BI17: =SUM(BG17:BH17) -> 0 | BO17: =SUM(BM17:BN17) -> 0 | BU17: =SUM(BS17:BT17) -> 0 | CA17: =SUM(BY17:BZ17) -> 0 | CG17: =SUM(CE17:CF17) -> 0 | CM17: =SUM(CK17:CL17) -> 0 | CS17: =SUM(CQ17:CR17) -> 0 | CY17: =SUM(CW17:CX17) -> 0 | DE17: =SUM(DC17:DD17) -> 0 | DK17: =SUM(DI17:DJ17) -> 0 | DQ17: =SUM(DO17:DP17) -> 0 | DW17: =SUM(DU17:DV17) -> 0
F18: =SUM(D18:E18) -> 0 | L18: =SUM(J18:K18) -> 0 | R18: =SUM(P18:Q18) -> 0 | V18: =SUM(T18:U18) -> 0 | Z18: =SUM(X18:Y18) -> 0 | AF18: =SUM(AD18:AE18) -> 0 | AL18: =SUM(AJ18:AK18) -> 0 | AR18: =SUM(AP18:AQ18) -> 0 | AW18: =SUM(AU18:AV18) -> 0 | BC18: =SUM(BA18:BB18) -> 0 | BI18: =SUM(BG18:BH18) -> 0 | BO18: =SUM(BM18:BN18) -> 0 | BU18: =SUM(BS18:BT18) -> 0 | CA18: =SUM(BY18:BZ18) -> 0 | CG18: =SUM(CE18:CF18) -> 0 | CM18: =SUM(CK18:CL18) -> 0 | CS18: =SUM(CQ18:CR18) -> 0 | CY18: =SUM(CW18:CX18) -> 0 | DE18: =SUM(DC18:DD18) -> 0 | DK18: =SUM(DI18:DJ18) -> 0 | DQ18: =SUM(DO18:DP18) -> 0 | DW18: =SUM(DU18:DV18) -> 0
... F999: =SUM(D999:E999) -> 0 | L999: =SUM(J999:K999) -> 0 | R999: =SUM(P999:Q999) -> 0 | V999: =SUM(T999:U999) -> 0 | Z999: =SUM(X999:Y999) -> 0 | AF999: =SUM(AD999:AE999) -> 0 | AL999: =SUM(AJ999:AK999) -> 0 | AR999: =SUM(AP999:AQ999) -> 0 | AW999: =SUM(AU999:AV999) -> 0 | BC999: =SUM(BA999:BB999) -> 0 | BI999: =SUM(BG999:BH999) -> 0 | BO999: =SUM(BM999:BN999) -> 0 | BU999: =SUM(BS999:BT999) -> 0 | CA999: =SUM(BY999:BZ999) -> 0 | CG999: =SUM(CE999:CF999) -> 0 | CM999: =SUM(CK999:CL999) -> 0 | CS999: =SUM(CQ999:CR999) -> 0 | CY999: =SUM(CW999:CX999) -> 0 | DE999: =SUM(DC999:DD999) -> 0 | DK999: =SUM(DI999:DJ999) -> 0 | DQ999: =SUM(DO999:DP999) -> 0 | DW999: =SUM(DU999:DV999) -> 0

Sheet Expenses - Vehicle 1
A1: Expenses - Vehicle 1 | L1: #VALUE! | M1: Website Links:
A2: Use this tab to record automobile expenses. If you use your vehicle(s) for both personal and business travel, you can claim the part of the operating expenses that are business related. The CRA expects you to keep a vehicle log book to determine the business-use percentage. This workbook will calculate the business use percentage from the mileage readings you record in the information tab. If you purchased, sold, or traded-in a vehicle in the tax year, please list in the capital assets tab, and include the bill of sale with your tax documents. | M2: Vehcile Log Book: https://incometaxplusinc.com/vehicle-log-book
A3: Tip for GST/HST registrants: If the business-use percentage is less than 90%, the GST/HST paid on the purchase of a vehicle must be equal to the CCA claimed in the same period.
A4: Fuel | F4: Interest on Automobile Loan | I4: Insurance | L4: Maintenance & Repairs | Q4: Lease Payments | V4: Washes, Parking & Highway Tolls
F5: Record only the interest portion your loan here, not the full principal and interest payment. There is no GST/HST on interest charges. | I5: There is no GST/HST on insurance premiums. | Q5: Include payments for only leased vehicles here. GST/HST is generally paid with each lease payment.
B6: Category Total | C6: =SUM(C9:C1002) -> 0 | D6: =SUM(D9:D1002) -> 0 | E6: =SUM(E9:E1002) -> 0 | G6: Category Total | H6: =SUM(H9:H1002) -> 0 | J6: Category Total | K6: =SUM(K9:K1002) -> 0 | M6: Category Total | N6: =SUM(N9:N1002) -> 0 | O6: =SUM(O9:O1002) -> 0 | P6: =SUM(P9:P1002) -> 0 | R6: Category Total | S6: =SUM(S9:S1002) -> 0 | T6: =SUM(T9:T1002) -> 0 | U6: =SUM(U9:U1002) -> 0 | W6: Category Total | X6: =SUM(X9:X1002) -> 0 | Y6: =SUM(Y9:Y1002) -> 0 | Z6: =SUM(Z9:Z1002) -> 0
B7: business-use portion | C7: =SUM(C6*Information!C30) -> 0 | D7: =SUM(D6*Information!C30) -> 0 | E7: =SUM(E6*Information!C30) -> 0 | G7: business-use portion | H7: =SUM(H6*Information!C30) -> 0 | J7: business-use portion | K7: =SUM(K6*Information!C30) -> 0 | M7: business-use portion | N7: =SUM(N6*Information!C30) -> 0 | O7: =SUM(O6*Information!C30) -> 0 | P7: =SUM(P6*Information!C30) -> 0 | R7: business-use portion | S7: =SUM(S6*Information!C30) -> 0 | T7: =SUM(T6*Information!C30) -> 0 | U7: =SUM(U6*Information!C30) -> 0 | W7: business-use portion | X7: =SUM(X6*Information!C30) -> 0 | Y7: =SUM(Y6*Information!C30) -> 0 | Z7: =SUM(Z6*Information!C30) -> 0
A8: Date | B8: Vendor | C8: Subtotal | D8: GST/HST | E8: Total | F8: Date | G8: Vendor | H8: Total | I8: Date | J8: Vendor | K8: Total | L8: Date | M8: Vendor | N8: Subtotal | O8: GST/HST | P8: Total | Q8: Date | R8: Vendor | S8: Subtotal | T8: GST/HST | U8: Total | V8: Date | W8: Vendor | X8: Subtotal | Y8: GST/HST | Z8: Total
E9: =SUM(C9:D9) -> 0 | P9: =SUM(N9:O9) -> 0 | U9: =SUM(S9:T9) -> 0 | Z9: =SUM(X9:Y9) -> 0
E10: =SUM(C10:D10) -> 0 | P10: =SUM(N10:O10) -> 0 | U10: =SUM(S10:T10) -> 0 | Z10: =SUM(X10:Y10) -> 0
E11: =SUM(C11:D11) -> 0 | P11: =SUM(N11:O11) -> 0 | U11: =SUM(S11:T11) -> 0 | Z11: =SUM(X11:Y11) -> 0
E12: =SUM(C12:D12) -> 0 | P12: =SUM(N12:O12) -> 0 | U12: =SUM(S12:T12) -> 0 | Z12: =SUM(X12:Y12) -> 0
E13: =SUM(C13:D13) -> 0 | P13: =SUM(N13:O13) -> 0 | U13: =SUM(S13:T13) -> 0 | Z13: =SUM(X13:Y13) -> 0
E14: =SUM(C14:D14) -> 0 | P14: =SUM(N14:O14) -> 0 | U14: =SUM(S14:T14) -> 0 | Z14: =SUM(X14:Y14) -> 0
E15: =SUM(C15:D15) -> 0 | P15: =SUM(N15:O15) -> 0 | U15: =SUM(S15:T15) -> 0 | Z15: =SUM(X15:Y15) -> 0
E16: =SUM(C16:D16) -> 0 | P16: =SUM(N16:O16) -> 0 | U16: =SUM(S16:T16) -> 0 | Z16: =SUM(X16:Y16) -> 0
E17: =SUM(C17:D17) -> 0 | P17: =SUM(N17:O17) -> 0 | U17: =SUM(S17:T17) -> 0 | Z17: =SUM(X17:Y17) -> 0
E18: =SUM(C18:D18) -> 0 | P18: =SUM(N18:O18) -> 0 | U18: =SUM(S18:T18) -> 0 | Z18: =SUM(X18:Y18) -> 0
E19: =SUM(C19:D19) -> 0 | P19: =SUM(N19:O19) -> 0 | U19: =SUM(S19:T19) -> 0 | Z19: =SUM(X19:Y19) -> 0
E20: =SUM(C20:D20) -> 0 | P20: =SUM(N20:O20) -> 0 | U20: =SUM(S20:T20) -> 0 | Z20: =SUM(X20:Y20) -> 0
... E1001: =SUM(C1001:D1001) -> 0 | P1001: =SUM(N1001:O1001) -> 0 | U1001: =SUM(S1001:T1001) -> 0 | Z1001: =SUM(X1001:Y1001) -> 0

Sheet Expenses - Vehicle 2
A1: Expenses - Vehicle 2 | L1: #VALUE! | M1: Website Links:
A2: Use this tab to record automobile expenses. If you use your vehicle(s) for both personal and business travel, you can claim the part of the operating expenses that are business related. The CRA expects you to keep a vehicle log book to determine the business-use percentage. This workbook will calculate the business use percentage from the mileage readings you record in the information tab. If you purchased, sold, or traded-in a vehicle in the tax year, please list in the capital assets tab, and include the bill of sale with your tax documents. | M2: Vehcile Log Book: https://incometaxplusinc.com/vehicle-log-book
A3: Tip for GST/HST registrants: If the business-use percentage is less than 90%, the GST/HST paid on the purchase of a vehicle must be equal to the CCA claimed in the same period.
A4: Fuel | F4: Interest on Automobile Loan | I4: Insurance | L4: Maintenance & Repairs | Q4: Lease Payments | V4: Washes, Parking & Highway Tolls
F5: Record only the interest portion your loan here, not the full principal and interest payment. There is no GST/HST on interest charges. | I5: There is no GST/HST on insurance premiums. | Q5: Include payments for only leased vehicles here. GST/HST is generally paid with each lease payment.
B6: Category Total | C6: =SUM(C9:C1002) -> 0 | D6: =SUM(D9:D1002) -> 0 | E6: =SUM(E9:E1002) -> 0 | G6: Category Total | H6: =SUM(H9:H1002) -> 0 | J6: Category Total | K6: =SUM(K9:K1002) -> 0 | M6: Category Total | N6: =SUM(N9:N1002) -> 0 | O6: =SUM(O9:O1002) -> 0 | P6: =SUM(P9:P1002) -> 0 | R6: Category Total | S6: =SUM(S9:S1002) -> 0 | T6: =SUM(T9:T1002) -> 0 | U6: =SUM(U9:U1002) -> 0 | W6: Category Total | X6: =SUM(X9:X1002) -> 0 | Y6: =SUM(Y9:Y1002) -> 0 | Z6: =SUM(Z9:Z1002) -> 0
B7: business-use portion | C7: =SUM(C6*Information!F30) -> 0 | D7: =SUM(D6*Information!F30) -> 0 | E7: =SUM(E6*Information!F30) -> 0 | G7: business-use portion | H7: =SUM(H6*Information!F30) -> 0 | J7: business-use portion | K7: =SUM(K6*Information!F30) -> 0 | M7: business-use portion | N7: =SUM(N6*Information!F30) -> 0 | O7: =SUM(O6*Information!F30) -> 0 | P7: =SUM(P6*Information!F30) -> 0 | R7: business-use portion | S7: =SUM(S6*Information!F30) -> 0 | T7: =SUM(T6*Information!F30) -> 0 | U7: =SUM(U6*Information!F30) -> 0 | W7: business-use portion | X7: =SUM(X6*Information!F30) -> 0 | Y7: =SUM(Y6*Information!F30) -> 0 | Z7: =SUM(Z6*Information!F30) -> 0
A8: Date | B8: Vendor | C8: Subtotal | D8: GST/HST | E8: Total | F8: Date | G8: Vendor | H8: Total | I8: Date | J8: Vendor | K8: Total | L8: Date | M8: Vendor | N8: Subtotal | O8: GST/HST | P8: Total | Q8: Date | R8: Vendor | S8: Subtotal | T8: GST/HST | U8: Total | V8: Date | W8: Vendor | X8: Subtotal | Y8: GST/HST | Z8: Total
E9: =SUM(C9:D9) -> 0 | P9: =SUM(N9:O9) -> 0 | U9: =SUM(S9:T9) -> 0 | Z9: =SUM(X9:Y9) -> 0
E10: =SUM(C10:D10) -> 0 | P10: =SUM(N10:O10) -> 0 | U10: =SUM(S10:T10) -> 0 | Z10: =SUM(X10:Y10) -> 0
E11: =SUM(C11:D11) -> 0 | P11: =SUM(N11:O11) -> 0 | U11: =SUM(S11:T11) -> 0 | Z11: =SUM(X11:Y11) -> 0
E12: =SUM(C12:D12) -> 0 | P12: =SUM(N12:O12) -> 0 | U12: =SUM(S12:T12) -> 0 | Z12: =SUM(X12:Y12) -> 0
E13: =SUM(C13:D13) -> 0 | P13: =SUM(N13:O13) -> 0 | U13: =SUM(S13:T13) -> 0 | Z13: =SUM(X13:Y13) -> 0
E14: =SUM(C14:D14) -> 0 | P14: =SUM(N14:O14) -> 0 | U14: =SUM(S14:T14) -> 0 | Z14: =SUM(X14:Y14) -> 0
E15: =SUM(C15:D15) -> 0 | P15: =SUM(N15:O15) -> 0 | U15: =SUM(S15:T15) -> 0 | Z15: =SUM(X15:Y15) -> 0
E16: =SUM(C16:D16) -> 0 | P16: =SUM(N16:O16) -> 0 | U16: =SUM(S16:T16) -> 0 | Z16: =SUM(X16:Y16) -> 0
E17: =SUM(C17:D17) -> 0 | P17: =SUM(N17:O17) -> 0 | U17: =SUM(S17:T17) -> 0 | Z17: =SUM(X17:Y17) -> 0
E18: =SUM(C18:D18) -> 0 | P18: =SUM(N18:O18) -> 0 | U18: =SUM(S18:T18) -> 0 | Z18: =SUM(X18:Y18) -> 0
E19: =SUM(C19:D19) -> 0 | P19: =SUM(N19:O19) -> 0 | U19: =SUM(S19:T19) -> 0 | Z19: =SUM(X19:Y19) -> 0
E20: =SUM(C20:D20) -> 0 | P20: =SUM(N20:O20) -> 0 | U20: =SUM(S20:T20) -> 0 | Z20: =SUM(X20:Y20) -> 0
... E1001: =SUM(C1001:D1001) -> 0 | P1001: =SUM(N1001:O1001) -> 0 | U1001: =SUM(S1001:T1001) -> 0 | Z1001: =SUM(X1001:Y1001) -> 0

Sheet Expenses - Home
A1: Expenses - Business-Use-of-Home
A2: You can deduct expenses for the business-use of a work space in your home if you meet one of the following conditions:
A3: It is your principal place of business, or
A4: You use the space only to earn your business income, and you use it on a regular and ongoing basis to meet your clients, customers or patients.
A5: This workbook will calculate the business use percentage from your entries on the information tab.
A6: Tip! Business-use-of-home expenses cannot be used to increase a business loss.
A7: Heat | F7: Electricity | K7: Water/Sewer | N7: Insurance | Q7: Maintenance (specific to the workspace) | V7: Maintenance (household maintnenace) | AA7: Mortgage Interest | AD7: Property Taxes or Rent | AG7: Personal Cell Phone | AL7: Home Internet
N8: There is no GST/HST on insurance premiums. | Q8: Expenses in this category can only be deducted if they relate to your workspace that is solely used to earn an income. If an expense is for a part of the home not used as a workspace, you cannot deduct it. An appropriate expense in this category would be light bulbs for your home office. | AA8: There is no GST/HST on mortgage interest. | AD8: There is no GST/HST on municipal taxes or residential rent. | AG8: Do not include the cost of purchasing your phone in this category, only the monthly and long distance charges. If you use your personal phone for both business and personal purposes, we can deduct the business-use-percentage. As a general rule, we will deduct 24% unless specified otherwise by you in the information tab.
B9: Category Total | C9: =SUM(C12:C1005) -> 0 | D9: =SUM(D12:D1005) -> 0 | E9: =SUM(E12:E1005) -> 0 | G9: Category Total | H9: =SUM(H12:H1005) -> 0 | I9: =SUM(I12:I1005) -> 0 | J9: =SUM(J12:J1005) -> 0 | L9: Category Total | M9: =SUM(M12:M1005) -> 0 | O9: Category Total | P9: =SUM(P12:P1005) -> 0 | R9: Category Total | S9: =SUM(S12:S1005) -> 0 | T9: =SUM(T12:T1005) -> 0 | U9: =SUM(U12:U1005) -> 0 | W9: Category Total | X9: =SUM(X12:X1005) -> 0 | Y9: =SUM(Y12:Y1005) -> 0 | Z9: =SUM(Z12:Z1005) -> 0 | AB9: Category Total | AC9: =SUM(AC12:AC1005) -> 0 | AE9: Category Total | AF9: =SUM(AF12:AF1005) -> 0 | AH9: Category Total | AI9: =SUM(AI12:AI1005) -> 0 | AJ9: =SUM(AJ12:AJ1005) -> 0 | AK9: =SUM(AK12:AK1005) -> 0 | AM9: Category Total | AN9: =SUM(AN12:AN1005) -> 0 | AO9: =SUM(AO12:AO1005) -> 0 | AP9: =SUM(AP12:AP1005) -> 0
B10: business-use portion | C10: =SUM(C9*Information!F39) -> 0 | D10: =SUM(D9*Information!F39) -> 0 | E10: =SUM(E9*Information!F39) -> 0 | G10: business-use portion | H10: =SUM(H9*Information!F39) -> 0 | I10: =SUM(I9*Information!F39) -> 0 | J10: =SUM(J9*Information!F39) -> 0 | L10: business-use portion | M10: =SUM(M9*Information!F39) -> 0 | O10: business-use portion | P10: =SUM(P9*Information!F39) -> 0 | W10: business-use portion | X10: =SUM(X9*Information!F39) -> 0 | Y10: =SUM(Y9*Information!F39) -> 0 | Z10: =SUM(Z9*Information!F39) -> 0 | AB10: business-use portion | AC10: =SUM(AC9*Information!F39) -> 0 | AE10: business-use portion | AF10: =SUM(AF9*Information!F39) -> 0 | AH10: business-use portion | AI10: =SUM(AI9*Information!F44) -> 0 | AJ10: =SUM(AJ9*Information!F44) -> 0 | AK10: =SUM(AK9*Information!F44) -> 0 | AM10: business-use portion | AN10: =SUM(AN9*Information!F39) -> 0 | AO10: =SUM(AO9*Information!F39) -> 0 | AP10: =SUM(AP9*Information!F39) -> 0
A11: Date | B11: Vendor | C11: Subtotal | D11: GST/HST | E11: Total | F11: Date | G11: Vendor | H11: Subtotal | I11: GST/HST | J11: Total | K11: Date | L11: Vendor | M11: Total | N11: Date | O11: Vendor | P11: Total | Q11: Date | R11: Vendor | S11: Subtotal | T11: GST/HST | U11: Total | V11: Date | W11: Vendor | X11: Subtotal | Y11: GST/HST | Z11: Total | AA11: Date | AB11: Vendor | AC11: Total | AD11: Date | AE11: Vendor | AF11: Total | AG11: Date | AH11: Vendor | AI11: Subtotal | AJ11: GST/HST | AK11: Total | AL11: Date | AM11: Vendor | AN11: Subtotal | AO11: GST/HST | AP11: Total
E12: =SUM(C12:D12) -> 0 | J12: =SUM(H12:I12) -> 0 | U12: =SUM(S12:T12) -> 0 | Z12: =SUM(X12:Y12) -> 0 | AK12: =SUM(AI12:AJ12) -> 0 | AP12: =SUM(AN12:AO12) -> 0
E13: =SUM(C13:D13) -> 0 | J13: =SUM(H13:I13) -> 0 | U13: =SUM(S13:T13) -> 0 | Z13: =SUM(X13:Y13) -> 0 | AK13: =SUM(AI13:AJ13) -> 0 | AP13: =SUM(AN13:AO13) -> 0
E14: =SUM(C14:D14) -> 0 | J14: =SUM(H14:I14) -> 0 | U14: =SUM(S14:T14) -> 0 | Z14: =SUM(X14:Y14) -> 0 | AK14: =SUM(AI14:AJ14) -> 0 | AP14: =SUM(AN14:AO14) -> 0
E15: =SUM(C15:D15) -> 0 | J15: =SUM(H15:I15) -> 0 | U15: =SUM(S15:T15) -> 0 | Z15: =SUM(X15:Y15) -> 0 | AK15: =SUM(AI15:AJ15) -> 0 | AP15: =SUM(AN15:AO15) -> 0
E16: =SUM(C16:D16) -> 0 | J16: =SUM(H16:I16) -> 0 | U16: =SUM(S16:T16) -> 0 | Z16: =SUM(X16:Y16) -> 0 | AK16: =SUM(AI16:AJ16) -> 0 | AP16: =SUM(AN16:AO16) -> 0
E17: =SUM(C17:D17) -> 0 | J17: =SUM(H17:I17) -> 0 | U17: =SUM(S17:T17) -> 0 | Z17: =SUM(X17:Y17) -> 0 | AK17: =SUM(AI17:AJ17) -> 0 | AP17: =SUM(AN17:AO17) -> 0
E18: =SUM(C18:D18) -> 0 | J18: =SUM(H18:I18) -> 0 | U18: =SUM(S18:T18) -> 0 | Z18: =SUM(X18:Y18) -> 0 | AK18: =SUM(AI18:AJ18) -> 0 | AP18: =SUM(AN18:AO18) -> 0
E19: =SUM(C19:D19) -> 0 | J19: =SUM(H19:I19) -> 0 | U19: =SUM(S19:T19) -> 0 | Z19: =SUM(X19:Y19) -> 0 | AK19: =SUM(AI19:AJ19) -> 0 | AP19: =SUM(AN19:AO19) -> 0
E20: =SUM(C20:D20) -> 0 | J20: =SUM(H20:I20) -> 0 | U20: =SUM(S20:T20) -> 0 | Z20: =SUM(X20:Y20) -> 0 | AK20: =SUM(AI20:AJ20) -> 0 | AP20: =SUM(AN20:AO20) -> 0
E21: =SUM(C21:D21) -> 0 | J21: =SUM(H21:I21) -> 0 | U21: =SUM(S21:T21) -> 0 | Z21: =SUM(X21:Y21) -> 0 | AK21: =SUM(AI21:AJ21) -> 0 | AP21: =SUM(AN21:AO21) -> 0
E22: =SUM(C22:D22) -> 0 | J22: =SUM(H22:I22) -> 0 | U22: =SUM(S22:T22) -> 0 | Z22: =SUM(X22:Y22) -> 0 | AK22: =SUM(AI22:AJ22) -> 0 | AP22: =SUM(AN22:AO22) -> 0
E23: =SUM(C23:D23) -> 0 | J23: =SUM(H23:I23) -> 0 | U23: =SUM(S23:T23) -> 0 | Z23: =SUM(X23:Y23) -> 0 | AK23: =SUM(AI23:AJ23) -> 0 | AP23: =SUM(AN23:AO23) -> 0
... E1004: =SUM(C1004:D1004) -> 0 | J1004: =SUM(H1004:I1004) -> 0 | U1004: =SUM(S1004:T1004) -> 0 | Z1004: =SUM(X1004:Y1004) -> 0 | AK1004: =SUM(AI1004:AJ1004) -> 0 | AP1004: =SUM(AN1004:AO1004) -> 0

Sheet Expenses - Sub Contractors
A1: Expenses - Sub Contractors
A2: Sub contractors should be issued a T4A or T5018. Total each sub-contractor separately, and be sure to gather the necesarry information to be able to issue the appropriate tax slips.
A3: Sub-Contractor Name or Business Name | F3: Sub-Contractor Name or Business Name | K3: Sub-Contractor Name or Business Name | P3: Sub-Contractor Name or Business Name | U3: Sub-Contractor Name or Business Name
A4: SIN or GST/HST Registration No. | F4: SIN or GST/HST Registration No. | K4: SIN or GST/HST Registration No. | P4: SIN or GST/HST Registration No. | U4: SIN or GST/HST Registration No.
A5: Street Address | F5: Street Address | K5: Street Address | P5: Street Address | U5: Street Address
A6: City | D6: Province | F6: City | I6: Province | K6: City | N6: Province | P6: City | S6: Province | U6: City | X6: Province
A7: Postal Code | D7: Telephone | F7: Postal Code | I7: Telephone | K7: Postal Code | N7: Telephone | P7: Postal Code | S7: Telephone | U7: Postal Code | X7: Telephone
B8: Total | C8: =SUM(C10:C1000) -> 0 | D8: =SUM(D10:D1000) -> 0 | E8: =SUM(E10:E1000) -> 0 | G8: Total | H8: =SUM(H10:H1000) -> 0 | I8: =SUM(I10:I1000) -> 0 | J8: =SUM(J10:J1000) -> 0 | L8: Total | M8: =SUM(M10:M1000) -> 0 | N8: =SUM(N10:N1000) -> 0 | O8: =SUM(O10:O1000) -> 0 | Q8: Total | R8: =SUM(R10:R1000) -> 0 | S8: =SUM(S10:S1000) -> 0 | T8: =SUM(T10:T1000) -> 0 | V8: Total | W8: =SUM(W10:W1000) -> 0 | X8: =SUM(X10:X1000) -> 0 | Y8: =SUM(Y10:Y1000) -> 0
A9: Description / Notes | B9: Date | C9: Subtotal | D9: GST/HST Paid | E9: Total | F9: Description / Notes | G9: Date | H9: Subtotal | I9: GST/HST Paid | J9: Total | K9: Description / Notes | L9: Date | M9: Subtotal | N9: GST/HST Paid | O9: Total | P9: Description / Notes | Q9: Date | R9: Subtotal | S9: GST/HST Paid | T9: Total | U9: Description / Notes | V9: Date | W9: Subtotal | X9: GST/HST Paid | Y9: Total
E10: =SUM(C10+D10) -> 0 | J10: =SUM(H10+I10) -> 0 | O10: =SUM(M10+N10) -> 0 | T10: =SUM(R10+S10) -> 0 | Y10: =SUM(W10+X10) -> 0
E11: =SUM(C11+D11) -> 0 | J11: =SUM(H11+I11) -> 0 | O11: =SUM(M11+N11) -> 0 | T11: =SUM(R11+S11) -> 0 | Y11: =SUM(W11+X11) -> 0
E12: =SUM(C12+D12) -> 0 | J12: =SUM(H12+I12) -> 0 | O12: =SUM(M12+N12) -> 0 | T12: =SUM(R12+S12) -> 0 | Y12: =SUM(W12+X12) -> 0
E13: =SUM(C13+D13) -> 0 | J13: =SUM(H13+I13) -> 0 | O13: =SUM(M13+N13) -> 0 | T13: =SUM(R13+S13) -> 0 | Y13: =SUM(W13+X13) -> 0
E14: =SUM(C14+D14) -> 0 | J14: =SUM(H14+I14) -> 0 | O14: =SUM(M14+N14) -> 0 | T14: =SUM(R14+S14) -> 0 | Y14: =SUM(W14+X14) -> 0
E15: =SUM(C15+D15) -> 0 | J15: =SUM(H15+I15) -> 0 | O15: =SUM(M15+N15) -> 0 | T15: =SUM(R15+S15) -> 0 | Y15: =SUM(W15+X15) -> 0
E16: =SUM(C16+D16) -> 0 | J16: =SUM(H16+I16) -> 0 | O16: =SUM(M16+N16) -> 0 | T16: =SUM(R16+S16) -> 0 | Y16: =SUM(W16+X16) -> 0
E17: =SUM(C17+D17) -> 0 | J17: =SUM(H17+I17) -> 0 | O17: =SUM(M17+N17) -> 0 | T17: =SUM(R17+S17) -> 0 | Y17: =SUM(W17+X17) -> 0
E18: =SUM(C18+D18) -> 0 | J18: =SUM(H18+I18) -> 0 | O18: =SUM(M18+N18) -> 0 | T18: =SUM(R18+S18) -> 0 | Y18: =SUM(W18+X18) -> 0
E19: =SUM(C19+D19) -> 0 | J19: =SUM(H19+I19) -> 0 | O19: =SUM(M19+N19) -> 0 | T19: =SUM(R19+S19) -> 0 | Y19: =SUM(W19+X19) -> 0
E20: =SUM(C20+D20) -> 0 | J20: =SUM(H20+I20) -> 0 | O20: =SUM(M20+N20) -> 0 | T20: =SUM(R20+S20) -> 0 | Y20: =SUM(W20+X20) -> 0
E21: =SUM(C21+D21) -> 0 | J21: =SUM(H21+I21) -> 0 | O21: =SUM(M21+N21) -> 0 | T21: =SUM(R21+S21) -> 0 | Y21: =SUM(W21+X21) -> 0
... E1000: =SUM(C1000+D1000) -> 0 | J1000: =SUM(H1000+I1000) -> 0 | O1000: =SUM(M1000+N1000) -> 0 | T1000: =SUM(R1000+S1000) -> 0 | Y1000: =SUM(W1000+X1000) -> 0
