Workbook

Sheet Inputs
A1: Fill All Blue Cells on This Sheet Only
A2: General Info | E2: Rent Roll
A3: Address | B3: 24 Becker | E3: Monthly Rents | F3: Current Rents | G3: Market Rents | H3: Unit Bed / Bath | J3: Mouse over a blue cell for an explanation of the information to fill in that cell.
A4: List Price | B4: 1700000 | E4: Unit 1 | F4: =M17 -> 7300 | G4: =N17 -> 19800 | H4: 44621
A5: Units | B5: 2 | E5: Unit 2 | F5: 0 | G5: 0 | H5: 44593
A6: Sqft | B6: 2432 | E6: Unit 3 | F6: 0 | H6: 44562
A7: ARV | B7: 399000 | E7: Unit 4 | F7: 0 | H7: 44562
A8: Analysis Period | B8: 5 | E8: Unit 5 | F8: 0 | H8: 44562 | J8: VERSION INFO
A9: Acquisition & Rehab Costs | E9: Unit 6 | F9: 0 | H9: 44562 | J9: Date | K9: 44586
A10: Purchase Price | B10: 1700000 | E10: Unit 7 | J10: If there are any formula errors please email info@rochesterpropertysolutions.com | M10: Current
A11: Rehab Cost | B11: 2000 | C11: sheet assumes a 25% buffer | E11: Unit 8 | M11: 1150 | N11: =3*1950 -> 5850
A12: Rehab Time (mo) | B12: 0.5 | E12: Debt | M12: 1500 | N12: =9*1550 -> 13950
A13: Listing time (mo) | B13: 1 | E13: Acquisition Loan (First Position) | M13: 1050
A14: Closing Costs | E14: Loan to Cost | F14: 0.7 | H14: % of purchase price | M14: 1050
A15: Closing Costs | B15: 0.03 | C15: A % of the purchase price | E15: Int rate | F15: 0.065 | M15: 1050
A16: Points | B16: 0 | E16: Term | F16: 25 | H16: years (assumes amortized for entire term) | M16: 1500
A17: Expenses | E17: Amort / IO | F17: Amortized | H17: Amortized or Interest Only | M17: =SUM(M11:M16) -> 7300 | N17: =SUM(N11:N16) -> 19800
A18: Taxes | B18: 25500 | C18: Annual. City/village/county/school | E18: Acquisition Loan (Second Position)
A19: Water | B19: 9000 | C19: Annual | E19: Amount | F19: 100000 | H19: Dollar Amount
A20: Repairs & Maint | B20: 0.08 | C20: % of gross rents | E20: Int rate | F20: 0.1
A21: Management | B21: 0 | C21: % of gross rents | E21: Term | F21: 5 | H21: years (assumes amortized for entire term)
A22: Vacancy | B22: 0.05 | C22: % of gross rents | E22: Amort / IO | F22: Interest Only | H22: Amortized or Interest Only
A23: Trash/utilities | B23: 4700 | C23: Annual | E23: Refinance Loan
E24: LTC | F24: 0.8 | H24: % of ARV
E25: Int rate | F25: 0.0625
E26: Term | F26: 25 | H26: years (assumes amortized for entire term)
E27: Amort / IO | F27: Amortized | H27: Amortized or Interest Only

Sheet Full Calc
A1: Full Rental Calc Worksheet
A2: Gray Cells Pull From Inputs Tab - DO NOT EDIT THEM ON THIS TAB | F2: Pink Cells Are Stabilized Values | J2: Advanced (read Instructions)
A3: General Info | G3: Returns Summary | M3: 5 Year debt paydown (post stabilized)
A4: Address | B4: =Inputs!B3 -> 24 Becker | D4: Est ARV | E4: =Inputs!B7 -> 399000 | G4: Monthly CF/unit | H4: =(H25/12)/B6 -> #NAME? | J4: Monthly CF/unit | K4: =(K25/12)/B6 -> #NAME? | M4: Debt Paydown | N4: 1 | O4: =SUM('Amort Table (REFI)'!E6:E17) -> #NAME?
A5: List Price | B5: =Inputs!B4 -> 1700000 | D5: Cash Out Value | E5: =J40 -> #NAME? | G5: Monthly CF | H5: =H25/12 -> #NAME? | J5: Monthly CF | K5: =K25/12 -> #NAME? | M5: ROI on Paydown | N5: 1 | O5: =IF(O4/-$E$5<0,"∞",O4/-$E$5) -> #NAME?
A6: Units | B6: =Inputs!B5 -> 2 | D6: Max Purchase Price | E6: =J39-B13-B14-B15 -> #NAME? | G6: COC ROI | H6: =H25/E7 -> #NAME? | J6: COC ROI | K6: =IF((K25/-E5)>0,K25/-E5,"∞") -> #NAME? | M6: Debt Paydown | N6: 2 | O6: =SUM('Amort Table (REFI)'!E18:E29) -> #NAME?
A7: Sqft | B7: 4534 | D7: PM Required | E7: =J37 -> #NAME? | G7: Cap Rate | H7: =H24/B17 -> #NAME? | J7: Cap Rate | K7: =K24/B17 -> #NAME? | M7: ROI on Paydown | N7: 2 | O7: =IF(O6/-$E$5<0,"∞",O6/-$E$5) -> #NAME?
G8: Monthly NOI | H8: =H23/12 -> 2102.25 | J8: Monthly NOI | K8: =K23/12 -> 13050.583 | M8: Debt Paydown | N8: 3 | O8: =SUM('Amort Table (REFI)'!E30:E41) -> #NAME?
G9: DSCR | H9: =H23/H24 -> #NAME? | J9: DSCR | K9: =K23/K24 -> #NAME? | M9: ROI on Paydown | N9: 3 | O9: =IF(O8/-$E$5<0,"∞",O8/-$E$5) -> #NAME?
M10: Debt Paydown | N10: 4 | O10: =SUM('Amort Table (REFI)'!E42:E53) -> #NAME?
A11: Acquisition Costs | D11: Turnover Plan | G11: Operating Costs | M11: ROI on Paydown | N11: 4 | O11: =IF(O10/-$E$5<0,"∞",O10/-$E$5) -> #NAME?
A12: Purchase Price | B12: =Inputs!B10 -> 1700000 | D12: Rehab Cost | E12: =Inputs!B11 -> 2000 | G12: IN PLACE | J12: STABILIZED | M12: Debt Paydown | N12: 5 | O12: =SUM('Amort Table (REFI)'!E54:E65) -> #NAME?
A13: Rehab Cost + Buffer | B13: =E12+E13 -> 3000 | D13: Rehab Buffer (50%) | E13: =E12*0.5 -> 1000 | G13: Gross Rents | H13: =C31*12 -> 87600 | J13: Gross Rents | K13: =E31*12 -> 237600 | M13: ROI on Paydown | N13: 5 | O13: =IF(O12/-$E$5<0,"∞",O12/-$E$5) -> #NAME?
A14: Cash to Close | B14: =B38 -> 20000 | D14: Rehab Time (mo) | E14: =Inputs!B12 -> 0.5 | G14: Taxes | H14: =Inputs!B18 -> 25500 | J14: Taxes | K14: =H14 -> 25500
A15: Holding Costs | B15: =((H22/12)+(H24/12))*E16 -> #NAME? | D15: Listing Time (mo) | E15: =Inputs!B13 -> 1 | G15: Sewage/Water | H15: =Inputs!B19 -> 9000 | J15: Sewage/Water | K15: =H15 -> 9000 | M15: 5 Year Tax Deductions (post stabilized)
A16: Acquisition Fee | B16: =H29 -> 0 | D16: Total Holding Time | E16: =SUM(E14:E15)*1.5 -> 2.25 | G16: Trash/utilities | H16: =Inputs!B23 -> 4700 | J16: Trash/utilities | K16: =H16 -> 4700 | M16: Depreciation | N16: 1 | O16: =B12/27.5 -> 61818.182
A17: Total Cost | B17: =SUM(B12:B16)-B37 -> #NAME? | G17: Insurance | H17: =B12*0.005 -> 8500 | J17: Insurance | K17: =E4*0.005 -> 1995 | M17: Int paid | N17: 1 | O17: =SUM('Amort Table (REFI)'!D6:D17) -> #NAME?
A18: Cost /unit | B18: =B17/B6 -> #NAME? | G18: Management | H18: =H13*Inputs!B21 -> 0 | J18: Management | K18: =K13*Inputs!B21 -> 0 | M18: Total Deduductions | N18: 1 | O18: =SUM(O16:O17) -> #NAME?
G19: Repairs | H19: =H13*Inputs!B20 -> 7008 | J19: Repairs | K19: =K13*Inputs!B20 -> 19008 | M19: Depreciation | N19: 2 | O19: =B12/27.5 -> 61818.182
A20: Rent Roll | G20: CapEx (3.75%) | H20: =H13*0.0375 -> 3285 | J20: CapEx (3.75%) | K20: =K13*0.0375 -> 8910 | M20: Int paid | N20: 2 | O20: =SUM('Amort Table (REFI)'!D18:D29) -> #NAME?
A21: Annual Rent Growth | C21: 0.02 | G21: Vacancy | H21: =H13*Inputs!B22 -> 4380 | J21: Vacancy | K21: =K13*Inputs!B22 -> 11880 | M21: Total Deduductions | N21: 2 | O21: =SUM(O19:O20) -> #NAME?
A22: Unit # | B22: Bd/ba | C22: Rent | E22: Market Rent | G22: Annual OpEx | H22: =SUM(H14:H21) -> 62373 | J22: Annual OpEx | K22: =SUM(K14:K21) -> 80993 | M22: Depreciation | N22: 3 | O22: =B12/27.5 -> 61818.182
A23: 1 | B23: =Inputs!H4 -> 44621 | D23: =Inputs!F4 -> 7300 | E23: =Inputs!G4 -> 19800 | G23: Annual NOI | H23: =H13-H22 -> 25227 | J23: Annual NOI | K23: =K13-K22 -> 156607 | M23: Int paid (stabilized) | N23: 3 | O23: =SUM('Amort Table (REFI)'!D30:D41) -> #NAME?
A24: 2 | B24: =Inputs!H5 -> 44593 | D24: =Inputs!F5 -> 0 | E24: =Inputs!G5 -> 0 | G24: - Debt Service | H24: =SUM(K35:K36)*12 -> #NAME? | J24: - Debt Service | K24: =SUM(K39:K40)*12 -> #NAME? | M24: Total Deduductions | N24: 3 | O24: =SUM(O22:O23) -> #NAME?
A25: 3 | B25: =Inputs!H6 -> 44562 | D25: =Inputs!F6 -> 0 | E25: =Inputs!G6 -> 0 | G25: Annual CF | H25: =H23-H24 -> #NAME? | J25: Annual CF | K25: =K23-K24 -> #NAME? | M25: Depreciation | N25: 4 | O25: =B12/27.5 -> 61818.182
A26: 4 | B26: =Inputs!H7 -> 44562 | D26: =Inputs!F7 -> 0 | E26: =Inputs!G7 -> 0 | M26: Int paid (stabilized) | N26: 4 | O26: =SUM('Amort Table (REFI)'!D42:D53) -> #NAME?
A27: 5 | B27: =Inputs!H8 -> 44562 | D27: =Inputs!F8 -> 0 | E27: =Inputs!G8 -> 0 | G27: Acquisition Fee | J27: Analysis Period | M27: Total Deduductions | N27: 4 | O27: =SUM(O25:O26) -> #NAME?
A28: 6 | B28: =Inputs!H9 -> 44562 | D28: =Inputs!F9 -> 0 | E28: =Inputs!G9 -> 0 | G28: Fee | H28: 0 | J28: End of Year | K28: 5 | M28: Depreciation | N28: 5 | O28: =B12/27.5 -> 61818.182
A29: 7 | B29: =Inputs!H10 -> 0 | D29: =Inputs!F10 -> 0 | E29: =Inputs!G10 -> 0 | G29: Fee Amount | H29: =H28*B12 -> 0 | M29: Int paid (stabilized) | N29: 5 | O29: =SUM('Amort Table (REFI)'!D54:D65) -> #NAME?
A30: 8 | B30: =Inputs!H11 -> 0 | D30: =Inputs!F11 -> 0 | E30: =Inputs!G11 -> 0 | M30: Total Deduductions | N30: 5 | O30: =SUM(O28:O29) -> #NAME?
A31: Total | C31: =SUM(C23:D30) -> 7300 | E31: =SUM(E23:E30) -> 19800 | M31: % annual ROI on tax savings
A33: Closing Costs | D33: Capital Stack | M33: Average annualized % appreciation
A34: Closing Costs | B34: =B12*Inputs!B15 -> 51000 | D34: Sources | E34: Term (yrs) | G34: Interest | H34: LTC | J34: Loan Amount | K34: Payment | M34: Rate | N34: 0.0225
A35: Points | B35: 2 | D35: First Position | E35: =Inputs!F16 -> 25 | F35: =IF(Inputs!F17="Amortized", "AM", "IO") -> AM | G35: =Inputs!F15 -> 0.065 | H35: =Inputs!F14 -> 0.7 | I35: % | J35: {=_xludf.IFS(I35="%",((H35)*$B$12),I35="$",H35)} -> #NAME? | K35: {=_xludf.IFS(F35="am",(-PMT((G35/12),(E35*12),J35)*12),F35="IO",J35*G35)/12} -> #NAME? | M35: End of year | N35: Est Value | O35: Annual Gain
A36: Points Charge | B36: =(J35*B35)/100 -> #NAME? | D36: Second Position | E36: =Inputs!F21 -> 5 | F36: =IF(Inputs!F22="Amortized", "AM", "IO") -> IO | G36: =Inputs!F20 -> 0.1 | H36: =Inputs!F19 -> 100000 | I36: $ | J36: {=_xludf.IFS(I36="%",((H36)*$B$12),I36="$",H36)} -> #NAME? | K36: {=_xludf.IFS(F36="am",(-PMT((G36/12),(E36*12),J36)*12),F36="IO",J36*G36)/12} -> #NAME? | M36: 1 | N36: =E4*(1+N34) -> 407977.5 | O36: =N36-E4 -> 8977.5
A37: Down Payment | B37: =IF(B12-(J35+J36)<0,0,B12-(J35+J36)) -> #NAME? | D37: Equity | J37: =B17-J35-J36 -> #NAME? | K37: =(J37*G37)/12 -> #NAME? | M37: 2 | N37: =N36*(1+N34) -> 417156.99 | O37: =N37-N36 -> 9179.4937
A38: Total | B38: 20000 | D38: STABILIZED | M38: 3 | N38: =N37*(1+N34) -> 426543.03 | O38: =N38-N37 -> 9386.0324
D39: Refinance | E39: =Inputs!F26 -> 25 | F39: =IF(Inputs!F27="Amortized", "AM", "IO") -> AM | G39: =Inputs!F25 -> 0.0625 | H39: =Inputs!F24 -> 0.8 | I39: % | J39: {=_xludf.IFS(I39="%",((H39)*E4),I39="$",H39)} -> #NAME? | K39: {=_xludf.IFS(F39="am",(-PMT((G39/12),(E39*12),J39)*12),F39="IO",J39*G39)/12} -> #NAME? | M39: 4 | N39: =N38*(1+N34) -> 436140.24 | O39: =N39-N38 -> 9597.2181
D40: Equity | J40: =J39-B17 -> #NAME? | K40: =(J40*G40)/12 -> #NAME? | M40: 5 | N40: =N39*(1+N34) -> 445953.4 | O40: =N40-N39 -> 9813.1555
H42: Total Return (% of cash left in) (post stabilized)
...

Sheet BRRRR Summary
A1: ='Full Calc'!B4 -> 24 Becker
A2: INVESTMENT DESCRIPTION
A3: Address | B3: ='Full Calc'!B4 -> 24 Becker | C3: Investment Summary Purchasing a single family home in the 12345 zip code. Total renovation job, new kitchen, baths, beds, floors, walls, etc.
A4: Units | B4: ='Full Calc'!B6 -> 2
A5: Total SF | B5: ='Full Calc'!B7&" sqft" -> 4534 sqft
A6: KEY ASSUMPTIONS AND RETURN METRICS
B7: Stabilized | C7: ="End of Year "&'Full Calc'!K28 -> End of Year 5 | D7: PRO FORMA (MONTHLY) | E7: In Place | F7: Stabilized | G7: ="End of Year "&'Full Calc'!K28 -> End of Year 5
A8: Project Cost | B8: ='Full Calc'!B17 -> #NAME? | C8: - | D8: Effective Gross Revenue | E8: ='Full Calc'!H13/12 -> 7300 | F8: ='Full Calc'!K13/12 -> 19800 | G8: ='Returns Projection'!H3/12 -> 21860.8
A9: /unit | B9: ='Full Calc'!B18 -> #NAME? | C9: - | D9: - Operating Expenses | E9: =-'Full Calc'!H22/12 -> -5197.75 | F9: =-'Full Calc'!K22/12 -> -6749.4167 | G9: =-1*'Returns Projection'!H12/12 -> -7114.1646
A10: Valuation | B10: ='Full Calc'!E4 -> 399000 | C10: =VLOOKUP('Full Calc'!K28,'Returns Projection'!A2:D31,3) -> 445953.4 | D10: Net Operating Income | E10: ='Full Calc'!H23/12 -> 2102.25 | F10: ='Full Calc'!K23/12 -> 13050.583 | G10: ='Returns Projection'!H13/12 -> 14746.635
A11: /unit | B11: =B10/'Full Calc'!B6 -> 199500 | C11: =C10/'Full Calc'!B6 -> 222976.7 | D11: - Debt Service | E11: =-'Full Calc'!H24/12 -> #NAME? | F11: =-'Full Calc'!K24/12 -> #NAME? | G11: =-1*'Returns Projection'!H14/12 -> #NAME?
A12: Loan Amount | B12: =-'Full Calc'!J39 -> #NAME? | C12: =-VLOOKUP('Full Calc'!K28,'Returns Projection'!A2:D31,4) -> #NAME? | D12: Cash Flow after Financing | E12: ='Full Calc'!H25/12 -> #NAME? | F12: ='Full Calc'!K25/12 -> #NAME? | G12: ='Returns Projection'!H15/12 -> #NAME?
A13: Equity | B13: =B10-B8 -> #NAME? | C13: =VLOOKUP('Full Calc'!K28,'Returns Projection'!A2:D31,3)-VLOOKUP('Full Calc'!K28,'Returns Projection'!A2:D31,4)+'Full Calc'!E5 -> #NAME? | D13: /unit/mo | E13: ='Full Calc'!H4/12 -> #NAME? | F13: ='Full Calc'!K4/12 -> #NAME? | G13: =G12/'Full Calc'!B6/12 -> #NAME?
A14: Cash out amt | B14: ='Full Calc'!E5 -> #NAME? | C14: =(C10*0.75)+C12 -> #NAME? | D14: COC ROI | E14: ='Full Calc'!H6 -> #NAME? | F14: ='Full Calc'!K6 -> #NAME? | G14: =IF(-('Returns Projection'!H15)/'Full Calc'!E5<0,"∞",-('Returns Projection'!H15)/'Full Calc'!E5) -> #NAME?
A15: SOURCES | C15: USES | E15: 5 year Wealth Generation Forecast
A16: ='Full Calc'!D35 -> First Position | B16: ='Full Calc'!J35 -> #NAME? | C16: Acq. Costs | D16: ='Full Calc'!B12+'Full Calc'!B14+'Full Calc'!B16-'Full Calc'!B37 -> #NAME? | E16: Cash out Refi | F16: =B14 -> #NAME?
A17: ='Full Calc'!D36 -> Second Position | B17: ='Full Calc'!J36 -> #NAME? | C17: Rehab Costs | D17: ='Full Calc'!B13 -> 3000 | E17: 5 yr cash flow | F17: =SUM('Full Calc'!I44:O44) -> #NAME?
A18: ='Full Calc'!D37 -> Equity | B18: ='Full Calc'!J37 -> #NAME? | C18: Holding Costs | D18: ='Full Calc'!B15 -> #NAME? | E18: 5yr debt paydown | F18: =SUM('Full Calc'!I45:O45) -> #NAME?
A19: Total Sources | B19: =SUM(B16:B18) -> #NAME? | C19: Total Uses | D19: =SUM(D16:D18) -> #NAME? | E19: 5yr appreciation | F19: =SUM('Full Calc'!I46:O46) -> 46953.4 | G19: Tax Bracket
E20: 5yr tax savings | F20: =(SUM('Full Calc'!O18+'Full Calc'!O21+'Full Calc'!O24+'Full Calc'!O27+'Full Calc'!O30))*G20 -> #NAME? | G20: 0.28
E21: Total | F21: =SUM(F16:F20) -> #NAME?

Sheet Flip Summary
A1: ='Full Calc'!B4 -> 24 Becker
A2: INVESTMENT DESCRIPTION
A3: Address | B3: ='Full Calc'!B4 -> 24 Becker | C3: Investment Summary Purchasing 3x duplexes in an ideal location in the 12345 zip code. All occupied 2/1 apts. We are raising enough holding cost for 50% nonpayment for 12 months. We will slowly renovate and replace tenants over the next 2-3 years to reach market rents.
A4: Units | B4: ='Full Calc'!B6 -> 2
A5: Total SF | B5: ='Full Calc'!B7&" sqft" -> 4534 sqft
A6: KEY ASSUMPTIONS AND RETURN METRICS
B7: Stabilized | C7: /unit
A8: Sale Price | B8: ='Full Calc'!E4 -> 399000 | C8: =B8/'Full Calc'!B6 -> 199500
A9: Project Cost | B9: =-1*('Full Calc'!B17-'Full Calc'!B15+((('Full Calc'!H24+'Full Calc'!H14+'Full Calc'!H17)/12)*'Full Calc'!E16)) -> #NAME? | C9: =B9/B4 -> #NAME? | D9: Holding costs adjusted to just PITI. Will not match inputs projected cost b/c holding costs are adjusted for flip calc only.
A10: Comission | B10: =-C10*B8 -> -23940 | C10: 0.06 | D10: For the listing agent & buyers agent
A11: Closing Costs | B11: =-C11*B8 -> -19950 | C11: 0.05 | D11: Ask your atty for your state's standard assumption
A12: Staging Costs | B12: -1500 | C12: - | D12: Use negative value
A13: Proceeds | B13: =B8+B9+B10+B11+B12 -> #NAME? | C13: -
A14: SOURCES | D14: USES
A15: ='Full Calc'!D35 -> First Position | B15: ='Full Calc'!J35 -> #NAME? | D15: Acq. Costs | F15: ='Full Calc'!B12+'Full Calc'!B14+'Full Calc'!B16-'Full Calc'!B37 -> #NAME?
A16: ='Full Calc'!D36 -> Second Position | B16: ='Full Calc'!J36 -> #NAME? | D16: Rehab Costs | F16: ='Full Calc'!B13 -> 3000
A17: ='Full Calc'!D37 -> Equity | B17: ='Full Calc'!J37-'Full Calc'!B15+F17 -> #NAME? | D17: Holding Costs (just PITI) | F17: =(('Full Calc'!H24+'Full Calc'!H14+'Full Calc'!H17)/12)*'Full Calc'!E16 -> #NAME?
A18: Total Sources | B18: =SUM(B15:B17) -> #NAME? | D18: Total Uses | F18: =SUM(F15:F17) -> #NAME?

Sheet Instructions
A1: Inputs
A2: Input Cells
A4: white cells are formulas or fixed values, do not change them
A5: Light orange cells correspond to the stabilized period (post refinance, if you are doing one)
A6: BRRRR sheet assumes 24 months using the bridge financing. At month 24 it assumes you're reached market rents, and refinanced the asset.
A8: Inputting a property without a bridge loan (turnkey acquisition w/bank debt)
A9: input bank financing terms into the 'stabilized' debt capital stack section & the first position in place loan (capital stack will be the same for stabilized and in place)
A10: Input your purchase price in the purchase price & ARV block
A11: Cash out value' is the cash you are leaving in the deal
A12: Analysis Period The model will project out returns at the end of the given analysis period on the BRRRR Summary tab. Equity position, refinance potential, and cash flows
A13: Acquisition Fee Sometimes this fee is charged by the operators of a deal. The calculations for this vary, but in our sheet it's 2% of the total project cost - holding costs. e.g. if you're going to do all the work, and your partner will bring all the money, you may split things 50/50, but also take a 2% acquisition fee when you close.

Sheet Returns Projection
A1: End of year | B1: Rents | C1: Valuation | D1: Loan Balance | G1: End of Analysis Period | J1: End of Year 1 | M1: End of Year 2
A2: 1 | B2: ='Full Calc'!E31*(1+'Full Calc'!$C$21) -> 20196 | C2: =('Full Calc'!E4*(1+'Full Calc'!$N$34)) -> 407977.5 | D2: =IF(VLOOKUP(A2*12,'Amort Table (REFI)'!$A$5:$F$365,6)<0,0,VLOOKUP(A2*12,'Amort Table (REFI)'!$A$5:$F$365,6)) -> #NAME? | G2: Annual OpEx | J2: Annual OpEx | M2: Annual OpEx
A3: 2 | B3: =B2*(1+'Full Calc'!$C$21) -> 20599.92 | C3: =C2*(1+'Full Calc'!$N$34) -> 417156.99 | D3: =IF(VLOOKUP(A3*12,'Amort Table (REFI)'!$A$5:$F$365,6)<0,0,VLOOKUP(A3*12,'Amort Table (REFI)'!$A$5:$F$365,6)) -> #NAME? | G3: Gross Rents | H3: =VLOOKUP('Full Calc'!K28,A2:D31,2)*12 -> 262329.6 | J3: Gross Rents | K3: =$B2*12 -> 242352 | M3: Gross Rents | N3: =$B3*12 -> 247199.04
A4: 3 | B4: =B3*(1+'Full Calc'!$C$21) -> 21011.918 | C4: =C3*(1+'Full Calc'!$N$34) -> 426543.03 | D4: =IF(VLOOKUP(A4*12,'Amort Table (REFI)'!$A$5:$F$365,6)<0,0,VLOOKUP(A4*12,'Amort Table (REFI)'!$A$5:$F$365,6)) -> #NAME? | G4: Taxes | H4: ='Full Calc'!K14 -> 25500 | J4: Taxes | K4: =H4 -> 25500 | M4: Taxes | N4: =K4 -> 25500
A5: 4 | B5: =B4*(1+'Full Calc'!$C$21) -> 21432.157 | C5: =C4*(1+'Full Calc'!$N$34) -> 436140.24 | D5: =IF(VLOOKUP(A5*12,'Amort Table (REFI)'!$A$5:$F$365,6)<0,0,VLOOKUP(A5*12,'Amort Table (REFI)'!$A$5:$F$365,6)) -> #NAME? | G5: Sewage/Water | H5: ='Full Calc'!K15 -> 9000 | J5: Sewage/Water | K5: =H5 -> 9000 | M5: Sewage/Water | N5: =K5 -> 9000
A6: 5 | B6: =B5*(1+'Full Calc'!$C$21) -> 21860.8 | C6: =C5*(1+'Full Calc'!$N$34) -> 445953.4 | D6: =IF(VLOOKUP(A6*12,'Amort Table (REFI)'!$A$5:$F$365,6)<0,0,VLOOKUP(A6*12,'Amort Table (REFI)'!$A$5:$F$365,6)) -> #NAME? | G6: Trash | H6: ='Full Calc'!K16 -> 4700 | J6: Trash | K6: =$H$6 -> 4700 | M6: Trash | N6: =$H$6 -> 4700
A7: 6 | B7: =B6*(1+'Full Calc'!$C$21) -> 22298.016 | C7: =C6*(1+'Full Calc'!$N$34) -> 455987.35 | D7: =IF(VLOOKUP(A7*12,'Amort Table (REFI)'!$A$5:$F$365,6)<0,0,VLOOKUP(A7*12,'Amort Table (REFI)'!$A$5:$F$365,6)) -> #NAME? | G7: Insurance | H7: =VLOOKUP('Full Calc'!K28,A2:D31,3)*0.005 -> 2229.767 | J7: Insurance | K7: =$C2*0.005 -> 2039.8875 | M7: Insurance | N7: =$C2*0.005 -> 2039.8875
A8: 7 | B8: =B7*(1+'Full Calc'!$C$21) -> 22743.976 | C8: =C7*(1+'Full Calc'!$N$34) -> 466247.07 | D8: =IF(VLOOKUP(A8*12,'Amort Table (REFI)'!$A$5:$F$365,6)<0,0,VLOOKUP(A8*12,'Amort Table (REFI)'!$A$5:$F$365,6)) -> #NAME? | G8: Management | H8: =H3*Inputs!B21 -> 0 | J8: Management | K8: =K3*Inputs!$B$21 -> 0 | M8: Management | N8: =N3*Inputs!$B$21 -> 0
A9: 8 | B9: =B8*(1+'Full Calc'!$C$21) -> 23198.856 | C9: =C8*(1+'Full Calc'!$N$34) -> 476737.63 | D9: =IF(VLOOKUP(A9*12,'Amort Table (REFI)'!$A$5:$F$365,6)<0,0,VLOOKUP(A9*12,'Amort Table (REFI)'!$A$5:$F$365,6)) -> #NAME? | G9: Repairs | H9: =H3*Inputs!B20 -> 20986.368 | J9: Repairs | K9: =K3*Inputs!$B$20 -> 19388.16 | M9: Repairs | N9: =N3*Inputs!$B$20 -> 19775.923
A10: 9 | B10: =B9*(1+'Full Calc'!$C$21) -> 23662.833 | C10: =C9*(1+'Full Calc'!$N$34) -> 487464.22 | D10: =IF(VLOOKUP(A10*12,'Amort Table (REFI)'!$A$5:$F$365,6)<0,0,VLOOKUP(A10*12,'Amort Table (REFI)'!$A$5:$F$365,6)) -> #NAME? | G10: CapEx (3.75%) | H10: =H3*0.0375 -> 9837.36 | J10: CapEx (3.75%) | K10: =K3*0.0375 -> 9088.2 | M10: CapEx (3.75%) | N10: =N3*0.0375 -> 9269.964
A11: 10 | B11: =B10*(1+'Full Calc'!$C$21) -> 24136.09 | C11: =C10*(1+'Full Calc'!$N$34) -> 498432.17 | D11: =IF(VLOOKUP(A11*12,'Amort Table (REFI)'!$A$5:$F$365,6)<0,0,VLOOKUP(A11*12,'Amort Table (REFI)'!$A$5:$F$365,6)) -> #NAME? | G11: Vacancy | H11: =H3*Inputs!B22 -> 13116.48 | J11: Vacancy | K11: =K3*Inputs!$B$22 -> 12117.6 | M11: Vacancy | N11: =N3*Inputs!$B$22 -> 12359.952
A12: 11 | B12: =B11*(1+'Full Calc'!$C$21) -> 24618.811 | C12: =C11*(1+'Full Calc'!$N$34) -> 509646.89 | D12: =IF(VLOOKUP(A12*12,'Amort Table (REFI)'!$A$5:$F$365,6)<0,0,VLOOKUP(A12*12,'Amort Table (REFI)'!$A$5:$F$365,6)) -> #NAME? | G12: Annual OpEx | H12: =SUM(H4:H11) -> 85369.975 | J12: Annual OpEx | K12: =SUM(K4:K11) -> 81833.848 | M12: Annual OpEx | N12: =SUM(N4:N11) -> 82645.727
A13: 12 | B13: =B12*(1+'Full Calc'!$C$21) -> 25111.188 | C13: =C12*(1+'Full Calc'!$N$34) -> 521113.95 | D13: =IF(VLOOKUP(A13*12,'Amort Table (REFI)'!$A$5:$F$365,6)<0,0,VLOOKUP(A13*12,'Amort Table (REFI)'!$A$5:$F$365,6)) -> #NAME? | G13: Annual NOI | H13: =H3-H12 -> 176959.62 | J13: Annual NOI | K13: =K3-K12 -> 160518.15 | M13: Annual NOI | N13: =N3-N12 -> 164553.31
A14: 13 | B14: =B13*(1+'Full Calc'!$C$21) -> 25613.411 | C14: =C13*(1+'Full Calc'!$N$34) -> 532839.01 | D14: =IF(VLOOKUP(A14*12,'Amort Table (REFI)'!$A$5:$F$365,6)<0,0,VLOOKUP(A14*12,'Amort Table (REFI)'!$A$5:$F$365,6)) -> #NAME? | G14: - Debt Service | H14: ='Full Calc'!K24 -> #NAME? | J14: - Debt Service | K14: ='Full Calc'!K24 -> #NAME? | M14: - Debt Service | N14: ='Full Calc'!K24 -> #NAME?
A15: 14 | B15: =B14*(1+'Full Calc'!$C$21) -> 26125.68 | C15: =C14*(1+'Full Calc'!$N$34) -> 544827.89 | D15: =IF(VLOOKUP(A15*12,'Amort Table (REFI)'!$A$5:$F$365,6)<0,0,VLOOKUP(A15*12,'Amort Table (REFI)'!$A$5:$F$365,6)) -> #NAME? | G15: Annual CF | H15: =H13-H14 -> #NAME? | J15: Annual CF | K15: =K13-K14 -> #NAME? | M15: Annual CF | N15: =N13-N14 -> #NAME?
A16: 15 | B16: =B15*(1+'Full Calc'!$C$21) -> 26648.193 | C16: =C15*(1+'Full Calc'!$N$34) -> 557086.51 | D16: =IF(VLOOKUP(A16*12,'Amort Table (REFI)'!$A$5:$F$365,6)<0,0,VLOOKUP(A16*12,'Amort Table (REFI)'!$A$5:$F$365,6)) -> #NAME?
A17: 16 | B17: =B16*(1+'Full Calc'!$C$21) -> 27181.157 | C17: =C16*(1+'Full Calc'!$N$34) -> 569620.96 | D17: =IF(VLOOKUP(A17*12,'Amort Table (REFI)'!$A$5:$F$365,6)<0,0,VLOOKUP(A17*12,'Amort Table (REFI)'!$A$5:$F$365,6)) -> #NAME? | G17: End of Year 3 | J17: End of Year 4 | M17: End of Year 5
A18: 17 | B18: =B17*(1+'Full Calc'!$C$21) -> 27724.78 | C18: =C17*(1+'Full Calc'!$N$34) -> 582437.43 | D18: =IF(VLOOKUP(A18*12,'Amort Table (REFI)'!$A$5:$F$365,6)<0,0,VLOOKUP(A18*12,'Amort Table (REFI)'!$A$5:$F$365,6)) -> #NAME? | G18: Annual OpEx | J18: Annual OpEx | M18: Annual OpEx
A19: 18 | B19: =B18*(1+'Full Calc'!$C$21) -> 28279.276 | C19: =C18*(1+'Full Calc'!$N$34) -> 595542.28 | D19: =IF(VLOOKUP(A19*12,'Amort Table (REFI)'!$A$5:$F$365,6)<0,0,VLOOKUP(A19*12,'Amort Table (REFI)'!$A$5:$F$365,6)) -> #NAME? | G19: Gross Rents | H19: =B4*12 -> 252143.02 | J19: Gross Rents | K19: =B5*12 -> 257185.88 | M19: Gross Rents | N19: =B6*12 -> 262329.6
A20: 19 | B20: =B19*(1+'Full Calc'!$C$21) -> 28844.861 | C20: =C19*(1+'Full Calc'!$N$34) -> 608941.98 | D20: =IF(VLOOKUP(A20*12,'Amort Table (REFI)'!$A$5:$F$365,6)<0,0,VLOOKUP(A20*12,'Amort Table (REFI)'!$A$5:$F$365,6)) -> #NAME? | G20: Taxes | H20: =$H$4 -> 25500 | J20: Taxes | K20: =$H$4 -> 25500 | M20: Taxes | N20: =$H$4 -> 25500
A21: 20 | B21: =B20*(1+'Full Calc'!$C$21) -> 29421.758 | C21: =C20*(1+'Full Calc'!$N$34) -> 622643.17 | D21: =IF(VLOOKUP(A21*12,'Amort Table (REFI)'!$A$5:$F$365,6)<0,0,VLOOKUP(A21*12,'Amort Table (REFI)'!$A$5:$F$365,6)) -> #NAME? | G21: Sewage/Water | H21: =$H$5 -> 9000 | J21: Sewage/Water | K21: =$H$5 -> 9000 | M21: Sewage/Water | N21: =$H$5 -> 9000
A22: 21 | B22: =B21*(1+'Full Calc'!$C$21) -> 30010.194 | C22: =C21*(1+'Full Calc'!$N$34) -> 636652.64 | D22: =IF(VLOOKUP(A22*12,'Amort Table (REFI)'!$A$5:$F$365,6)<0,0,VLOOKUP(A22*12,'Amort Table (REFI)'!$A$5:$F$365,6)) -> #NAME? | G22: Trash | H22: =$H$6 -> 4700 | J22: Trash | K22: =$H$6 -> 4700 | M22: Trash | N22: =$H$6 -> 4700
A23: 22 | B23: =B22*(1+'Full Calc'!$C$21) -> 30610.397 | C23: =C22*(1+'Full Calc'!$N$34) -> 650977.33 | D23: =IF(VLOOKUP(A23*12,'Amort Table (REFI)'!$A$5:$F$365,6)<0,0,VLOOKUP(A23*12,'Amort Table (REFI)'!$A$5:$F$365,6)) -> #NAME? | G23: Insurance | H23: =$C18*0.005 -> 2912.1872 | J23: Insurance | K23: =$C18*0.005 -> 2912.1872 | M23: Insurance | N23: =$C18*0.005 -> 2912.1872
A24: 23 | B24: =B23*(1+'Full Calc'!$C$21) -> 31222.605 | C24: =C23*(1+'Full Calc'!$N$34) -> 665624.32 | D24: =IF(VLOOKUP(A24*12,'Amort Table (REFI)'!$A$5:$F$365,6)<0,0,VLOOKUP(A24*12,'Amort Table (REFI)'!$A$5:$F$365,6)) -> #NAME? | G24: Management | H24: =H19*Inputs!$B$21 -> 0 | J24: Management | K24: =K19*Inputs!$B$21 -> 0 | M24: Management | N24: =N19*Inputs!$B$21 -> 0
A25: 24 | B25: =B24*(1+'Full Calc'!$C$21) -> 31847.058 | C25: =C24*(1+'Full Calc'!$N$34) -> 680600.86 | D25: =IF(VLOOKUP(A25*12,'Amort Table (REFI)'!$A$5:$F$365,6)<0,0,VLOOKUP(A25*12,'Amort Table (REFI)'!$A$5:$F$365,6)) -> #NAME? | G25: Repairs | H25: =H19*Inputs!$B$20 -> 20171.442 | J25: Repairs | K25: =K19*Inputs!$B$20 -> 20574.87 | M25: Repairs | N25: =N19*Inputs!$B$20 -> 20986.368
A26: 25 | B26: =B25*(1+'Full Calc'!$C$21) -> 32483.999 | C26: =C25*(1+'Full Calc'!$N$34) -> 695914.38 | D26: =IF(VLOOKUP(A26*12,'Amort Table (REFI)'!$A$5:$F$365,6)<0,0,VLOOKUP(A26*12,'Amort Table (REFI)'!$A$5:$F$365,6)) -> #NAME? | G26: CapEx (3.75%) | H26: =H19*0.0375 -> 9455.3633 | J26: CapEx (3.75%) | K26: =K19*0.0375 -> 9644.4705 | M26: CapEx (3.75%) | N26: =N19*0.0375 -> 9837.36
A27: 26 | B27: =B26*(1+'Full Calc'!$C$21) -> 33133.679 | C27: =C26*(1+'Full Calc'!$N$34) -> 711572.46 | D27: =IF(VLOOKUP(A27*12,'Amort Table (REFI)'!$A$5:$F$365,6)<0,0,VLOOKUP(A27*12,'Amort Table (REFI)'!$A$5:$F$365,6)) -> #NAME? | G27: Vacancy | H27: =H19*Inputs!$B$22 -> 12607.151 | J27: Vacancy | K27: =K19*Inputs!$B$22 -> 12859.294 | M27: Vacancy | N27: =N19*Inputs!$B$22 -> 13116.48
A28: 27 | B28: =B27*(1+'Full Calc'!$C$21) -> 33796.352 | C28: =C27*(1+'Full Calc'!$N$34) -> 727582.84 | D28: =IF(VLOOKUP(A28*12,'Amort Table (REFI)'!$A$5:$F$365,6)<0,0,VLOOKUP(A28*12,'Amort Table (REFI)'!$A$5:$F$365,6)) -> #NAME? | G28: Annual OpEx | H28: =SUM(H20:H27) -> 84346.143 | J28: Annual OpEx | K28: =SUM(K20:K27) -> 85190.822 | M28: Annual OpEx | N28: =SUM(N20:N27) -> 86052.395
A29: 28 | B29: =B28*(1+'Full Calc'!$C$21) -> 34472.279 | C29: =C28*(1+'Full Calc'!$N$34) -> 743953.45 | D29: =IF(VLOOKUP(A29*12,'Amort Table (REFI)'!$A$5:$F$365,6)<0,0,VLOOKUP(A29*12,'Amort Table (REFI)'!$A$5:$F$365,6)) -> #NAME? | G29: Annual NOI | H29: =H19-H28 -> 167796.88 | J29: Annual NOI | K29: =K19-K28 -> 171995.06 | M29: Annual NOI | N29: =N19-N28 -> 176277.2
A30: 29 | B30: =B29*(1+'Full Calc'!$C$21) -> 35161.725 | C30: =C29*(1+'Full Calc'!$N$34) -> 760692.4 | D30: =IF(VLOOKUP(A30*12,'Amort Table (REFI)'!$A$5:$F$365,6)<0,0,VLOOKUP(A30*12,'Amort Table (REFI)'!$A$5:$F$365,6)) -> #NAME? | G30: - Debt Service | H30: ='Full Calc'!$K$24 -> #NAME? | J30: - Debt Service | K30: ='Full Calc'!$K$24 -> #NAME? | M30: - Debt Service | N30: ='Full Calc'!$K$24 -> #NAME?
A31: 30 | B31: =B30*(1+'Full Calc'!$C$21) -> 35864.959 | C31: =C30*(1+'Full Calc'!$N$34) -> 777807.98 | D31: =IF(VLOOKUP(A31*12,'Amort Table (REFI)'!$A$5:$F$365,6)<0,0,VLOOKUP(A31*12,'Amort Table (REFI)'!$A$5:$F$365,6)) -> #NAME? | G31: Annual CF | H31: =H29-H30 -> #NAME? | J31: Annual CF | K31: =K29-K30 -> #NAME? | M31: Annual CF | N31: =N29-N30 -> #NAME?

Sheet Amort Table (BRIDGE)
A1: Amount Borrowed | C1: ='Full Calc'!J35 -> #NAME?
B2: Periods | C2: ='Full Calc'!E35*12 -> 300
B3: Rate | C3: ='Full Calc'!G35 -> 0.065
B4: Payment | C4: =PMT(C3/12,C2,-C1,0) -> #NAME?
A5: Period | B5: Beginning | C5: Pmt | D5: Interest | E5: Principal | F5: Ending Balance
A6: 1 | B6: =C1 -> #NAME? | C6: =$C$4 -> #NAME? | D6: =B6*($C$3/12) -> #NAME? | E6: =C6-D6 -> #NAME? | F6: =B6-E6 -> #NAME?
A7: =A6+1 -> 2 | B7: =F6 -> #NAME? | C7: =$C$4 -> #NAME? | D7: =B7*($C$3/12) -> #NAME? | E7: =C7-D7 -> #NAME? | F7: =B7-E7 -> #NAME?
A8: =A7+1 -> 3 | B8: =F7 -> #NAME? | C8: =$C$4 -> #NAME? | D8: =B8*($C$3/12) -> #NAME? | E8: =C8-D8 -> #NAME? | F8: =B8-E8 -> #NAME?
A9: =A8+1 -> 4 | B9: =F8 -> #NAME? | C9: =$C$4 -> #NAME? | D9: =B9*($C$3/12) -> #NAME? | E9: =C9-D9 -> #NAME? | F9: =B9-E9 -> #NAME?
A10: =A9+1 -> 5 | B10: =F9 -> #NAME? | C10: =$C$4 -> #NAME? | D10: =B10*($C$3/12) -> #NAME? | E10: =C10-D10 -> #NAME? | F10: =B10-E10 -> #NAME?
A11: =A10+1 -> 6 | B11: =F10 -> #NAME? | C11: =$C$4 -> #NAME? | D11: =B11*($C$3/12) -> #NAME? | E11: =C11-D11 -> #NAME? | F11: =B11-E11 -> #NAME?
A12: =A11+1 -> 7 | B12: =F11 -> #NAME? | C12: =$C$4 -> #NAME? | D12: =B12*($C$3/12) -> #NAME? | E12: =C12-D12 -> #NAME? | F12: =B12-E12 -> #NAME?
A13: =A12+1 -> 8 | B13: =F12 -> #NAME? | C13: =$C$4 -> #NAME? | D13: =B13*($C$3/12) -> #NAME? | E13: =C13-D13 -> #NAME? | F13: =B13-E13 -> #NAME?
A14: =A13+1 -> 9 | B14: =F13 -> #NAME? | C14: =$C$4 -> #NAME? | D14: =B14*($C$3/12) -> #NAME? | E14: =C14-D14 -> #NAME? | F14: =B14-E14 -> #NAME?
A15: =A14+1 -> 10 | B15: =F14 -> #NAME? | C15: =$C$4 -> #NAME? | D15: =B15*($C$3/12) -> #NAME? | E15: =C15-D15 -> #NAME? | F15: =B15-E15 -> #NAME?
A16: =A15+1 -> 11 | B16: =F15 -> #NAME? | C16: =$C$4 -> #NAME? | D16: =B16*($C$3/12) -> #NAME? | E16: =C16-D16 -> #NAME? | F16: =B16-E16 -> #NAME?
A17: =A16+1 -> 12 | B17: =F16 -> #NAME? | C17: =$C$4 -> #NAME? | D17: =B17*($C$3/12) -> #NAME? | E17: =C17-D17 -> #NAME? | F17: =B17-E17 -> #NAME?
A18: =A17+1 -> 13 | B18: =F17 -> #NAME? | C18: =$C$4 -> #NAME? | D18: =B18*($C$3/12) -> #NAME? | E18: =C18-D18 -> #NAME? | F18: =B18-E18 -> #NAME?
... A365: =A364+1 -> 360 | B365: =F364 -> #NAME? | C365: =$C$4 -> #NAME? | D365: =B365*($C$3/12) -> #NAME? | E365: =C365-D365 -> #NAME? | F365: =B365-E365 -> #NAME?

Sheet Amort Table (REFI)
A1: Amount Borrowed | C1: ='Full Calc'!J39 -> #NAME?
B2: Periods | C2: ='Full Calc'!E39*12 -> 300
B3: Rate | C3: ='Full Calc'!G39 -> 0.0625
B4: Payment | C4: =PMT(C3/12,C2,-C1,0) -> #NAME?
A5: Period | B5: Beginning | C5: Pmt | D5: Interest | E5: Principal | F5: Ending Balance
A6: 1 | B6: =C1 -> #NAME? | C6: =$C$4 -> #NAME? | D6: =B6*($C$3/12) -> #NAME? | E6: =C6-D6 -> #NAME? | F6: =B6-E6 -> #NAME?
A7: =A6+1 -> 2 | B7: =F6 -> #NAME? | C7: =$C$4 -> #NAME? | D7: =B7*($C$3/12) -> #NAME? | E7: =C7-D7 -> #NAME? | F7: =B7-E7 -> #NAME?
A8: =A7+1 -> 3 | B8: =F7 -> #NAME? | C8: =$C$4 -> #NAME? | D8: =B8*($C$3/12) -> #NAME? | E8: =C8-D8 -> #NAME? | F8: =B8-E8 -> #NAME?
A9: =A8+1 -> 4 | B9: =F8 -> #NAME? | C9: =$C$4 -> #NAME? | D9: =B9*($C$3/12) -> #NAME? | E9: =C9-D9 -> #NAME? | F9: =B9-E9 -> #NAME?
A10: =A9+1 -> 5 | B10: =F9 -> #NAME? | C10: =$C$4 -> #NAME? | D10: =B10*($C$3/12) -> #NAME? | E10: =C10-D10 -> #NAME? | F10: =B10-E10 -> #NAME?
A11: =A10+1 -> 6 | B11: =F10 -> #NAME? | C11: =$C$4 -> #NAME? | D11: =B11*($C$3/12) -> #NAME? | E11: =C11-D11 -> #NAME? | F11: =B11-E11 -> #NAME?
A12: =A11+1 -> 7 | B12: =F11 -> #NAME? | C12: =$C$4 -> #NAME? | D12: =B12*($C$3/12) -> #NAME? | E12: =C12-D12 -> #NAME? | F12: =B12-E12 -> #NAME?
A13: =A12+1 -> 8 | B13: =F12 -> #NAME? | C13: =$C$4 -> #NAME? | D13: =B13*($C$3/12) -> #NAME? | E13: =C13-D13 -> #NAME? | F13: =B13-E13 -> #NAME?
A14: =A13+1 -> 9 | B14: =F13 -> #NAME? | C14: =$C$4 -> #NAME? | D14: =B14*($C$3/12) -> #NAME? | E14: =C14-D14 -> #NAME? | F14: =B14-E14 -> #NAME?
A15: =A14+1 -> 10 | B15: =F14 -> #NAME? | C15: =$C$4 -> #NAME? | D15: =B15*($C$3/12) -> #NAME? | E15: =C15-D15 -> #NAME? | F15: =B15-E15 -> #NAME?
A16: =A15+1 -> 11 | B16: =F15 -> #NAME? | C16: =$C$4 -> #NAME? | D16: =B16*($C$3/12) -> #NAME? | E16: =C16-D16 -> #NAME? | F16: =B16-E16 -> #NAME?
A17: =A16+1 -> 12 | B17: =F16 -> #NAME? | C17: =$C$4 -> #NAME? | D17: =B17*($C$3/12) -> #NAME? | E17: =C17-D17 -> #NAME? | F17: =B17-E17 -> #NAME?
A18: =A17+1 -> 13 | B18: =F17 -> #NAME? | C18: =$C$4 -> #NAME? | D18: =B18*($C$3/12) -> #NAME? | E18: =C18-D18 -> #NAME? | F18: =B18-E18 -> #NAME?
... A365: =A364+1 -> 360 | B365: =F364 -> #NAME? | C365: =$C$4 -> #NAME? | D365: =B365*($C$3/12) -> #NAME? | E365: =C365-D365 -> #NAME? | F365: =B365-E365 -> #NAME?
