Workbook

Sheet Trailer-Home Inventory
A1: Butler County Kennel Club
A3: Items in Trailer End of 2021 Shows | G3: Items at Heather's House
G4: 2 large Jugs of Odoban
A5: Item | B5: Quantity | G5: Hand Sanitizers for Ring Tables
A6: 6 Boxes of Chairs, 4 each Box - under shelving | B6: 24 | G6: 2 new bags of mints for Ringside candy bowls
A7: Folding Chairs | B7: 2
A8: 8 foot Folding Tables | B8: 11 | G8: Items at Clint's House
A9: 4 foot folding tables | B9: 2 | G9: Walkie Talkies - don't remember how many?
A10: Bath Tubs for out on grounds for people to use | B10: 2
A11: Large Fans for pavillion | B11: 2 | G11: Who has the Blue Tablecloths/took them home to wash?
A12: Mr. Coffee coffee maker | B12: 1
A13: Tea Kettle | B13: 1
A14: 1 Tub of Thousands of cups and lids in blue tub w/white top | B14: ???
A15: 1 Tub of cardboard drink carriers - tub says coffee carefes | B15: ???
A16: 1 Tub of Forks, Knives, Spoons | B16: ???
A17: 1 Tub of napkins and bowls | B17: ???
A18: Paper Towel Rolls | B18: 12
A19: Plastic bag of take home/leftovers styrofoam containers | B19: ???
A20: Extension Cords | B20: 3
A21: Powerstrip | B21: 1
A22: 1 Tub of misc hospitality/pavillion decorations | B22: 1
A23: 1 Box of vests, aprons, trophy towels, tablecloths | B23: 1
A24: Plastic Ringside Boxes with supplies for judges/stewards | B24: 12?
A25: Ringside Spray Bottles for Odoban | B25: 12?
A26: Ringside Plastic Candy Bowls | B26: 12?
A27: Bale of wood chips | B27: 1
A28: Wicker Baskets | B28: 8
A29: Plastic Baskets | B29: 5
A30: Ringside Coolers | B30: 9 | C30: get one for up by gate next year
A31: Distance Marking Wand | B31: 1
A32: Wedding Box | B32: 1
A33: Small Metal Easel | B33: 1
A34: Easel Base | B34: 1
A35: 1 box of signholders (like political signs) | B35: 18
A36: Please Pick up After your Dog white signs | B36: 18
A37: Large sign holder | B37: 1
A38: Large Wrought Iron Easel - on shelf | B38: 1
A39: Pool Noodles | B39: 11
A40: Green steel fence posts | B40: 2
A41: 4 lb sledge hammer | B41: 1
...

Sheet Summary
A1: BCKC 2021 Show Balance | J1: Income | K1: =SUM(C4:C16) -> 65096.55 | L1: Expenses | M1: =SUM(F4:F16) -> 62436.61 | N1: Total: | O1: =K1-M1 -> 2659.94
A2: Income | D2: Expense
B3: Source | C3: Amount | E3: Towards | F3: Amount | H3: Net
B4: Fairgrounds | C4: =Fairgrounds!B1 -> 0 | E4: Fairgrounds | F4: =Fairgrounds!G1 -> 4413 | H4: =C4-F4 -> -4413
B5: Gate | C5: =Gate!B1 -> 5845 | E5: Gate | F5: =Gate!F1 -> 933.6 | H5: =C5-F5 -> 4911.4
B6: Hospitality | C6: =Hopsitality!B2 -> 16.35 | E6: Hospitality | F6: =Hopsitality!F2 -> 2841.54 | H6: =C6-F6 -> -2825.19
B7: Judges | C7: =Judges!B1 -> 0 | E7: Judges | F7: =Judges!F1 -> 12035.94 | H7: =C7-F7 -> -12035.94 | K7: FINAL
B8: Operations | C8: =Operations!B1 -> 0 | E8: Operations | F8: =Operations!F1 -> 3281.82 | H8: =C8-F8 -> -3281.82
B9: Personnel | C9: =Personnel!B1 -> 0 | E9: Personnel | F9: =Personnel!F1 -> 3471.37 | H9: =C9-F9 -> -3471.37
B10: RVs | C10: =RVs!B1 -> 4105 | E10: RVs | F10: =RVs!F1 -> 3840 | H10: =C10-F10 -> 265
B11: Trophies | C11: =Trophies!B1 -> 1370 | E11: Trophies | F11: =Trophies!F1 -> 2999.27 | H11: =C11-F11 -> -1629.27
B12: Vendors | C12: =Vendors!B1 -> 1095 | E12: Vendors | F12: =Vendors!F1 -> 350 | H12: =C12-F12 -> 745
B13: MB-F | C13: ='MB-F'!B1 -> 51915.2 | E13: MB-F | F13: ='MB-F'!G1 -> 27004.3 | H13: =C13-F13 -> 24910.9
B14: Club Table | C14: ='Club Table'!B1 -> 750 | E14: Club Table | F14: ='Club Table'!G1 -> 625 | H14: =C14-F14 -> 125
B15: Supported Entries | C15: =Supported!B1 -> 0 | E15: Supported Entries | F15: =Supported!G1 -> 170 | H15: =C15-F15 -> -170
B16: Advertising | C16: =Advertising!B1 -> 0 | E16: Advertising | F16: =Advertising!F1 -> 470.77 | H16: =C16-F16 -> -470.77
A18: Totals | C18: =SUM(C4:C16) -> 65096.55 | F18: =SUM(F4:F16) -> 62436.61 | H18: =SUM(H4:H16) -> 2659.94

Sheet Club Table
A1: Income | B1: =SUM(C:C) -> 750 | F1: Expenses | G1: =SUM(H:H) -> 625 | I1: Net | J1: =B1-G1 -> 125
A3: Credits | F3: Debts
A4: Date | B4: Source | C4: Amount | F4: Date | G4: Source | H4: Amount
A5: 44465 | B5: Final Cash | C5: 750 | F5: 44465 | G5: Start Up | H5: 625

Sheet MB-F
A1: Income | B1: =SUM(C:C) -> 51915.2 | F1: Expenses | G1: =SUM(H:H) -> 27004.3 | I1: Net | J1: =B1-G1 -> 24910.9
A3: Credits | F3: Debts
A4: Date | B4: Source | C4: Amount | F4: Date | G4: Source | H4: Amount
B5: Club Income | C5: 51007 | G5: Contract Services | H5: 19167.49
B6: Final Asettlement | C6: 908.2 | G6: Postage and Freight | H6: -480.3
G7: Payments for Club | H7: 617.11
G8: W/held Final Settlement | H8: 7700

Sheet Supported
A1: Income | B1: =SUM(C:C) -> 0 | F1: Expenses | G1: =SUM(H:H) -> 170 | I1: Net | J1: =B1-G1 -> -170
A3: Credits | F3: Debts
A4: Date | B4: Source | C4: Amount | F4: Source | G4: Sat + Sun Entries | H4: Amount
F5: American Chesapeake Club | G5: =16+16 -> 32 | H5: =G5*1 -> 32
F6: Western Pennsylvania Dachshund Club | G6: =19+16+17+19+16+17 -> 104 | H6: =G6*1 -> 104
F7: Lake Shore Doberman Pinscher Club | G7: =16+18 -> 34 | H7: =G7*1 -> 34

Sheet Fairgrounds
A1: Income | B1: =SUM(C:C) -> 0 | F1: Expenses | G1: =SUM(H:H) -> 4413 | I1: Net | J1: =B1-G1 -> -4413
A3: Credits | F3: Debts
A4: Date | B4: Source | C4: Amount | F4: Date | G4: Source | H4: Amount
F5: 44362 | G5: LCF Deposit | H5: 900
G6: Final Rental | H6: =3598-900 -> 2698
G7: Electric | H7: 650
G8: Winter Storage | H8: 165

Sheet Gate
A1: Income | B1: =SUM(C:C) -> 5845 | E1: Expenses | F1: =SUM(G:G) -> 933.6 | H1: Net | I1: =B1-F1 -> 4911.4
A3: Credits | E3: Debts
A4: Date | B4: Source | C4: Amount | E4: Date | F4: Source | G4: Amount
A5: 44465 | B5: Final Cash | C5: 4955 | E5: 44464 | F5: Start Up | G5: 625
A6: 44465 | B6: Ring Stewards | C6: 315 | F6: Parking Pass Printing | G6: 88.8
A7: 44464 | B7: Ring Stewards | C7: 375 | F7: Tax | G7: 219.8
A8: 44465 | B8: Katherine Mayle | C8: 200
E13: RV Cash | F13: =RVs!J62 -> 1930
E14: Catalog Sales (estimate 30) | F14: =30*5 -> 150
E16: Cars Total: | F16: =I1-F13-F14+G6+G7 -> 3140 | G16: # | H16: =3140/5 -> 628
E18: Tax @ 7%: | F18: =F16*0.07 -> 219.8

Sheet Hopsitality
A1: Summary | K1: Itemized
A2: Income | B2: =SUM(C:C) -> 16.35 | E2: Expenses | F2: =SUM(G:G) -> 2841.54 | H2: Net | I2: =B2-F2 -> -2825.19
A4: Credits | E4: Debts
A5: Date | B5: Source | C5: Amount | E5: Date | F5: Source | G5: Amount | J5: Date | K5: Item | L5: Amount
A6: 44465 | B6: Cash Return | C6: 16.35 | E6: 44463 | F6: Start Up Cash | G6: 500 | J6: 44464 | K6: Giant Eagle Cake | L6: 49.99
E7: 44463 | F7: Sat. Morning Cash | G7: 100 | J7: 44465 | K7: 9 Pies | L7: 113.99
E8: 44465 | F8: Pies | G8: 100 | J8: 44463 | K8: 3 Pizzas | L8: 38.14
E9: 44465 | F9: F and G Catering | G9: 2085.62 | J9: 44463 | K9: 2 Dozen Donuts - get 1 next time | L9: 12
E10: 44464 | F10: Ross Chapin | G10: 55.92 | H10: (Masks from Rite Aid) | J10: 44464 | K10: 2 Dozen Donuts - good amount | L10: 31.02
J11: 44465 | K11: 2 Dozen Donuts - good amount | L11: 19.02
J12: 44464 | K12: Ice - 5 22lb bags - used 4? Cold year | L12: 27.45
J13: 44463 | K13: 6 Salt/Pepper Shakers | L13: 6
K14: 7 Bags Starlight Peppermints - 5 next year | L14: 6
K15: 2 12 oz Cans Coffee | L15: 8
K16: 1 12 oz Can Decaf Coffee | L16: 6
K17: Sweet n low (100 ct), Splenda (50 ct) | L17: 6
K18: 5 24 ct Individual creamers | L18: 13
K19: 1 22 ct Hot Cocoa Packets | L19: 13
K20: 10 1 gallon jugs water (for coffee) | L20: 10
K21: 2 orange juices | L21: 7
K22: 3 very large bags popcorn (already popped) | L22: 21
K23: 10 cases water - used 6 - cold year | L23: 63
K24: 2 cases diet coke - used 1 | L24: 24
K25: 2 cases coke - used 1 | L25: 24
... K40: F and G Catering - think was too much, could cut down next year some? | L40: 2085.62
K42: Total | L42: =SUM(L6:L41) -> 2831.15

Sheet Judges
A1: Income | B1: =SUM(C:C) -> 0 | E1: Expenses | F1: =SUM(G:G) -> 12035.94 | H1: Net | I1: =B1-F1 -> -12035.94
A3: Credits | E3: Debts
A4: Date | B4: Source | C4: Amount | E4: Date | F4: Source | G4: Amount
E5: 44465 | F5: Debra Thornton | G5: 1624.5
E6: 44465 | F6: Tim Catterson | G6: 1581.43
E7: 44465 | F7: Peggy Beisel McIlwaine | G7: 1477.58
E8: 44465 | F8: Carolyn Alexander | G8: 1905.85
E9: 44465 | F9: Edy Dykstra Blum | G9: 1130.86
E10: 44465 | F10: Donnelle Richards | G10: 1835.18
E11: 44465 | F11: Del Richards | G11: 2063.7
E12: 44488 | F12: Thornton -Car | G12: 416.84

Sheet Operations
A1: Income | B1: =SUM(C:C) -> 0 | E1: Expenses | F1: =SUM(G:G) -> 3281.82 | H1: Net | I1: =B1-F1 -> -3281.82
A3: Credits | E3: Debts
A4: Date | B4: Source | C4: Amount | E4: Date | F4: Source | G4: Amount
E5: 43844 | F5: Chk 1012: AKC Event Applicationn Fee | G5: 65
E6: 44342 | F6: Chk 1028: Golf Carts Unlimited | G6: 2170
E7: 44403 | F7: Chk 1033: R Nesbit Portable Toilets | G7: 1038.8
F8: Miller-Marquez HardWare | G8: =5.08+0.98+0.98+0.98 -> 8.02

Sheet Advertising
A1: Income | B1: =SUM(C:C) -> 0 | E1: Expenses | F1: =SUM(G:G) -> 470.77 | H1: Net | I1: =B1-F1 -> -470.77
A3: Credits | E3: Debts
A4: Date | B4: Source | C4: Amount | E4: Date | F4: Source | G4: Amount
E5: 44441 | F5: Armstrong | G5: 215.71
E6: 44447 | F6: Butler Eagle | G6: 160
E7: 44486 | F7: New Castle News | G7: 95.06

Sheet Personnel
A1: Income | B1: =SUM(C:C) -> 0 | E1: Expenses | F1: =SUM(G:G) -> 3471.37 | H1: Net | I1: =B1-F1 -> -3471.37
A3: Credits | E3: Debts
A4: Date | B4: Source | C4: Amount | E4: Date | F4: Source | G4: Amount
E5: 44465 | F5: Katherine Mayle | G5: 200
E6: 44464 | F6: Newcaster Security Services | G6: 720
E7: 44464 | F7: Ring Stewards | G7: 375
E8: 44465 | F8: Ring Stewards | G8: 315
E9: 44465 | F9: Paula Thomas (Announcer) | G9: 260
E10: 44465 | F10: Karen Kushmu (EMT) | G10: 150
E11: 44465 | F11: Abigail Davidson (Vet) | G11: 500
E12: 44465 | F12: Asgard Acres Apacas (4H) | G12: 500
E13: 44465 | F13: Anthony Cavallo | G13: 100
E14: 44474 | F14: Jean Kroll (Hotel) | G14: 164.16
E15: 44474 | F15: Kroll (Ink) | G15: 187.21

Sheet RVs
A1: Income | B1: =SUM(C:C) -> 4105 | E1: Expenses | F1: =SUM(G:G) -> 3840 | H1: Net | I1: =B1-F1 -> 265
A3: Credits | E3: Debts
A4: Name | B4: Type | C4: Amount | E4: Date | F4: Source | G4: Amount
A5: =CONCATENATE(K5," ",L5) -> Abate Elizabeth | B5: Full 3 | C5: 90 | F5: Fairground Full ($35 / Night) | G5: =27*35*2 -> 1890 | K5: Abate | L5: Elizabeth | M5: Full 3 | N5: 90
A6: =CONCATENATE(K6," ",L6) -> Beaver Jay | B6: E&W | F6: Fairgrounds E&W ($25 / Night) | G6: =(38*25*2) + (2*25) -> 1950 | K6: Beaver | L6: Jay | M6: E&W
A7: =CONCATENATE(K7," ",L7) -> Bell Rita | B7: E&W | C7: 70 | K7: Bell | L7: Rita | M7: E&W | N7: 70
A8: =CONCATENATE(K8," ",L8) -> Bell Donn (Sue) | B8: E&W | C8: 140 | K8: Bell | L8: Donn (Sue) | M8: E&W | N8: 140
A9: =CONCATENATE(K9," ",L9) -> Bevelhymer Darrell | B9: E&W | C9: 70 | K9: Bevelhymer | L9: Darrell | M9: E&W | N9: 70
A10: =CONCATENATE(K10," ",L10) -> Brown, William C. | B10: E&W | C10: 90 | K10: Brown, | L10: William C. | M10: E&W | N10: 90
A11: =CONCATENATE(K11," ",L11) -> Buchwald Dan | B11: Full 22 | C11: 90 | K11: Buchwald | L11: Dan | M11: Full 22 | N11: 90
A12: =CONCATENATE(K12," ",L12) -> Coffman Cheryl | B12: E&W | C12: 70 | K12: Coffman | L12: Cheryl | M12: E&W | N12: 70
A13: =CONCATENATE(K13," ",L13) -> Davis Tom | B13: E&W | C13: 70 | K13: Davis | L13: Tom | M13: E&W | N13: 70
A14: =CONCATENATE(K14," ",L14) -> Digby-McCord Suzanne | B14: Full 6 | C14: 180 | K14: Digby-McCord | L14: Suzanne | M14: Full 6 | N14: 180
A15: =CONCATENATE(K15," ",L15) -> Dreslinski Gesele | B15: Full 7 | C15: 90 | K15: Dreslinski | L15: Gesele | M15: Full 7 | N15: 90
A16: =CONCATENATE(K16," ",L16) -> Farley Terry | B16: Full 15 | C16: 90 | K16: Farley | L16: Terry | M16: Full 15 | N16: 90
A17: =CONCATENATE(K17," ",L17) -> Fielden Debbie | B17: E&W | C17: 70 | K17: Fielden | L17: Debbie | M17: E&W | N17: 70
A18: =CONCATENATE(K18," ",L18) -> Filer Carol | B18: Full 9 | C18: 90 | K18: Filer | L18: Carol | M18: Full 9 | N18: 90
A19: =CONCATENATE(K19," ",L19) -> Fordyce Nancy & Blaine | B19: Full 5 | K19: Fordyce | L19: Nancy & Blaine | M19: Full 5 | N19: See Note
A20: =CONCATENATE(K20," ",L20) -> Graham Fran | B20: E&W | C20: 70 | K20: Graham | L20: Fran | M20: E&W | N20: 70
A21: =CONCATENATE(K21," ",L21) -> Halcomb Denise | B21: E&W | C21: 70 | K21: Halcomb | L21: Denise | M21: E&W | N21: 70
A22: =CONCATENATE(K22," ",L22) -> Hammon Constance J. | B22: Full 4 | C22: 90 | K22: Hammon | L22: Constance J. | M22: Full 4 | N22: 90
A23: =CONCATENATE(K23," ",L23) -> Harris Kimberly | B23: Full 20 | C23: 90 | K23: Harris | L23: Kimberly | M23: Full 20 | N23: 90
A24: =CONCATENATE(K24," ",L24) -> Hartman Jenn | B24: E&W | C24: 70 | K24: Hartman | L24: Jenn | M24: E&W | N24: 70
A25: =CONCATENATE(K25," ",L25) -> Hills Mark & Carlene | B25: Full 8 | C25: 90 | K25: Hills | L25: Mark & Carlene | M25: Full 8 | N25: 90
A26: =CONCATENATE(K26," ",L26) -> Huber Howard | B26: Full 19 | C26: 90 | K26: Huber | L26: Howard | M26: Full 19 | N26: 90
A27: =CONCATENATE(K27," ",L27) -> Johnson Ed & Linda | B27: Full 12 | C27: 90 | K27: Johnson | L27: Ed & Linda | M27: Full 12 | N27: 90
A28: =CONCATENATE(K28," ",L28) -> Kocab Mark | B28: Full 1 | C28: 290 | K28: Kocab | L28: Mark | M28: Full 1 | N28: 290
A29: =CONCATENATE(K29," ",L29) -> Lasater Janet | B29: E&W | C29: 70 | K29: Lasater | L29: Janet | M29: E&W | N29: 70
A30: =CONCATENATE(K30," ",L30) -> Leemhuis Carol | B30: Full 30 | K30: Leemhuis | L30: Carol | M30: Full 30
A31: =CONCATENATE(K31," ",L31) -> Lipinski Carol & Walt | B31: E&W | K31: Lipinski | L31: Carol & Walt | M31: E&W
A32: =CONCATENATE(K32," ",L32) -> Logan Dawn & Brad | B32: E&W | C32: 210 | K32: Logan | L32: Dawn & Brad | M32: E&W | N32: 210
A33: =CONCATENATE(K33," ",L33) -> Luster Heather | B33: Full 13 | C33: 90 | K33: Luster | L33: Heather | M33: Full 13 | N33: 90
A34: =CONCATENATE(K34," ",L34) -> Magoss Susan & Adam | B34: Full 23 | C34: 90 | K34: Magoss | L34: Susan & Adam | M34: Full 23 | N34: 90
A35: =CONCATENATE(K35," ",L35) -> Mammano Karen | B35: E&W | C35: 70 | K35: Mammano | L35: Karen | M35: E&W | N35: 70
A36: =CONCATENATE(K36," ",L36) -> Mann Mary | B36: E&W | C36: 70 | K36: Mann | L36: Mary | M36: E&W | N36: 70
A37: =CONCATENATE(K37," ",L37) -> Miller Jill | B37: Day Electric | C37: 40 | K37: Miller | L37: Jill | M37: Day Electric | N37: 40
A38: =CONCATENATE(K38," ",L38) -> Mucci Annette | B38: E&W | C38: 70 | K38: Mucci | L38: Annette | M38: E&W | N38: 70
A39: =CONCATENATE(K39," ",L39) -> Nagy Gary | B39: Full 2 | C39: 90 | K39: Nagy | L39: Gary | M39: Full 2 | N39: 90
A40: =CONCATENATE(K40," ",L40) -> Phelps Jennifer | B40: Camping | C40: 40 | K40: Phelps | L40: Jennifer | M40: Camping | N40: 40
A41: =CONCATENATE(K41," ",L41) -> Piszczek Kimberly & Dale | B41: Full 10 | C41: 45 | K41: Piszczek | L41: Kimberly & Dale | M41: Full 10 | N41: 45
...

Sheet Trophies
A1: Income | B1: =SUM(C:C) -> 1370 | E1: Expenses | F1: =SUM(G:G) -> 2999.27 | H1: Net | I1: =B1-F1 -> -1629.27
A3: Credits | E3: Debts
A4: Date | B4: Source | C4: Amount | E4: Date | F4: Source | G4: Amount
B5: Nestor - Bassets | C5: 280 | E5: 44411 | F5: Keystone Specialties (Powerbanks) | G5: 1059.53
B6: Donley - Collies | C6: 50 | E6: 44408 | F6: Margie Marquez - BIS Trophies | G6: 179.88
B7: Huber - Groups | C7: 1000 | E7: 44400 | F7: Classic Ink (Breed Shirts) | G7: 918.85
B8: Marquez - Tervs | C8: 40 | E8: 44362 | F8: Keystone Specialties (Bags) | G8: 820.75
F9: T-Shirt Slips Printing | G9: 20.26

Sheet Vendors
A1: Income | B1: =SUM(C:C) -> 1095 | E1: Expenses | F1: =SUM(G:G) -> 350 | H1: Net | I1: =B1-F1 -> 745
A3: Credits | E3: Debts
A4: Date | B4: Source | C4: Amount | E4: Date | F4: Source | G4: Amount
B5: Pet Wants | C5: 80 | F5: Fairgrounds | G5: 350
B6: Sharpener | C6: 105
B7: Penn Town Dogs | C7: 160
B8: Penn Town Dogs - Balance | C8: 100
B9: Be Your Own Dog | C9: 240
B10: Scentsy | C10: 105 | D10: (Check for $215, included RV)
B11: Turley | C11: 200
B12: Leads Galore | C12: 105
