Workbook

Sheet Summary (NEW!)
A1: Santa Cruz County Population Projections Summary | L1: Key Statistics
L3: Area | M3: 2025 Pop. | N3: 2060 Pop. | O3: Change | P3: % Change
L4: Santa Cruz County | M4: ='County & Municipalities'!B3 -> 51324 | N4: ='County & Municipalities'!B34 -> 60733.223 | O4: =N4-M4 -> 9409.223 | P4: =O4/M4 -> 0.18332988
L5: Nogales | M5: ='County & Municipalities'!C3 -> 19994 | N5: ='County & Municipalities'!C34 -> 19498.751 | O5: =N5-M5 -> -495.24938 | P5: =O5/M5 -> -0.0247699
L6: Patagonia | M6: ='County & Municipalities'!D3 -> 796 | N6: ='County & Municipalities'!D34 -> 747.99198 | O6: =N6-M6 -> -48.008019 | P6: =O6/M6 -> -0.060311582
L7: Unincorporated Balance | M7: ='County & Municipalities'!E3 -> 30534 | N7: ='County & Municipalities'!E34 -> 40486.48 | O7: =N7-M7 -> 9952.4804 | P7: =O7/M7 -> 0.32594748
L8: Rio Rico CDP | M8: ='CDPs (pop 500+)'!B3 -> 23157.157 | N8: ='CDPs (pop 500+)'!B34 -> 30705.174 | O8: =N8-M8 -> 7548.0169 | P8: =O8/M8 -> 0.32594748
L9: Sonoita CDP | M9: ='CDPs (pop 500+)'!C3 -> 904.9198 | N9: ='CDPs (pop 500+)'!C34 -> 1199.8761 | O9: =N9-M9 -> 294.95632 | P9: =O9/M9 -> 0.32594747
L10: Tubac CDP | M10: ='CDPs (pop 500+)'!D3 -> 1781.6665 | N10: ='CDPs (pop 500+)'!D34 -> 2362.3962 | O10: =N10-M10 -> 580.72971 | P10: =O10/M10 -> 0.32594748
L12: Population Composition (2025 vs 2060)
L14: Area | M14: 2025 | N14: 2060
L15: Nogales | M15: ='County & Municipalities'!C3 -> 19994 | N15: ='County & Municipalities'!C34 -> 19498.751
L16: Patagonia | M16: ='County & Municipalities'!D3 -> 796 | N16: ='County & Municipalities'!D34 -> 747.99198
L17: Unincorporated | M17: ='County & Municipalities'!E3 -> 30534 | N17: ='County & Municipalities'!E34 -> 40486.48
A45: Source: Arizona Office of Economic Opportunity

Sheet County & Municipalities
A1: Santa Cruz County Population Projections (County & Municipalities)
A2: Year | B2: Santa Cruz County | C2: Nogales | D2: Patagonia | E2: Unincorporated Balance of County
A3: 2025 | B3: 51324 | C3: 19994 | D3: 796 | E3: 30534
A4: 2030 | B4: 53371.033 | C4: 20280.03 | D4: 836.1794 | E4: 32254.824
A5: 2031 | B5: 53580.338 | C5: 20250.264 | D5: 833.24288 | E5: 32496.831
A6: 2032 | B6: 53796.938 | C6: 20222.644 | D6: 830.38165 | E6: 32743.913
A7: 2033 | B7: 54020.831 | C7: 20197.136 | D7: 827.59386 | E7: 32996.101
A8: 2034 | B8: 54252.997 | C8: 20174.038 | D8: 824.89011 | E8: 33254.069
A9: 2035 | B9: 54492.935 | C9: 20153.127 | D9: 822.26114 | E9: 33517.547
A10: 2036 | B10: 54740.627 | C10: 20134.355 | D10: 819.7044 | E10: 33786.568
A11: 2037 | B11: 54996.298 | C11: 20117.764 | D11: 817.22079 | E11: 34061.313
A12: 2038 | B12: 55260.144 | C12: 20103.378 | D12: 814.81051 | E12: 34341.955
A13: 2039 | B13: 55531.318 | C13: 20090.808 | D13: 812.4574 | E13: 34628.053
A14: 2040 | B14: 55809.778 | C14: 20080.051 | D14: 810.16127 | E14: 34919.565
... A34: 2060 | B34: 60733.223 | C34: 19498.751 | D34: 747.99198 | E34: 40486.48
A36: Source: Arizona Office of Economic Opportunity

Sheet CDPs (pop 500+)
A1: Santa Cruz County Population Projections (CDPs, pop. 500+)
A2: Year | B2: Rio Rico CDP | C2: Sonoita CDP | D2: Tubac CDP
A3: 2025 | B3: 23157.157 | C3: 904.9198 | D3: 1781.6665
A4: 2030 | B4: 24462.24 | C4: 955.91894 | D4: 1882.077
A5: 2031 | B5: 24645.779 | C5: 963.09116 | D5: 1896.1982
A6: 2032 | B6: 24833.167 | C6: 970.4138 | D6: 1910.6155
A7: 2033 | B7: 25024.428 | C7: 977.88777 | D7: 1925.3307
A8: 2034 | B8: 25220.073 | C8: 985.53303 | D8: 1940.3832
A9: 2035 | B9: 25419.896 | C9: 993.34159 | D9: 1955.7572
A10: 2036 | B10: 25623.923 | C10: 1001.3144 | D10: 1971.4546
A11: 2037 | B11: 25832.291 | C11: 1009.4569 | D11: 1987.4861
A12: 2038 | B12: 26045.131 | C12: 1017.7741 | D12: 2003.8616
A13: 2039 | B13: 26262.11 | C13: 1026.2531 | D13: 2020.5555
A14: 2040 | B14: 26483.194 | C14: 1034.8924 | D14: 2037.5653
... A34: 2060 | B34: 30705.174 | C34: 1199.8761 | D34: 2362.3962
A36: Source: Arizona Office of Economic Opportunity
