Workbook
Name _0_1_2: INGRESO!$S$13:$S$15
Name _0_1_2_3_7_8_9: INGRESO!$V$13:$V$19
Name _0_1_2_3_8_9: INGRESO!$T$13:$T$18
Name _0_1_2_8_9: INGRESO!$U$13:$U$17
Name algoritmo: 'P1'!$T$36
Name COD: CP!$A$2:$A$11
Name elemento30: INGRESO!$C$13
Name PUNT: CP!$B$2:$B$11

Sheet P1
A1: ADI - R | S1: sexo | T1: Masculino
T2: Femenino
A3: Entrevista para el diagnóstico de Autismo - Revisada
A4: Ann Le Courteur, Catherine Lord, Michael Rutter
AB5: =IF((AC7-AC5)<AC8,1,0) -> 0 | AC5: =IF(AD7<AD8,1,0) -> 0
AB6: AÑO | AC6: MES | AD6: DÍA
A7: SUJETO | AA7: Fecha de Evaluación: | AB7: =V10 -> 0 | AC7: =U10 -> 0 | AD7: =T10 -> 0
AA8: Fecha de Nacimiento | AB8: =V9 -> 0 | AC8: =U9 -> 0 | AD8: =T9 -> 0
B9: Nombre: | S9: nac | T9: =E11 -> 0 | U9: =G11 -> 0 | V9: =I11 -> 0 | W9: =CONCATENATE(T9,"/",U9,"/",V9) -> 0/0/0 | AA9: Edad: | AB9: =AB7-AB5-AB8 -> 0 | AC9: =IF(AB5=1,AC7+12-AC5-AC8,AC7-AC5-AC8) -> 0 | AD9: =IF(AD7<AD8,AD7+30-AD8,AD7-AD8) -> 0
B10: Número de identificación: | K10: Sexo: | S10: entrevista | T10: =E22 -> 0 | U10: =G22 -> 0 | V10: =I22 -> 0 | W10: =CONCATENATE(T10,"/",U10,"/",V10) -> 0/0/0
B11: Fecha de nacimiento: | F11: / | H11: / | K11: Edad cronológica: | N11: =IF(T12<2,"FUERA DE RANGO",(CONCATENATE(AB9," años, ",AC9,(IF(AC9=1," mes"," meses"))))) -> FUERA DE RANGO | S11: edad
S12: años | T12: =AB9 -> 0
A13: INFORMANTE | S13: meses | T13: =AC9 -> 0
B15: Nombre:
B16: Relación de parentesco con el sujeto:
A18: ENTREVISTADOR
B20: Nombre:
B21: Centro:
B22: Fecha de la entrevista: | F22: / | H22: /
X24: menor a | Y24: aca
A25: MARQUE A CONTINUACIÓN EL ALGORITMO QUE VA A UTILIZAR: | S25: aca | T25: Algoritmo de la conducta actual | X25: 2 | Y25: 2 años, 0 meses a 3 años, 11 meses
B26: Algoritmo diagnóstico | S26: ad | T26: Algoritmo diagnóstico | X26: 4 | Y26: 4 años, 0 meses a 9 años, 11 meses
B27: =IF(B26=T26,X34,X33) -> Edad fuera de rango | X27: 10 | Y27: 10 años, 0 meses en adelante
X29: menor a | Y29: ad
X30: 2 | Y30: 2 años, 0 meses a 3 años, 11 meses
A31: CONVERSIÓN DE LOS CÓDIGOS DE LOS ELEMENTOS A PUNTUACIÓN DE ALGORITMO | F31: Código | I31: 0 | J31: 1 | K31: 2 | L31: 3 | M31: 7 | N31: 8 | O31: 9 | X31: 4 | Y31: 4 años, 0 meses en adelante
I32: ↓ | J32: ↓ | K32: ↓ | L32: ↓ | M32: ↓ | N32: ↓ | O32: ↓
F33: Puntuación | I33: 0 | J33: 1 | K33: 2 | L33: 2 | M33: 0 | N33: 0 | O33: 0 | W33: aca | X33: =IF(T12<X25,"Edad fuera de rango",(IF(T12<X26,Y25,(IF(T12<X27,Y26,Y27))))) -> Edad fuera de rango
W34: ad | X34: =IF(T12<2,"Edad fuera de rango",(IF(T12<X31,Y30,Y31))) -> Edad fuera de rango
A36: RESUMEN DE PUNTUACIONES | S36: algoritmo | T36: =IF(B26=T26,T38,T37) -> 4
L37: ALGORITMO DIAGNÓSTICO | S37: aca | T37: =IF(T12<X26,1,(IF(T12<X27,2,3))) -> 1
A38: A1 | B38: =A!AA14 -> 0 | C38: A2 | D38: =A!AA28 -> 0 | E38: A3 | F38: =A!AA38 -> 0 | I38: A4 | J38: =A!AA52 -> 0 | K38: TOTAL A | M38: =A!AA54 -> 0 | S38: ad | T38: =IF(T12<X31,4,5) -> 4
A40: B1 | B40: =B!AA17 -> 0 | C40: B2 (V) | D40: =B!AA35 -> 0 | E40: B3 (V) | F40: =B!AA47 -> 0 | I40: B4 | J40: =B!AA27 -> 0 | K40: TOTAL B (Verbal) | M40: =IF(elemento30=0,B!AA49,"") -> 0 | N40: TOTAL B (No Verbal) | O40: =B!AA51 -> 0
A43: C1 | B43: ='C'!AA12 -> 0 | C43: C2 | D43: ='C'!AA20 -> 0 | E43: C3 | F43: ='C'!AA28 -> 0 | I43: C4 | J43: ='C'!AA36 -> 0 | K43: TOTAL C | M43: ='C'!AA38 -> 0
K45: TOTAL D | M45: =D!R17 -> 0

Sheet A
A1: A. ALTERACIONES CUALITATIVAS DE LA INTERACCIÓN SOCIAL RECÍPROCA
A3: =CONCATENATE("*Elemento 30=",INGRESO!C13) -> *Elemento 30= | G3: CÓDIGO A ANOTAR → | N3: ACTUAL | T3: ACTUAL | W3: MÁS ANORMAL 4.0 - 5.0
G4: EDAD DE APLICACIÓN → | N4: 2.0 a 3.11 | P4: 4.0 a 9.11 | R4: 10.0 …* | U4: 2.0 a 3.11 | X4: 4.0 … | AF4: =algoritmo -> 4
A6: A.1 | B6: Incapacidad para utilizar conductas no verbales en la regulación de la interacción social | AA6: Puntuación de algoritmo | AD6: final | AE6: puntaje
B8: 50 | C8: Mirada directa | N8: =IF(AF4=1,AE8,"") | P8: =IF(AF4=2,AE8,"") | U8: =IF(AF4=4,AE8,"") -> 0 | X8: =IF(AF4=5,AE8,"") | AA8: =LOOKUP(AD8,COD,PUNT) -> 0 | AD8: =MAX(N8:X8) -> 0 | AE8: =INGRESO!C32 -> 0
AA9: | | AD9: =MAX(N9:X9) -> 0
B10: 51 | C10: Sonrisa social | N10: =IF(algoritmo=1,AE10,"") | P10: =IF(algoritmo=2,AE10,"") | R10: =IF(algoritmo=3,AE10,"") | U10: =IF(algoritmo=4,AE10,"") -> 0 | X10: =IF(algoritmo=5,AE10,"") | AA10: =LOOKUP(AD10,COD,PUNT) -> 0 | AD10: =MAX(N10:X10) -> 0 | AE10: =INGRESO!C33 -> 0
AA11: | | AD11: =MAX(N11:X11) -> 0
B12: 57 | C12: Variedad de expresiones faciales usadas para comunicarse | N12: =IF(algoritmo=1,AE12,"") | P12: =IF(algoritmo=2,AE12,"") | R12: =IF(algoritmo=3,AE12,"") | U12: =IF(algoritmo=4,AE12,"") -> 0 | X12: =IF(algoritmo=5,AE12,"") | AA12: =LOOKUP(AD12,COD,PUNT) -> 0 | AD12: =MAX(N12:X12) -> 0 | AE12: =INGRESO!C39 -> 0
AA13: | | AD13: =MAX(N13:X13) -> 0
X14: TOTAL A1 | AA14: =SUM(AA12,AA10,AA8) -> 0 | AD14: =MAX(N14:X14) -> 0
AD15: =MAX(N15:X15) -> 0
A16: A.2 | B16: Incapacidad para desarrollar relaciones con sus iguales | AA16: Puntuación de algoritmo | AD16: =MAX(N16:X16) -> 0
AD17: =MAX(N17:X17) -> 0
B18: 49 | C18: Juego imaginativo con sus iguales | P18: =IF(algoritmo=2,AE18,"") | X18: =IF(algoritmo=5,AE18,"") | AA18: =LOOKUP(AD18,COD,PUNT) -> 0 | AD18: =MAX(N18:X18) -> 0 | AE18: =INGRESO!C31 -> 0
AA19: | | AD19: =MAX(N19:X19) -> 0
B20: 62 | C20: Interés por otros niños | N20: =IF(algoritmo=1,AE20,"") | P20: =IF(algoritmo=2,AE20,"") | U20: =IF(algoritmo=4,AE20,"") -> 0 | X20: =IF(algoritmo=5,AE20,"") | AA20: =LOOKUP(AD20,COD,PUNT) -> 0 | AD20: =MAX(N20:X20) -> 0 | AE20: =INGRESO!C44 -> 0
AA21: | | AD21: =MAX(N21:X21) -> 0
B22: 63 | C22: Respuesta a las aproximaciones de otros niños | N22: =IF(algoritmo=1,AE22,"") | P22: =IF(algoritmo=2,AE22,"") | U22: =IF(algoritmo=4,AE22,"") -> 0 | X22: =IF(algoritmo=5,AE22,"") | AA22: =LOOKUP(AD22,COD,PUNT) -> 0 | AD22: =MAX(N22:X22) -> 0 | AE22: =INGRESO!C45 -> 0
AA23: | | AD23: =MAX(N23:X23) -> 0
B24: 64 | C24: Juego en grupo con sus iguales (puntúe si tiene entre 4 años, 0 meses y 9 años, 11 meses) | P24: =IF(algoritmo=2,AE24,"") | X24: =IF(algoritmo=5,AE24,"") | AA24: =IF('P1'!T12<10,(LOOKUP(AD24,COD,PUNT)),(LOOKUP(AD26,COD,PUNT))) -> 0 | AD24: =MAX(N24:X24) -> 0 | AE24: =INGRESO!C46 -> 0
AD25: =MAX(N25:X25) -> 0
B26: 65 | C26: Amistades (puntúe si tiene 10 años o más) | R26: =IF(algoritmo=3,AE26,"") | X26: =IF(algoritmo=5,AE26,"") | AD26: =MAX(N26:X26) -> 0 | AE26: =INGRESO!C47 -> 0
AA27: | | AD27: =MAX(N27:X27) -> 0
X28: TOTAL A2 | AA28: =SUM(AA26,AA24,AA22,AA20,AA18) -> 0 | AD28: =MAX(N28:X28) -> 0
AD29: =MAX(N29:X29) -> 0
A30: A.3 | B30: Falta de goce o placer compartido | AA30: Puntuación de algoritmo | AD30: =MAX(N30:X30) -> 0
AD31: =MAX(N31:X31) -> 0
B32: 52 | C32: Mostrar y dirigir la atención | N32: =IF(algoritmo=1,AE32,"") | P32: =IF(algoritmo=2,AE32,"") | R32: =IF(algoritmo=3,AE32,"") | U32: =IF(algoritmo=4,AE32,"") -> 0 | X32: =IF(algoritmo=5,AE32,"") | AA32: =LOOKUP(AD32,COD,PUNT) -> 0 | AD32: =MAX(N32:X32) -> 0 | AE32: =INGRESO!C34 -> 0
AA33: | | AD33: =MAX(N33:X33) -> 0
B34: 53 | C34: Ofrecimientos para compartir | N34: =IF(algoritmo=1,AE34,"") | P34: =IF(algoritmo=2,AE34,"") | R34: =IF(algoritmo=3,AE34,"") | U34: =IF(algoritmo=4,AE34,"") -> 0 | X34: =IF(algoritmo=5,AE34,"") | AA34: =LOOKUP(AD34,COD,PUNT) -> 0 | AD34: =MAX(N34:X34) -> 0 | AE34: =INGRESO!C35 -> 0
AA35: | | AD35: =MAX(N35:X35) -> 0
B36: 54 | C36: Busca compartir su deleite o goce con otros | N36: =IF(algoritmo=1,AE36,"") | P36: =IF(algoritmo=2,AE36,"") | R36: =IF(algoritmo=3,AE36,"") | U36: =IF(algoritmo=4,AE36,"") -> 0 | X36: =IF(algoritmo=5,AE36,"") | AA36: =LOOKUP(AD36,COD,PUNT) -> 0 | AD36: =MAX(N36:X36) -> 0 | AE36: =INGRESO!C36 -> 0
AA37: | | AD37: =MAX(N37:X37) -> 0
X38: TOTAL A3 | AA38: =SUM(AA36,AA34,AA32) -> 0 | AD38: =MAX(N38:X38) -> 0
AD39: =MAX(N39:X39) -> 0
A40: A.4 | B40: Falta de reciprocidad socio-emocional | AA40: Puntuación de algoritmo | AD40: =MAX(N40:X40) -> 0
AD41: =MAX(N41:X41) -> 0
B42: 31 | C42: Uso del cuerpo de otra persona para comunicarse | N42: =IF(algoritmo=1,AE42,"") | P42: =IF(algoritmo=2,AE42,"") | R42: =IF(algoritmo=3,AE42,"") | U42: =IF(algoritmo=4,AE42,"") -> 0 | X42: =IF(algoritmo=5,AE42,"") | AA42: =LOOKUP(AD42,COD,PUNT) -> 0 | AD42: =MAX(N42:X42) -> 0 | AE42: =INGRESO!C14 -> 0
AA43: | | AD43: =MAX(N43:X43) -> 0
B44: 55 | C44: Ofrecimiento de consuelo | N44: =IF(algoritmo=1,AE44,"") | P44: =IF(algoritmo=2,AE44,"") | R44: =IF(algoritmo=3,AE44,"") | U44: =IF(algoritmo=4,AE44,"") -> 0 | X44: =IF(algoritmo=5,AE44,"") | AA44: =LOOKUP(AD44,COD,PUNT) -> 0 | AD44: =MAX(N44:X44) -> 0 | AE44: =INGRESO!C37 -> 0
AA45: | | AD45: =MAX(N45:X45) -> 0
B46: 56 | C46: Calidad de los acercamientos sociales | N46: =IF(algoritmo=1,AE46,"") | P46: =IF(algoritmo=2,AE46,"") | R46: =IF(algoritmo=3,AE46,"") | U46: =IF(algoritmo=4,AE46,"") -> 0 | X46: =IF(algoritmo=5,AE46,"") | AA46: =LOOKUP(AD46,COD,PUNT) -> 0 | AD46: =MAX(N46:X46) -> 0 | AE46: =INGRESO!C38 -> 0
AA47: | | AD47: =MAX(N47:X47) -> 0
B48: 58 | C48: Expresiones faciales inapropiadas | N48: =IF(algoritmo=1,AE48,"") | P48: =IF(algoritmo=2,AE48,"") | R48: =IF(algoritmo=3,AE48,"") | U48: =IF(algoritmo=4,AE48,"") -> 0 | X48: =IF(algoritmo=5,AE48,"") | AA48: =LOOKUP(AD48,COD,PUNT) -> 0 | AD48: =MAX(N48:X48) -> 0 | AE48: =INGRESO!C40 -> 0
AA49: | | AD49: =MAX(N49:X49) -> 0
B50: 59 | C50: Cualidad apropiada de las respuestas sociales | N50: =IF(algoritmo=1,AE50,"") | P50: =IF(algoritmo=2,AE50,"") | R50: =IF(algoritmo=3,AE50,"") | U50: =IF(algoritmo=4,AE50,"") -> 0 | X50: =IF(algoritmo=5,AE50,"") | AA50: =LOOKUP(AD50,COD,PUNT) -> 0 | AD50: =MAX(N50:X50) -> 0 | AE50: =INGRESO!C41 -> 0
AA51: | | AD51: =MAX(N51:X51) -> 0
X52: TOTAL A4 | AA52: =SUM(AA50,AA48,AA46,AA44,AA42) -> 0 | AD52: =MAX(N52:X52) -> 0
A53: *El algoritmo de la conducta actual de 10 años en adelante sólo es aplicable a sujetos "verbales" (elemento 30=0). Para este grupo de edad no existe un algoritmo de conducta actual para sujetos "no verbales" (elementos 30=1 ó 2). ** Anote el código sólo si es menor de 5 años. | AD53: =MAX(N53:X53) -> 0
P54: TOTAL A (A1 + A2 + A3 + A4) | AA54: =SUM(AA52,AA38,AA28,AA14) -> 0 | AD54: =MAX(N54:X54) -> 0

Sheet B
A1: B. ALTERACIONES CUALITATIVAS DE LA COMUNICACIÓN
A2: =CONCATENATE("*Elemento 30=",'P1'!D46) -> *Elemento 30=
A3: • En los sujetos "verbales" (elemento 30=0), puntúe B1, B4, B2 (V) Y B3 (V). • En los sujetos "no verbales" (elemento 30=1 ó 2) puntúe solamente B1 y B4.
G4: CÓDIGO A ANOTAR → | N4: ACTUAL | T4: ACTUAL | W4: MÁS ANORMAL 4.0 - 5.0
G5: EDAD DE APLICACIÓN → | N5: 2.0 a 3.11 | P5: 4.0 a 9.11 | R5: 10.0 …* | U5: 2.0 a 3.11 | X5: 4.0 …
A7: B.1 | B7: Falta o retraso del lenguaje hablado e incapacidad para compensar esta falta mediante gestos | AA7: Puntuación de algoritmo | AD7: final | AE7: puntaje
B9: 42 | C9: Señalar para expresar interés | N9: =IF(algoritmo=1,AE9,"") | P9: =IF(algoritmo=2,AE9,"") | R9: =IF(algoritmo=3,AE9,"") | U9: =IF(algoritmo=4,AE9,"") -> 0 | X9: =IF(algoritmo=5,AE9,"") | AA9: =LOOKUP(AD9,COD,PUNT) -> 0 | AD9: =MAX(N9:X9) -> 0 | AE9: =INGRESO!C24 -> 0
AA10: | | AD10: =MAX(N10:X10) -> 0
B11: 43 | C11: Asentir con la cabeza | N11: =IF(algoritmo=1,AE11,"") | P11: =IF(algoritmo=2,AE11,"") | R11: =IF(algoritmo=3,AE11,"") | U11: =IF(algoritmo=4,AE11,"") -> 0 | X11: =IF(algoritmo=5,AE11,"") | AA11: =LOOKUP(AD11,COD,PUNT) -> 0 | AD11: =MAX(N11:X11) -> 0 | AE11: =INGRESO!C25 -> 0
AA12: | | AD12: =MAX(N12:X12) -> 0
B13: 44 | C13: Negar con la cabeza | N13: =IF(algoritmo=1,AE13,"") | P13: =IF(algoritmo=2,AE13,"") | R13: =IF(algoritmo=3,AE13,"") | U13: =IF(algoritmo=4,AE13,"") -> 0 | X13: =IF(algoritmo=5,AE13,"") | AA13: =LOOKUP(AD13,COD,PUNT) -> 0 | AD13: =MAX(N13:X13) -> 0 | AE13: =INGRESO!C26 -> 0
AA14: | | AD14: =MAX(N14:X14) -> 0
B15: 45 | C15: Gestos convencionales / instrumentales | N15: =IF(algoritmo=1,AE15,"") | P15: =IF(algoritmo=2,AE15,"") | R15: =IF(algoritmo=3,AE15,"") | U15: =IF(algoritmo=4,AE15,"") -> 0 | X15: =IF(algoritmo=5,AE15,"") | AA15: =LOOKUP(AD15,COD,PUNT) -> 0 | AD15: =MAX(N15:X15) -> 0 | AE15: =INGRESO!C27 -> 0
AA16: | | AD16: =MAX(N16:X16) -> 0
X17: TOTAL B1 | AA17: =SUM(AA15,AA13,AA11,AA9) -> 0 | AD17: =MAX(N17:X17) -> 0
AD18: =MAX(N18:X18) -> 0
A19: B.4 | B19: Falta de juego imaginativo o juego social imitativo espontáneo y variado | AA19: Puntuación de algoritmo | AD19: =MAX(N19:X19) -> 0
AD20: =MAX(N20:X20) -> 0
B21: 47 | C21: Imitación espontánea de acciones | N21: =IF(algoritmo=1,AE21,"") | P21: =IF(algoritmo=2,AE21,"") | U21: =IF(algoritmo=4,AE21,"") -> 0 | X21: =IF(algoritmo=5,AE21,"") | AA21: =LOOKUP(AD21,COD,PUNT) -> 0 | AD21: =MAX(N21:X21) -> 0 | AE21: =INGRESO!C29 -> 0
AA22: | | AD22: =MAX(N22:X22) -> 0
B23: 48 | C23: Juego imaginativo | N23: =IF(algoritmo=1,AE23,"") | P23: =IF(algoritmo=2,AE23,"") | U23: =IF(algoritmo=4,AE23,"") -> 0 | X23: =IF(algoritmo=5,AE23,"") | AA23: =LOOKUP(AD23,COD,PUNT) -> 0 | AD23: =MAX(N23:X23) -> 0 | AE23: =INGRESO!C30 -> 0
AA24: | | AD24: =MAX(N24:X24) -> 0
B25: 61 | C25: Juego social imitativo | N25: =IF(algoritmo=1,AE25,"") | P25: =IF(algoritmo=2,AE25,"") | U25: =IF(algoritmo=4,AE25,"") -> 0 | X25: =IF(algoritmo=5,AE25,"") | AA25: =LOOKUP(AD25,COD,PUNT) -> 0 | AD25: =MAX(N25:X25) -> 0 | AE25: =INGRESO!C43 -> 0
AA26: | | AD26: =MAX(N26:X26) -> 0
X27: TOTAL B4 | AA27: =SUM(AA25,AA23,AA21) -> 0 | AD27: =MAX(N27:X27) -> 0
AD28: =MAX(N28:X28) -> 0
A29: SÓLO EN SUJETOS "VERBALES" | B29: B.2 | C29: (V). Incapacidad relativa para iniciar o sostener un intercambio conversacional | AA29: Puntuación de algoritmo | AD29: =MAX(N29:X29) -> 0
AD30: =MAX(N30:X30) -> 0
B31: 34 | C31: Verbalización social / charla | N31: =IF(algoritmo=1,AE31,"") | P31: =IF(algoritmo=2,AE31,"") | R31: =IF(algoritmo=3,AE31,"") | U31: =IF(algoritmo=4,AE31,"") -> 0 | X31: =IF(algoritmo=5,AE31,"") | AA31: =LOOKUP(AD31,COD,PUNT) -> 0 | AD31: =MAX(N31:X31) -> 0 | AE31: =INGRESO!C17 -> 0
AA32: | | AD32: =MAX(N32:X32) -> 0
B33: 35 | C33: Conversación recíproca | N33: =IF(algoritmo=1,AE33,"") | P33: =IF(algoritmo=2,AE33,"") | R33: =IF(algoritmo=3,AE33,"") | U33: =IF(algoritmo=4,AE33,"") -> 0 | X33: =IF(algoritmo=5,AE33,"") | AA33: =LOOKUP(AD33,COD,PUNT) -> 0 | AD33: =MAX(N33:X33) -> 0 | AE33: =INGRESO!C18 -> 0
AA34: | | AD34: =MAX(N34:X34) -> 0
X35: TOTAL B2 | AA35: =SUM(AA33,AA31) -> 0 | AD35: =MAX(N35:X35) -> 0
AD36: =MAX(N36:X36) -> 0
B37: B.3 | C37: (V). Habla estereotipada, repetitiva e idiosincrásica | AA37: Puntuación de algoritmo | AD37: =MAX(N37:X37) -> 0
AD38: =MAX(N38:X38) -> 0
B39: 33 | C39: Expresiones estereotipadas y ecolalia diferida | N39: =IF(algoritmo=1,AE39,"") | P39: =IF(algoritmo=2,AE39,"") | R39: =IF(algoritmo=3,AE39,"") | U39: =IF(algoritmo=4,AE39,"") -> 0 | X39: =IF(algoritmo=5,AE39,"") | AA39: =LOOKUP(AD39,COD,PUNT) -> 0 | AD39: =MAX(N39:X39) -> 0 | AE39: =INGRESO!C16 -> 0
AA40: | | AD40: =MAX(N40:X40) -> 0
B41: 36 | C41: Preguntas o expresiones inapropiadas | N41: =IF(algoritmo=1,AE41,"") | P41: =IF(algoritmo=2,AE41,"") | R41: =IF(algoritmo=3,AE41,"") | U41: =IF(algoritmo=4,AE41,"") -> 0 | X41: =IF(algoritmo=5,AE41,"") | AA41: =LOOKUP(AD41,COD,PUNT) -> 0 | AD41: =MAX(N41:X41) -> 0 | AE41: =INGRESO!C19 -> 0
AA42: | | AD42: =MAX(N42:X42) -> 0
B43: 37 | C43: Inversión de pronombres | N43: =IF(algoritmo=1,AE43,"") | P43: =IF(algoritmo=2,AE43,"") | R43: =IF(algoritmo=3,AE43,"") | U43: =IF(algoritmo=4,AE43,"") -> 0 | X43: =IF(algoritmo=5,AE43,"") | AA43: =LOOKUP(AD43,COD,PUNT) -> 0 | AD43: =MAX(N43:X43) -> 0 | AE43: =INGRESO!C20 -> 0
AA44: | | AD44: =MAX(N44:X44) -> 0
B45: 38 | C45: Neologismos / Lenguaje idiosincrásico | N45: =IF(algoritmo=1,AE45,"") | P45: =IF(algoritmo=2,AE45,"") | R45: =IF(algoritmo=3,AE45,"") | U45: =IF(algoritmo=4,AE45,"") -> 0 | X45: =IF(algoritmo=5,AE45,"") | AA45: =LOOKUP(AD45,COD,PUNT) -> 0 | AD45: =MAX(N45:X45) -> 0 | AE45: =INGRESO!C21 -> 0
AA46: | | AD46: =MAX(N46:X46) -> 0
X47: TOTAL B3 | AA47: =SUM(AA45,AA43,AA41,AA39) -> 0 | AD47: =MAX(N47:X47) -> 0
AD48: =MAX(N48:X48) -> 0
H49: EN SUJETOS "VERBALES" | P49: TOTAL VERBAL B(V) B1+B4+B2(V)+B3(V) | AA49: =SUM(AA47,AA35,AA27,AA17) -> 0 | AD49: =MAX(N49:X49) -> 0
H51: EN SUJETOS "NO VERBALES" | P51: TOTAL NO VERBAL B (NV) B1+B4 | AA51: =SUM(AA17,AA27) -> 0
A53: *Algoritmo sólo aplicable a sujetos "verbales" (elemento 30=0), por lo que deberá codificarse todos los códigos de B1, B2 (V) Y B3 (V). En este algoritmo no se recoge la codificación de ningún elemento en el subdominio B4.

Sheet C
A1: C. PATRONES DE CONDUCTA RESTRINGIDOS, REPETITIVOS Y ESTEREOTIPADOS
A2: =CONCATENATE("*Elemento 30=",INGRESO!C13) -> *Elemento 30= | N2: Algoritmo de la conducta actual | U2: Algoritmo diagnóstico
G3: CÓDIGO A ANOTAR → | N3: ACTUAL | U3: ALGUNA VEZ
G4: EDAD DE APLICACIÓN → | N4: 2.0 a 3.11 | P4: 4.0 a 9.11 | R4: 10.0 …* | U4: 2.0 a 3.11 | X4: 4.0 … | AI4: =IF('P1'!B26='P1'!T25,1,2) -> 2
A6: C.1 | B6: Preocupación absorbente o patrón de intereses circunscrito | AA6: Puntuación de algoritmo | AC6: final | AD6: puntaje | AE6: puntaje
B8: 67 | C8: Preocupaciones inusuales | N8: =IF(AI4=1,AD8,"") | U8: =IF(AI4=2,AD8,"") -> 0 | AA8: =LOOKUP(AC8,COD,PUNT) -> 0 | AC8: =MAX(N8:X8) -> 0 | AD8: =INGRESO!C49 -> 0
AA9: | | AC9: =MAX(N9:X9) -> 0
B10: 68 | C10: Intereses circunscritos (puntúe solamente si tiene 3 años o más) | N10: =IF(AI4=1,AD10,"") | U10: =IF(AI4=2,AD10,"") -> 0 | AA10: =LOOKUP(AC10,COD,PUNT) -> 0 | AC10: =MAX(N10:X10) -> 0 | AD10: =INGRESO!C50 -> 0
AA11: | | AC11: =MAX(N11:X11) -> 0
X12: TOTAL C1 | AA12: =SUM(AA10,AA8) -> 0 | AC12: =MAX(N12:X12) -> 0
AC13: =MAX(N13:X13) -> 0
A14: C.2 | B14: Adhesión aparentemente compulsiva a rutinas o rituales no funcionales | AA14: Puntuación de algoritmo | AC14: =MAX(N14:X14) -> 0
AC15: =MAX(N15:X15) -> 0
B16: 39 | C16: Rituales verbales (puntúe solamente si el elemento 30=0) | N16: =IF(AI4=1,AD16,"") | U16: =IF(AI4=2,AD16,"") -> 0 | AA16: =LOOKUP(AC16,COD,PUNT) -> 0 | AC16: =MAX(N16:X16) -> 0 | AD16: =INGRESO!C22 -> 0
AA17: | | AC17: =MAX(N17:X17) -> 0
B18: 70 | C18: Compulsiones / Rituales | N18: =IF(AI4=1,AD18,"") | U18: =IF(AI4=2,AD18,"") -> 0 | AA18: =LOOKUP(AC18,COD,PUNT) -> 0 | AC18: =MAX(N18:X18) -> 0 | AD18: =INGRESO!C52 -> 0
AA19: | | AC19: =MAX(N19:X19) -> 0
X20: TOTAL C2 | AA20: =SUM(AA18,AA16) -> 0 | AC20: =MAX(N20:X20) -> 0
AC21: =MAX(N21:X21) -> 0
A22: C.3 | B22: Manierismos motores estereotipados y repetitivos | AA22: Registre la puntuación más alta de los dos elementos | AC22: =MAX(N22:X22) -> 0
AC23: =MAX(N23:X23) -> 0
B24: 77 | C24: Manierismos de manos y dedos | N24: =IF(AI4=1,AD24,"") | U24: =IF(AI4=2,AD24,"") -> 0 | AA24: =LOOKUP(MAX(U26,U24),COD,PUNT) -> 0 | AC24: =MAX(N24:X24) -> 0 | AD24: =INGRESO!C55 -> 0
AC25: =MAX(N25:X25) -> 0
B26: 78 | C26: Otros manierismos complejos o movimientos estereotipados del cuerpo | N26: =IF(AI4=1,AD26,"") | U26: =IF(AI4=2,AD26,"") -> 0 | AC26: =MAX(N26:X26) -> 0 | AD26: =INGRESO!C56 -> 0
AA27: | | AC27: =MAX(N27:X27) -> 0
X28: TOTAL C3 | AA28: =SUM(AA24) -> 0 | AC28: =MAX(N28:X28) -> 0
AC29: =MAX(N29:X29) -> 0
A30: C.4 | B30: Preocupaciones con parte de objetos o elementos no funcionales de los materiales | AA30: Registre la puntuación más alta de los dos elementos | AC30: =MAX(N30:X30) -> 0
AC31: =MAX(N31:X31) -> 0
B32: 69 | C32: Uso repetitivo de objetos o interés en partes de objetos | N32: =IF(AI4=1,AD32,"") | U32: =IF(AI4=2,AD32,"") -> 0 | AA32: =LOOKUP(MAX(U34,U32),COD,PUNT) -> 0 | AC32: =MAX(N32:X32) -> 0 | AD32: =INGRESO!C51 -> 0
AC33: =MAX(N33:X33) -> 0
B34: 71 | C34: Intereses sensoriales inusuales | N34: =IF(AI4=1,AD34,"") | U34: =IF(AI4=2,AD34,"") -> 0 | AC34: =MAX(N34:X34) -> 0 | AD34: =INGRESO!C53 -> 0
AA35: | | AC35: =MAX(N35:X35) -> 0
X36: TOTAL C4 | AA36: =SUM(AA32) -> 0 | AC36: =MAX(N36:X36) -> 0
AC37: =MAX(N37:X37) -> 0
P38: TOTAL C (C1 + C2 + C3 + C4) | AA38: =SUM(AA36,AA28,AA20,AA12) -> 0 | AC38: =MAX(N38:X38) -> 0

Sheet D
A1: D. ALTERACIONES EN EL DESARROLLO EVIDENTES A LOS 36 MESES O ANTES
A2: RELLENAR SÓLO SI SE UTILIZA UN ALGORITMO DIAGNÓSTICO
A3: (ya sea el de 2 años, 0 meses a 3 años, 11 meses o el de 4 años, 0 meses en adelante)
N5: CÓDIGO | R5: PUNT. | U5: 1 | V5: 2 | W5: 3
B7: 2 | C7: Edad en que los padres lo notaron por primera vez (si <36 meses, puntúe 1) | N7: =U7 -> 0 | O7: =V7 -> 0 | P7: =W7 -> 0 | R7: =IF(INGRESO!E5="",0,Y7) -> 0 | U7: =INGRESO!C5 -> 0 | V7: =INGRESO!D5 -> 0 | W7: =INGRESO!E5 -> 0 | X7: =SUM((N7*100)+(O7*10)+(P7)) -> 0 | Y7: =IF(X7<36,1,0) -> 1
R8: |
B9: 9 | C9: Edad de las primeras palabras (si >24 meses, puntúe 1) | N9: =U9 -> 0 | O9: =V9 -> 0 | P9: =W9 -> 0 | R9: =Y9 -> 0 | U9: =INGRESO!C6 -> 0 | V9: =INGRESO!D6 -> 0 | W9: =INGRESO!E6 -> 0 | X9: =SUM((N9*100)+(O9*10)+(P9)) -> 0 | Y9: =IF(X9>24,1,0) -> 0
R10: |
B11: 10 | C11: Edad de las primeras frases (si >33 meses, puntúe 1) | N11: =U11 -> 0 | O11: =V11 -> 0 | P11: =W11 -> 0 | R11: =Y11 -> 0 | U11: =INGRESO!C7 -> 0 | V11: =INGRESO!D7 -> 0 | W11: =INGRESO!E7 -> 0 | X11: =SUM((N11*100)+(O11*10)+(P11)) -> 0 | Y11: =IF(X11>33,1,0) -> 0
R12: |
B13: 86 | C13: Edad en que la anormalidad se hizo evidente por primera vez (si el código fue 3 ó 4, puntúe 1) | N13: =INGRESO!C61 -> 0 | R13: =Y13 -> 0 | Y13: =IF(N13=3,1,(IF(N13=4,1,0))) -> 0
R14: |
B15: 87 | C15: Juicio del entrevistador sobre la edad en que se manifestaron por primera vez las anormalidades (si <36 meses, puntúe 1) | N15: =U15 -> 0 | O15: =V15 -> 0 | P15: =W15 -> 0 | R15: =IF(INGRESO!E62="",0,Y15) -> 0 | U15: =INGRESO!C62 -> 0 | V15: =INGRESO!D62 -> 0 | W15: =INGRESO!E62 -> 0 | X15: =SUM((N15*100)+(O15*10)+(P15)) -> 0 | Y15: =IF(P15="","REV",(IF(X15<36,1,0))) -> 1
R16: |
O17: TOTAL D | R17: =SUM(R15,R13,R11,R9,R7) -> 0

Sheet CP
A1: COD | B1: PUNT
A2: 0 | B2: 0
A3: 1 | B3: 1
A4: 2 | B4: 2
A5: 3 | B5: 2
A6: 4 | B6: X
A7: 5 | B7: X
A8: 6 | B8: X
A9: 7 | B9: 0
A10: 8 | B10: 0
A11: 9 | B11: 0

Sheet INGRESO
B2: En la columna "PUNTAJE" debe registrar el puntaje final a utilizar, la codificación se realizará automáticamente según su elección de algoritmo en la pestaña P1. El ítem 30 tiene gran importancia, ya que define si el sujeto es o no verbal.
S3: Actual | T3: Actual | U3: Actual (4 años o mayor) | V3: Actual
B4: ITEM | C4: PUNTAJE | F4: OPCIÓN ADICIONAL ↓ | H4: FORMA | I4: ALERTAS | J4: alertas codificación opción adicional | S4: Alguna vez | T4: Alguna vez (cuando tenía lenguaje) | U4: A los 5 años | V4: Más anormal 4.0-5.0 años
B5: 2 | H5: D | L5: =IF(M5="","",CONCATENATE(" - ",M5)) -> - 2 | M5: =IF((OR(C5="",D5="",E5="")),2,"") -> 2
B6: 9 | H6: D | L6: =IF(M6="","",CONCATENATE(" - ",M6)) -> - 9 | M6: =IF((OR(C6="",D6="",E6="")),9,"") -> 9
B7: 10 | H7: D | L7: =IF(M7="","",CONCATENATE(" - ",M7)) -> - 10 | M7: =IF((OR(C7="",D7="",E7="")),10,"") -> 10 | S7: 0-1-2 | T7: 0-1-2-3-8-9 | U7: 0-1-2-8-9 | V7: 0-1-2-3-7-8-9
B8: 12 | H8: dg
B9: 20 | H9: dg
B10: 21 | H10: dg
B11: 26 | H11: dg
B12: 28 | H12: dg
B13: 30 | H13: ABC | I13: =IF(elemento30>0,"Revise indicaciones adicionales (Sujeto No Verbal)","") | L13: =IF(M13="","",CONCATENATE(" - ",M13)) | M13: =IF(C13="","",1) | R13: 0 | S13: 0 | T13: 0 | U13: 0 | V13: 0 | W13: 0
B14: 31 | F14: Alguna vez | H14: A | J14: =IF(G14<C14,"Alguna vez debe ser igual o mayor que Actual","") | L14: =IF(M14="","",CONCATENATE(" - ",M14)) -> - 31 | M14: =IF(C14="",31,"") -> 31 | R14: 1 | S14: 1 | T14: 1 | U14: 1 | V14: 1 | W14: 1
L15: =IF(M15="","",CONCATENATE(" - ",M15)) | M15: =IF(C15="","",1) | R15: 2 | S15: 2 | T15: 2 | U15: 2 | V15: 2 | W15: 2
B16: 33 | F16: Alguna vez | H16: B | I16: =IF(elemento30=0,"","Revise indicaciones adicionales del elemento 30 (puntaje sugerido 8)") | J16: =IF(G16<C16,"Alguna vez debe ser igual o mayor que Actual","") | L16: =IF(M16="","",CONCATENATE(" - ",M16)) -> - 33 | M16: =IF(C16="",33,"") -> 33 | R16: 9 | T16: 3 | U16: 8 | V16: 3 | W16: 3
B17: 34 | F17: Alguna vez (cuando tenía lenguaje) | H17: B | I17: =IF(elemento30=0,"","Revise indicaciones adicionales del elemento 30 (puntaje sugerido 8)") | L17: =IF(M17="","",CONCATENATE(" - ",M17)) -> - 34 | M17: =IF(C17="",34,"") -> 34 | T17: 8 | U17: 9 | V17: 7 | W17: 9
B18: 35 | F18: Alguna vez (cuando tenía lenguaje) | H18: B | I18: =IF(elemento30=0,"","Revise indicaciones adicionales del elemento 30 (puntaje sugerido 8)") | L18: =IF(M18="","",CONCATENATE(" - ",M18)) -> - 35 | M18: =IF(C18="",35,"") -> 35 | T18: 9 | V18: 8
B19: 36 | F19: Alguna vez | H19: B | I19: =IF(elemento30=0,"","Revise indicaciones adicionales del elemento 30 (puntaje sugerido 8)") | J19: =IF(G19<C19,"Alguna vez debe ser igual o mayor que Actual","") | L19: =IF(M19="","",CONCATENATE(" - ",M19)) -> - 36 | M19: =IF(C19="",36,"") -> 36 | V19: 9
B20: 37 | F20: Alguna vez | H20: B | I20: =IF(elemento30=0,"","Revise indicaciones adicionales del elemento 30 (puntaje sugerido 8)") | J20: =IF(G20<C20,"Alguna vez debe ser igual o mayor que Actual","") | L20: =IF(M20="","",CONCATENATE(" - ",M20)) -> - 37 | M20: =IF(C20="",37,"") -> 37
B21: 38 | F21: Alguna vez | H21: B | I21: =IF(elemento30=0,"","Revise indicaciones adicionales del elemento 30 (puntaje sugerido 8)") | J21: =IF(G21<C21,"Alguna vez debe ser igual o mayor que Actual","") | L21: =IF(M21="","",CONCATENATE(" - ",M21)) -> - 38 | M21: =IF(C21="",38,"") -> 38
B22: 39 | F22: Alguna vez | H22: C | I22: =IF(elemento30=0,"","Revise indicaciones adicionales del elemento 30 (puntaje sugerido 8)") | J22: =IF(G22<C22,"Alguna vez debe ser igual o mayor que Actual","") | L22: =IF(M22="","",CONCATENATE(" - ",M22)) -> - 39 | M22: =IF(C22="",39,"") -> 39
L23: =IF(M23="","",CONCATENATE(" - ",M23)) | M23: =IF(C23="","",1)
B24: 42 | F24: Más anormal 4.0-5.0 años | H24: B | J24: =IF('P1'!T12<4,"Debe puntuar 8 en opción adicional (más anormal 4.0-5.0 años)","") -> Debe puntuar 8 en opción adicional (más anormal 4.0-5.0 años) | L24: =IF(M24="","",CONCATENATE(" - ",M24)) -> - 42 | M24: =IF(C24="",42,"") -> 42 | S24: Actual (menor de 10 años) | T24: Actual (mayor de 4 años y menor de 10 años) | U24: Actual (menor de 5 años) | V24: Actual
B25: 43 | F25: Más anormal 4.0-5.0 años | H25: B | J25: =IF('P1'!T12<4,"Debe puntuar 8 en opción adicional (más anormal 4.0-5.0 años)","") -> Debe puntuar 8 en opción adicional (más anormal 4.0-5.0 años) | L25: =IF(M25="","",CONCATENATE(" - ",M25)) -> - 43 | M25: =IF(C25="",43,"") -> 43 | S25: Más anormal 4.0-5.0 años | T25: Más anormal 4.0-5.0 años | U25: Más anormal 4.0-5.0 años | V25: Más anormal 4.0-5.0 años
B26: 44 | F26: Más anormal 4.0-5.0 años | H26: B | J26: =IF('P1'!T12<4,"Debe puntuar 8 en opción adicional (más anormal 4.0-5.0 años)","") -> Debe puntuar 8 en opción adicional (más anormal 4.0-5.0 años) | L26: =IF(M26="","",CONCATENATE(" - ",M26)) -> - 44 | M26: =IF(C26="",44,"") -> 44
B27: 45 | F27: Más anormal 4.0-5.0 años | H27: B | I27: Leer NOTA antes de puntuar | J27: =IF('P1'!T12<4,"Debe puntuar 8 en opción adicional (más anormal 4.0-5.0 años)","") -> Debe puntuar 8 en opción adicional (más anormal 4.0-5.0 años) | L27: =IF(M27="","",CONCATENATE(" - ",M27)) -> - 45 | M27: =IF(C27="",45,"") -> 45 | S27: Actual (igual o mayor de 4 años y menor de 10 años)
L28: =IF(M28="","",CONCATENATE(" - ",M28)) | M28: =IF(C28="","",1) | S28: Más anormal 4.0-5.0 años
B29: 47 | F29: Más anormal 4.0-5.0 años | H29: B | J29: =IF('P1'!T12<4,"Debe puntuar 8 en opción adicional (más anormal 4.0-5.0 años)","") -> Debe puntuar 8 en opción adicional (más anormal 4.0-5.0 años) | L29: =IF(M29="","",CONCATENATE(" - ",M29)) -> - 47 | M29: =IF(C29="",47,"") -> 47
B30: 48 | F30: Más anormal 4.0-5.0 años | H30: B | J30: =IF('P1'!T12<4,"Debe puntuar 8 en opción adicional (más anormal 4.0-5.0 años)","") -> Debe puntuar 8 en opción adicional (más anormal 4.0-5.0 años) | L30: =IF(M30="","",CONCATENATE(" - ",M30)) -> - 48 | M30: =IF(C30="",48,"") -> 48
B31: 49 | F31: Más anormal 4.0-5.0 años | H31: A | J31: =IF('P1'!T12<4,"Debe puntuar 8 en opción adicional (más anormal 4.0-5.0 años)","") -> Debe puntuar 8 en opción adicional (más anormal 4.0-5.0 años) | L31: =IF(M31="","",CONCATENATE(" - ",M31)) -> - 49 | M31: =IF(C31="",49,"") -> 49
B32: 50 | F32: Más anormal 4.0-5.0 años | H32: A | J32: =IF('P1'!T12<4,"Debe puntuar 8 en opción adicional (más anormal 4.0-5.0 años)","") -> Debe puntuar 8 en opción adicional (más anormal 4.0-5.0 años) | L32: =IF(M32="","",CONCATENATE(" - ",M32)) -> - 50 | M32: =IF(C32="",50,"") -> 50
B33: 51 | F33: Más anormal 4.0-5.0 años | H33: A | J33: =IF('P1'!T12<4,"Debe puntuar 8 en opción adicional (más anormal 4.0-5.0 años)","") -> Debe puntuar 8 en opción adicional (más anormal 4.0-5.0 años) | L33: =IF(M33="","",CONCATENATE(" - ",M33)) -> - 51 | M33: =IF(C33="",51,"") -> 51
B34: 52 | F34: Más anormal 4.0-5.0 años | H34: A | J34: =IF('P1'!T12<4,"Debe puntuar 8 en opción adicional (más anormal 4.0-5.0 años)","") -> Debe puntuar 8 en opción adicional (más anormal 4.0-5.0 años) | L34: =IF(M34="","",CONCATENATE(" - ",M34)) -> - 52 | M34: =IF(C34="",52,"") -> 52
B35: 53 | F35: Más anormal 4.0-5.0 años | H35: A | J35: =IF('P1'!T12<4,"Debe puntuar 8 en opción adicional (más anormal 4.0-5.0 años)","") -> Debe puntuar 8 en opción adicional (más anormal 4.0-5.0 años) | L35: =IF(M35="","",CONCATENATE(" - ",M35)) -> - 53 | M35: =IF(C35="",53,"") -> 53
B36: 54 | F36: Más anormal 4.0-5.0 años | H36: A | J36: =IF('P1'!T12<4,"Debe puntuar 8 en opción adicional (más anormal 4.0-5.0 años)","") -> Debe puntuar 8 en opción adicional (más anormal 4.0-5.0 años) | L36: =IF(M36="","",CONCATENATE(" - ",M36)) -> - 54 | M36: =IF(C36="",54,"") -> 54
B37: 55 | F37: Más anormal 4.0-5.0 años | H37: A | J37: =IF('P1'!T12<4,"Debe puntuar 8 en opción adicional (más anormal 4.0-5.0 años)","") -> Debe puntuar 8 en opción adicional (más anormal 4.0-5.0 años) | L37: =IF(M37="","",CONCATENATE(" - ",M37)) -> - 55 | M37: =IF(C37="",55,"") -> 55
B38: 56 | F38: Más anormal 4.0-5.0 años | H38: A | J38: =IF('P1'!T12<4,"Debe puntuar 8 en opción adicional (más anormal 4.0-5.0 años)","") -> Debe puntuar 8 en opción adicional (más anormal 4.0-5.0 años) | L38: =IF(M38="","",CONCATENATE(" - ",M38)) -> - 56 | M38: =IF(C38="",56,"") -> 56
B39: 57 | F39: Más anormal 4.0-5.0 años | H39: A | J39: =IF('P1'!T12<4,"Debe puntuar 8 en opción adicional (más anormal 4.0-5.0 años)","") -> Debe puntuar 8 en opción adicional (más anormal 4.0-5.0 años) | L39: =IF(M39="","",CONCATENATE(" - ",M39)) -> - 57 | M39: =IF(C39="",57,"") -> 57
B40: 58 | F40: Alguna vez | H40: A | J40: =IF(G40<C40,"Alguna vez debe ser igual o mayor que Actual","") | L40: =IF(M40="","",CONCATENATE(" - ",M40)) -> - 58 | M40: =IF(C40="",58,"") -> 58
B41: 59 | F41: Más anormal 4.0-5.0 años | H41: A | J41: =IF('P1'!T12<4,"Debe puntuar 8 en opción adicional (más anormal 4.0-5.0 años)","") -> Debe puntuar 8 en opción adicional (más anormal 4.0-5.0 años) | L41: =IF(M41="","",CONCATENATE(" - ",M41)) -> - 59 | M41: =IF(C41="",59,"") -> 59
J42: =IF('P1'!T12<4,"Debe puntuar 8 en opción adicional (más anormal 4.0-5.0 años)","") -> Debe puntuar 8 en opción adicional (más anormal 4.0-5.0 años) | L42: =IF(M42="","",CONCATENATE(" - ",M42)) | M42: =IF(C42="","",1)
B43: 61 | F43: Más anormal 4.0-5.0 años | H43: B | J43: =IF('P1'!T12<4,"Debe puntuar 8 en opción adicional (más anormal 4.0-5.0 años)","") -> Debe puntuar 8 en opción adicional (más anormal 4.0-5.0 años) | L43: =IF(M43="","",CONCATENATE(" - ",M43)) -> - 61 | M43: =IF(C43="",61,"") -> 61
B44: 62 | F44: Más anormal 4.0-5.0 años | H44: A | J44: =IF('P1'!T12<4,"Debe puntuar 8 en opción adicional (más anormal 4.0-5.0 años)","") -> Debe puntuar 8 en opción adicional (más anormal 4.0-5.0 años) | L44: =IF(M44="","",CONCATENATE(" - ",M44)) -> - 62 | M44: =IF(C44="",62,"") -> 62
B45: 63 | F45: Más anormal 4.0-5.0 años | H45: A | J45: =IF('P1'!T12<4,"Debe puntuar 8 en opción adicional (más anormal 4.0-5.0 años)","") -> Debe puntuar 8 en opción adicional (más anormal 4.0-5.0 años) | L45: =IF(M45="","",CONCATENATE(" - ",M45)) -> - 63 | M45: =IF(C45="",63,"") -> 63 | S45: Actual (igual o mayor de 3 años)
B46: 64 | F46: Más anormal 4.0-5.0 años | H46: A | J46: =IF('P1'!T12<4,"Debe puntuar 8 en opción adicional (más anormal 4.0-5.0 años)","") -> Debe puntuar 8 en opción adicional (más anormal 4.0-5.0 años) | L46: =IF(M46="","",CONCATENATE(" - ",M46)) -> - 64 | M46: =IF(C46="",64,"") -> 64 | S46: Alguna vez (igual o mayor de 3 años)
B47: 65 | F47: Más anormal 4.0-5.0 años | H47: A | J47: =IF('P1'!T12<4,"Debe puntuar 8 en opción adicional (más anormal 4.0-5.0 años)","") -> Debe puntuar 8 en opción adicional (más anormal 4.0-5.0 años) | L47: =IF(M47="","",CONCATENATE(" - ",M47)) -> - 65 | M47: =IF(C47="",65,"") -> 65
L48: =IF(M48="","",CONCATENATE(" - ",M48)) | M48: =IF(C48="","",1)
B49: 67 | F49: Alguna vez | H49: C | J49: =IF(G49<C49,"Alguna vez debe ser igual o mayor que Actual","") | L49: =IF(M49="","",CONCATENATE(" - ",M49)) -> - 67 | M49: =IF(C49="",67,"") -> 67 | R49: 0
B50: 68 | F50: Alguna vez (igual o mayor de 3 años) | H50: C | L50: =IF(M50="","",CONCATENATE(" - ",M50)) -> - 68 | M50: =IF(C50="",68,"") -> 68 | R50: 1
B51: 69 | F51: Alguna vez | H51: C | J51: =IF(G51<C51,"Alguna vez debe ser igual o mayor que Actual","") | L51: =IF(M51="","",CONCATENATE(" - ",M51)) -> - 69 | M51: =IF(C51="",69,"") -> 69 | R51: 2
B52: 70 | F52: Alguna vez | H52: C | J52: =IF(G52<C52,"Alguna vez debe ser igual o mayor que Actual","") | L52: =IF(M52="","",CONCATENATE(" - ",M52)) -> - 70 | M52: =IF(C52="",70,"") -> 70 | R52: 3
B53: 71 | F53: Alguna vez | H53: C | J53: =IF(G53<C53,"Alguna vez debe ser igual o mayor que Actual","") | L53: =IF(M53="","",CONCATENATE(" - ",M53)) -> - 71 | M53: =IF(C53="",71,"") -> 71 | R53: 4
L54: =IF(M54="","",CONCATENATE(" - ",M54)) | M54: =IF(C54="","",1) | R54: 9
B55: 77 | F55: Alguna vez | H55: C | J55: =IF(G55<C55,"Alguna vez debe ser igual o mayor que Actual","") | L55: =IF(M55="","",CONCATENATE(" - ",M55)) -> - 77 | M55: =IF(C55="",77,"") -> 77
B56: 78 | F56: Alguna vez | H56: C | J56: =IF(G56<C56,"Alguna vez debe ser igual o mayor que Actual","") | L56: =IF(M56="","",CONCATENATE(" - ",M56)) -> - 78 | M56: =IF(C56="",78,"") -> 78
B57: 79 | H57: dg
L58: =IF(M58="","",CONCATENATE(" - ",M58)) | M58: =IF(C58="","",1)
B59: 84 | H59: dg
B60: 85 | H60: dg
B61: 86 | H61: D | L61: =IF(M61="","",CONCATENATE(" - ",M61)) -> - 86 | M61: =IF(C61="",86,"") -> 86
B62: 87 | H62: D | L62: =IF(M62="","",CONCATENATE(" - ",M62)) -> - 87 | M62: =IF((OR(C62="",D62="",E62="")),87,"") -> 87
B64: DOMINIO | F64: COMPLETADOS | H64: TOTAL | I64: ITEMS FALTANTES O SIN COMPLETAR
B65: A | F65: =F77 -> 0 | G65: =G77 -> 0 | H65: =H77 -> 16 | I65: =CONCATENATE(L14,L31,L32,L33,L34,L35,L36,L37,L38,L39,L40,L41,L44,L45,L46,L47) -> - 31 - 49 - 50 - 51 - 52 - 53 - 54 - 55 - 56 - 57 - 58 - 59 - 62 - 63 - 64 - 65
B66: B | F66: =F78 -> 0 | G66: =G78 -> 0 | H66: 13 | I66: =CONCATENATE(L16,L17,L18,L19,L20,L21,L24,L25,L26,L27,L29,L30,L43) -> - 33 - 34 - 35 - 36 - 37 - 38 - 42 - 43 - 44 - 45 - 47 - 48 - 61
B67: C | F67: =F79 -> 0 | G67: =G79 -> 0 | H67: 8 | I67: =CONCATENATE(L22,L49,L50,L51,L52,L53,L55,L56) -> - 39 - 67 - 68 - 69 - 70 - 71 - 77 - 78
B68: D | F68: =5-F80 -> 0 | G68: =G80 -> 0 | H68: =H80 -> 5 | I68: =CONCATENATE(L5,L6,L7,L61,L62) -> - 2 - 9 - 10 - 86 - 87
E77: a | F77: =COUNTA(C47,C46,C45,C44,C41,C40,C34:E39,C31:E33,C14) -> 0 | H77: 16
E78: b | F78: =COUNTA(C16,C17:E21,C24:E27,C29:E30,C43) -> 0
E79: c | F79: =COUNTA(C55:E56,C49:E53,C22) -> 0
E80: d | F80: =H80-(SUM((COUNTBLANK(M61:M62)),(COUNTBLANK(M5:M7)))) -> 5 | H80: 5

Sheet RESUMEN
A1: RESUMEN DE PUNTUACIONES ADI-R
J3: PUNTO DE CORTE
A4: VISIÓN GLOBAL | B4: =A12 -> A. ALTERACIONES CUALITATIVAS DE LA INTERACCIÓN SOCIAL RECÍPROCA | I4: =I17 -> 0 | J4: 10 | O4: a | P4: =I4 -> 0 | Q4: =IF(P4>=10,1,0) -> 0 | R4: =IF(Q4=1,(CONCATENATE(B4,". ")),"")
B5: =A19 -> B. ALTERACIONES CUALITATIVAS DE LA COMUNICACIÓN | O5: bv | P5: =I6 -> 0 | Q5: =IF(P5>=J6,1,0) -> 0 | R5: =IF(Q5=1,(CONCATENATE(B5,". ")),"")
B6: Verbal | I6: =I24 -> 0 | J6: 8 | O6: bnv | P6: =I7 -> 0 | Q6: =IF(P6>=J7,1,0) -> 0 | R6: =IF(Q6=1,(CONCATENATE(B5,". ")),"")
B7: No verbal | I7: =I25 -> 0 | J7: 7 | O7: c | P7: =I8 -> 0 | Q7: =IF(P7>=J8,1,0) -> 0 | R7: =IF(Q7=1,(CONCATENATE(B8,". ")),"")
B8: =A27 -> C. PATRONES DE CONDUCTA RESTRINGIDOS, REPETITIVOS Y ESTEREOTIPADOS | I8: =I32 -> 0 | J8: 3 | O8: d | P8: =I9 -> 0 | Q8: =IF(P8>=J9,1,0) -> 0 | R8: =IF(Q8=1,(CONCATENATE(B9,". ")),"")
B9: =A34 -> D. ALTERACIONES EN EL DESARROLLO EVIDENTES A LOS 36 MESES O ANTES | I9: =I40 -> 0 | J9: 1
R10: =CONCATENATE(R4,(IF(elemento30=0,R5,R6)),R7,R8)
R11: =SUM(Q4,(IF(elemento30=0,Q5,Q6)),Q7) -> 0
A12: =A!A1 -> A. ALTERACIONES CUALITATIVAS DE LA INTERACCIÓN SOCIAL RECÍPROCA
B13: =A!A6 -> A.1 | C13: =A!B6 -> Incapacidad para utilizar conductas no verbales en la regulación de la interacción social | I13: =A!AA14 -> 0
B14: =A!A16 -> A.2 | C14: =A!B16 -> Incapacidad para desarrollar relaciones con sus iguales | I14: ='P1'!D38 -> 0
B15: =A!A30 -> A.3 | C15: =A!B30 -> Falta de goce o placer compartido | I15: ='P1'!F38 -> 0
B16: =A!A40 -> A.4 | C16: =A!B40 -> Falta de reciprocidad socio-emocional | I16: ='P1'!J38 -> 0
B17: TOTAL DOMINIO A: | I17: ='P1'!M38 -> 0 | J17: *Punto de corte = 10
A19: =B!A1 -> B. ALTERACIONES CUALITATIVAS DE LA COMUNICACIÓN
B20: =B!A7 -> B.1 | C20: =B!B7 -> Falta o retraso del lenguaje hablado e incapacidad para compensar esta falta mediante gestos | I20: ='P1'!B40 -> 0
B21: =B!B29 -> B.2 | C21: =B!C29 -> (V). Incapacidad relativa para iniciar o sostener un intercambio conversacional | I21: ='P1'!D40 -> 0
B22: =B!B37 -> B.3 | C22: =B!C37 -> (V). Habla estereotipada, repetitiva e idiosincrásica | I22: ='P1'!F40 -> 0
B23: =B!A19 -> B.4 | C23: =B!B19 -> Falta de juego imaginativo o juego social imitativo espontáneo y variado | I23: ='P1'!J40 -> 0
C24: TOTAL DOMINIO B (VERBAL): | I24: ='P1'!M40 -> 0 | J24: *Punto de corte = 8
C25: TOTAL DOMINIO B (NO VERBAL): | I25: ='P1'!O40 -> 0 | J25: *Punto de corte = 7
A27: ='C'!A1:X1 -> C. PATRONES DE CONDUCTA RESTRINGIDOS, REPETITIVOS Y ESTEREOTIPADOS
B28: ='C'!A6 -> C.1 | C28: ='C'!B6 -> Preocupación absorbente o patrón de intereses circunscrito | I28: ='P1'!B43 -> 0
B29: ='C'!A14 -> C.2 | C29: ='C'!B14 -> Adhesión aparentemente compulsiva a rutinas o rituales no funcionales | I29: ='P1'!D43 -> 0
B30: ='C'!A22 -> C.3 | C30: ='C'!B22 -> Manierismos motores estereotipados y repetitivos | I30: ='P1'!F43 -> 0
B31: ='C'!A30 -> C.4 | C31: ='C'!B30 -> Preocupaciones con parte de objetos o elementos no funcionales de los materiales | I31: ='P1'!J43 -> 0
C32: TOTAL DOMINIO C: | I32: ='P1'!M43 -> 0 | J32: *Punto de corte = 3
A34: =D!A1 -> D. ALTERACIONES EN EL DESARROLLO EVIDENTES A LOS 36 MESES O ANTES
B35: Puntuación edad en que los padres lo notaron por primera vez | I35: =D!R7 -> 0
B36: Puntuación edad de las primeras palabras | I36: =D!R9 -> 0
B37: Puntuación edad de las primeras frases | I37: =D!R11 -> 0
B38: Puntuación edad en que la anormalidad se hizo evidente por primera vez | I38: =D!R13 -> 0
B39: Puntuación Juicio del entrevistador sobre la edad en que se manifestaron por primera vez las anormalidades | I39: =D!R15 -> 0
B40: TOTAL DOMINIO D: | I40: ='P1'!M45 -> 0 | J40: *Punto de corte = 1
A42: ANÁLISIS DE RESULTADOS
A43: =CONCATENATE(N48,N51," ",N52) -> Según los resultados obtenidos a partir de aplicación del ADI-R, es posible indicar que es improbable que el sujeto tenga ninguna forma de Trastorno del Espectro Autista (TEA).
L44: SOLO NOMBRE:
A45: Diagnóstico diferencial | L45: edad | M45: ='P1'!N11 -> FUERA DE RANGO
A46: =IF(elemento30="","No se completa Elemento 30, el cual se utiliza para establecer si el sujeto es verbal o no.",CONCATENATE("Es importante tener en consideración que el sujeto es ",IF(elemento30=0,"verbal","no verbal")," (Elemento 30=",elemento30,").")) -> No se completa Elemento 30, el cual se utiliza para establecer si el sujeto es verbal o no.
A47: Si se han cumplido todos los criterios diagnósticos del ADI-R y también la observación directa indica la probabilidad de TEA, la próxima cuestión que se plantea es qué tipo de TEA debe diagnosticarse.
N48: Según los resultados obtenidos a partir de aplicación del ADI-R, es posible indicar que
A49: Síndrome de Rett
A50: No se puede determinar a partir del algoritmo diagnóstico. Se debe prestar atención a los elementos que apuntan específicamente a la probabilidad del síndrome de Rett. Se caracteriza por regresión en el desarrollo que persiste conjuntamente con los característicos movimientos de manos en la línea media y la pérdida de los movimientos intencionados de la mano.
B51: ELEMENTO | D51: PUNTAJE | E51: ¿CUMPLE CRITERIO? | G51: CRITERIOS | N51: =IF(SUM(Q4:Q7)=0," es improbable que el sujeto tenga ninguna forma de Trastorno del Espectro Autista (TEA).",(IF(R11>0,CONCATENATE(" se observan dificultades en las siguientes áreas: ",R10)))) -> es improbable que el sujeto tenga ninguna forma de Trastorno del Espectro Autista (TEA).
A52: ֍ | B52: ='conf dg'!A2 -> 21 | D52: ='conf dg'!B2 -> No Resp. | E52: =IF('conf dg'!G2=1,"SI","NO") -> NO | G52: Código 1 o 2 en elemento 21 (movimientos voluntarios de las manos). | N52: =IF((SUM(Q4:Q7))>0,N53,"")
A53: ֍ | B53: ='conf dg'!A3 -> 20 | D53: ='conf dg'!B3 -> No Resp. | E53: =IF('conf dg'!G3=1,"SI","NO") -> NO | G53: Código 2 en elemento 20 (pérdida de habilidades durante por lo menos 3 meses) y un código 993 o 994 en elemento 28 (duración de la pérdida). | N53: =CONCATENATE("Como se observó anteriormente, las dificultades se presentan en ",R11," de los 3 dominios evaluados (A + B + C).",(IF(AND('conf dg'!O6<3,'conf dg'!O7=3,'conf dg'!O6=2),N54,""))) -> Como se observó anteriormente, las dificultades se presentan en 0 de los 3 dominios evaluados (A + B + C).
B54: ='conf dg'!A4 -> 28 | D54: ='conf dg'!B4 -> No Resp. | E54: =IF('conf dg'!G4=1,"SI","NO") -> NO | N54: Excepcionalmente se puede indicar que se presentan dificultades en los 3 dominios (A, B y C), dado que los resultados, si bien no están todos sobre el puntaje de corte, se encuentran claramente sobre el punto de corte en al menos 2 de los 3 dominios, y no distan de él en más de un punto en el tercer dominio.
A55: ֍ | B55: ='conf dg'!A5 -> 79 | D55: ='conf dg'!B5 -> No Resp. | E55: =IF('conf dg'!G5=1,"SI","NO") -> NO | G55: Código 1 o 2 en elemento 79 (movimientos de manos en la línea media del cuerpo).
A56: ֍ | B56: ='conf dg'!A6 -> 84 | D56: ='conf dg'!B6 -> No Resp. | E56: =IF('conf dg'!G6=1,"SI","NO") -> NO | G56: * Un código 1 o 2 en elemento 84 (hiperventilación) y un código 1 o 2 en elemento 85 (desmayos/ataques/ausencias), aunque estas 2 modalidades estén presentes de manera menos constante.
B57: ='conf dg'!A7 -> 85 | D57: ='conf dg'!B7 -> NoResp. | E57: =IF('conf dg'!G7=1,"SI","NO") -> NO
A58: ֍ | B58: Marcada desaceleración del crecimiento de la cabeza (habitualmente después de los 6 meses de edad, pero antes de los 2 años) hasta el punto de que la circunferencia actual de la cabeza cabría esperar que estuviese por debajo del tercer centil.
A60: Trastorno desintegrativo infantil
A61: Variante relativamente rara del TEA en la que se da una marcada regresión en múltiples áreas de funcionamiento después de un periodo de, por lo menos, dos años de desarrollo aparentemente normal. Viene indicado por una pérdida de las habilidades del lenguaje y de no-lenguaje que aparece pasada la edad de 24 meses.
B62: ELEMENTO | D62: PUNTAJE | E62: ¿CUMPLE CRITERIO? | G62: CRITERIOS
A63: ֍ | B63: ='conf dg'!A13 -> 20 | D63: ='conf dg'!B13 -> No Resp. | E63: =IF('conf dg'!G13=1,"SI","NO") -> NO | G63: Se deben cumplir todos los criterios. Puntaje 0 en elemento 12 (indicativo de la presencia de un habla diaria, espontánea y significativa antes de la pérdida). Aparición del TEA a los 24 meses o más tarde (elemento 87).
B64: ='conf dg'!A14 -> 26 | D64: ='conf dg'!B14 -> No Resp. | E64: =IF('conf dg'!G14=1,"SI","NO") -> NO
B65: ='conf dg'!A15 -> 12 | D65: ='conf dg'!B15 -> No Resp. | E65: =IF('conf dg'!G15=1,"SI","NO") -> NO | L65: dominios
B66: ='conf dg'!A16 -> 87 | D66: ='conf dg'!B16 -> No Resp. | E66: =IF('conf dg'!G16=1,"SI","NO") -> NO | L66: 0 | M66: improbable que el sujeto tenga ninguna forma de Trastorno del Espectro Autista (TEA).
L67: 1
A68: Síndrome de Asperger | L68: 2
A69: La distinción entre el autismo y el síndrome de Asperger viene determinada por la existencia o no de un significativo deterioro cognitivo o de habilidades adaptativas (distintas a las de socialización), y por la existencia o no de lenguaje hablado desarrollado en el periodo normal de edad. | L69: 3
B70: ELEMENTO | D70: PUNTAJE | E70: ¿CUMPLE CRITERIO? | G70: CRITERIOS | L70: 4
A71: ֍ | B71: ='conf dg'!A21 -> 9 | D71: ='conf dg'!B21 -> No Resp. | E71: =IF('conf dg'!G21=1,"SI","NO") -> NO | G71: La edad de las primeras palabras fue antes de los 24 meses (elemento 9) y las primeras palabras fue antes de los 24 meses (elemento 9).
B72: ='conf dg'!A22 -> 10 | D72: ='conf dg'!B22 -> No Resp. | E72: =IF('conf dg'!G22=1,"SI","NO") -> NO
A73: ֍ | B73: Evidencias confirmatorias a partir de la evaluación de su nivel intelectual y de su conducta adaptativa social.
A77: TEA no especificado (Trastorno Generalizado del Desarrollo no especificado).
A78: Si el sujeto no cumple con un 1/3 de los criterios es probable que no tenga un TEA, o puede que sea TEA no especificado. El TEA no especificado consiste en un deterioro grave y profundo en la interacción social recíproca, en las habilidades de comunicación verbal y no verbal, o que posee conductas, intereses o actividades estereotipados, pero sin que hayan alcanzado los criterios requeridos para un trastorno generalizado del desarrollo (o TEA). Esta categoría no debe utilizarse si el deterioro es consecuencia de una esquizofrenia o un trastorno esquizotípico de la personalidad.
A79: Elementos a considerar para el diagnóstico diferencial:
B80: • | C80: Esquizofrenia.
B81: • | C81: Trastorno esquizotípico de la personalidad.
B82: • | C82: Ceguera congénita y deprivación institucional.
B83: • | C83: Trastornos graves en el desarrollo del lenguaje.
A88: Observaciones finales y cuidados especiales
B89: • | C89: Se debe tener cuidado con sujetos con una edad mental inferior a los 2 años, ya que niños con Discapacidad Intelectual muestran puntajes altos en el ADI-R.
B90: • | C90: Niños menores de 3 años: la mayoría de los datos del algoritmo diagnóstico provienen de muestras en las que la edad cronológica era mayor a 3 años, por lo que se recomienda mas datos de validación para las edades entre los 2 y 3 años.
B91: • | C91: En la práctica, se ha encontrado que los algoritmos diagnósticos ADI-R funcionan razonablemente bien incluso en muestras atípicas, pero se recomienda tener cautela ante poblaciones altamente atípicas.

Sheet conf dg
A1: sindrome de Rett | C1: posibles resultados | G1: final | L1: corte | N1: sobre corte | O1: sobre corte final
A2: 21 | B2: =IF(INGRESO!C10="","No Resp.",S6) -> No Resp. | C2: 1 | D2: 2 | G2: =IF(INGRESO!C10="","No Resp.",IF(OR(B2=C2,B2=D2),1,0)) -> No Resp. | J2: a | K2: =RESUMEN!I4 -> 0 | L2: =RESUMEN!J4 -> 10 | M2: =IF(K2=9,1,0) -> 0 | N2: =IF(K2>=L2,1,0) -> 0 | O2: =N2 -> 0 | P2: =IF(O2>0,"A","")
A3: 20 | B3: =IF(INGRESO!C9="","No Resp.",S5) -> No Resp. | C3: 2 | G3: =IF(INGRESO!C9="","No Resp.",IF(B3=C3,1,0)) -> No Resp. | J3: bv | K3: =RESUMEN!I6 -> 0 | L3: =RESUMEN!J6 -> 8 | M3: =IF(K3=7,1,0) -> 0 | N3: =IF(K3>=L3,1,0) -> 0 | O3: =IF(elemento30=0,N3,N4) -> 0 | P3: =IF(O3>0,"B","")
A4: 28 | B4: =IF(INGRESO!C12="","No Resp.",V8) -> No Resp. | C4: 993 | D4: 994 | G4: =IF(INGRESO!E12="","No Resp.",IF(OR(B4=C4,B4=D4),1,0)) -> No Resp. | J4: bnv | K4: =RESUMEN!I7 -> 0 | L4: =RESUMEN!J7 -> 7 | M4: =IF(K4=6,1,0) -> 0 | N4: =IF(K4>=L4,1,0) -> 0 | R4: =12 -> 12 | S4: =INGRESO!C8 -> 0
A5: 79 | B5: =IF(INGRESO!C57="","No Resp.",V9) -> No Resp. | C5: 1 | D5: 2 | G5: =IF(INGRESO!E57="","No Resp.",IF(OR(B5=C5,B5=D5),1,0)) -> No Resp. | J5: c | K5: =RESUMEN!I8 -> 0 | L5: =RESUMEN!J8 -> 3 | M5: =IF(K5=7,1,0) -> 0 | N5: =IF(K5>=L5,1,0) -> 0 | O5: =N5 -> 0 | P5: =IF(O5>0,"C","") | R5: 20 | S5: =INGRESO!C9 -> 0
A6: 84 | B6: =IF(INGRESO!C59="","No Resp.",V10) -> No Resp. | C6: 1 | D6: 2 | G6: =IF(INGRESO!E59="","No Resp.",IF(OR(B6=C6,B6=D6),1,0)) -> No Resp. | N6: sobre corte | O6: =SUM(O2:O5) -> 0 | R6: 21 | S6: =INGRESO!C10 -> 0
A7: 85 | B7: =IF(INGRESO!C60="","NoResp.",V11) -> NoResp. | C7: 1 | D7: 2 | G7: =IF(INGRESO!C60="","NoResp.",IF(OR(B7=C7,B7=D7),1,0)) -> NoResp. | N7: sobre corte excepcional | O7: =SUM(O2,O3,O5,M2,M5,IF(elemento30=0,M3,M4)) -> 0 | R7: 26 | S7: =INGRESO!C11 -> 0 | T7: =INGRESO!D11 -> 0 | U7: =INGRESO!E11 -> 0 | V7: =(S7*100)+(T7*10)+U7 -> 0
A8: marcada desaceleración en el crecimiento de la cabeza, | R8: 28 | S8: =INGRESO!C12 -> 0 | T8: =INGRESO!D12 -> 0 | U8: =INGRESO!E12 -> 0 | V8: =(S8*100)+(T8*10)+U8 -> 0
R9: 79 | S9: =INGRESO!C57 -> 0 | T9: #N/A | U9: #N/A | V9: =S9 -> 0
R10: 84 | S10: =INGRESO!C59 -> 0 | T10: #N/A | U10: #N/A | V10: =S10 -> 0
R11: 85 | S11: #N/A | T11: #N/A | U11: =INGRESO!C60 -> 0 | V11: =U11 -> 0
A12: Trastorno desiderativo infantil | B12: ingreso
A13: 20 | B13: =IF(INGRESO!C9="","No Resp.",S5) -> No Resp. | C13: 2 | G13: =IF(INGRESO!C9="","No Resp.",IF(B13=C13,1,0)) -> No Resp.
A14: 26 | B14: =IF(INGRESO!C11="","No Resp.",V7) -> No Resp. | C14: >=24 | G14: =IF(INGRESO!E11="","No Resp.",IF(B14>24,1,0)) -> No Resp.
A15: 12 | B15: =IF(INGRESO!C8="","No Resp.",S4) -> No Resp. | C15: 0 | G15: =IF(INGRESO!C8="","No Resp.",IF(B15=C15,1,0)) -> No Resp.
A16: 87 | B16: =IF(INGRESO!C62="","No Resp.",D!X15) -> No Resp. | C16: >=24 | G16: =IF(INGRESO!E62="","No Resp.",IF(B16>24,1,0)) -> No Resp.
A20: Asperger
A21: 9 | B21: =IF(INGRESO!C6="","No Resp.",D!X9) -> No Resp. | C21: <24 | G21: =IF(INGRESO!E6="","No Resp.",IF(B21<24,1,0)) -> No Resp.
A22: 10 | B22: =IF(INGRESO!C7="","No Resp.",D!X11) -> No Resp. | C22: <33 | G22: =IF(INGRESO!E7="","No Resp.",IF(B22<33,1,0)) -> No Resp.
A23: dificultades adaptivas social
A24: nivel intelectual
A29: item 79 | B29: 0 | C29: 1 | D29: 2 | E29: 8 | F29: 9
A30: item 84 | B30: 0 | C30: 1 | D30: 2 | E30: 9
A31: item 85 | B31: 0 | C31: 1 | D31: 2 | E31: 7 | F31: 9
