Workbook

Sheet RESUMEN CARS 2 ST
B1: CARS 2 ST AUTISMO - VERSIÓN ESTANDAR
B9: Nombre: | C9: F/N:
B10: Fecha de Evaluación: | C10: Evaluador: | D10: Psic. Ángel Reverol
B11: Sexo: varon ( ) hembra ( ) | C11: Edad:
B15: RESUMEN
B16: 1.- Relación interpersonal | D16: ='CARS 2 ST AUTISMO 1 A 5'!D22 -> 0
B17: 2.- Imitación | D17: ='CARS 2 ST AUTISMO 1 A 5'!D28 -> 0
B18: 3.- Respuesta emocional | D18: ='CARS 2 ST AUTISMO 1 A 5'!D34 -> 0
B19: 4.- Uso del cuerpo | D19: ='CARS 2 ST AUTISMO 1 A 5'!D40 -> 0
B20: 5.- Uso del objeto | D20: ='CARS 2 ST AUTISMO 1 A 5'!D46 -> 0
B21: 6.- Adaptación al cambio | D21: ='CARS 2 ST AUTISMO 6 A 10'!D22 -> 0
B22: 7.- Respuesta visual | D22: ='CARS 2 ST AUTISMO 6 A 10'!D28 -> 0
B23: 8.- Respuesta auditiva | D23: ='CARS 2 ST AUTISMO 6 A 10'!D34 -> 0
B24: 9.- Respuesta y uso del gusto , olfato y tacto | D24: ='CARS 2 ST AUTISMO 6 A 10'!D40 -> 0
B25: 10.- Temor y nerviosismo | D25: ='CARS 2 ST AUTISMO 6 A 10'!D46 -> 0
B26: 11.- Comunicación verbal | D26: ='CARS 2 ST AUTISMO 11 A 15'!D22 -> 0
B27: 12.- Comunicación no verbal | D27: ='CARS 2 ST AUTISMO 11 A 15'!D28 -> 0
B28: 13.- Nivel de actividad | D28: ='CARS 2 ST AUTISMO 11 A 15'!D34 -> 0
B29: 14.- Nivel de consistencia de respuesta intelectual | D29: ='CARS 2 ST AUTISMO 11 A 15'!D40 -> 0
B30: 15.- Impresiones generales | D30: ='CARS 2 ST AUTISMO 11 A 15'!D46 -> 0
B31: TOTAL PUNTUACIÓN | D31: =SUM(D16:D30) -> 0
B33: CLASIFICACIÓN Y DIAGNÓSTICO
B37: Diagnóstico general:
B38: Autismo grado 1 (F84.0) desde el DSM 5-TR.
B42: OBSERVACIONES 1-5
A43: 1
A44: 2
A45: 3
A46: 4
A47: 5
B48: OBSERVACIONES 6-10
A49: 6
A50: 7
A51: 8
A52: 9
A53: 10
B54: OBSERVACIONES 11-15
A55: 11
A56: 12
A57: 13
A58: 14
A59: 15

Sheet CARS 2 ST AUTISMO 1 A 5
B1: CARS 2 ST AUTISMO - VERSIÓN ESTANDAR
B9: Nombre | C9: F/N:
B10: Fecha de Evaluación: | C10: Evaluador: | D10: Psic. Ángel Reverol
B11: Sexo: varon ( ) hembra ( ) | C11: Edad:
B15: INSTRUCCIONES
B16: Para cada categoría, usar el espacio otorgado para la sección de Observación para tomar notas sobre las conductas relevantes para ese ítem. Después de finalizar la observación del niño, califique las conductas relevantes para cada ítem trazando un círculo alrededor del número que corresponda al enunciado que mejor describa al niño. Usted podrá indicar que las conductas del niño caen entre dos descripciones trazando un círculo en los valores de 1.5, 2.5 o 3.5. El criterio de calificación abreviado se presenta para cada ítem. Ver capítulo 2 del manual para más detalles sobre los criterios de clasificación.
A17: 1 | B17: Relación con las Personas: cómo es el comportamiento de la persona en una variedad de situaciones que implican la interacción con otras personas.
A18: 1 | B18: No presenta dificultad o anormalidad para relacionarse con las personas: El comportamiento de la persona es apropiado para su edad. Se puede observar cierta timidez, irritabilidad o molestia porque le digan lo que debe hacer, pero no en un grado atípico. | C18: 0
A19: 2 | B19: Interrelación levemente anormal: La persona puede evitar hacer contacto visual con el adulto, evitar al adulto o ponerse irritable con la interacción forzada, mostrarse excesivamente tímido, no responder a los adultos como es típico o , quedarse aferrado a sus padres mucho más de los esperado para su misma edad. | C19: 1.5
A20: 3 | B20: Interrelación moderadamente anormal: La persona se muestra distanciado (a veces parece no darse cuenta del adulto). A veces son necesarios intentos persistentes y forzados para obtener su atención. La persona puede iniciar un mínimo contacto. | C20: 2.5
A21: 4 | B21: Interrelación severamente anormal: La persona es consistentemente aislado e inconsciente de lo que el adulto está haciendo. La persona nunca responde o inicia contacto con el adulto. Solo los más persistentes intentos de obtener su atención tiene algún efecto. | C21: 3.5
B22: TOTAL - 1 | D22: =SUM(D18:D21) -> 0
A23: 2 | B23: IMITACIÓN: cómo la persona imita actos verbales y no verbales, dentro de lo esperado para su edad.
A24: 1 | B24: Imitación apropiada. El niño imita sonidos, palabras y movimientos que son propios para su nivel. | C24: 0
A25: 2 | B25: Imitación levemente anormal. El niño imita, la mayor parte del tiempo, conductas simples tales como aplaudir o sonidos verbales sencillos; frecuentemente solo imita con demora. | C25: 1.5
A26: 3 | B26: Imitación moderadamente anormal. El niño imita solo en parte del tiempo y requiere de mucha persistencia y ayuda por parte del adulto; frecuentemente imita con demora. | C26: 2.5
A27: 4 | B27: Imitación severamente anormal. El niño raramente o nunca imita sonidos, palabras o movimientos aún con instigación y asistencia del adulto. | C27: 3.5
B28: TOTAL -2 | D28: =SUM(D24:D27) -> 0
A29: 3 | B29: RESPIUESTA EMOCIONAL: cómo la persona reacciona ante situaciones placenteras o desagradables. Implica determinar si las reacciones emocionales o sentimentales son apropiadas a la situación, tanto en tipo de respuesta como en intensidad.
A30: 1 | B30: Respuesta emocional apropiada según su edad y situación. El niño demuestra un tipo y grado adecuado de respuesta emocional, por medio del cambio de la expresión facial, postura y forma. | C30: 0
A31: 2 | B31: Respuesta emocional levemente anormal. El niño ocasionalmente muestra una reacción emocional del tipo y grado algoinapropiado. Las reacciones, a veces, no mantienen relación con los otros objetos o eventos que lo rodean. | C31: 1.5
A32: 3 | B32: Respuesta emocional moderadamente anormal. El niño presenta signos claros del tipo y grado de respuesta emocional inapropiada. Las reacciones pueden estar bastante inhibidas o excesivamente desligadas de la situación; el niño puede realizar muecas, reírse o tornarse rígido aún cuando no están presentes objetos o eventos que produzcan alguna reacción emocional. | C32: 2.5
A33: 4 | B33: Respuesta emocional severamente anormal. Las respuestas son raramente apropiadas para la situación; una vez que el niño se encuentraen un humor determinado, es difícil que cambie. Por otro lado, el niño puede mostrar bruscamente cambios de humor cuando nada ha cambiado en el ambiente | C33: 3.5
B34: TOTAL -3 | D34: =SUM(D30:D33) -> 0
A35: 4 | B35: Uso del cuerpo: coordinación y movimientos apropiados del cuerpo. Esto incluye la postura, mecerse, caminar en puntas y autoagresión.
A36: 1 | B36: Uso del cuerpo apropiado según edad. El niño se mueve con la misma naturalidad, agilidad y coordinación que la de un niño normal. | C36: 0
A37: 2 | B37: Uso del cuerpo levemente anormal. Pueden estar presentes algunas peculiaridades menor, tal y como torpeza, movimientos repetitivos, pobre coordinación o aparición infrecuente de movimientos inusuales. | C37: 1.5
A38: 3 | B38: Uso del cuerpo moderadamente anormal. Conductas que son claramenteextrañas o inusuales para un niño de su edad, entre las que se incluyen movimientos extraños de dedos, posturas peculiares de dedos y cuerpo, contemplar y pellizcar el cuerpo, autoagresión, balancearse, girar el cuerpo, sacudir los dedos de las manos, caminar en puntas de pie. | C38: 2.5
A39: 4 | B39: Uso del cuerpo severamente anormal. Movimientos intensos frecuentes del tipo de los enlistados arriba son signos de un uso severamente anormal del cuerpo. Estas conductas pueden persistir a pesar de los intentos por amonestarías o implicar al niño en otras actividades | C39: 3.5
B40: TOTAL -4 | D40: =SUM(D36:D39) -> 0
A41: 5 | B41: Uso de objetos: interés de la persona en juguetes y otros objetos y el uso que hace de éstos.
A42: 1 | B42: Uso apropiado e interés en juguetes y otros objetos. El niño presenta interés en juguetes y otros objetos apropiados para su nivel de destreza y usa estos juguetes de forma apropiada | C42: 0
A43: 2 | B43: Uso levemente inapropiado o interés levemente inapropiado en juguetes y otros objetos. El niño puede presentar un interés atípico en un juguete o jugar con él de una forma inapropiada e infantil (ej. Golpeándolo o chupándolo). | C43: 1.5
A44: 3 | B44: Uso moderadamente inapropiado o interés moderadamente inapropiado en juguetes y otros objetos. El niño puede presentar un poco de interés en juguetes y otros objetos o puede preocuparse en utilizarlo de una forma extraña. Puede enfocarse en partes insignificantes del juguete; quedar fascinado con la luz que refleja el objeto. Mover repetidamente alguna parte del objeto o jugar exclusivamente con un objeto. | C44: 2.5
A45: 4 | B45: Uso severamente inapropiado o interés severamente inapropiado en juguetes y otros objetos. El niño puede dedicarse a realizar las mismas conductas de arriba, con mayorfrecuencia e intensidad. Se hace difícil distraer al niño cuando se compromete con dichas conductas inapropiadas. | C45: 3.5
B46: TOTAL -5 | D46: =SUM(D42:D45) -> 0
B48: OBSERVACIONES 1-5
A49: 1
A50: 2
A51: 3
A52: 4
A53: 5

Sheet CARS 2 ST AUTISMO 6 A 10
B1: CARS 2 ST AUTISMO - VERSIÓN ESTANDAR
B9: Nombre | C9: F/N:
B10: Fecha de Evaluación: | C10: Evaluador: | D10: Psic. Ángel Reverol
B11: Sexo: varon ( ) hembra ( ) | C11: Edad:
B15: INSTRUCCIONES
B16: Para cada categoría, usar el espacio otorgado para la sección de Observación para tomar notas sobre las conductas relevantes para ese ítem. Después de finalizar la observación del niño, califique las conductas relevantes para cada ítem trazando un círculo alrededor del número que corresponda al enunciado que mejor describa al niño. Usted podrá indicar que las conductas del niño caen entre dos descripciones trazando un círculo en los valores de 1.5, 2.5 o 3.5. El criterio de calificación abreviado se presenta para cada ítem. Ver capítulo 2 del manual para más detalles sobre los criterios de clasificación.
A17: 6 | B17: Adaptación al cambio: se refiere a las dificultades para cambiar un patrón o rutina establecida y cambiar de una actividad a otra. Estas dificultades frecuentemente están relacionadas con los comportamientos y patrones repetitivos mencionados en el ítem anterior.
A18: 1 | B18: Respuesta ante el cambio apropiada según edad. Mientras el niño puede notar o comentar los cambios en la rutina, acepta estos cambios sin quejarse desmesuradamente. | C18: 0
A19: 2 | B19: Adaptación al cambio levemente anormal. Cuando un adulto intenta cambiar de actividad el niño puede continuar en la misma actividad o usar los mismos materiales. | C19: 1.5
A20: 3 | B20: Adaptación al cambio moderadamente anormal. El niño se resiste activamente a cambio de rutina, trata de continuar con la actividad anterior y es difícil distraerlo. Puede tomarse enojado y descontento cuando la rutina establecida se altera. | C20: 2.5
A21: 4 | B21: Adaptación al cambio severamente anormal. El niño presenta reacciones severas ante el cambio. Si algún cambio es forzado, el niño puede enojarse mucho o no cooperar y responder con berrinches. | C21: 3.5
B22: TOTAL -6 | D22: =SUM(D18:D21) -> 0
A23: 7 | B23: Respuesta visual: patrones visuales inusuales se encuentran presentes en personas con TEA. Este ítem incluye la respuesta de la persona cuando requiere mirar objetos o materiales
A24: 1 | B24: Respuesta visual apropiada según edad. La conducta visual del niño es normal y apropiada para su edad. La visión es utilizada junto a los otros sentidos como una forma de explorar nuevos objetos. | C24: 0
A25: 2 | B25: Respuesta visual levemente anormal. Al niño debe recordársele mirar a los objetos ocasionalmente. El niño puede estar más interesado en mirar espejos o luces que a sus pares, puede ocasionalmente fijar la mirada en puntos pocos relevantes y evitar el contacto visual. | C25: 1.5
A26: 3 | B26: Respuesta visual moderadamente anormal. Se debe recordar al niño mirar lo que está haciendo frecuentemente. Fija la mirada puntos poco relevantes, evita el contacto visual, mira los objetos desde un ángulo inusual o colocar objetos muy cercanos a su rostro. | C26: 2.5
A27: 4 | B27: Respuesta visual severamente anormal. El niño consistentemente evita el contacto visual con otras personas o ciertos objetos y puede presentar extremadamente peculiaridades visuales ya descritas arriba. | C27: 3.5
B28: TOTAL -7 | D28: =SUM(D24:D27) -> 0
A29: 8 | B29: Respuesta auditiva: esta es una clasificación de la conducta de escucha inusual o respuestas inusuales a los sonidos. Se trata de la reacción de la persona tanto a las voces humanas como a otros tipos de sonido. Este ítem también tiene que ver con el interés de la persona en varios sonidos.
A30: 1 | B30: Respuesta auditiva adecuada según edad. La conducta auditiva del niño es normal y apropiada para su edad. La audición es utilizada junto con otros sentidos. | C30: 0
A31: 2 | B31: Respuesta auditiva levemente anormal. Puede haber alguna deficiencia en la respuesta o leve reacción desmesurada ante ciertos sonidos. Puede responder a los sonidos demoradamente y puede necesitar de repeticiones para lograr captar su atención. El niño puede distraerse con sonidos extraños | C31: 1.5
A32: 3 | B32: Respuesta auditiva moderadamente anormal. El niño responde a los sonidos de forma variable; generalmente ignora los sonidos a las primeras veces que se ejecuten; puede asustarse o cubrirse los oídos cuando escucha algunos sonidos cotidianos. | C32: 2.5
A33: 4 | B33: Respuesta auditiva severamente anormal. El niño reacciona de forma exagerada o no reacciona ante sonidos en un grado extremadamente marcado, sin importar el tipo de sonido. | C33: 3.5
B34: TOTAL - 8 | D34: =SUM(D30:D33) -> 0
A35: 9 | B35: Respuestas y uso del Gusto, Olfato, Tacto: esta es una clasificación de la respuesta de la persona a la estimulación del gusto, el olfato y sentidos táctiles (incluyendo el dolor). También si la persona hace uso apropiado de estas modalidades sensoriales. A diferencia de las dos áreas anteriores, esta es una clasificación de los sentidos cercanos.
A36: 1 | B36: Respuesta y uso del gusto, olfato y tacto normal. El niño explora nuevos objetos de forma apropiada para su edad, generalmente por medio del tacto y mirada. El gusto y el olfato son utilizados en momentos apropiados. Cuando reacciona ante mínimos dolores cotidianos, el niño demuestra incomodad pero sin reaccionar de forma exagerada. | C36: 0
A37: 2 | B37: Respuesta y uso del gusto, olfato y tacto levemente anormal. El niño puede persistir en llevar los objetos a la boca; puede oler o saborear objetos incomestibles; puede ignorar o reaccionar exageradamente a dolores suaves ante los que un niño normal reaccionaria expresando normal incomodad. | C37: 1.5
A38: 3 | B38: Respuesta y uso del gusto, olfato y tacto moderadamente anormal. El niño puede demostrar interés moderado en tocar, oler y saborear objetos y personas, el niño puede reaccionar mucho o poco | C38: 2.5
A39: 4 | B39: Respuesta y uso del gusto, olfato y tacto severamente anormal. El niño demuestra interés en querer oler, saborear y tocar objetos más por la sensación que por la exploración normal de objetos ysu uso. El niño puede ignorar completamente el dolor o reaccionar fuertemente ante incomodidades insignificantes. | C39: 3.5
B40: TOTAL -9 | D40: =SUM(D36:D39) -> 0
A41: 10 | B41: Miedo o nerviosismo: puntúa los miedos inusuales o inexplicables. También incluye la calificación de la ausencia de miedo en condiciones en las que un niño con desarrollo esperado probablemente pudiera mostrar miedo o nerviosismo.
A42: 1 | B42: Temor o nerviosismo normal. La conducta del niño es la apropiada para ambas situaciones y es acorde a su edad. | C42: 0
A43: 2 | B43: Temor o nerviosismo levemente anormal. El niño ocasionalmente demuestra mucho temor o nerviosismo, o muy poco comparado con la reacción de un niño normal de su misma edad y en una situación similar | C43: 1.5
A44: 3 | B44: Temor o nerviosismo moderadamente anormal. El niño demuestra bien sea, mucho o más o mucho menos, temor que lo esperado, aún para un niño de menor edad en una situación similar. | C44: 2.5
A45: 4 | B45: Temor o nerviosismo severamente anormal. El temor persiste aún después de repetir la experiencia con eventos u objetos inofensivos. Es extremadamente difícil de calmar o animar al niño. Puede, por otro lado, fallar al prestar atención apropiada a la contingencia que otros niños de su misma edad huirían. | C45: 3.5
B46: TOTAL -10 | D46: =SUM(D42:D45) -> 0
B49: OBSERVACIONES 6-10
A50: 6
A51: 7
A52: 8
A53: 9
A54: 10

Sheet CARS 2 ST AUTISMO 11 A 15
B1: CARS 2 ST AUTISMO - VERSIÓN ESTANDAR
B9: Nombre | C9: F/N:
B10: Fecha de Evaluación: | C10: Evaluador: | D10: Psic. Ángel Reverol
B11: Sexo: varon ( ) hembra ( ) | C11: Edad:
B15: INSTRUCCIONES
B16: Para cada categoría, usar el espacio otorgado para la sección de Observación para tomar notas sobre las conductas relevantes para ese ítem. Después de finalizar la observación del niño, califique las conductas relevantes para cada ítem trazando un círculo alrededor del número que corresponda al enunciado que mejor describa al niño. Usted podrá indicar que las conductas del niño caen entre dos descripciones trazando un círculo en los valores de 1.5, 2.5 o 3.5. El criterio de calificación abreviado se presenta para cada ítem. Ver capítulo 2 del manual para más detalles sobre los criterios de clasificación.
A17: 11 | B17: Comunicación verbal: califica todas las facetas en las que la persona usa el lenguaje. Evalúa no sólo la presencia o ausencia de lenguaje sino además, cuando el habla está presente, califica la peculiaridad, rareza o uso inapropiado de todos los elementos de expresión. Con respecto al discurso, evalúa el vocabulario, la estructura de las oraciones, la calidad del tono, el volumen o intensidad y el ritmo, así como adecuación del discurso
A18: 1 | B18: Comunicación verbal normal, apropiada según edad y situación. | C18: 0
A19: 2 | B19: Comunicación verbal levemente anormal. El discurso muestra demora en general. La mayor parte del lenguaje tiene sentido; sin embargo puede presentarse ecolalia o inversión pronominal. Puede usarse ocasionalmente palabras sofisticadas o jerga. | C19: 1.5
A20: 3 | B20: Comunicación verbal moderadamente anormal. El lenguaje está ausente. Cuando se presenta, puede ser una mezcla de lenguaje con sentido, jerga, ecolalia o inversiones pronominales. Entre las peculiaridades del habla con sentido se incluyen preguntas excesivas o preocupaciones por tópicos particulares. | C20: 2.5
A21: 4 | B21: Comunicación verbal severamente anormal. No hay lenguaje con sentido. El niño puede realizar chillidos infantiles, sonidos raros o de animales, o sonidos complejos que se aproximan al lenguaje, o pueden mostrar un persistente uso bizarro de palabras reconocibles o frases. | C21: 3.5
B22: TOTAL -11 | D22: =SUM(D18:D21) -> 0
A23: 12 | B23: Comunicación no verbal: califica la comunicaciónno verbal de la persona a través del uso de expresiones faciales, postura, gestos y movimientos del cuerpo. También incluye las respuestas de la persona ante la comunicación no verbal de otros. Si la persona tiene razonablemente buenas habilidades de comunicación verbal, puede haber menos comunicación no verbal; sin embargo, un niño con déficit en comunicación verbal puede o no desarrollar medios no verbales de comunicación.
A24: 1 | B24: Uso normal de la comunicación no verbal, apropiada según edad y situación. | C24: 0
A25: 2 | B25: Uso levemente anormal de la comunicación no verbal. Uso inmaduro de la comunicación no verbal, sólo puede señalar vagamente o estirar el brazo hacia lo que quiere, en situaciones en las que un niño normalmente desarrollado de su misma edad puede señalar o hacer gestos más específicos para indicar lo que quiere. | C25: 1.5
A26: 3 | B26: Uso moderadamente anormal de la comunicación no verbal. El niño generalmente es incapaz de expresar necesidades o deseos de forma no verbal, no puede entender la comunicación no verbal de otros. | C26: 2.5
A27: 4 | B27: Uso severamente anormal de la comunicación no verbal. El niño usa solo gestos bizarros o peculiares que no tienen significado aparentemente no demuestra darse cuenta de los significados asociados con gestos o expresiones faciales de otros. | C27: 3.5
B28: TOTAL -12 | D28: =SUM(D24:D27) -> 0
A29: 13 | B29: Nivel de actividad: cómo la persona se mueve cuando está sometido a situaciones restrictivas o no. La hiperactividad e hipoactividad son consideradas en este ítem
A30: 1 | B30: Nivel de actividad normal según edad y circunstancias. El niño no es más activo ni menos activo que un niño normal de su misma edad en una situación similar | C30: 0
A31: 2 | B31: Nivel de actividad levemente anormal. El niño puede ser o bien estar moderadamente agitado o de alguna forma “flojo” y en algunas momentos moviéndose lentamente. El nivel de actividad del niño puede nterferir en cierta medida con su actuación en la prueba. | C31: 1.5
A32: 3 | B32: Nivel de actividad moderadamente anormal. El niño puede estar bastante activo y difícil de controlar. Puede tener una energía interminable y no puede ir a dormir de noche tan fácilmente. Por otro lado, el niño puede ser bastante somnoliento y necesitar una gran cantidad de instigación para lograr que cambie de sitio. | C32: 2.5
A33: 4 | B33: Nivel de actividad severamente anormal. El niño exhibe una extrema actividad o inactividad y puede también cambiar de un extremo al otro. | C33: 3.5
B34: TOTAL - 13 | D34: =SUM(D30:D33) -> 0
A35: 14 | B35: Nivel y Consistencia de Respuestas Intelectuales: funcionamiento intelectual general de la persona y consistencia o regularidad de funcionamiento de un tipo de habilidad sobre otro. Algunas fluctuaciones en el funcionamiento mental ocurren en niños de funcionalidad regular o en aquellos con otros problemas además del autismo; sin embargo, esta área tiene por objeto identificar habilidades extremadamente inusuales.
A36: 1 | B36: Inteligencia normal y razonablemente consistente entre varias áreas. Elniño es tan inteligente como un niño normal de su misma edad que no posee ninguna destreza intelectual inusual o problemas. El niño tiene una inteligencia baja (IQ entre 71 y 85) y no tiene ninguna destreza intelectual inusual o problemas. | C36: 0
A37: 2 | B37: Funcionamiento intelectual levemente anormal. El niño tiene inteligencia muy baja (puntaje IQ es de 70 o menor) y sus destrezas parecen uniformemente atrasadas de un área a otra. El niño tiene inteligencia muy baja (puntaje IQ es de 70 o menor) y sus destrezas parecen variar de un área a otra, pero ninguna se ubica en el más arriba del promedio | C37: 1.5
A38: 3 | B38: Funcionamiento intelectual moderadamente anormal. La inteligencia general el niño se ubica en un rango que va desde la discapacidad intelectual a la inteligencia promedio (puntaje IQ menos de 115) y hay una variabilidad significativa entre las destrezas. Al menos una destreza se ubica en el rango promedio. Inteligencia total de niño está en un rango que va desde la discapacidad intelectual a la inteligencia promedio (puntaje IQ menor de 115), y hay variabilidad significativa entre las destrezas. Al menos una de las habilidades por encima del rango promedio. Destrezas extremadamente geniales que no se incluyen aquí pero califican en la categoría 4. | C38: 2.5
A39: 4 | B39: Funcionalmente intelectual severamente anormal. La calificación 4 se otorga cuando se presenta destrezas extremadamente geniales, sin considerar el nivel general de inteligencia | C39: 3.5
B40: TOTAL -14 | D40: =SUM(D36:D39) -> 0
A41: 15 | B41: Impresiones generales: intenta ser la evaluación general basada en la impresión subjetiva del evaluador del grado en el cual la persona tiene un compromiso de acuerdo con lo identificado en los 14 ítems anteriores. Para este ítem el evaluador debe contemplar información obtenida de la persona mediante entrevistas a los padres, historia, otras escalas, etc.
A42: 1 | B42: Ausencia de desorden del espectro autista. El niño no presenta alguno de los síntomas característicos del autismo. | C42: 0
A43: 2 | B43: Autismo leve. El niño presente solo pocos síntomas o un grado leve de autismo. | C43: 1.5
A44: 3 | B44: Autismo moderado. El niño presenta numerosos síntomas o un grado moderado de autismo. | C44: 2.5
A45: 4 | B45: Autismo severo. El niño presenta muchos síntomas o un grado extremo de autismo. | C45: 3.5
B46: TOTAL -15 | D46: =SUM(D42:D45) -> 0
B49: OBSERVACIONES 11-15
A50: 11
A51: 12
A52: 13
A53: 14
A54: 15
