Workbook

Sheet PG 1
P1: - This E-media Group Time Sheet AUTO calulates
P2: - Hours Must Be Entered in 12 Hour Format. EXAMPLE 8:00 AM
P3: - Entry may be made into the green cells only - this sheet auto calulates
A4: CALIFORNIA TIMESHEET 5 day / 8 hrs | P4: - OT on this timesheet is based on an 8 Hr / 5 day work schedule
A6: Page 1
A7: Customer Name: | W7: Department:
A9: Weekending: | G9: 43352 | M9: Shift: | W9: If Paid Lunch Mark with X otherwise leave Blank
O11: DAY | S11: LUNCH | W11: Comments / Notes | AE11: DAY TOTALS
K12: DATE | L12: DAY | O12: IN | Q12: OUT | S12: OUT | U12: IN | AE12: Hours | AF12: RT | AH12: OT | AJ12: DT
A13: Name 1 | K13: =K14-1 -> 43346 | L13: Monday | AE13: =(IF((OR(Q13="",O13="")),0,IF((Q13<O13),((Q13-O13)*24)+24,(Q13-O13)*24))-IF($AG$9="",IF((OR(U13="",S13="")),0,IF((U13<S13),((U13-S13)*24)+24,(U13-S13)*24)),0)) -> 0 | AF13: =IF(AE13>8,8,AE13) -> 0 | AH13: =AE13-AJ13-AF13 -> 0 | AJ13: =IF(AE13>12,AE13-12,0) -> 0
K14: =K15-1 -> 43347 | L14: Tuesday | AE14: =(IF((OR(Q14="",O14="")),0,IF((Q14<O14),((Q14-O14)*24)+24,(Q14-O14)*24))-IF($AG$9="",IF((OR(U14="",S14="")),0,IF((U14<S14),((U14-S14)*24)+24,(U14-S14)*24)),0)) -> 0 | AF14: =IF(AE14>8,8,AE14) -> 0 | AH14: =AE14-AJ14-AF14 -> 0 | AJ14: =IF(AE14>12,AE14-12,0) -> 0
A15: Social Security Number | K15: =K16-1 -> 43348 | L15: Wednesday | AE15: =(IF((OR(Q15="",O15="")),0,IF((Q15<O15),((Q15-O15)*24)+24,(Q15-O15)*24))-IF($AG$9="",IF((OR(U15="",S15="")),0,IF((U15<S15),((U15-S15)*24)+24,(U15-S15)*24)),0)) -> 0 | AF15: =IF(AE15>8,8,AE15) -> 0 | AH15: =AE15-AJ15-AF15 -> 0 | AJ15: =IF(AE15>12,AE15-12,0) -> 0
K16: =K17-1 -> 43349 | L16: Thursday | AE16: =(IF((OR(Q16="",O16="")),0,IF((Q16<O16),((Q16-O16)*24)+24,(Q16-O16)*24))-IF($AG$9="",IF((OR(U16="",S16="")),0,IF((U16<S16),((U16-S16)*24)+24,(U16-S16)*24)),0)) -> 0 | AF16: =IF(AE16>8,8,AE16) -> 0 | AH16: =AE16-AJ16-AF16 -> 0 | AJ16: =IF(AE16>12,AE16-12,0) -> 0
A17: WEEK TOTALS | K17: =K18-1 -> 43350 | L17: Friday | AE17: =(IF((OR(Q17="",O17="")),0,IF((Q17<O17),((Q17-O17)*24)+24,(Q17-O17)*24))-IF($AG$9="",IF((OR(U17="",S17="")),0,IF((U17<S17),((U17-S17)*24)+24,(U17-S17)*24)),0)) -> 0 | AF17: =IF(AE17>8,8,AE17) -> 0 | AH17: =AE17-AJ17-AF17 -> 0 | AJ17: =IF(AE17>12,AE17-12,0) -> 0
A18: RT | E18: OT | I18: DT | J18: DT | K18: =K19-1 -> 43351 | L18: Saturday | AE18: =(IF((OR(Q18="",O18="")),0,IF((Q18<O18),((Q18-O18)*24)+24,(Q18-O18)*24))-IF($AG$9="",IF((OR(U18="",S18="")),0,IF((U18<S18),((U18-S18)*24)+24,(U18-S18)*24)),0)) -> 0 | AF18: =IF(SUM(AF13:AG17)+AE18<40,IF(AE18>8,8,AE18),(AE18-(SUM(AF13:AG17)+AE18-40))) -> 0 | AH18: =AE18-AJ18-AF18 -> 0 | AJ18: =IF(AE18>12,AE18-12,0) -> 0
A19: =SUM(AF13:AG19) -> 0 | E19: =SUM(AH13:AI19) -> 0 | I19: =SUM(AJ13:AK19) -> 0 | K19: =G9 -> 43352 | L19: Sunday | AE19: =(IF((OR(Q19="",O19="")),0,IF((Q19<O19),((Q19-O19)*24)+24,(Q19-O19)*24))-IF($AG$9="",IF((OR(U19="",S19="")),0,IF((U19<S19),((U19-S19)*24)+24,(U19-S19)*24)),0)) -> 0 | AF19: =IF(SUM(AF13:AG18)+AE19<40,IF(AE19>8,8,AE19),(AE19-(SUM(AF13:AG18)+AE19-40))) -> 0 | AH19: =AE19-AJ19-AF19 -> 0 | AJ19: =IF(AND(AE13>0,AE14>0,AE15>0,AE16>0,AE17>0,AE18>0),IF(AE19>8,AE19-8,0),IF(AE19>12,AE19-12,0)) -> 0
K21: Employee Signature: | AC21: Date:
O24: DAY | S24: LUNCH | W24: Comments / Notes | AE24: DAY TOTALS
K25: DATE | L25: DAY | O25: IN | Q25: OUT | S25: OUT | U25: IN | AE25: Hours | AF25: RT | AH25: OT | AJ25: DT
A26: Name 2 | K26: =K13 -> 43346 | L26: Monday | AE26: =(IF((OR(Q26="",O26="")),0,IF((Q26<O26),((Q26-O26)*24)+24,(Q26-O26)*24))-IF($AG$9="",IF((OR(U26="",S26="")),0,IF((U26<S26),((U26-S26)*24)+24,(U26-S26)*24)),0)) -> 0 | AF26: =IF(AE26>8,8,AE26) -> 0 | AH26: =AE26-AJ26-AF26 -> 0 | AJ26: =IF(AE26>12,AE26-12,0) -> 0
K27: =K14 -> 43347 | L27: Tuesday | AE27: =(IF((OR(Q27="",O27="")),0,IF((Q27<O27),((Q27-O27)*24)+24,(Q27-O27)*24))-IF($AG$9="",IF((OR(U27="",S27="")),0,IF((U27<S27),((U27-S27)*24)+24,(U27-S27)*24)),0)) -> 0 | AF27: =IF(AE27>8,8,AE27) -> 0 | AH27: =AE27-AJ27-AF27 -> 0 | AJ27: =IF(AE27>12,AE27-12,0) -> 0
A28: Social Security Number | K28: =K15 -> 43348 | L28: Wednesday | AE28: =(IF((OR(Q28="",O28="")),0,IF((Q28<O28),((Q28-O28)*24)+24,(Q28-O28)*24))-IF($AG$9="",IF((OR(U28="",S28="")),0,IF((U28<S28),((U28-S28)*24)+24,(U28-S28)*24)),0)) -> 0 | AF28: =IF(AE28>8,8,AE28) -> 0 | AH28: =AE28-AJ28-AF28 -> 0 | AJ28: =IF(AE28>12,AE28-12,0) -> 0
K29: =K16 -> 43349 | L29: Thursday | AE29: =(IF((OR(Q29="",O29="")),0,IF((Q29<O29),((Q29-O29)*24)+24,(Q29-O29)*24))-IF($AG$9="",IF((OR(U29="",S29="")),0,IF((U29<S29),((U29-S29)*24)+24,(U29-S29)*24)),0)) -> 0 | AF29: =IF(AE29>8,8,AE29) -> 0 | AH29: =AE29-AJ29-AF29 -> 0 | AJ29: =IF(AE29>12,AE29-12,0) -> 0
A30: WEEK TOTALS | K30: =K17 -> 43350 | L30: Friday | AE30: =(IF((OR(Q30="",O30="")),0,IF((Q30<O30),((Q30-O30)*24)+24,(Q30-O30)*24))-IF($AG$9="",IF((OR(U30="",S30="")),0,IF((U30<S30),((U30-S30)*24)+24,(U30-S30)*24)),0)) -> 0 | AF30: =IF(AE30>8,8,AE30) -> 0 | AH30: =AE30-AJ30-AF30 -> 0 | AJ30: =IF(AE30>12,AE30-12,0) -> 0
A31: RT | E31: OT | I31: DT | J31: DT | K31: =K18 -> 43351 | L31: Saturday | AE31: =(IF((OR(Q31="",O31="")),0,IF((Q31<O31),((Q31-O31)*24)+24,(Q31-O31)*24))-IF($AG$9="",IF((OR(U31="",S31="")),0,IF((U31<S31),((U31-S31)*24)+24,(U31-S31)*24)),0)) -> 0 | AF31: =IF(SUM(AF26:AG30)+AE31<40,IF(AE31>8,8,AE31),(AE31-(SUM(AF26:AG30)+AE31-40))) -> 0 | AH31: =AE31-AJ31-AF31 -> 0 | AJ31: =IF(AE31>12,AE31-12,0) -> 0
A32: =SUM(AF26:AG32) -> 0 | E32: =SUM(AH26:AI32) -> 0 | I32: =SUM(AJ26:AK32) -> 0 | K32: =K19 -> 43352 | L32: Sunday | AE32: =(IF((OR(Q32="",O32="")),0,IF((Q32<O32),((Q32-O32)*24)+24,(Q32-O32)*24))-IF($AG$9="",IF((OR(U32="",S32="")),0,IF((U32<S32),((U32-S32)*24)+24,(U32-S32)*24)),0)) -> 0 | AF32: =IF(SUM(AF26:AG31)+AE32<40,IF(AE32>8,8,AE32),(AE32-(SUM(AF26:AG31)+AE32-40))) -> 0 | AH32: =AE32-AJ32-AF32 -> 0 | AJ32: =IF(AND(AE26>0,AE27>0,AE28>0,AE29>0,AE30>0,AE31>0),IF(AE32>8,AE32-8,0),IF(AE32>12,AE32-12,0)) -> 0
K34: Employee Signature: | AC34: Date:
O37: DAY | S37: LUNCH | W37: Comments / Notes | AE37: DAY TOTALS
K38: DATE | L38: DAY | O38: IN | Q38: OUT | S38: OUT | U38: IN | AE38: Hours | AF38: RT | AH38: OT | AJ38: DT
A39: Name 3 | K39: =K26 -> 43346 | L39: Monday | AE39: =(IF((OR(Q39="",O39="")),0,IF((Q39<O39),((Q39-O39)*24)+24,(Q39-O39)*24))-IF($AG$9="",IF((OR(U39="",S39="")),0,IF((U39<S39),((U39-S39)*24)+24,(U39-S39)*24)),0)) -> 0 | AF39: =IF(AE39>8,8,AE39) -> 0 | AH39: =AE39-AJ39-AF39 -> 0 | AJ39: =IF(AE39>12,AE39-12,0) -> 0
K40: =K27 -> 43347 | L40: Tuesday | AE40: =(IF((OR(Q40="",O40="")),0,IF((Q40<O40),((Q40-O40)*24)+24,(Q40-O40)*24))-IF($AG$9="",IF((OR(U40="",S40="")),0,IF((U40<S40),((U40-S40)*24)+24,(U40-S40)*24)),0)) -> 0 | AF40: =IF(AE40>8,8,AE40) -> 0 | AH40: =AE40-AJ40-AF40 -> 0 | AJ40: =IF(AE40>12,AE40-12,0) -> 0
A41: Social Security Number | K41: =K28 -> 43348 | L41: Wednesday | AE41: =(IF((OR(Q41="",O41="")),0,IF((Q41<O41),((Q41-O41)*24)+24,(Q41-O41)*24))-IF($AG$9="",IF((OR(U41="",S41="")),0,IF((U41<S41),((U41-S41)*24)+24,(U41-S41)*24)),0)) -> 0 | AF41: =IF(AE41>8,8,AE41) -> 0 | AH41: =AE41-AJ41-AF41 -> 0 | AJ41: =IF(AE41>12,AE41-12,0) -> 0
K42: =K29 -> 43349 | L42: Thursday | AE42: =(IF((OR(Q42="",O42="")),0,IF((Q42<O42),((Q42-O42)*24)+24,(Q42-O42)*24))-IF($AG$9="",IF((OR(U42="",S42="")),0,IF((U42<S42),((U42-S42)*24)+24,(U42-S42)*24)),0)) -> 0 | AF42: =IF(AE42>8,8,AE42) -> 0 | AH42: =AE42-AJ42-AF42 -> 0 | AJ42: =IF(AE42>12,AE42-12,0) -> 0
A43: WEEK TOTALS | K43: =K30 -> 43350 | L43: Friday | AE43: =(IF((OR(Q43="",O43="")),0,IF((Q43<O43),((Q43-O43)*24)+24,(Q43-O43)*24))-IF($AG$9="",IF((OR(U43="",S43="")),0,IF((U43<S43),((U43-S43)*24)+24,(U43-S43)*24)),0)) -> 0 | AF43: =IF(AE43>8,8,AE43) -> 0 | AH43: =AE43-AJ43-AF43 -> 0 | AJ43: =IF(AE43>12,AE43-12,0) -> 0
A44: RT | E44: OT | I44: DT | J44: DT | K44: =K31 -> 43351 | L44: Saturday | AE44: =(IF((OR(Q44="",O44="")),0,IF((Q44<O44),((Q44-O44)*24)+24,(Q44-O44)*24))-IF($AG$9="",IF((OR(U44="",S44="")),0,IF((U44<S44),((U44-S44)*24)+24,(U44-S44)*24)),0)) -> 0 | AF44: =IF(SUM(AF39:AG43)+AE44<40,IF(AE44>8,8,AE44),(AE44-(SUM(AF39:AG43)+AE44-40))) -> 0 | AH44: =AE44-AJ44-AF44 -> 0 | AJ44: =IF(AE44>12,AE44-12,0) -> 0
A45: =SUM(AF39:AG45) -> 0 | E45: =SUM(AH39:AI45) -> 0 | I45: =SUM(AJ39:AK45) -> 0 | K45: =K32 -> 43352 | L45: Sunday | AE45: =(IF((OR(Q45="",O45="")),0,IF((Q45<O45),((Q45-O45)*24)+24,(Q45-O45)*24))-IF($AG$9="",IF((OR(U45="",S45="")),0,IF((U45<S45),((U45-S45)*24)+24,(U45-S45)*24)),0)) -> 0 | AF45: =IF(SUM(AF39:AG44)+AE45<40,IF(AE45>8,8,AE45),(AE45-(SUM(AF39:AG44)+AE45-40))) -> 0 | AH45: =AE45-AJ45-AF45 -> 0 | AJ45: =IF(AND(AE39>0,AE40>0,AE41>0,AE42>0,AE43>0,AE44>0),IF(AE45>8,AE45-8,0),IF(AE45>12,AE45-12,0)) -> 0
K47: Employee Signature: | AC47: Date:
O50: DAY | S50: LUNCH | W50: Comments / Notes | AE50: DAY TOTALS
K51: DATE | L51: DAY | O51: IN | Q51: OUT | S51: OUT | U51: IN | AE51: Hours | AF51: RT | AH51: OT | AJ51: DT
A52: Name 4 | K52: =K39 -> 43346 | L52: Monday | AE52: =(IF((OR(Q52="",O52="")),0,IF((Q52<O52),((Q52-O52)*24)+24,(Q52-O52)*24))-IF($AG$9="",IF((OR(U52="",S52="")),0,IF((U52<S52),((U52-S52)*24)+24,(U52-S52)*24)),0)) -> 0 | AF52: =IF(AE52>8,8,AE52) -> 0 | AH52: =AE52-AJ52-AF52 -> 0 | AJ52: =IF(AE52>12,AE52-12,0) -> 0
...

Sheet PG 2
P1: - This E-media Group Time Sheet AUTO calulates
P2: - Hours Must Be Entered in 12 Hour Format. EXAMPLE 8:00 AM
P3: - Entry may be made into the green cells only - this sheet auto calulates
A4: CALIFORNIA TIMESHEET 5 day / 8 hrs | P4: - OT on this timesheet is based on an 8 Hr / 5 day work schedule
A6: Page 2
A7: Customer Name: | I7: =IF('PG 1'!I7:T7="","",'PG 1'!I7:T7) | W7: Department:
A9: Weekending: | G9: ='PG 1'!G9:K9 -> 43352 | M9: Shift: | W9: If Paid Lunch Mark with X otherwise leave Blank | AG9: =IF('PG 1'!AG9="","",'PG 1'!AG9)
O11: DAY | S11: LUNCH | W11: Comments / Notes | AE11: DAY TOTALS
K12: DATE | L12: DAY | O12: IN | Q12: OUT | S12: OUT | U12: IN | AE12: Hours | AF12: RT | AH12: OT | AJ12: DT
A13: Name 1 | K13: =K14-1 -> 43346 | L13: Monday | AE13: =(IF((OR(Q13="",O13="")),0,IF((Q13<O13),((Q13-O13)*24)+24,(Q13-O13)*24))-IF($AG$9="",IF((OR(U13="",S13="")),0,IF((U13<S13),((U13-S13)*24)+24,(U13-S13)*24)),0)) -> 0 | AF13: =IF(AE13>8,8,AE13) -> 0 | AH13: =AE13-AJ13-AF13 -> 0 | AJ13: =IF(AE13>12,AE13-12,0) -> 0
K14: =K15-1 -> 43347 | L14: Tuesday | AE14: =(IF((OR(Q14="",O14="")),0,IF((Q14<O14),((Q14-O14)*24)+24,(Q14-O14)*24))-IF($AG$9="",IF((OR(U14="",S14="")),0,IF((U14<S14),((U14-S14)*24)+24,(U14-S14)*24)),0)) -> 0 | AF14: =IF(AE14>8,8,AE14) -> 0 | AH14: =AE14-AJ14-AF14 -> 0 | AJ14: =IF(AE14>12,AE14-12,0) -> 0
A15: Social Security Number | K15: =K16-1 -> 43348 | L15: Wednesday | AE15: =(IF((OR(Q15="",O15="")),0,IF((Q15<O15),((Q15-O15)*24)+24,(Q15-O15)*24))-IF($AG$9="",IF((OR(U15="",S15="")),0,IF((U15<S15),((U15-S15)*24)+24,(U15-S15)*24)),0)) -> 0 | AF15: =IF(AE15>8,8,AE15) -> 0 | AH15: =AE15-AJ15-AF15 -> 0 | AJ15: =IF(AE15>12,AE15-12,0) -> 0
K16: =K17-1 -> 43349 | L16: Thursday | AE16: =(IF((OR(Q16="",O16="")),0,IF((Q16<O16),((Q16-O16)*24)+24,(Q16-O16)*24))-IF($AG$9="",IF((OR(U16="",S16="")),0,IF((U16<S16),((U16-S16)*24)+24,(U16-S16)*24)),0)) -> 0 | AF16: =IF(AE16>8,8,AE16) -> 0 | AH16: =AE16-AJ16-AF16 -> 0 | AJ16: =IF(AE16>12,AE16-12,0) -> 0
A17: WEEK TOTALS | K17: =K18-1 -> 43350 | L17: Friday | AE17: =(IF((OR(Q17="",O17="")),0,IF((Q17<O17),((Q17-O17)*24)+24,(Q17-O17)*24))-IF($AG$9="",IF((OR(U17="",S17="")),0,IF((U17<S17),((U17-S17)*24)+24,(U17-S17)*24)),0)) -> 0 | AF17: =IF(AE17>8,8,AE17) -> 0 | AH17: =AE17-AJ17-AF17 -> 0 | AJ17: =IF(AE17>12,AE17-12,0) -> 0
A18: RT | E18: OT | I18: DT | J18: DT | K18: =K19-1 -> 43351 | L18: Saturday | AE18: =(IF((OR(Q18="",O18="")),0,IF((Q18<O18),((Q18-O18)*24)+24,(Q18-O18)*24))-IF($AG$9="",IF((OR(U18="",S18="")),0,IF((U18<S18),((U18-S18)*24)+24,(U18-S18)*24)),0)) -> 0 | AF18: =IF(SUM(AF13:AG17)+AE18<40,IF(AE18>8,8,AE18),(AE18-(SUM(AF13:AG17)+AE18-40))) -> 0 | AH18: =AE18-AJ18-AF18 -> 0 | AJ18: =IF(AE18>12,AE18-12,0) -> 0
A19: =SUM(AF13:AG19) -> 0 | E19: =SUM(AH13:AI19) -> 0 | I19: =SUM(AJ13:AK19) -> 0 | K19: =G9 -> 43352 | L19: Sunday | AE19: =(IF((OR(Q19="",O19="")),0,IF((Q19<O19),((Q19-O19)*24)+24,(Q19-O19)*24))-IF($AG$9="",IF((OR(U19="",S19="")),0,IF((U19<S19),((U19-S19)*24)+24,(U19-S19)*24)),0)) -> 0 | AF19: =IF(SUM(AF13:AG18)+AE19<40,IF(AE19>8,8,AE19),(AE19-(SUM(AF13:AG18)+AE19-40))) -> 0 | AH19: =AE19-AJ19-AF19 -> 0 | AJ19: =IF(AND(AE13>0,AE14>0,AE15>0,AE16>0,AE17>0,AE18>0),IF(AE19>8,AE19-8,0),IF(AE19>12,AE19-12,0)) -> 0
K21: Employee Signature: | AC21: Date:
O24: DAY | S24: LUNCH | W24: Comments / Notes | AE24: DAY TOTALS
K25: DATE | L25: DAY | O25: IN | Q25: OUT | S25: OUT | U25: IN | AE25: Hours | AF25: RT | AH25: OT | AJ25: DT
A26: Name 2 | K26: =K13 -> 43346 | L26: Monday | AE26: =(IF((OR(Q26="",O26="")),0,IF((Q26<O26),((Q26-O26)*24)+24,(Q26-O26)*24))-IF($AG$9="",IF((OR(U26="",S26="")),0,IF((U26<S26),((U26-S26)*24)+24,(U26-S26)*24)),0)) -> 0 | AF26: =IF(AE26>8,8,AE26) -> 0 | AH26: =AE26-AJ26-AF26 -> 0 | AJ26: =IF(AE26>12,AE26-12,0) -> 0
K27: =K14 -> 43347 | L27: Tuesday | AE27: =(IF((OR(Q27="",O27="")),0,IF((Q27<O27),((Q27-O27)*24)+24,(Q27-O27)*24))-IF($AG$9="",IF((OR(U27="",S27="")),0,IF((U27<S27),((U27-S27)*24)+24,(U27-S27)*24)),0)) -> 0 | AF27: =IF(AE27>8,8,AE27) -> 0 | AH27: =AE27-AJ27-AF27 -> 0 | AJ27: =IF(AE27>12,AE27-12,0) -> 0
A28: Social Security Number | K28: =K15 -> 43348 | L28: Wednesday | AE28: =(IF((OR(Q28="",O28="")),0,IF((Q28<O28),((Q28-O28)*24)+24,(Q28-O28)*24))-IF($AG$9="",IF((OR(U28="",S28="")),0,IF((U28<S28),((U28-S28)*24)+24,(U28-S28)*24)),0)) -> 0 | AF28: =IF(AE28>8,8,AE28) -> 0 | AH28: =AE28-AJ28-AF28 -> 0 | AJ28: =IF(AE28>12,AE28-12,0) -> 0
K29: =K16 -> 43349 | L29: Thursday | AE29: =(IF((OR(Q29="",O29="")),0,IF((Q29<O29),((Q29-O29)*24)+24,(Q29-O29)*24))-IF($AG$9="",IF((OR(U29="",S29="")),0,IF((U29<S29),((U29-S29)*24)+24,(U29-S29)*24)),0)) -> 0 | AF29: =IF(AE29>8,8,AE29) -> 0 | AH29: =AE29-AJ29-AF29 -> 0 | AJ29: =IF(AE29>12,AE29-12,0) -> 0
A30: WEEK TOTALS | K30: =K17 -> 43350 | L30: Friday | AE30: =(IF((OR(Q30="",O30="")),0,IF((Q30<O30),((Q30-O30)*24)+24,(Q30-O30)*24))-IF($AG$9="",IF((OR(U30="",S30="")),0,IF((U30<S30),((U30-S30)*24)+24,(U30-S30)*24)),0)) -> 0 | AF30: =IF(AE30>8,8,AE30) -> 0 | AH30: =AE30-AJ30-AF30 -> 0 | AJ30: =IF(AE30>12,AE30-12,0) -> 0
A31: RT | E31: OT | I31: DT | J31: DT | K31: =K18 -> 43351 | L31: Saturday | AE31: =(IF((OR(Q31="",O31="")),0,IF((Q31<O31),((Q31-O31)*24)+24,(Q31-O31)*24))-IF($AG$9="",IF((OR(U31="",S31="")),0,IF((U31<S31),((U31-S31)*24)+24,(U31-S31)*24)),0)) -> 0 | AF31: =IF(SUM(AF26:AG30)+AE31<40,IF(AE31>8,8,AE31),(AE31-(SUM(AF26:AG30)+AE31-40))) -> 0 | AH31: =AE31-AJ31-AF31 -> 0 | AJ31: =IF(AE31>12,AE31-12,0) -> 0
A32: =SUM(AF26:AG32) -> 0 | E32: =SUM(AH26:AI32) -> 0 | I32: =SUM(AJ26:AK32) -> 0 | K32: =K19 -> 43352 | L32: Sunday | AE32: =(IF((OR(Q32="",O32="")),0,IF((Q32<O32),((Q32-O32)*24)+24,(Q32-O32)*24))-IF($AG$9="",IF((OR(U32="",S32="")),0,IF((U32<S32),((U32-S32)*24)+24,(U32-S32)*24)),0)) -> 0 | AF32: =IF(SUM(AF26:AG31)+AE32<40,IF(AE32>8,8,AE32),(AE32-(SUM(AF26:AG31)+AE32-40))) -> 0 | AH32: =AE32-AJ32-AF32 -> 0 | AJ32: =IF(AND(AE26>0,AE27>0,AE28>0,AE29>0,AE30>0,AE31>0),IF(AE32>8,AE32-8,0),IF(AE32>12,AE32-12,0)) -> 0
K34: Employee Signature: | AC34: Date:
O37: DAY | S37: LUNCH | W37: Comments / Notes | AE37: DAY TOTALS
K38: DATE | L38: DAY | O38: IN | Q38: OUT | S38: OUT | U38: IN | AE38: Hours | AF38: RT | AH38: OT | AJ38: DT
A39: Name 3 | K39: =K26 -> 43346 | L39: Monday | AE39: =(IF((OR(Q39="",O39="")),0,IF((Q39<O39),((Q39-O39)*24)+24,(Q39-O39)*24))-IF($AG$9="",IF((OR(U39="",S39="")),0,IF((U39<S39),((U39-S39)*24)+24,(U39-S39)*24)),0)) -> 0 | AF39: =IF(AE39>8,8,AE39) -> 0 | AH39: =AE39-AJ39-AF39 -> 0 | AJ39: =IF(AE39>12,AE39-12,0) -> 0
K40: =K27 -> 43347 | L40: Tuesday | AE40: =(IF((OR(Q40="",O40="")),0,IF((Q40<O40),((Q40-O40)*24)+24,(Q40-O40)*24))-IF($AG$9="",IF((OR(U40="",S40="")),0,IF((U40<S40),((U40-S40)*24)+24,(U40-S40)*24)),0)) -> 0 | AF40: =IF(AE40>8,8,AE40) -> 0 | AH40: =AE40-AJ40-AF40 -> 0 | AJ40: =IF(AE40>12,AE40-12,0) -> 0
A41: Social Security Number | K41: =K28 -> 43348 | L41: Wednesday | AE41: =(IF((OR(Q41="",O41="")),0,IF((Q41<O41),((Q41-O41)*24)+24,(Q41-O41)*24))-IF($AG$9="",IF((OR(U41="",S41="")),0,IF((U41<S41),((U41-S41)*24)+24,(U41-S41)*24)),0)) -> 0 | AF41: =IF(AE41>8,8,AE41) -> 0 | AH41: =AE41-AJ41-AF41 -> 0 | AJ41: =IF(AE41>12,AE41-12,0) -> 0
K42: =K29 -> 43349 | L42: Thursday | AE42: =(IF((OR(Q42="",O42="")),0,IF((Q42<O42),((Q42-O42)*24)+24,(Q42-O42)*24))-IF($AG$9="",IF((OR(U42="",S42="")),0,IF((U42<S42),((U42-S42)*24)+24,(U42-S42)*24)),0)) -> 0 | AF42: =IF(AE42>8,8,AE42) -> 0 | AH42: =AE42-AJ42-AF42 -> 0 | AJ42: =IF(AE42>12,AE42-12,0) -> 0
A43: WEEK TOTALS | K43: =K30 -> 43350 | L43: Friday | AE43: =(IF((OR(Q43="",O43="")),0,IF((Q43<O43),((Q43-O43)*24)+24,(Q43-O43)*24))-IF($AG$9="",IF((OR(U43="",S43="")),0,IF((U43<S43),((U43-S43)*24)+24,(U43-S43)*24)),0)) -> 0 | AF43: =IF(AE43>8,8,AE43) -> 0 | AH43: =AE43-AJ43-AF43 -> 0 | AJ43: =IF(AE43>12,AE43-12,0) -> 0
A44: RT | E44: OT | I44: DT | J44: DT | K44: =K31 -> 43351 | L44: Saturday | AE44: =(IF((OR(Q44="",O44="")),0,IF((Q44<O44),((Q44-O44)*24)+24,(Q44-O44)*24))-IF($AG$9="",IF((OR(U44="",S44="")),0,IF((U44<S44),((U44-S44)*24)+24,(U44-S44)*24)),0)) -> 0 | AF44: =IF(SUM(AF39:AG43)+AE44<40,IF(AE44>8,8,AE44),(AE44-(SUM(AF39:AG43)+AE44-40))) -> 0 | AH44: =AE44-AJ44-AF44 -> 0 | AJ44: =IF(AE44>12,AE44-12,0) -> 0
A45: =SUM(AF39:AG45) -> 0 | E45: =SUM(AH39:AI45) -> 0 | I45: =SUM(AJ39:AK45) -> 0 | K45: =K32 -> 43352 | L45: Sunday | AE45: =(IF((OR(Q45="",O45="")),0,IF((Q45<O45),((Q45-O45)*24)+24,(Q45-O45)*24))-IF($AG$9="",IF((OR(U45="",S45="")),0,IF((U45<S45),((U45-S45)*24)+24,(U45-S45)*24)),0)) -> 0 | AF45: =IF(SUM(AF39:AG44)+AE45<40,IF(AE45>8,8,AE45),(AE45-(SUM(AF39:AG44)+AE45-40))) -> 0 | AH45: =AE45-AJ45-AF45 -> 0 | AJ45: =IF(AND(AE39>0,AE40>0,AE41>0,AE42>0,AE43>0,AE44>0),IF(AE45>8,AE45-8,0),IF(AE45>12,AE45-12,0)) -> 0
K47: Employee Signature: | AC47: Date:
O50: DAY | S50: LUNCH | W50: Comments / Notes | AE50: DAY TOTALS
K51: DATE | L51: DAY | O51: IN | Q51: OUT | S51: OUT | U51: IN | AE51: Hours | AF51: RT | AH51: OT | AJ51: DT
A52: Name 4 | K52: =K39 -> 43346 | L52: Monday | AE52: =(IF((OR(Q52="",O52="")),0,IF((Q52<O52),((Q52-O52)*24)+24,(Q52-O52)*24))-IF($AG$9="",IF((OR(U52="",S52="")),0,IF((U52<S52),((U52-S52)*24)+24,(U52-S52)*24)),0)) -> 0 | AF52: =IF(AE52>8,8,AE52) -> 0 | AH52: =AE52-AJ52-AF52 -> 0 | AJ52: =IF(AE52>12,AE52-12,0) -> 0
...

Sheet PG 3
P1: - This E-media Group Time Sheet AUTO calulates
P2: - Hours Must Be Entered in 12 Hour Format. EXAMPLE 8:00 AM
P3: - Entry may be made into the green cells only - this sheet auto calulates
A4: CALIFORNIA TIMESHEET 5 day / 8 hrs | P4: - OT on this timesheet is based on an 8 Hr / 5 day work schedule
A6: Page 3
A7: Customer Name: | I7: =IF('PG 1'!I7:T7="","",'PG 1'!I7:T7) | W7: Department:
A9: Weekending: | G9: ='PG 1'!G9:K9 -> 43352 | M9: Shift: | W9: If Paid Lunch Mark with X otherwise leave Blank | AG9: =IF('PG 1'!AG9="","",'PG 1'!AG9)
O11: DAY | S11: LUNCH | W11: Comments / Notes | AE11: DAY TOTALS
K12: DATE | L12: DAY | O12: IN | Q12: OUT | S12: OUT | U12: IN | AE12: Hours | AF12: RT | AH12: OT | AJ12: DT
A13: Name 1 | K13: =K14-1 -> 43346 | L13: Monday | AE13: =(IF((OR(Q13="",O13="")),0,IF((Q13<O13),((Q13-O13)*24)+24,(Q13-O13)*24))-IF($AG$9="",IF((OR(U13="",S13="")),0,IF((U13<S13),((U13-S13)*24)+24,(U13-S13)*24)),0)) -> 0 | AF13: =IF(AE13>8,8,AE13) -> 0 | AH13: =AE13-AJ13-AF13 -> 0 | AJ13: =IF(AE13>12,AE13-12,0) -> 0
K14: =K15-1 -> 43347 | L14: Tuesday | AE14: =(IF((OR(Q14="",O14="")),0,IF((Q14<O14),((Q14-O14)*24)+24,(Q14-O14)*24))-IF($AG$9="",IF((OR(U14="",S14="")),0,IF((U14<S14),((U14-S14)*24)+24,(U14-S14)*24)),0)) -> 0 | AF14: =IF(AE14>8,8,AE14) -> 0 | AH14: =AE14-AJ14-AF14 -> 0 | AJ14: =IF(AE14>12,AE14-12,0) -> 0
A15: Social Security Number | K15: =K16-1 -> 43348 | L15: Wednesday | AE15: =(IF((OR(Q15="",O15="")),0,IF((Q15<O15),((Q15-O15)*24)+24,(Q15-O15)*24))-IF($AG$9="",IF((OR(U15="",S15="")),0,IF((U15<S15),((U15-S15)*24)+24,(U15-S15)*24)),0)) -> 0 | AF15: =IF(AE15>8,8,AE15) -> 0 | AH15: =AE15-AJ15-AF15 -> 0 | AJ15: =IF(AE15>12,AE15-12,0) -> 0
K16: =K17-1 -> 43349 | L16: Thursday | AE16: =(IF((OR(Q16="",O16="")),0,IF((Q16<O16),((Q16-O16)*24)+24,(Q16-O16)*24))-IF($AG$9="",IF((OR(U16="",S16="")),0,IF((U16<S16),((U16-S16)*24)+24,(U16-S16)*24)),0)) -> 0 | AF16: =IF(AE16>8,8,AE16) -> 0 | AH16: =AE16-AJ16-AF16 -> 0 | AJ16: =IF(AE16>12,AE16-12,0) -> 0
A17: WEEK TOTALS | K17: =K18-1 -> 43350 | L17: Friday | AE17: =(IF((OR(Q17="",O17="")),0,IF((Q17<O17),((Q17-O17)*24)+24,(Q17-O17)*24))-IF($AG$9="",IF((OR(U17="",S17="")),0,IF((U17<S17),((U17-S17)*24)+24,(U17-S17)*24)),0)) -> 0 | AF17: =IF(AE17>8,8,AE17) -> 0 | AH17: =AE17-AJ17-AF17 -> 0 | AJ17: =IF(AE17>12,AE17-12,0) -> 0
A18: RT | E18: OT | I18: DT | J18: DT | K18: =K19-1 -> 43351 | L18: Saturday | AE18: =(IF((OR(Q18="",O18="")),0,IF((Q18<O18),((Q18-O18)*24)+24,(Q18-O18)*24))-IF($AG$9="",IF((OR(U18="",S18="")),0,IF((U18<S18),((U18-S18)*24)+24,(U18-S18)*24)),0)) -> 0 | AF18: =IF(SUM(AF13:AG17)+AE18<40,IF(AE18>8,8,AE18),(AE18-(SUM(AF13:AG17)+AE18-40))) -> 0 | AH18: =AE18-AJ18-AF18 -> 0 | AJ18: =IF(AE18>12,AE18-12,0) -> 0
A19: =SUM(AF13:AG19) -> 0 | E19: =SUM(AH13:AI19) -> 0 | I19: =SUM(AJ13:AK19) -> 0 | K19: =G9 -> 43352 | L19: Sunday | AE19: =(IF((OR(Q19="",O19="")),0,IF((Q19<O19),((Q19-O19)*24)+24,(Q19-O19)*24))-IF($AG$9="",IF((OR(U19="",S19="")),0,IF((U19<S19),((U19-S19)*24)+24,(U19-S19)*24)),0)) -> 0 | AF19: =IF(SUM(AF13:AG18)+AE19<40,IF(AE19>8,8,AE19),(AE19-(SUM(AF13:AG18)+AE19-40))) -> 0 | AH19: =AE19-AJ19-AF19 -> 0 | AJ19: =IF(AND(AE13>0,AE14>0,AE15>0,AE16>0,AE17>0,AE18>0),IF(AE19>8,AE19-8,0),IF(AE19>12,AE19-12,0)) -> 0
K21: Employee Signature: | AC21: Date:
O24: DAY | S24: LUNCH | W24: Comments / Notes | AE24: DAY TOTALS
K25: DATE | L25: DAY | O25: IN | Q25: OUT | S25: OUT | U25: IN | AE25: Hours | AF25: RT | AH25: OT | AJ25: DT
A26: Name 2 | K26: =K13 -> 43346 | L26: Monday | AE26: =(IF((OR(Q26="",O26="")),0,IF((Q26<O26),((Q26-O26)*24)+24,(Q26-O26)*24))-IF($AG$9="",IF((OR(U26="",S26="")),0,IF((U26<S26),((U26-S26)*24)+24,(U26-S26)*24)),0)) -> 0 | AF26: =IF(AE26>8,8,AE26) -> 0 | AH26: =AE26-AJ26-AF26 -> 0 | AJ26: =IF(AE26>12,AE26-12,0) -> 0
K27: =K14 -> 43347 | L27: Tuesday | AE27: =(IF((OR(Q27="",O27="")),0,IF((Q27<O27),((Q27-O27)*24)+24,(Q27-O27)*24))-IF($AG$9="",IF((OR(U27="",S27="")),0,IF((U27<S27),((U27-S27)*24)+24,(U27-S27)*24)),0)) -> 0 | AF27: =IF(AE27>8,8,AE27) -> 0 | AH27: =AE27-AJ27-AF27 -> 0 | AJ27: =IF(AE27>12,AE27-12,0) -> 0
A28: Social Security Number | K28: =K15 -> 43348 | L28: Wednesday | AE28: =(IF((OR(Q28="",O28="")),0,IF((Q28<O28),((Q28-O28)*24)+24,(Q28-O28)*24))-IF($AG$9="",IF((OR(U28="",S28="")),0,IF((U28<S28),((U28-S28)*24)+24,(U28-S28)*24)),0)) -> 0 | AF28: =IF(AE28>8,8,AE28) -> 0 | AH28: =AE28-AJ28-AF28 -> 0 | AJ28: =IF(AE28>12,AE28-12,0) -> 0
K29: =K16 -> 43349 | L29: Thursday | AE29: =(IF((OR(Q29="",O29="")),0,IF((Q29<O29),((Q29-O29)*24)+24,(Q29-O29)*24))-IF($AG$9="",IF((OR(U29="",S29="")),0,IF((U29<S29),((U29-S29)*24)+24,(U29-S29)*24)),0)) -> 0 | AF29: =IF(AE29>8,8,AE29) -> 0 | AH29: =AE29-AJ29-AF29 -> 0 | AJ29: =IF(AE29>12,AE29-12,0) -> 0
A30: WEEK TOTALS | K30: =K17 -> 43350 | L30: Friday | AE30: =(IF((OR(Q30="",O30="")),0,IF((Q30<O30),((Q30-O30)*24)+24,(Q30-O30)*24))-IF($AG$9="",IF((OR(U30="",S30="")),0,IF((U30<S30),((U30-S30)*24)+24,(U30-S30)*24)),0)) -> 0 | AF30: =IF(AE30>8,8,AE30) -> 0 | AH30: =AE30-AJ30-AF30 -> 0 | AJ30: =IF(AE30>12,AE30-12,0) -> 0
A31: RT | E31: OT | I31: DT | J31: DT | K31: =K18 -> 43351 | L31: Saturday | AE31: =(IF((OR(Q31="",O31="")),0,IF((Q31<O31),((Q31-O31)*24)+24,(Q31-O31)*24))-IF($AG$9="",IF((OR(U31="",S31="")),0,IF((U31<S31),((U31-S31)*24)+24,(U31-S31)*24)),0)) -> 0 | AF31: =IF(SUM(AF26:AG30)+AE31<40,IF(AE31>8,8,AE31),(AE31-(SUM(AF26:AG30)+AE31-40))) -> 0 | AH31: =AE31-AJ31-AF31 -> 0 | AJ31: =IF(AE31>12,AE31-12,0) -> 0
A32: =SUM(AF26:AG32) -> 0 | E32: =SUM(AH26:AI32) -> 0 | I32: =SUM(AJ26:AK32) -> 0 | K32: =K19 -> 43352 | L32: Sunday | AE32: =(IF((OR(Q32="",O32="")),0,IF((Q32<O32),((Q32-O32)*24)+24,(Q32-O32)*24))-IF($AG$9="",IF((OR(U32="",S32="")),0,IF((U32<S32),((U32-S32)*24)+24,(U32-S32)*24)),0)) -> 0 | AF32: =IF(SUM(AF26:AG31)+AE32<40,IF(AE32>8,8,AE32),(AE32-(SUM(AF26:AG31)+AE32-40))) -> 0 | AH32: =AE32-AJ32-AF32 -> 0 | AJ32: =IF(AND(AE26>0,AE27>0,AE28>0,AE29>0,AE30>0,AE31>0),IF(AE32>8,AE32-8,0),IF(AE32>12,AE32-12,0)) -> 0
K34: Employee Signature: | AC34: Date:
O37: DAY | S37: LUNCH | W37: Comments / Notes | AE37: DAY TOTALS
K38: DATE | L38: DAY | O38: IN | Q38: OUT | S38: OUT | U38: IN | AE38: Hours | AF38: RT | AH38: OT | AJ38: DT
A39: Name 3 | K39: =K26 -> 43346 | L39: Monday | AE39: =(IF((OR(Q39="",O39="")),0,IF((Q39<O39),((Q39-O39)*24)+24,(Q39-O39)*24))-IF($AG$9="",IF((OR(U39="",S39="")),0,IF((U39<S39),((U39-S39)*24)+24,(U39-S39)*24)),0)) -> 0 | AF39: =IF(AE39>8,8,AE39) -> 0 | AH39: =AE39-AJ39-AF39 -> 0 | AJ39: =IF(AE39>12,AE39-12,0) -> 0
K40: =K27 -> 43347 | L40: Tuesday | AE40: =(IF((OR(Q40="",O40="")),0,IF((Q40<O40),((Q40-O40)*24)+24,(Q40-O40)*24))-IF($AG$9="",IF((OR(U40="",S40="")),0,IF((U40<S40),((U40-S40)*24)+24,(U40-S40)*24)),0)) -> 0 | AF40: =IF(AE40>8,8,AE40) -> 0 | AH40: =AE40-AJ40-AF40 -> 0 | AJ40: =IF(AE40>12,AE40-12,0) -> 0
A41: Social Security Number | K41: =K28 -> 43348 | L41: Wednesday | AE41: =(IF((OR(Q41="",O41="")),0,IF((Q41<O41),((Q41-O41)*24)+24,(Q41-O41)*24))-IF($AG$9="",IF((OR(U41="",S41="")),0,IF((U41<S41),((U41-S41)*24)+24,(U41-S41)*24)),0)) -> 0 | AF41: =IF(AE41>8,8,AE41) -> 0 | AH41: =AE41-AJ41-AF41 -> 0 | AJ41: =IF(AE41>12,AE41-12,0) -> 0
K42: =K29 -> 43349 | L42: Thursday | AE42: =(IF((OR(Q42="",O42="")),0,IF((Q42<O42),((Q42-O42)*24)+24,(Q42-O42)*24))-IF($AG$9="",IF((OR(U42="",S42="")),0,IF((U42<S42),((U42-S42)*24)+24,(U42-S42)*24)),0)) -> 0 | AF42: =IF(AE42>8,8,AE42) -> 0 | AH42: =AE42-AJ42-AF42 -> 0 | AJ42: =IF(AE42>12,AE42-12,0) -> 0
A43: WEEK TOTALS | K43: =K30 -> 43350 | L43: Friday | AE43: =(IF((OR(Q43="",O43="")),0,IF((Q43<O43),((Q43-O43)*24)+24,(Q43-O43)*24))-IF($AG$9="",IF((OR(U43="",S43="")),0,IF((U43<S43),((U43-S43)*24)+24,(U43-S43)*24)),0)) -> 0 | AF43: =IF(AE43>8,8,AE43) -> 0 | AH43: =AE43-AJ43-AF43 -> 0 | AJ43: =IF(AE43>12,AE43-12,0) -> 0
A44: RT | E44: OT | I44: DT | J44: DT | K44: =K31 -> 43351 | L44: Saturday | AE44: =(IF((OR(Q44="",O44="")),0,IF((Q44<O44),((Q44-O44)*24)+24,(Q44-O44)*24))-IF($AG$9="",IF((OR(U44="",S44="")),0,IF((U44<S44),((U44-S44)*24)+24,(U44-S44)*24)),0)) -> 0 | AF44: =IF(SUM(AF39:AG43)+AE44<40,IF(AE44>8,8,AE44),(AE44-(SUM(AF39:AG43)+AE44-40))) -> 0 | AH44: =AE44-AJ44-AF44 -> 0 | AJ44: =IF(AE44>12,AE44-12,0) -> 0
A45: =SUM(AF39:AG45) -> 0 | E45: =SUM(AH39:AI45) -> 0 | I45: =SUM(AJ39:AK45) -> 0 | K45: =K32 -> 43352 | L45: Sunday | AE45: =(IF((OR(Q45="",O45="")),0,IF((Q45<O45),((Q45-O45)*24)+24,(Q45-O45)*24))-IF($AG$9="",IF((OR(U45="",S45="")),0,IF((U45<S45),((U45-S45)*24)+24,(U45-S45)*24)),0)) -> 0 | AF45: =IF(SUM(AF39:AG44)+AE45<40,IF(AE45>8,8,AE45),(AE45-(SUM(AF39:AG44)+AE45-40))) -> 0 | AH45: =AE45-AJ45-AF45 -> 0 | AJ45: =IF(AND(AE39>0,AE40>0,AE41>0,AE42>0,AE43>0,AE44>0),IF(AE45>8,AE45-8,0),IF(AE45>12,AE45-12,0)) -> 0
K47: Employee Signature: | AC47: Date:
O50: DAY | S50: LUNCH | W50: Comments / Notes | AE50: DAY TOTALS
K51: DATE | L51: DAY | O51: IN | Q51: OUT | S51: OUT | U51: IN | AE51: Hours | AF51: RT | AH51: OT | AJ51: DT
A52: Name 4 | K52: =K39 -> 43346 | L52: Monday | AE52: =(IF((OR(Q52="",O52="")),0,IF((Q52<O52),((Q52-O52)*24)+24,(Q52-O52)*24))-IF($AG$9="",IF((OR(U52="",S52="")),0,IF((U52<S52),((U52-S52)*24)+24,(U52-S52)*24)),0)) -> 0 | AF52: =IF(AE52>8,8,AE52) -> 0 | AH52: =AE52-AJ52-AF52 -> 0 | AJ52: =IF(AE52>12,AE52-12,0) -> 0
...

Sheet PG 4
P1: - This E-media Group Time Sheet AUTO calulates
P2: - Hours Must Be Entered in 12 Hour Format. EXAMPLE 8:00 AM
P3: - Entry may be made into the green cells only - this sheet auto calulates
A4: CALIFORNIA TIMESHEET 5 day / 8 hrs | P4: - OT on this timesheet is based on an 8 Hr / 5 day work schedule
A6: Page 4
A7: Customer Name: | I7: =IF('PG 1'!I7:T7="","",'PG 1'!I7:T7) | W7: Department:
A9: Weekending: | G9: ='PG 1'!G9:K9 -> 43352 | M9: Shift: | W9: If Paid Lunch Mark with X otherwise leave Blank | AG9: =IF('PG 1'!AG9="","",'PG 1'!AG9)
O11: DAY | S11: LUNCH | W11: Comments / Notes | AE11: DAY TOTALS
K12: DATE | L12: DAY | O12: IN | Q12: OUT | S12: OUT | U12: IN | AE12: Hours | AF12: RT | AH12: OT | AJ12: DT
A13: Name 1 | K13: =K14-1 -> 43346 | L13: Monday | AE13: =(IF((OR(Q13="",O13="")),0,IF((Q13<O13),((Q13-O13)*24)+24,(Q13-O13)*24))-IF($AG$9="",IF((OR(U13="",S13="")),0,IF((U13<S13),((U13-S13)*24)+24,(U13-S13)*24)),0)) -> 0 | AF13: =IF(AE13>8,8,AE13) -> 0 | AH13: =AE13-AJ13-AF13 -> 0 | AJ13: =IF(AE13>12,AE13-12,0) -> 0
K14: =K15-1 -> 43347 | L14: Tuesday | AE14: =(IF((OR(Q14="",O14="")),0,IF((Q14<O14),((Q14-O14)*24)+24,(Q14-O14)*24))-IF($AG$9="",IF((OR(U14="",S14="")),0,IF((U14<S14),((U14-S14)*24)+24,(U14-S14)*24)),0)) -> 0 | AF14: =IF(AE14>8,8,AE14) -> 0 | AH14: =AE14-AJ14-AF14 -> 0 | AJ14: =IF(AE14>12,AE14-12,0) -> 0
A15: Social Security Number | K15: =K16-1 -> 43348 | L15: Wednesday | AE15: =(IF((OR(Q15="",O15="")),0,IF((Q15<O15),((Q15-O15)*24)+24,(Q15-O15)*24))-IF($AG$9="",IF((OR(U15="",S15="")),0,IF((U15<S15),((U15-S15)*24)+24,(U15-S15)*24)),0)) -> 0 | AF15: =IF(AE15>8,8,AE15) -> 0 | AH15: =AE15-AJ15-AF15 -> 0 | AJ15: =IF(AE15>12,AE15-12,0) -> 0
K16: =K17-1 -> 43349 | L16: Thursday | AE16: =(IF((OR(Q16="",O16="")),0,IF((Q16<O16),((Q16-O16)*24)+24,(Q16-O16)*24))-IF($AG$9="",IF((OR(U16="",S16="")),0,IF((U16<S16),((U16-S16)*24)+24,(U16-S16)*24)),0)) -> 0 | AF16: =IF(AE16>8,8,AE16) -> 0 | AH16: =AE16-AJ16-AF16 -> 0 | AJ16: =IF(AE16>12,AE16-12,0) -> 0
A17: WEEK TOTALS | K17: =K18-1 -> 43350 | L17: Friday | AE17: =(IF((OR(Q17="",O17="")),0,IF((Q17<O17),((Q17-O17)*24)+24,(Q17-O17)*24))-IF($AG$9="",IF((OR(U17="",S17="")),0,IF((U17<S17),((U17-S17)*24)+24,(U17-S17)*24)),0)) -> 0 | AF17: =IF(AE17>8,8,AE17) -> 0 | AH17: =AE17-AJ17-AF17 -> 0 | AJ17: =IF(AE17>12,AE17-12,0) -> 0
A18: RT | E18: OT | I18: DT | J18: DT | K18: =K19-1 -> 43351 | L18: Saturday | AE18: =(IF((OR(Q18="",O18="")),0,IF((Q18<O18),((Q18-O18)*24)+24,(Q18-O18)*24))-IF($AG$9="",IF((OR(U18="",S18="")),0,IF((U18<S18),((U18-S18)*24)+24,(U18-S18)*24)),0)) -> 0 | AF18: =IF(SUM(AF13:AG17)+AE18<40,IF(AE18>8,8,AE18),(AE18-(SUM(AF13:AG17)+AE18-40))) -> 0 | AH18: =AE18-AJ18-AF18 -> 0 | AJ18: =IF(AE18>12,AE18-12,0) -> 0
A19: =SUM(AF13:AG19) -> 0 | E19: =SUM(AH13:AI19) -> 0 | I19: =SUM(AJ13:AK19) -> 0 | K19: =G9 -> 43352 | L19: Sunday | AE19: =(IF((OR(Q19="",O19="")),0,IF((Q19<O19),((Q19-O19)*24)+24,(Q19-O19)*24))-IF($AG$9="",IF((OR(U19="",S19="")),0,IF((U19<S19),((U19-S19)*24)+24,(U19-S19)*24)),0)) -> 0 | AF19: =IF(SUM(AF13:AG18)+AE19<40,IF(AE19>8,8,AE19),(AE19-(SUM(AF13:AG18)+AE19-40))) -> 0 | AH19: =AE19-AJ19-AF19 -> 0 | AJ19: =IF(AND(AE13>0,AE14>0,AE15>0,AE16>0,AE17>0,AE18>0),IF(AE19>8,AE19-8,0),IF(AE19>12,AE19-12,0)) -> 0
K21: Employee Signature: | AC21: Date:
O24: DAY | S24: LUNCH | W24: Comments / Notes | AE24: DAY TOTALS
K25: DATE | L25: DAY | O25: IN | Q25: OUT | S25: OUT | U25: IN | AE25: Hours | AF25: RT | AH25: OT | AJ25: DT
A26: Name 2 | K26: =K13 -> 43346 | L26: Monday | AE26: =(IF((OR(Q26="",O26="")),0,IF((Q26<O26),((Q26-O26)*24)+24,(Q26-O26)*24))-IF($AG$9="",IF((OR(U26="",S26="")),0,IF((U26<S26),((U26-S26)*24)+24,(U26-S26)*24)),0)) -> 0 | AF26: =IF(AE26>8,8,AE26) -> 0 | AH26: =AE26-AJ26-AF26 -> 0 | AJ26: =IF(AE26>12,AE26-12,0) -> 0
K27: =K14 -> 43347 | L27: Tuesday | AE27: =(IF((OR(Q27="",O27="")),0,IF((Q27<O27),((Q27-O27)*24)+24,(Q27-O27)*24))-IF($AG$9="",IF((OR(U27="",S27="")),0,IF((U27<S27),((U27-S27)*24)+24,(U27-S27)*24)),0)) -> 0 | AF27: =IF(AE27>8,8,AE27) -> 0 | AH27: =AE27-AJ27-AF27 -> 0 | AJ27: =IF(AE27>12,AE27-12,0) -> 0
A28: Social Security Number | K28: =K15 -> 43348 | L28: Wednesday | AE28: =(IF((OR(Q28="",O28="")),0,IF((Q28<O28),((Q28-O28)*24)+24,(Q28-O28)*24))-IF($AG$9="",IF((OR(U28="",S28="")),0,IF((U28<S28),((U28-S28)*24)+24,(U28-S28)*24)),0)) -> 0 | AF28: =IF(AE28>8,8,AE28) -> 0 | AH28: =AE28-AJ28-AF28 -> 0 | AJ28: =IF(AE28>12,AE28-12,0) -> 0
K29: =K16 -> 43349 | L29: Thursday | AE29: =(IF((OR(Q29="",O29="")),0,IF((Q29<O29),((Q29-O29)*24)+24,(Q29-O29)*24))-IF($AG$9="",IF((OR(U29="",S29="")),0,IF((U29<S29),((U29-S29)*24)+24,(U29-S29)*24)),0)) -> 0 | AF29: =IF(AE29>8,8,AE29) -> 0 | AH29: =AE29-AJ29-AF29 -> 0 | AJ29: =IF(AE29>12,AE29-12,0) -> 0
A30: WEEK TOTALS | K30: =K17 -> 43350 | L30: Friday | AE30: =(IF((OR(Q30="",O30="")),0,IF((Q30<O30),((Q30-O30)*24)+24,(Q30-O30)*24))-IF($AG$9="",IF((OR(U30="",S30="")),0,IF((U30<S30),((U30-S30)*24)+24,(U30-S30)*24)),0)) -> 0 | AF30: =IF(AE30>8,8,AE30) -> 0 | AH30: =AE30-AJ30-AF30 -> 0 | AJ30: =IF(AE30>12,AE30-12,0) -> 0
A31: RT | E31: OT | I31: DT | J31: DT | K31: =K18 -> 43351 | L31: Saturday | AE31: =(IF((OR(Q31="",O31="")),0,IF((Q31<O31),((Q31-O31)*24)+24,(Q31-O31)*24))-IF($AG$9="",IF((OR(U31="",S31="")),0,IF((U31<S31),((U31-S31)*24)+24,(U31-S31)*24)),0)) -> 0 | AF31: =IF(SUM(AF26:AG30)+AE31<40,IF(AE31>8,8,AE31),(AE31-(SUM(AF26:AG30)+AE31-40))) -> 0 | AH31: =AE31-AJ31-AF31 -> 0 | AJ31: =IF(AE31>12,AE31-12,0) -> 0
A32: =SUM(AF26:AG32) -> 0 | E32: =SUM(AH26:AI32) -> 0 | I32: =SUM(AJ26:AK32) -> 0 | K32: =K19 -> 43352 | L32: Sunday | AE32: =(IF((OR(Q32="",O32="")),0,IF((Q32<O32),((Q32-O32)*24)+24,(Q32-O32)*24))-IF($AG$9="",IF((OR(U32="",S32="")),0,IF((U32<S32),((U32-S32)*24)+24,(U32-S32)*24)),0)) -> 0 | AF32: =IF(SUM(AF26:AG31)+AE32<40,IF(AE32>8,8,AE32),(AE32-(SUM(AF26:AG31)+AE32-40))) -> 0 | AH32: =AE32-AJ32-AF32 -> 0 | AJ32: =IF(AND(AE26>0,AE27>0,AE28>0,AE29>0,AE30>0,AE31>0),IF(AE32>8,AE32-8,0),IF(AE32>12,AE32-12,0)) -> 0
K34: Employee Signature: | AC34: Date:
O37: DAY | S37: LUNCH | W37: Comments / Notes | AE37: DAY TOTALS
K38: DATE | L38: DAY | O38: IN | Q38: OUT | S38: OUT | U38: IN | AE38: Hours | AF38: RT | AH38: OT | AJ38: DT
A39: Name 3 | K39: =K26 -> 43346 | L39: Monday | AE39: =(IF((OR(Q39="",O39="")),0,IF((Q39<O39),((Q39-O39)*24)+24,(Q39-O39)*24))-IF($AG$9="",IF((OR(U39="",S39="")),0,IF((U39<S39),((U39-S39)*24)+24,(U39-S39)*24)),0)) -> 0 | AF39: =IF(AE39>8,8,AE39) -> 0 | AH39: =AE39-AJ39-AF39 -> 0 | AJ39: =IF(AE39>12,AE39-12,0) -> 0
K40: =K27 -> 43347 | L40: Tuesday | AE40: =(IF((OR(Q40="",O40="")),0,IF((Q40<O40),((Q40-O40)*24)+24,(Q40-O40)*24))-IF($AG$9="",IF((OR(U40="",S40="")),0,IF((U40<S40),((U40-S40)*24)+24,(U40-S40)*24)),0)) -> 0 | AF40: =IF(AE40>8,8,AE40) -> 0 | AH40: =AE40-AJ40-AF40 -> 0 | AJ40: =IF(AE40>12,AE40-12,0) -> 0
A41: Social Security Number | K41: =K28 -> 43348 | L41: Wednesday | AE41: =(IF((OR(Q41="",O41="")),0,IF((Q41<O41),((Q41-O41)*24)+24,(Q41-O41)*24))-IF($AG$9="",IF((OR(U41="",S41="")),0,IF((U41<S41),((U41-S41)*24)+24,(U41-S41)*24)),0)) -> 0 | AF41: =IF(AE41>8,8,AE41) -> 0 | AH41: =AE41-AJ41-AF41 -> 0 | AJ41: =IF(AE41>12,AE41-12,0) -> 0
K42: =K29 -> 43349 | L42: Thursday | AE42: =(IF((OR(Q42="",O42="")),0,IF((Q42<O42),((Q42-O42)*24)+24,(Q42-O42)*24))-IF($AG$9="",IF((OR(U42="",S42="")),0,IF((U42<S42),((U42-S42)*24)+24,(U42-S42)*24)),0)) -> 0 | AF42: =IF(AE42>8,8,AE42) -> 0 | AH42: =AE42-AJ42-AF42 -> 0 | AJ42: =IF(AE42>12,AE42-12,0) -> 0
A43: WEEK TOTALS | K43: =K30 -> 43350 | L43: Friday | AE43: =(IF((OR(Q43="",O43="")),0,IF((Q43<O43),((Q43-O43)*24)+24,(Q43-O43)*24))-IF($AG$9="",IF((OR(U43="",S43="")),0,IF((U43<S43),((U43-S43)*24)+24,(U43-S43)*24)),0)) -> 0 | AF43: =IF(AE43>8,8,AE43) -> 0 | AH43: =AE43-AJ43-AF43 -> 0 | AJ43: =IF(AE43>12,AE43-12,0) -> 0
A44: RT | E44: OT | I44: DT | J44: DT | K44: =K31 -> 43351 | L44: Saturday | AE44: =(IF((OR(Q44="",O44="")),0,IF((Q44<O44),((Q44-O44)*24)+24,(Q44-O44)*24))-IF($AG$9="",IF((OR(U44="",S44="")),0,IF((U44<S44),((U44-S44)*24)+24,(U44-S44)*24)),0)) -> 0 | AF44: =IF(SUM(AF39:AG43)+AE44<40,IF(AE44>8,8,AE44),(AE44-(SUM(AF39:AG43)+AE44-40))) -> 0 | AH44: =AE44-AJ44-AF44 -> 0 | AJ44: =IF(AE44>12,AE44-12,0) -> 0
A45: =SUM(AF39:AG45) -> 0 | E45: =SUM(AH39:AI45) -> 0 | I45: =SUM(AJ39:AK45) -> 0 | K45: =K32 -> 43352 | L45: Sunday | AE45: =(IF((OR(Q45="",O45="")),0,IF((Q45<O45),((Q45-O45)*24)+24,(Q45-O45)*24))-IF($AG$9="",IF((OR(U45="",S45="")),0,IF((U45<S45),((U45-S45)*24)+24,(U45-S45)*24)),0)) -> 0 | AF45: =IF(SUM(AF39:AG44)+AE45<40,IF(AE45>8,8,AE45),(AE45-(SUM(AF39:AG44)+AE45-40))) -> 0 | AH45: =AE45-AJ45-AF45 -> 0 | AJ45: =IF(AND(AE39>0,AE40>0,AE41>0,AE42>0,AE43>0,AE44>0),IF(AE45>8,AE45-8,0),IF(AE45>12,AE45-12,0)) -> 0
K47: Employee Signature: | AC47: Date:
O50: DAY | S50: LUNCH | W50: Comments / Notes | AE50: DAY TOTALS
K51: DATE | L51: DAY | O51: IN | Q51: OUT | S51: OUT | U51: IN | AE51: Hours | AF51: RT | AH51: OT | AJ51: DT
A52: Name 4 | K52: =K39 -> 43346 | L52: Monday | AE52: =(IF((OR(Q52="",O52="")),0,IF((Q52<O52),((Q52-O52)*24)+24,(Q52-O52)*24))-IF($AG$9="",IF((OR(U52="",S52="")),0,IF((U52<S52),((U52-S52)*24)+24,(U52-S52)*24)),0)) -> 0 | AF52: =IF(AE52>8,8,AE52) -> 0 | AH52: =AE52-AJ52-AF52 -> 0 | AJ52: =IF(AE52>12,AE52-12,0) -> 0
...

Sheet PG 5
P1: - This E-media Group Time Sheet AUTO calulates
P2: - Hours Must Be Entered in 12 Hour Format. EXAMPLE 8:00 AM
P3: - Entry may be made into the green cells only - this sheet auto calulates
A4: CALIFORNIA TIMESHEET 5 day / 8 hrs | P4: - OT on this timesheet is based on an 8 Hr / 5 day work schedule
A6: Page 5
A7: Customer Name: | I7: =IF('PG 1'!I7:T7="","",'PG 1'!I7:T7) | W7: Department:
A9: Weekending: | G9: ='PG 1'!G9:K9 -> 43352 | M9: Shift: | W9: If Paid Lunch Mark with X otherwise leave Blank | AG9: =IF('PG 1'!AG9="","",'PG 1'!AG9)
O11: DAY | S11: LUNCH | W11: Comments / Notes | AE11: DAY TOTALS
K12: DATE | L12: DAY | O12: IN | Q12: OUT | S12: OUT | U12: IN | AE12: Hours | AF12: RT | AH12: OT | AJ12: DT
A13: Name 1 | K13: =K14-1 -> 43346 | L13: Monday | AE13: =(IF((OR(Q13="",O13="")),0,IF((Q13<O13),((Q13-O13)*24)+24,(Q13-O13)*24))-IF($AG$9="",IF((OR(U13="",S13="")),0,IF((U13<S13),((U13-S13)*24)+24,(U13-S13)*24)),0)) -> 0 | AF13: =IF(AE13>8,8,AE13) -> 0 | AH13: =AE13-AJ13-AF13 -> 0 | AJ13: =IF(AE13>12,AE13-12,0) -> 0
K14: =K15-1 -> 43347 | L14: Tuesday | AE14: =(IF((OR(Q14="",O14="")),0,IF((Q14<O14),((Q14-O14)*24)+24,(Q14-O14)*24))-IF($AG$9="",IF((OR(U14="",S14="")),0,IF((U14<S14),((U14-S14)*24)+24,(U14-S14)*24)),0)) -> 0 | AF14: =IF(AE14>8,8,AE14) -> 0 | AH14: =AE14-AJ14-AF14 -> 0 | AJ14: =IF(AE14>12,AE14-12,0) -> 0
A15: Social Security Number | K15: =K16-1 -> 43348 | L15: Wednesday | AE15: =(IF((OR(Q15="",O15="")),0,IF((Q15<O15),((Q15-O15)*24)+24,(Q15-O15)*24))-IF($AG$9="",IF((OR(U15="",S15="")),0,IF((U15<S15),((U15-S15)*24)+24,(U15-S15)*24)),0)) -> 0 | AF15: =IF(AE15>8,8,AE15) -> 0 | AH15: =AE15-AJ15-AF15 -> 0 | AJ15: =IF(AE15>12,AE15-12,0) -> 0
K16: =K17-1 -> 43349 | L16: Thursday | AE16: =(IF((OR(Q16="",O16="")),0,IF((Q16<O16),((Q16-O16)*24)+24,(Q16-O16)*24))-IF($AG$9="",IF((OR(U16="",S16="")),0,IF((U16<S16),((U16-S16)*24)+24,(U16-S16)*24)),0)) -> 0 | AF16: =IF(AE16>8,8,AE16) -> 0 | AH16: =AE16-AJ16-AF16 -> 0 | AJ16: =IF(AE16>12,AE16-12,0) -> 0
A17: WEEK TOTALS | K17: =K18-1 -> 43350 | L17: Friday | AE17: =(IF((OR(Q17="",O17="")),0,IF((Q17<O17),((Q17-O17)*24)+24,(Q17-O17)*24))-IF($AG$9="",IF((OR(U17="",S17="")),0,IF((U17<S17),((U17-S17)*24)+24,(U17-S17)*24)),0)) -> 0 | AF17: =IF(AE17>8,8,AE17) -> 0 | AH17: =AE17-AJ17-AF17 -> 0 | AJ17: =IF(AE17>12,AE17-12,0) -> 0
A18: RT | E18: OT | I18: DT | J18: DT | K18: =K19-1 -> 43351 | L18: Saturday | AE18: =(IF((OR(Q18="",O18="")),0,IF((Q18<O18),((Q18-O18)*24)+24,(Q18-O18)*24))-IF($AG$9="",IF((OR(U18="",S18="")),0,IF((U18<S18),((U18-S18)*24)+24,(U18-S18)*24)),0)) -> 0 | AF18: =IF(SUM(AF13:AG17)+AE18<40,IF(AE18>8,8,AE18),(AE18-(SUM(AF13:AG17)+AE18-40))) -> 0 | AH18: =AE18-AJ18-AF18 -> 0 | AJ18: =IF(AE18>12,AE18-12,0) -> 0
A19: =SUM(AF13:AG19) -> 0 | E19: =SUM(AH13:AI19) -> 0 | I19: =SUM(AJ13:AK19) -> 0 | K19: =G9 -> 43352 | L19: Sunday | AE19: =(IF((OR(Q19="",O19="")),0,IF((Q19<O19),((Q19-O19)*24)+24,(Q19-O19)*24))-IF($AG$9="",IF((OR(U19="",S19="")),0,IF((U19<S19),((U19-S19)*24)+24,(U19-S19)*24)),0)) -> 0 | AF19: =IF(SUM(AF13:AG18)+AE19<40,IF(AE19>8,8,AE19),(AE19-(SUM(AF13:AG18)+AE19-40))) -> 0 | AH19: =AE19-AJ19-AF19 -> 0 | AJ19: =IF(AND(AE13>0,AE14>0,AE15>0,AE16>0,AE17>0,AE18>0),IF(AE19>8,AE19-8,0),IF(AE19>12,AE19-12,0)) -> 0
K21: Employee Signature: | AC21: Date:
O24: DAY | S24: LUNCH | W24: Comments / Notes | AE24: DAY TOTALS
K25: DATE | L25: DAY | O25: IN | Q25: OUT | S25: OUT | U25: IN | AE25: Hours | AF25: RT | AH25: OT | AJ25: DT
A26: Name 2 | K26: =K13 -> 43346 | L26: Monday | AE26: =(IF((OR(Q26="",O26="")),0,IF((Q26<O26),((Q26-O26)*24)+24,(Q26-O26)*24))-IF($AG$9="",IF((OR(U26="",S26="")),0,IF((U26<S26),((U26-S26)*24)+24,(U26-S26)*24)),0)) -> 0 | AF26: =IF(AE26>8,8,AE26) -> 0 | AH26: =AE26-AJ26-AF26 -> 0 | AJ26: =IF(AE26>12,AE26-12,0) -> 0
K27: =K14 -> 43347 | L27: Tuesday | AE27: =(IF((OR(Q27="",O27="")),0,IF((Q27<O27),((Q27-O27)*24)+24,(Q27-O27)*24))-IF($AG$9="",IF((OR(U27="",S27="")),0,IF((U27<S27),((U27-S27)*24)+24,(U27-S27)*24)),0)) -> 0 | AF27: =IF(AE27>8,8,AE27) -> 0 | AH27: =AE27-AJ27-AF27 -> 0 | AJ27: =IF(AE27>12,AE27-12,0) -> 0
A28: Social Security Number | K28: =K15 -> 43348 | L28: Wednesday | AE28: =(IF((OR(Q28="",O28="")),0,IF((Q28<O28),((Q28-O28)*24)+24,(Q28-O28)*24))-IF($AG$9="",IF((OR(U28="",S28="")),0,IF((U28<S28),((U28-S28)*24)+24,(U28-S28)*24)),0)) -> 0 | AF28: =IF(AE28>8,8,AE28) -> 0 | AH28: =AE28-AJ28-AF28 -> 0 | AJ28: =IF(AE28>12,AE28-12,0) -> 0
K29: =K16 -> 43349 | L29: Thursday | AE29: =(IF((OR(Q29="",O29="")),0,IF((Q29<O29),((Q29-O29)*24)+24,(Q29-O29)*24))-IF($AG$9="",IF((OR(U29="",S29="")),0,IF((U29<S29),((U29-S29)*24)+24,(U29-S29)*24)),0)) -> 0 | AF29: =IF(AE29>8,8,AE29) -> 0 | AH29: =AE29-AJ29-AF29 -> 0 | AJ29: =IF(AE29>12,AE29-12,0) -> 0
A30: WEEK TOTALS | K30: =K17 -> 43350 | L30: Friday | AE30: =(IF((OR(Q30="",O30="")),0,IF((Q30<O30),((Q30-O30)*24)+24,(Q30-O30)*24))-IF($AG$9="",IF((OR(U30="",S30="")),0,IF((U30<S30),((U30-S30)*24)+24,(U30-S30)*24)),0)) -> 0 | AF30: =IF(AE30>8,8,AE30) -> 0 | AH30: =AE30-AJ30-AF30 -> 0 | AJ30: =IF(AE30>12,AE30-12,0) -> 0
A31: RT | E31: OT | I31: DT | J31: DT | K31: =K18 -> 43351 | L31: Saturday | AE31: =(IF((OR(Q31="",O31="")),0,IF((Q31<O31),((Q31-O31)*24)+24,(Q31-O31)*24))-IF($AG$9="",IF((OR(U31="",S31="")),0,IF((U31<S31),((U31-S31)*24)+24,(U31-S31)*24)),0)) -> 0 | AF31: =IF(SUM(AF26:AG30)+AE31<40,IF(AE31>8,8,AE31),(AE31-(SUM(AF26:AG30)+AE31-40))) -> 0 | AH31: =AE31-AJ31-AF31 -> 0 | AJ31: =IF(AE31>12,AE31-12,0) -> 0
A32: =SUM(AF26:AG32) -> 0 | E32: =SUM(AH26:AI32) -> 0 | I32: =SUM(AJ26:AK32) -> 0 | K32: =K19 -> 43352 | L32: Sunday | AE32: =(IF((OR(Q32="",O32="")),0,IF((Q32<O32),((Q32-O32)*24)+24,(Q32-O32)*24))-IF($AG$9="",IF((OR(U32="",S32="")),0,IF((U32<S32),((U32-S32)*24)+24,(U32-S32)*24)),0)) -> 0 | AF32: =IF(SUM(AF26:AG31)+AE32<40,IF(AE32>8,8,AE32),(AE32-(SUM(AF26:AG31)+AE32-40))) -> 0 | AH32: =AE32-AJ32-AF32 -> 0 | AJ32: =IF(AND(AE26>0,AE27>0,AE28>0,AE29>0,AE30>0,AE31>0),IF(AE32>8,AE32-8,0),IF(AE32>12,AE32-12,0)) -> 0
K34: Employee Signature: | AC34: Date:
O37: DAY | S37: LUNCH | W37: Comments / Notes | AE37: DAY TOTALS
K38: DATE | L38: DAY | O38: IN | Q38: OUT | S38: OUT | U38: IN | AE38: Hours | AF38: RT | AH38: OT | AJ38: DT
A39: Name 3 | K39: =K26 -> 43346 | L39: Monday | AE39: =(IF((OR(Q39="",O39="")),0,IF((Q39<O39),((Q39-O39)*24)+24,(Q39-O39)*24))-IF($AG$9="",IF((OR(U39="",S39="")),0,IF((U39<S39),((U39-S39)*24)+24,(U39-S39)*24)),0)) -> 0 | AF39: =IF(AE39>8,8,AE39) -> 0 | AH39: =AE39-AJ39-AF39 -> 0 | AJ39: =IF(AE39>12,AE39-12,0) -> 0
K40: =K27 -> 43347 | L40: Tuesday | AE40: =(IF((OR(Q40="",O40="")),0,IF((Q40<O40),((Q40-O40)*24)+24,(Q40-O40)*24))-IF($AG$9="",IF((OR(U40="",S40="")),0,IF((U40<S40),((U40-S40)*24)+24,(U40-S40)*24)),0)) -> 0 | AF40: =IF(AE40>8,8,AE40) -> 0 | AH40: =AE40-AJ40-AF40 -> 0 | AJ40: =IF(AE40>12,AE40-12,0) -> 0
A41: Social Security Number | K41: =K28 -> 43348 | L41: Wednesday | AE41: =(IF((OR(Q41="",O41="")),0,IF((Q41<O41),((Q41-O41)*24)+24,(Q41-O41)*24))-IF($AG$9="",IF((OR(U41="",S41="")),0,IF((U41<S41),((U41-S41)*24)+24,(U41-S41)*24)),0)) -> 0 | AF41: =IF(AE41>8,8,AE41) -> 0 | AH41: =AE41-AJ41-AF41 -> 0 | AJ41: =IF(AE41>12,AE41-12,0) -> 0
K42: =K29 -> 43349 | L42: Thursday | AE42: =(IF((OR(Q42="",O42="")),0,IF((Q42<O42),((Q42-O42)*24)+24,(Q42-O42)*24))-IF($AG$9="",IF((OR(U42="",S42="")),0,IF((U42<S42),((U42-S42)*24)+24,(U42-S42)*24)),0)) -> 0 | AF42: =IF(AE42>8,8,AE42) -> 0 | AH42: =AE42-AJ42-AF42 -> 0 | AJ42: =IF(AE42>12,AE42-12,0) -> 0
A43: WEEK TOTALS | K43: =K30 -> 43350 | L43: Friday | AE43: =(IF((OR(Q43="",O43="")),0,IF((Q43<O43),((Q43-O43)*24)+24,(Q43-O43)*24))-IF($AG$9="",IF((OR(U43="",S43="")),0,IF((U43<S43),((U43-S43)*24)+24,(U43-S43)*24)),0)) -> 0 | AF43: =IF(AE43>8,8,AE43) -> 0 | AH43: =AE43-AJ43-AF43 -> 0 | AJ43: =IF(AE43>12,AE43-12,0) -> 0
A44: RT | E44: OT | I44: DT | J44: DT | K44: =K31 -> 43351 | L44: Saturday | AE44: =(IF((OR(Q44="",O44="")),0,IF((Q44<O44),((Q44-O44)*24)+24,(Q44-O44)*24))-IF($AG$9="",IF((OR(U44="",S44="")),0,IF((U44<S44),((U44-S44)*24)+24,(U44-S44)*24)),0)) -> 0 | AF44: =IF(SUM(AF39:AG43)+AE44<40,IF(AE44>8,8,AE44),(AE44-(SUM(AF39:AG43)+AE44-40))) -> 0 | AH44: =AE44-AJ44-AF44 -> 0 | AJ44: =IF(AE44>12,AE44-12,0) -> 0
A45: =SUM(AF39:AG45) -> 0 | E45: =SUM(AH39:AI45) -> 0 | I45: =SUM(AJ39:AK45) -> 0 | K45: =K32 -> 43352 | L45: Sunday | AE45: =(IF((OR(Q45="",O45="")),0,IF((Q45<O45),((Q45-O45)*24)+24,(Q45-O45)*24))-IF($AG$9="",IF((OR(U45="",S45="")),0,IF((U45<S45),((U45-S45)*24)+24,(U45-S45)*24)),0)) -> 0 | AF45: =IF(SUM(AF39:AG44)+AE45<40,IF(AE45>8,8,AE45),(AE45-(SUM(AF39:AG44)+AE45-40))) -> 0 | AH45: =AE45-AJ45-AF45 -> 0 | AJ45: =IF(AND(AE39>0,AE40>0,AE41>0,AE42>0,AE43>0,AE44>0),IF(AE45>8,AE45-8,0),IF(AE45>12,AE45-12,0)) -> 0
K47: Employee Signature: | AC47: Date:
O50: DAY | S50: LUNCH | W50: Comments / Notes | AE50: DAY TOTALS
K51: DATE | L51: DAY | O51: IN | Q51: OUT | S51: OUT | U51: IN | AE51: Hours | AF51: RT | AH51: OT | AJ51: DT
A52: Name 4 | K52: =K39 -> 43346 | L52: Monday | AE52: =(IF((OR(Q52="",O52="")),0,IF((Q52<O52),((Q52-O52)*24)+24,(Q52-O52)*24))-IF($AG$9="",IF((OR(U52="",S52="")),0,IF((U52<S52),((U52-S52)*24)+24,(U52-S52)*24)),0)) -> 0 | AF52: =IF(AE52>8,8,AE52) -> 0 | AH52: =AE52-AJ52-AF52 -> 0 | AJ52: =IF(AE52>12,AE52-12,0) -> 0
...
