Workbook

Sheet Cover
B16: To Budget or Not To Budget?
F52: © Copyright 2001 BillCarlucci.com

Sheet Overview
C2: The Spending Plan
C3: To Budget or Not To Budget?
A7: You will be happy to know that a Spending Plan is not a budget. It is a model that will help you match your income to your needs and desires, exercise clear options, and make informed choices about your finances. It will bring into focus areas that need your attention and will enable you to take increased control of the spending side of your life As you begin it will be helpful to understand the origin of budgeting and why it has for the large part been a failing financial planning tool.
A9: The word budget derives from the Old French Bougette, a small from of bouge (a leather bag), or small purse. The word budget carries with it a sense of insufficiency and restriction. It also carries with it the stigma of not having enough and gives the feeling to most of being confined. In the grandiose times we live in, it's no wonder most people are depressed and defeated by budgets.
A11: There is a world of psychological difference between a plan and a budget. Budgets are fixed, limited, constrained and lead to penny-pinching. Plans on the other hand are flexible, carry options and most importantly, they are not absolute.
A12: Let's look at diets as an analogy. Diets like budgets don't work. There are all sorts of statistics regarding losing weight and gaining it back and more. The reason however, diets don't work is because they deal with the symptoms rather than the cause. The cause of fat is not calories. but rather what's going on (most likely unconsciously) in our minds. While a dieter may claim to be starving, the truth is they are withdrawing from the fix they use to relieve the sounds of the silence that are planted in their brains. They may unconsciously be getting back at their parent's, structure time, quiet restlessness, feel included, boost self-esteem, overcome loneliness, reward themselves along with others and generally cure what ails them.
A14: I guess that's why it’s been said, "it's not what you eat…it's what's eating you?" But what does this have to do with spending?...Lots!
A16: Just as unconscious eaters loathe getting on a scale, unconscious spenders loathe going to the mailbox. Just like dieters, it is the initial disbelief, you know stepping on and off the scale a couple of times to see if the needle goes back to zero. Unconscious spenders may want to see the numbers run "a little differently.
A18: While the Spending Plan is not about a budget, it is about patterns. At this point, you have no idea how critical the word "patterns" is to the plan. Financial Freedom is what the plan is all about and is the byproduct of insulating ourselves with a Prosperity Consciousness, which is the ability to function effortlessly and conveniently in the physical world (within your own skin), having money or not. It is a result of examining spending patterns that one will achieve financial freedom.

Sheet Biblical Guidelines
B1: Biblical Guidelines to the Spending Plan
A11: The following guidelines will help provide insight to your Spending Plan and guide you in managing your money peacefully and within your means.
A13: The Government Takes its Share. Jesus said, "Render to Caesar the things that are Caesar's; AND TO God the things that are Gods."
A15: Breaking Covenant by Withholding Tithes. “Bring the whole tithe into the storehouse, that there may be food in my house. Test me in this,” says the LORD Almighty, “and see if I will not throw open the floodgates of heaven and pour out so much blessing that there will not be room enough to store it.” -Malachi 3:10
A17: Net Spendable Income. This is what is left over after Tithes and Taxes.
A19: Family Needs Come Next. "If anyone does not provide for his own, and especially for those of his household, he has denied the faith, and is worse than an unbeliever." -1 Timothy 5:8
A21: God Demands We Pay Our Debts. "The wicked borrows and does not pay back, but the righteous is gracious and gives.” -Psalm 37:21
A23: Faithful Stewardship and Management Should Result in a Surplus. "At present time your surplus being a supply for their need, so that their abundance also may become a supply for your need, that there may be equality."
A24: -2 Corinthians 8:14
A26: As a follower of Christ, guided money management that results in a surplus should be your goal. This will enable you to respond to the need of others.
A28: A Spending Plan is important even if you are not in debt. It will help you accurately manage your finances allowing you to monitor both tithing and surplus funds.

Sheet Income Planner
A1: Monthly Income Planner
E4: Monthly | G4: Total | H4: Total
E5: Husband | F5: Wife | G5: Monthly | H5: Annually
A7: Earned Income
A8: Salary | G8: =SUM(E8,F8) -> 0 | H8: =G8*12 -> 0
A9: Commissions | G9: =SUM(E9,F9) -> 0 | H9: =G9*12 -> 0
A10: Bonus | G10: =SUM(E10,F10) -> 0 | H10: =G10*12 -> 0
A11: Business Income | G11: =SUM(E11,F11) -> 0 | H11: =G11*12 -> 0
A12: Total Earned Income | E12: =SUM(E8:E11) -> 0 | F12: =SUM(F8:F11) -> 0 | G12: =SUM(G8:G11) -> 0 | H12: =SUM(H8:H11) -> 0
A14: Investment Income
A15: Interest | G15: =SUM(E15,F15) -> 0 | H15: =G15*12 -> 0
A16: Dividends | G16: =SUM(E16,F16) -> 0 | H16: =G16*12 -> 0
A17: Gains | G17: =SUM(E17,F17) -> 0 | H17: =G17*12 -> 0
A18: Total Investment Income | E18: =SUM(E15:E17) -> 0 | F18: =SUM(F15:F17) -> 0 | G18: =SUM(G15:G17) -> 0 | H18: =SUM(H15:H17) -> 0
A20: Other Income
G21: =SUM(E21,F21) -> 0 | H21: =G21*12 -> 0
G22: =SUM(E22,F22) -> 0 | H22: =G22*12 -> 0
G23: =SUM(E23,F23) -> 0 | H23: =G23*12 -> 0
G24: =SUM(E24,F24) -> 0 | H24: =G24*12 -> 0
G25: =SUM(E25,F25) -> 0 | H25: =G25*12 -> 0
A26: Total Other Income | E26: =SUM(E21:E25) -> 0 | F26: =SUM(F21:F25) -> 0 | G26: =SUM(G21:G25) -> 0 | H26: =SUM(H21:H25) -> 0
A28: Total Gross Income | E28: =SUM(E12,E18,E26) -> 0 | F28: =SUM(F12,F18,F26) -> 0 | G28: =SUM(E28,F28) -> 0 | H28: =G28*12 -> 0
A30: Deductions From Income
B31: Federal Taxes | E31: =E28*0.2 -> 0 | F31: =F28*0.2 -> 0 | G31: =SUM(E31,F31) -> 0 | H31: =G31*12 -> 0
B32: Social Security Taxes | E32: =E28*0.075 -> 0 | F32: =F28*0.075 -> 0 | G32: =SUM(E32,F32) -> 0 | H32: =G32*12 -> 0
B33: Medicare Taxes | E33: =E28*0.025 -> 0 | F33: =F28*0.025 -> 0 | G33: =SUM(E33,F33) -> 0 | H33: =G33*12 -> 0
B34: State Taxes | E34: =E28*0.1 -> 0 | F34: =F28*0.1 -> 0 | G34: =SUM(E34,F34) -> 0 | H34: =G34*12 -> 0
B35: Dental Insurance | G35: =SUM(E35,F35) -> 0 | H35: =G35*12 -> 0
B36: Disability Insurance | G36: =SUM(E36,F36) -> 0 | H36: =G36*12 -> 0
B37: Medical Insurance | G37: =SUM(E37,F37) -> 0 | H37: =G37*12 -> 0
B38: Union Dues | G38: =SUM(E38,F38) -> 0 | H38: =G38*12 -> 0
B39: Other | G39: =SUM(E39,F39) -> 0 | H39: =G39*12 -> 0
A40: Total Deductions From Income * | E40: =SUM(E31:E39) -> 0 | F40: =SUM(F31:F39) -> 0 | G40: =SUM(G31:G39) -> 0 | H40: =SUM(H31:H39) -> 0
A42: Net Spendable Income | E42: =SUM(E12,E18,E26,-E40) -> 0 | F42: =SUM(F12,F18,F26,-F40) -> 0 | G42: =SUM(G12,G18,G26,-G40) -> 0 | H42: =SUM(H12,H18,H26,-H40) -> 0
A44: Tithe | E44: =E28*0.1 -> 0 | F44: =F28*0.1 -> 0 | G44: =SUM(E44,F44) -> 0 | H44: =G44*12 -> 0
E45: Requested | F45: Requested | G45: Actual | H45: Actual
E46: 0.1 | F46: 0.1 | G46: =G44/G28 -> #DIV/0! | H46: =H44/H28 -> #DIV/0!
A48: Savings & Investments | E48: =E28*0.1 -> 0 | F48: =F28*0.1 -> 0 | G48: =SUM(E48,F48) -> 0 | H48: =G48*12 -> 0
E49: Suggested | F49: Suggested | G49: Actual | H49: Actual
E50: 0.1 | F50: 0.1 | G50: =G48/G42 -> #DIV/0! | H50: =G48/G42 -> #DIV/0!
...

Sheet Fixed Expense Planner
A1: Monthly Fixed Expense Planner
E4: Total | F4: Total | G4: National | H4: Your
E5: Monthly | F5: Annually | G5: Average | H5: Average
B7: Housing
B9: Mortgage/Rent 1 | F9: =E9*12 -> 0
B10: Mortgage/Rent 2 | F10: =E10*12 -> 0
B11: Home Equity Loan | F11: =E11*12 -> 0
B12: Property Taxes | F12: =E12*12 -> 0
B14: Utilities | F14: =E14*12 -> 0
B15: Gas Heat / Other | F15: =E15*12 -> 0
B16: Electricity | F16: =E16*12 -> 0
B17: Water | F17: =E17*12 -> 0
B18: Refuse Collection | F18: =E18*12 -> 0
B19: Telephone-Land | F19: =E19*12 -> 0
B20: Telephone-Mobile | F20: =E20*12 -> 0
B21: Cable | F21: =E21*12 -> 0
... B25: Repairs/Maintenance | F25: =E25*12 -> 0
F26: =E26*12 -> 0
F27: =E27*12 -> 0
F28: =E28*12 -> 0
F29: =E29*12 -> 0
B30: Total Housing | E30: =SUM(E9:E29) -> 0 | F30: =SUM(F9:F29) -> 0 | G30: 0.36 | H30: =F30/'Income & Expense Summary'!F6 -> #DIV/0!
B32: Insurance
B34: Auto | F34: =E34*12 -> 0
B35: Home | F35: =E35*12 -> 0
B36: Umbrella | F36: =E36*12 -> 0
B37: Life | F37: =E37*12 -> 0
F38: =E38*12 -> 0
F39: =E39*12 -> 0
F40: =E40*12 -> 0
B41: Total Insurance | E41: =SUM(E34:E40) -> 0 | F41: =SUM(F34:F40) -> 0 | G41: 0.05 | H41: =F30/'Income & Expense Summary'!F6 -> #DIV/0!
B50: Total Fixed Expenses | E50: =SUM(E30,E41) -> 0 | F50: =SUM(F30,F41) -> 0 | G50: 0.41 | H50: =SUM(H30:H49) -> #DIV/0!
A53: Total Spendable Income Remaining | G53: =SUM(G10,G12,G17,-G33,-G37,-G48) -> 0 | H53: =SUM(H10,H12,H17,-H33,-H37,-H48) -> 0

Sheet Installment Debt Planner
A1: Monthly Installment Debt Planner
D3: Monthly | F3: Total | G3: Total | H3: National | I3: Your
D4: Husband | E4: Wife | F4: Monthly | G4: Annually | H4: Average | I4: Average
A5: Credit Cards
F7: =SUM(D7,E7) -> 0 | G7: =F7*12 -> 0
F8: =SUM(D8,E8) -> 0 | G8: =F8*12 -> 0
F9: =SUM(D9,E9) -> 0 | G9: =F9*12 -> 0
F10: =SUM(D10,E10) -> 0 | G10: =F10*12 -> 0
F11: =SUM(D11,E11) -> 0 | G11: =F11*12 -> 0
F12: =SUM(D12,E12) -> 0 | G12: =F12*12 -> 0
F13: =SUM(D13,E13) -> 0 | G13: =F13*12 -> 0
A15: Total | D15: =SUM(D7:D14) -> 0 | E15: =SUM(E7:E14) -> 0 | F15: =SUM(D15:E15) -> 0 | G15: =F15*12 -> 0
A17: Personal Loans
F19: =SUM(D19,E19) -> 0 | G19: =F19*12 -> 0
F20: =SUM(D20,E20) -> 0 | G20: =F20*12 -> 0
F21: =SUM(D21,E21) -> 0 | G21: =F21*12 -> 0
F22: =SUM(D22,E22) -> 0 | G22: =F22*12 -> 0
A24: Total | D24: =SUM(D19:D23) -> 0 | E24: =SUM(E19:E23) -> 0 | F24: =SUM(D24:E24) -> 0 | G24: =F24*12 -> 0
A26: Education Loans
F28: =SUM(D28,E28) -> 0 | G28: =F28*12 -> 0
F29: =SUM(D29,E29) -> 0 | G29: =F29*12 -> 0
F30: =SUM(D30,E30) -> 0 | G30: =F30*12 -> 0
F31: =SUM(D31,E31) -> 0 | G31: =F31*12 -> 0
A33: Total | D33: =SUM(D28:D32) -> 0 | E33: =SUM(E28:E32) -> 0 | F33: =SUM(D33:E33) -> 0 | G33: =F33*12 -> 0
A35: Auto Loans/Leases
F37: =SUM(D37,E37) -> 0 | G37: =F37*12 -> 0
F38: =SUM(D38,E38) -> 0 | G38: =F38*12 -> 0
A40: Total | D40: =SUM(D37:D39) -> 0 | E40: =SUM(E37:E39) -> 0 | F40: =SUM(D40:E40) -> 0 | G40: =F40*12 -> 0
A44: Total Installment Debt | D44: =SUM(D15,D24,D33,D40) -> 0 | E44: =SUM(E15,E24,E33,E40) -> 0 | F44: =SUM(D44:E44) -> 0 | G44: =F44*12 -> 0 | H44: 0.09 | I44: =F44/'Income Planner'!G53 -> #DIV/0!
D47: Generally Accepted Debt-to-Income Ratios
D48: Loan Program | E48: Front Ratio | F48: Back Ratio
D49: Conventional / Conforming | E49: 25-30% | F49: 35-38%
D50: Conventional Jumbo | E50: 30-34% | F50: 36-40%
D51: FHA Loans | E51: 28-35% | F51: 38 -41%
D52: VA | E52: 0.41 | F52: 0.41
D54: Husband's Ratio | F54: Wife's Ratio
D55: =D44/'Income Planner'!E28 -> #DIV/0! | F55: =E44/'Income Planner'!F28 -> #DIV/0!

Sheet Variable Expense Planner
A1: Monthly Variable Expense Planner
E4: Total | F4: Total | G4: National | H4: Your
E5: Monthly | F5: Annually | G5: Average | H5: Average
B7: Food | F7: =E7*12 -> 0 | G7: 0.12 | H7: =E7/'Income Planner'!G53 -> #DIV/0!
B9: Automobiles
F11: =E11*12 -> 0
F12: =E12*12 -> 0
F13: =E13*12 -> 0
F14: =E14*12 -> 0
F15: =E15*12 -> 0
F16: =E16*12 -> 0 | G16: =SUM(F16*5) -> 0 | H16: 5 Year Value
B18: Total Automobiles | E18: =SUM(E11:E17) -> 0 | F18: =SUM(F11:F17) -> 0 | G18: 0.12 | H18: =F18/'Income Planner'!G28 -> #DIV/0!
B20: Medical
F22: =E22*12 -> 0
F23: =E23*12 -> 0
F24: =E24*12 -> 0
F25: =E25*12 -> 0
F26: =E26*12 -> 0
F27: =E27*12 -> 0
B29: Total Medical Expenses | E29: =SUM(E22:E28) -> 0 | F29: =SUM(F22:F28) -> 0 | G29: 0.04 | H29: =F29/'Income Planner'!G28 -> #DIV/0!
B31: Clothing | F31: =E31*12 -> 0 | G31: 0.05 | H31: =F31/'Income Planner'!G28 -> #DIV/0!
B33: Child Care | F33: =E33*12 -> 0 | G33: 0.02 | H33: =F33/'Income Planner'!G28 -> #DIV/0!
B38: Total Variable Expenses | E38: =SUM(E7,E18,E29,E31,E33) -> 0 | F38: =SUM(F7,F18,F29,F31,F33) -> 0 | G38: 0.35 | H38: =SUM(H7,H18,H29,H31,H33) -> #DIV/0!
B58: * Fixed | D58: =SUM(#REF!) -> #REF! | E58: =SUM(#REF!) -> #REF!
B60: * Installment Debit | D60: =SUM(#REF!) -> #REF! | E60: =SUM(#REF!) -> #REF!
B62: * Variable | D62: =SUM(#REF!) -> #REF! | E62: =SUM(#REF!) -> #REF!
B64: * Discretionary | D64: =SUM(#REF!) -> #REF! | E64: =SUM(#REF!) -> #REF!

Sheet Discretionary Expense Planner
A1: Monthly Discretionary Expense Planner
E4: Total | F4: Total | G4: National | H4: Your
E5: Monthly | F5: Annually | G5: Average | H5: Average
B8: Education
F10: =E10*12 -> 0
F11: =E11*12 -> 0
F12: =E12*12 -> 0
F13: =E13*12 -> 0
F14: =E14*12 -> 0
F15: =E15*12 -> 0
B17: Total Education | E17: =SUM(E10:E16) -> 0 | F17: =SUM(F10:F16) -> 0 | G17: 0.06 | H17: =F17/'Income Planner'!G28 -> #DIV/0!
B20: Personal*& Family Activities
F22: =E22*12 -> 0
F23: =E23*12 -> 0
F24: =E24*12 -> 0
F25: =E25*12 -> 0
F26: =E26*12 -> 0
F27: =E27*12 -> 0
B29: Total Recreation | E29: =SUM(E22:E28) -> 0 | F29: =SUM(F22:F28) -> 0 | G29: 0.04 | H29: =F29/'Income Planner'!G28 -> #DIV/0!
B32: Miscellaneous
F34: =E34*12 -> 0
F35: =E35*12 -> 0
F36: =E36*12 -> 0
F37: =E37*12 -> 0
F38: =E38*12 -> 0
F39: =E39*12 -> 0
F40: =E40*12 -> 0
F41: =E41*12 -> 0
F42: =E42*12 -> 0
F43: =E43*12 -> 0
F44: =E44*12 -> 0
B46: Total Miscellaneous | E46: =SUM(E34:E45) -> 0 | F46: =SUM(F29:F45) -> 0 | G46: 0.05 | H46: =F46/'Income Planner'!G28 -> #DIV/0!
B51: Total Discretionary Expenses | E51: =SUM(E17,E29,E46) -> 0 | F51: =E51*12 -> 0 | G51: 0.15 | H51: =SUM(H17,H29,H49,) -> #DIV/0!

Sheet Invest & Kingdom Planner
C1: Investment & Kingdom Allocation
A5: Investments | C5: ='Income Planner'!G44 -> 0
B10: =C5*0.05 -> 0
B15: =C5*0.15 -> 0
B19: =C5*0.2 -> 0
B23: =C5*0.6 -> 0
A31: Tithe | C31: ='Income Planner'!G44 -> 0
B36: =C31*0.05 -> 0
B41: =C31*0.15 -> 0
B45: =C31*0.2 -> 0
B49: =C31*0.6 -> 0

Sheet Income & Expense Summary
A1: Monthly Income & Expense Summary
D3: Total | F3: Total
D4: Monthly | F4: Annually
A6: Spendable Income | D6: ='Income Planner'!G53 -> 0 | F6: ='Income Planner'!H53 -> 0
D9: Total | F9: Total | G9: National | H9: Your
D10: Monthly | F10: Annually | G10: Average | H10: Average
A12: Expenses
A14: Fixed | D14: ='Fixed Expense Planner'!E50 -> 0 | F14: ='Fixed Expense Planner'!F50 -> 0 | G14: 0.41 | H14: =D14/D6 -> #DIV/0!
A16: Installment Debit | D16: ='Installment Debt Planner'!F44 -> 0 | F16: ='Installment Debt Planner'!G44 -> 0 | G16: 0.09 | H16: =D16/D6 -> #DIV/0!
A18: Variable | D18: ='Variable Expense Planner'!E38 -> 0 | F18: ='Variable Expense Planner'!F38 -> 0 | G18: 0.35 | H18: =D18/D6 -> #DIV/0!
A20: Discretionary | D20: ='Discretionary Expense Planner'!E51 -> 0 | F20: ='Discretionary Expense Planner'!F46 -> 0 | G20: 0.15 | H20: =D20/D6 -> #DIV/0!
A22: Total Expenses | D22: =SUM(D14:D21) -> 0 | F22: =SUM(F14:F21) -> 0 | G22: =SUM(G14:G21) -> 1 | H22: =SUM(H14:H21) -> #DIV/0!
A24: Surplus / Shortage | D24: =SUM(D6-D22) -> 0 | F24: =SUM(F6-F22) -> 0
A25: Investment Fund | D25: ='Invest & Kingdom Planner'!C5 -> 0 | F25: =D25*12 -> 0
A26: Kingdom Fund | D26: ='Invest & Kingdom Planner'!C31 -> 0 | F26: ='Income & Expense Summary'!D26*12 -> 0
A30: Monthly Income & Expense Chart

Sheet Closing
A1: Gracious Perspective, Prayer, Perseverance,
A5: Gracious Perspective, Prayer, Perseverance, in that order, are key elements of a confortable retirement. Money has intentionally been left out since having sufficient assets by no means quarantees a comfortable retirement. In fact, many with assets over and above their needs are living in chronic anxiety. That's a fact!
A7: ● A Gracious Perspective unlocks the FULLNESS of life - NOT MONEY.
A8: ● Seeking through Prayer and Meditation to improve our conscious contact with God, is key to our confort. - NOT MONEY.
A9: ● The obedient keep moving forward, and those with clean hands become stronger and stronger. -Job 17:9
A12: Below are bible verses to keep you focused and in a Prosperity Consciousness.
A31: ●“And my God will meet all your needs according to his glorious riches in Christ Jesus.” -Philippians 4:19
A33: ●”Bring the whole tithe into the storehouse, that there may be food in my house. Test me in this,’ says the LORD
A34: Almighty, “and see if I will not throw open the floodgates of heaven and pour out so much blessing that you will
A35: not have room enough for it.’” -Malachi 3:10
A37: ●“For the love of money is a root of all kinds of evil. Some people, eager for money, have wandered from the faith
A38: and pierced themselves with many griefs.” -1 Timothy 6:10
... A43: ● “The rich rule over the poor, and the borrower is servant to the lender.” - Proverbs 22:7
