Workbook

Sheet Notes
A2: Date: | B2: 46304
A3: Author: | B3: Richard Potter
A4: Email: | B4: richard.potter@analyticscambridge.co.uk
A5: Version: | B5: V 17
A7: A catalogue of environmental data geographically of interest for Local Authorities
A9: Worksheets | B9: Content
A10: Data | B10: Data: title, variables, categories, organisation, date of publication, smallest geography, link, which nations available for
A11: Articles | B11: Collection of articles, author, date, title, published by, link. Generally those within most recent three years.
A12: Glossary | B12: Names from sets of initials e.g. MAGIC: Multi-Agency Geographic Information for the Countryside
A14: Notes
A15: Term Geo is used to indicate one or more of Geodatabase, GeoJSON, Shapefile
A16: Bias towards data sets which are updated rather than one-off reports. So Biogeographic Zones Living England (2021) not included.
A17: Thanks to P V Landshoff and Natural Cambridgeshire Partnership Forum for many links ( https://naturalcambridgeshire.org.uk/ )
A18: The bias is towards England. Data sets which are only available for Northern Ireland, Scotland or Wales have not been included
A20: Changes for version 17
A21: Added data
A22: Access the public register for environmental information
A23: Crop Map of England (CROME) 2025
A24: Extreme Heat Vulnerability Index
A25: Fire and rescue incident statistics
A26: FloodRadar
... A31: Removed data
A32: Climate Change Impacts tool | B32: Access to server "A 523 error means that Cloudflare could not reach your host web server."
A33: Drinking water | B33: pdf file moved to articles page
A34: Water Resources | B34: Access to server "A 523 error means that Cloudflare could not reach your host web server."
A36: Additions to Articles
A37: Droughts in England
A38: PFAS in UK waters – presence, detection, and remediation
A39: UK aquifers robust despite driest July on record
A40: UK Environmental Accounts: 2026 (updated)
A42: Deletions to Articles
A43: Green to Grey
A44: Heat resilience and sustainable cooling inquiry: call for evidence, Written evidence submitted by the UK Health Security Agency to Environmental Audit Committee
A45: Natural England Action Plan 2024 to 2025
A48: Data sites by groups
A49: Groups | B49: Number | C49: Per centage
A50: Air | B50: =COUNTIF(Data!C$6:C$83,Notes!A50) -> 6 | C50: =B50/B$60 -> 0.076923077
A51: Animals | B51: =COUNTIF(Data!C$6:C$83,Notes!A51) -> 4 | C51: =B51/B$60 -> 0.051282051
A52: Catalogue | B52: =COUNTIF(Data!C$6:C$83,Notes!A52) -> 4 | C52: =B52/B$60 -> 0.051282051
A53: Climate | B53: =COUNTIF(Data!C$6:C$83,Notes!A53) -> 3 | C53: =B53/B$60 -> 0.038461538
...

Sheet Data
A1: Data and sources
A5: Title | B5: Variables | C5: Class | D5: Organisation who published | E5: Date of publication or update | F5: Smallest Geography | G5: Hyperlink | H5: Notes | I5: Date link tested | J5: England | K5: Northern Ireland | L5: Scotland | M5: Wales
A6: Air quality statistics - ENV02 | B6: Particulate matter (PM2.5 and PM10), Ozone, Nitrogen Dioxide | C6: Air | D6: Department for Environment Food and Rural Affairs | E6: 46203 | F6: Monitoring devices | G6: https://www.gov.uk/government/statistical-data-sets/env02-air-quality-statistics | H6: Not clear at this stage where the devices are located | I6: 46303 | J6: Y | K6: Y | L6: Y | M6: Y
A7: Enclosed Farmland Natural Capital Accounts, UK: 2026 detailed summary tables | B7: Air pollution regulating, Greenhouse gas regulating, | C7: Air | D7: Office for National Statistics | E7: 46211 | F7: Local Authority | G7: https://www.ons.gov.uk/economy/environmentalaccounts/datasets/enclosedfarmlandnaturalcapitalaccountsukdetailedsummarytables | I7: 46303 | J7: Y | K7: Y | L7: Y | M7: Y
A8: Greenhouse gas emissions | B8: Greenhouse gas emissions (tCO2e) per capita, for 2005 to 2024 | C8: Air | D8: Department for Energy Security and Net Zero | E8: 46198 | F8: Local Authority | G8: https://explore-local-statistics.beta.ons.gov.uk/indicators/greenhouse-gas-emissions | H8: Data for each year, 2005 to 2024 | I8: 46303 | J8: Y | K8: Y | L8: Y | M8: Y
A9: Greenhouse gas emissions, 2005 to 2021 | B9: CO2, Nitrous Oxide, Methane, by industry sector | C9: Air | D9: Department for Business, Energy & Industrial Strategy | E9: 44742 | F9: Local Authority | G9: https://www.gov.uk/government/statistics/uk-local-authority-and-regional-greenhouse-gas-emissions-national-statistics-2005-to-2020 | H9: The greenhouse gases here are carbon dioxide, methane and nitrous oxide. Technical report published. Table 5.1 is of site data: Pollution Inventory 'by source' emissions, not consistent with local authority emissions by end-user (kt CO2e) | I9: 46303 | J9: Y | K9: Y | L9: Y | M9: Y
A10: Interactive monitoring networks map | B10: Location of monitors for 15 different types of "chemical": heavy metals, hydrocarbon, ozone… | C10: Air | D10: Department for Energy Security and Net Zero | E10: Current | F10: Point | G10: https://uk-air.defra.gov.uk/interactive-map | H10: Detailed figures, though lacking in simple explanations! | I10: 46303 | J10: Y | K10: Y | L10: Y | M10: Y
A11: National Atmospheric Emissions Inventory | B11: Greenhouse gases | C11: Air | D11: Science and Innovation for Climate and Energy (SICE) Division at the Department for Energy Security and Net Zero (DESNZ) and the Air Quality and Industrial Emissions Evidence Team of the Department for Environment, Food and Rural Affairs (Defra) | E11: 2024 | F11: Local Authority | G11: https://naei.energysecurity.gov.uk/laghgapp/ | H11: Includes the mapping of Greenhouse gas emissions from DEFRA and BIS | I11: 46303 | J11: Y | K11: Y | L11: Y | M11: Y
A12: Breeding Bird Survey 2025 | B12: Birds | C12: Animals | D12: British Trust for Ornithology (BTO) / Joint Nature Conservation Committee (JNCC) / (Royal Society for the Protection of Birds (RSPB) | E12: 2025 | F12: Sites | G12: https://www.bto.org/our-work/science/publications/reports/bbs-reports | H12: This is a report, maps show data at site level | I12: 46303 | J12: Y | K12: Y | L12: Y | M12: Y
A13: Butterflies | B13: Count by public of number of butterflies, by species | C13: Animals | D13: Butterfly Conservation | E13: N/K | F13: By site | G13: https://butterfly-conservation.org/in-your-area | I13: 46303 | J13: Y | K13: Y | L13: Y | M13: Y
A14: Important Invertebrate Areas | B14: Links from map to reports on the Important Invertebrate Area (IIAs). Includes qualifying species of conservation concern. | C14: Animals | D14: Buglife | E14: 2025 | F14: Hectads (10km x 10km squares) | G14: https://www.buglife.org.uk/our-work/important-invertebrate-areas/ | H14: The national IIA network was mapped using data from national invertebrate recording schemes – over 45 million records from 80 schemes. Not dated but Weekly News Digest 13.07.26, dated of reports seen were in 2025 | I14: 46303 | J14: Y | L14: Y | M14: Y
A15: Wetland Bird Survey | B15: Waterbirds in the UK | C15: Animals | D15: British Trust for Ornithology | E15: 46128 | F15: Data by site for waterbirds | G15: https://app.bto.org/webs-reporting/numbers.jsp | H15: WeBS is a partnership jointly funded by the BTO, RSPB and JNCC, with fieldwork conducted by volunteers. | I15: 46303 | J15: Y | K15: Y | L15: Y | M15: Y
A16: Accredited official statistics | B16: 146 variables listed under Domain Topic "Transport, Environment and Climate Change" | C16: Catalogue | D16: Office for Statistics Regulation | E16: 2026 | F16: Various | G16: https://osr.statisticsauthority.gov.uk/accredited-official-statistics/ | H16: In the Accredited Official Statistics List (Excel download) | I16: 46303 | J16: Y | K16: Y | L16: Y | M16: Y
A17: GSS Environment, Climate and Nature workplan | B17: Emissions and pollution; environmental economy; resource management, energy and waste; weather and water quality; land and soil; biodiversity and ecosystem; environmental and human health | C17: Catalogue | D17: Government Statistical Service | E17: 2026 | F17: Various | G17: https://analysisfunction.civilservice.gov.uk/government-statistical-service-and-statistician-group/user-facing-pages/theme-based-statistics/gss-theme-workplans/gss-theme-workplan-environment-climate-nature/#resource-management-energy-and-waste | H17: A range of departments collect, compile and publish environment, climate and nature statistics relevant to their policy area, including the devolved governments in Northern Ireland, Scotland and Wales | I17: 46303 | J17: Y | K17: Y | L17: Y | M17: Y
A18: National Data Library - Environment Collection | B18: Includes: Air quality, Costal erosion, Flood alerts, Forest and woodland, Landfill sites, Long term flood risk, Main rivers, Road noise, Storm overflows, Water quality, Weather | C18: Catalogue | D18: Variety | E18: Current | F18: Various | G18: https://www.data.gov.uk/collections/environment/weather | H18: From data.gov.uk (the home of UK public data to inform decisions and build services) those categorised as "Environment" | I18: 46303 | J18: Y | K18: Y | L18: Y | M18: Y
A19: Research and statistics | B19: Search by "environment" | C19: Catalogue | D19: Through .gov.uk | E19: Current | F19: Various | G19: https://www.gov.uk/search/research-and-statistics?content_store_document_type=statistics_published&order=updated-newest | H19: Not that useful. If chose: a) Statistics published b) Topic: environment and have "temperature" in search box. There's nine pages of publication, around 180 publications. Three quarters of these are monthly publications on energy trends and prices. | I19: 46303 | J19: Y | K19: Y | L19: Y | M19: Y
A20: Council climate action scorecard | B20: Scorecard consists of 93 questions (by council type), across 7 sections. Each council with a right to reply before the scores underwent a final audit | C20: Climate | D20: Climate Emergency UK | E20: 2025 | F20: Local Authority | G20: https://councilclimatescorecards.uk/about/ | I20: 46303 | J20: Y | L20: Y | M20: Y
A21: HadUK-Grid Gridded Climate Observations on a 1km grid over the UK, v1.3.2.ceda (1836-2025) | B21: 26 variables, Including ground frost, maximum air temperature, sunshine hours, total rainfall, surface temperature | C21: Climate | D21: Met Office | E21: 45667 | F21: 1 km x 1 km data | G21: https://catalogue.ceda.ac.uk/uuid/f02cc6ddd92f45b18b9ab6ab544df7d9/ | H21: Assume all four nations as indicates UK | I21: 46303 | J21: Y | K21: Y | L21: Y | M21: Y
A22: Historic station data | B22: Temperature and rain - from when weather station opened to recent month | C22: Climate | D22: Met Office | E22: Current | F22: Weather measuring stations | G22: https://www.metoffice.gov.uk/research/climate/maps-and-data/historic-station-data | H22: Monthly data are available for a selection of long-running historic stations. The series typically range from 50 to more than 100 years in length | I22: 46303 | J22: Y | K22: Y | L22: Y | M22: Y
A23: Domestic electricity consumption | B23: Median domestic electricity consumption (kWh) | C23: Energy | D23: Office for National Statistics | E23: 46009 | F23: Local Authority | G23: https://www.ons.gov.uk/explore-local-statistics/indicators/domestic-electricity-consumption | H23: Published by Office for National Statistics, from Department for Energy Security and Net Zero (Great Britain) and Department for Energy Security and Net Zero (Northern Ireland) | I23: 46303 | J23: Y | K23: Y | L23: Y | M23: Y
A24: Domestic gas consumption | B24: Median domestic gas consumption (kWh) | C24: Energy | D24: Office for National Statistics | E24: 46009 | F24: Local Authority | G24: https://www.ons.gov.uk/explore-local-statistics/indicators/domestic-gas-consumption | H24: Published by Office for National Statistics, from Department for Energy Security and Net Zero (Great Britain). Maps, charts and data to download | I24: 46303 | J24: Y | L24: Y | M24: Y
A25: Environment Agency Prosecutions | B25: Sector, incident type | C25: Environment | D25: Environment Agency | E25: 46374 | F25: Region, Local Authoirty collection | G25: https://www.data.gov.uk/dataset/6f06910a-8411-4117-9905-6284f1997c33/environment-agency-prosecutions | I25: 46303 | J25: Y
A26: Natural environment | B26: Geographic information about the natural environment from across government. The information covers rural, urban, coastal and marine environments across Great Britain. It is presented in an interactive map which can be explored using various mapping tools that are included. | C26: Environment | D26: Natural England | E26: Various | F26: Grid reference | G26: https://magic.defra.gov.uk/MagicMap.html | H26: Shows large number of data sets listed via: https://magic.defra.gov.uk/Dataset_Download_Summary.htm | I26: 46303 | J26: Y | K26: Y | L26: Y | M26: Y
A27: Access to green and blue space in England | B27: Percentage of households in each Output Area with access to green and blue space in England, under the 15-minute commitment and neighbourhood, local, and doorstep standards | C27: Land | D27: Department for Environment Food and Rural Affairs | E27: 46085 | F27: Output area | G27: https://www.gov.uk/government/statistics/access-to-green-and-blue-space-in-england | H27: Estimates of household access to green and blue spaces in England | I27: 46303 | J27: Y
A28: Agricultural industry structure in England and the UK at June | B28: Key land use, crop areas, livestock populations and agricultural workforce | C28: Land | D28: Department for Environment Food and Rural Affairs | E28: 46287 | F28: Local Authority | G28: https://www.gov.uk/government/statistical-data-sets/structure-of-the-agricultural-industry-in-england-and-the-uk-at-june | H28: Has some historic figures e.g. 2007, 2010 …. | I28: 46303 | J28: Y
A29: Crop Map of England (CROME) 2025 | B29: Classifying England into over 15 main crop types, grassland, and non-agricultural land covers, such as Woodland, Water Bodies, Fallow Land and other non-agricultural land covers. | C29: Land | D29: Department for Environment Food and Rural Affairs | E29: 2025 | F29: 32 million hexagonal cells | G29: https://environment.data.gov.uk/explore/04dc895b-e25d-485d-9b0c-d912a0259da8?download=true | I29: 46303 | J29: Y
A30: Enclosed farmland natural capital accounts, UK | B30: Enclosed farmland, Arable, Improved grassland | C30: Land | D30: Office for National Statistics | E30: 46211 | F30: Local Authority | G30: https://www.ons.gov.uk/economy/environmentalaccounts/bulletins/enclosedfarmlandnaturalcapitalaccountsuk/2026#data-on-enclosed-farmland-natural-capital-accounts-uk-2026 | H30: Explanation of the data hard to track down e.g. units of area, what are definitions of arable etc. | I30: 46303 | J30: Y | K30: Y | L30: Y | M30: Y
A31: England Peat Map | B31: Extent, depth, and condition of our peat including vegetation and upland peat erosion & drainage features | C31: Land | D31: Department for Environment Food and Rural Affairs | E31: N/K | F31: Grid reference | G31: https://englandpeatmap-defra.hub.arcgis.com/ | I31: 46303 | J31: Y
A32: Fire and rescue incident statistics | B32: Fires attended by Fire and Rescue Services | C32: Land | D32: Ministry of Housing, Communities and Local Government | E32: 46225 | F32: Fire and Rescue Service | G32: https://www.gov.uk/government/statistics/fire-and-rescue-incident-statistics-year-ending-march-2026/fire-and-rescue-incident-statistics-year-ending-march-2026--2 | H32: The link is to statistics for England. Includes data "outdoor primary fires". This page then contains links to Northern Ireland, Scotland and Wales | I32: 46303 | J32: Y | K32: Y | L32: Y | M32: Y
A33: Fly-tipping statistics for England | B33: Annual incidents of fly-tipping in England | C33: Land | D33: Department for Environment Food and Rural Affairs | E33: 46078 | F33: Local Authority | G33: https://www.gov.uk/government/statistics/fly-tipping-statistics-for-england | I33: 46303 | J33: Y
A34: Green belt statistics for England | B34: Size of land designated as green belt, annual change | C34: Land | D34: Department for Levelling Up, Housing and Communities | E34: 44850 | F34: Local Authority | G34: https://www.gov.uk/government/statistics/local-authority-green-belt-statistics-for-england-2021-to-2022 | H34: Includes previous data to show change | I34: 46303 | J34: Y
A35: Green Infrastructure Framework | B35: Variables under 25 headings for green infrastructure e.g. accessible areas, networks, national character areas etc etc | C35: Land | D35: Natural England | E35: 2026 | F35: Sites | G35: https://designatedsites.naturalengland.org.uk/GreenInfrastructure/Map.aspx | I35: 46303 | J35: Y
A36: Green Space Index 2025 | B36: Green space index score, ten-minute walk, green space provision per person | C36: Land | D36: Fields in Trust | E36: 2026 | F36: Some data to LSOA | G36: https://www.fieldsintrust.org/green-space-index | I36: 46303 | J36: Y | L36: Y | M36: Y
A37: Land Cover Maps | B37: Land cover using 21 categories | C37: Land | D37: UK Centre for Hydrology and Ecology | E37: 2025 | F37: Grid 10m * 10m | G37: https://www.ceh.ac.uk/data/ukceh-land-cover-maps | I37: 46303 | J37: Y | K37: Y | L37: Y | M37: Y
A38: Local Sites in positive conservation management | B38: Number of sites | C38: Land | D38: Department for Environment Food and Rural Affairs | E38: 46079 | F38: Local Authority | G38: https://www.gov.uk/government/statistics/local-sites-in-positive-conservation-management--2 | H38: Sites designated locally for their substantive nature conservation importance, either for wildlife or geology | I38: 46303 | J38: Y
A39: National Character Area Profiles | B39: Interactive profiles which describe each of England’s 159 National Character Areas (NCAs) | C39: Land | D39: Natural England | E39: 45425 | F39: Local Authority | G39: https://nationalcharacterareas.co.uk/ | I39: 46303 | J39: Y
A40: National Nature Reserves | B40: Reports on each National Nature Reserves Area habitats | C40: Land | D40: Natural England | E40: 46294 | F40: Nature Reserve | G40: https://www.gov.uk/government/collections/national-nature-reserves-in-england | I40: 46303 | J40: Y
A41: Priority Habitats Inventory | B41: Spatial dataset that maps priority habitats identified in the UK Biodiversity Action Plan and listed as being of principal importance for the purpose of conserving or enhancing biodiversity, under Section 41 of the Natural Environment and Rural Communities Act (2006) | C41: Land | D41: Natural England | E41: 46300 | F41: Habitats - can be 10s of metres small | G41: https://naturalengland-defra.opendata.arcgis.com/datasets/Defra::priority-habitats-inventory-england/about | H41: The PHI currently maps 27 terrestrial and freshwater priority habitats across England | I41: 46303 | J41: Y
A42: Provisional Agricultural Land Classification (ALC) | B42: Agricultural land classified into five grades | C42: Land | D42: Natural England | E42: 45939 | F42: Fields | G42: https://www.data.gov.uk/dataset/952421ec-da63-4569-817d-4d6399df40a1/provisional-agricultural-land-classification-alc | I42: 46303 | J42: Y
A43: Sites of Special Scientific Interest Units (England) | B43: Area, perimeter | C43: Land | D43: Natural England | E43: 46216 | F43: Data is of sites | G43: https://www.data.gov.uk/dataset/c52ead19-47c2-473b-b087-0842157e00b6/sites-of-special-scientific-interest-units-england | I43: 46303 | J43: Y
...

Sheet Articles
A1: Recent articles relevant to the environment in the UK
A5: Author(s) | B5: Date | C5: Title | D5: Published by / in | E5: Link | F5: Comment
A6: Agriculture and Horticulture Development Board (AHDB) | B6: 45717 | C6: Climate Change Adaptation | D6: AHDB | E6: https://projectblue.blob.core.windows.net/media/Default/Environment/Climate_Change_Report%20(ARP4)%20250218_WEB.pdf
A7: British Geological Survey | B7: 46250 | C7: UK aquifers robust despite driest July on record | D7: British Geological Survey | E7: https://www.bgs.ac.uk/news/uk-aquifers-robust-despite-driest-july-on-record/
A8: Burnett, N. | B8: 46188 | C8: Climate change adaptation and resilience in the UK | D8: House of Commons Library, Research Briefing | E8: https://researchbriefings.files.parliament.uk/documents/CBP-9969/CBP-9969.pdf
A9: Chilvers, J., Honeybun-Arnolda, E., Hinds, P. & Pallett, H. | B9: 2024 | C9: Mapping Diverse Public Engagements with Nature and Biodiversity | D9: Norwich: 3S Research Group & Natural England | E9: https://ueaeprints.uea.ac.uk/id/eprint/96032/1/Natural_England_Mapping_Public_Engagement_Project_Report.pdf
A10: Christopher Whitty, Chief Medical Officer for England | B10: 2022 | C10: Annual Report 2022, Air pollution | D10: Chief Medical Officer | E10: https://assets.publishing.service.gov.uk/government/uploads/system/uploads/attachment_data/file/1124738/chief-medical-officers-annual-report-air-pollution-dec-2022.pdf
A11: Climate Change Committee | B11: 46162 | C11: The Fourth Independent Assessment of UK Climate Risk (CCRA4-IA) | D11: Climate Change Committee | E11: https://www.theccc.org.uk/wp-content/uploads/2026/05/A-Well-Adapted-UK-CCRA4-IA-784y9813-3094039i85t59yhfufoub24f2bipdj1.pdf
A12: Climate Change Committee | B12: 45833 | C12: Progress in reducing emissions – 2025 report to Parliament | D12: Climate Change Committee | E12: https://www.theccc.org.uk/publication/progress-in-reducing-emissions-2025-report-to-parliament/#publication-downloads
A13: Department for Environment, Food & Rural Affairs | B13: 45923 | C13: Wild bird populations in the UK and England, 1970 to 2023 | D13: DEFRA | E13: https://www.gov.uk/government/statistics/wild-bird-populations-in-the-uk/wild-bird-populations-in-the-uk-and-england-1970-to-2023
A14: Department for Environment, Food & Rural Affairs | B14: 45594 | C14: 30 by 30 on land in England: confirmed criteria and next steps, policy paper | D14: DEFRA | E14: https://www.gov.uk/government/publications/criteria-for-30by30-on-land-in-england/30by30-on-land-in-england-confirmed-criteria-and-next-steps
A15: Environment Agency | B15: 45846 | C15: Environment Agency: EA2030 change for a better environment | D15: Environment Agency | E15: https://www.gov.uk/government/publications/environment-agency-ea2030-change-for-a-better-environment
A16: Environment Agency | B16: 46239 | C16: National assessment of flood and coastal erosion risk in England 2024 | D16: Environment Agency | E16: https://www.gov.uk/government/publications/national-assessment-of-flood-and-coastal-erosion-risk-in-england-2024/national-assessment-of-flood-and-coastal-erosion-risk-in-england-2024
A17: Environment Agency Chief Scientist’s Group | B17: 46082 | C17: Chief Scientist’s Annual Review 2025 | D17: Environment Agency | E17: https://assets.publishing.service.gov.uk/media/69cb728094c191d28596ed86/Chief_Scientist_s_annual_review_2025.pdf
... A39: Spencer, R. | B39: 45474 | C39: Nature and Biodiversity: a guide for development | D39: Environmental Industries-Commission | E39: https://eic-uk.co.uk/media/bompoldu/nature-and-biodiversity_a-guide-for-development-24-07-eic-rs-nb-f2.pdf

Sheet Glossary
A1: Initials used of titles and authors
A3: For general glossary of environmental term, see DEFRA "Glossary": https://environment.data.gov.uk/catchment-planning/help/glossary
A5: Abbreviation | B5: What it stands for
A6: AHDB | B6: Agriculture and Horticulture Development Board
A7: BTO | B7: British Trust for Ornithology
A8: CCW | B8: Consumer Council for Water
A9: CH4 | B9: Symbol for methane
A10: CO2 | B10: Symbol for Carbon Dioxide
A11: CPRE | B11: Countryside charity formerly known as Council for the Preservation of Rural England and the Council for the Protection of Rural England
A12: DEFRA | B12: Department for Environment, Food & Rural Affairs
A13: DESNZ | B13: Department for Energy Security and Net Zero
A14: GSS | B14: Government Statistical Service
A15: IPPC | B15: Integrated Pollution Prevention and Control
A16: JNCC | B16: Joint Nature Conservation Committee
... A29: SSSI | B29: Sites of Special Scientific Interest Units
