Workbook

Sheet Week 7 - Pool
B1: WEEK 7
A3: Game | B3: Date | C3: Bowl | D3: Teams | G3: Winner | H3: Game Point Value | I3: ='Data Setup'!A3 -> Aaron Lippe | L3: ='Data Setup'!A4 -> Brett | O3: ='Data Setup'!A5 -> Brian Rich | R3: ='Data Setup'!A6 -> Brock Larson | U3: ='Data Setup'!A7 -> Bryan Chambers | X3: ='Data Setup'!A8 -> Busta | AA3: ='Data Setup'!A9 -> C-Lar | AD3: ='Data Setup'!A10 -> Cage | AG3: ='Data Setup'!A11 -> Christi | AJ3: ='Data Setup'!A12 -> Churchill | AM3: ='Data Setup'!A13 -> Hayden P | AP3: ='Data Setup'!A14 -> Hayden Sluder | AS3: ='Data Setup'!A15 -> John Carter | AV3: ='Data Setup'!A16 -> Marcus | AY3: ='Data Setup'!A17 -> Michael | BB3: ='Data Setup'!A18 -> Payton Newkirk | BE3: ='Data Setup'!A19 -> Pep | BH3: ='Data Setup'!A20 -> Ramirez | BK3: ='Data Setup'!A21 -> Rocky | BN3: ='Data Setup'!A22 -> Saas | BQ3: ='Data Setup'!A23 -> Stanton | BT3: ='Data Setup'!A24 -> Steven Smith | BW3: ='Data Setup'!A25 -> T-Bone | BZ3: ='Data Setup'!A26 -> Teresa Kacerguis | CC3: ='Data Setup'!A27 -> Tim G | CF3: ='Data Setup'!A28 -> Uncle Bill | CI3: ='Data Setup'!A29 -> Young | CM3: Game | CR3: TOTAL
A4: 1 | B4: 46312 | D4: ='Data Setup'!H3 -> Ohio State | E4: vs. | F4: ='Data Setup'!I3 -> Indiana | G4: Ohio State | H4: 1 | I4: =IFERROR(INDEX('Week 7 - Weekly Picks'!$B$1:$Q$50,MATCH('Week 7 - Pool'!I$3,'Week 7 - Weekly Picks'!$B$1:$B$50,0),MATCH('Week 7 - Pool'!$A4,'Week 7 - Weekly Picks'!$B$1:$Q$1,0)),"") -> Ohio State | J4: =IF($G4="","",IF(I4=$G4,"W","L")) -> W | K4: =IF(J4="W",$H4,0) -> 1 | L4: =IFERROR(INDEX('Week 7 - Weekly Picks'!$B$1:$Q$50,MATCH('Week 7 - Pool'!L$3,'Week 7 - Weekly Picks'!$B$1:$B$50,0),MATCH('Week 7 - Pool'!$A4,'Week 7 - Weekly Picks'!$B$1:$Q$1,0)),"") -> Ohio State | M4: =IF($G4="","",IF(L4=$G4,"W","L")) -> W | N4: =IF(M4="W",$H4,0) -> 1 | O4: =IFERROR(INDEX('Week 7 - Weekly Picks'!$B$1:$Q$50,MATCH('Week 7 - Pool'!O$3,'Week 7 - Weekly Picks'!$B$1:$B$50,0),MATCH('Week 7 - Pool'!$A4,'Week 7 - Weekly Picks'!$B$1:$Q$1,0)),"") -> Ohio State | P4: =IF($G4="","",IF(O4=$G4,"W","L")) -> W | Q4: =IF(P4="W",$H4,0) -> 1 | R4: =IFERROR(INDEX('Week 7 - Weekly Picks'!$B$1:$Q$50,MATCH('Week 7 - Pool'!R$3,'Week 7 - Weekly Picks'!$B$1:$B$50,0),MATCH('Week 7 - Pool'!$A4,'Week 7 - Weekly Picks'!$B$1:$Q$1,0)),"") -> Ohio State | S4: =IF($G4="","",IF(R4=$G4,"W","L")) -> W | T4: =IF(S4="W",$H4,0) -> 1 | U4: =IFERROR(INDEX('Week 7 - Weekly Picks'!$B$1:$Q$50,MATCH('Week 7 - Pool'!U$3,'Week 7 - Weekly Picks'!$B$1:$B$50,0),MATCH('Week 7 - Pool'!$A4,'Week 7 - Weekly Picks'!$B$1:$Q$1,0)),"") -> Indiana | V4: =IF($G4="","",IF(U4=$G4,"W","L")) -> L | W4: =IF(V4="W",$H4,0) -> 0 | X4: =IFERROR(INDEX('Week 7 - Weekly Picks'!$B$1:$Q$50,MATCH('Week 7 - Pool'!X$3,'Week 7 - Weekly Picks'!$B$1:$B$50,0),MATCH('Week 7 - Pool'!$A4,'Week 7 - Weekly Picks'!$B$1:$Q$1,0)),"") -> Ohio State | Y4: =IF($G4="","",IF(X4=$G4,"W","L")) -> W | Z4: =IF(Y4="W",$H4,0) -> 1 | AA4: =IFERROR(INDEX('Week 7 - Weekly Picks'!$B$1:$Q$50,MATCH('Week 7 - Pool'!AA$3,'Week 7 - Weekly Picks'!$B$1:$B$50,0),MATCH('Week 7 - Pool'!$A4,'Week 7 - Weekly Picks'!$B$1:$Q$1,0)),"") -> Indiana | AB4: =IF($G4="","",IF(AA4=$G4,"W","L")) -> L | AC4: =IF(AB4="W",$H4,0) -> 0 | AD4: =IFERROR(INDEX('Week 7 - Weekly Picks'!$B$1:$Q$50,MATCH('Week 7 - Pool'!AD$3,'Week 7 - Weekly Picks'!$B$1:$B$50,0),MATCH('Week 7 - Pool'!$A4,'Week 7 - Weekly Picks'!$B$1:$Q$1,0)),"") -> Ohio State | AE4: =IF($G4="","",IF(AD4=$G4,"W","L")) -> W | AF4: =IF(AE4="W",$H4,0) -> 1 | AG4: =IFERROR(INDEX('Week 7 - Weekly Picks'!$B$1:$Q$50,MATCH('Week 7 - Pool'!AG$3,'Week 7 - Weekly Picks'!$B$1:$B$50,0),MATCH('Week 7 - Pool'!$A4,'Week 7 - Weekly Picks'!$B$1:$Q$1,0)),"") -> Ohio State | AH4: =IF($G4="","",IF(AG4=$G4,"W","L")) -> W | AI4: =IF(AH4="W",$H4,0) -> 1 | AJ4: =IFERROR(INDEX('Week 7 - Weekly Picks'!$B$1:$Q$50,MATCH('Week 7 - Pool'!AJ$3,'Week 7 - Weekly Picks'!$B$1:$B$50,0),MATCH('Week 7 - Pool'!$A4,'Week 7 - Weekly Picks'!$B$1:$Q$1,0)),"") -> Ohio State | AK4: =IF($G4="","",IF(AJ4=$G4,"W","L")) -> W | AL4: =IF(AK4="W",$H4,0) -> 1 | AM4: =IFERROR(INDEX('Week 7 - Weekly Picks'!$B$1:$Q$50,MATCH('Week 7 - Pool'!AM$3,'Week 7 - Weekly Picks'!$B$1:$B$50,0),MATCH('Week 7 - Pool'!$A4,'Week 7 - Weekly Picks'!$B$1:$Q$1,0)),"") -> Ohio State | AN4: =IF($G4="","",IF(AM4=$G4,"W","L")) -> W | AO4: =IF(AN4="W",$H4,0) -> 1 | AP4: =IFERROR(INDEX('Week 7 - Weekly Picks'!$B$1:$Q$50,MATCH('Week 7 - Pool'!AP$3,'Week 7 - Weekly Picks'!$B$1:$B$50,0),MATCH('Week 7 - Pool'!$A4,'Week 7 - Weekly Picks'!$B$1:$Q$1,0)),"") -> Ohio State | AQ4: =IF($G4="","",IF(AP4=$G4,"W","L")) -> W | AR4: =IF(AQ4="W",$H4,0) -> 1 | AS4: =IFERROR(INDEX('Week 7 - Weekly Picks'!$B$1:$Q$50,MATCH('Week 7 - Pool'!AS$3,'Week 7 - Weekly Picks'!$B$1:$B$50,0),MATCH('Week 7 - Pool'!$A4,'Week 7 - Weekly Picks'!$B$1:$Q$1,0)),"") -> Indiana | AT4: =IF($G4="","",IF(AS4=$G4,"W","L")) -> L | AU4: =IF(AT4="W",$H4,0) -> 0 | AV4: =IFERROR(INDEX('Week 7 - Weekly Picks'!$B$1:$Q$50,MATCH('Week 7 - Pool'!AV$3,'Week 7 - Weekly Picks'!$B$1:$B$50,0),MATCH('Week 7 - Pool'!$A4,'Week 7 - Weekly Picks'!$B$1:$Q$1,0)),"") -> Ohio State | AW4: =IF($G4="","",IF(AV4=$G4,"W","L")) -> W | AX4: =IF(AW4="W",$H4,0) -> 1 | AY4: =IFERROR(INDEX('Week 7 - Weekly Picks'!$B$1:$Q$50,MATCH('Week 7 - Pool'!AY$3,'Week 7 - Weekly Picks'!$B$1:$B$50,0),MATCH('Week 7 - Pool'!$A4,'Week 7 - Weekly Picks'!$B$1:$Q$1,0)),"") -> Ohio State | AZ4: =IF($G4="","",IF(AY4=$G4,"W","L")) -> W | BA4: =IF(AZ4="W",$H4,0) -> 1 | BB4: =IFERROR(INDEX('Week 7 - Weekly Picks'!$B$1:$Q$50,MATCH('Week 7 - Pool'!BB$3,'Week 7 - Weekly Picks'!$B$1:$B$50,0),MATCH('Week 7 - Pool'!$A4,'Week 7 - Weekly Picks'!$B$1:$Q$1,0)),"") -> Ohio State | BC4: =IF($G4="","",IF(BB4=$G4,"W","L")) -> W | BD4: =IF(BC4="W",$H4,0) -> 1 | BE4: =IFERROR(INDEX('Week 7 - Weekly Picks'!$B$1:$Q$50,MATCH('Week 7 - Pool'!BE$3,'Week 7 - Weekly Picks'!$B$1:$B$50,0),MATCH('Week 7 - Pool'!$A4,'Week 7 - Weekly Picks'!$B$1:$Q$1,0)),"") -> Indiana | BF4: =IF($G4="","",IF(BE4=$G4,"W","L")) -> L | BG4: =IF(BF4="W",$H4,0) -> 0 | BH4: =IFERROR(INDEX('Week 7 - Weekly Picks'!$B$1:$Q$50,MATCH('Week 7 - Pool'!BH$3,'Week 7 - Weekly Picks'!$B$1:$B$50,0),MATCH('Week 7 - Pool'!$A4,'Week 7 - Weekly Picks'!$B$1:$Q$1,0)),"") -> Indiana | BI4: =IF($G4="","",IF(BH4=$G4,"W","L")) -> L | BJ4: =IF(BI4="W",$H4,0) -> 0 | BK4: =IFERROR(INDEX('Week 7 - Weekly Picks'!$B$1:$Q$50,MATCH('Week 7 - Pool'!BK$3,'Week 7 - Weekly Picks'!$B$1:$B$50,0),MATCH('Week 7 - Pool'!$A4,'Week 7 - Weekly Picks'!$B$1:$Q$1,0)),"") -> Ohio State | BL4: =IF($G4="","",IF(BK4=$G4,"W","L")) -> W | BM4: =IF(BL4="W",$H4,0) -> 1 | BN4: =IFERROR(INDEX('Week 7 - Weekly Picks'!$B$1:$Q$50,MATCH('Week 7 - Pool'!BN$3,'Week 7 - Weekly Picks'!$B$1:$B$50,0),MATCH('Week 7 - Pool'!$A4,'Week 7 - Weekly Picks'!$B$1:$Q$1,0)),"") -> Ohio State | BO4: =IF($G4="","",IF(BN4=$G4,"W","L")) -> W | BP4: =IF(BO4="W",$H4,0) -> 1 | BQ4: =IFERROR(INDEX('Week 7 - Weekly Picks'!$B$1:$Q$50,MATCH('Week 7 - Pool'!BQ$3,'Week 7 - Weekly Picks'!$B$1:$B$50,0),MATCH('Week 7 - Pool'!$A4,'Week 7 - Weekly Picks'!$B$1:$Q$1,0)),"") -> Ohio State | BR4: =IF($G4="","",IF(BQ4=$G4,"W","L")) -> W | BS4: =IF(BR4="W",$H4,0) -> 1 | BT4: =IFERROR(INDEX('Week 7 - Weekly Picks'!$B$1:$Q$50,MATCH('Week 7 - Pool'!BT$3,'Week 7 - Weekly Picks'!$B$1:$B$50,0),MATCH('Week 7 - Pool'!$A4,'Week 7 - Weekly Picks'!$B$1:$Q$1,0)),"") -> Ohio State | BU4: =IF($G4="","",IF(BT4=$G4,"W","L")) -> W | BV4: =IF(BU4="W",$H4,0) -> 1 | BW4: =IFERROR(INDEX('Week 7 - Weekly Picks'!$B$1:$Q$50,MATCH('Week 7 - Pool'!BW$3,'Week 7 - Weekly Picks'!$B$1:$B$50,0),MATCH('Week 7 - Pool'!$A4,'Week 7 - Weekly Picks'!$B$1:$Q$1,0)),"") -> Ohio State | BX4: =IF($G4="","",IF(BW4=$G4,"W","L")) -> W | BY4: =IF(BX4="W",$H4,0) -> 1 | BZ4: =IFERROR(INDEX('Week 7 - Weekly Picks'!$B$1:$Q$50,MATCH('Week 7 - Pool'!BZ$3,'Week 7 - Weekly Picks'!$B$1:$B$50,0),MATCH('Week 7 - Pool'!$A4,'Week 7 - Weekly Picks'!$B$1:$Q$1,0)),"") -> Ohio State | CA4: =IF($G4="","",IF(BZ4=$G4,"W","L")) -> W | CB4: =IF(CA4="W",$H4,0) -> 1 | CC4: =IFERROR(INDEX('Week 7 - Weekly Picks'!$B$1:$Q$50,MATCH('Week 7 - Pool'!CC$3,'Week 7 - Weekly Picks'!$B$1:$B$50,0),MATCH('Week 7 - Pool'!$A4,'Week 7 - Weekly Picks'!$B$1:$Q$1,0)),"") -> Ohio State | CD4: =IF($G4="","",IF(CC4=$G4,"W","L")) -> W | CE4: =IF(CD4="W",$H4,0) -> 1 | CF4: =IFERROR(INDEX('Week 7 - Weekly Picks'!$B$1:$Q$50,MATCH('Week 7 - Pool'!CF$3,'Week 7 - Weekly Picks'!$B$1:$B$50,0),MATCH('Week 7 - Pool'!$A4,'Week 7 - Weekly Picks'!$B$1:$Q$1,0)),"") -> Ohio State | CG4: =IF($G4="","",IF(CF4=$G4,"W","L")) -> W | CH4: =IF(CG4="W",$H4,0) -> 1 | CI4: =IFERROR(INDEX('Week 7 - Weekly Picks'!$B$1:$Q$50,MATCH('Week 7 - Pool'!CI$3,'Week 7 - Weekly Picks'!$B$1:$B$50,0),MATCH('Week 7 - Pool'!$A4,'Week 7 - Weekly Picks'!$B$1:$Q$1,0)),"") -> Ohio State | CJ4: =IF($G4="","",IF(CI4=$G4,"W","L")) -> W | CK4: =IF(CJ4="W",$H4,0) -> 1 | CM4: 1 | CN4: =D4 -> Ohio State | CO4: =COUNTIF(I4:CI4,D4) -> 22 | CP4: =F4 -> Indiana | CQ4: =COUNTIF(I4:CI4,F4) -> 5 | CR4: =CO4+CQ4 -> 27
A5: 2 | B5: 46312 | D5: ='Data Setup'!H4 -> Penn State | E5: vs. | F5: ='Data Setup'!I4 -> Michigan | G5: Michigan | H5: 1 | I5: =IFERROR(INDEX('Week 7 - Weekly Picks'!$B$1:$Q$50,MATCH('Week 7 - Pool'!I$3,'Week 7 - Weekly Picks'!$B$1:$B$50,0),MATCH('Week 7 - Pool'!$A5,'Week 7 - Weekly Picks'!$B$1:$Q$1,0)),"") -> Michigan | J5: =IF($G5="","",IF(I5=$G5,"W","L")) -> W | K5: =IF(J5="W",$H5,0) -> 1 | L5: =IFERROR(INDEX('Week 7 - Weekly Picks'!$B$1:$Q$50,MATCH('Week 7 - Pool'!L$3,'Week 7 - Weekly Picks'!$B$1:$B$50,0),MATCH('Week 7 - Pool'!$A5,'Week 7 - Weekly Picks'!$B$1:$Q$1,0)),"") -> Michigan | M5: =IF($G5="","",IF(L5=$G5,"W","L")) -> W | N5: =IF(M5="W",$H5,0) -> 1 | O5: =IFERROR(INDEX('Week 7 - Weekly Picks'!$B$1:$Q$50,MATCH('Week 7 - Pool'!O$3,'Week 7 - Weekly Picks'!$B$1:$B$50,0),MATCH('Week 7 - Pool'!$A5,'Week 7 - Weekly Picks'!$B$1:$Q$1,0)),"") -> Michigan | P5: =IF($G5="","",IF(O5=$G5,"W","L")) -> W | Q5: =IF(P5="W",$H5,0) -> 1 | R5: =IFERROR(INDEX('Week 7 - Weekly Picks'!$B$1:$Q$50,MATCH('Week 7 - Pool'!R$3,'Week 7 - Weekly Picks'!$B$1:$B$50,0),MATCH('Week 7 - Pool'!$A5,'Week 7 - Weekly Picks'!$B$1:$Q$1,0)),"") -> Penn State | S5: =IF($G5="","",IF(R5=$G5,"W","L")) -> L | T5: =IF(S5="W",$H5,0) -> 0 | U5: =IFERROR(INDEX('Week 7 - Weekly Picks'!$B$1:$Q$50,MATCH('Week 7 - Pool'!U$3,'Week 7 - Weekly Picks'!$B$1:$B$50,0),MATCH('Week 7 - Pool'!$A5,'Week 7 - Weekly Picks'!$B$1:$Q$1,0)),"") -> Michigan | V5: =IF($G5="","",IF(U5=$G5,"W","L")) -> W | W5: =IF(V5="W",$H5,0) -> 1 | X5: =IFERROR(INDEX('Week 7 - Weekly Picks'!$B$1:$Q$50,MATCH('Week 7 - Pool'!X$3,'Week 7 - Weekly Picks'!$B$1:$B$50,0),MATCH('Week 7 - Pool'!$A5,'Week 7 - Weekly Picks'!$B$1:$Q$1,0)),"") -> Michigan | Y5: =IF($G5="","",IF(X5=$G5,"W","L")) -> W | Z5: =IF(Y5="W",$H5,0) -> 1 | AA5: =IFERROR(INDEX('Week 7 - Weekly Picks'!$B$1:$Q$50,MATCH('Week 7 - Pool'!AA$3,'Week 7 - Weekly Picks'!$B$1:$B$50,0),MATCH('Week 7 - Pool'!$A5,'Week 7 - Weekly Picks'!$B$1:$Q$1,0)),"") -> Michigan | AB5: =IF($G5="","",IF(AA5=$G5,"W","L")) -> W | AC5: =IF(AB5="W",$H5,0) -> 1 | AD5: =IFERROR(INDEX('Week 7 - Weekly Picks'!$B$1:$Q$50,MATCH('Week 7 - Pool'!AD$3,'Week 7 - Weekly Picks'!$B$1:$B$50,0),MATCH('Week 7 - Pool'!$A5,'Week 7 - Weekly Picks'!$B$1:$Q$1,0)),"") -> Michigan | AE5: =IF($G5="","",IF(AD5=$G5,"W","L")) -> W | AF5: =IF(AE5="W",$H5,0) -> 1 | AG5: =IFERROR(INDEX('Week 7 - Weekly Picks'!$B$1:$Q$50,MATCH('Week 7 - Pool'!AG$3,'Week 7 - Weekly Picks'!$B$1:$B$50,0),MATCH('Week 7 - Pool'!$A5,'Week 7 - Weekly Picks'!$B$1:$Q$1,0)),"") -> Michigan | AH5: =IF($G5="","",IF(AG5=$G5,"W","L")) -> W | AI5: =IF(AH5="W",$H5,0) -> 1 | AJ5: =IFERROR(INDEX('Week 7 - Weekly Picks'!$B$1:$Q$50,MATCH('Week 7 - Pool'!AJ$3,'Week 7 - Weekly Picks'!$B$1:$B$50,0),MATCH('Week 7 - Pool'!$A5,'Week 7 - Weekly Picks'!$B$1:$Q$1,0)),"") -> Michigan | AK5: =IF($G5="","",IF(AJ5=$G5,"W","L")) -> W | AL5: =IF(AK5="W",$H5,0) -> 1 | AM5: =IFERROR(INDEX('Week 7 - Weekly Picks'!$B$1:$Q$50,MATCH('Week 7 - Pool'!AM$3,'Week 7 - Weekly Picks'!$B$1:$B$50,0),MATCH('Week 7 - Pool'!$A5,'Week 7 - Weekly Picks'!$B$1:$Q$1,0)),"") -> Michigan | AN5: =IF($G5="","",IF(AM5=$G5,"W","L")) -> W | AO5: =IF(AN5="W",$H5,0) -> 1 | AP5: =IFERROR(INDEX('Week 7 - Weekly Picks'!$B$1:$Q$50,MATCH('Week 7 - Pool'!AP$3,'Week 7 - Weekly Picks'!$B$1:$B$50,0),MATCH('Week 7 - Pool'!$A5,'Week 7 - Weekly Picks'!$B$1:$Q$1,0)),"") -> Michigan | AQ5: =IF($G5="","",IF(AP5=$G5,"W","L")) -> W | AR5: =IF(AQ5="W",$H5,0) -> 1 | AS5: =IFERROR(INDEX('Week 7 - Weekly Picks'!$B$1:$Q$50,MATCH('Week 7 - Pool'!AS$3,'Week 7 - Weekly Picks'!$B$1:$B$50,0),MATCH('Week 7 - Pool'!$A5,'Week 7 - Weekly Picks'!$B$1:$Q$1,0)),"") -> Penn State | AT5: =IF($G5="","",IF(AS5=$G5,"W","L")) -> L | AU5: =IF(AT5="W",$H5,0) -> 0 | AV5: =IFERROR(INDEX('Week 7 - Weekly Picks'!$B$1:$Q$50,MATCH('Week 7 - Pool'!AV$3,'Week 7 - Weekly Picks'!$B$1:$B$50,0),MATCH('Week 7 - Pool'!$A5,'Week 7 - Weekly Picks'!$B$1:$Q$1,0)),"") -> Michigan | AW5: =IF($G5="","",IF(AV5=$G5,"W","L")) -> W | AX5: =IF(AW5="W",$H5,0) -> 1 | AY5: =IFERROR(INDEX('Week 7 - Weekly Picks'!$B$1:$Q$50,MATCH('Week 7 - Pool'!AY$3,'Week 7 - Weekly Picks'!$B$1:$B$50,0),MATCH('Week 7 - Pool'!$A5,'Week 7 - Weekly Picks'!$B$1:$Q$1,0)),"") -> Penn State | AZ5: =IF($G5="","",IF(AY5=$G5,"W","L")) -> L | BA5: =IF(AZ5="W",$H5,0) -> 0 | BB5: =IFERROR(INDEX('Week 7 - Weekly Picks'!$B$1:$Q$50,MATCH('Week 7 - Pool'!BB$3,'Week 7 - Weekly Picks'!$B$1:$B$50,0),MATCH('Week 7 - Pool'!$A5,'Week 7 - Weekly Picks'!$B$1:$Q$1,0)),"") -> Penn State | BC5: =IF($G5="","",IF(BB5=$G5,"W","L")) -> L | BD5: =IF(BC5="W",$H5,0) -> 0 | BE5: =IFERROR(INDEX('Week 7 - Weekly Picks'!$B$1:$Q$50,MATCH('Week 7 - Pool'!BE$3,'Week 7 - Weekly Picks'!$B$1:$B$50,0),MATCH('Week 7 - Pool'!$A5,'Week 7 - Weekly Picks'!$B$1:$Q$1,0)),"") -> Michigan | BF5: =IF($G5="","",IF(BE5=$G5,"W","L")) -> W | BG5: =IF(BF5="W",$H5,0) -> 1 | BH5: =IFERROR(INDEX('Week 7 - Weekly Picks'!$B$1:$Q$50,MATCH('Week 7 - Pool'!BH$3,'Week 7 - Weekly Picks'!$B$1:$B$50,0),MATCH('Week 7 - Pool'!$A5,'Week 7 - Weekly Picks'!$B$1:$Q$1,0)),"") -> Michigan | BI5: =IF($G5="","",IF(BH5=$G5,"W","L")) -> W | BJ5: =IF(BI5="W",$H5,0) -> 1 | BK5: =IFERROR(INDEX('Week 7 - Weekly Picks'!$B$1:$Q$50,MATCH('Week 7 - Pool'!BK$3,'Week 7 - Weekly Picks'!$B$1:$B$50,0),MATCH('Week 7 - Pool'!$A5,'Week 7 - Weekly Picks'!$B$1:$Q$1,0)),"") -> Penn State | BL5: =IF($G5="","",IF(BK5=$G5,"W","L")) -> L | BM5: =IF(BL5="W",$H5,0) -> 0 | BN5: =IFERROR(INDEX('Week 7 - Weekly Picks'!$B$1:$Q$50,MATCH('Week 7 - Pool'!BN$3,'Week 7 - Weekly Picks'!$B$1:$B$50,0),MATCH('Week 7 - Pool'!$A5,'Week 7 - Weekly Picks'!$B$1:$Q$1,0)),"") -> Michigan | BO5: =IF($G5="","",IF(BN5=$G5,"W","L")) -> W | BP5: =IF(BO5="W",$H5,0) -> 1 | BQ5: =IFERROR(INDEX('Week 7 - Weekly Picks'!$B$1:$Q$50,MATCH('Week 7 - Pool'!BQ$3,'Week 7 - Weekly Picks'!$B$1:$B$50,0),MATCH('Week 7 - Pool'!$A5,'Week 7 - Weekly Picks'!$B$1:$Q$1,0)),"") -> Penn State | BR5: =IF($G5="","",IF(BQ5=$G5,"W","L")) -> L | BS5: =IF(BR5="W",$H5,0) -> 0 | BT5: =IFERROR(INDEX('Week 7 - Weekly Picks'!$B$1:$Q$50,MATCH('Week 7 - Pool'!BT$3,'Week 7 - Weekly Picks'!$B$1:$B$50,0),MATCH('Week 7 - Pool'!$A5,'Week 7 - Weekly Picks'!$B$1:$Q$1,0)),"") -> Penn State | BU5: =IF($G5="","",IF(BT5=$G5,"W","L")) -> L | BV5: =IF(BU5="W",$H5,0) -> 0 | BW5: =IFERROR(INDEX('Week 7 - Weekly Picks'!$B$1:$Q$50,MATCH('Week 7 - Pool'!BW$3,'Week 7 - Weekly Picks'!$B$1:$B$50,0),MATCH('Week 7 - Pool'!$A5,'Week 7 - Weekly Picks'!$B$1:$Q$1,0)),"") -> Michigan | BX5: =IF($G5="","",IF(BW5=$G5,"W","L")) -> W | BY5: =IF(BX5="W",$H5,0) -> 1 | BZ5: =IFERROR(INDEX('Week 7 - Weekly Picks'!$B$1:$Q$50,MATCH('Week 7 - Pool'!BZ$3,'Week 7 - Weekly Picks'!$B$1:$B$50,0),MATCH('Week 7 - Pool'!$A5,'Week 7 - Weekly Picks'!$B$1:$Q$1,0)),"") -> Michigan | CA5: =IF($G5="","",IF(BZ5=$G5,"W","L")) -> W | CB5: =IF(CA5="W",$H5,0) -> 1 | CC5: =IFERROR(INDEX('Week 7 - Weekly Picks'!$B$1:$Q$50,MATCH('Week 7 - Pool'!CC$3,'Week 7 - Weekly Picks'!$B$1:$B$50,0),MATCH('Week 7 - Pool'!$A5,'Week 7 - Weekly Picks'!$B$1:$Q$1,0)),"") -> Michigan | CD5: =IF($G5="","",IF(CC5=$G5,"W","L")) -> W | CE5: =IF(CD5="W",$H5,0) -> 1 | CF5: =IFERROR(INDEX('Week 7 - Weekly Picks'!$B$1:$Q$50,MATCH('Week 7 - Pool'!CF$3,'Week 7 - Weekly Picks'!$B$1:$B$50,0),MATCH('Week 7 - Pool'!$A5,'Week 7 - Weekly Picks'!$B$1:$Q$1,0)),"") -> Michigan | CG5: =IF($G5="","",IF(CF5=$G5,"W","L")) -> W | CH5: =IF(CG5="W",$H5,0) -> 1 | CI5: =IFERROR(INDEX('Week 7 - Weekly Picks'!$B$1:$Q$50,MATCH('Week 7 - Pool'!CI$3,'Week 7 - Weekly Picks'!$B$1:$B$50,0),MATCH('Week 7 - Pool'!$A5,'Week 7 - Weekly Picks'!$B$1:$Q$1,0)),"") -> Penn State | CJ5: =IF($G5="","",IF(CI5=$G5,"W","L")) -> L | CK5: =IF(CJ5="W",$H5,0) -> 0 | CM5: 2 | CN5: =D5 -> Penn State | CO5: =COUNTIF(I5:CI5,D5) -> 8 | CP5: =F5 -> Michigan | CQ5: =COUNTIF(I5:CI5,F5) -> 19 | CR5: =CO5+CQ5 -> 27
A6: 3 | B6: 46312 | D6: ='Data Setup'!H5 -> Florida | E6: vs. | F6: ='Data Setup'!I5 -> Texas | G6: Florida | H6: 1 | I6: =IFERROR(INDEX('Week 7 - Weekly Picks'!$B$1:$Q$50,MATCH('Week 7 - Pool'!I$3,'Week 7 - Weekly Picks'!$B$1:$B$50,0),MATCH('Week 7 - Pool'!$A6,'Week 7 - Weekly Picks'!$B$1:$Q$1,0)),"") -> Texas | J6: =IF($G6="","",IF(I6=$G6,"W","L")) -> L | K6: =IF(J6="W",$H6,0) -> 0 | L6: =IFERROR(INDEX('Week 7 - Weekly Picks'!$B$1:$Q$50,MATCH('Week 7 - Pool'!L$3,'Week 7 - Weekly Picks'!$B$1:$B$50,0),MATCH('Week 7 - Pool'!$A6,'Week 7 - Weekly Picks'!$B$1:$Q$1,0)),"") -> Texas | M6: =IF($G6="","",IF(L6=$G6,"W","L")) -> L | N6: =IF(M6="W",$H6,0) -> 0 | O6: =IFERROR(INDEX('Week 7 - Weekly Picks'!$B$1:$Q$50,MATCH('Week 7 - Pool'!O$3,'Week 7 - Weekly Picks'!$B$1:$B$50,0),MATCH('Week 7 - Pool'!$A6,'Week 7 - Weekly Picks'!$B$1:$Q$1,0)),"") -> Texas | P6: =IF($G6="","",IF(O6=$G6,"W","L")) -> L | Q6: =IF(P6="W",$H6,0) -> 0 | R6: =IFERROR(INDEX('Week 7 - Weekly Picks'!$B$1:$Q$50,MATCH('Week 7 - Pool'!R$3,'Week 7 - Weekly Picks'!$B$1:$B$50,0),MATCH('Week 7 - Pool'!$A6,'Week 7 - Weekly Picks'!$B$1:$Q$1,0)),"") -> Texas | S6: =IF($G6="","",IF(R6=$G6,"W","L")) -> L | T6: =IF(S6="W",$H6,0) -> 0 | U6: =IFERROR(INDEX('Week 7 - Weekly Picks'!$B$1:$Q$50,MATCH('Week 7 - Pool'!U$3,'Week 7 - Weekly Picks'!$B$1:$B$50,0),MATCH('Week 7 - Pool'!$A6,'Week 7 - Weekly Picks'!$B$1:$Q$1,0)),"") -> Texas | V6: =IF($G6="","",IF(U6=$G6,"W","L")) -> L | W6: =IF(V6="W",$H6,0) -> 0 | X6: =IFERROR(INDEX('Week 7 - Weekly Picks'!$B$1:$Q$50,MATCH('Week 7 - Pool'!X$3,'Week 7 - Weekly Picks'!$B$1:$B$50,0),MATCH('Week 7 - Pool'!$A6,'Week 7 - Weekly Picks'!$B$1:$Q$1,0)),"") -> Texas | Y6: =IF($G6="","",IF(X6=$G6,"W","L")) -> L | Z6: =IF(Y6="W",$H6,0) -> 0 | AA6: =IFERROR(INDEX('Week 7 - Weekly Picks'!$B$1:$Q$50,MATCH('Week 7 - Pool'!AA$3,'Week 7 - Weekly Picks'!$B$1:$B$50,0),MATCH('Week 7 - Pool'!$A6,'Week 7 - Weekly Picks'!$B$1:$Q$1,0)),"") -> Texas | AB6: =IF($G6="","",IF(AA6=$G6,"W","L")) -> L | AC6: =IF(AB6="W",$H6,0) -> 0 | AD6: =IFERROR(INDEX('Week 7 - Weekly Picks'!$B$1:$Q$50,MATCH('Week 7 - Pool'!AD$3,'Week 7 - Weekly Picks'!$B$1:$B$50,0),MATCH('Week 7 - Pool'!$A6,'Week 7 - Weekly Picks'!$B$1:$Q$1,0)),"") -> Texas | AE6: =IF($G6="","",IF(AD6=$G6,"W","L")) -> L | AF6: =IF(AE6="W",$H6,0) -> 0 | AG6: =IFERROR(INDEX('Week 7 - Weekly Picks'!$B$1:$Q$50,MATCH('Week 7 - Pool'!AG$3,'Week 7 - Weekly Picks'!$B$1:$B$50,0),MATCH('Week 7 - Pool'!$A6,'Week 7 - Weekly Picks'!$B$1:$Q$1,0)),"") -> Texas | AH6: =IF($G6="","",IF(AG6=$G6,"W","L")) -> L | AI6: =IF(AH6="W",$H6,0) -> 0 | AJ6: =IFERROR(INDEX('Week 7 - Weekly Picks'!$B$1:$Q$50,MATCH('Week 7 - Pool'!AJ$3,'Week 7 - Weekly Picks'!$B$1:$B$50,0),MATCH('Week 7 - Pool'!$A6,'Week 7 - Weekly Picks'!$B$1:$Q$1,0)),"") -> Texas | AK6: =IF($G6="","",IF(AJ6=$G6,"W","L")) -> L | AL6: =IF(AK6="W",$H6,0) -> 0 | AM6: =IFERROR(INDEX('Week 7 - Weekly Picks'!$B$1:$Q$50,MATCH('Week 7 - Pool'!AM$3,'Week 7 - Weekly Picks'!$B$1:$B$50,0),MATCH('Week 7 - Pool'!$A6,'Week 7 - Weekly Picks'!$B$1:$Q$1,0)),"") -> Florida | AN6: =IF($G6="","",IF(AM6=$G6,"W","L")) -> W | AO6: =IF(AN6="W",$H6,0) -> 1 | AP6: =IFERROR(INDEX('Week 7 - Weekly Picks'!$B$1:$Q$50,MATCH('Week 7 - Pool'!AP$3,'Week 7 - Weekly Picks'!$B$1:$B$50,0),MATCH('Week 7 - Pool'!$A6,'Week 7 - Weekly Picks'!$B$1:$Q$1,0)),"") -> Texas | AQ6: =IF($G6="","",IF(AP6=$G6,"W","L")) -> L | AR6: =IF(AQ6="W",$H6,0) -> 0 | AS6: =IFERROR(INDEX('Week 7 - Weekly Picks'!$B$1:$Q$50,MATCH('Week 7 - Pool'!AS$3,'Week 7 - Weekly Picks'!$B$1:$B$50,0),MATCH('Week 7 - Pool'!$A6,'Week 7 - Weekly Picks'!$B$1:$Q$1,0)),"") -> Texas | AT6: =IF($G6="","",IF(AS6=$G6,"W","L")) -> L | AU6: =IF(AT6="W",$H6,0) -> 0 | AV6: =IFERROR(INDEX('Week 7 - Weekly Picks'!$B$1:$Q$50,MATCH('Week 7 - Pool'!AV$3,'Week 7 - Weekly Picks'!$B$1:$B$50,0),MATCH('Week 7 - Pool'!$A6,'Week 7 - Weekly Picks'!$B$1:$Q$1,0)),"") -> Texas | AW6: =IF($G6="","",IF(AV6=$G6,"W","L")) -> L | AX6: =IF(AW6="W",$H6,0) -> 0 | AY6: =IFERROR(INDEX('Week 7 - Weekly Picks'!$B$1:$Q$50,MATCH('Week 7 - Pool'!AY$3,'Week 7 - Weekly Picks'!$B$1:$B$50,0),MATCH('Week 7 - Pool'!$A6,'Week 7 - Weekly Picks'!$B$1:$Q$1,0)),"") -> Texas | AZ6: =IF($G6="","",IF(AY6=$G6,"W","L")) -> L | BA6: =IF(AZ6="W",$H6,0) -> 0 | BB6: =IFERROR(INDEX('Week 7 - Weekly Picks'!$B$1:$Q$50,MATCH('Week 7 - Pool'!BB$3,'Week 7 - Weekly Picks'!$B$1:$B$50,0),MATCH('Week 7 - Pool'!$A6,'Week 7 - Weekly Picks'!$B$1:$Q$1,0)),"") -> Texas | BC6: =IF($G6="","",IF(BB6=$G6,"W","L")) -> L | BD6: =IF(BC6="W",$H6,0) -> 0 | BE6: =IFERROR(INDEX('Week 7 - Weekly Picks'!$B$1:$Q$50,MATCH('Week 7 - Pool'!BE$3,'Week 7 - Weekly Picks'!$B$1:$B$50,0),MATCH('Week 7 - Pool'!$A6,'Week 7 - Weekly Picks'!$B$1:$Q$1,0)),"") -> Florida | BF6: =IF($G6="","",IF(BE6=$G6,"W","L")) -> W | BG6: =IF(BF6="W",$H6,0) -> 1 | BH6: =IFERROR(INDEX('Week 7 - Weekly Picks'!$B$1:$Q$50,MATCH('Week 7 - Pool'!BH$3,'Week 7 - Weekly Picks'!$B$1:$B$50,0),MATCH('Week 7 - Pool'!$A6,'Week 7 - Weekly Picks'!$B$1:$Q$1,0)),"") -> Texas | BI6: =IF($G6="","",IF(BH6=$G6,"W","L")) -> L | BJ6: =IF(BI6="W",$H6,0) -> 0 | BK6: =IFERROR(INDEX('Week 7 - Weekly Picks'!$B$1:$Q$50,MATCH('Week 7 - Pool'!BK$3,'Week 7 - Weekly Picks'!$B$1:$B$50,0),MATCH('Week 7 - Pool'!$A6,'Week 7 - Weekly Picks'!$B$1:$Q$1,0)),"") -> Texas | BL6: =IF($G6="","",IF(BK6=$G6,"W","L")) -> L | BM6: =IF(BL6="W",$H6,0) -> 0 | BN6: =IFERROR(INDEX('Week 7 - Weekly Picks'!$B$1:$Q$50,MATCH('Week 7 - Pool'!BN$3,'Week 7 - Weekly Picks'!$B$1:$B$50,0),MATCH('Week 7 - Pool'!$A6,'Week 7 - Weekly Picks'!$B$1:$Q$1,0)),"") -> Texas | BO6: =IF($G6="","",IF(BN6=$G6,"W","L")) -> L | BP6: =IF(BO6="W",$H6,0) -> 0 | BQ6: =IFERROR(INDEX('Week 7 - Weekly Picks'!$B$1:$Q$50,MATCH('Week 7 - Pool'!BQ$3,'Week 7 - Weekly Picks'!$B$1:$B$50,0),MATCH('Week 7 - Pool'!$A6,'Week 7 - Weekly Picks'!$B$1:$Q$1,0)),"") -> Texas | BR6: =IF($G6="","",IF(BQ6=$G6,"W","L")) -> L | BS6: =IF(BR6="W",$H6,0) -> 0 | BT6: =IFERROR(INDEX('Week 7 - Weekly Picks'!$B$1:$Q$50,MATCH('Week 7 - Pool'!BT$3,'Week 7 - Weekly Picks'!$B$1:$B$50,0),MATCH('Week 7 - Pool'!$A6,'Week 7 - Weekly Picks'!$B$1:$Q$1,0)),"") -> Texas | BU6: =IF($G6="","",IF(BT6=$G6,"W","L")) -> L | BV6: =IF(BU6="W",$H6,0) -> 0 | BW6: =IFERROR(INDEX('Week 7 - Weekly Picks'!$B$1:$Q$50,MATCH('Week 7 - Pool'!BW$3,'Week 7 - Weekly Picks'!$B$1:$B$50,0),MATCH('Week 7 - Pool'!$A6,'Week 7 - Weekly Picks'!$B$1:$Q$1,0)),"") -> Texas | BX6: =IF($G6="","",IF(BW6=$G6,"W","L")) -> L | BY6: =IF(BX6="W",$H6,0) -> 0 | BZ6: =IFERROR(INDEX('Week 7 - Weekly Picks'!$B$1:$Q$50,MATCH('Week 7 - Pool'!BZ$3,'Week 7 - Weekly Picks'!$B$1:$B$50,0),MATCH('Week 7 - Pool'!$A6,'Week 7 - Weekly Picks'!$B$1:$Q$1,0)),"") -> Texas | CA6: =IF($G6="","",IF(BZ6=$G6,"W","L")) -> L | CB6: =IF(CA6="W",$H6,0) -> 0 | CC6: =IFERROR(INDEX('Week 7 - Weekly Picks'!$B$1:$Q$50,MATCH('Week 7 - Pool'!CC$3,'Week 7 - Weekly Picks'!$B$1:$B$50,0),MATCH('Week 7 - Pool'!$A6,'Week 7 - Weekly Picks'!$B$1:$Q$1,0)),"") -> Texas | CD6: =IF($G6="","",IF(CC6=$G6,"W","L")) -> L | CE6: =IF(CD6="W",$H6,0) -> 0 | CF6: =IFERROR(INDEX('Week 7 - Weekly Picks'!$B$1:$Q$50,MATCH('Week 7 - Pool'!CF$3,'Week 7 - Weekly Picks'!$B$1:$B$50,0),MATCH('Week 7 - Pool'!$A6,'Week 7 - Weekly Picks'!$B$1:$Q$1,0)),"") -> Texas | CG6: =IF($G6="","",IF(CF6=$G6,"W","L")) -> L | CH6: =IF(CG6="W",$H6,0) -> 0 | CI6: =IFERROR(INDEX('Week 7 - Weekly Picks'!$B$1:$Q$50,MATCH('Week 7 - Pool'!CI$3,'Week 7 - Weekly Picks'!$B$1:$B$50,0),MATCH('Week 7 - Pool'!$A6,'Week 7 - Weekly Picks'!$B$1:$Q$1,0)),"") -> Texas | CJ6: =IF($G6="","",IF(CI6=$G6,"W","L")) -> L | CK6: =IF(CJ6="W",$H6,0) -> 0 | CM6: 3 | CN6: =D6 -> Florida | CO6: =COUNTIF(I6:CI6,D6) -> 2 | CP6: =F6 -> Texas | CQ6: =COUNTIF(I6:CI6,F6) -> 25 | CR6: =CO6+CQ6 -> 27
A7: 4 | B7: 46312 | D7: ='Data Setup'!H6 -> Miss State | E7: vs. | F7: ='Data Setup'!I6 -> LSU | G7: LSU | H7: 1 | I7: =IFERROR(INDEX('Week 7 - Weekly Picks'!$B$1:$Q$50,MATCH('Week 7 - Pool'!I$3,'Week 7 - Weekly Picks'!$B$1:$B$50,0),MATCH('Week 7 - Pool'!$A7,'Week 7 - Weekly Picks'!$B$1:$Q$1,0)),"") -> LSU | J7: =IF($G7="","",IF(I7=$G7,"W","L")) -> W | K7: =IF(J7="W",$H7,0) -> 1 | L7: =IFERROR(INDEX('Week 7 - Weekly Picks'!$B$1:$Q$50,MATCH('Week 7 - Pool'!L$3,'Week 7 - Weekly Picks'!$B$1:$B$50,0),MATCH('Week 7 - Pool'!$A7,'Week 7 - Weekly Picks'!$B$1:$Q$1,0)),"") -> LSU | M7: =IF($G7="","",IF(L7=$G7,"W","L")) -> W | N7: =IF(M7="W",$H7,0) -> 1 | O7: =IFERROR(INDEX('Week 7 - Weekly Picks'!$B$1:$Q$50,MATCH('Week 7 - Pool'!O$3,'Week 7 - Weekly Picks'!$B$1:$B$50,0),MATCH('Week 7 - Pool'!$A7,'Week 7 - Weekly Picks'!$B$1:$Q$1,0)),"") -> LSU | P7: =IF($G7="","",IF(O7=$G7,"W","L")) -> W | Q7: =IF(P7="W",$H7,0) -> 1 | R7: =IFERROR(INDEX('Week 7 - Weekly Picks'!$B$1:$Q$50,MATCH('Week 7 - Pool'!R$3,'Week 7 - Weekly Picks'!$B$1:$B$50,0),MATCH('Week 7 - Pool'!$A7,'Week 7 - Weekly Picks'!$B$1:$Q$1,0)),"") -> LSU | S7: =IF($G7="","",IF(R7=$G7,"W","L")) -> W | T7: =IF(S7="W",$H7,0) -> 1 | U7: =IFERROR(INDEX('Week 7 - Weekly Picks'!$B$1:$Q$50,MATCH('Week 7 - Pool'!U$3,'Week 7 - Weekly Picks'!$B$1:$B$50,0),MATCH('Week 7 - Pool'!$A7,'Week 7 - Weekly Picks'!$B$1:$Q$1,0)),"") -> LSU | V7: =IF($G7="","",IF(U7=$G7,"W","L")) -> W | W7: =IF(V7="W",$H7,0) -> 1 | X7: =IFERROR(INDEX('Week 7 - Weekly Picks'!$B$1:$Q$50,MATCH('Week 7 - Pool'!X$3,'Week 7 - Weekly Picks'!$B$1:$B$50,0),MATCH('Week 7 - Pool'!$A7,'Week 7 - Weekly Picks'!$B$1:$Q$1,0)),"") -> LSU | Y7: =IF($G7="","",IF(X7=$G7,"W","L")) -> W | Z7: =IF(Y7="W",$H7,0) -> 1 | AA7: =IFERROR(INDEX('Week 7 - Weekly Picks'!$B$1:$Q$50,MATCH('Week 7 - Pool'!AA$3,'Week 7 - Weekly Picks'!$B$1:$B$50,0),MATCH('Week 7 - Pool'!$A7,'Week 7 - Weekly Picks'!$B$1:$Q$1,0)),"") -> LSU | AB7: =IF($G7="","",IF(AA7=$G7,"W","L")) -> W | AC7: =IF(AB7="W",$H7,0) -> 1 | AD7: =IFERROR(INDEX('Week 7 - Weekly Picks'!$B$1:$Q$50,MATCH('Week 7 - Pool'!AD$3,'Week 7 - Weekly Picks'!$B$1:$B$50,0),MATCH('Week 7 - Pool'!$A7,'Week 7 - Weekly Picks'!$B$1:$Q$1,0)),"") -> Miss State | AE7: =IF($G7="","",IF(AD7=$G7,"W","L")) -> L | AF7: =IF(AE7="W",$H7,0) -> 0 | AG7: =IFERROR(INDEX('Week 7 - Weekly Picks'!$B$1:$Q$50,MATCH('Week 7 - Pool'!AG$3,'Week 7 - Weekly Picks'!$B$1:$B$50,0),MATCH('Week 7 - Pool'!$A7,'Week 7 - Weekly Picks'!$B$1:$Q$1,0)),"") -> LSU | AH7: =IF($G7="","",IF(AG7=$G7,"W","L")) -> W | AI7: =IF(AH7="W",$H7,0) -> 1 | AJ7: =IFERROR(INDEX('Week 7 - Weekly Picks'!$B$1:$Q$50,MATCH('Week 7 - Pool'!AJ$3,'Week 7 - Weekly Picks'!$B$1:$B$50,0),MATCH('Week 7 - Pool'!$A7,'Week 7 - Weekly Picks'!$B$1:$Q$1,0)),"") -> LSU | AK7: =IF($G7="","",IF(AJ7=$G7,"W","L")) -> W | AL7: =IF(AK7="W",$H7,0) -> 1 | AM7: =IFERROR(INDEX('Week 7 - Weekly Picks'!$B$1:$Q$50,MATCH('Week 7 - Pool'!AM$3,'Week 7 - Weekly Picks'!$B$1:$B$50,0),MATCH('Week 7 - Pool'!$A7,'Week 7 - Weekly Picks'!$B$1:$Q$1,0)),"") -> Miss State | AN7: =IF($G7="","",IF(AM7=$G7,"W","L")) -> L | AO7: =IF(AN7="W",$H7,0) -> 0 | AP7: =IFERROR(INDEX('Week 7 - Weekly Picks'!$B$1:$Q$50,MATCH('Week 7 - Pool'!AP$3,'Week 7 - Weekly Picks'!$B$1:$B$50,0),MATCH('Week 7 - Pool'!$A7,'Week 7 - Weekly Picks'!$B$1:$Q$1,0)),"") -> LSU | AQ7: =IF($G7="","",IF(AP7=$G7,"W","L")) -> W | AR7: =IF(AQ7="W",$H7,0) -> 1 | AS7: =IFERROR(INDEX('Week 7 - Weekly Picks'!$B$1:$Q$50,MATCH('Week 7 - Pool'!AS$3,'Week 7 - Weekly Picks'!$B$1:$B$50,0),MATCH('Week 7 - Pool'!$A7,'Week 7 - Weekly Picks'!$B$1:$Q$1,0)),"") -> LSU | AT7: =IF($G7="","",IF(AS7=$G7,"W","L")) -> W | AU7: =IF(AT7="W",$H7,0) -> 1 | AV7: =IFERROR(INDEX('Week 7 - Weekly Picks'!$B$1:$Q$50,MATCH('Week 7 - Pool'!AV$3,'Week 7 - Weekly Picks'!$B$1:$B$50,0),MATCH('Week 7 - Pool'!$A7,'Week 7 - Weekly Picks'!$B$1:$Q$1,0)),"") -> LSU | AW7: =IF($G7="","",IF(AV7=$G7,"W","L")) -> W | AX7: =IF(AW7="W",$H7,0) -> 1 | AY7: =IFERROR(INDEX('Week 7 - Weekly Picks'!$B$1:$Q$50,MATCH('Week 7 - Pool'!AY$3,'Week 7 - Weekly Picks'!$B$1:$B$50,0),MATCH('Week 7 - Pool'!$A7,'Week 7 - Weekly Picks'!$B$1:$Q$1,0)),"") -> LSU | AZ7: =IF($G7="","",IF(AY7=$G7,"W","L")) -> W | BA7: =IF(AZ7="W",$H7,0) -> 1 | BB7: =IFERROR(INDEX('Week 7 - Weekly Picks'!$B$1:$Q$50,MATCH('Week 7 - Pool'!BB$3,'Week 7 - Weekly Picks'!$B$1:$B$50,0),MATCH('Week 7 - Pool'!$A7,'Week 7 - Weekly Picks'!$B$1:$Q$1,0)),"") -> LSU | BC7: =IF($G7="","",IF(BB7=$G7,"W","L")) -> W | BD7: =IF(BC7="W",$H7,0) -> 1 | BE7: =IFERROR(INDEX('Week 7 - Weekly Picks'!$B$1:$Q$50,MATCH('Week 7 - Pool'!BE$3,'Week 7 - Weekly Picks'!$B$1:$B$50,0),MATCH('Week 7 - Pool'!$A7,'Week 7 - Weekly Picks'!$B$1:$Q$1,0)),"") -> Miss State | BF7: =IF($G7="","",IF(BE7=$G7,"W","L")) -> L | BG7: =IF(BF7="W",$H7,0) -> 0 | BH7: =IFERROR(INDEX('Week 7 - Weekly Picks'!$B$1:$Q$50,MATCH('Week 7 - Pool'!BH$3,'Week 7 - Weekly Picks'!$B$1:$B$50,0),MATCH('Week 7 - Pool'!$A7,'Week 7 - Weekly Picks'!$B$1:$Q$1,0)),"") -> LSU | BI7: =IF($G7="","",IF(BH7=$G7,"W","L")) -> W | BJ7: =IF(BI7="W",$H7,0) -> 1 | BK7: =IFERROR(INDEX('Week 7 - Weekly Picks'!$B$1:$Q$50,MATCH('Week 7 - Pool'!BK$3,'Week 7 - Weekly Picks'!$B$1:$B$50,0),MATCH('Week 7 - Pool'!$A7,'Week 7 - Weekly Picks'!$B$1:$Q$1,0)),"") -> LSU | BL7: =IF($G7="","",IF(BK7=$G7,"W","L")) -> W | BM7: =IF(BL7="W",$H7,0) -> 1 | BN7: =IFERROR(INDEX('Week 7 - Weekly Picks'!$B$1:$Q$50,MATCH('Week 7 - Pool'!BN$3,'Week 7 - Weekly Picks'!$B$1:$B$50,0),MATCH('Week 7 - Pool'!$A7,'Week 7 - Weekly Picks'!$B$1:$Q$1,0)),"") -> Miss State | BO7: =IF($G7="","",IF(BN7=$G7,"W","L")) -> L | BP7: =IF(BO7="W",$H7,0) -> 0 | BQ7: =IFERROR(INDEX('Week 7 - Weekly Picks'!$B$1:$Q$50,MATCH('Week 7 - Pool'!BQ$3,'Week 7 - Weekly Picks'!$B$1:$B$50,0),MATCH('Week 7 - Pool'!$A7,'Week 7 - Weekly Picks'!$B$1:$Q$1,0)),"") -> LSU | BR7: =IF($G7="","",IF(BQ7=$G7,"W","L")) -> W | BS7: =IF(BR7="W",$H7,0) -> 1 | BT7: =IFERROR(INDEX('Week 7 - Weekly Picks'!$B$1:$Q$50,MATCH('Week 7 - Pool'!BT$3,'Week 7 - Weekly Picks'!$B$1:$B$50,0),MATCH('Week 7 - Pool'!$A7,'Week 7 - Weekly Picks'!$B$1:$Q$1,0)),"") -> LSU | BU7: =IF($G7="","",IF(BT7=$G7,"W","L")) -> W | BV7: =IF(BU7="W",$H7,0) -> 1 | BW7: =IFERROR(INDEX('Week 7 - Weekly Picks'!$B$1:$Q$50,MATCH('Week 7 - Pool'!BW$3,'Week 7 - Weekly Picks'!$B$1:$B$50,0),MATCH('Week 7 - Pool'!$A7,'Week 7 - Weekly Picks'!$B$1:$Q$1,0)),"") -> LSU | BX7: =IF($G7="","",IF(BW7=$G7,"W","L")) -> W | BY7: =IF(BX7="W",$H7,0) -> 1 | BZ7: =IFERROR(INDEX('Week 7 - Weekly Picks'!$B$1:$Q$50,MATCH('Week 7 - Pool'!BZ$3,'Week 7 - Weekly Picks'!$B$1:$B$50,0),MATCH('Week 7 - Pool'!$A7,'Week 7 - Weekly Picks'!$B$1:$Q$1,0)),"") -> Miss State | CA7: =IF($G7="","",IF(BZ7=$G7,"W","L")) -> L | CB7: =IF(CA7="W",$H7,0) -> 0 | CC7: =IFERROR(INDEX('Week 7 - Weekly Picks'!$B$1:$Q$50,MATCH('Week 7 - Pool'!CC$3,'Week 7 - Weekly Picks'!$B$1:$B$50,0),MATCH('Week 7 - Pool'!$A7,'Week 7 - Weekly Picks'!$B$1:$Q$1,0)),"") -> LSU | CD7: =IF($G7="","",IF(CC7=$G7,"W","L")) -> W | CE7: =IF(CD7="W",$H7,0) -> 1 | CF7: =IFERROR(INDEX('Week 7 - Weekly Picks'!$B$1:$Q$50,MATCH('Week 7 - Pool'!CF$3,'Week 7 - Weekly Picks'!$B$1:$B$50,0),MATCH('Week 7 - Pool'!$A7,'Week 7 - Weekly Picks'!$B$1:$Q$1,0)),"") -> LSU | CG7: =IF($G7="","",IF(CF7=$G7,"W","L")) -> W | CH7: =IF(CG7="W",$H7,0) -> 1 | CI7: =IFERROR(INDEX('Week 7 - Weekly Picks'!$B$1:$Q$50,MATCH('Week 7 - Pool'!CI$3,'Week 7 - Weekly Picks'!$B$1:$B$50,0),MATCH('Week 7 - Pool'!$A7,'Week 7 - Weekly Picks'!$B$1:$Q$1,0)),"") -> Miss State | CJ7: =IF($G7="","",IF(CI7=$G7,"W","L")) -> L | CK7: =IF(CJ7="W",$H7,0) -> 0 | CM7: 4 | CN7: =D7 -> Miss State | CO7: =COUNTIF(I7:CI7,D7) -> 6 | CP7: =F7 -> LSU | CQ7: =COUNTIF(I7:CI7,F7) -> 21 | CR7: =CO7+CQ7 -> 27
A8: 5 | B8: 46312 | D8: ='Data Setup'!H7 -> Virginia | E8: vs. | F8: ='Data Setup'!I7 -> SMU | G8: SMU | H8: 1 | I8: =IFERROR(INDEX('Week 7 - Weekly Picks'!$B$1:$Q$50,MATCH('Week 7 - Pool'!I$3,'Week 7 - Weekly Picks'!$B$1:$B$50,0),MATCH('Week 7 - Pool'!$A8,'Week 7 - Weekly Picks'!$B$1:$Q$1,0)),"") -> SMU | J8: =IF($G8="","",IF(I8=$G8,"W","L")) -> W | K8: =IF(J8="W",$H8,0) -> 1 | L8: =IFERROR(INDEX('Week 7 - Weekly Picks'!$B$1:$Q$50,MATCH('Week 7 - Pool'!L$3,'Week 7 - Weekly Picks'!$B$1:$B$50,0),MATCH('Week 7 - Pool'!$A8,'Week 7 - Weekly Picks'!$B$1:$Q$1,0)),"") -> SMU | M8: =IF($G8="","",IF(L8=$G8,"W","L")) -> W | N8: =IF(M8="W",$H8,0) -> 1 | O8: =IFERROR(INDEX('Week 7 - Weekly Picks'!$B$1:$Q$50,MATCH('Week 7 - Pool'!O$3,'Week 7 - Weekly Picks'!$B$1:$B$50,0),MATCH('Week 7 - Pool'!$A8,'Week 7 - Weekly Picks'!$B$1:$Q$1,0)),"") -> SMU | P8: =IF($G8="","",IF(O8=$G8,"W","L")) -> W | Q8: =IF(P8="W",$H8,0) -> 1 | R8: =IFERROR(INDEX('Week 7 - Weekly Picks'!$B$1:$Q$50,MATCH('Week 7 - Pool'!R$3,'Week 7 - Weekly Picks'!$B$1:$B$50,0),MATCH('Week 7 - Pool'!$A8,'Week 7 - Weekly Picks'!$B$1:$Q$1,0)),"") -> SMU | S8: =IF($G8="","",IF(R8=$G8,"W","L")) -> W | T8: =IF(S8="W",$H8,0) -> 1 | U8: =IFERROR(INDEX('Week 7 - Weekly Picks'!$B$1:$Q$50,MATCH('Week 7 - Pool'!U$3,'Week 7 - Weekly Picks'!$B$1:$B$50,0),MATCH('Week 7 - Pool'!$A8,'Week 7 - Weekly Picks'!$B$1:$Q$1,0)),"") -> SMU | V8: =IF($G8="","",IF(U8=$G8,"W","L")) -> W | W8: =IF(V8="W",$H8,0) -> 1 | X8: =IFERROR(INDEX('Week 7 - Weekly Picks'!$B$1:$Q$50,MATCH('Week 7 - Pool'!X$3,'Week 7 - Weekly Picks'!$B$1:$B$50,0),MATCH('Week 7 - Pool'!$A8,'Week 7 - Weekly Picks'!$B$1:$Q$1,0)),"") -> SMU | Y8: =IF($G8="","",IF(X8=$G8,"W","L")) -> W | Z8: =IF(Y8="W",$H8,0) -> 1 | AA8: =IFERROR(INDEX('Week 7 - Weekly Picks'!$B$1:$Q$50,MATCH('Week 7 - Pool'!AA$3,'Week 7 - Weekly Picks'!$B$1:$B$50,0),MATCH('Week 7 - Pool'!$A8,'Week 7 - Weekly Picks'!$B$1:$Q$1,0)),"") -> SMU | AB8: =IF($G8="","",IF(AA8=$G8,"W","L")) -> W | AC8: =IF(AB8="W",$H8,0) -> 1 | AD8: =IFERROR(INDEX('Week 7 - Weekly Picks'!$B$1:$Q$50,MATCH('Week 7 - Pool'!AD$3,'Week 7 - Weekly Picks'!$B$1:$B$50,0),MATCH('Week 7 - Pool'!$A8,'Week 7 - Weekly Picks'!$B$1:$Q$1,0)),"") -> SMU | AE8: =IF($G8="","",IF(AD8=$G8,"W","L")) -> W | AF8: =IF(AE8="W",$H8,0) -> 1 | AG8: =IFERROR(INDEX('Week 7 - Weekly Picks'!$B$1:$Q$50,MATCH('Week 7 - Pool'!AG$3,'Week 7 - Weekly Picks'!$B$1:$B$50,0),MATCH('Week 7 - Pool'!$A8,'Week 7 - Weekly Picks'!$B$1:$Q$1,0)),"") -> Virginia | AH8: =IF($G8="","",IF(AG8=$G8,"W","L")) -> L | AI8: =IF(AH8="W",$H8,0) -> 0 | AJ8: =IFERROR(INDEX('Week 7 - Weekly Picks'!$B$1:$Q$50,MATCH('Week 7 - Pool'!AJ$3,'Week 7 - Weekly Picks'!$B$1:$B$50,0),MATCH('Week 7 - Pool'!$A8,'Week 7 - Weekly Picks'!$B$1:$Q$1,0)),"") -> SMU | AK8: =IF($G8="","",IF(AJ8=$G8,"W","L")) -> W | AL8: =IF(AK8="W",$H8,0) -> 1 | AM8: =IFERROR(INDEX('Week 7 - Weekly Picks'!$B$1:$Q$50,MATCH('Week 7 - Pool'!AM$3,'Week 7 - Weekly Picks'!$B$1:$B$50,0),MATCH('Week 7 - Pool'!$A8,'Week 7 - Weekly Picks'!$B$1:$Q$1,0)),"") -> SMU | AN8: =IF($G8="","",IF(AM8=$G8,"W","L")) -> W | AO8: =IF(AN8="W",$H8,0) -> 1 | AP8: =IFERROR(INDEX('Week 7 - Weekly Picks'!$B$1:$Q$50,MATCH('Week 7 - Pool'!AP$3,'Week 7 - Weekly Picks'!$B$1:$B$50,0),MATCH('Week 7 - Pool'!$A8,'Week 7 - Weekly Picks'!$B$1:$Q$1,0)),"") -> SMU | AQ8: =IF($G8="","",IF(AP8=$G8,"W","L")) -> W | AR8: =IF(AQ8="W",$H8,0) -> 1 | AS8: =IFERROR(INDEX('Week 7 - Weekly Picks'!$B$1:$Q$50,MATCH('Week 7 - Pool'!AS$3,'Week 7 - Weekly Picks'!$B$1:$B$50,0),MATCH('Week 7 - Pool'!$A8,'Week 7 - Weekly Picks'!$B$1:$Q$1,0)),"") -> SMU | AT8: =IF($G8="","",IF(AS8=$G8,"W","L")) -> W | AU8: =IF(AT8="W",$H8,0) -> 1 | AV8: =IFERROR(INDEX('Week 7 - Weekly Picks'!$B$1:$Q$50,MATCH('Week 7 - Pool'!AV$3,'Week 7 - Weekly Picks'!$B$1:$B$50,0),MATCH('Week 7 - Pool'!$A8,'Week 7 - Weekly Picks'!$B$1:$Q$1,0)),"") -> SMU | AW8: =IF($G8="","",IF(AV8=$G8,"W","L")) -> W | AX8: =IF(AW8="W",$H8,0) -> 1 | AY8: =IFERROR(INDEX('Week 7 - Weekly Picks'!$B$1:$Q$50,MATCH('Week 7 - Pool'!AY$3,'Week 7 - Weekly Picks'!$B$1:$B$50,0),MATCH('Week 7 - Pool'!$A8,'Week 7 - Weekly Picks'!$B$1:$Q$1,0)),"") -> SMU | AZ8: =IF($G8="","",IF(AY8=$G8,"W","L")) -> W | BA8: =IF(AZ8="W",$H8,0) -> 1 | BB8: =IFERROR(INDEX('Week 7 - Weekly Picks'!$B$1:$Q$50,MATCH('Week 7 - Pool'!BB$3,'Week 7 - Weekly Picks'!$B$1:$B$50,0),MATCH('Week 7 - Pool'!$A8,'Week 7 - Weekly Picks'!$B$1:$Q$1,0)),"") -> SMU | BC8: =IF($G8="","",IF(BB8=$G8,"W","L")) -> W | BD8: =IF(BC8="W",$H8,0) -> 1 | BE8: =IFERROR(INDEX('Week 7 - Weekly Picks'!$B$1:$Q$50,MATCH('Week 7 - Pool'!BE$3,'Week 7 - Weekly Picks'!$B$1:$B$50,0),MATCH('Week 7 - Pool'!$A8,'Week 7 - Weekly Picks'!$B$1:$Q$1,0)),"") -> SMU | BF8: =IF($G8="","",IF(BE8=$G8,"W","L")) -> W | BG8: =IF(BF8="W",$H8,0) -> 1 | BH8: =IFERROR(INDEX('Week 7 - Weekly Picks'!$B$1:$Q$50,MATCH('Week 7 - Pool'!BH$3,'Week 7 - Weekly Picks'!$B$1:$B$50,0),MATCH('Week 7 - Pool'!$A8,'Week 7 - Weekly Picks'!$B$1:$Q$1,0)),"") -> SMU | BI8: =IF($G8="","",IF(BH8=$G8,"W","L")) -> W | BJ8: =IF(BI8="W",$H8,0) -> 1 | BK8: =IFERROR(INDEX('Week 7 - Weekly Picks'!$B$1:$Q$50,MATCH('Week 7 - Pool'!BK$3,'Week 7 - Weekly Picks'!$B$1:$B$50,0),MATCH('Week 7 - Pool'!$A8,'Week 7 - Weekly Picks'!$B$1:$Q$1,0)),"") -> SMU | BL8: =IF($G8="","",IF(BK8=$G8,"W","L")) -> W | BM8: =IF(BL8="W",$H8,0) -> 1 | BN8: =IFERROR(INDEX('Week 7 - Weekly Picks'!$B$1:$Q$50,MATCH('Week 7 - Pool'!BN$3,'Week 7 - Weekly Picks'!$B$1:$B$50,0),MATCH('Week 7 - Pool'!$A8,'Week 7 - Weekly Picks'!$B$1:$Q$1,0)),"") -> Virginia | BO8: =IF($G8="","",IF(BN8=$G8,"W","L")) -> L | BP8: =IF(BO8="W",$H8,0) -> 0 | BQ8: =IFERROR(INDEX('Week 7 - Weekly Picks'!$B$1:$Q$50,MATCH('Week 7 - Pool'!BQ$3,'Week 7 - Weekly Picks'!$B$1:$B$50,0),MATCH('Week 7 - Pool'!$A8,'Week 7 - Weekly Picks'!$B$1:$Q$1,0)),"") -> SMU | BR8: =IF($G8="","",IF(BQ8=$G8,"W","L")) -> W | BS8: =IF(BR8="W",$H8,0) -> 1 | BT8: =IFERROR(INDEX('Week 7 - Weekly Picks'!$B$1:$Q$50,MATCH('Week 7 - Pool'!BT$3,'Week 7 - Weekly Picks'!$B$1:$B$50,0),MATCH('Week 7 - Pool'!$A8,'Week 7 - Weekly Picks'!$B$1:$Q$1,0)),"") -> Virginia | BU8: =IF($G8="","",IF(BT8=$G8,"W","L")) -> L | BV8: =IF(BU8="W",$H8,0) -> 0 | BW8: =IFERROR(INDEX('Week 7 - Weekly Picks'!$B$1:$Q$50,MATCH('Week 7 - Pool'!BW$3,'Week 7 - Weekly Picks'!$B$1:$B$50,0),MATCH('Week 7 - Pool'!$A8,'Week 7 - Weekly Picks'!$B$1:$Q$1,0)),"") -> SMU | BX8: =IF($G8="","",IF(BW8=$G8,"W","L")) -> W | BY8: =IF(BX8="W",$H8,0) -> 1 | BZ8: =IFERROR(INDEX('Week 7 - Weekly Picks'!$B$1:$Q$50,MATCH('Week 7 - Pool'!BZ$3,'Week 7 - Weekly Picks'!$B$1:$B$50,0),MATCH('Week 7 - Pool'!$A8,'Week 7 - Weekly Picks'!$B$1:$Q$1,0)),"") -> SMU | CA8: =IF($G8="","",IF(BZ8=$G8,"W","L")) -> W | CB8: =IF(CA8="W",$H8,0) -> 1 | CC8: =IFERROR(INDEX('Week 7 - Weekly Picks'!$B$1:$Q$50,MATCH('Week 7 - Pool'!CC$3,'Week 7 - Weekly Picks'!$B$1:$B$50,0),MATCH('Week 7 - Pool'!$A8,'Week 7 - Weekly Picks'!$B$1:$Q$1,0)),"") -> SMU | CD8: =IF($G8="","",IF(CC8=$G8,"W","L")) -> W | CE8: =IF(CD8="W",$H8,0) -> 1 | CF8: =IFERROR(INDEX('Week 7 - Weekly Picks'!$B$1:$Q$50,MATCH('Week 7 - Pool'!CF$3,'Week 7 - Weekly Picks'!$B$1:$B$50,0),MATCH('Week 7 - Pool'!$A8,'Week 7 - Weekly Picks'!$B$1:$Q$1,0)),"") -> SMU | CG8: =IF($G8="","",IF(CF8=$G8,"W","L")) -> W | CH8: =IF(CG8="W",$H8,0) -> 1 | CI8: =IFERROR(INDEX('Week 7 - Weekly Picks'!$B$1:$Q$50,MATCH('Week 7 - Pool'!CI$3,'Week 7 - Weekly Picks'!$B$1:$B$50,0),MATCH('Week 7 - Pool'!$A8,'Week 7 - Weekly Picks'!$B$1:$Q$1,0)),"") -> SMU | CJ8: =IF($G8="","",IF(CI8=$G8,"W","L")) -> W | CK8: =IF(CJ8="W",$H8,0) -> 1 | CM8: 5 | CN8: =D8 -> Virginia | CO8: =COUNTIF(I8:CI8,D8) -> 3 | CP8: =F8 -> SMU | CQ8: =COUNTIF(I8:CI8,F8) -> 24 | CR8: =CO8+CQ8 -> 27
A9: 6 | B9: 46312 | D9: ='Data Setup'!H8 -> Kansas | E9: vs. | F9: ='Data Setup'!I8 -> K-State | G9: K-State | H9: 1 | I9: =IFERROR(INDEX('Week 7 - Weekly Picks'!$B$1:$Q$50,MATCH('Week 7 - Pool'!I$3,'Week 7 - Weekly Picks'!$B$1:$B$50,0),MATCH('Week 7 - Pool'!$A9,'Week 7 - Weekly Picks'!$B$1:$Q$1,0)),"") -> K-State | J9: =IF($G9="","",IF(I9=$G9,"W","L")) -> W | K9: =IF(J9="W",$H9,0) -> 1 | L9: =IFERROR(INDEX('Week 7 - Weekly Picks'!$B$1:$Q$50,MATCH('Week 7 - Pool'!L$3,'Week 7 - Weekly Picks'!$B$1:$B$50,0),MATCH('Week 7 - Pool'!$A9,'Week 7 - Weekly Picks'!$B$1:$Q$1,0)),"") -> K-State | M9: =IF($G9="","",IF(L9=$G9,"W","L")) -> W | N9: =IF(M9="W",$H9,0) -> 1 | O9: =IFERROR(INDEX('Week 7 - Weekly Picks'!$B$1:$Q$50,MATCH('Week 7 - Pool'!O$3,'Week 7 - Weekly Picks'!$B$1:$B$50,0),MATCH('Week 7 - Pool'!$A9,'Week 7 - Weekly Picks'!$B$1:$Q$1,0)),"") -> K-State | P9: =IF($G9="","",IF(O9=$G9,"W","L")) -> W | Q9: =IF(P9="W",$H9,0) -> 1 | R9: =IFERROR(INDEX('Week 7 - Weekly Picks'!$B$1:$Q$50,MATCH('Week 7 - Pool'!R$3,'Week 7 - Weekly Picks'!$B$1:$B$50,0),MATCH('Week 7 - Pool'!$A9,'Week 7 - Weekly Picks'!$B$1:$Q$1,0)),"") -> K-State | S9: =IF($G9="","",IF(R9=$G9,"W","L")) -> W | T9: =IF(S9="W",$H9,0) -> 1 | U9: =IFERROR(INDEX('Week 7 - Weekly Picks'!$B$1:$Q$50,MATCH('Week 7 - Pool'!U$3,'Week 7 - Weekly Picks'!$B$1:$B$50,0),MATCH('Week 7 - Pool'!$A9,'Week 7 - Weekly Picks'!$B$1:$Q$1,0)),"") -> K-State | V9: =IF($G9="","",IF(U9=$G9,"W","L")) -> W | W9: =IF(V9="W",$H9,0) -> 1 | X9: =IFERROR(INDEX('Week 7 - Weekly Picks'!$B$1:$Q$50,MATCH('Week 7 - Pool'!X$3,'Week 7 - Weekly Picks'!$B$1:$B$50,0),MATCH('Week 7 - Pool'!$A9,'Week 7 - Weekly Picks'!$B$1:$Q$1,0)),"") -> K-State | Y9: =IF($G9="","",IF(X9=$G9,"W","L")) -> W | Z9: =IF(Y9="W",$H9,0) -> 1 | AA9: =IFERROR(INDEX('Week 7 - Weekly Picks'!$B$1:$Q$50,MATCH('Week 7 - Pool'!AA$3,'Week 7 - Weekly Picks'!$B$1:$B$50,0),MATCH('Week 7 - Pool'!$A9,'Week 7 - Weekly Picks'!$B$1:$Q$1,0)),"") -> K-State | AB9: =IF($G9="","",IF(AA9=$G9,"W","L")) -> W | AC9: =IF(AB9="W",$H9,0) -> 1 | AD9: =IFERROR(INDEX('Week 7 - Weekly Picks'!$B$1:$Q$50,MATCH('Week 7 - Pool'!AD$3,'Week 7 - Weekly Picks'!$B$1:$B$50,0),MATCH('Week 7 - Pool'!$A9,'Week 7 - Weekly Picks'!$B$1:$Q$1,0)),"") -> K-State | AE9: =IF($G9="","",IF(AD9=$G9,"W","L")) -> W | AF9: =IF(AE9="W",$H9,0) -> 1 | AG9: =IFERROR(INDEX('Week 7 - Weekly Picks'!$B$1:$Q$50,MATCH('Week 7 - Pool'!AG$3,'Week 7 - Weekly Picks'!$B$1:$B$50,0),MATCH('Week 7 - Pool'!$A9,'Week 7 - Weekly Picks'!$B$1:$Q$1,0)),"") -> K-State | AH9: =IF($G9="","",IF(AG9=$G9,"W","L")) -> W | AI9: =IF(AH9="W",$H9,0) -> 1 | AJ9: =IFERROR(INDEX('Week 7 - Weekly Picks'!$B$1:$Q$50,MATCH('Week 7 - Pool'!AJ$3,'Week 7 - Weekly Picks'!$B$1:$B$50,0),MATCH('Week 7 - Pool'!$A9,'Week 7 - Weekly Picks'!$B$1:$Q$1,0)),"") -> K-State | AK9: =IF($G9="","",IF(AJ9=$G9,"W","L")) -> W | AL9: =IF(AK9="W",$H9,0) -> 1 | AM9: =IFERROR(INDEX('Week 7 - Weekly Picks'!$B$1:$Q$50,MATCH('Week 7 - Pool'!AM$3,'Week 7 - Weekly Picks'!$B$1:$B$50,0),MATCH('Week 7 - Pool'!$A9,'Week 7 - Weekly Picks'!$B$1:$Q$1,0)),"") -> K-State | AN9: =IF($G9="","",IF(AM9=$G9,"W","L")) -> W | AO9: =IF(AN9="W",$H9,0) -> 1 | AP9: =IFERROR(INDEX('Week 7 - Weekly Picks'!$B$1:$Q$50,MATCH('Week 7 - Pool'!AP$3,'Week 7 - Weekly Picks'!$B$1:$B$50,0),MATCH('Week 7 - Pool'!$A9,'Week 7 - Weekly Picks'!$B$1:$Q$1,0)),"") -> K-State | AQ9: =IF($G9="","",IF(AP9=$G9,"W","L")) -> W | AR9: =IF(AQ9="W",$H9,0) -> 1 | AS9: =IFERROR(INDEX('Week 7 - Weekly Picks'!$B$1:$Q$50,MATCH('Week 7 - Pool'!AS$3,'Week 7 - Weekly Picks'!$B$1:$B$50,0),MATCH('Week 7 - Pool'!$A9,'Week 7 - Weekly Picks'!$B$1:$Q$1,0)),"") -> Kansas | AT9: =IF($G9="","",IF(AS9=$G9,"W","L")) -> L | AU9: =IF(AT9="W",$H9,0) -> 0 | AV9: =IFERROR(INDEX('Week 7 - Weekly Picks'!$B$1:$Q$50,MATCH('Week 7 - Pool'!AV$3,'Week 7 - Weekly Picks'!$B$1:$B$50,0),MATCH('Week 7 - Pool'!$A9,'Week 7 - Weekly Picks'!$B$1:$Q$1,0)),"") -> K-State | AW9: =IF($G9="","",IF(AV9=$G9,"W","L")) -> W | AX9: =IF(AW9="W",$H9,0) -> 1 | AY9: =IFERROR(INDEX('Week 7 - Weekly Picks'!$B$1:$Q$50,MATCH('Week 7 - Pool'!AY$3,'Week 7 - Weekly Picks'!$B$1:$B$50,0),MATCH('Week 7 - Pool'!$A9,'Week 7 - Weekly Picks'!$B$1:$Q$1,0)),"") -> K-State | AZ9: =IF($G9="","",IF(AY9=$G9,"W","L")) -> W | BA9: =IF(AZ9="W",$H9,0) -> 1 | BB9: =IFERROR(INDEX('Week 7 - Weekly Picks'!$B$1:$Q$50,MATCH('Week 7 - Pool'!BB$3,'Week 7 - Weekly Picks'!$B$1:$B$50,0),MATCH('Week 7 - Pool'!$A9,'Week 7 - Weekly Picks'!$B$1:$Q$1,0)),"") -> K-State | BC9: =IF($G9="","",IF(BB9=$G9,"W","L")) -> W | BD9: =IF(BC9="W",$H9,0) -> 1 | BE9: =IFERROR(INDEX('Week 7 - Weekly Picks'!$B$1:$Q$50,MATCH('Week 7 - Pool'!BE$3,'Week 7 - Weekly Picks'!$B$1:$B$50,0),MATCH('Week 7 - Pool'!$A9,'Week 7 - Weekly Picks'!$B$1:$Q$1,0)),"") -> K-State | BF9: =IF($G9="","",IF(BE9=$G9,"W","L")) -> W | BG9: =IF(BF9="W",$H9,0) -> 1 | BH9: =IFERROR(INDEX('Week 7 - Weekly Picks'!$B$1:$Q$50,MATCH('Week 7 - Pool'!BH$3,'Week 7 - Weekly Picks'!$B$1:$B$50,0),MATCH('Week 7 - Pool'!$A9,'Week 7 - Weekly Picks'!$B$1:$Q$1,0)),"") -> Kansas | BI9: =IF($G9="","",IF(BH9=$G9,"W","L")) -> L | BJ9: =IF(BI9="W",$H9,0) -> 0 | BK9: =IFERROR(INDEX('Week 7 - Weekly Picks'!$B$1:$Q$50,MATCH('Week 7 - Pool'!BK$3,'Week 7 - Weekly Picks'!$B$1:$B$50,0),MATCH('Week 7 - Pool'!$A9,'Week 7 - Weekly Picks'!$B$1:$Q$1,0)),"") -> K-State | BL9: =IF($G9="","",IF(BK9=$G9,"W","L")) -> W | BM9: =IF(BL9="W",$H9,0) -> 1 | BN9: =IFERROR(INDEX('Week 7 - Weekly Picks'!$B$1:$Q$50,MATCH('Week 7 - Pool'!BN$3,'Week 7 - Weekly Picks'!$B$1:$B$50,0),MATCH('Week 7 - Pool'!$A9,'Week 7 - Weekly Picks'!$B$1:$Q$1,0)),"") -> K-State | BO9: =IF($G9="","",IF(BN9=$G9,"W","L")) -> W | BP9: =IF(BO9="W",$H9,0) -> 1 | BQ9: =IFERROR(INDEX('Week 7 - Weekly Picks'!$B$1:$Q$50,MATCH('Week 7 - Pool'!BQ$3,'Week 7 - Weekly Picks'!$B$1:$B$50,0),MATCH('Week 7 - Pool'!$A9,'Week 7 - Weekly Picks'!$B$1:$Q$1,0)),"") -> K-State | BR9: =IF($G9="","",IF(BQ9=$G9,"W","L")) -> W | BS9: =IF(BR9="W",$H9,0) -> 1 | BT9: =IFERROR(INDEX('Week 7 - Weekly Picks'!$B$1:$Q$50,MATCH('Week 7 - Pool'!BT$3,'Week 7 - Weekly Picks'!$B$1:$B$50,0),MATCH('Week 7 - Pool'!$A9,'Week 7 - Weekly Picks'!$B$1:$Q$1,0)),"") -> Kansas | BU9: =IF($G9="","",IF(BT9=$G9,"W","L")) -> L | BV9: =IF(BU9="W",$H9,0) -> 0 | BW9: =IFERROR(INDEX('Week 7 - Weekly Picks'!$B$1:$Q$50,MATCH('Week 7 - Pool'!BW$3,'Week 7 - Weekly Picks'!$B$1:$B$50,0),MATCH('Week 7 - Pool'!$A9,'Week 7 - Weekly Picks'!$B$1:$Q$1,0)),"") -> K-State | BX9: =IF($G9="","",IF(BW9=$G9,"W","L")) -> W | BY9: =IF(BX9="W",$H9,0) -> 1 | BZ9: =IFERROR(INDEX('Week 7 - Weekly Picks'!$B$1:$Q$50,MATCH('Week 7 - Pool'!BZ$3,'Week 7 - Weekly Picks'!$B$1:$B$50,0),MATCH('Week 7 - Pool'!$A9,'Week 7 - Weekly Picks'!$B$1:$Q$1,0)),"") -> Kansas | CA9: =IF($G9="","",IF(BZ9=$G9,"W","L")) -> L | CB9: =IF(CA9="W",$H9,0) -> 0 | CC9: =IFERROR(INDEX('Week 7 - Weekly Picks'!$B$1:$Q$50,MATCH('Week 7 - Pool'!CC$3,'Week 7 - Weekly Picks'!$B$1:$B$50,0),MATCH('Week 7 - Pool'!$A9,'Week 7 - Weekly Picks'!$B$1:$Q$1,0)),"") -> K-State | CD9: =IF($G9="","",IF(CC9=$G9,"W","L")) -> W | CE9: =IF(CD9="W",$H9,0) -> 1 | CF9: =IFERROR(INDEX('Week 7 - Weekly Picks'!$B$1:$Q$50,MATCH('Week 7 - Pool'!CF$3,'Week 7 - Weekly Picks'!$B$1:$B$50,0),MATCH('Week 7 - Pool'!$A9,'Week 7 - Weekly Picks'!$B$1:$Q$1,0)),"") -> K-State | CG9: =IF($G9="","",IF(CF9=$G9,"W","L")) -> W | CH9: =IF(CG9="W",$H9,0) -> 1 | CI9: =IFERROR(INDEX('Week 7 - Weekly Picks'!$B$1:$Q$50,MATCH('Week 7 - Pool'!CI$3,'Week 7 - Weekly Picks'!$B$1:$B$50,0),MATCH('Week 7 - Pool'!$A9,'Week 7 - Weekly Picks'!$B$1:$Q$1,0)),"") -> K-State | CJ9: =IF($G9="","",IF(CI9=$G9,"W","L")) -> W | CK9: =IF(CJ9="W",$H9,0) -> 1 | CM9: 6 | CN9: =D9 -> Kansas | CO9: =COUNTIF(I9:CI9,D9) -> 4 | CP9: =F9 -> K-State | CQ9: =COUNTIF(I9:CI9,F9) -> 23 | CR9: =CO9+CQ9 -> 27
A10: 7 | B10: 46312 | D10: ='Data Setup'!H9 -> Auburn | E10: vs. | F10: ='Data Setup'!I9 -> Georgia | G10: Auburn | H10: 1 | I10: =IFERROR(INDEX('Week 7 - Weekly Picks'!$B$1:$Q$50,MATCH('Week 7 - Pool'!I$3,'Week 7 - Weekly Picks'!$B$1:$B$50,0),MATCH('Week 7 - Pool'!$A10,'Week 7 - Weekly Picks'!$B$1:$Q$1,0)),"") -> Georgia | J10: =IF($G10="","",IF(I10=$G10,"W","L")) -> L | K10: =IF(J10="W",$H10,0) -> 0 | L10: =IFERROR(INDEX('Week 7 - Weekly Picks'!$B$1:$Q$50,MATCH('Week 7 - Pool'!L$3,'Week 7 - Weekly Picks'!$B$1:$B$50,0),MATCH('Week 7 - Pool'!$A10,'Week 7 - Weekly Picks'!$B$1:$Q$1,0)),"") -> Georgia | M10: =IF($G10="","",IF(L10=$G10,"W","L")) -> L | N10: =IF(M10="W",$H10,0) -> 0 | O10: =IFERROR(INDEX('Week 7 - Weekly Picks'!$B$1:$Q$50,MATCH('Week 7 - Pool'!O$3,'Week 7 - Weekly Picks'!$B$1:$B$50,0),MATCH('Week 7 - Pool'!$A10,'Week 7 - Weekly Picks'!$B$1:$Q$1,0)),"") -> Georgia | P10: =IF($G10="","",IF(O10=$G10,"W","L")) -> L | Q10: =IF(P10="W",$H10,0) -> 0 | R10: =IFERROR(INDEX('Week 7 - Weekly Picks'!$B$1:$Q$50,MATCH('Week 7 - Pool'!R$3,'Week 7 - Weekly Picks'!$B$1:$B$50,0),MATCH('Week 7 - Pool'!$A10,'Week 7 - Weekly Picks'!$B$1:$Q$1,0)),"") -> Georgia | S10: =IF($G10="","",IF(R10=$G10,"W","L")) -> L | T10: =IF(S10="W",$H10,0) -> 0 | U10: =IFERROR(INDEX('Week 7 - Weekly Picks'!$B$1:$Q$50,MATCH('Week 7 - Pool'!U$3,'Week 7 - Weekly Picks'!$B$1:$B$50,0),MATCH('Week 7 - Pool'!$A10,'Week 7 - Weekly Picks'!$B$1:$Q$1,0)),"") -> Georgia | V10: =IF($G10="","",IF(U10=$G10,"W","L")) -> L | W10: =IF(V10="W",$H10,0) -> 0 | X10: =IFERROR(INDEX('Week 7 - Weekly Picks'!$B$1:$Q$50,MATCH('Week 7 - Pool'!X$3,'Week 7 - Weekly Picks'!$B$1:$B$50,0),MATCH('Week 7 - Pool'!$A10,'Week 7 - Weekly Picks'!$B$1:$Q$1,0)),"") -> Georgia | Y10: =IF($G10="","",IF(X10=$G10,"W","L")) -> L | Z10: =IF(Y10="W",$H10,0) -> 0 | AA10: =IFERROR(INDEX('Week 7 - Weekly Picks'!$B$1:$Q$50,MATCH('Week 7 - Pool'!AA$3,'Week 7 - Weekly Picks'!$B$1:$B$50,0),MATCH('Week 7 - Pool'!$A10,'Week 7 - Weekly Picks'!$B$1:$Q$1,0)),"") -> Georgia | AB10: =IF($G10="","",IF(AA10=$G10,"W","L")) -> L | AC10: =IF(AB10="W",$H10,0) -> 0 | AD10: =IFERROR(INDEX('Week 7 - Weekly Picks'!$B$1:$Q$50,MATCH('Week 7 - Pool'!AD$3,'Week 7 - Weekly Picks'!$B$1:$B$50,0),MATCH('Week 7 - Pool'!$A10,'Week 7 - Weekly Picks'!$B$1:$Q$1,0)),"") -> Georgia | AE10: =IF($G10="","",IF(AD10=$G10,"W","L")) -> L | AF10: =IF(AE10="W",$H10,0) -> 0 | AG10: =IFERROR(INDEX('Week 7 - Weekly Picks'!$B$1:$Q$50,MATCH('Week 7 - Pool'!AG$3,'Week 7 - Weekly Picks'!$B$1:$B$50,0),MATCH('Week 7 - Pool'!$A10,'Week 7 - Weekly Picks'!$B$1:$Q$1,0)),"") -> Georgia | AH10: =IF($G10="","",IF(AG10=$G10,"W","L")) -> L | AI10: =IF(AH10="W",$H10,0) -> 0 | AJ10: =IFERROR(INDEX('Week 7 - Weekly Picks'!$B$1:$Q$50,MATCH('Week 7 - Pool'!AJ$3,'Week 7 - Weekly Picks'!$B$1:$B$50,0),MATCH('Week 7 - Pool'!$A10,'Week 7 - Weekly Picks'!$B$1:$Q$1,0)),"") -> Georgia | AK10: =IF($G10="","",IF(AJ10=$G10,"W","L")) -> L | AL10: =IF(AK10="W",$H10,0) -> 0 | AM10: =IFERROR(INDEX('Week 7 - Weekly Picks'!$B$1:$Q$50,MATCH('Week 7 - Pool'!AM$3,'Week 7 - Weekly Picks'!$B$1:$B$50,0),MATCH('Week 7 - Pool'!$A10,'Week 7 - Weekly Picks'!$B$1:$Q$1,0)),"") -> Georgia | AN10: =IF($G10="","",IF(AM10=$G10,"W","L")) -> L | AO10: =IF(AN10="W",$H10,0) -> 0 | AP10: =IFERROR(INDEX('Week 7 - Weekly Picks'!$B$1:$Q$50,MATCH('Week 7 - Pool'!AP$3,'Week 7 - Weekly Picks'!$B$1:$B$50,0),MATCH('Week 7 - Pool'!$A10,'Week 7 - Weekly Picks'!$B$1:$Q$1,0)),"") -> Georgia | AQ10: =IF($G10="","",IF(AP10=$G10,"W","L")) -> L | AR10: =IF(AQ10="W",$H10,0) -> 0 | AS10: =IFERROR(INDEX('Week 7 - Weekly Picks'!$B$1:$Q$50,MATCH('Week 7 - Pool'!AS$3,'Week 7 - Weekly Picks'!$B$1:$B$50,0),MATCH('Week 7 - Pool'!$A10,'Week 7 - Weekly Picks'!$B$1:$Q$1,0)),"") -> Georgia | AT10: =IF($G10="","",IF(AS10=$G10,"W","L")) -> L | AU10: =IF(AT10="W",$H10,0) -> 0 | AV10: =IFERROR(INDEX('Week 7 - Weekly Picks'!$B$1:$Q$50,MATCH('Week 7 - Pool'!AV$3,'Week 7 - Weekly Picks'!$B$1:$B$50,0),MATCH('Week 7 - Pool'!$A10,'Week 7 - Weekly Picks'!$B$1:$Q$1,0)),"") -> Georgia | AW10: =IF($G10="","",IF(AV10=$G10,"W","L")) -> L | AX10: =IF(AW10="W",$H10,0) -> 0 | AY10: =IFERROR(INDEX('Week 7 - Weekly Picks'!$B$1:$Q$50,MATCH('Week 7 - Pool'!AY$3,'Week 7 - Weekly Picks'!$B$1:$B$50,0),MATCH('Week 7 - Pool'!$A10,'Week 7 - Weekly Picks'!$B$1:$Q$1,0)),"") -> Georgia | AZ10: =IF($G10="","",IF(AY10=$G10,"W","L")) -> L | BA10: =IF(AZ10="W",$H10,0) -> 0 | BB10: =IFERROR(INDEX('Week 7 - Weekly Picks'!$B$1:$Q$50,MATCH('Week 7 - Pool'!BB$3,'Week 7 - Weekly Picks'!$B$1:$B$50,0),MATCH('Week 7 - Pool'!$A10,'Week 7 - Weekly Picks'!$B$1:$Q$1,0)),"") -> Georgia | BC10: =IF($G10="","",IF(BB10=$G10,"W","L")) -> L | BD10: =IF(BC10="W",$H10,0) -> 0 | BE10: =IFERROR(INDEX('Week 7 - Weekly Picks'!$B$1:$Q$50,MATCH('Week 7 - Pool'!BE$3,'Week 7 - Weekly Picks'!$B$1:$B$50,0),MATCH('Week 7 - Pool'!$A10,'Week 7 - Weekly Picks'!$B$1:$Q$1,0)),"") -> Georgia | BF10: =IF($G10="","",IF(BE10=$G10,"W","L")) -> L | BG10: =IF(BF10="W",$H10,0) -> 0 | BH10: =IFERROR(INDEX('Week 7 - Weekly Picks'!$B$1:$Q$50,MATCH('Week 7 - Pool'!BH$3,'Week 7 - Weekly Picks'!$B$1:$B$50,0),MATCH('Week 7 - Pool'!$A10,'Week 7 - Weekly Picks'!$B$1:$Q$1,0)),"") -> Georgia | BI10: =IF($G10="","",IF(BH10=$G10,"W","L")) -> L | BJ10: =IF(BI10="W",$H10,0) -> 0 | BK10: =IFERROR(INDEX('Week 7 - Weekly Picks'!$B$1:$Q$50,MATCH('Week 7 - Pool'!BK$3,'Week 7 - Weekly Picks'!$B$1:$B$50,0),MATCH('Week 7 - Pool'!$A10,'Week 7 - Weekly Picks'!$B$1:$Q$1,0)),"") -> Georgia | BL10: =IF($G10="","",IF(BK10=$G10,"W","L")) -> L | BM10: =IF(BL10="W",$H10,0) -> 0 | BN10: =IFERROR(INDEX('Week 7 - Weekly Picks'!$B$1:$Q$50,MATCH('Week 7 - Pool'!BN$3,'Week 7 - Weekly Picks'!$B$1:$B$50,0),MATCH('Week 7 - Pool'!$A10,'Week 7 - Weekly Picks'!$B$1:$Q$1,0)),"") -> Georgia | BO10: =IF($G10="","",IF(BN10=$G10,"W","L")) -> L | BP10: =IF(BO10="W",$H10,0) -> 0 | BQ10: =IFERROR(INDEX('Week 7 - Weekly Picks'!$B$1:$Q$50,MATCH('Week 7 - Pool'!BQ$3,'Week 7 - Weekly Picks'!$B$1:$B$50,0),MATCH('Week 7 - Pool'!$A10,'Week 7 - Weekly Picks'!$B$1:$Q$1,0)),"") -> Georgia | BR10: =IF($G10="","",IF(BQ10=$G10,"W","L")) -> L | BS10: =IF(BR10="W",$H10,0) -> 0 | BT10: =IFERROR(INDEX('Week 7 - Weekly Picks'!$B$1:$Q$50,MATCH('Week 7 - Pool'!BT$3,'Week 7 - Weekly Picks'!$B$1:$B$50,0),MATCH('Week 7 - Pool'!$A10,'Week 7 - Weekly Picks'!$B$1:$Q$1,0)),"") -> Georgia | BU10: =IF($G10="","",IF(BT10=$G10,"W","L")) -> L | BV10: =IF(BU10="W",$H10,0) -> 0 | BW10: =IFERROR(INDEX('Week 7 - Weekly Picks'!$B$1:$Q$50,MATCH('Week 7 - Pool'!BW$3,'Week 7 - Weekly Picks'!$B$1:$B$50,0),MATCH('Week 7 - Pool'!$A10,'Week 7 - Weekly Picks'!$B$1:$Q$1,0)),"") -> Georgia | BX10: =IF($G10="","",IF(BW10=$G10,"W","L")) -> L | BY10: =IF(BX10="W",$H10,0) -> 0 | BZ10: =IFERROR(INDEX('Week 7 - Weekly Picks'!$B$1:$Q$50,MATCH('Week 7 - Pool'!BZ$3,'Week 7 - Weekly Picks'!$B$1:$B$50,0),MATCH('Week 7 - Pool'!$A10,'Week 7 - Weekly Picks'!$B$1:$Q$1,0)),"") -> Georgia | CA10: =IF($G10="","",IF(BZ10=$G10,"W","L")) -> L | CB10: =IF(CA10="W",$H10,0) -> 0 | CC10: =IFERROR(INDEX('Week 7 - Weekly Picks'!$B$1:$Q$50,MATCH('Week 7 - Pool'!CC$3,'Week 7 - Weekly Picks'!$B$1:$B$50,0),MATCH('Week 7 - Pool'!$A10,'Week 7 - Weekly Picks'!$B$1:$Q$1,0)),"") -> Georgia | CD10: =IF($G10="","",IF(CC10=$G10,"W","L")) -> L | CE10: =IF(CD10="W",$H10,0) -> 0 | CF10: =IFERROR(INDEX('Week 7 - Weekly Picks'!$B$1:$Q$50,MATCH('Week 7 - Pool'!CF$3,'Week 7 - Weekly Picks'!$B$1:$B$50,0),MATCH('Week 7 - Pool'!$A10,'Week 7 - Weekly Picks'!$B$1:$Q$1,0)),"") -> Georgia | CG10: =IF($G10="","",IF(CF10=$G10,"W","L")) -> L | CH10: =IF(CG10="W",$H10,0) -> 0 | CI10: =IFERROR(INDEX('Week 7 - Weekly Picks'!$B$1:$Q$50,MATCH('Week 7 - Pool'!CI$3,'Week 7 - Weekly Picks'!$B$1:$B$50,0),MATCH('Week 7 - Pool'!$A10,'Week 7 - Weekly Picks'!$B$1:$Q$1,0)),"") -> Georgia | CJ10: =IF($G10="","",IF(CI10=$G10,"W","L")) -> L | CK10: =IF(CJ10="W",$H10,0) -> 0 | CM10: 7 | CN10: =D10 -> Auburn | CO10: =COUNTIF(I10:CI10,D10) -> 0 | CP10: =F10 -> Georgia | CQ10: =COUNTIF(I10:CI10,F10) -> 27 | CR10: =CO10+CQ10 -> 27
