Workbook

Sheet Week 7 - Pool
B1: WEEK 7
A3: Game | B3: Date | C3: Bowl | D3: Teams | G3: Winner | H3: Game Point Value | I3: ='Data Setup'!A3 -> Aaron Lippe | L3: ='Data Setup'!A4 -> Brett | O3: ='Data Setup'!A5 -> Brian Rich | R3: ='Data Setup'!A6 -> Brock Larson | U3: ='Data Setup'!A7 -> Bryan Chambers | X3: ='Data Setup'!A8 -> Busta | AA3: ='Data Setup'!A9 -> C-Lar | AD3: ='Data Setup'!A10 -> Cage | AG3: ='Data Setup'!A11 -> Christi | AJ3: ='Data Setup'!A12 -> Churchill | AM3: ='Data Setup'!A13 -> Hayden P | AP3: ='Data Setup'!A14 -> Hayden Sluder | AS3: ='Data Setup'!A15 -> John Carter | AV3: ='Data Setup'!A16 -> Marcus | AY3: ='Data Setup'!A17 -> Michael | BB3: ='Data Setup'!A18 -> Payton Newkirk | BE3: ='Data Setup'!A19 -> Pep | BH3: ='Data Setup'!A20 -> Ramirez | BK3: ='Data Setup'!A21 -> Rocky | BN3: ='Data Setup'!A22 -> Saas | BQ3: ='Data Setup'!A23 -> Stanton | BT3: ='Data Setup'!A24 -> Steven Smith | BW3: ='Data Setup'!A25 -> T-Bone | BZ3: ='Data Setup'!A26 -> Teresa Kacerguis | CC3: ='Data Setup'!A27 -> Tim G | CF3: ='Data Setup'!A28 -> Uncle Bill | CI3: ='Data Setup'!A29 -> Young | CM3: Game | CR3: TOTAL
A4: 1 | B4: 46312 | D4: ='Data Setup'!H3 -> Ohio State | E4: vs. | F4: ='Data Setup'!I3 -> Indiana | G4: Ohio State | H4: 1 | I4: =IFERROR(INDEX('Week 7 - Weekly Picks'!$B$1:$Q$50,MATCH('Week 7 - Pool'!I$3,'Week 7 - Weekly Picks'!$B$1:$B$50,0),MATCH('Week 7 - Pool'!$A4,'Week 7 - Weekly Picks'!$B$1:$Q$1,0)),"") -> Ohio State | J4: =IF($G4="","",IF(I4=$G4,"W","L")) -> W | K4: =IF(J4="W",$H4,0) -> 1 | L4: =IFERROR(INDEX('Week 7 - Weekly Picks'!$B$1:$Q$50,MATCH('Week 7 - Pool'!L$3,'Week 7 - Weekly Picks'!$B$1:$B$50,0),MATCH('Week 7 - Pool'!$A4,'Week 7 - Weekly Picks'!$B$1:$Q$1,0)),"") -> Ohio State | M4: =IF($G4="","",IF(L4=$G4,"W","L")) -> W | N4: =IF(M4="W",$H4,0) -> 1 | O4: =IFERROR(INDEX('Week 7 - Weekly Picks'!$B$1:$Q$50,MATCH('Week 7 - Pool'!O$3,'Week 7 - Weekly Picks'!$B$1:$B$50,0),MATCH('Week 7 - Pool'!$A4,'Week 7 - Weekly Picks'!$B$1:$Q$1,0)),"") -> Ohio State | P4: =IF($G4="","",IF(O4=$G4,"W","L")) -> W | Q4: =IF(P4="W",$H4,0) -> 1 | R4: =IFERROR(INDEX('Week 7 - Weekly Picks'!$B$1:$Q$50,MATCH('Week 7 - Pool'!R$3,'Week 7 - Weekly Picks'!$B$1:$B$50,0),MATCH('Week 7 - Pool'!$A4,'Week 7 - Weekly Picks'!$B$1:$Q$1,0)),"") -> Ohio State | S4: =IF($G4="","",IF(R4=$G4,"W","L")) -> W | T4: =IF(S4="W",$H4,0) -> 1 | U4: =IFERROR(INDEX('Week 7 - Weekly Picks'!$B$1:$Q$50,MATCH('Week 7 - Pool'!U$3,'Week 7 - Weekly Picks'!$B$1:$B$50,0),MATCH('Week 7 - Pool'!$A4,'Week 7 - Weekly Picks'!$B$1:$Q$1,0)),"") -> Indiana | V4: =IF($G4="","",IF(U4=$G4,"W","L")) -> L | W4: =IF(V4="W",$H4,0) -> 0 | X4: =IFERROR(INDEX('Week 7 - Weekly Picks'!$B$1:$Q$50,MATCH('Week 7 - Pool'!X$3,'Week 7 - Weekly Picks'!$B$1:$B$50,0),MATCH('Week 7 - Pool'!$A4,'Week 7 - Weekly Picks'!$B$1:$Q$1,0)),"") -> Ohio State | Y4: =IF($G4="","",IF(X4=$G4,"W","L")) -> W | Z4: =IF(Y4="W",$H4,0) -> 1 | AA4: =IFERROR(INDEX('Week 7 - Weekly Picks'!$B$1:$Q$50,MATCH('Week 7 - Pool'!AA$3,'Week 7 - Weekly Picks'!$B$1:$B$50,0),MATCH('Week 7 - Pool'!$A4,'Week 7 - Weekly Picks'!$B$1:$Q$1,0)),"") -> Indiana | AB4: =IF($G4="","",IF(AA4=$G4,"W","L")) -> L | AC4: =IF(AB4="W",$H4,0) -> 0 | AD4: =IFERROR(INDEX('Week 7 - Weekly Picks'!$B$1:$Q$50,MATCH('Week 7 - Pool'!AD$3,'Week 7 - Weekly Picks'!$B$1:$B$50,0),MATCH('Week 7 - Pool'!$A4,'Week 7 - Weekly Picks'!$B$1:$Q$1,0)),"") -> Ohio State | AE4: =IF($G4="","",IF(AD4=$G4,"W","L")) -> W | AF4: =IF(AE4="W",$H4,0) -> 1 | AG4: =IFERROR(INDEX('Week 7 - Weekly Picks'!$B$1:$Q$50,MATCH('Week 7 - Pool'!AG$3,'Week 7 - Weekly Picks'!$B$1:$B$50,0),MATCH('Week 7 - Pool'!$A4,'Week 7 - Weekly Picks'!$B$1:$Q$1,0)),"") -> Ohio State | AH4: =IF($G4="","",IF(AG4=$G4,"W","L")) -> W | AI4: =IF(AH4="W",$H4,0) -> 1 | AJ4: =IFERROR(INDEX('Week 7 - Weekly Picks'!$B$1:$Q$50,MATCH('Week 7 - Pool'!AJ$3,'Week 7 - Weekly Picks'!$B$1:$B$50,0),MATCH('Week 7 - Pool'!$A4,'Week 7 - Weekly Picks'!$B$1:$Q$1,0)),"") -> Ohio State | AK4: =IF($G4="","",IF(AJ4=$G4,"W","L")) -> W | AL4: =IF(AK4="W",$H4,0) -> 1 | AM4: =IFERROR(INDEX('Week 7 - Weekly Picks'!$B$1:$Q$50,MATCH('Week 7 - Pool'!AM$3,'Week 7 - Weekly Picks'!$B$1:$B$50,0),MATCH('Week 7 - Pool'!$A4,'Week 7 - Weekly Picks'!$B$1:$Q$1,0)),"") -> Ohio State | AN4: =IF($G4="","",IF(AM4=$G4,"W","L")) -> W | AO4: =IF(AN4="W",$H4,0) -> 1 | AP4: =IFERROR(INDEX('Week 7 - Weekly Picks'!$B$1:$Q$50,MATCH('Week 7 - Pool'!AP$3,'Week 7 - Weekly Picks'!$B$1:$B$50,0),MATCH('Week 7 - Pool'!$A4,'Week 7 - Weekly Picks'!$B$1:$Q$1,0)),"") -> Ohio State | AQ4: =IF($G4="","",IF(AP4=$G4,"W","L")) -> W | AR4: =IF(AQ4="W",$H4,0) -> 1 | AS4: =IFERROR(INDEX('Week 7 - Weekly Picks'!$B$1:$Q$50,MATCH('Week 7 - Pool'!AS$3,'Week 7 - Weekly Picks'!$B$1:$B$50,0),MATCH('Week 7 - Pool'!$A4,'Week 7 - Weekly Picks'!$B$1:$Q$1,0)),"") -> Indiana | AT4: =IF($G4="","",IF(AS4=$G4,"W","L")) -> L | AU4: =IF(AT4="W",$H4,0) -> 0 | AV4: =IFERROR(INDEX('Week 7 - Weekly Picks'!$B$1:$Q$50,MATCH('Week 7 - Pool'!AV$3,'Week 7 - Weekly Picks'!$B$1:$B$50,0),MATCH('Week 7 - Pool'!$A4,'Week 7 - Weekly Picks'!$B$1:$Q$1,0)),"") -> Ohio State | AW4: =IF($G4="","",IF(AV4=$G4,"W","L")) -> W | AX4: =IF(AW4="W",$H4,0) -> 1 | AY4: =IFERROR(INDEX('Week 7 - Weekly Picks'!$B$1:$Q$50,MATCH('Week 7 - Pool'!AY$3,'Week 7 - Weekly Picks'!$B$1:$B$50,0),MATCH('Week 7 - Pool'!$A4,'Week 7 - Weekly Picks'!$B$1:$Q$1,0)),"") -> Ohio State | AZ4: =IF($G4="","",IF(AY4=$G4,"W","L")) -> W | BA4: =IF(AZ4="W",$H4,0) -> 1 | BB4: =IFERROR(INDEX('Week 7 - Weekly Picks'!$B$1:$Q$50,MATCH('Week 7 - Pool'!BB$3,'Week 7 - Weekly Picks'!$B$1:$B$50,0),MATCH('Week 7 - Pool'!$A4,'Week 7 - Weekly Picks'!$B$1:$Q$1,0)),"") -> Ohio State | BC4: =IF($G4="","",IF(BB4=$G4,"W","L")) -> W | BD4: =IF(BC4="W",$H4,0) -> 1 | BE4: =IFERROR(INDEX('Week 7 - Weekly Picks'!$B$1:$Q$50,MATCH('Week 7 - Pool'!BE$3,'Week 7 - Weekly Picks'!$B$1:$B$50,0),MATCH('Week 7 - Pool'!$A4,'Week 7 - Weekly Picks'!$B$1:$Q$1,0)),"") -> Indiana | BF4: =IF($G4="","",IF(BE4=$G4,"W","L")) -> L | BG4: =IF(BF4="W",$H4,0) -> 0 | BH4: =IFERROR(INDEX('Week 7 - Weekly Picks'!$B$1:$Q$50,MATCH('Week 7 - Pool'!BH$3,'Week 7 - Weekly Picks'!$B$1:$B$50,0),MATCH('Week 7 - Pool'!$A4,'Week 7 - Weekly Picks'!$B$1:$Q$1,0)),"") -> Indiana | BI4: =IF($G4="","",IF(BH4=$G4,"W","L")) -> L | BJ4: =IF(BI4="W",$H4,0) -> 0 | BK4: =IFERROR(INDEX('Week 7 - Weekly Picks'!$B$1:$Q$50,MATCH('Week 7 - Pool'!BK$3,'Week 7 - Weekly Picks'!$B$1:$B$50,0),MATCH('Week 7 - Pool'!$A4,'Week 7 - Weekly Picks'!$B$1:$Q$1,0)),"") -> Ohio State | BL4: =IF($G4="","",IF(BK4=$G4,"W","L")) -> W | BM4: =IF(BL4="W",$H4,0) -> 1 | BN4: =IFERROR(INDEX('Week 7 - Weekly Picks'!$B$1:$Q$50,MATCH('Week 7 - Pool'!BN$3,'Week 7 - Weekly Picks'!$B$1:$B$50,0),MATCH('Week 7 - Pool'!$A4,'Week 7 - Weekly Picks'!$B$1:$Q$1,0)),"") -> Ohio State | BO4: =IF($G4="","",IF(BN4=$G4,"W","L")) -> W | BP4: =IF(BO4="W",$H4,0) -> 1 | BQ4: =IFERROR(INDEX('Week 7 - Weekly Picks'!$B$1:$Q$50,MATCH('Week 7 - Pool'!BQ$3,'Week 7 - Weekly Picks'!$B$1:$B$50,0),MATCH('Week 7 - Pool'!$A4,'Week 7 - Weekly Picks'!$B$1:$Q$1,0)),"") -> Ohio State | BR4: =IF($G4="","",IF(BQ4=$G4,"W","L")) -> W | BS4: =IF(BR4="W",$H4,0) -> 1 | BT4: =IFERROR(INDEX('Week 7 - Weekly Picks'!$B$1:$Q$50,MATCH('Week 7 - Pool'!BT$3,'Week 7 - Weekly Picks'!$B$1:$B$50,0),MATCH('Week 7 - Pool'!$A4,'Week 7 - Weekly Picks'!$B$1:$Q$1,0)),"") -> Ohio State | BU4: =IF($G4="","",IF(BT4=$G4,"W","L")) -> W | BV4: =IF(BU4="W",$H4,0) -> 1 | BW4: =IFERROR(INDEX('Week 7 - Weekly Picks'!$B$1:$Q$50,MATCH('Week 7 - Pool'!BW$3,'Week 7 - Weekly Picks'!$B$1:$B$50,0),MATCH('Week 7 - Pool'!$A4,'Week 7 - Weekly Picks'!$B$1:$Q$1,0)),"") -> Ohio State | BX4: =IF($G4="","",IF(BW4=$G4,"W","L")) -> W | BY4: =IF(BX4="W",$H4,0) -> 1 | BZ4: =IFERROR(INDEX('Week 7 - Weekly Picks'!$B$1:$Q$50,MATCH('Week 7 - Pool'!BZ$3,'Week 7 - Weekly Picks'!$B$1:$B$50,0),MATCH('Week 7 - Pool'!$A4,'Week 7 - Weekly Picks'!$B$1:$Q$1,0)),"") -> Ohio State | CA4: =IF($G4="","",IF(BZ4=$G4,"W","L")) -> W | CB4: =IF(CA4="W",$H4,0) -> 1 | CC4: =IFERROR(INDEX('Week 7 - Weekly Picks'!$B$1:$Q$50,MATCH('Week 7 - Pool'!CC$3,'Week 7 - Weekly Picks'!$B$1:$B$50,0),MATCH('Week 7 - Pool'!$A4,'Week 7 - Weekly Picks'!$B$1:$Q$1,0)),"") -> Ohio State | CD4: =IF($G4="","",IF(CC4=$G4,"W","L")) -> W | CE4: =IF(CD4="W",$H4,0) -> 1 | CF4: =IFERROR(INDEX('Week 7 - Weekly Picks'!$B$1:$Q$50,MATCH('Week 7 - Pool'!CF$3,'Week 7 - Weekly Picks'!$B$1:$B$50,0),MATCH('Week 7 - Pool'!$A4,'Week 7 - Weekly Picks'!$B$1:$Q$1,0)),"") -> Ohio State | CG4: =IF($G4="","",IF(CF4=$G4,"W","L")) -> W | CH4: =IF(CG4="W",$H4,0) -> 1 | CI4: =IFERROR(INDEX('Week 7 - Weekly Picks'!$B$1:$Q$50,MATCH('Week 7 - Pool'!CI$3,'Week 7 - Weekly Picks'!$B$1:$B$50,0),MATCH('Week 7 - Pool'!$A4,'Week 7 - Weekly Picks'!$B$1:$Q$1,0)),"") -> Ohio State | CJ4: =IF($G4="","",IF(CI4=$G4,"W","L")) -> W | CK4: =IF(CJ4="W",$H4,0) -> 1 | CM4: 1 | CN4: =D4 -> Ohio State | CO4: =COUNTIF(I4:CI4,D4) -> 22 | CP4: =F4 -> Indiana | CQ4: =COUNTIF(I4:CI4,F4) -> 5 | CR4: =CO4+CQ4 -> 27
A5: 2 | B5: 46312 | D5: ='Data Setup'!H4 -> Penn State | E5: vs. | F5: ='Data Setup'!I4 -> Michigan | G5: Michigan | H5: 1 | I5: =IFERROR(INDEX('Week 7 - Weekly Picks'!$B$1:$Q$50,MATCH('Week 7 - Pool'!I$3,'Week 7 - Weekly Picks'!$B$1:$B$50,0),MATCH('Week 7 - Pool'!$A5,'Week 7 - Weekly Picks'!$B$1:$Q$1,0)),"") -> Michigan | J5: =IF($G5="","",IF(I5=$G5,"W","L")) -> W | K5: =IF(J5="W",$H5,0) -> 1 | L5: =IFERROR(INDEX('Week 7 - Weekly Picks'!$B$1:$Q$50,MATCH('Week 7 - Pool'!L$3,'Week 7 - Weekly Picks'!$B$1:$B$50,0),MATCH('Week 7 - Pool'!$A5,'Week 7 - Weekly Picks'!$B$1:$Q$1,0)),"") -> Michigan | M5: =IF($G5="","",IF(L5=$G5,"W","L")) -> W | N5: =IF(M5="W",$H5,0) -> 1 | O5: =IFERROR(INDEX('Week 7 - Weekly Picks'!$B$1:$Q$50,MATCH('Week 7 - Pool'!O$3,'Week 7 - Weekly Picks'!$B$1:$B$50,0),MATCH('Week 7 - Pool'!$A5,'Week 7 - Weekly Picks'!$B$1:$Q$1,0)),"") -> Michigan | P5: =IF($G5="","",IF(O5=$G5,"W","L")) -> W | Q5: =IF(P5="W",$H5,0) -> 1 | R5: =IFERROR(INDEX('Week 7 - Weekly Picks'!$B$1:$Q$50,MATCH('Week 7 - Pool'!R$3,'Week 7 - Weekly Picks'!$B$1:$B$50,0),MATCH('Week 7 - Pool'!$A5,'Week 7 - Weekly Picks'!$B$1:$Q$1,0)),"") -> Penn State | S5: =IF($G5="","",IF(R5=$G5,"W","L")) -> L | T5: =IF(S5="W",$H5,0) -> 0 | U5: =IFERROR(INDEX('Week 7 - Weekly Picks'!$B$1:$Q$50,MATCH('Week 7 - Pool'!U$3,'Week 7 - Weekly Picks'!$B$1:$B$50,0),MATCH('Week 7 - Pool'!$A5,'Week 7 - Weekly Picks'!$B$1:$Q$1,0)),"") -> Michigan | V5: =IF($G5="","",IF(U5=$G5,"W","L")) -> W | W5: =IF(V5="W",$H5,0) -> 1 | X5: =IFERROR(INDEX('Week 7 - Weekly Picks'!$B$1:$Q$50,MATCH('Week 7 - Pool'!X$3,'Week 7 - Weekly Picks'!$B$1:$B$50,0),MATCH('Week 7 - Pool'!$A5,'Week 7 - Weekly Picks'!$B$1:$Q$1,0)),"") -> Michigan | Y5: =IF($G5="","",IF(X5=$G5,"W","L")) -> W | Z5: =IF(Y5="W",$H5,0) -> 1 | AA5: =IFERROR(INDEX('Week 7 - Weekly Picks'!$B$1:$Q$50,MATCH('Week 7 - Pool'!AA$3,'Week 7 - Weekly Picks'!$B$1:$B$50,0),MATCH('Week 7 - Pool'!$A5,'Week 7 - Weekly Picks'!$B$1:$Q$1,0)),"") -> Michigan | AB5: =IF($G5="","",IF(AA5=$G5,"W","L")) -> W | AC5: =IF(AB5="W",$H5,0) -> 1 | AD5: =IFERROR(INDEX('Week 7 - Weekly Picks'!$B$1:$Q$50,MATCH('Week 7 - Pool'!AD$3,'Week 7 - Weekly Picks'!$B$1:$B$50,0),MATCH('Week 7 - Pool'!$A5,'Week 7 - Weekly Picks'!$B$1:$Q$1,0)),"") -> Michigan | AE5: =IF($G5="","",IF(AD5=$G5,"W","L")) -> W | AF5: =IF(AE5="W",$H5,0) -> 1 | AG5: =IFERROR(INDEX('Week 7 - Weekly Picks'!$B$1:$Q$50,MATCH('Week 7 - Pool'!AG$3,'Week 7 - Weekly Picks'!$B$1:$B$50,0),MATCH('Week 7 - Pool'!$A5,'Week 7 - Weekly Picks'!$B$1:$Q$1,0)),"") -> Michigan | AH5: =IF($G5="","",IF(AG5=$G5,"W","L")) -> W | AI5: =IF(AH5="W",$H5,0) -> 1 | AJ5: =IFERROR(INDEX('Week 7 - Weekly Picks'!$B$1:$Q$50,MATCH('Week 7 - Pool'!AJ$3,'Week 7 - Weekly Picks'!$B$1:$B$50,0),MATCH('Week 7 - Pool'!$A5,'Week 7 - Weekly Picks'!$B$1:$Q$1,0)),"") -> Michigan | AK5: =IF($G5="","",IF(AJ5=$G5,"W","L")) -> W | AL5: =IF(AK5="W",$H5,0) -> 1 | AM5: =IFERROR(INDEX('Week 7 - Weekly Picks'!$B$1:$Q$50,MATCH('Week 7 - Pool'!AM$3,'Week 7 - Weekly Picks'!$B$1:$B$50,0),MATCH('Week 7 - Pool'!$A5,'Week 7 - Weekly Picks'!$B$1:$Q$1,0)),"") -> Michigan | AN5: =IF($G5="","",IF(AM5=$G5,"W","L")) -> W | AO5: =IF(AN5="W",$H5,0) -> 1 | AP5: =IFERROR(INDEX('Week 7 - Weekly Picks'!$B$1:$Q$50,MATCH('Week 7 - Pool'!AP$3,'Week 7 - Weekly Picks'!$B$1:$B$50,0),MATCH('Week 7 - Pool'!$A5,'Week 7 - Weekly Picks'!$B$1:$Q$1,0)),"") -> Michigan | AQ5: =IF($G5="","",IF(AP5=$G5,"W","L")) -> W | AR5: =IF(AQ5="W",$H5,0) -> 1 | AS5: =IFERROR(INDEX('Week 7 - Weekly Picks'!$B$1:$Q$50,MATCH('Week 7 - Pool'!AS$3,'Week 7 - Weekly Picks'!$B$1:$B$50,0),MATCH('Week 7 - Pool'!$A5,'Week 7 - Weekly Picks'!$B$1:$Q$1,0)),"") -> Penn State | AT5: =IF($G5="","",IF(AS5=$G5,"W","L")) -> L | AU5: =IF(AT5="W",$H5,0) -> 0 | AV5: =IFERROR(INDEX('Week 7 - Weekly Picks'!$B$1:$Q$50,MATCH('Week 7 - Pool'!AV$3,'Week 7 - Weekly Picks'!$B$1:$B$50,0),MATCH('Week 7 - Pool'!$A5,'Week 7 - Weekly Picks'!$B$1:$Q$1,0)),"") -> Michigan | AW5: =IF($G5="","",IF(AV5=$G5,"W","L")) -> W | AX5: =IF(AW5="W",$H5,0) -> 1 | AY5: =IFERROR(INDEX('Week 7 - Weekly Picks'!$B$1:$Q$50,MATCH('Week 7 - Pool'!AY$3,'Week 7 - Weekly Picks'!$B$1:$B$50,0),MATCH('Week 7 - Pool'!$A5,'Week 7 - Weekly Picks'!$B$1:$Q$1,0)),"") -> Penn State | AZ5: =IF($G5="","",IF(AY5=$G5,"W","L")) -> L | BA5: =IF(AZ5="W",$H5,0) -> 0 | BB5: =IFERROR(INDEX('Week 7 - Weekly Picks'!$B$1:$Q$50,MATCH('Week 7 - Pool'!BB$3,'Week 7 - Weekly Picks'!$B$1:$B$50,0),MATCH('Week 7 - Pool'!$A5,'Week 7 - Weekly Picks'!$B$1:$Q$1,0)),"") -> Penn State | BC5: =IF($G5="","",IF(BB5=$G5,"W","L")) -> L | BD5: =IF(BC5="W",$H5,0) -> 0 | BE5: =IFERROR(INDEX('Week 7 - Weekly Picks'!$B$1:$Q$50,MATCH('Week 7 - Pool'!BE$3,'Week 7 - Weekly Picks'!$B$1:$B$50,0),MATCH('Week 7 - Pool'!$A5,'Week 7 - Weekly Picks'!$B$1:$Q$1,0)),"") -> Michigan | BF5: =IF($G5="","",IF(BE5=$G5,"W","L")) -> W | BG5: =IF(BF5="W",$H5,0) -> 1 | BH5: =IFERROR(INDEX('Week 7 - Weekly Picks'!$B$1:$Q$50,MATCH('Week 7 - Pool'!BH$3,'Week 7 - Weekly Picks'!$B$1:$B$50,0),MATCH('Week 7 - Pool'!$A5,'Week 7 - Weekly Picks'!$B$1:$Q$1,0)),"") -> Michigan | BI5: =IF($G5="","",IF(BH5=$G5,"W","L")) -> W | BJ5: =IF(BI5="W",$H5,0) -> 1 | BK5: =IFERROR(INDEX('Week 7 - Weekly Picks'!$B$1:$Q$50,MATCH('Week 7 - Pool'!BK$3,'Week 7 - Weekly Picks'!$B$1:$B$50,0),MATCH('Week 7 - Pool'!$A5,'Week 7 - Weekly Picks'!$B$1:$Q$1,0)),"") -> Penn State | BL5: =IF($G5="","",IF(BK5=$G5,"W","L")) -> L | BM5: =IF(BL5="W",$H5,0) -> 0 | BN5: =IFERROR(INDEX('Week 7 - Weekly Picks'!$B$1:$Q$50,MATCH('Week 7 - Pool'!BN$3,'Week 7 - Weekly Picks'!$B$1:$B$50,0),MATCH('Week 7 - Pool'!$A5,'Week 7 - Weekly Picks'!$B$1:$Q$1,0)),"") -> Michigan | BO5: =IF($G5="","",IF(BN5=$G5,"W","L")) -> W | BP5: =IF(BO5="W",$H5,0) -> 1 | BQ5: =IFERROR(INDEX('Week 7 - Weekly Picks'!$B$1:$Q$50,MATCH('Week 7 - Pool'!BQ$3,'Week 7 - Weekly Picks'!$B$1:$B$50,0),MATCH('Week 7 - Pool'!$A5,'Week 7 - Weekly Picks'!$B$1:$Q$1,0)),"") -> Penn State | BR5: =IF($G5="","",IF(BQ5=$G5,"W","L")) -> L | BS5: =IF(BR5="W",$H5,0) -> 0 | BT5: =IFERROR(INDEX('Week 7 - Weekly Picks'!$B$1:$Q$50,MATCH('Week 7 - Pool'!BT$3,'Week 7 - Weekly Picks'!$B$1:$B$50,0),MATCH('Week 7 - Pool'!$A5,'Week 7 - Weekly Picks'!$B$1:$Q$1,0)),"") -> Penn State | BU5: =IF($G5="","",IF(BT5=$G5,"W","L")) -> L | BV5: =IF(BU5="W",$H5,0) -> 0 | BW5: =IFERROR(INDEX('Week 7 - Weekly Picks'!$B$1:$Q$50,MATCH('Week 7 - Pool'!BW$3,'Week 7 - Weekly Picks'!$B$1:$B$50,0),MATCH('Week 7 - Pool'!$A5,'Week 7 - Weekly Picks'!$B$1:$Q$1,0)),"") -> Michigan | BX5: =IF($G5="","",IF(BW5=$G5,"W","L")) -> W | BY5: =IF(BX5="W",$H5,0) -> 1 | BZ5: =IFERROR(INDEX('Week 7 - Weekly Picks'!$B$1:$Q$50,MATCH('Week 7 - Pool'!BZ$3,'Week 7 - Weekly Picks'!$B$1:$B$50,0),MATCH('Week 7 - Pool'!$A5,'Week 7 - Weekly Picks'!$B$1:$Q$1,0)),"") -> Michigan | CA5: =IF($G5="","",IF(BZ5=$G5,"W","L")) -> W | CB5: =IF(CA5="W",$H5,0) -> 1 | CC5: =IFERROR(INDEX('Week 7 - Weekly Picks'!$B$1:$Q$50,MATCH('Week 7 - Pool'!CC$3,'Week 7 - Weekly Picks'!$B$1:$B$50,0),MATCH('Week 7 - Pool'!$A5,'Week 7 - Weekly Picks'!$B$1:$Q$1,0)),"") -> Michigan | CD5: =IF($G5="","",IF(CC5=$G5,"W","L")) -> W | CE5: =IF(CD5="W",$H5,0) -> 1 | CF5: =IFERROR(INDEX('Week 7 - Weekly Picks'!$B$1:$Q$50,MATCH('Week 7 - Pool'!CF$3,'Week 7 - Weekly Picks'!$B$1:$B$50,0),MATCH('Week 7 - Pool'!$A5,'Week 7 - Weekly Picks'!$B$1:$Q$1,0)),"") -> Michigan | CG5: =IF($G5="","",IF(CF5=$G5,"W","L")) -> W | CH5: =IF(CG5="W",$H5,0) -> 1 | CI5: =IFERROR(INDEX('Week 7 - Weekly Picks'!$B$1:$Q$50,MATCH('Week 7 - Pool'!CI$3,'Week 7 - Weekly Picks'!$B$1:$B$50,0),MATCH('Week 7 - Pool'!$A5,'Week 7 - Weekly Picks'!$B$1:$Q$1,0)),"") -> Penn State | CJ5: =IF($G5="","",IF(CI5=$G5,"W","L")) -> L | CK5: =IF(CJ5="W",$H5,0) -> 0 | CM5: 2 | CN5: =D5 -> Penn State | CO5: =COUNTIF(I5:CI5,D5) -> 8 | CP5: =F5 -> Michigan | CQ5: =COUNTIF(I5:CI5,F5) -> 19 | CR5: =CO5+CQ5 -> 27
A6: 3 | B6: 46312 | D6: ='Data Setup'!H5 -> Florida | E6: vs. | F6: ='Data Setup'!I5 -> Texas | G6: Florida | H6: 1 | I6: =IFERROR(INDEX('Week 7 - Weekly Picks'!$B$1:$Q$50,MATCH('Week 7 - Pool'!I$3,'Week 7 - Weekly Picks'!$B$1:$B$50,0),MATCH('Week 7 - Pool'!$A6,'Week 7 - Weekly Picks'!$B$1:$Q$1,0)),"") -> Texas | J6: =IF($G6="","",IF(I6=$G6,"W","L")) -> L | K6: =IF(J6="W",$H6,0) -> 0 | L6: =IFERROR(INDEX('Week 7 - Weekly Picks'!$B$1:$Q$50,MATCH('Week 7 - Pool'!L$3,'Week 7 - Weekly Picks'!$B$1:$B$50,0),MATCH('Week 7 - Pool'!$A6,'Week 7 - Weekly Picks'!$B$1:$Q$1,0)),"") -> Texas | M6: =IF($G6="","",IF(L6=$G6,"W","L")) -> L | N6: =IF(M6="W",$H6,0) -> 0 | O6: =IFERROR(INDEX('Week 7 - Weekly Picks'!$B$1:$Q$50,MATCH('Week 7 - Pool'!O$3,'Week 7 - Weekly Picks'!$B$1:$B$50,0),MATCH('Week 7 - Pool'!$A6,'Week 7 - Weekly Picks'!$B$1:$Q$1,0)),"") -> Texas | P6: =IF($G6="","",IF(O6=$G6,"W","L")) -> L | Q6: =IF(P6="W",$H6,0) -> 0 | R6: =IFERROR(INDEX('Week 7 - Weekly Picks'!$B$1:$Q$50,MATCH('Week 7 - Pool'!R$3,'Week 7 - Weekly Picks'!$B$1:$B$50,0),MATCH('Week 7 - Pool'!$A6,'Week 7 - Weekly Picks'!$B$1:$Q$1,0)),"") -> Texas | S6: =IF($G6="","",IF(R6=$G6,"W","L")) -> L | T6: =IF(S6="W",$H6,0) -> 0 | U6: =IFERROR(INDEX('Week 7 - Weekly Picks'!$B$1:$Q$50,MATCH('Week 7 - Pool'!U$3,'Week 7 - Weekly Picks'!$B$1:$B$50,0),MATCH('Week 7 - Pool'!$A6,'Week 7 - Weekly Picks'!$B$1:$Q$1,0)),"") -> Texas | V6: =IF($G6="","",IF(U6=$G6,"W","L")) -> L | W6: =IF(V6="W",$H6,0) -> 0 | X6: =IFERROR(INDEX('Week 7 - Weekly Picks'!$B$1:$Q$50,MATCH('Week 7 - Pool'!X$3,'Week 7 - Weekly Picks'!$B$1:$B$50,0),MATCH('Week 7 - Pool'!$A6,'Week 7 - Weekly Picks'!$B$1:$Q$1,0)),"") -> Texas | Y6: =IF($G6="","",IF(X6=$G6,"W","L")) -> L | Z6: =IF(Y6="W",$H6,0) -> 0 | AA6: =IFERROR(INDEX('Week 7 - Weekly Picks'!$B$1:$Q$50,MATCH('Week 7 - Pool'!AA$3,'Week 7 - Weekly Picks'!$B$1:$B$50,0),MATCH('Week 7 - Pool'!$A6,'Week 7 - Weekly Picks'!$B$1:$Q$1,0)),"") -> Texas | AB6: =IF($G6="","",IF(AA6=$G6,"W","L")) -> L | AC6: =IF(AB6="W",$H6,0) -> 0 | AD6: =IFERROR(INDEX('Week 7 - Weekly Picks'!$B$1:$Q$50,MATCH('Week 7 - Pool'!AD$3,'Week 7 - Weekly Picks'!$B$1:$B$50,0),MATCH('Week 7 - Pool'!$A6,'Week 7 - Weekly Picks'!$B$1:$Q$1,0)),"") -> Texas | AE6: =IF($G6="","",IF(AD6=$G6,"W","L")) -> L | AF6: =IF(AE6="W",$H6,0) -> 0 | AG6: =IFERROR(INDEX('Week 7 - Weekly Picks'!$B$1:$Q$50,MATCH('Week 7 - Pool'!AG$3,'Week 7 - Weekly Picks'!$B$1:$B$50,0),MATCH('Week 7 - Pool'!$A6,'Week 7 - Weekly Picks'!$B$1:$Q$1,0)),"") -> Texas | AH6: =IF($G6="","",IF(AG6=$G6,"W","L")) -> L | AI6: =IF(AH6="W",$H6,0) -> 0 | AJ6: =IFERROR(INDEX('Week 7 - Weekly Picks'!$B$1:$Q$50,MATCH('Week 7 - Pool'!AJ$3,'Week 7 - Weekly Picks'!$B$1:$B$50,0),MATCH('Week 7 - Pool'!$A6,'Week 7 - Weekly Picks'!$B$1:$Q$1,0)),"") -> Texas | AK6: =IF($G6="","",IF(AJ6=$G6,"W","L")) -> L | AL6: =IF(AK6="W",$H6,0) -> 0 | AM6: =IFERROR(INDEX('Week 7 - Weekly Picks'!$B$1:$Q$50,MATCH('Week 7 - Pool'!AM$3,'Week 7 - Weekly Picks'!$B$1:$B$50,0),MATCH('Week 7 - Pool'!$A6,'Week 7 - Weekly Picks'!$B$1:$Q$1,0)),"") -> Florida | AN6: =IF($G6="","",IF(AM6=$G6,"W","L")) -> W | AO6: =IF(AN6="W",$H6,0) -> 1 | AP6: =IFERROR(INDEX('Week 7 - Weekly Picks'!$B$1:$Q$50,MATCH('Week 7 - Pool'!AP$3,'Week 7 - Weekly Picks'!$B$1:$B$50,0),MATCH('Week 7 - Pool'!$A6,'Week 7 - Weekly Picks'!$B$1:$Q$1,0)),"") -> Texas | AQ6: =IF($G6="","",IF(AP6=$G6,"W","L")) -> L | AR6: =IF(AQ6="W",$H6,0) -> 0 | AS6: =IFERROR(INDEX('Week 7 - Weekly Picks'!$B$1:$Q$50,MATCH('Week 7 - Pool'!AS$3,'Week 7 - Weekly Picks'!$B$1:$B$50,0),MATCH('Week 7 - Pool'!$A6,'Week 7 - Weekly Picks'!$B$1:$Q$1,0)),"") -> Texas | AT6: =IF($G6="","",IF(AS6=$G6,"W","L")) -> L | AU6: =IF(AT6="W",$H6,0) -> 0 | AV6: =IFERROR(INDEX('Week 7 - Weekly Picks'!$B$1:$Q$50,MATCH('Week 7 - Pool'!AV$3,'Week 7 - Weekly Picks'!$B$1:$B$50,0),MATCH('Week 7 - Pool'!$A6,'Week 7 - Weekly Picks'!$B$1:$Q$1,0)),"") -> Texas | AW6: =IF($G6="","",IF(AV6=$G6,"W","L")) -> L | AX6: =IF(AW6="W",$H6,0) -> 0 | AY6: =IFERROR(INDEX('Week 7 - Weekly Picks'!$B$1:$Q$50,MATCH('Week 7 - Pool'!AY$3,'Week 7 - Weekly Picks'!$B$1:$B$50,0),MATCH('Week 7 - Pool'!$A6,'Week 7 - Weekly Picks'!$B$1:$Q$1,0)),"") -> Texas | AZ6: =IF($G6="","",IF(AY6=$G6,"W","L")) -> L | BA6: =IF(AZ6="W",$H6,0) -> 0 | BB6: =IFERROR(INDEX('Week 7 - Weekly Picks'!$B$1:$Q$50,MATCH('Week 7 - Pool'!BB$3,'Week 7 - Weekly Picks'!$B$1:$B$50,0),MATCH('Week 7 - Pool'!$A6,'Week 7 - Weekly Picks'!$B$1:$Q$1,0)),"") -> Texas | BC6: =IF($G6="","",IF(BB6=$G6,"W","L")) -> L | BD6: =IF(BC6="W",$H6,0) -> 0 | BE6: =IFERROR(INDEX('Week 7 - Weekly Picks'!$B$1:$Q$50,MATCH('Week 7 - Pool'!BE$3,'Week 7 - Weekly Picks'!$B$1:$B$50,0),MATCH('Week 7 - Pool'!$A6,'Week 7 - Weekly Picks'!$B$1:$Q$1,0)),"") -> Florida | BF6: =IF($G6="","",IF(BE6=$G6,"W","L")) -> W | BG6: =IF(BF6="W",$H6,0) -> 1 | BH6: =IFERROR(INDEX('Week 7 - Weekly Picks'!$B$1:$Q$50,MATCH('Week 7 - Pool'!BH$3,'Week 7 - Weekly Picks'!$B$1:$B$50,0),MATCH('Week 7 - Pool'!$A6,'Week 7 - Weekly Picks'!$B$1:$Q$1,0)),"") -> Texas | BI6: =IF($G6="","",IF(BH6=$G6,"W","L")) -> L | BJ6: =IF(BI6="W",$H6,0) -> 0 | BK6: =IFERROR(INDEX('Week 7 - Weekly Picks'!$B$1:$Q$50,MATCH('Week 7 - Pool'!BK$3,'Week 7 - Weekly Picks'!$B$1:$B$50,0),MATCH('Week 7 - Pool'!$A6,'Week 7 - Weekly Picks'!$B$1:$Q$1,0)),"") -> Texas | BL6: =IF($G6="","",IF(BK6=$G6,"W","L")) -> L | BM6: =IF(BL6="W",$H6,0) -> 0 | BN6: =IFERROR(INDEX('Week 7 - Weekly Picks'!$B$1:$Q$50,MATCH('Week 7 - Pool'!BN$3,'Week 7 - Weekly Picks'!$B$1:$B$50,0),MATCH('Week 7 - Pool'!$A6,'Week 7 - Weekly Picks'!$B$1:$Q$1,0)),"") -> Texas | BO6: =IF($G6="","",IF(BN6=$G6,"W","L")) -> L | BP6: =IF(BO6="W",$H6,0) -> 0 | BQ6: =IFERROR(INDEX('Week 7 - Weekly Picks'!$B$1:$Q$50,MATCH('Week 7 - Pool'!BQ$3,'Week 7 - Weekly Picks'!$B$1:$B$50,0),MATCH('Week 7 - Pool'!$A6,'Week 7 - Weekly Picks'!$B$1:$Q$1,0)),"") -> Texas | BR6: =IF($G6="","",IF(BQ6=$G6,"W","L")) -> L | BS6: =IF(BR6="W",$H6,0) -> 0 | BT6: =IFERROR(INDEX('Week 7 - Weekly Picks'!$B$1:$Q$50,MATCH('Week 7 - Pool'!BT$3,'Week 7 - Weekly Picks'!$B$1:$B$50,0),MATCH('Week 7 - Pool'!$A6,'Week 7 - Weekly Picks'!$B$1:$Q$1,0)),"") -> Texas | BU6: =IF($G6="","",IF(BT6=$G6,"W","L")) -> L | BV6: =IF(BU6="W",$H6,0) -> 0 | BW6: =IFERROR(INDEX('Week 7 - Weekly Picks'!$B$1:$Q$50,MATCH('Week 7 - Pool'!BW$3,'Week 7 - Weekly Picks'!$B$1:$B$50,0),MATCH('Week 7 - Pool'!$A6,'Week 7 - Weekly Picks'!$B$1:$Q$1,0)),"") -> Texas | BX6: =IF($G6="","",IF(BW6=$G6,"W","L")) -> L | BY6: =IF(BX6="W",$H6,0) -> 0 | BZ6: =IFERROR(INDEX('Week 7 - Weekly Picks'!$B$1:$Q$50,MATCH('Week 7 - Pool'!BZ$3,'Week 7 - Weekly Picks'!$B$1:$B$50,0),MATCH('Week 7 - Pool'!$A6,'Week 7 - Weekly Picks'!$B$1:$Q$1,0)),"") -> Texas | CA6: =IF($G6="","",IF(BZ6=$G6,"W","L")) -> L | CB6: =IF(CA6="W",$H6,0) -> 0 | CC6: =IFERROR(INDEX('Week 7 - Weekly Picks'!$B$1:$Q$50,MATCH('Week 7 - Pool'!CC$3,'Week 7 - Weekly Picks'!$B$1:$B$50,0),MATCH('Week 7 - Pool'!$A6,'Week 7 - Weekly Picks'!$B$1:$Q$1,0)),"") -> Texas | CD6: =IF($G6="","",IF(CC6=$G6,"W","L")) -> L | CE6: =IF(CD6="W",$H6,0) -> 0 | CF6: =IFERROR(INDEX('Week 7 - Weekly Picks'!$B$1:$Q$50,MATCH('Week 7 - Pool'!CF$3,'Week 7 - Weekly Picks'!$B$1:$B$50,0),MATCH('Week 7 - Pool'!$A6,'Week 7 - Weekly Picks'!$B$1:$Q$1,0)),"") -> Texas | CG6: =IF($G6="","",IF(CF6=$G6,"W","L")) -> L | CH6: =IF(CG6="W",$H6,0) -> 0 | CI6: =IFERROR(INDEX('Week 7 - Weekly Picks'!$B$1:$Q$50,MATCH('Week 7 - Pool'!CI$3,'Week 7 - Weekly Picks'!$B$1:$B$50,0),MATCH('Week 7 - Pool'!$A6,'Week 7 - Weekly Picks'!$B$1:$Q$1,0)),"") -> Texas | CJ6: =IF($G6="","",IF(CI6=$G6,"W","L")) -> L | CK6: =IF(CJ6="W",$H6,0) -> 0 | CM6: 3 | CN6: =D6 -> Florida | CO6: =COUNTIF(I6:CI6,D6) -> 2 | CP6: =F6 -> Texas | CQ6: =COUNTIF(I6:CI6,F6) -> 25 | CR6: =CO6+CQ6 -> 27
A7: 4 | B7: 46312 | D7: ='Data Setup'!H6 -> Miss State | E7: vs. | F7: ='Data Setup'!I6 -> LSU | G7: LSU | H7: 1 | I7: =IFERROR(INDEX('Week 7 - Weekly Picks'!$B$1:$Q$50,MATCH('Week 7 - Pool'!I$3,'Week 7 - Weekly Picks'!$B$1:$B$50,0),MATCH('Week 7 - Pool'!$A7,'Week 7 - Weekly Picks'!$B$1:$Q$1,0)),"") -> LSU | J7: =IF($G7="","",IF(I7=$G7,"W","L")) -> W | K7: =IF(J7="W",$H7,0) -> 1 | L7: =IFERROR(INDEX('Week 7 - Weekly Picks'!$B$1:$Q$50,MATCH('Week 7 - Pool'!L$3,'Week 7 - Weekly Picks'!$B$1:$B$50,0),MATCH('Week 7 - Pool'!$A7,'Week 7 - Weekly Picks'!$B$1:$Q$1,0)),"") -> LSU | M7: =IF($G7="","",IF(L7=$G7,"W","L")) -> W | N7: =IF(M7="W",$H7,0) -> 1 | O7: =IFERROR(INDEX('Week 7 - Weekly Picks'!$B$1:$Q$50,MATCH('Week 7 - Pool'!O$3,'Week 7 - Weekly Picks'!$B$1:$B$50,0),MATCH('Week 7 - Pool'!$A7,'Week 7 - Weekly Picks'!$B$1:$Q$1,0)),"") -> LSU | P7: =IF($G7="","",IF(O7=$G7,"W","L")) -> W | Q7: =IF(P7="W",$H7,0) -> 1 | R7: =IFERROR(INDEX('Week 7 - Weekly Picks'!$B$1:$Q$50,MATCH('Week 7 - Pool'!R$3,'Week 7 - Weekly Picks'!$B$1:$B$50,0),MATCH('Week 7 - Pool'!$A7,'Week 7 - Weekly Picks'!$B$1:$Q$1,0)),"") -> LSU | S7: =IF($G7="","",IF(R7=$G7,"W","L")) -> W | T7: =IF(S7="W",$H7,0) -> 1 | U7: =IFERROR(INDEX('Week 7 - Weekly Picks'!$B$1:$Q$50,MATCH('Week 7 - Pool'!U$3,'Week 7 - Weekly Picks'!$B$1:$B$50,0),MATCH('Week 7 - Pool'!$A7,'Week 7 - Weekly Picks'!$B$1:$Q$1,0)),"") -> LSU | V7: =IF($G7="","",IF(U7=$G7,"W","L")) -> W | W7: =IF(V7="W",$H7,0) -> 1 | X7: =IFERROR(INDEX('Week 7 - Weekly Picks'!$B$1:$Q$50,MATCH('Week 7 - Pool'!X$3,'Week 7 - Weekly Picks'!$B$1:$B$50,0),MATCH('Week 7 - Pool'!$A7,'Week 7 - Weekly Picks'!$B$1:$Q$1,0)),"") -> LSU | Y7: =IF($G7="","",IF(X7=$G7,"W","L")) -> W | Z7: =IF(Y7="W",$H7,0) -> 1 | AA7: =IFERROR(INDEX('Week 7 - Weekly Picks'!$B$1:$Q$50,MATCH('Week 7 - Pool'!AA$3,'Week 7 - Weekly Picks'!$B$1:$B$50,0),MATCH('Week 7 - Pool'!$A7,'Week 7 - Weekly Picks'!$B$1:$Q$1,0)),"") -> LSU | AB7: =IF($G7="","",IF(AA7=$G7,"W","L")) -> W | AC7: =IF(AB7="W",$H7,0) -> 1 | AD7: =IFERROR(INDEX('Week 7 - Weekly Picks'!$B$1:$Q$50,MATCH('Week 7 - Pool'!AD$3,'Week 7 - Weekly Picks'!$B$1:$B$50,0),MATCH('Week 7 - Pool'!$A7,'Week 7 - Weekly Picks'!$B$1:$Q$1,0)),"") -> Miss State | AE7: =IF($G7="","",IF(AD7=$G7,"W","L")) -> L | AF7: =IF(AE7="W",$H7,0) -> 0 | AG7: =IFERROR(INDEX('Week 7 - Weekly Picks'!$B$1:$Q$50,MATCH('Week 7 - Pool'!AG$3,'Week 7 - Weekly Picks'!$B$1:$B$50,0),MATCH('Week 7 - Pool'!$A7,'Week 7 - Weekly Picks'!$B$1:$Q$1,0)),"") -> LSU | AH7: =IF($G7="","",IF(AG7=$G7,"W","L")) -> W | AI7: =IF(AH7="W",$H7,0) -> 1 | AJ7: =IFERROR(INDEX('Week 7 - Weekly Picks'!$B$1:$Q$50,MATCH('Week 7 - Pool'!AJ$3,'Week 7 - Weekly Picks'!$B$1:$B$50,0),MATCH('Week 7 - Pool'!$A7,'Week 7 - Weekly Picks'!$B$1:$Q$1,0)),"") -> LSU | AK7: =IF($G7="","",IF(AJ7=$G7,"W","L")) -> W | AL7: =IF(AK7="W",$H7,0) -> 1 | AM7: =IFERROR(INDEX('Week 7 - Weekly Picks'!$B$1:$Q$50,MATCH('Week 7 - Pool'!AM$3,'Week 7 - Weekly Picks'!$B$1:$B$50,0),MATCH('Week 7 - Pool'!$A7,'Week 7 - Weekly Picks'!$B$1:$Q$1,0)),"") -> Miss State | AN7: =IF($G7="","",IF(AM7=$G7,"W","L")) -> L | AO7: =IF(AN7="W",$H7,0) -> 0 | AP7: =IFERROR(INDEX('Week 7 - Weekly Picks'!$B$1:$Q$50,MATCH('Week 7 - Pool'!AP$3,'Week 7 - Weekly Picks'!$B$1:$B$50,0),MATCH('Week 7 - Pool'!$A7,'Week 7 - Weekly Picks'!$B$1:$Q$1,0)),"") -> LSU | AQ7: =IF($G7="","",IF(AP7=$G7,"W","L")) -> W | AR7: =IF(AQ7="W",$H7,0) -> 1 | AS7: =IFERROR(INDEX('Week 7 - Weekly Picks'!$B$1:$Q$50,MATCH('Week 7 - Pool'!AS$3,'Week 7 - Weekly Picks'!$B$1:$B$50,0),MATCH('Week 7 - Pool'!$A7,'Week 7 - Weekly Picks'!$B$1:$Q$1,0)),"") -> LSU | AT7: =IF($G7="","",IF(AS7=$G7,"W","L")) -> W | AU7: =IF(AT7="W",$H7,0) -> 1 | AV7: =IFERROR(INDEX('Week 7 - Weekly Picks'!$B$1:$Q$50,MATCH('Week 7 - Pool'!AV$3,'Week 7 - Weekly Picks'!$B$1:$B$50,0),MATCH('Week 7 - Pool'!$A7,'Week 7 - Weekly Picks'!$B$1:$Q$1,0)),"") -> LSU | AW7: =IF($G7="","",IF(AV7=$G7,"W","L")) -> W | AX7: =IF(AW7="W",$H7,0) -> 1 | AY7: =IFERROR(INDEX('Week 7 - Weekly Picks'!$B$1:$Q$50,MATCH('Week 7 - Pool'!AY$3,'Week 7 - Weekly Picks'!$B$1:$B$50,0),MATCH('Week 7 - Pool'!$A7,'Week 7 - Weekly Picks'!$B$1:$Q$1,0)),"") -> LSU | AZ7: =IF($G7="","",IF(AY7=$G7,"W","L")) -> W | BA7: =IF(AZ7="W",$H7,0) -> 1 | BB7: =IFERROR(INDEX('Week 7 - Weekly Picks'!$B$1:$Q$50,MATCH('Week 7 - Pool'!BB$3,'Week 7 - Weekly Picks'!$B$1:$B$50,0),MATCH('Week 7 - Pool'!$A7,'Week 7 - Weekly Picks'!$B$1:$Q$1,0)),"") -> LSU | BC7: =IF($G7="","",IF(BB7=$G7,"W","L")) -> W | BD7: =IF(BC7="W",$H7,0) -> 1 | BE7: =IFERROR(INDEX('Week 7 - Weekly Picks'!$B$1:$Q$50,MATCH('Week 7 - Pool'!BE$3,'Week 7 - Weekly Picks'!$B$1:$B$50,0),MATCH('Week 7 - Pool'!$A7,'Week 7 - Weekly Picks'!$B$1:$Q$1,0)),"") -> Miss State | BF7: =IF($G7="","",IF(BE7=$G7,"W","L")) -> L | BG7: =IF(BF7="W",$H7,0) -> 0 | BH7: =IFERROR(INDEX('Week 7 - Weekly Picks'!$B$1:$Q$50,MATCH('Week 7 - Pool'!BH$3,'Week 7 - Weekly Picks'!$B$1:$B$50,0),MATCH('Week 7 - Pool'!$A7,'Week 7 - Weekly Picks'!$B$1:$Q$1,0)),"") -> LSU | BI7: =IF($G7="","",IF(BH7=$G7,"W","L")) -> W | BJ7: =IF(BI7="W",$H7,0) -> 1 | BK7: =IFERROR(INDEX('Week 7 - Weekly Picks'!$B$1:$Q$50,MATCH('Week 7 - Pool'!BK$3,'Week 7 - Weekly Picks'!$B$1:$B$50,0),MATCH('Week 7 - Pool'!$A7,'Week 7 - Weekly Picks'!$B$1:$Q$1,0)),"") -> LSU | BL7: =IF($G7="","",IF(BK7=$G7,"W","L")) -> W | BM7: =IF(BL7="W",$H7,0) -> 1 | BN7: =IFERROR(INDEX('Week 7 - Weekly Picks'!$B$1:$Q$50,MATCH('Week 7 - Pool'!BN$3,'Week 7 - Weekly Picks'!$B$1:$B$50,0),MATCH('Week 7 - Pool'!$A7,'Week 7 - Weekly Picks'!$B$1:$Q$1,0)),"") -> Miss State | BO7: =IF($G7="","",IF(BN7=$G7,"W","L")) -> L | BP7: =IF(BO7="W",$H7,0) -> 0 | BQ7: =IFERROR(INDEX('Week 7 - Weekly Picks'!$B$1:$Q$50,MATCH('Week 7 - Pool'!BQ$3,'Week 7 - Weekly Picks'!$B$1:$B$50,0),MATCH('Week 7 - Pool'!$A7,'Week 7 - Weekly Picks'!$B$1:$Q$1,0)),"") -> LSU | BR7: =IF($G7="","",IF(BQ7=$G7,"W","L")) -> W | BS7: =IF(BR7="W",$H7,0) -> 1 | BT7: =IFERROR(INDEX('Week 7 - Weekly Picks'!$B$1:$Q$50,MATCH('Week 7 - Pool'!BT$3,'Week 7 - Weekly Picks'!$B$1:$B$50,0),MATCH('Week 7 - Pool'!$A7,'Week 7 - Weekly Picks'!$B$1:$Q$1,0)),"") -> LSU | BU7: =IF($G7="","",IF(BT7=$G7,"W","L")) -> W | BV7: =IF(BU7="W",$H7,0) -> 1 | BW7: =IFERROR(INDEX('Week 7 - Weekly Picks'!$B$1:$Q$50,MATCH('Week 7 - Pool'!BW$3,'Week 7 - Weekly Picks'!$B$1:$B$50,0),MATCH('Week 7 - Pool'!$A7,'Week 7 - Weekly Picks'!$B$1:$Q$1,0)),"") -> LSU | BX7: =IF($G7="","",IF(BW7=$G7,"W","L")) -> W | BY7: =IF(BX7="W",$H7,0) -> 1 | BZ7: =IFERROR(INDEX('Week 7 - Weekly Picks'!$B$1:$Q$50,MATCH('Week 7 - Pool'!BZ$3,'Week 7 - Weekly Picks'!$B$1:$B$50,0),MATCH('Week 7 - Pool'!$A7,'Week 7 - Weekly Picks'!$B$1:$Q$1,0)),"") -> Miss State | CA7: =IF($G7="","",IF(BZ7=$G7,"W","L")) -> L | CB7: =IF(CA7="W",$H7,0) -> 0 | CC7: =IFERROR(INDEX('Week 7 - Weekly Picks'!$B$1:$Q$50,MATCH('Week 7 - Pool'!CC$3,'Week 7 - Weekly Picks'!$B$1:$B$50,0),MATCH('Week 7 - Pool'!$A7,'Week 7 - Weekly Picks'!$B$1:$Q$1,0)),"") -> LSU | CD7: =IF($G7="","",IF(CC7=$G7,"W","L")) -> W | CE7: =IF(CD7="W",$H7,0) -> 1 | CF7: =IFERROR(INDEX('Week 7 - Weekly Picks'!$B$1:$Q$50,MATCH('Week 7 - Pool'!CF$3,'Week 7 - Weekly Picks'!$B$1:$B$50,0),MATCH('Week 7 - Pool'!$A7,'Week 7 - Weekly Picks'!$B$1:$Q$1,0)),"") -> LSU | CG7: =IF($G7="","",IF(CF7=$G7,"W","L")) -> W | CH7: =IF(CG7="W",$H7,0) -> 1 | CI7: =IFERROR(INDEX('Week 7 - Weekly Picks'!$B$1:$Q$50,MATCH('Week 7 - Pool'!CI$3,'Week 7 - Weekly Picks'!$B$1:$B$50,0),MATCH('Week 7 - Pool'!$A7,'Week 7 - Weekly Picks'!$B$1:$Q$1,0)),"") -> Miss State | CJ7: =IF($G7="","",IF(CI7=$G7,"W","L")) -> L | CK7: =IF(CJ7="W",$H7,0) -> 0 | CM7: 4 | CN7: =D7 -> Miss State | CO7: =COUNTIF(I7:CI7,D7) -> 6 | CP7: =F7 -> LSU | CQ7: =COUNTIF(I7:CI7,F7) -> 21 | CR7: =CO7+CQ7 -> 27
A8: 5 | B8: 46312 | D8: ='Data Setup'!H7 -> Virginia | E8: vs. | F8: ='Data Setup'!I7 -> SMU | G8: SMU | H8: 1 | I8: =IFERROR(INDEX('Week 7 - Weekly Picks'!$B$1:$Q$50,MATCH('Week 7 - Pool'!I$3,'Week 7 - Weekly Picks'!$B$1:$B$50,0),MATCH('Week 7 - Pool'!$A8,'Week 7 - Weekly Picks'!$B$1:$Q$1,0)),"") -> SMU | J8: =IF($G8="","",IF(I8=$G8,"W","L")) -> W | K8: =IF(J8="W",$H8,0) -> 1 | L8: =IFERROR(INDEX('Week 7 - Weekly Picks'!$B$1:$Q$50,MATCH('Week 7 - Pool'!L$3,'Week 7 - Weekly Picks'!$B$1:$B$50,0),MATCH('Week 7 - Pool'!$A8,'Week 7 - Weekly Picks'!$B$1:$Q$1,0)),"") -> SMU | M8: =IF($G8="","",IF(L8=$G8,"W","L")) -> W | N8: =IF(M8="W",$H8,0) -> 1 | O8: =IFERROR(INDEX('Week 7 - Weekly Picks'!$B$1:$Q$50,MATCH('Week 7 - Pool'!O$3,'Week 7 - Weekly Picks'!$B$1:$B$50,0),MATCH('Week 7 - Pool'!$A8,'Week 7 - Weekly Picks'!$B$1:$Q$1,0)),"") -> SMU | P8: =IF($G8="","",IF(O8=$G8,"W","L")) -> W | Q8: =IF(P8="W",$H8,0) -> 1 | R8: =IFERROR(INDEX('Week 7 - Weekly Picks'!$B$1:$Q$50,MATCH('Week 7 - Pool'!R$3,'Week 7 - Weekly Picks'!$B$1:$B$50,0),MATCH('Week 7 - Pool'!$A8,'Week 7 - Weekly Picks'!$B$1:$Q$1,0)),"") -> SMU | S8: =IF($G8="","",IF(R8=$G8,"W","L")) -> W | T8: =IF(S8="W",$H8,0) -> 1 | U8: =IFERROR(INDEX('Week 7 - Weekly Picks'!$B$1:$Q$50,MATCH('Week 7 - Pool'!U$3,'Week 7 - Weekly Picks'!$B$1:$B$50,0),MATCH('Week 7 - Pool'!$A8,'Week 7 - Weekly Picks'!$B$1:$Q$1,0)),"") -> SMU | V8: =IF($G8="","",IF(U8=$G8,"W","L")) -> W | W8: =IF(V8="W",$H8,0) -> 1 | X8: =IFERROR(INDEX('Week 7 - Weekly Picks'!$B$1:$Q$50,MATCH('Week 7 - Pool'!X$3,'Week 7 - Weekly Picks'!$B$1:$B$50,0),MATCH('Week 7 - Pool'!$A8,'Week 7 - Weekly Picks'!$B$1:$Q$1,0)),"") -> SMU | Y8: =IF($G8="","",IF(X8=$G8,"W","L")) -> W | Z8: =IF(Y8="W",$H8,0) -> 1 | AA8: =IFERROR(INDEX('Week 7 - Weekly Picks'!$B$1:$Q$50,MATCH('Week 7 - Pool'!AA$3,'Week 7 - Weekly Picks'!$B$1:$B$50,0),MATCH('Week 7 - Pool'!$A8,'Week 7 - Weekly Picks'!$B$1:$Q$1,0)),"") -> SMU | AB8: =IF($G8="","",IF(AA8=$G8,"W","L")) -> W | AC8: =IF(AB8="W",$H8,0) -> 1 | AD8: =IFERROR(INDEX('Week 7 - Weekly Picks'!$B$1:$Q$50,MATCH('Week 7 - Pool'!AD$3,'Week 7 - Weekly Picks'!$B$1:$B$50,0),MATCH('Week 7 - Pool'!$A8,'Week 7 - Weekly Picks'!$B$1:$Q$1,0)),"") -> SMU | AE8: =IF($G8="","",IF(AD8=$G8,"W","L")) -> W | AF8: =IF(AE8="W",$H8,0) -> 1 | AG8: =IFERROR(INDEX('Week 7 - Weekly Picks'!$B$1:$Q$50,MATCH('Week 7 - Pool'!AG$3,'Week 7 - Weekly Picks'!$B$1:$B$50,0),MATCH('Week 7 - Pool'!$A8,'Week 7 - Weekly Picks'!$B$1:$Q$1,0)),"") -> Virginia | AH8: =IF($G8="","",IF(AG8=$G8,"W","L")) -> L | AI8: =IF(AH8="W",$H8,0) -> 0 | AJ8: =IFERROR(INDEX('Week 7 - Weekly Picks'!$B$1:$Q$50,MATCH('Week 7 - Pool'!AJ$3,'Week 7 - Weekly Picks'!$B$1:$B$50,0),MATCH('Week 7 - Pool'!$A8,'Week 7 - Weekly Picks'!$B$1:$Q$1,0)),"") -> SMU | AK8: =IF($G8="","",IF(AJ8=$G8,"W","L")) -> W | AL8: =IF(AK8="W",$H8,0) -> 1 | AM8: =IFERROR(INDEX('Week 7 - Weekly Picks'!$B$1:$Q$50,MATCH('Week 7 - Pool'!AM$3,'Week 7 - Weekly Picks'!$B$1:$B$50,0),MATCH('Week 7 - Pool'!$A8,'Week 7 - Weekly Picks'!$B$1:$Q$1,0)),"") -> SMU | AN8: =IF($G8="","",IF(AM8=$G8,"W","L")) -> W | AO8: =IF(AN8="W",$H8,0) -> 1 | AP8: =IFERROR(INDEX('Week 7 - Weekly Picks'!$B$1:$Q$50,MATCH('Week 7 - Pool'!AP$3,'Week 7 - Weekly Picks'!$B$1:$B$50,0),MATCH('Week 7 - Pool'!$A8,'Week 7 - Weekly Picks'!$B$1:$Q$1,0)),"") -> SMU | AQ8: =IF($G8="","",IF(AP8=$G8,"W","L")) -> W | AR8: =IF(AQ8="W",$H8,0) -> 1 | AS8: =IFERROR(INDEX('Week 7 - Weekly Picks'!$B$1:$Q$50,MATCH('Week 7 - Pool'!AS$3,'Week 7 - Weekly Picks'!$B$1:$B$50,0),MATCH('Week 7 - Pool'!$A8,'Week 7 - Weekly Picks'!$B$1:$Q$1,0)),"") -> SMU | AT8: =IF($G8="","",IF(AS8=$G8,"W","L")) -> W | AU8: =IF(AT8="W",$H8,0) -> 1 | AV8: =IFERROR(INDEX('Week 7 - Weekly Picks'!$B$1:$Q$50,MATCH('Week 7 - Pool'!AV$3,'Week 7 - Weekly Picks'!$B$1:$B$50,0),MATCH('Week 7 - Pool'!$A8,'Week 7 - Weekly Picks'!$B$1:$Q$1,0)),"") -> SMU | AW8: =IF($G8="","",IF(AV8=$G8,"W","L")) -> W | AX8: =IF(AW8="W",$H8,0) -> 1 | AY8: =IFERROR(INDEX('Week 7 - Weekly Picks'!$B$1:$Q$50,MATCH('Week 7 - Pool'!AY$3,'Week 7 - Weekly Picks'!$B$1:$B$50,0),MATCH('Week 7 - Pool'!$A8,'Week 7 - Weekly Picks'!$B$1:$Q$1,0)),"") -> SMU | AZ8: =IF($G8="","",IF(AY8=$G8,"W","L")) -> W | BA8: =IF(AZ8="W",$H8,0) -> 1 | BB8: =IFERROR(INDEX('Week 7 - Weekly Picks'!$B$1:$Q$50,MATCH('Week 7 - Pool'!BB$3,'Week 7 - Weekly Picks'!$B$1:$B$50,0),MATCH('Week 7 - Pool'!$A8,'Week 7 - Weekly Picks'!$B$1:$Q$1,0)),"") -> SMU | BC8: =IF($G8="","",IF(BB8=$G8,"W","L")) -> W | BD8: =IF(BC8="W",$H8,0) -> 1 | BE8: =IFERROR(INDEX('Week 7 - Weekly Picks'!$B$1:$Q$50,MATCH('Week 7 - Pool'!BE$3,'Week 7 - Weekly Picks'!$B$1:$B$50,0),MATCH('Week 7 - Pool'!$A8,'Week 7 - Weekly Picks'!$B$1:$Q$1,0)),"") -> SMU | BF8: =IF($G8="","",IF(BE8=$G8,"W","L")) -> W | BG8: =IF(BF8="W",$H8,0) -> 1 | BH8: =IFERROR(INDEX('Week 7 - Weekly Picks'!$B$1:$Q$50,MATCH('Week 7 - Pool'!BH$3,'Week 7 - Weekly Picks'!$B$1:$B$50,0),MATCH('Week 7 - Pool'!$A8,'Week 7 - Weekly Picks'!$B$1:$Q$1,0)),"") -> SMU | BI8: =IF($G8="","",IF(BH8=$G8,"W","L")) -> W | BJ8: =IF(BI8="W",$H8,0) -> 1 | BK8: =IFERROR(INDEX('Week 7 - Weekly Picks'!$B$1:$Q$50,MATCH('Week 7 - Pool'!BK$3,'Week 7 - Weekly Picks'!$B$1:$B$50,0),MATCH('Week 7 - Pool'!$A8,'Week 7 - Weekly Picks'!$B$1:$Q$1,0)),"") -> SMU | BL8: =IF($G8="","",IF(BK8=$G8,"W","L")) -> W | BM8: =IF(BL8="W",$H8,0) -> 1 | BN8: =IFERROR(INDEX('Week 7 - Weekly Picks'!$B$1:$Q$50,MATCH('Week 7 - Pool'!BN$3,'Week 7 - Weekly Picks'!$B$1:$B$50,0),MATCH('Week 7 - Pool'!$A8,'Week 7 - Weekly Picks'!$B$1:$Q$1,0)),"") -> Virginia | BO8: =IF($G8="","",IF(BN8=$G8,"W","L")) -> L | BP8: =IF(BO8="W",$H8,0) -> 0 | BQ8: =IFERROR(INDEX('Week 7 - Weekly Picks'!$B$1:$Q$50,MATCH('Week 7 - Pool'!BQ$3,'Week 7 - Weekly Picks'!$B$1:$B$50,0),MATCH('Week 7 - Pool'!$A8,'Week 7 - Weekly Picks'!$B$1:$Q$1,0)),"") -> SMU | BR8: =IF($G8="","",IF(BQ8=$G8,"W","L")) -> W | BS8: =IF(BR8="W",$H8,0) -> 1 | BT8: =IFERROR(INDEX('Week 7 - Weekly Picks'!$B$1:$Q$50,MATCH('Week 7 - Pool'!BT$3,'Week 7 - Weekly Picks'!$B$1:$B$50,0),MATCH('Week 7 - Pool'!$A8,'Week 7 - Weekly Picks'!$B$1:$Q$1,0)),"") -> Virginia | BU8: =IF($G8="","",IF(BT8=$G8,"W","L")) -> L | BV8: =IF(BU8="W",$H8,0) -> 0 | BW8: =IFERROR(INDEX('Week 7 - Weekly Picks'!$B$1:$Q$50,MATCH('Week 7 - Pool'!BW$3,'Week 7 - Weekly Picks'!$B$1:$B$50,0),MATCH('Week 7 - Pool'!$A8,'Week 7 - Weekly Picks'!$B$1:$Q$1,0)),"") -> SMU | BX8: =IF($G8="","",IF(BW8=$G8,"W","L")) -> W | BY8: =IF(BX8="W",$H8,0) -> 1 | BZ8: =IFERROR(INDEX('Week 7 - Weekly Picks'!$B$1:$Q$50,MATCH('Week 7 - Pool'!BZ$3,'Week 7 - Weekly Picks'!$B$1:$B$50,0),MATCH('Week 7 - Pool'!$A8,'Week 7 - Weekly Picks'!$B$1:$Q$1,0)),"") -> SMU | CA8: =IF($G8="","",IF(BZ8=$G8,"W","L")) -> W | CB8: =IF(CA8="W",$H8,0) -> 1 | CC8: =IFERROR(INDEX('Week 7 - Weekly Picks'!$B$1:$Q$50,MATCH('Week 7 - Pool'!CC$3,'Week 7 - Weekly Picks'!$B$1:$B$50,0),MATCH('Week 7 - Pool'!$A8,'Week 7 - Weekly Picks'!$B$1:$Q$1,0)),"") -> SMU | CD8: =IF($G8="","",IF(CC8=$G8,"W","L")) -> W | CE8: =IF(CD8="W",$H8,0) -> 1 | CF8: =IFERROR(INDEX('Week 7 - Weekly Picks'!$B$1:$Q$50,MATCH('Week 7 - Pool'!CF$3,'Week 7 - Weekly Picks'!$B$1:$B$50,0),MATCH('Week 7 - Pool'!$A8,'Week 7 - Weekly Picks'!$B$1:$Q$1,0)),"") -> SMU | CG8: =IF($G8="","",IF(CF8=$G8,"W","L")) -> W | CH8: =IF(CG8="W",$H8,0) -> 1 | CI8: =IFERROR(INDEX('Week 7 - Weekly Picks'!$B$1:$Q$50,MATCH('Week 7 - Pool'!CI$3,'Week 7 - Weekly Picks'!$B$1:$B$50,0),MATCH('Week 7 - Pool'!$A8,'Week 7 - Weekly Picks'!$B$1:$Q$1,0)),"") -> SMU | CJ8: =IF($G8="","",IF(CI8=$G8,"W","L")) -> W | CK8: =IF(CJ8="W",$H8,0) -> 1 | CM8: 5 | CN8: =D8 -> Virginia | CO8: =COUNTIF(I8:CI8,D8) -> 3 | CP8: =F8 -> SMU | CQ8: =COUNTIF(I8:CI8,F8) -> 24 | CR8: =CO8+CQ8 -> 27
A9: 6 | B9: 46312 | D9: ='Data Setup'!H8 -> Kansas | E9: vs. | F9: ='Data Setup'!I8 -> K-State | G9: K-State | H9: 1 | I9: =IFERROR(INDEX('Week 7 - Weekly Picks'!$B$1:$Q$50,MATCH('Week 7 - Pool'!I$3,'Week 7 - Weekly Picks'!$B$1:$B$50,0),MATCH('Week 7 - Pool'!$A9,'Week 7 - Weekly Picks'!$B$1:$Q$1,0)),"") -> K-State | J9: =IF($G9="","",IF(I9=$G9,"W","L")) -> W | K9: =IF(J9="W",$H9,0) -> 1 | L9: =IFERROR(INDEX('Week 7 - Weekly Picks'!$B$1:$Q$50,MATCH('Week 7 - Pool'!L$3,'Week 7 - Weekly Picks'!$B$1:$B$50,0),MATCH('Week 7 - Pool'!$A9,'Week 7 - Weekly Picks'!$B$1:$Q$1,0)),"") -> K-State | M9: =IF($G9="","",IF(L9=$G9,"W","L")) -> W | N9: =IF(M9="W",$H9,0) -> 1 | O9: =IFERROR(INDEX('Week 7 - Weekly Picks'!$B$1:$Q$50,MATCH('Week 7 - Pool'!O$3,'Week 7 - Weekly Picks'!$B$1:$B$50,0),MATCH('Week 7 - Pool'!$A9,'Week 7 - Weekly Picks'!$B$1:$Q$1,0)),"") -> K-State | P9: =IF($G9="","",IF(O9=$G9,"W","L")) -> W | Q9: =IF(P9="W",$H9,0) -> 1 | R9: =IFERROR(INDEX('Week 7 - Weekly Picks'!$B$1:$Q$50,MATCH('Week 7 - Pool'!R$3,'Week 7 - Weekly Picks'!$B$1:$B$50,0),MATCH('Week 7 - Pool'!$A9,'Week 7 - Weekly Picks'!$B$1:$Q$1,0)),"") -> K-State | S9: =IF($G9="","",IF(R9=$G9,"W","L")) -> W | T9: =IF(S9="W",$H9,0) -> 1 | U9: =IFERROR(INDEX('Week 7 - Weekly Picks'!$B$1:$Q$50,MATCH('Week 7 - Pool'!U$3,'Week 7 - Weekly Picks'!$B$1:$B$50,0),MATCH('Week 7 - Pool'!$A9,'Week 7 - Weekly Picks'!$B$1:$Q$1,0)),"") -> K-State | V9: =IF($G9="","",IF(U9=$G9,"W","L")) -> W | W9: =IF(V9="W",$H9,0) -> 1 | X9: =IFERROR(INDEX('Week 7 - Weekly Picks'!$B$1:$Q$50,MATCH('Week 7 - Pool'!X$3,'Week 7 - Weekly Picks'!$B$1:$B$50,0),MATCH('Week 7 - Pool'!$A9,'Week 7 - Weekly Picks'!$B$1:$Q$1,0)),"") -> K-State | Y9: =IF($G9="","",IF(X9=$G9,"W","L")) -> W | Z9: =IF(Y9="W",$H9,0) -> 1 | AA9: =IFERROR(INDEX('Week 7 - Weekly Picks'!$B$1:$Q$50,MATCH('Week 7 - Pool'!AA$3,'Week 7 - Weekly Picks'!$B$1:$B$50,0),MATCH('Week 7 - Pool'!$A9,'Week 7 - Weekly Picks'!$B$1:$Q$1,0)),"") -> K-State | AB9: =IF($G9="","",IF(AA9=$G9,"W","L")) -> W | AC9: =IF(AB9="W",$H9,0) -> 1 | AD9: =IFERROR(INDEX('Week 7 - Weekly Picks'!$B$1:$Q$50,MATCH('Week 7 - Pool'!AD$3,'Week 7 - Weekly Picks'!$B$1:$B$50,0),MATCH('Week 7 - Pool'!$A9,'Week 7 - Weekly Picks'!$B$1:$Q$1,0)),"") -> K-State | AE9: =IF($G9="","",IF(AD9=$G9,"W","L")) -> W | AF9: =IF(AE9="W",$H9,0) -> 1 | AG9: =IFERROR(INDEX('Week 7 - Weekly Picks'!$B$1:$Q$50,MATCH('Week 7 - Pool'!AG$3,'Week 7 - Weekly Picks'!$B$1:$B$50,0),MATCH('Week 7 - Pool'!$A9,'Week 7 - Weekly Picks'!$B$1:$Q$1,0)),"") -> K-State | AH9: =IF($G9="","",IF(AG9=$G9,"W","L")) -> W | AI9: =IF(AH9="W",$H9,0) -> 1 | AJ9: =IFERROR(INDEX('Week 7 - Weekly Picks'!$B$1:$Q$50,MATCH('Week 7 - Pool'!AJ$3,'Week 7 - Weekly Picks'!$B$1:$B$50,0),MATCH('Week 7 - Pool'!$A9,'Week 7 - Weekly Picks'!$B$1:$Q$1,0)),"") -> K-State | AK9: =IF($G9="","",IF(AJ9=$G9,"W","L")) -> W | AL9: =IF(AK9="W",$H9,0) -> 1 | AM9: =IFERROR(INDEX('Week 7 - Weekly Picks'!$B$1:$Q$50,MATCH('Week 7 - Pool'!AM$3,'Week 7 - Weekly Picks'!$B$1:$B$50,0),MATCH('Week 7 - Pool'!$A9,'Week 7 - Weekly Picks'!$B$1:$Q$1,0)),"") -> K-State | AN9: =IF($G9="","",IF(AM9=$G9,"W","L")) -> W | AO9: =IF(AN9="W",$H9,0) -> 1 | AP9: =IFERROR(INDEX('Week 7 - Weekly Picks'!$B$1:$Q$50,MATCH('Week 7 - Pool'!AP$3,'Week 7 - Weekly Picks'!$B$1:$B$50,0),MATCH('Week 7 - Pool'!$A9,'Week 7 - Weekly Picks'!$B$1:$Q$1,0)),"") -> K-State | AQ9: =IF($G9="","",IF(AP9=$G9,"W","L")) -> W | AR9: =IF(AQ9="W",$H9,0) -> 1 | AS9: =IFERROR(INDEX('Week 7 - Weekly Picks'!$B$1:$Q$50,MATCH('Week 7 - Pool'!AS$3,'Week 7 - Weekly Picks'!$B$1:$B$50,0),MATCH('Week 7 - Pool'!$A9,'Week 7 - Weekly Picks'!$B$1:$Q$1,0)),"") -> Kansas | AT9: =IF($G9="","",IF(AS9=$G9,"W","L")) -> L | AU9: =IF(AT9="W",$H9,0) -> 0 | AV9: =IFERROR(INDEX('Week 7 - Weekly Picks'!$B$1:$Q$50,MATCH('Week 7 - Pool'!AV$3,'Week 7 - Weekly Picks'!$B$1:$B$50,0),MATCH('Week 7 - Pool'!$A9,'Week 7 - Weekly Picks'!$B$1:$Q$1,0)),"") -> K-State | AW9: =IF($G9="","",IF(AV9=$G9,"W","L")) -> W | AX9: =IF(AW9="W",$H9,0) -> 1 | AY9: =IFERROR(INDEX('Week 7 - Weekly Picks'!$B$1:$Q$50,MATCH('Week 7 - Pool'!AY$3,'Week 7 - Weekly Picks'!$B$1:$B$50,0),MATCH('Week 7 - Pool'!$A9,'Week 7 - Weekly Picks'!$B$1:$Q$1,0)),"") -> K-State | AZ9: =IF($G9="","",IF(AY9=$G9,"W","L")) -> W | BA9: =IF(AZ9="W",$H9,0) -> 1 | BB9: =IFERROR(INDEX('Week 7 - Weekly Picks'!$B$1:$Q$50,MATCH('Week 7 - Pool'!BB$3,'Week 7 - Weekly Picks'!$B$1:$B$50,0),MATCH('Week 7 - Pool'!$A9,'Week 7 - Weekly Picks'!$B$1:$Q$1,0)),"") -> K-State | BC9: =IF($G9="","",IF(BB9=$G9,"W","L")) -> W | BD9: =IF(BC9="W",$H9,0) -> 1 | BE9: =IFERROR(INDEX('Week 7 - Weekly Picks'!$B$1:$Q$50,MATCH('Week 7 - Pool'!BE$3,'Week 7 - Weekly Picks'!$B$1:$B$50,0),MATCH('Week 7 - Pool'!$A9,'Week 7 - Weekly Picks'!$B$1:$Q$1,0)),"") -> K-State | BF9: =IF($G9="","",IF(BE9=$G9,"W","L")) -> W | BG9: =IF(BF9="W",$H9,0) -> 1 | BH9: =IFERROR(INDEX('Week 7 - Weekly Picks'!$B$1:$Q$50,MATCH('Week 7 - Pool'!BH$3,'Week 7 - Weekly Picks'!$B$1:$B$50,0),MATCH('Week 7 - Pool'!$A9,'Week 7 - Weekly Picks'!$B$1:$Q$1,0)),"") -> Kansas | BI9: =IF($G9="","",IF(BH9=$G9,"W","L")) -> L | BJ9: =IF(BI9="W",$H9,0) -> 0 | BK9: =IFERROR(INDEX('Week 7 - Weekly Picks'!$B$1:$Q$50,MATCH('Week 7 - Pool'!BK$3,'Week 7 - Weekly Picks'!$B$1:$B$50,0),MATCH('Week 7 - Pool'!$A9,'Week 7 - Weekly Picks'!$B$1:$Q$1,0)),"") -> K-State | BL9: =IF($G9="","",IF(BK9=$G9,"W","L")) -> W | BM9: =IF(BL9="W",$H9,0) -> 1 | BN9: =IFERROR(INDEX('Week 7 - Weekly Picks'!$B$1:$Q$50,MATCH('Week 7 - Pool'!BN$3,'Week 7 - Weekly Picks'!$B$1:$B$50,0),MATCH('Week 7 - Pool'!$A9,'Week 7 - Weekly Picks'!$B$1:$Q$1,0)),"") -> K-State | BO9: =IF($G9="","",IF(BN9=$G9,"W","L")) -> W | BP9: =IF(BO9="W",$H9,0) -> 1 | BQ9: =IFERROR(INDEX('Week 7 - Weekly Picks'!$B$1:$Q$50,MATCH('Week 7 - Pool'!BQ$3,'Week 7 - Weekly Picks'!$B$1:$B$50,0),MATCH('Week 7 - Pool'!$A9,'Week 7 - Weekly Picks'!$B$1:$Q$1,0)),"") -> K-State | BR9: =IF($G9="","",IF(BQ9=$G9,"W","L")) -> W | BS9: =IF(BR9="W",$H9,0) -> 1 | BT9: =IFERROR(INDEX('Week 7 - Weekly Picks'!$B$1:$Q$50,MATCH('Week 7 - Pool'!BT$3,'Week 7 - Weekly Picks'!$B$1:$B$50,0),MATCH('Week 7 - Pool'!$A9,'Week 7 - Weekly Picks'!$B$1:$Q$1,0)),"") -> Kansas | BU9: =IF($G9="","",IF(BT9=$G9,"W","L")) -> L | BV9: =IF(BU9="W",$H9,0) -> 0 | BW9: =IFERROR(INDEX('Week 7 - Weekly Picks'!$B$1:$Q$50,MATCH('Week 7 - Pool'!BW$3,'Week 7 - Weekly Picks'!$B$1:$B$50,0),MATCH('Week 7 - Pool'!$A9,'Week 7 - Weekly Picks'!$B$1:$Q$1,0)),"") -> K-State | BX9: =IF($G9="","",IF(BW9=$G9,"W","L")) -> W | BY9: =IF(BX9="W",$H9,0) -> 1 | BZ9: =IFERROR(INDEX('Week 7 - Weekly Picks'!$B$1:$Q$50,MATCH('Week 7 - Pool'!BZ$3,'Week 7 - Weekly Picks'!$B$1:$B$50,0),MATCH('Week 7 - Pool'!$A9,'Week 7 - Weekly Picks'!$B$1:$Q$1,0)),"") -> Kansas | CA9: =IF($G9="","",IF(BZ9=$G9,"W","L")) -> L | CB9: =IF(CA9="W",$H9,0) -> 0 | CC9: =IFERROR(INDEX('Week 7 - Weekly Picks'!$B$1:$Q$50,MATCH('Week 7 - Pool'!CC$3,'Week 7 - Weekly Picks'!$B$1:$B$50,0),MATCH('Week 7 - Pool'!$A9,'Week 7 - Weekly Picks'!$B$1:$Q$1,0)),"") -> K-State | CD9: =IF($G9="","",IF(CC9=$G9,"W","L")) -> W | CE9: =IF(CD9="W",$H9,0) -> 1 | CF9: =IFERROR(INDEX('Week 7 - Weekly Picks'!$B$1:$Q$50,MATCH('Week 7 - Pool'!CF$3,'Week 7 - Weekly Picks'!$B$1:$B$50,0),MATCH('Week 7 - Pool'!$A9,'Week 7 - Weekly Picks'!$B$1:$Q$1,0)),"") -> K-State | CG9: =IF($G9="","",IF(CF9=$G9,"W","L")) -> W | CH9: =IF(CG9="W",$H9,0) -> 1 | CI9: =IFERROR(INDEX('Week 7 - Weekly Picks'!$B$1:$Q$50,MATCH('Week 7 - Pool'!CI$3,'Week 7 - Weekly Picks'!$B$1:$B$50,0),MATCH('Week 7 - Pool'!$A9,'Week 7 - Weekly Picks'!$B$1:$Q$1,0)),"") -> K-State | CJ9: =IF($G9="","",IF(CI9=$G9,"W","L")) -> W | CK9: =IF(CJ9="W",$H9,0) -> 1 | CM9: 6 | CN9: =D9 -> Kansas | CO9: =COUNTIF(I9:CI9,D9) -> 4 | CP9: =F9 -> K-State | CQ9: =COUNTIF(I9:CI9,F9) -> 23 | CR9: =CO9+CQ9 -> 27
A10: 7 | B10: 46312 | D10: ='Data Setup'!H9 -> Auburn | E10: vs. | F10: ='Data Setup'!I9 -> Georgia | G10: Auburn | H10: 1 | I10: =IFERROR(INDEX('Week 7 - Weekly Picks'!$B$1:$Q$50,MATCH('Week 7 - Pool'!I$3,'Week 7 - Weekly Picks'!$B$1:$B$50,0),MATCH('Week 7 - Pool'!$A10,'Week 7 - Weekly Picks'!$B$1:$Q$1,0)),"") -> Georgia | J10: =IF($G10="","",IF(I10=$G10,"W","L")) -> L | K10: =IF(J10="W",$H10,0) -> 0 | L10: =IFERROR(INDEX('Week 7 - Weekly Picks'!$B$1:$Q$50,MATCH('Week 7 - Pool'!L$3,'Week 7 - Weekly Picks'!$B$1:$B$50,0),MATCH('Week 7 - Pool'!$A10,'Week 7 - Weekly Picks'!$B$1:$Q$1,0)),"") -> Georgia | M10: =IF($G10="","",IF(L10=$G10,"W","L")) -> L | N10: =IF(M10="W",$H10,0) -> 0 | O10: =IFERROR(INDEX('Week 7 - Weekly Picks'!$B$1:$Q$50,MATCH('Week 7 - Pool'!O$3,'Week 7 - Weekly Picks'!$B$1:$B$50,0),MATCH('Week 7 - Pool'!$A10,'Week 7 - Weekly Picks'!$B$1:$Q$1,0)),"") -> Georgia | P10: =IF($G10="","",IF(O10=$G10,"W","L")) -> L | Q10: =IF(P10="W",$H10,0) -> 0 | R10: =IFERROR(INDEX('Week 7 - Weekly Picks'!$B$1:$Q$50,MATCH('Week 7 - Pool'!R$3,'Week 7 - Weekly Picks'!$B$1:$B$50,0),MATCH('Week 7 - Pool'!$A10,'Week 7 - Weekly Picks'!$B$1:$Q$1,0)),"") -> Georgia | S10: =IF($G10="","",IF(R10=$G10,"W","L")) -> L | T10: =IF(S10="W",$H10,0) -> 0 | U10: =IFERROR(INDEX('Week 7 - Weekly Picks'!$B$1:$Q$50,MATCH('Week 7 - Pool'!U$3,'Week 7 - Weekly Picks'!$B$1:$B$50,0),MATCH('Week 7 - Pool'!$A10,'Week 7 - Weekly Picks'!$B$1:$Q$1,0)),"") -> Georgia | V10: =IF($G10="","",IF(U10=$G10,"W","L")) -> L | W10: =IF(V10="W",$H10,0) -> 0 | X10: =IFERROR(INDEX('Week 7 - Weekly Picks'!$B$1:$Q$50,MATCH('Week 7 - Pool'!X$3,'Week 7 - Weekly Picks'!$B$1:$B$50,0),MATCH('Week 7 - Pool'!$A10,'Week 7 - Weekly Picks'!$B$1:$Q$1,0)),"") -> Georgia | Y10: =IF($G10="","",IF(X10=$G10,"W","L")) -> L | Z10: =IF(Y10="W",$H10,0) -> 0 | AA10: =IFERROR(INDEX('Week 7 - Weekly Picks'!$B$1:$Q$50,MATCH('Week 7 - Pool'!AA$3,'Week 7 - Weekly Picks'!$B$1:$B$50,0),MATCH('Week 7 - Pool'!$A10,'Week 7 - Weekly Picks'!$B$1:$Q$1,0)),"") -> Georgia | AB10: =IF($G10="","",IF(AA10=$G10,"W","L")) -> L | AC10: =IF(AB10="W",$H10,0) -> 0 | AD10: =IFERROR(INDEX('Week 7 - Weekly Picks'!$B$1:$Q$50,MATCH('Week 7 - Pool'!AD$3,'Week 7 - Weekly Picks'!$B$1:$B$50,0),MATCH('Week 7 - Pool'!$A10,'Week 7 - Weekly Picks'!$B$1:$Q$1,0)),"") -> Georgia | AE10: =IF($G10="","",IF(AD10=$G10,"W","L")) -> L | AF10: =IF(AE10="W",$H10,0) -> 0 | AG10: =IFERROR(INDEX('Week 7 - Weekly Picks'!$B$1:$Q$50,MATCH('Week 7 - Pool'!AG$3,'Week 7 - Weekly Picks'!$B$1:$B$50,0),MATCH('Week 7 - Pool'!$A10,'Week 7 - Weekly Picks'!$B$1:$Q$1,0)),"") -> Georgia | AH10: =IF($G10="","",IF(AG10=$G10,"W","L")) -> L | AI10: =IF(AH10="W",$H10,0) -> 0 | AJ10: =IFERROR(INDEX('Week 7 - Weekly Picks'!$B$1:$Q$50,MATCH('Week 7 - Pool'!AJ$3,'Week 7 - Weekly Picks'!$B$1:$B$50,0),MATCH('Week 7 - Pool'!$A10,'Week 7 - Weekly Picks'!$B$1:$Q$1,0)),"") -> Georgia | AK10: =IF($G10="","",IF(AJ10=$G10,"W","L")) -> L | AL10: =IF(AK10="W",$H10,0) -> 0 | AM10: =IFERROR(INDEX('Week 7 - Weekly Picks'!$B$1:$Q$50,MATCH('Week 7 - Pool'!AM$3,'Week 7 - Weekly Picks'!$B$1:$B$50,0),MATCH('Week 7 - Pool'!$A10,'Week 7 - Weekly Picks'!$B$1:$Q$1,0)),"") -> Georgia | AN10: =IF($G10="","",IF(AM10=$G10,"W","L")) -> L | AO10: =IF(AN10="W",$H10,0) -> 0 | AP10: =IFERROR(INDEX('Week 7 - Weekly Picks'!$B$1:$Q$50,MATCH('Week 7 - Pool'!AP$3,'Week 7 - Weekly Picks'!$B$1:$B$50,0),MATCH('Week 7 - Pool'!$A10,'Week 7 - Weekly Picks'!$B$1:$Q$1,0)),"") -> Georgia | AQ10: =IF($G10="","",IF(AP10=$G10,"W","L")) -> L | AR10: =IF(AQ10="W",$H10,0) -> 0 | AS10: =IFERROR(INDEX('Week 7 - Weekly Picks'!$B$1:$Q$50,MATCH('Week 7 - Pool'!AS$3,'Week 7 - Weekly Picks'!$B$1:$B$50,0),MATCH('Week 7 - Pool'!$A10,'Week 7 - Weekly Picks'!$B$1:$Q$1,0)),"") -> Georgia | AT10: =IF($G10="","",IF(AS10=$G10,"W","L")) -> L | AU10: =IF(AT10="W",$H10,0) -> 0 | AV10: =IFERROR(INDEX('Week 7 - Weekly Picks'!$B$1:$Q$50,MATCH('Week 7 - Pool'!AV$3,'Week 7 - Weekly Picks'!$B$1:$B$50,0),MATCH('Week 7 - Pool'!$A10,'Week 7 - Weekly Picks'!$B$1:$Q$1,0)),"") -> Georgia | AW10: =IF($G10="","",IF(AV10=$G10,"W","L")) -> L | AX10: =IF(AW10="W",$H10,0) -> 0 | AY10: =IFERROR(INDEX('Week 7 - Weekly Picks'!$B$1:$Q$50,MATCH('Week 7 - Pool'!AY$3,'Week 7 - Weekly Picks'!$B$1:$B$50,0),MATCH('Week 7 - Pool'!$A10,'Week 7 - Weekly Picks'!$B$1:$Q$1,0)),"") -> Georgia | AZ10: =IF($G10="","",IF(AY10=$G10,"W","L")) -> L | BA10: =IF(AZ10="W",$H10,0) -> 0 | BB10: =IFERROR(INDEX('Week 7 - Weekly Picks'!$B$1:$Q$50,MATCH('Week 7 - Pool'!BB$3,'Week 7 - Weekly Picks'!$B$1:$B$50,0),MATCH('Week 7 - Pool'!$A10,'Week 7 - Weekly Picks'!$B$1:$Q$1,0)),"") -> Georgia | BC10: =IF($G10="","",IF(BB10=$G10,"W","L")) -> L | BD10: =IF(BC10="W",$H10,0) -> 0 | BE10: =IFERROR(INDEX('Week 7 - Weekly Picks'!$B$1:$Q$50,MATCH('Week 7 - Pool'!BE$3,'Week 7 - Weekly Picks'!$B$1:$B$50,0),MATCH('Week 7 - Pool'!$A10,'Week 7 - Weekly Picks'!$B$1:$Q$1,0)),"") -> Georgia | BF10: =IF($G10="","",IF(BE10=$G10,"W","L")) -> L | BG10: =IF(BF10="W",$H10,0) -> 0 | BH10: =IFERROR(INDEX('Week 7 - Weekly Picks'!$B$1:$Q$50,MATCH('Week 7 - Pool'!BH$3,'Week 7 - Weekly Picks'!$B$1:$B$50,0),MATCH('Week 7 - Pool'!$A10,'Week 7 - Weekly Picks'!$B$1:$Q$1,0)),"") -> Georgia | BI10: =IF($G10="","",IF(BH10=$G10,"W","L")) -> L | BJ10: =IF(BI10="W",$H10,0) -> 0 | BK10: =IFERROR(INDEX('Week 7 - Weekly Picks'!$B$1:$Q$50,MATCH('Week 7 - Pool'!BK$3,'Week 7 - Weekly Picks'!$B$1:$B$50,0),MATCH('Week 7 - Pool'!$A10,'Week 7 - Weekly Picks'!$B$1:$Q$1,0)),"") -> Georgia | BL10: =IF($G10="","",IF(BK10=$G10,"W","L")) -> L | BM10: =IF(BL10="W",$H10,0) -> 0 | BN10: =IFERROR(INDEX('Week 7 - Weekly Picks'!$B$1:$Q$50,MATCH('Week 7 - Pool'!BN$3,'Week 7 - Weekly Picks'!$B$1:$B$50,0),MATCH('Week 7 - Pool'!$A10,'Week 7 - Weekly Picks'!$B$1:$Q$1,0)),"") -> Georgia | BO10: =IF($G10="","",IF(BN10=$G10,"W","L")) -> L | BP10: =IF(BO10="W",$H10,0) -> 0 | BQ10: =IFERROR(INDEX('Week 7 - Weekly Picks'!$B$1:$Q$50,MATCH('Week 7 - Pool'!BQ$3,'Week 7 - Weekly Picks'!$B$1:$B$50,0),MATCH('Week 7 - Pool'!$A10,'Week 7 - Weekly Picks'!$B$1:$Q$1,0)),"") -> Georgia | BR10: =IF($G10="","",IF(BQ10=$G10,"W","L")) -> L | BS10: =IF(BR10="W",$H10,0) -> 0 | BT10: =IFERROR(INDEX('Week 7 - Weekly Picks'!$B$1:$Q$50,MATCH('Week 7 - Pool'!BT$3,'Week 7 - Weekly Picks'!$B$1:$B$50,0),MATCH('Week 7 - Pool'!$A10,'Week 7 - Weekly Picks'!$B$1:$Q$1,0)),"") -> Georgia | BU10: =IF($G10="","",IF(BT10=$G10,"W","L")) -> L | BV10: =IF(BU10="W",$H10,0) -> 0 | BW10: =IFERROR(INDEX('Week 7 - Weekly Picks'!$B$1:$Q$50,MATCH('Week 7 - Pool'!BW$3,'Week 7 - Weekly Picks'!$B$1:$B$50,0),MATCH('Week 7 - Pool'!$A10,'Week 7 - Weekly Picks'!$B$1:$Q$1,0)),"") -> Georgia | BX10: =IF($G10="","",IF(BW10=$G10,"W","L")) -> L | BY10: =IF(BX10="W",$H10,0) -> 0 | BZ10: =IFERROR(INDEX('Week 7 - Weekly Picks'!$B$1:$Q$50,MATCH('Week 7 - Pool'!BZ$3,'Week 7 - Weekly Picks'!$B$1:$B$50,0),MATCH('Week 7 - Pool'!$A10,'Week 7 - Weekly Picks'!$B$1:$Q$1,0)),"") -> Georgia | CA10: =IF($G10="","",IF(BZ10=$G10,"W","L")) -> L | CB10: =IF(CA10="W",$H10,0) -> 0 | CC10: =IFERROR(INDEX('Week 7 - Weekly Picks'!$B$1:$Q$50,MATCH('Week 7 - Pool'!CC$3,'Week 7 - Weekly Picks'!$B$1:$B$50,0),MATCH('Week 7 - Pool'!$A10,'Week 7 - Weekly Picks'!$B$1:$Q$1,0)),"") -> Georgia | CD10: =IF($G10="","",IF(CC10=$G10,"W","L")) -> L | CE10: =IF(CD10="W",$H10,0) -> 0 | CF10: =IFERROR(INDEX('Week 7 - Weekly Picks'!$B$1:$Q$50,MATCH('Week 7 - Pool'!CF$3,'Week 7 - Weekly Picks'!$B$1:$B$50,0),MATCH('Week 7 - Pool'!$A10,'Week 7 - Weekly Picks'!$B$1:$Q$1,0)),"") -> Georgia | CG10: =IF($G10="","",IF(CF10=$G10,"W","L")) -> L | CH10: =IF(CG10="W",$H10,0) -> 0 | CI10: =IFERROR(INDEX('Week 7 - Weekly Picks'!$B$1:$Q$50,MATCH('Week 7 - Pool'!CI$3,'Week 7 - Weekly Picks'!$B$1:$B$50,0),MATCH('Week 7 - Pool'!$A10,'Week 7 - Weekly Picks'!$B$1:$Q$1,0)),"") -> Georgia | CJ10: =IF($G10="","",IF(CI10=$G10,"W","L")) -> L | CK10: =IF(CJ10="W",$H10,0) -> 0 | CM10: 7 | CN10: =D10 -> Auburn | CO10: =COUNTIF(I10:CI10,D10) -> 0 | CP10: =F10 -> Georgia | CQ10: =COUNTIF(I10:CI10,F10) -> 27 | CR10: =CO10+CQ10 -> 27
A11: 8 | B11: 46312 | D11: ='Data Setup'!H10 -> Mizzou | E11: vs. | F11: ='Data Setup'!I10 -> Ole Miss | G11: Ole Miss | H11: 1 | I11: =IFERROR(INDEX('Week 7 - Weekly Picks'!$B$1:$Q$50,MATCH('Week 7 - Pool'!I$3,'Week 7 - Weekly Picks'!$B$1:$B$50,0),MATCH('Week 7 - Pool'!$A11,'Week 7 - Weekly Picks'!$B$1:$Q$1,0)),"") -> Ole Miss | J11: =IF($G11="","",IF(I11=$G11,"W","L")) -> W | K11: =IF(J11="W",$H11,0) -> 1 | L11: =IFERROR(INDEX('Week 7 - Weekly Picks'!$B$1:$Q$50,MATCH('Week 7 - Pool'!L$3,'Week 7 - Weekly Picks'!$B$1:$B$50,0),MATCH('Week 7 - Pool'!$A11,'Week 7 - Weekly Picks'!$B$1:$Q$1,0)),"") -> Ole Miss | M11: =IF($G11="","",IF(L11=$G11,"W","L")) -> W | N11: =IF(M11="W",$H11,0) -> 1 | O11: =IFERROR(INDEX('Week 7 - Weekly Picks'!$B$1:$Q$50,MATCH('Week 7 - Pool'!O$3,'Week 7 - Weekly Picks'!$B$1:$B$50,0),MATCH('Week 7 - Pool'!$A11,'Week 7 - Weekly Picks'!$B$1:$Q$1,0)),"") -> Ole Miss | P11: =IF($G11="","",IF(O11=$G11,"W","L")) -> W | Q11: =IF(P11="W",$H11,0) -> 1 | R11: =IFERROR(INDEX('Week 7 - Weekly Picks'!$B$1:$Q$50,MATCH('Week 7 - Pool'!R$3,'Week 7 - Weekly Picks'!$B$1:$B$50,0),MATCH('Week 7 - Pool'!$A11,'Week 7 - Weekly Picks'!$B$1:$Q$1,0)),"") -> Ole Miss | S11: =IF($G11="","",IF(R11=$G11,"W","L")) -> W | T11: =IF(S11="W",$H11,0) -> 1 | U11: =IFERROR(INDEX('Week 7 - Weekly Picks'!$B$1:$Q$50,MATCH('Week 7 - Pool'!U$3,'Week 7 - Weekly Picks'!$B$1:$B$50,0),MATCH('Week 7 - Pool'!$A11,'Week 7 - Weekly Picks'!$B$1:$Q$1,0)),"") -> Ole Miss | V11: =IF($G11="","",IF(U11=$G11,"W","L")) -> W | W11: =IF(V11="W",$H11,0) -> 1 | X11: =IFERROR(INDEX('Week 7 - Weekly Picks'!$B$1:$Q$50,MATCH('Week 7 - Pool'!X$3,'Week 7 - Weekly Picks'!$B$1:$B$50,0),MATCH('Week 7 - Pool'!$A11,'Week 7 - Weekly Picks'!$B$1:$Q$1,0)),"") -> Ole Miss | Y11: =IF($G11="","",IF(X11=$G11,"W","L")) -> W | Z11: =IF(Y11="W",$H11,0) -> 1 | AA11: =IFERROR(INDEX('Week 7 - Weekly Picks'!$B$1:$Q$50,MATCH('Week 7 - Pool'!AA$3,'Week 7 - Weekly Picks'!$B$1:$B$50,0),MATCH('Week 7 - Pool'!$A11,'Week 7 - Weekly Picks'!$B$1:$Q$1,0)),"") -> Ole Miss | AB11: =IF($G11="","",IF(AA11=$G11,"W","L")) -> W | AC11: =IF(AB11="W",$H11,0) -> 1 | AD11: =IFERROR(INDEX('Week 7 - Weekly Picks'!$B$1:$Q$50,MATCH('Week 7 - Pool'!AD$3,'Week 7 - Weekly Picks'!$B$1:$B$50,0),MATCH('Week 7 - Pool'!$A11,'Week 7 - Weekly Picks'!$B$1:$Q$1,0)),"") -> Ole Miss | AE11: =IF($G11="","",IF(AD11=$G11,"W","L")) -> W | AF11: =IF(AE11="W",$H11,0) -> 1 | AG11: =IFERROR(INDEX('Week 7 - Weekly Picks'!$B$1:$Q$50,MATCH('Week 7 - Pool'!AG$3,'Week 7 - Weekly Picks'!$B$1:$B$50,0),MATCH('Week 7 - Pool'!$A11,'Week 7 - Weekly Picks'!$B$1:$Q$1,0)),"") -> Ole Miss | AH11: =IF($G11="","",IF(AG11=$G11,"W","L")) -> W | AI11: =IF(AH11="W",$H11,0) -> 1 | AJ11: =IFERROR(INDEX('Week 7 - Weekly Picks'!$B$1:$Q$50,MATCH('Week 7 - Pool'!AJ$3,'Week 7 - Weekly Picks'!$B$1:$B$50,0),MATCH('Week 7 - Pool'!$A11,'Week 7 - Weekly Picks'!$B$1:$Q$1,0)),"") -> Ole Miss | AK11: =IF($G11="","",IF(AJ11=$G11,"W","L")) -> W | AL11: =IF(AK11="W",$H11,0) -> 1 | AM11: =IFERROR(INDEX('Week 7 - Weekly Picks'!$B$1:$Q$50,MATCH('Week 7 - Pool'!AM$3,'Week 7 - Weekly Picks'!$B$1:$B$50,0),MATCH('Week 7 - Pool'!$A11,'Week 7 - Weekly Picks'!$B$1:$Q$1,0)),"") -> Mizzou | AN11: =IF($G11="","",IF(AM11=$G11,"W","L")) -> L | AO11: =IF(AN11="W",$H11,0) -> 0 | AP11: =IFERROR(INDEX('Week 7 - Weekly Picks'!$B$1:$Q$50,MATCH('Week 7 - Pool'!AP$3,'Week 7 - Weekly Picks'!$B$1:$B$50,0),MATCH('Week 7 - Pool'!$A11,'Week 7 - Weekly Picks'!$B$1:$Q$1,0)),"") -> Ole Miss | AQ11: =IF($G11="","",IF(AP11=$G11,"W","L")) -> W | AR11: =IF(AQ11="W",$H11,0) -> 1 | AS11: =IFERROR(INDEX('Week 7 - Weekly Picks'!$B$1:$Q$50,MATCH('Week 7 - Pool'!AS$3,'Week 7 - Weekly Picks'!$B$1:$B$50,0),MATCH('Week 7 - Pool'!$A11,'Week 7 - Weekly Picks'!$B$1:$Q$1,0)),"") -> Ole Miss | AT11: =IF($G11="","",IF(AS11=$G11,"W","L")) -> W | AU11: =IF(AT11="W",$H11,0) -> 1 | AV11: =IFERROR(INDEX('Week 7 - Weekly Picks'!$B$1:$Q$50,MATCH('Week 7 - Pool'!AV$3,'Week 7 - Weekly Picks'!$B$1:$B$50,0),MATCH('Week 7 - Pool'!$A11,'Week 7 - Weekly Picks'!$B$1:$Q$1,0)),"") -> Ole Miss | AW11: =IF($G11="","",IF(AV11=$G11,"W","L")) -> W | AX11: =IF(AW11="W",$H11,0) -> 1 | AY11: =IFERROR(INDEX('Week 7 - Weekly Picks'!$B$1:$Q$50,MATCH('Week 7 - Pool'!AY$3,'Week 7 - Weekly Picks'!$B$1:$B$50,0),MATCH('Week 7 - Pool'!$A11,'Week 7 - Weekly Picks'!$B$1:$Q$1,0)),"") -> Mizzou | AZ11: =IF($G11="","",IF(AY11=$G11,"W","L")) -> L | BA11: =IF(AZ11="W",$H11,0) -> 0 | BB11: =IFERROR(INDEX('Week 7 - Weekly Picks'!$B$1:$Q$50,MATCH('Week 7 - Pool'!BB$3,'Week 7 - Weekly Picks'!$B$1:$B$50,0),MATCH('Week 7 - Pool'!$A11,'Week 7 - Weekly Picks'!$B$1:$Q$1,0)),"") -> Ole Miss | BC11: =IF($G11="","",IF(BB11=$G11,"W","L")) -> W | BD11: =IF(BC11="W",$H11,0) -> 1 | BE11: =IFERROR(INDEX('Week 7 - Weekly Picks'!$B$1:$Q$50,MATCH('Week 7 - Pool'!BE$3,'Week 7 - Weekly Picks'!$B$1:$B$50,0),MATCH('Week 7 - Pool'!$A11,'Week 7 - Weekly Picks'!$B$1:$Q$1,0)),"") -> Mizzou | BF11: =IF($G11="","",IF(BE11=$G11,"W","L")) -> L | BG11: =IF(BF11="W",$H11,0) -> 0 | BH11: =IFERROR(INDEX('Week 7 - Weekly Picks'!$B$1:$Q$50,MATCH('Week 7 - Pool'!BH$3,'Week 7 - Weekly Picks'!$B$1:$B$50,0),MATCH('Week 7 - Pool'!$A11,'Week 7 - Weekly Picks'!$B$1:$Q$1,0)),"") -> Mizzou | BI11: =IF($G11="","",IF(BH11=$G11,"W","L")) -> L | BJ11: =IF(BI11="W",$H11,0) -> 0 | BK11: =IFERROR(INDEX('Week 7 - Weekly Picks'!$B$1:$Q$50,MATCH('Week 7 - Pool'!BK$3,'Week 7 - Weekly Picks'!$B$1:$B$50,0),MATCH('Week 7 - Pool'!$A11,'Week 7 - Weekly Picks'!$B$1:$Q$1,0)),"") -> Mizzou | BL11: =IF($G11="","",IF(BK11=$G11,"W","L")) -> L | BM11: =IF(BL11="W",$H11,0) -> 0 | BN11: =IFERROR(INDEX('Week 7 - Weekly Picks'!$B$1:$Q$50,MATCH('Week 7 - Pool'!BN$3,'Week 7 - Weekly Picks'!$B$1:$B$50,0),MATCH('Week 7 - Pool'!$A11,'Week 7 - Weekly Picks'!$B$1:$Q$1,0)),"") -> Mizzou | BO11: =IF($G11="","",IF(BN11=$G11,"W","L")) -> L | BP11: =IF(BO11="W",$H11,0) -> 0 | BQ11: =IFERROR(INDEX('Week 7 - Weekly Picks'!$B$1:$Q$50,MATCH('Week 7 - Pool'!BQ$3,'Week 7 - Weekly Picks'!$B$1:$B$50,0),MATCH('Week 7 - Pool'!$A11,'Week 7 - Weekly Picks'!$B$1:$Q$1,0)),"") -> Ole Miss | BR11: =IF($G11="","",IF(BQ11=$G11,"W","L")) -> W | BS11: =IF(BR11="W",$H11,0) -> 1 | BT11: =IFERROR(INDEX('Week 7 - Weekly Picks'!$B$1:$Q$50,MATCH('Week 7 - Pool'!BT$3,'Week 7 - Weekly Picks'!$B$1:$B$50,0),MATCH('Week 7 - Pool'!$A11,'Week 7 - Weekly Picks'!$B$1:$Q$1,0)),"") -> Ole Miss | BU11: =IF($G11="","",IF(BT11=$G11,"W","L")) -> W | BV11: =IF(BU11="W",$H11,0) -> 1 | BW11: =IFERROR(INDEX('Week 7 - Weekly Picks'!$B$1:$Q$50,MATCH('Week 7 - Pool'!BW$3,'Week 7 - Weekly Picks'!$B$1:$B$50,0),MATCH('Week 7 - Pool'!$A11,'Week 7 - Weekly Picks'!$B$1:$Q$1,0)),"") -> Ole Miss | BX11: =IF($G11="","",IF(BW11=$G11,"W","L")) -> W | BY11: =IF(BX11="W",$H11,0) -> 1 | BZ11: =IFERROR(INDEX('Week 7 - Weekly Picks'!$B$1:$Q$50,MATCH('Week 7 - Pool'!BZ$3,'Week 7 - Weekly Picks'!$B$1:$B$50,0),MATCH('Week 7 - Pool'!$A11,'Week 7 - Weekly Picks'!$B$1:$Q$1,0)),"") -> Ole Miss | CA11: =IF($G11="","",IF(BZ11=$G11,"W","L")) -> W | CB11: =IF(CA11="W",$H11,0) -> 1 | CC11: =IFERROR(INDEX('Week 7 - Weekly Picks'!$B$1:$Q$50,MATCH('Week 7 - Pool'!CC$3,'Week 7 - Weekly Picks'!$B$1:$B$50,0),MATCH('Week 7 - Pool'!$A11,'Week 7 - Weekly Picks'!$B$1:$Q$1,0)),"") -> Ole Miss | CD11: =IF($G11="","",IF(CC11=$G11,"W","L")) -> W | CE11: =IF(CD11="W",$H11,0) -> 1 | CF11: =IFERROR(INDEX('Week 7 - Weekly Picks'!$B$1:$Q$50,MATCH('Week 7 - Pool'!CF$3,'Week 7 - Weekly Picks'!$B$1:$B$50,0),MATCH('Week 7 - Pool'!$A11,'Week 7 - Weekly Picks'!$B$1:$Q$1,0)),"") -> Ole Miss | CG11: =IF($G11="","",IF(CF11=$G11,"W","L")) -> W | CH11: =IF(CG11="W",$H11,0) -> 1 | CI11: =IFERROR(INDEX('Week 7 - Weekly Picks'!$B$1:$Q$50,MATCH('Week 7 - Pool'!CI$3,'Week 7 - Weekly Picks'!$B$1:$B$50,0),MATCH('Week 7 - Pool'!$A11,'Week 7 - Weekly Picks'!$B$1:$Q$1,0)),"") -> Mizzou | CJ11: =IF($G11="","",IF(CI11=$G11,"W","L")) -> L | CK11: =IF(CJ11="W",$H11,0) -> 0 | CM11: 8 | CN11: =D11 -> Mizzou | CO11: =COUNTIF(I11:CI11,D11) -> 7 | CP11: =F11 -> Ole Miss | CQ11: =COUNTIF(I11:CI11,F11) -> 20 | CR11: =CO11+CQ11 -> 27
A12: 9 | B12: 46312 | D12: ='Data Setup'!H11 -> Wisconsin | E12: vs. | F12: ='Data Setup'!I11 -> UCLA | G12: UCLA | H12: 1 | I12: =IFERROR(INDEX('Week 7 - Weekly Picks'!$B$1:$Q$50,MATCH('Week 7 - Pool'!I$3,'Week 7 - Weekly Picks'!$B$1:$B$50,0),MATCH('Week 7 - Pool'!$A12,'Week 7 - Weekly Picks'!$B$1:$Q$1,0)),"") -> UCLA | J12: =IF($G12="","",IF(I12=$G12,"W","L")) -> W | K12: =IF(J12="W",$H12,0) -> 1 | L12: =IFERROR(INDEX('Week 7 - Weekly Picks'!$B$1:$Q$50,MATCH('Week 7 - Pool'!L$3,'Week 7 - Weekly Picks'!$B$1:$B$50,0),MATCH('Week 7 - Pool'!$A12,'Week 7 - Weekly Picks'!$B$1:$Q$1,0)),"") -> UCLA | M12: =IF($G12="","",IF(L12=$G12,"W","L")) -> W | N12: =IF(M12="W",$H12,0) -> 1 | O12: =IFERROR(INDEX('Week 7 - Weekly Picks'!$B$1:$Q$50,MATCH('Week 7 - Pool'!O$3,'Week 7 - Weekly Picks'!$B$1:$B$50,0),MATCH('Week 7 - Pool'!$A12,'Week 7 - Weekly Picks'!$B$1:$Q$1,0)),"") -> UCLA | P12: =IF($G12="","",IF(O12=$G12,"W","L")) -> W | Q12: =IF(P12="W",$H12,0) -> 1 | R12: =IFERROR(INDEX('Week 7 - Weekly Picks'!$B$1:$Q$50,MATCH('Week 7 - Pool'!R$3,'Week 7 - Weekly Picks'!$B$1:$B$50,0),MATCH('Week 7 - Pool'!$A12,'Week 7 - Weekly Picks'!$B$1:$Q$1,0)),"") -> Wisconsin | S12: =IF($G12="","",IF(R12=$G12,"W","L")) -> L | T12: =IF(S12="W",$H12,0) -> 0 | U12: =IFERROR(INDEX('Week 7 - Weekly Picks'!$B$1:$Q$50,MATCH('Week 7 - Pool'!U$3,'Week 7 - Weekly Picks'!$B$1:$B$50,0),MATCH('Week 7 - Pool'!$A12,'Week 7 - Weekly Picks'!$B$1:$Q$1,0)),"") -> UCLA | V12: =IF($G12="","",IF(U12=$G12,"W","L")) -> W | W12: =IF(V12="W",$H12,0) -> 1 | X12: =IFERROR(INDEX('Week 7 - Weekly Picks'!$B$1:$Q$50,MATCH('Week 7 - Pool'!X$3,'Week 7 - Weekly Picks'!$B$1:$B$50,0),MATCH('Week 7 - Pool'!$A12,'Week 7 - Weekly Picks'!$B$1:$Q$1,0)),"") -> UCLA | Y12: =IF($G12="","",IF(X12=$G12,"W","L")) -> W | Z12: =IF(Y12="W",$H12,0) -> 1 | AA12: =IFERROR(INDEX('Week 7 - Weekly Picks'!$B$1:$Q$50,MATCH('Week 7 - Pool'!AA$3,'Week 7 - Weekly Picks'!$B$1:$B$50,0),MATCH('Week 7 - Pool'!$A12,'Week 7 - Weekly Picks'!$B$1:$Q$1,0)),"") -> UCLA | AB12: =IF($G12="","",IF(AA12=$G12,"W","L")) -> W | AC12: =IF(AB12="W",$H12,0) -> 1 | AD12: =IFERROR(INDEX('Week 7 - Weekly Picks'!$B$1:$Q$50,MATCH('Week 7 - Pool'!AD$3,'Week 7 - Weekly Picks'!$B$1:$B$50,0),MATCH('Week 7 - Pool'!$A12,'Week 7 - Weekly Picks'!$B$1:$Q$1,0)),"") -> UCLA | AE12: =IF($G12="","",IF(AD12=$G12,"W","L")) -> W | AF12: =IF(AE12="W",$H12,0) -> 1 | AG12: =IFERROR(INDEX('Week 7 - Weekly Picks'!$B$1:$Q$50,MATCH('Week 7 - Pool'!AG$3,'Week 7 - Weekly Picks'!$B$1:$B$50,0),MATCH('Week 7 - Pool'!$A12,'Week 7 - Weekly Picks'!$B$1:$Q$1,0)),"") -> UCLA | AH12: =IF($G12="","",IF(AG12=$G12,"W","L")) -> W | AI12: =IF(AH12="W",$H12,0) -> 1 | AJ12: =IFERROR(INDEX('Week 7 - Weekly Picks'!$B$1:$Q$50,MATCH('Week 7 - Pool'!AJ$3,'Week 7 - Weekly Picks'!$B$1:$B$50,0),MATCH('Week 7 - Pool'!$A12,'Week 7 - Weekly Picks'!$B$1:$Q$1,0)),"") -> Wisconsin | AK12: =IF($G12="","",IF(AJ12=$G12,"W","L")) -> L | AL12: =IF(AK12="W",$H12,0) -> 0 | AM12: =IFERROR(INDEX('Week 7 - Weekly Picks'!$B$1:$Q$50,MATCH('Week 7 - Pool'!AM$3,'Week 7 - Weekly Picks'!$B$1:$B$50,0),MATCH('Week 7 - Pool'!$A12,'Week 7 - Weekly Picks'!$B$1:$Q$1,0)),"") -> UCLA | AN12: =IF($G12="","",IF(AM12=$G12,"W","L")) -> W | AO12: =IF(AN12="W",$H12,0) -> 1 | AP12: =IFERROR(INDEX('Week 7 - Weekly Picks'!$B$1:$Q$50,MATCH('Week 7 - Pool'!AP$3,'Week 7 - Weekly Picks'!$B$1:$B$50,0),MATCH('Week 7 - Pool'!$A12,'Week 7 - Weekly Picks'!$B$1:$Q$1,0)),"") -> UCLA | AQ12: =IF($G12="","",IF(AP12=$G12,"W","L")) -> W | AR12: =IF(AQ12="W",$H12,0) -> 1 | AS12: =IFERROR(INDEX('Week 7 - Weekly Picks'!$B$1:$Q$50,MATCH('Week 7 - Pool'!AS$3,'Week 7 - Weekly Picks'!$B$1:$B$50,0),MATCH('Week 7 - Pool'!$A12,'Week 7 - Weekly Picks'!$B$1:$Q$1,0)),"") -> UCLA | AT12: =IF($G12="","",IF(AS12=$G12,"W","L")) -> W | AU12: =IF(AT12="W",$H12,0) -> 1 | AV12: =IFERROR(INDEX('Week 7 - Weekly Picks'!$B$1:$Q$50,MATCH('Week 7 - Pool'!AV$3,'Week 7 - Weekly Picks'!$B$1:$B$50,0),MATCH('Week 7 - Pool'!$A12,'Week 7 - Weekly Picks'!$B$1:$Q$1,0)),"") -> Wisconsin | AW12: =IF($G12="","",IF(AV12=$G12,"W","L")) -> L | AX12: =IF(AW12="W",$H12,0) -> 0 | AY12: =IFERROR(INDEX('Week 7 - Weekly Picks'!$B$1:$Q$50,MATCH('Week 7 - Pool'!AY$3,'Week 7 - Weekly Picks'!$B$1:$B$50,0),MATCH('Week 7 - Pool'!$A12,'Week 7 - Weekly Picks'!$B$1:$Q$1,0)),"") -> UCLA | AZ12: =IF($G12="","",IF(AY12=$G12,"W","L")) -> W | BA12: =IF(AZ12="W",$H12,0) -> 1 | BB12: =IFERROR(INDEX('Week 7 - Weekly Picks'!$B$1:$Q$50,MATCH('Week 7 - Pool'!BB$3,'Week 7 - Weekly Picks'!$B$1:$B$50,0),MATCH('Week 7 - Pool'!$A12,'Week 7 - Weekly Picks'!$B$1:$Q$1,0)),"") -> UCLA | BC12: =IF($G12="","",IF(BB12=$G12,"W","L")) -> W | BD12: =IF(BC12="W",$H12,0) -> 1 | BE12: =IFERROR(INDEX('Week 7 - Weekly Picks'!$B$1:$Q$50,MATCH('Week 7 - Pool'!BE$3,'Week 7 - Weekly Picks'!$B$1:$B$50,0),MATCH('Week 7 - Pool'!$A12,'Week 7 - Weekly Picks'!$B$1:$Q$1,0)),"") -> UCLA | BF12: =IF($G12="","",IF(BE12=$G12,"W","L")) -> W | BG12: =IF(BF12="W",$H12,0) -> 1 | BH12: =IFERROR(INDEX('Week 7 - Weekly Picks'!$B$1:$Q$50,MATCH('Week 7 - Pool'!BH$3,'Week 7 - Weekly Picks'!$B$1:$B$50,0),MATCH('Week 7 - Pool'!$A12,'Week 7 - Weekly Picks'!$B$1:$Q$1,0)),"") -> UCLA | BI12: =IF($G12="","",IF(BH12=$G12,"W","L")) -> W | BJ12: =IF(BI12="W",$H12,0) -> 1 | BK12: =IFERROR(INDEX('Week 7 - Weekly Picks'!$B$1:$Q$50,MATCH('Week 7 - Pool'!BK$3,'Week 7 - Weekly Picks'!$B$1:$B$50,0),MATCH('Week 7 - Pool'!$A12,'Week 7 - Weekly Picks'!$B$1:$Q$1,0)),"") -> UCLA | BL12: =IF($G12="","",IF(BK12=$G12,"W","L")) -> W | BM12: =IF(BL12="W",$H12,0) -> 1 | BN12: =IFERROR(INDEX('Week 7 - Weekly Picks'!$B$1:$Q$50,MATCH('Week 7 - Pool'!BN$3,'Week 7 - Weekly Picks'!$B$1:$B$50,0),MATCH('Week 7 - Pool'!$A12,'Week 7 - Weekly Picks'!$B$1:$Q$1,0)),"") -> UCLA | BO12: =IF($G12="","",IF(BN12=$G12,"W","L")) -> W | BP12: =IF(BO12="W",$H12,0) -> 1 | BQ12: =IFERROR(INDEX('Week 7 - Weekly Picks'!$B$1:$Q$50,MATCH('Week 7 - Pool'!BQ$3,'Week 7 - Weekly Picks'!$B$1:$B$50,0),MATCH('Week 7 - Pool'!$A12,'Week 7 - Weekly Picks'!$B$1:$Q$1,0)),"") -> UCLA | BR12: =IF($G12="","",IF(BQ12=$G12,"W","L")) -> W | BS12: =IF(BR12="W",$H12,0) -> 1 | BT12: =IFERROR(INDEX('Week 7 - Weekly Picks'!$B$1:$Q$50,MATCH('Week 7 - Pool'!BT$3,'Week 7 - Weekly Picks'!$B$1:$B$50,0),MATCH('Week 7 - Pool'!$A12,'Week 7 - Weekly Picks'!$B$1:$Q$1,0)),"") -> Wisconsin | BU12: =IF($G12="","",IF(BT12=$G12,"W","L")) -> L | BV12: =IF(BU12="W",$H12,0) -> 0 | BW12: =IFERROR(INDEX('Week 7 - Weekly Picks'!$B$1:$Q$50,MATCH('Week 7 - Pool'!BW$3,'Week 7 - Weekly Picks'!$B$1:$B$50,0),MATCH('Week 7 - Pool'!$A12,'Week 7 - Weekly Picks'!$B$1:$Q$1,0)),"") -> UCLA | BX12: =IF($G12="","",IF(BW12=$G12,"W","L")) -> W | BY12: =IF(BX12="W",$H12,0) -> 1 | BZ12: =IFERROR(INDEX('Week 7 - Weekly Picks'!$B$1:$Q$50,MATCH('Week 7 - Pool'!BZ$3,'Week 7 - Weekly Picks'!$B$1:$B$50,0),MATCH('Week 7 - Pool'!$A12,'Week 7 - Weekly Picks'!$B$1:$Q$1,0)),"") -> UCLA | CA12: =IF($G12="","",IF(BZ12=$G12,"W","L")) -> W | CB12: =IF(CA12="W",$H12,0) -> 1 | CC12: =IFERROR(INDEX('Week 7 - Weekly Picks'!$B$1:$Q$50,MATCH('Week 7 - Pool'!CC$3,'Week 7 - Weekly Picks'!$B$1:$B$50,0),MATCH('Week 7 - Pool'!$A12,'Week 7 - Weekly Picks'!$B$1:$Q$1,0)),"") -> UCLA | CD12: =IF($G12="","",IF(CC12=$G12,"W","L")) -> W | CE12: =IF(CD12="W",$H12,0) -> 1 | CF12: =IFERROR(INDEX('Week 7 - Weekly Picks'!$B$1:$Q$50,MATCH('Week 7 - Pool'!CF$3,'Week 7 - Weekly Picks'!$B$1:$B$50,0),MATCH('Week 7 - Pool'!$A12,'Week 7 - Weekly Picks'!$B$1:$Q$1,0)),"") -> UCLA | CG12: =IF($G12="","",IF(CF12=$G12,"W","L")) -> W | CH12: =IF(CG12="W",$H12,0) -> 1 | CI12: =IFERROR(INDEX('Week 7 - Weekly Picks'!$B$1:$Q$50,MATCH('Week 7 - Pool'!CI$3,'Week 7 - Weekly Picks'!$B$1:$B$50,0),MATCH('Week 7 - Pool'!$A12,'Week 7 - Weekly Picks'!$B$1:$Q$1,0)),"") -> UCLA | CJ12: =IF($G12="","",IF(CI12=$G12,"W","L")) -> W | CK12: =IF(CJ12="W",$H12,0) -> 1 | CM12: 9 | CN12: =D12 -> Wisconsin | CO12: =COUNTIF(I12:CI12,D12) -> 4 | CP12: =F12 -> UCLA | CQ12: =COUNTIF(I12:CI12,F12) -> 23 | CR12: =CO12+CQ12 -> 27
A13: 10 | B13: 46312 | D13: ='Data Setup'!H12 -> Kentucky | E13: vs. | F13: ='Data Setup'!I12 -> OU | G13: Kentucky | H13: 1 | I13: =IFERROR(INDEX('Week 7 - Weekly Picks'!$B$1:$Q$50,MATCH('Week 7 - Pool'!I$3,'Week 7 - Weekly Picks'!$B$1:$B$50,0),MATCH('Week 7 - Pool'!$A13,'Week 7 - Weekly Picks'!$B$1:$Q$1,0)),"") -> OU | J13: =IF($G13="","",IF(I13=$G13,"W","L")) -> L | K13: =IF(J13="W",$H13,0) -> 0 | L13: =IFERROR(INDEX('Week 7 - Weekly Picks'!$B$1:$Q$50,MATCH('Week 7 - Pool'!L$3,'Week 7 - Weekly Picks'!$B$1:$B$50,0),MATCH('Week 7 - Pool'!$A13,'Week 7 - Weekly Picks'!$B$1:$Q$1,0)),"") -> Kentucky | M13: =IF($G13="","",IF(L13=$G13,"W","L")) -> W | N13: =IF(M13="W",$H13,0) -> 1 | O13: =IFERROR(INDEX('Week 7 - Weekly Picks'!$B$1:$Q$50,MATCH('Week 7 - Pool'!O$3,'Week 7 - Weekly Picks'!$B$1:$B$50,0),MATCH('Week 7 - Pool'!$A13,'Week 7 - Weekly Picks'!$B$1:$Q$1,0)),"") -> OU | P13: =IF($G13="","",IF(O13=$G13,"W","L")) -> L | Q13: =IF(P13="W",$H13,0) -> 0 | R13: =IFERROR(INDEX('Week 7 - Weekly Picks'!$B$1:$Q$50,MATCH('Week 7 - Pool'!R$3,'Week 7 - Weekly Picks'!$B$1:$B$50,0),MATCH('Week 7 - Pool'!$A13,'Week 7 - Weekly Picks'!$B$1:$Q$1,0)),"") -> Kentucky | S13: =IF($G13="","",IF(R13=$G13,"W","L")) -> W | T13: =IF(S13="W",$H13,0) -> 1 | U13: =IFERROR(INDEX('Week 7 - Weekly Picks'!$B$1:$Q$50,MATCH('Week 7 - Pool'!U$3,'Week 7 - Weekly Picks'!$B$1:$B$50,0),MATCH('Week 7 - Pool'!$A13,'Week 7 - Weekly Picks'!$B$1:$Q$1,0)),"") -> Kentucky | V13: =IF($G13="","",IF(U13=$G13,"W","L")) -> W | W13: =IF(V13="W",$H13,0) -> 1 | X13: =IFERROR(INDEX('Week 7 - Weekly Picks'!$B$1:$Q$50,MATCH('Week 7 - Pool'!X$3,'Week 7 - Weekly Picks'!$B$1:$B$50,0),MATCH('Week 7 - Pool'!$A13,'Week 7 - Weekly Picks'!$B$1:$Q$1,0)),"") -> Kentucky | Y13: =IF($G13="","",IF(X13=$G13,"W","L")) -> W | Z13: =IF(Y13="W",$H13,0) -> 1 | AA13: =IFERROR(INDEX('Week 7 - Weekly Picks'!$B$1:$Q$50,MATCH('Week 7 - Pool'!AA$3,'Week 7 - Weekly Picks'!$B$1:$B$50,0),MATCH('Week 7 - Pool'!$A13,'Week 7 - Weekly Picks'!$B$1:$Q$1,0)),"") -> Kentucky | AB13: =IF($G13="","",IF(AA13=$G13,"W","L")) -> W | AC13: =IF(AB13="W",$H13,0) -> 1 | AD13: =IFERROR(INDEX('Week 7 - Weekly Picks'!$B$1:$Q$50,MATCH('Week 7 - Pool'!AD$3,'Week 7 - Weekly Picks'!$B$1:$B$50,0),MATCH('Week 7 - Pool'!$A13,'Week 7 - Weekly Picks'!$B$1:$Q$1,0)),"") -> Kentucky | AE13: =IF($G13="","",IF(AD13=$G13,"W","L")) -> W | AF13: =IF(AE13="W",$H13,0) -> 1 | AG13: =IFERROR(INDEX('Week 7 - Weekly Picks'!$B$1:$Q$50,MATCH('Week 7 - Pool'!AG$3,'Week 7 - Weekly Picks'!$B$1:$B$50,0),MATCH('Week 7 - Pool'!$A13,'Week 7 - Weekly Picks'!$B$1:$Q$1,0)),"") -> Kentucky | AH13: =IF($G13="","",IF(AG13=$G13,"W","L")) -> W | AI13: =IF(AH13="W",$H13,0) -> 1 | AJ13: =IFERROR(INDEX('Week 7 - Weekly Picks'!$B$1:$Q$50,MATCH('Week 7 - Pool'!AJ$3,'Week 7 - Weekly Picks'!$B$1:$B$50,0),MATCH('Week 7 - Pool'!$A13,'Week 7 - Weekly Picks'!$B$1:$Q$1,0)),"") -> OU | AK13: =IF($G13="","",IF(AJ13=$G13,"W","L")) -> L | AL13: =IF(AK13="W",$H13,0) -> 0 | AM13: =IFERROR(INDEX('Week 7 - Weekly Picks'!$B$1:$Q$50,MATCH('Week 7 - Pool'!AM$3,'Week 7 - Weekly Picks'!$B$1:$B$50,0),MATCH('Week 7 - Pool'!$A13,'Week 7 - Weekly Picks'!$B$1:$Q$1,0)),"") -> Kentucky | AN13: =IF($G13="","",IF(AM13=$G13,"W","L")) -> W | AO13: =IF(AN13="W",$H13,0) -> 1 | AP13: =IFERROR(INDEX('Week 7 - Weekly Picks'!$B$1:$Q$50,MATCH('Week 7 - Pool'!AP$3,'Week 7 - Weekly Picks'!$B$1:$B$50,0),MATCH('Week 7 - Pool'!$A13,'Week 7 - Weekly Picks'!$B$1:$Q$1,0)),"") -> Kentucky | AQ13: =IF($G13="","",IF(AP13=$G13,"W","L")) -> W | AR13: =IF(AQ13="W",$H13,0) -> 1 | AS13: =IFERROR(INDEX('Week 7 - Weekly Picks'!$B$1:$Q$50,MATCH('Week 7 - Pool'!AS$3,'Week 7 - Weekly Picks'!$B$1:$B$50,0),MATCH('Week 7 - Pool'!$A13,'Week 7 - Weekly Picks'!$B$1:$Q$1,0)),"") -> Kentucky | AT13: =IF($G13="","",IF(AS13=$G13,"W","L")) -> W | AU13: =IF(AT13="W",$H13,0) -> 1 | AV13: =IFERROR(INDEX('Week 7 - Weekly Picks'!$B$1:$Q$50,MATCH('Week 7 - Pool'!AV$3,'Week 7 - Weekly Picks'!$B$1:$B$50,0),MATCH('Week 7 - Pool'!$A13,'Week 7 - Weekly Picks'!$B$1:$Q$1,0)),"") -> OU | AW13: =IF($G13="","",IF(AV13=$G13,"W","L")) -> L | AX13: =IF(AW13="W",$H13,0) -> 0 | AY13: =IFERROR(INDEX('Week 7 - Weekly Picks'!$B$1:$Q$50,MATCH('Week 7 - Pool'!AY$3,'Week 7 - Weekly Picks'!$B$1:$B$50,0),MATCH('Week 7 - Pool'!$A13,'Week 7 - Weekly Picks'!$B$1:$Q$1,0)),"") -> Kentucky | AZ13: =IF($G13="","",IF(AY13=$G13,"W","L")) -> W | BA13: =IF(AZ13="W",$H13,0) -> 1 | BB13: =IFERROR(INDEX('Week 7 - Weekly Picks'!$B$1:$Q$50,MATCH('Week 7 - Pool'!BB$3,'Week 7 - Weekly Picks'!$B$1:$B$50,0),MATCH('Week 7 - Pool'!$A13,'Week 7 - Weekly Picks'!$B$1:$Q$1,0)),"") -> Kentucky | BC13: =IF($G13="","",IF(BB13=$G13,"W","L")) -> W | BD13: =IF(BC13="W",$H13,0) -> 1 | BE13: =IFERROR(INDEX('Week 7 - Weekly Picks'!$B$1:$Q$50,MATCH('Week 7 - Pool'!BE$3,'Week 7 - Weekly Picks'!$B$1:$B$50,0),MATCH('Week 7 - Pool'!$A13,'Week 7 - Weekly Picks'!$B$1:$Q$1,0)),"") -> Kentucky | BF13: =IF($G13="","",IF(BE13=$G13,"W","L")) -> W | BG13: =IF(BF13="W",$H13,0) -> 1 | BH13: =IFERROR(INDEX('Week 7 - Weekly Picks'!$B$1:$Q$50,MATCH('Week 7 - Pool'!BH$3,'Week 7 - Weekly Picks'!$B$1:$B$50,0),MATCH('Week 7 - Pool'!$A13,'Week 7 - Weekly Picks'!$B$1:$Q$1,0)),"") -> Kentucky | BI13: =IF($G13="","",IF(BH13=$G13,"W","L")) -> W | BJ13: =IF(BI13="W",$H13,0) -> 1 | BK13: =IFERROR(INDEX('Week 7 - Weekly Picks'!$B$1:$Q$50,MATCH('Week 7 - Pool'!BK$3,'Week 7 - Weekly Picks'!$B$1:$B$50,0),MATCH('Week 7 - Pool'!$A13,'Week 7 - Weekly Picks'!$B$1:$Q$1,0)),"") -> Kentucky | BL13: =IF($G13="","",IF(BK13=$G13,"W","L")) -> W | BM13: =IF(BL13="W",$H13,0) -> 1 | BN13: =IFERROR(INDEX('Week 7 - Weekly Picks'!$B$1:$Q$50,MATCH('Week 7 - Pool'!BN$3,'Week 7 - Weekly Picks'!$B$1:$B$50,0),MATCH('Week 7 - Pool'!$A13,'Week 7 - Weekly Picks'!$B$1:$Q$1,0)),"") -> Kentucky | BO13: =IF($G13="","",IF(BN13=$G13,"W","L")) -> W | BP13: =IF(BO13="W",$H13,0) -> 1 | BQ13: =IFERROR(INDEX('Week 7 - Weekly Picks'!$B$1:$Q$50,MATCH('Week 7 - Pool'!BQ$3,'Week 7 - Weekly Picks'!$B$1:$B$50,0),MATCH('Week 7 - Pool'!$A13,'Week 7 - Weekly Picks'!$B$1:$Q$1,0)),"") -> Kentucky | BR13: =IF($G13="","",IF(BQ13=$G13,"W","L")) -> W | BS13: =IF(BR13="W",$H13,0) -> 1 | BT13: =IFERROR(INDEX('Week 7 - Weekly Picks'!$B$1:$Q$50,MATCH('Week 7 - Pool'!BT$3,'Week 7 - Weekly Picks'!$B$1:$B$50,0),MATCH('Week 7 - Pool'!$A13,'Week 7 - Weekly Picks'!$B$1:$Q$1,0)),"") -> Kentucky | BU13: =IF($G13="","",IF(BT13=$G13,"W","L")) -> W | BV13: =IF(BU13="W",$H13,0) -> 1 | BW13: =IFERROR(INDEX('Week 7 - Weekly Picks'!$B$1:$Q$50,MATCH('Week 7 - Pool'!BW$3,'Week 7 - Weekly Picks'!$B$1:$B$50,0),MATCH('Week 7 - Pool'!$A13,'Week 7 - Weekly Picks'!$B$1:$Q$1,0)),"") -> Kentucky | BX13: =IF($G13="","",IF(BW13=$G13,"W","L")) -> W | BY13: =IF(BX13="W",$H13,0) -> 1 | BZ13: =IFERROR(INDEX('Week 7 - Weekly Picks'!$B$1:$Q$50,MATCH('Week 7 - Pool'!BZ$3,'Week 7 - Weekly Picks'!$B$1:$B$50,0),MATCH('Week 7 - Pool'!$A13,'Week 7 - Weekly Picks'!$B$1:$Q$1,0)),"") -> Kentucky | CA13: =IF($G13="","",IF(BZ13=$G13,"W","L")) -> W | CB13: =IF(CA13="W",$H13,0) -> 1 | CC13: =IFERROR(INDEX('Week 7 - Weekly Picks'!$B$1:$Q$50,MATCH('Week 7 - Pool'!CC$3,'Week 7 - Weekly Picks'!$B$1:$B$50,0),MATCH('Week 7 - Pool'!$A13,'Week 7 - Weekly Picks'!$B$1:$Q$1,0)),"") -> Kentucky | CD13: =IF($G13="","",IF(CC13=$G13,"W","L")) -> W | CE13: =IF(CD13="W",$H13,0) -> 1 | CF13: =IFERROR(INDEX('Week 7 - Weekly Picks'!$B$1:$Q$50,MATCH('Week 7 - Pool'!CF$3,'Week 7 - Weekly Picks'!$B$1:$B$50,0),MATCH('Week 7 - Pool'!$A13,'Week 7 - Weekly Picks'!$B$1:$Q$1,0)),"") -> OU | CG13: =IF($G13="","",IF(CF13=$G13,"W","L")) -> L | CH13: =IF(CG13="W",$H13,0) -> 0 | CI13: =IFERROR(INDEX('Week 7 - Weekly Picks'!$B$1:$Q$50,MATCH('Week 7 - Pool'!CI$3,'Week 7 - Weekly Picks'!$B$1:$B$50,0),MATCH('Week 7 - Pool'!$A13,'Week 7 - Weekly Picks'!$B$1:$Q$1,0)),"") -> Kentucky | CJ13: =IF($G13="","",IF(CI13=$G13,"W","L")) -> W | CK13: =IF(CJ13="W",$H13,0) -> 1 | CM13: 10 | CN13: =D13 -> Kentucky | CO13: =COUNTIF(I13:CI13,D13) -> 22 | CP13: =F13 -> OU | CQ13: =COUNTIF(I13:CI13,F13) -> 5 | CR13: =CO13+CQ13 -> 27
A14: 11 | B14: 46312 | D14: ='Data Setup'!H13 -> OK State | E14: vs. | F14: ='Data Setup'!I13 -> Hou | G14: Hou | H14: 1 | I14: =IFERROR(INDEX('Week 7 - Weekly Picks'!$B$1:$Q$50,MATCH('Week 7 - Pool'!I$3,'Week 7 - Weekly Picks'!$B$1:$B$50,0),MATCH('Week 7 - Pool'!$A14,'Week 7 - Weekly Picks'!$B$1:$Q$1,0)),"") -> Hou | J14: =IF($G14="","",IF(I14=$G14,"W","L")) -> W | K14: =IF(J14="W",$H14,0) -> 1 | L14: =IFERROR(INDEX('Week 7 - Weekly Picks'!$B$1:$Q$50,MATCH('Week 7 - Pool'!L$3,'Week 7 - Weekly Picks'!$B$1:$B$50,0),MATCH('Week 7 - Pool'!$A14,'Week 7 - Weekly Picks'!$B$1:$Q$1,0)),"") -> Hou | M14: =IF($G14="","",IF(L14=$G14,"W","L")) -> W | N14: =IF(M14="W",$H14,0) -> 1 | O14: =IFERROR(INDEX('Week 7 - Weekly Picks'!$B$1:$Q$50,MATCH('Week 7 - Pool'!O$3,'Week 7 - Weekly Picks'!$B$1:$B$50,0),MATCH('Week 7 - Pool'!$A14,'Week 7 - Weekly Picks'!$B$1:$Q$1,0)),"") -> Ok State | P14: =IF($G14="","",IF(O14=$G14,"W","L")) -> L | Q14: =IF(P14="W",$H14,0) -> 0 | R14: =IFERROR(INDEX('Week 7 - Weekly Picks'!$B$1:$Q$50,MATCH('Week 7 - Pool'!R$3,'Week 7 - Weekly Picks'!$B$1:$B$50,0),MATCH('Week 7 - Pool'!$A14,'Week 7 - Weekly Picks'!$B$1:$Q$1,0)),"") -> Hou | S14: =IF($G14="","",IF(R14=$G14,"W","L")) -> W | T14: =IF(S14="W",$H14,0) -> 1 | U14: =IFERROR(INDEX('Week 7 - Weekly Picks'!$B$1:$Q$50,MATCH('Week 7 - Pool'!U$3,'Week 7 - Weekly Picks'!$B$1:$B$50,0),MATCH('Week 7 - Pool'!$A14,'Week 7 - Weekly Picks'!$B$1:$Q$1,0)),"") -> Hou | V14: =IF($G14="","",IF(U14=$G14,"W","L")) -> W | W14: =IF(V14="W",$H14,0) -> 1 | X14: =IFERROR(INDEX('Week 7 - Weekly Picks'!$B$1:$Q$50,MATCH('Week 7 - Pool'!X$3,'Week 7 - Weekly Picks'!$B$1:$B$50,0),MATCH('Week 7 - Pool'!$A14,'Week 7 - Weekly Picks'!$B$1:$Q$1,0)),"") -> Ok State | Y14: =IF($G14="","",IF(X14=$G14,"W","L")) -> L | Z14: =IF(Y14="W",$H14,0) -> 0 | AA14: =IFERROR(INDEX('Week 7 - Weekly Picks'!$B$1:$Q$50,MATCH('Week 7 - Pool'!AA$3,'Week 7 - Weekly Picks'!$B$1:$B$50,0),MATCH('Week 7 - Pool'!$A14,'Week 7 - Weekly Picks'!$B$1:$Q$1,0)),"") -> Ok State | AB14: =IF($G14="","",IF(AA14=$G14,"W","L")) -> L | AC14: =IF(AB14="W",$H14,0) -> 0 | AD14: =IFERROR(INDEX('Week 7 - Weekly Picks'!$B$1:$Q$50,MATCH('Week 7 - Pool'!AD$3,'Week 7 - Weekly Picks'!$B$1:$B$50,0),MATCH('Week 7 - Pool'!$A14,'Week 7 - Weekly Picks'!$B$1:$Q$1,0)),"") -> Hou | AE14: =IF($G14="","",IF(AD14=$G14,"W","L")) -> W | AF14: =IF(AE14="W",$H14,0) -> 1 | AG14: =IFERROR(INDEX('Week 7 - Weekly Picks'!$B$1:$Q$50,MATCH('Week 7 - Pool'!AG$3,'Week 7 - Weekly Picks'!$B$1:$B$50,0),MATCH('Week 7 - Pool'!$A14,'Week 7 - Weekly Picks'!$B$1:$Q$1,0)),"") -> Ok State | AH14: =IF($G14="","",IF(AG14=$G14,"W","L")) -> L | AI14: =IF(AH14="W",$H14,0) -> 0 | AJ14: =IFERROR(INDEX('Week 7 - Weekly Picks'!$B$1:$Q$50,MATCH('Week 7 - Pool'!AJ$3,'Week 7 - Weekly Picks'!$B$1:$B$50,0),MATCH('Week 7 - Pool'!$A14,'Week 7 - Weekly Picks'!$B$1:$Q$1,0)),"") -> Hou | AK14: =IF($G14="","",IF(AJ14=$G14,"W","L")) -> W | AL14: =IF(AK14="W",$H14,0) -> 1 | AM14: =IFERROR(INDEX('Week 7 - Weekly Picks'!$B$1:$Q$50,MATCH('Week 7 - Pool'!AM$3,'Week 7 - Weekly Picks'!$B$1:$B$50,0),MATCH('Week 7 - Pool'!$A14,'Week 7 - Weekly Picks'!$B$1:$Q$1,0)),"") -> Hou | AN14: =IF($G14="","",IF(AM14=$G14,"W","L")) -> W | AO14: =IF(AN14="W",$H14,0) -> 1 | AP14: =IFERROR(INDEX('Week 7 - Weekly Picks'!$B$1:$Q$50,MATCH('Week 7 - Pool'!AP$3,'Week 7 - Weekly Picks'!$B$1:$B$50,0),MATCH('Week 7 - Pool'!$A14,'Week 7 - Weekly Picks'!$B$1:$Q$1,0)),"") -> Hou | AQ14: =IF($G14="","",IF(AP14=$G14,"W","L")) -> W | AR14: =IF(AQ14="W",$H14,0) -> 1 | AS14: =IFERROR(INDEX('Week 7 - Weekly Picks'!$B$1:$Q$50,MATCH('Week 7 - Pool'!AS$3,'Week 7 - Weekly Picks'!$B$1:$B$50,0),MATCH('Week 7 - Pool'!$A14,'Week 7 - Weekly Picks'!$B$1:$Q$1,0)),"") -> Hou | AT14: =IF($G14="","",IF(AS14=$G14,"W","L")) -> W | AU14: =IF(AT14="W",$H14,0) -> 1 | AV14: =IFERROR(INDEX('Week 7 - Weekly Picks'!$B$1:$Q$50,MATCH('Week 7 - Pool'!AV$3,'Week 7 - Weekly Picks'!$B$1:$B$50,0),MATCH('Week 7 - Pool'!$A14,'Week 7 - Weekly Picks'!$B$1:$Q$1,0)),"") -> Hou | AW14: =IF($G14="","",IF(AV14=$G14,"W","L")) -> W | AX14: =IF(AW14="W",$H14,0) -> 1 | AY14: =IFERROR(INDEX('Week 7 - Weekly Picks'!$B$1:$Q$50,MATCH('Week 7 - Pool'!AY$3,'Week 7 - Weekly Picks'!$B$1:$B$50,0),MATCH('Week 7 - Pool'!$A14,'Week 7 - Weekly Picks'!$B$1:$Q$1,0)),"") -> Ok State | AZ14: =IF($G14="","",IF(AY14=$G14,"W","L")) -> L | BA14: =IF(AZ14="W",$H14,0) -> 0 | BB14: =IFERROR(INDEX('Week 7 - Weekly Picks'!$B$1:$Q$50,MATCH('Week 7 - Pool'!BB$3,'Week 7 - Weekly Picks'!$B$1:$B$50,0),MATCH('Week 7 - Pool'!$A14,'Week 7 - Weekly Picks'!$B$1:$Q$1,0)),"") -> Hou | BC14: =IF($G14="","",IF(BB14=$G14,"W","L")) -> W | BD14: =IF(BC14="W",$H14,0) -> 1 | BE14: =IFERROR(INDEX('Week 7 - Weekly Picks'!$B$1:$Q$50,MATCH('Week 7 - Pool'!BE$3,'Week 7 - Weekly Picks'!$B$1:$B$50,0),MATCH('Week 7 - Pool'!$A14,'Week 7 - Weekly Picks'!$B$1:$Q$1,0)),"") -> Hou | BF14: =IF($G14="","",IF(BE14=$G14,"W","L")) -> W | BG14: =IF(BF14="W",$H14,0) -> 1 | BH14: =IFERROR(INDEX('Week 7 - Weekly Picks'!$B$1:$Q$50,MATCH('Week 7 - Pool'!BH$3,'Week 7 - Weekly Picks'!$B$1:$B$50,0),MATCH('Week 7 - Pool'!$A14,'Week 7 - Weekly Picks'!$B$1:$Q$1,0)),"") -> Ok State | BI14: =IF($G14="","",IF(BH14=$G14,"W","L")) -> L | BJ14: =IF(BI14="W",$H14,0) -> 0 | BK14: =IFERROR(INDEX('Week 7 - Weekly Picks'!$B$1:$Q$50,MATCH('Week 7 - Pool'!BK$3,'Week 7 - Weekly Picks'!$B$1:$B$50,0),MATCH('Week 7 - Pool'!$A14,'Week 7 - Weekly Picks'!$B$1:$Q$1,0)),"") -> Ok State | BL14: =IF($G14="","",IF(BK14=$G14,"W","L")) -> L | BM14: =IF(BL14="W",$H14,0) -> 0 | BN14: =IFERROR(INDEX('Week 7 - Weekly Picks'!$B$1:$Q$50,MATCH('Week 7 - Pool'!BN$3,'Week 7 - Weekly Picks'!$B$1:$B$50,0),MATCH('Week 7 - Pool'!$A14,'Week 7 - Weekly Picks'!$B$1:$Q$1,0)),"") -> Hou | BO14: =IF($G14="","",IF(BN14=$G14,"W","L")) -> W | BP14: =IF(BO14="W",$H14,0) -> 1 | BQ14: =IFERROR(INDEX('Week 7 - Weekly Picks'!$B$1:$Q$50,MATCH('Week 7 - Pool'!BQ$3,'Week 7 - Weekly Picks'!$B$1:$B$50,0),MATCH('Week 7 - Pool'!$A14,'Week 7 - Weekly Picks'!$B$1:$Q$1,0)),"") -> Hou | BR14: =IF($G14="","",IF(BQ14=$G14,"W","L")) -> W | BS14: =IF(BR14="W",$H14,0) -> 1 | BT14: =IFERROR(INDEX('Week 7 - Weekly Picks'!$B$1:$Q$50,MATCH('Week 7 - Pool'!BT$3,'Week 7 - Weekly Picks'!$B$1:$B$50,0),MATCH('Week 7 - Pool'!$A14,'Week 7 - Weekly Picks'!$B$1:$Q$1,0)),"") -> Ok State | BU14: =IF($G14="","",IF(BT14=$G14,"W","L")) -> L | BV14: =IF(BU14="W",$H14,0) -> 0 | BW14: =IFERROR(INDEX('Week 7 - Weekly Picks'!$B$1:$Q$50,MATCH('Week 7 - Pool'!BW$3,'Week 7 - Weekly Picks'!$B$1:$B$50,0),MATCH('Week 7 - Pool'!$A14,'Week 7 - Weekly Picks'!$B$1:$Q$1,0)),"") -> Ok State | BX14: =IF($G14="","",IF(BW14=$G14,"W","L")) -> L | BY14: =IF(BX14="W",$H14,0) -> 0 | BZ14: =IFERROR(INDEX('Week 7 - Weekly Picks'!$B$1:$Q$50,MATCH('Week 7 - Pool'!BZ$3,'Week 7 - Weekly Picks'!$B$1:$B$50,0),MATCH('Week 7 - Pool'!$A14,'Week 7 - Weekly Picks'!$B$1:$Q$1,0)),"") -> Ok State | CA14: =IF($G14="","",IF(BZ14=$G14,"W","L")) -> L | CB14: =IF(CA14="W",$H14,0) -> 0 | CC14: =IFERROR(INDEX('Week 7 - Weekly Picks'!$B$1:$Q$50,MATCH('Week 7 - Pool'!CC$3,'Week 7 - Weekly Picks'!$B$1:$B$50,0),MATCH('Week 7 - Pool'!$A14,'Week 7 - Weekly Picks'!$B$1:$Q$1,0)),"") -> Hou | CD14: =IF($G14="","",IF(CC14=$G14,"W","L")) -> W | CE14: =IF(CD14="W",$H14,0) -> 1 | CF14: =IFERROR(INDEX('Week 7 - Weekly Picks'!$B$1:$Q$50,MATCH('Week 7 - Pool'!CF$3,'Week 7 - Weekly Picks'!$B$1:$B$50,0),MATCH('Week 7 - Pool'!$A14,'Week 7 - Weekly Picks'!$B$1:$Q$1,0)),"") -> Hou | CG14: =IF($G14="","",IF(CF14=$G14,"W","L")) -> W | CH14: =IF(CG14="W",$H14,0) -> 1 | CI14: =IFERROR(INDEX('Week 7 - Weekly Picks'!$B$1:$Q$50,MATCH('Week 7 - Pool'!CI$3,'Week 7 - Weekly Picks'!$B$1:$B$50,0),MATCH('Week 7 - Pool'!$A14,'Week 7 - Weekly Picks'!$B$1:$Q$1,0)),"") -> Hou | CJ14: =IF($G14="","",IF(CI14=$G14,"W","L")) -> W | CK14: =IF(CJ14="W",$H14,0) -> 1 | CM14: 11 | CN14: =D14 -> OK State | CO14: =COUNTIF(I14:CI14,D14) -> 10 | CP14: =F14 -> Hou | CQ14: =COUNTIF(I14:CI14,F14) -> 17 | CR14: =CO14+CQ14 -> 27
A15: 12 | B15: 46312 | D15: ='Data Setup'!H14 -> Nebraska | E15: vs. | F15: ='Data Setup'!I14 -> Oregon | G15: Oregon | H15: 1 | I15: =IFERROR(INDEX('Week 7 - Weekly Picks'!$B$1:$Q$50,MATCH('Week 7 - Pool'!I$3,'Week 7 - Weekly Picks'!$B$1:$B$50,0),MATCH('Week 7 - Pool'!$A15,'Week 7 - Weekly Picks'!$B$1:$Q$1,0)),"") -> Oregon | J15: =IF($G15="","",IF(I15=$G15,"W","L")) -> W | K15: =IF(J15="W",$H15,0) -> 1 | L15: =IFERROR(INDEX('Week 7 - Weekly Picks'!$B$1:$Q$50,MATCH('Week 7 - Pool'!L$3,'Week 7 - Weekly Picks'!$B$1:$B$50,0),MATCH('Week 7 - Pool'!$A15,'Week 7 - Weekly Picks'!$B$1:$Q$1,0)),"") -> Nebraska | M15: =IF($G15="","",IF(L15=$G15,"W","L")) -> L | N15: =IF(M15="W",$H15,0) -> 0 | O15: =IFERROR(INDEX('Week 7 - Weekly Picks'!$B$1:$Q$50,MATCH('Week 7 - Pool'!O$3,'Week 7 - Weekly Picks'!$B$1:$B$50,0),MATCH('Week 7 - Pool'!$A15,'Week 7 - Weekly Picks'!$B$1:$Q$1,0)),"") -> Oregon | P15: =IF($G15="","",IF(O15=$G15,"W","L")) -> W | Q15: =IF(P15="W",$H15,0) -> 1 | R15: =IFERROR(INDEX('Week 7 - Weekly Picks'!$B$1:$Q$50,MATCH('Week 7 - Pool'!R$3,'Week 7 - Weekly Picks'!$B$1:$B$50,0),MATCH('Week 7 - Pool'!$A15,'Week 7 - Weekly Picks'!$B$1:$Q$1,0)),"") -> Oregon | S15: =IF($G15="","",IF(R15=$G15,"W","L")) -> W | T15: =IF(S15="W",$H15,0) -> 1 | U15: =IFERROR(INDEX('Week 7 - Weekly Picks'!$B$1:$Q$50,MATCH('Week 7 - Pool'!U$3,'Week 7 - Weekly Picks'!$B$1:$B$50,0),MATCH('Week 7 - Pool'!$A15,'Week 7 - Weekly Picks'!$B$1:$Q$1,0)),"") -> Oregon | V15: =IF($G15="","",IF(U15=$G15,"W","L")) -> W | W15: =IF(V15="W",$H15,0) -> 1 | X15: =IFERROR(INDEX('Week 7 - Weekly Picks'!$B$1:$Q$50,MATCH('Week 7 - Pool'!X$3,'Week 7 - Weekly Picks'!$B$1:$B$50,0),MATCH('Week 7 - Pool'!$A15,'Week 7 - Weekly Picks'!$B$1:$Q$1,0)),"") -> Nebraska | Y15: =IF($G15="","",IF(X15=$G15,"W","L")) -> L | Z15: =IF(Y15="W",$H15,0) -> 0 | AA15: =IFERROR(INDEX('Week 7 - Weekly Picks'!$B$1:$Q$50,MATCH('Week 7 - Pool'!AA$3,'Week 7 - Weekly Picks'!$B$1:$B$50,0),MATCH('Week 7 - Pool'!$A15,'Week 7 - Weekly Picks'!$B$1:$Q$1,0)),"") -> Oregon | AB15: =IF($G15="","",IF(AA15=$G15,"W","L")) -> W | AC15: =IF(AB15="W",$H15,0) -> 1 | AD15: =IFERROR(INDEX('Week 7 - Weekly Picks'!$B$1:$Q$50,MATCH('Week 7 - Pool'!AD$3,'Week 7 - Weekly Picks'!$B$1:$B$50,0),MATCH('Week 7 - Pool'!$A15,'Week 7 - Weekly Picks'!$B$1:$Q$1,0)),"") -> Nebraska | AE15: =IF($G15="","",IF(AD15=$G15,"W","L")) -> L | AF15: =IF(AE15="W",$H15,0) -> 0 | AG15: =IFERROR(INDEX('Week 7 - Weekly Picks'!$B$1:$Q$50,MATCH('Week 7 - Pool'!AG$3,'Week 7 - Weekly Picks'!$B$1:$B$50,0),MATCH('Week 7 - Pool'!$A15,'Week 7 - Weekly Picks'!$B$1:$Q$1,0)),"") -> Oregon | AH15: =IF($G15="","",IF(AG15=$G15,"W","L")) -> W | AI15: =IF(AH15="W",$H15,0) -> 1 | AJ15: =IFERROR(INDEX('Week 7 - Weekly Picks'!$B$1:$Q$50,MATCH('Week 7 - Pool'!AJ$3,'Week 7 - Weekly Picks'!$B$1:$B$50,0),MATCH('Week 7 - Pool'!$A15,'Week 7 - Weekly Picks'!$B$1:$Q$1,0)),"") -> Oregon | AK15: =IF($G15="","",IF(AJ15=$G15,"W","L")) -> W | AL15: =IF(AK15="W",$H15,0) -> 1 | AM15: =IFERROR(INDEX('Week 7 - Weekly Picks'!$B$1:$Q$50,MATCH('Week 7 - Pool'!AM$3,'Week 7 - Weekly Picks'!$B$1:$B$50,0),MATCH('Week 7 - Pool'!$A15,'Week 7 - Weekly Picks'!$B$1:$Q$1,0)),"") -> Nebraska | AN15: =IF($G15="","",IF(AM15=$G15,"W","L")) -> L | AO15: =IF(AN15="W",$H15,0) -> 0 | AP15: =IFERROR(INDEX('Week 7 - Weekly Picks'!$B$1:$Q$50,MATCH('Week 7 - Pool'!AP$3,'Week 7 - Weekly Picks'!$B$1:$B$50,0),MATCH('Week 7 - Pool'!$A15,'Week 7 - Weekly Picks'!$B$1:$Q$1,0)),"") -> Oregon | AQ15: =IF($G15="","",IF(AP15=$G15,"W","L")) -> W | AR15: =IF(AQ15="W",$H15,0) -> 1 | AS15: =IFERROR(INDEX('Week 7 - Weekly Picks'!$B$1:$Q$50,MATCH('Week 7 - Pool'!AS$3,'Week 7 - Weekly Picks'!$B$1:$B$50,0),MATCH('Week 7 - Pool'!$A15,'Week 7 - Weekly Picks'!$B$1:$Q$1,0)),"") -> Oregon | AT15: =IF($G15="","",IF(AS15=$G15,"W","L")) -> W | AU15: =IF(AT15="W",$H15,0) -> 1 | AV15: =IFERROR(INDEX('Week 7 - Weekly Picks'!$B$1:$Q$50,MATCH('Week 7 - Pool'!AV$3,'Week 7 - Weekly Picks'!$B$1:$B$50,0),MATCH('Week 7 - Pool'!$A15,'Week 7 - Weekly Picks'!$B$1:$Q$1,0)),"") -> Oregon | AW15: =IF($G15="","",IF(AV15=$G15,"W","L")) -> W | AX15: =IF(AW15="W",$H15,0) -> 1 | AY15: =IFERROR(INDEX('Week 7 - Weekly Picks'!$B$1:$Q$50,MATCH('Week 7 - Pool'!AY$3,'Week 7 - Weekly Picks'!$B$1:$B$50,0),MATCH('Week 7 - Pool'!$A15,'Week 7 - Weekly Picks'!$B$1:$Q$1,0)),"") -> Nebraska | AZ15: =IF($G15="","",IF(AY15=$G15,"W","L")) -> L | BA15: =IF(AZ15="W",$H15,0) -> 0 | BB15: =IFERROR(INDEX('Week 7 - Weekly Picks'!$B$1:$Q$50,MATCH('Week 7 - Pool'!BB$3,'Week 7 - Weekly Picks'!$B$1:$B$50,0),MATCH('Week 7 - Pool'!$A15,'Week 7 - Weekly Picks'!$B$1:$Q$1,0)),"") -> Oregon | BC15: =IF($G15="","",IF(BB15=$G15,"W","L")) -> W | BD15: =IF(BC15="W",$H15,0) -> 1 | BE15: =IFERROR(INDEX('Week 7 - Weekly Picks'!$B$1:$Q$50,MATCH('Week 7 - Pool'!BE$3,'Week 7 - Weekly Picks'!$B$1:$B$50,0),MATCH('Week 7 - Pool'!$A15,'Week 7 - Weekly Picks'!$B$1:$Q$1,0)),"") -> Oregon | BF15: =IF($G15="","",IF(BE15=$G15,"W","L")) -> W | BG15: =IF(BF15="W",$H15,0) -> 1 | BH15: =IFERROR(INDEX('Week 7 - Weekly Picks'!$B$1:$Q$50,MATCH('Week 7 - Pool'!BH$3,'Week 7 - Weekly Picks'!$B$1:$B$50,0),MATCH('Week 7 - Pool'!$A15,'Week 7 - Weekly Picks'!$B$1:$Q$1,0)),"") -> Oregon | BI15: =IF($G15="","",IF(BH15=$G15,"W","L")) -> W | BJ15: =IF(BI15="W",$H15,0) -> 1 | BK15: =IFERROR(INDEX('Week 7 - Weekly Picks'!$B$1:$Q$50,MATCH('Week 7 - Pool'!BK$3,'Week 7 - Weekly Picks'!$B$1:$B$50,0),MATCH('Week 7 - Pool'!$A15,'Week 7 - Weekly Picks'!$B$1:$Q$1,0)),"") -> Oregon | BL15: =IF($G15="","",IF(BK15=$G15,"W","L")) -> W | BM15: =IF(BL15="W",$H15,0) -> 1 | BN15: =IFERROR(INDEX('Week 7 - Weekly Picks'!$B$1:$Q$50,MATCH('Week 7 - Pool'!BN$3,'Week 7 - Weekly Picks'!$B$1:$B$50,0),MATCH('Week 7 - Pool'!$A15,'Week 7 - Weekly Picks'!$B$1:$Q$1,0)),"") -> Nebraska | BO15: =IF($G15="","",IF(BN15=$G15,"W","L")) -> L | BP15: =IF(BO15="W",$H15,0) -> 0 | BQ15: =IFERROR(INDEX('Week 7 - Weekly Picks'!$B$1:$Q$50,MATCH('Week 7 - Pool'!BQ$3,'Week 7 - Weekly Picks'!$B$1:$B$50,0),MATCH('Week 7 - Pool'!$A15,'Week 7 - Weekly Picks'!$B$1:$Q$1,0)),"") -> Oregon | BR15: =IF($G15="","",IF(BQ15=$G15,"W","L")) -> W | BS15: =IF(BR15="W",$H15,0) -> 1 | BT15: =IFERROR(INDEX('Week 7 - Weekly Picks'!$B$1:$Q$50,MATCH('Week 7 - Pool'!BT$3,'Week 7 - Weekly Picks'!$B$1:$B$50,0),MATCH('Week 7 - Pool'!$A15,'Week 7 - Weekly Picks'!$B$1:$Q$1,0)),"") -> Oregon | BU15: =IF($G15="","",IF(BT15=$G15,"W","L")) -> W | BV15: =IF(BU15="W",$H15,0) -> 1 | BW15: =IFERROR(INDEX('Week 7 - Weekly Picks'!$B$1:$Q$50,MATCH('Week 7 - Pool'!BW$3,'Week 7 - Weekly Picks'!$B$1:$B$50,0),MATCH('Week 7 - Pool'!$A15,'Week 7 - Weekly Picks'!$B$1:$Q$1,0)),"") -> Oregon | BX15: =IF($G15="","",IF(BW15=$G15,"W","L")) -> W | BY15: =IF(BX15="W",$H15,0) -> 1 | BZ15: =IFERROR(INDEX('Week 7 - Weekly Picks'!$B$1:$Q$50,MATCH('Week 7 - Pool'!BZ$3,'Week 7 - Weekly Picks'!$B$1:$B$50,0),MATCH('Week 7 - Pool'!$A15,'Week 7 - Weekly Picks'!$B$1:$Q$1,0)),"") -> Oregon | CA15: =IF($G15="","",IF(BZ15=$G15,"W","L")) -> W | CB15: =IF(CA15="W",$H15,0) -> 1 | CC15: =IFERROR(INDEX('Week 7 - Weekly Picks'!$B$1:$Q$50,MATCH('Week 7 - Pool'!CC$3,'Week 7 - Weekly Picks'!$B$1:$B$50,0),MATCH('Week 7 - Pool'!$A15,'Week 7 - Weekly Picks'!$B$1:$Q$1,0)),"") -> Oregon | CD15: =IF($G15="","",IF(CC15=$G15,"W","L")) -> W | CE15: =IF(CD15="W",$H15,0) -> 1 | CF15: =IFERROR(INDEX('Week 7 - Weekly Picks'!$B$1:$Q$50,MATCH('Week 7 - Pool'!CF$3,'Week 7 - Weekly Picks'!$B$1:$B$50,0),MATCH('Week 7 - Pool'!$A15,'Week 7 - Weekly Picks'!$B$1:$Q$1,0)),"") -> Oregon | CG15: =IF($G15="","",IF(CF15=$G15,"W","L")) -> W | CH15: =IF(CG15="W",$H15,0) -> 1 | CI15: =IFERROR(INDEX('Week 7 - Weekly Picks'!$B$1:$Q$50,MATCH('Week 7 - Pool'!CI$3,'Week 7 - Weekly Picks'!$B$1:$B$50,0),MATCH('Week 7 - Pool'!$A15,'Week 7 - Weekly Picks'!$B$1:$Q$1,0)),"") -> Nebraska | CJ15: =IF($G15="","",IF(CI15=$G15,"W","L")) -> L | CK15: =IF(CJ15="W",$H15,0) -> 0 | CM15: 12 | CN15: =D15 -> Nebraska | CO15: =COUNTIF(I15:CI15,D15) -> 7 | CP15: =F15 -> Oregon | CQ15: =COUNTIF(I15:CI15,F15) -> 20 | CR15: =CO15+CQ15 -> 27
A16: 13 | B16: 46312 | D16: ='Data Setup'!H15 -> TCU | E16: vs. | F16: ='Data Setup'!I15 -> Baylor | G16: TCU | H16: 1 | I16: =IFERROR(INDEX('Week 7 - Weekly Picks'!$B$1:$Q$50,MATCH('Week 7 - Pool'!I$3,'Week 7 - Weekly Picks'!$B$1:$B$50,0),MATCH('Week 7 - Pool'!$A16,'Week 7 - Weekly Picks'!$B$1:$Q$1,0)),"") -> Baylor | J16: =IF($G16="","",IF(I16=$G16,"W","L")) -> L | K16: =IF(J16="W",$H16,0) -> 0 | L16: =IFERROR(INDEX('Week 7 - Weekly Picks'!$B$1:$Q$50,MATCH('Week 7 - Pool'!L$3,'Week 7 - Weekly Picks'!$B$1:$B$50,0),MATCH('Week 7 - Pool'!$A16,'Week 7 - Weekly Picks'!$B$1:$Q$1,0)),"") -> Baylor | M16: =IF($G16="","",IF(L16=$G16,"W","L")) -> L | N16: =IF(M16="W",$H16,0) -> 0 | O16: =IFERROR(INDEX('Week 7 - Weekly Picks'!$B$1:$Q$50,MATCH('Week 7 - Pool'!O$3,'Week 7 - Weekly Picks'!$B$1:$B$50,0),MATCH('Week 7 - Pool'!$A16,'Week 7 - Weekly Picks'!$B$1:$Q$1,0)),"") -> Baylor | P16: =IF($G16="","",IF(O16=$G16,"W","L")) -> L | Q16: =IF(P16="W",$H16,0) -> 0 | R16: =IFERROR(INDEX('Week 7 - Weekly Picks'!$B$1:$Q$50,MATCH('Week 7 - Pool'!R$3,'Week 7 - Weekly Picks'!$B$1:$B$50,0),MATCH('Week 7 - Pool'!$A16,'Week 7 - Weekly Picks'!$B$1:$Q$1,0)),"") -> TCU | S16: =IF($G16="","",IF(R16=$G16,"W","L")) -> W | T16: =IF(S16="W",$H16,0) -> 1 | U16: =IFERROR(INDEX('Week 7 - Weekly Picks'!$B$1:$Q$50,MATCH('Week 7 - Pool'!U$3,'Week 7 - Weekly Picks'!$B$1:$B$50,0),MATCH('Week 7 - Pool'!$A16,'Week 7 - Weekly Picks'!$B$1:$Q$1,0)),"") -> Baylor | V16: =IF($G16="","",IF(U16=$G16,"W","L")) -> L | W16: =IF(V16="W",$H16,0) -> 0 | X16: =IFERROR(INDEX('Week 7 - Weekly Picks'!$B$1:$Q$50,MATCH('Week 7 - Pool'!X$3,'Week 7 - Weekly Picks'!$B$1:$B$50,0),MATCH('Week 7 - Pool'!$A16,'Week 7 - Weekly Picks'!$B$1:$Q$1,0)),"") -> TCU | Y16: =IF($G16="","",IF(X16=$G16,"W","L")) -> W | Z16: =IF(Y16="W",$H16,0) -> 1 | AA16: =IFERROR(INDEX('Week 7 - Weekly Picks'!$B$1:$Q$50,MATCH('Week 7 - Pool'!AA$3,'Week 7 - Weekly Picks'!$B$1:$B$50,0),MATCH('Week 7 - Pool'!$A16,'Week 7 - Weekly Picks'!$B$1:$Q$1,0)),"") -> Baylor | AB16: =IF($G16="","",IF(AA16=$G16,"W","L")) -> L | AC16: =IF(AB16="W",$H16,0) -> 0 | AD16: =IFERROR(INDEX('Week 7 - Weekly Picks'!$B$1:$Q$50,MATCH('Week 7 - Pool'!AD$3,'Week 7 - Weekly Picks'!$B$1:$B$50,0),MATCH('Week 7 - Pool'!$A16,'Week 7 - Weekly Picks'!$B$1:$Q$1,0)),"") -> Baylor | AE16: =IF($G16="","",IF(AD16=$G16,"W","L")) -> L | AF16: =IF(AE16="W",$H16,0) -> 0 | AG16: =IFERROR(INDEX('Week 7 - Weekly Picks'!$B$1:$Q$50,MATCH('Week 7 - Pool'!AG$3,'Week 7 - Weekly Picks'!$B$1:$B$50,0),MATCH('Week 7 - Pool'!$A16,'Week 7 - Weekly Picks'!$B$1:$Q$1,0)),"") -> TCU | AH16: =IF($G16="","",IF(AG16=$G16,"W","L")) -> W | AI16: =IF(AH16="W",$H16,0) -> 1 | AJ16: =IFERROR(INDEX('Week 7 - Weekly Picks'!$B$1:$Q$50,MATCH('Week 7 - Pool'!AJ$3,'Week 7 - Weekly Picks'!$B$1:$B$50,0),MATCH('Week 7 - Pool'!$A16,'Week 7 - Weekly Picks'!$B$1:$Q$1,0)),"") -> Baylor | AK16: =IF($G16="","",IF(AJ16=$G16,"W","L")) -> L | AL16: =IF(AK16="W",$H16,0) -> 0 | AM16: =IFERROR(INDEX('Week 7 - Weekly Picks'!$B$1:$Q$50,MATCH('Week 7 - Pool'!AM$3,'Week 7 - Weekly Picks'!$B$1:$B$50,0),MATCH('Week 7 - Pool'!$A16,'Week 7 - Weekly Picks'!$B$1:$Q$1,0)),"") -> Baylor | AN16: =IF($G16="","",IF(AM16=$G16,"W","L")) -> L | AO16: =IF(AN16="W",$H16,0) -> 0 | AP16: =IFERROR(INDEX('Week 7 - Weekly Picks'!$B$1:$Q$50,MATCH('Week 7 - Pool'!AP$3,'Week 7 - Weekly Picks'!$B$1:$B$50,0),MATCH('Week 7 - Pool'!$A16,'Week 7 - Weekly Picks'!$B$1:$Q$1,0)),"") -> Baylor | AQ16: =IF($G16="","",IF(AP16=$G16,"W","L")) -> L | AR16: =IF(AQ16="W",$H16,0) -> 0 | AS16: =IFERROR(INDEX('Week 7 - Weekly Picks'!$B$1:$Q$50,MATCH('Week 7 - Pool'!AS$3,'Week 7 - Weekly Picks'!$B$1:$B$50,0),MATCH('Week 7 - Pool'!$A16,'Week 7 - Weekly Picks'!$B$1:$Q$1,0)),"") -> Baylor | AT16: =IF($G16="","",IF(AS16=$G16,"W","L")) -> L | AU16: =IF(AT16="W",$H16,0) -> 0 | AV16: =IFERROR(INDEX('Week 7 - Weekly Picks'!$B$1:$Q$50,MATCH('Week 7 - Pool'!AV$3,'Week 7 - Weekly Picks'!$B$1:$B$50,0),MATCH('Week 7 - Pool'!$A16,'Week 7 - Weekly Picks'!$B$1:$Q$1,0)),"") -> Baylor | AW16: =IF($G16="","",IF(AV16=$G16,"W","L")) -> L | AX16: =IF(AW16="W",$H16,0) -> 0 | AY16: =IFERROR(INDEX('Week 7 - Weekly Picks'!$B$1:$Q$50,MATCH('Week 7 - Pool'!AY$3,'Week 7 - Weekly Picks'!$B$1:$B$50,0),MATCH('Week 7 - Pool'!$A16,'Week 7 - Weekly Picks'!$B$1:$Q$1,0)),"") -> Baylor | AZ16: =IF($G16="","",IF(AY16=$G16,"W","L")) -> L | BA16: =IF(AZ16="W",$H16,0) -> 0 | BB16: =IFERROR(INDEX('Week 7 - Weekly Picks'!$B$1:$Q$50,MATCH('Week 7 - Pool'!BB$3,'Week 7 - Weekly Picks'!$B$1:$B$50,0),MATCH('Week 7 - Pool'!$A16,'Week 7 - Weekly Picks'!$B$1:$Q$1,0)),"") -> Baylor | BC16: =IF($G16="","",IF(BB16=$G16,"W","L")) -> L | BD16: =IF(BC16="W",$H16,0) -> 0 | BE16: =IFERROR(INDEX('Week 7 - Weekly Picks'!$B$1:$Q$50,MATCH('Week 7 - Pool'!BE$3,'Week 7 - Weekly Picks'!$B$1:$B$50,0),MATCH('Week 7 - Pool'!$A16,'Week 7 - Weekly Picks'!$B$1:$Q$1,0)),"") -> Baylor | BF16: =IF($G16="","",IF(BE16=$G16,"W","L")) -> L | BG16: =IF(BF16="W",$H16,0) -> 0 | BH16: =IFERROR(INDEX('Week 7 - Weekly Picks'!$B$1:$Q$50,MATCH('Week 7 - Pool'!BH$3,'Week 7 - Weekly Picks'!$B$1:$B$50,0),MATCH('Week 7 - Pool'!$A16,'Week 7 - Weekly Picks'!$B$1:$Q$1,0)),"") -> Baylor | BI16: =IF($G16="","",IF(BH16=$G16,"W","L")) -> L | BJ16: =IF(BI16="W",$H16,0) -> 0 | BK16: =IFERROR(INDEX('Week 7 - Weekly Picks'!$B$1:$Q$50,MATCH('Week 7 - Pool'!BK$3,'Week 7 - Weekly Picks'!$B$1:$B$50,0),MATCH('Week 7 - Pool'!$A16,'Week 7 - Weekly Picks'!$B$1:$Q$1,0)),"") -> Baylor | BL16: =IF($G16="","",IF(BK16=$G16,"W","L")) -> L | BM16: =IF(BL16="W",$H16,0) -> 0 | BN16: =IFERROR(INDEX('Week 7 - Weekly Picks'!$B$1:$Q$50,MATCH('Week 7 - Pool'!BN$3,'Week 7 - Weekly Picks'!$B$1:$B$50,0),MATCH('Week 7 - Pool'!$A16,'Week 7 - Weekly Picks'!$B$1:$Q$1,0)),"") -> Baylor | BO16: =IF($G16="","",IF(BN16=$G16,"W","L")) -> L | BP16: =IF(BO16="W",$H16,0) -> 0 | BQ16: =IFERROR(INDEX('Week 7 - Weekly Picks'!$B$1:$Q$50,MATCH('Week 7 - Pool'!BQ$3,'Week 7 - Weekly Picks'!$B$1:$B$50,0),MATCH('Week 7 - Pool'!$A16,'Week 7 - Weekly Picks'!$B$1:$Q$1,0)),"") -> Baylor | BR16: =IF($G16="","",IF(BQ16=$G16,"W","L")) -> L | BS16: =IF(BR16="W",$H16,0) -> 0 | BT16: =IFERROR(INDEX('Week 7 - Weekly Picks'!$B$1:$Q$50,MATCH('Week 7 - Pool'!BT$3,'Week 7 - Weekly Picks'!$B$1:$B$50,0),MATCH('Week 7 - Pool'!$A16,'Week 7 - Weekly Picks'!$B$1:$Q$1,0)),"") -> TCU | BU16: =IF($G16="","",IF(BT16=$G16,"W","L")) -> W | BV16: =IF(BU16="W",$H16,0) -> 1 | BW16: =IFERROR(INDEX('Week 7 - Weekly Picks'!$B$1:$Q$50,MATCH('Week 7 - Pool'!BW$3,'Week 7 - Weekly Picks'!$B$1:$B$50,0),MATCH('Week 7 - Pool'!$A16,'Week 7 - Weekly Picks'!$B$1:$Q$1,0)),"") -> Baylor | BX16: =IF($G16="","",IF(BW16=$G16,"W","L")) -> L | BY16: =IF(BX16="W",$H16,0) -> 0 | BZ16: =IFERROR(INDEX('Week 7 - Weekly Picks'!$B$1:$Q$50,MATCH('Week 7 - Pool'!BZ$3,'Week 7 - Weekly Picks'!$B$1:$B$50,0),MATCH('Week 7 - Pool'!$A16,'Week 7 - Weekly Picks'!$B$1:$Q$1,0)),"") -> Baylor | CA16: =IF($G16="","",IF(BZ16=$G16,"W","L")) -> L | CB16: =IF(CA16="W",$H16,0) -> 0 | CC16: =IFERROR(INDEX('Week 7 - Weekly Picks'!$B$1:$Q$50,MATCH('Week 7 - Pool'!CC$3,'Week 7 - Weekly Picks'!$B$1:$B$50,0),MATCH('Week 7 - Pool'!$A16,'Week 7 - Weekly Picks'!$B$1:$Q$1,0)),"") -> Baylor | CD16: =IF($G16="","",IF(CC16=$G16,"W","L")) -> L | CE16: =IF(CD16="W",$H16,0) -> 0 | CF16: =IFERROR(INDEX('Week 7 - Weekly Picks'!$B$1:$Q$50,MATCH('Week 7 - Pool'!CF$3,'Week 7 - Weekly Picks'!$B$1:$B$50,0),MATCH('Week 7 - Pool'!$A16,'Week 7 - Weekly Picks'!$B$1:$Q$1,0)),"") -> TCU | CG16: =IF($G16="","",IF(CF16=$G16,"W","L")) -> W | CH16: =IF(CG16="W",$H16,0) -> 1 | CI16: =IFERROR(INDEX('Week 7 - Weekly Picks'!$B$1:$Q$50,MATCH('Week 7 - Pool'!CI$3,'Week 7 - Weekly Picks'!$B$1:$B$50,0),MATCH('Week 7 - Pool'!$A16,'Week 7 - Weekly Picks'!$B$1:$Q$1,0)),"") -> Baylor | CJ16: =IF($G16="","",IF(CI16=$G16,"W","L")) -> L | CK16: =IF(CJ16="W",$H16,0) -> 0 | CM16: 13 | CN16: =D16 -> TCU | CO16: =COUNTIF(I16:CI16,D16) -> 5 | CP16: =F16 -> Baylor | CQ16: =COUNTIF(I16:CI16,F16) -> 22 | CR16: =CO16+CQ16 -> 27
A17: 14 | B17: 46312 | D17: ='Data Setup'!H16 -> Notre Dame | F17: ='Data Setup'!I16 -> BYU | G17: BYU | H17: 2 | I17: =IFERROR(INDEX('Week 7 - Weekly Picks'!$B$1:$Q$50,MATCH('Week 7 - Pool'!I$3,'Week 7 - Weekly Picks'!$B$1:$B$50,0),MATCH('Week 7 - Pool'!$A17,'Week 7 - Weekly Picks'!$B$1:$Q$1,0)),"") -> Notre Dame | J17: =IF($G17="","",IF(I17=$G17,"W","L")) -> L | K17: =IF(J17="W",$H17,0) -> 0 | L17: =IFERROR(INDEX('Week 7 - Weekly Picks'!$B$1:$Q$50,MATCH('Week 7 - Pool'!L$3,'Week 7 - Weekly Picks'!$B$1:$B$50,0),MATCH('Week 7 - Pool'!$A17,'Week 7 - Weekly Picks'!$B$1:$Q$1,0)),"") -> Notre Dame | M17: =IF($G17="","",IF(L17=$G17,"W","L")) -> L | N17: =IF(M17="W",$H17,0) -> 0 | O17: =IFERROR(INDEX('Week 7 - Weekly Picks'!$B$1:$Q$50,MATCH('Week 7 - Pool'!O$3,'Week 7 - Weekly Picks'!$B$1:$B$50,0),MATCH('Week 7 - Pool'!$A17,'Week 7 - Weekly Picks'!$B$1:$Q$1,0)),"") -> Notre Dame | P17: =IF($G17="","",IF(O17=$G17,"W","L")) -> L | Q17: =IF(P17="W",$H17,0) -> 0 | R17: =IFERROR(INDEX('Week 7 - Weekly Picks'!$B$1:$Q$50,MATCH('Week 7 - Pool'!R$3,'Week 7 - Weekly Picks'!$B$1:$B$50,0),MATCH('Week 7 - Pool'!$A17,'Week 7 - Weekly Picks'!$B$1:$Q$1,0)),"") -> Notre Dame | S17: =IF($G17="","",IF(R17=$G17,"W","L")) -> L | T17: =IF(S17="W",$H17,0) -> 0 | U17: =IFERROR(INDEX('Week 7 - Weekly Picks'!$B$1:$Q$50,MATCH('Week 7 - Pool'!U$3,'Week 7 - Weekly Picks'!$B$1:$B$50,0),MATCH('Week 7 - Pool'!$A17,'Week 7 - Weekly Picks'!$B$1:$Q$1,0)),"") -> Notre Dame | V17: =IF($G17="","",IF(U17=$G17,"W","L")) -> L | W17: =IF(V17="W",$H17,0) -> 0 | X17: =IFERROR(INDEX('Week 7 - Weekly Picks'!$B$1:$Q$50,MATCH('Week 7 - Pool'!X$3,'Week 7 - Weekly Picks'!$B$1:$B$50,0),MATCH('Week 7 - Pool'!$A17,'Week 7 - Weekly Picks'!$B$1:$Q$1,0)),"") -> Notre Dame | Y17: =IF($G17="","",IF(X17=$G17,"W","L")) -> L | Z17: =IF(Y17="W",$H17,0) -> 0 | AA17: =IFERROR(INDEX('Week 7 - Weekly Picks'!$B$1:$Q$50,MATCH('Week 7 - Pool'!AA$3,'Week 7 - Weekly Picks'!$B$1:$B$50,0),MATCH('Week 7 - Pool'!$A17,'Week 7 - Weekly Picks'!$B$1:$Q$1,0)),"") -> Notre Dame | AB17: =IF($G17="","",IF(AA17=$G17,"W","L")) -> L | AC17: =IF(AB17="W",$H17,0) -> 0 | AD17: =IFERROR(INDEX('Week 7 - Weekly Picks'!$B$1:$Q$50,MATCH('Week 7 - Pool'!AD$3,'Week 7 - Weekly Picks'!$B$1:$B$50,0),MATCH('Week 7 - Pool'!$A17,'Week 7 - Weekly Picks'!$B$1:$Q$1,0)),"") -> Notre Dame | AE17: =IF($G17="","",IF(AD17=$G17,"W","L")) -> L | AF17: =IF(AE17="W",$H17,0) -> 0 | AG17: =IFERROR(INDEX('Week 7 - Weekly Picks'!$B$1:$Q$50,MATCH('Week 7 - Pool'!AG$3,'Week 7 - Weekly Picks'!$B$1:$B$50,0),MATCH('Week 7 - Pool'!$A17,'Week 7 - Weekly Picks'!$B$1:$Q$1,0)),"") -> Notre Dame | AH17: =IF($G17="","",IF(AG17=$G17,"W","L")) -> L | AI17: =IF(AH17="W",$H17,0) -> 0 | AJ17: =IFERROR(INDEX('Week 7 - Weekly Picks'!$B$1:$Q$50,MATCH('Week 7 - Pool'!AJ$3,'Week 7 - Weekly Picks'!$B$1:$B$50,0),MATCH('Week 7 - Pool'!$A17,'Week 7 - Weekly Picks'!$B$1:$Q$1,0)),"") -> Notre Dame | AK17: =IF($G17="","",IF(AJ17=$G17,"W","L")) -> L | AL17: =IF(AK17="W",$H17,0) -> 0 | AM17: =IFERROR(INDEX('Week 7 - Weekly Picks'!$B$1:$Q$50,MATCH('Week 7 - Pool'!AM$3,'Week 7 - Weekly Picks'!$B$1:$B$50,0),MATCH('Week 7 - Pool'!$A17,'Week 7 - Weekly Picks'!$B$1:$Q$1,0)),"") -> Notre Dame | AN17: =IF($G17="","",IF(AM17=$G17,"W","L")) -> L | AO17: =IF(AN17="W",$H17,0) -> 0 | AP17: =IFERROR(INDEX('Week 7 - Weekly Picks'!$B$1:$Q$50,MATCH('Week 7 - Pool'!AP$3,'Week 7 - Weekly Picks'!$B$1:$B$50,0),MATCH('Week 7 - Pool'!$A17,'Week 7 - Weekly Picks'!$B$1:$Q$1,0)),"") -> Notre Dame | AQ17: =IF($G17="","",IF(AP17=$G17,"W","L")) -> L | AR17: =IF(AQ17="W",$H17,0) -> 0 | AS17: =IFERROR(INDEX('Week 7 - Weekly Picks'!$B$1:$Q$50,MATCH('Week 7 - Pool'!AS$3,'Week 7 - Weekly Picks'!$B$1:$B$50,0),MATCH('Week 7 - Pool'!$A17,'Week 7 - Weekly Picks'!$B$1:$Q$1,0)),"") -> Notre Dame | AT17: =IF($G17="","",IF(AS17=$G17,"W","L")) -> L | AU17: =IF(AT17="W",$H17,0) -> 0 | AV17: =IFERROR(INDEX('Week 7 - Weekly Picks'!$B$1:$Q$50,MATCH('Week 7 - Pool'!AV$3,'Week 7 - Weekly Picks'!$B$1:$B$50,0),MATCH('Week 7 - Pool'!$A17,'Week 7 - Weekly Picks'!$B$1:$Q$1,0)),"") -> Notre Dame | AW17: =IF($G17="","",IF(AV17=$G17,"W","L")) -> L | AX17: =IF(AW17="W",$H17,0) -> 0 | AY17: =IFERROR(INDEX('Week 7 - Weekly Picks'!$B$1:$Q$50,MATCH('Week 7 - Pool'!AY$3,'Week 7 - Weekly Picks'!$B$1:$B$50,0),MATCH('Week 7 - Pool'!$A17,'Week 7 - Weekly Picks'!$B$1:$Q$1,0)),"") -> Notre Dame | AZ17: =IF($G17="","",IF(AY17=$G17,"W","L")) -> L | BA17: =IF(AZ17="W",$H17,0) -> 0 | BB17: =IFERROR(INDEX('Week 7 - Weekly Picks'!$B$1:$Q$50,MATCH('Week 7 - Pool'!BB$3,'Week 7 - Weekly Picks'!$B$1:$B$50,0),MATCH('Week 7 - Pool'!$A17,'Week 7 - Weekly Picks'!$B$1:$Q$1,0)),"") -> Notre Dame | BC17: =IF($G17="","",IF(BB17=$G17,"W","L")) -> L | BD17: =IF(BC17="W",$H17,0) -> 0 | BE17: =IFERROR(INDEX('Week 7 - Weekly Picks'!$B$1:$Q$50,MATCH('Week 7 - Pool'!BE$3,'Week 7 - Weekly Picks'!$B$1:$B$50,0),MATCH('Week 7 - Pool'!$A17,'Week 7 - Weekly Picks'!$B$1:$Q$1,0)),"") -> Notre Dame | BF17: =IF($G17="","",IF(BE17=$G17,"W","L")) -> L | BG17: =IF(BF17="W",$H17,0) -> 0 | BH17: =IFERROR(INDEX('Week 7 - Weekly Picks'!$B$1:$Q$50,MATCH('Week 7 - Pool'!BH$3,'Week 7 - Weekly Picks'!$B$1:$B$50,0),MATCH('Week 7 - Pool'!$A17,'Week 7 - Weekly Picks'!$B$1:$Q$1,0)),"") -> Notre Dame | BI17: =IF($G17="","",IF(BH17=$G17,"W","L")) -> L | BJ17: =IF(BI17="W",$H17,0) -> 0 | BK17: =IFERROR(INDEX('Week 7 - Weekly Picks'!$B$1:$Q$50,MATCH('Week 7 - Pool'!BK$3,'Week 7 - Weekly Picks'!$B$1:$B$50,0),MATCH('Week 7 - Pool'!$A17,'Week 7 - Weekly Picks'!$B$1:$Q$1,0)),"") -> BYU | BL17: =IF($G17="","",IF(BK17=$G17,"W","L")) -> W | BM17: =IF(BL17="W",$H17,0) -> 2 | BN17: =IFERROR(INDEX('Week 7 - Weekly Picks'!$B$1:$Q$50,MATCH('Week 7 - Pool'!BN$3,'Week 7 - Weekly Picks'!$B$1:$B$50,0),MATCH('Week 7 - Pool'!$A17,'Week 7 - Weekly Picks'!$B$1:$Q$1,0)),"") -> Notre Dame | BO17: =IF($G17="","",IF(BN17=$G17,"W","L")) -> L | BP17: =IF(BO17="W",$H17,0) -> 0 | BQ17: =IFERROR(INDEX('Week 7 - Weekly Picks'!$B$1:$Q$50,MATCH('Week 7 - Pool'!BQ$3,'Week 7 - Weekly Picks'!$B$1:$B$50,0),MATCH('Week 7 - Pool'!$A17,'Week 7 - Weekly Picks'!$B$1:$Q$1,0)),"") -> Notre Dame | BR17: =IF($G17="","",IF(BQ17=$G17,"W","L")) -> L | BS17: =IF(BR17="W",$H17,0) -> 0 | BT17: =IFERROR(INDEX('Week 7 - Weekly Picks'!$B$1:$Q$50,MATCH('Week 7 - Pool'!BT$3,'Week 7 - Weekly Picks'!$B$1:$B$50,0),MATCH('Week 7 - Pool'!$A17,'Week 7 - Weekly Picks'!$B$1:$Q$1,0)),"") -> BYU | BU17: =IF($G17="","",IF(BT17=$G17,"W","L")) -> W | BV17: =IF(BU17="W",$H17,0) -> 2 | BW17: =IFERROR(INDEX('Week 7 - Weekly Picks'!$B$1:$Q$50,MATCH('Week 7 - Pool'!BW$3,'Week 7 - Weekly Picks'!$B$1:$B$50,0),MATCH('Week 7 - Pool'!$A17,'Week 7 - Weekly Picks'!$B$1:$Q$1,0)),"") -> Notre Dame | BX17: =IF($G17="","",IF(BW17=$G17,"W","L")) -> L | BY17: =IF(BX17="W",$H17,0) -> 0 | BZ17: =IFERROR(INDEX('Week 7 - Weekly Picks'!$B$1:$Q$50,MATCH('Week 7 - Pool'!BZ$3,'Week 7 - Weekly Picks'!$B$1:$B$50,0),MATCH('Week 7 - Pool'!$A17,'Week 7 - Weekly Picks'!$B$1:$Q$1,0)),"") -> Notre Dame | CA17: =IF($G17="","",IF(BZ17=$G17,"W","L")) -> L | CB17: =IF(CA17="W",$H17,0) -> 0 | CC17: =IFERROR(INDEX('Week 7 - Weekly Picks'!$B$1:$Q$50,MATCH('Week 7 - Pool'!CC$3,'Week 7 - Weekly Picks'!$B$1:$B$50,0),MATCH('Week 7 - Pool'!$A17,'Week 7 - Weekly Picks'!$B$1:$Q$1,0)),"") -> Notre Dame | CD17: =IF($G17="","",IF(CC17=$G17,"W","L")) -> L | CE17: =IF(CD17="W",$H17,0) -> 0 | CF17: =IFERROR(INDEX('Week 7 - Weekly Picks'!$B$1:$Q$50,MATCH('Week 7 - Pool'!CF$3,'Week 7 - Weekly Picks'!$B$1:$B$50,0),MATCH('Week 7 - Pool'!$A17,'Week 7 - Weekly Picks'!$B$1:$Q$1,0)),"") -> Notre Dame | CG17: =IF($G17="","",IF(CF17=$G17,"W","L")) -> L | CH17: =IF(CG17="W",$H17,0) -> 0 | CI17: =IFERROR(INDEX('Week 7 - Weekly Picks'!$B$1:$Q$50,MATCH('Week 7 - Pool'!CI$3,'Week 7 - Weekly Picks'!$B$1:$B$50,0),MATCH('Week 7 - Pool'!$A17,'Week 7 - Weekly Picks'!$B$1:$Q$1,0)),"") -> Notre Dame | CJ17: =IF($G17="","",IF(CI17=$G17,"W","L")) -> L | CK17: =IF(CJ17="W",$H17,0) -> 0 | CM17: 14 | CN17: =D17 -> Notre Dame | CO17: =COUNTIF(I17:CI17,D17) -> 25 | CP17: =F17 -> BYU | CQ17: =COUNTIF(I17:CI17,F17) -> 2 | CR17: =CO17+CQ17 -> 27
J23: =COUNTIF(J4:J21,"W") -> 9 | K23: =SUM(K4:K21) -> 9 | M23: =COUNTIF(M4:M21,"W") -> 9 | N23: =SUM(N4:N21) -> 9 | P23: =COUNTIF(P4:P21,"W") -> 8 | Q23: =SUM(Q4:Q21) -> 8 | S23: =COUNTIF(S4:S21,"W") -> 9 | T23: =SUM(T4:T21) -> 9 | V23: =COUNTIF(V4:V21,"W") -> 9 | W23: =SUM(W4:W21) -> 9 | Y23: =COUNTIF(Y4:Y21,"W") -> 9 | Z23: =SUM(Z4:Z21) -> 9 | AB23: =COUNTIF(AB4:AB21,"W") -> 8 | AC23: =SUM(AC4:AC21) -> 8 | AE23: =COUNTIF(AE4:AE21,"W") -> 8 | AF23: =SUM(AF4:AF21) -> 8 | AH23: =COUNTIF(AH4:AH21,"W") -> 9 | AI23: =SUM(AI4:AI21) -> 9 | AK23: =COUNTIF(AK4:AK21,"W") -> 8 | AL23: =SUM(AL4:AL21) -> 8 | AN23: =COUNTIF(AN4:AN21,"W") -> 8 | AO23: =SUM(AO4:AO21) -> 8 | AQ23: =COUNTIF(AQ4:AQ21,"W") -> 10 | AR23: =SUM(AR4:AR21) -> 10 | AT23: =COUNTIF(AT4:AT21,"W") -> 7 | AU23: =SUM(AU4:AU21) -> 7 | AW23: =COUNTIF(AW4:AW21,"W") -> 8 | AX23: =SUM(AX4:AX21) -> 8 | AZ23: =COUNTIF(AZ4:AZ21,"W") -> 6 | BA23: =SUM(BA4:BA21) -> 6 | BC23: =COUNTIF(BC4:BC21,"W") -> 9 | BD23: =SUM(BD4:BD21) -> 9 | BF23: =COUNTIF(BF4:BF21,"W") -> 8 | BG23: =SUM(BG4:BG21) -> 8 | BI23: =COUNTIF(BI4:BI21,"W") -> 6 | BJ23: =SUM(BJ4:BJ21) -> 6 | BL23: =COUNTIF(BL4:BL21,"W") -> 8 | BM23: =SUM(BM4:BM21) -> 9 | BO23: =COUNTIF(BO4:BO21,"W") -> 6 | BP23: =SUM(BP4:BP21) -> 6 | BR23: =COUNTIF(BR4:BR21,"W") -> 9 | BS23: =SUM(BS4:BS21) -> 9 | BU23: =COUNTIF(BU4:BU21,"W") -> 7 | BV23: =SUM(BV4:BV21) -> 8 | BX23: =COUNTIF(BX4:BX21,"W") -> 9 | BY23: =SUM(BY4:BY21) -> 9 | CA23: =COUNTIF(CA4:CA21,"W") -> 7 | CB23: =SUM(CB4:CB21) -> 7 | CD23: =COUNTIF(CD4:CD21,"W") -> 10 | CE23: =SUM(CE4:CE21) -> 10 | CG23: =COUNTIF(CG4:CG21,"W") -> 10 | CH23: =SUM(CH4:CH21) -> 10 | CJ23: =COUNTIF(CJ4:CJ21,"W") -> 6 | CK23: =SUM(CK4:CK21) -> 6
B24: =_xlfn.CONCAT(D17," vs. ",F17, " O/U Score") -> Notre Dame vs. BYU O/U Score | F24: 52 | I24: O/U | J24: =INDEX('Week 7 - Weekly Picks'!$B$1:$Q$50,MATCH('Week 7 - Pool'!I$3,'Week 7 - Weekly Picks'!$B$1:$B$50,0),16) -> 46 | L24: O/U | M24: =INDEX('Week 7 - Weekly Picks'!$B$1:$Q$50,MATCH('Week 7 - Pool'!L$3,'Week 7 - Weekly Picks'!$B$1:$B$50,0),16) -> 55 | O24: O/U | P24: =INDEX('Week 7 - Weekly Picks'!$B$1:$Q$50,MATCH('Week 7 - Pool'!O$3,'Week 7 - Weekly Picks'!$B$1:$B$50,0),16) -> 52 | R24: O/U | S24: =INDEX('Week 7 - Weekly Picks'!$B$1:$Q$50,MATCH('Week 7 - Pool'!R$3,'Week 7 - Weekly Picks'!$B$1:$B$50,0),16) -> 27 | U24: O/U | V24: =INDEX('Week 7 - Weekly Picks'!$B$1:$Q$50,MATCH('Week 7 - Pool'!U$3,'Week 7 - Weekly Picks'!$B$1:$B$50,0),16) -> 45 | X24: O/U | Y24: =INDEX('Week 7 - Weekly Picks'!$B$1:$Q$50,MATCH('Week 7 - Pool'!X$3,'Week 7 - Weekly Picks'!$B$1:$B$50,0),16) -> 45 | AA24: O/U | AB24: =INDEX('Week 7 - Weekly Picks'!$B$1:$Q$50,MATCH('Week 7 - Pool'!AA$3,'Week 7 - Weekly Picks'!$B$1:$B$50,0),16) -> 52 | AD24: O/U | AE24: =INDEX('Week 7 - Weekly Picks'!$B$1:$Q$50,MATCH('Week 7 - Pool'!AD$3,'Week 7 - Weekly Picks'!$B$1:$B$50,0),16) -> 50 | AG24: O/U | AH24: =INDEX('Week 7 - Weekly Picks'!$B$1:$Q$50,MATCH('Week 7 - Pool'!AG$3,'Week 7 - Weekly Picks'!$B$1:$B$50,0),16) -> 54 | AJ24: O/U | AK24: =INDEX('Week 7 - Weekly Picks'!$B$1:$Q$50,MATCH('Week 7 - Pool'!AJ$3,'Week 7 - Weekly Picks'!$B$1:$B$50,0),16) -> 39 | AM24: O/U | AN24: =INDEX('Week 7 - Weekly Picks'!$B$1:$Q$50,MATCH('Week 7 - Pool'!AM$3,'Week 7 - Weekly Picks'!$B$1:$B$50,0),16) -> 45 | AP24: O/U | AQ24: =INDEX('Week 7 - Weekly Picks'!$B$1:$Q$50,MATCH('Week 7 - Pool'!AP$3,'Week 7 - Weekly Picks'!$B$1:$B$50,0),16) -> 48 | AS24: O/U | AT24: =INDEX('Week 7 - Weekly Picks'!$B$1:$Q$50,MATCH('Week 7 - Pool'!AS$3,'Week 7 - Weekly Picks'!$B$1:$B$50,0),16) -> 61 | AV24: O/U | AW24: =INDEX('Week 7 - Weekly Picks'!$B$1:$Q$50,MATCH('Week 7 - Pool'!AV$3,'Week 7 - Weekly Picks'!$B$1:$B$50,0),16) -> 41 | AY24: O/U | AZ24: =INDEX('Week 7 - Weekly Picks'!$B$1:$Q$50,MATCH('Week 7 - Pool'!AY$3,'Week 7 - Weekly Picks'!$B$1:$B$50,0),16) -> 47 | BB24: O/U | BC24: =INDEX('Week 7 - Weekly Picks'!$B$1:$Q$50,MATCH('Week 7 - Pool'!BB$3,'Week 7 - Weekly Picks'!$B$1:$B$50,0),16) -> 48 | BE24: O/U | BF24: =INDEX('Week 7 - Weekly Picks'!$B$1:$Q$50,MATCH('Week 7 - Pool'!BE$3,'Week 7 - Weekly Picks'!$B$1:$B$50,0),16) -> 59 | BH24: O/U | BI24: =INDEX('Week 7 - Weekly Picks'!$B$1:$Q$50,MATCH('Week 7 - Pool'!BH$3,'Week 7 - Weekly Picks'!$B$1:$B$50,0),16) -> 48 | BK24: O/U | BL24: =INDEX('Week 7 - Weekly Picks'!$B$1:$Q$50,MATCH('Week 7 - Pool'!BK$3,'Week 7 - Weekly Picks'!$B$1:$B$50,0),16) -> 42 | BN24: O/U | BO24: =INDEX('Week 7 - Weekly Picks'!$B$1:$Q$50,MATCH('Week 7 - Pool'!BN$3,'Week 7 - Weekly Picks'!$B$1:$B$50,0),16) -> 48 | BQ24: O/U | BR24: =INDEX('Week 7 - Weekly Picks'!$B$1:$Q$50,MATCH('Week 7 - Pool'!BQ$3,'Week 7 - Weekly Picks'!$B$1:$B$50,0),16) -> 65 | BT24: O/U | BU24: =INDEX('Week 7 - Weekly Picks'!$B$1:$Q$50,MATCH('Week 7 - Pool'!BT$3,'Week 7 - Weekly Picks'!$B$1:$B$50,0),16) -> 43 | BW24: O/U | BX24: =INDEX('Week 7 - Weekly Picks'!$B$1:$Q$50,MATCH('Week 7 - Pool'!BW$3,'Week 7 - Weekly Picks'!$B$1:$B$50,0),16) -> 47 | BZ24: O/U | CA24: =INDEX('Week 7 - Weekly Picks'!$B$1:$Q$50,MATCH('Week 7 - Pool'!BZ$3,'Week 7 - Weekly Picks'!$B$1:$B$50,0),16) -> 50 | CC24: O/U | CD24: =INDEX('Week 7 - Weekly Picks'!$B$1:$Q$50,MATCH('Week 7 - Pool'!CC$3,'Week 7 - Weekly Picks'!$B$1:$B$50,0),16) -> 45 | CF24: O/U | CG24: =INDEX('Week 7 - Weekly Picks'!$B$1:$Q$50,MATCH('Week 7 - Pool'!CF$3,'Week 7 - Weekly Picks'!$B$1:$B$50,0),16) -> 63 | CI24: O/U | CJ24: =INDEX('Week 7 - Weekly Picks'!$B$1:$Q$50,MATCH('Week 7 - Pool'!CI$3,'Week 7 - Weekly Picks'!$B$1:$B$50,0),16) -> 60
I25: Diff. | J25: =ABS($F$24-J24) -> 6 | L25: Diff. | M25: =ABS($F$24-M24) -> 3 | O25: Diff. | P25: =ABS($F$24-P24) -> 0 | R25: Diff. | S25: =ABS($F$24-S24) -> 25 | U25: Diff. | V25: =ABS($F$24-V24) -> 7 | X25: Diff. | Y25: =ABS($F$24-Y24) -> 7 | AA25: Diff. | AB25: =ABS($F$24-AB24) -> 0 | AD25: Diff. | AE25: =ABS($F$24-AE24) -> 2 | AG25: Diff. | AH25: =ABS($F$24-AH24) -> 2 | AJ25: Diff. | AK25: =ABS($F$24-AK24) -> 13 | AM25: Diff. | AN25: =ABS($F$24-AN24) -> 7 | AP25: Diff. | AQ25: =ABS($F$24-AQ24) -> 4 | AS25: Diff. | AT25: =ABS($F$24-AT24) -> 9 | AV25: Diff. | AW25: =ABS($F$24-AW24) -> 11 | AY25: Diff. | AZ25: =ABS($F$24-AZ24) -> 5 | BB25: Diff. | BC25: =ABS($F$24-BC24) -> 4 | BE25: Diff. | BF25: =ABS($F$24-BF24) -> 7 | BH25: Diff. | BI25: =ABS($F$24-BI24) -> 4 | BK25: Diff. | BL25: =ABS($F$24-BL24) -> 10 | BN25: Diff. | BO25: =ABS($F$24-BO24) -> 4 | BQ25: Diff. | BR25: =ABS($F$24-BR24) -> 13 | BT25: Diff. | BU25: =ABS($F$24-BU24) -> 9 | BW25: Diff. | BX25: =ABS($F$24-BX24) -> 5 | BZ25: Diff. | CA25: =ABS($F$24-CA24) -> 2 | CC25: Diff. | CD25: =ABS($F$24-CD24) -> 7 | CF25: Diff. | CG25: =ABS($F$24-CG24) -> 11 | CI25: Diff. | CJ25: =ABS($F$24-CJ24) -> 8

Sheet Week 7 Pool Results
J3: WEEK 7 RESULTS | R3: Season Cumulative Results | X3: Season Cumulative Results
B6: Player # | C6: Player Names | D6: Games Correct | E6: Point Value | F6: O/U Diff | J6: Place | K6: Player Names | L6: Games Correct | M6: Point Value | N6: O/U Diff | R6: Place | S6: Player Names | T6: Games Correct | X6: Place | Y6: Player Names | Z6: Total Wins | AA6: Week 1 | AB6: Week 2 | AC6: Week 3 | AD6: Week 4 | AE6: Week 5 | AF6: Week 6 | AG6: Week 7 | AH6: Week 8 | AI6: Week 9 | AJ6: Week 10 | AK6: Week 11 | AL6: Week 12 | AM6: Week 13
B7: 1 | C7: Aaron Lippe | D7: {=INDEX('Week 7 - Pool'!$I$3:$CK$25,21,MATCH('Week 7 Pool Results'!C7,'Week 7 - Pool'!$I$3:$CK$3,0)+1)} -> 9 | E7: {=INDEX('Week 7 - Pool'!$I$3:$CK$25,21,MATCH('Week 7 Pool Results'!C7,'Week 7 - Pool'!$I$3:$CK$3,0)+2)} -> 9 | F7: {=INDEX('Week 7 - Pool'!$I$3:$CK$25,23,MATCH('Week 7 Pool Results'!C7,'Week 7 - Pool'!$I$3:$CK$3,0)+1)} -> 6 | J7: 1 | K7: {=_xlfn._xlws.SORT(C7:F33,{3,4},{-1,1},FALSE)} -> Hayden Sluder | L7: 10 | M7: 10 | N7: 4 | R7: 1 | S7: {=_xlfn._xlws.SORT(Y7:Z33,2,-1,FALSE)} -> Aaron Lippe | T7: 71 | X7: 1 | Y7: Brian Rich | Z7: =SUM(AA7:AM7) -> 57 | AA7: =SUMIFS('Cumulative Stats '!$F$8:$F$967,'Cumulative Stats '!$C$8:$C$967,'Week 7 Pool Results'!AA$6,'Cumulative Stats '!$E$8:$E$967,'Week 7 Pool Results'!$Y7) -> 10 | AB7: =SUMIFS('Cumulative Stats '!$F$8:$F$967,'Cumulative Stats '!$C$8:$C$967,'Week 7 Pool Results'!AB$6,'Cumulative Stats '!$E$8:$E$967,'Week 7 Pool Results'!$Y7) -> 8 | AC7: =SUMIFS('Cumulative Stats '!$F$8:$F$967,'Cumulative Stats '!$C$8:$C$967,'Week 7 Pool Results'!AC$6,'Cumulative Stats '!$E$8:$E$967,'Week 7 Pool Results'!$Y7) -> 6 | AD7: =SUMIFS('Cumulative Stats '!$F$8:$F$967,'Cumulative Stats '!$C$8:$C$967,'Week 7 Pool Results'!AD$6,'Cumulative Stats '!$E$8:$E$967,'Week 7 Pool Results'!$Y7) -> 7 | AE7: =SUMIFS('Cumulative Stats '!$F$8:$F$967,'Cumulative Stats '!$C$8:$C$967,'Week 7 Pool Results'!AE$6,'Cumulative Stats '!$E$8:$E$967,'Week 7 Pool Results'!$Y7) -> 10 | AF7: =SUMIFS('Cumulative Stats '!$F$8:$F$967,'Cumulative Stats '!$C$8:$C$967,'Week 7 Pool Results'!AF$6,'Cumulative Stats '!$E$8:$E$967,'Week 7 Pool Results'!$Y7) -> 8 | AG7: =SUMIF($K$7:$K$45,$Y7,$L$7:$L$45) -> 8
B8: 2 | C8: Brett | D8: {=INDEX('Week 7 - Pool'!$I$3:$CK$25,21,MATCH('Week 7 Pool Results'!C8,'Week 7 - Pool'!$I$3:$CK$3,0)+1)} -> 9 | E8: {=INDEX('Week 7 - Pool'!$I$3:$CK$25,21,MATCH('Week 7 Pool Results'!C8,'Week 7 - Pool'!$I$3:$CK$3,0)+2)} -> 9 | F8: {=INDEX('Week 7 - Pool'!$I$3:$CK$25,23,MATCH('Week 7 Pool Results'!C8,'Week 7 - Pool'!$I$3:$CK$3,0)+1)} -> 3 | J8: 2 | K8: Tim G | L8: 10 | M8: 10 | N8: 7 | R8: 2 | S8: C-Lar | T8: 70 | X8: 2 | Y8: Rocky | Z8: =SUM(AA8:AM8) -> 67 | AA8: =SUMIFS('Cumulative Stats '!$F$8:$F$967,'Cumulative Stats '!$C$8:$C$967,'Week 7 Pool Results'!AA$6,'Cumulative Stats '!$E$8:$E$967,'Week 7 Pool Results'!$Y8) -> 11 | AB8: =SUMIFS('Cumulative Stats '!$F$8:$F$967,'Cumulative Stats '!$C$8:$C$967,'Week 7 Pool Results'!AB$6,'Cumulative Stats '!$E$8:$E$967,'Week 7 Pool Results'!$Y8) -> 9 | AC8: =SUMIFS('Cumulative Stats '!$F$8:$F$967,'Cumulative Stats '!$C$8:$C$967,'Week 7 Pool Results'!AC$6,'Cumulative Stats '!$E$8:$E$967,'Week 7 Pool Results'!$Y8) -> 11 | AD8: =SUMIFS('Cumulative Stats '!$F$8:$F$967,'Cumulative Stats '!$C$8:$C$967,'Week 7 Pool Results'!AD$6,'Cumulative Stats '!$E$8:$E$967,'Week 7 Pool Results'!$Y8) -> 11 | AE8: =SUMIFS('Cumulative Stats '!$F$8:$F$967,'Cumulative Stats '!$C$8:$C$967,'Week 7 Pool Results'!AE$6,'Cumulative Stats '!$E$8:$E$967,'Week 7 Pool Results'!$Y8) -> 10 | AF8: =SUMIFS('Cumulative Stats '!$F$8:$F$967,'Cumulative Stats '!$C$8:$C$967,'Week 7 Pool Results'!AF$6,'Cumulative Stats '!$E$8:$E$967,'Week 7 Pool Results'!$Y8) -> 7 | AG8: =SUMIF($K$7:$K$45,$Y8,$L$7:$L$45) -> 8
B9: 3 | C9: Brian Rich | D9: {=INDEX('Week 7 - Pool'!$I$3:$CK$25,21,MATCH('Week 7 Pool Results'!C9,'Week 7 - Pool'!$I$3:$CK$3,0)+1)} -> 8 | E9: {=INDEX('Week 7 - Pool'!$I$3:$CK$25,21,MATCH('Week 7 Pool Results'!C9,'Week 7 - Pool'!$I$3:$CK$3,0)+2)} -> 8 | F9: {=INDEX('Week 7 - Pool'!$I$3:$CK$25,23,MATCH('Week 7 Pool Results'!C9,'Week 7 - Pool'!$I$3:$CK$3,0)+1)} -> 0 | J9: 3 | K9: Uncle Bill | L9: 10 | M9: 10 | N9: 11 | R9: 3 | S9: Uncle Bill | T9: 69 | X9: 3 | Y9: Bryan Chambers | Z9: =SUM(AA9:AM9) -> 60 | AA9: =SUMIFS('Cumulative Stats '!$F$8:$F$967,'Cumulative Stats '!$C$8:$C$967,'Week 7 Pool Results'!AA$6,'Cumulative Stats '!$E$8:$E$967,'Week 7 Pool Results'!$Y9) -> 10 | AB9: =SUMIFS('Cumulative Stats '!$F$8:$F$967,'Cumulative Stats '!$C$8:$C$967,'Week 7 Pool Results'!AB$6,'Cumulative Stats '!$E$8:$E$967,'Week 7 Pool Results'!$Y9) -> 8 | AC9: =SUMIFS('Cumulative Stats '!$F$8:$F$967,'Cumulative Stats '!$C$8:$C$967,'Week 7 Pool Results'!AC$6,'Cumulative Stats '!$E$8:$E$967,'Week 7 Pool Results'!$Y9) -> 8 | AD9: =SUMIFS('Cumulative Stats '!$F$8:$F$967,'Cumulative Stats '!$C$8:$C$967,'Week 7 Pool Results'!AD$6,'Cumulative Stats '!$E$8:$E$967,'Week 7 Pool Results'!$Y9) -> 8 | AE9: =SUMIFS('Cumulative Stats '!$F$8:$F$967,'Cumulative Stats '!$C$8:$C$967,'Week 7 Pool Results'!AE$6,'Cumulative Stats '!$E$8:$E$967,'Week 7 Pool Results'!$Y9) -> 10 | AF9: =SUMIFS('Cumulative Stats '!$F$8:$F$967,'Cumulative Stats '!$C$8:$C$967,'Week 7 Pool Results'!AF$6,'Cumulative Stats '!$E$8:$E$967,'Week 7 Pool Results'!$Y9) -> 7 | AG9: =SUMIF($K$7:$K$45,$Y9,$L$7:$L$45) -> 9
B10: 4 | C10: Brock Larson | D10: {=INDEX('Week 7 - Pool'!$I$3:$CK$25,21,MATCH('Week 7 Pool Results'!C10,'Week 7 - Pool'!$I$3:$CK$3,0)+1)} -> 9 | E10: {=INDEX('Week 7 - Pool'!$I$3:$CK$25,21,MATCH('Week 7 Pool Results'!C10,'Week 7 - Pool'!$I$3:$CK$3,0)+2)} -> 9 | F10: {=INDEX('Week 7 - Pool'!$I$3:$CK$25,23,MATCH('Week 7 Pool Results'!C10,'Week 7 - Pool'!$I$3:$CK$3,0)+1)} -> 25 | J10: 4 | K10: Christi | L10: 9 | M10: 9 | N10: 2 | R10: 4 | S10: Cage | T10: 68 | X10: 4 | Y10: Cage | Z10: =SUM(AA10:AM10) -> 68 | AA10: =SUMIFS('Cumulative Stats '!$F$8:$F$967,'Cumulative Stats '!$C$8:$C$967,'Week 7 Pool Results'!AA$6,'Cumulative Stats '!$E$8:$E$967,'Week 7 Pool Results'!$Y10) -> 12 | AB10: =SUMIFS('Cumulative Stats '!$F$8:$F$967,'Cumulative Stats '!$C$8:$C$967,'Week 7 Pool Results'!AB$6,'Cumulative Stats '!$E$8:$E$967,'Week 7 Pool Results'!$Y10) -> 10 | AC10: =SUMIFS('Cumulative Stats '!$F$8:$F$967,'Cumulative Stats '!$C$8:$C$967,'Week 7 Pool Results'!AC$6,'Cumulative Stats '!$E$8:$E$967,'Week 7 Pool Results'!$Y10) -> 10 | AD10: =SUMIFS('Cumulative Stats '!$F$8:$F$967,'Cumulative Stats '!$C$8:$C$967,'Week 7 Pool Results'!AD$6,'Cumulative Stats '!$E$8:$E$967,'Week 7 Pool Results'!$Y10) -> 9 | AE10: =SUMIFS('Cumulative Stats '!$F$8:$F$967,'Cumulative Stats '!$C$8:$C$967,'Week 7 Pool Results'!AE$6,'Cumulative Stats '!$E$8:$E$967,'Week 7 Pool Results'!$Y10) -> 10 | AF10: =SUMIFS('Cumulative Stats '!$F$8:$F$967,'Cumulative Stats '!$C$8:$C$967,'Week 7 Pool Results'!AF$6,'Cumulative Stats '!$E$8:$E$967,'Week 7 Pool Results'!$Y10) -> 9 | AG10: =SUMIF($K$7:$K$45,$Y10,$L$7:$L$45) -> 8
B11: 5 | C11: Bryan Chambers | D11: {=INDEX('Week 7 - Pool'!$I$3:$CK$25,21,MATCH('Week 7 Pool Results'!C11,'Week 7 - Pool'!$I$3:$CK$3,0)+1)} -> 9 | E11: {=INDEX('Week 7 - Pool'!$I$3:$CK$25,21,MATCH('Week 7 Pool Results'!C11,'Week 7 - Pool'!$I$3:$CK$3,0)+2)} -> 9 | F11: {=INDEX('Week 7 - Pool'!$I$3:$CK$25,23,MATCH('Week 7 Pool Results'!C11,'Week 7 - Pool'!$I$3:$CK$3,0)+1)} -> 7 | J11: 5 | K11: Brett | L11: 9 | M11: 9 | N11: 3 | R11: 5 | S11: T-Bone | T11: 68 | X11: 5 | Y11: Ramirez | Z11: =SUM(AA11:AM11) -> 53 | AA11: =SUMIFS('Cumulative Stats '!$F$8:$F$967,'Cumulative Stats '!$C$8:$C$967,'Week 7 Pool Results'!AA$6,'Cumulative Stats '!$E$8:$E$967,'Week 7 Pool Results'!$Y11) -> 11 | AB11: =SUMIFS('Cumulative Stats '!$F$8:$F$967,'Cumulative Stats '!$C$8:$C$967,'Week 7 Pool Results'!AB$6,'Cumulative Stats '!$E$8:$E$967,'Week 7 Pool Results'!$Y11) -> 6 | AC11: =SUMIFS('Cumulative Stats '!$F$8:$F$967,'Cumulative Stats '!$C$8:$C$967,'Week 7 Pool Results'!AC$6,'Cumulative Stats '!$E$8:$E$967,'Week 7 Pool Results'!$Y11) -> 8 | AD11: =SUMIFS('Cumulative Stats '!$F$8:$F$967,'Cumulative Stats '!$C$8:$C$967,'Week 7 Pool Results'!AD$6,'Cumulative Stats '!$E$8:$E$967,'Week 7 Pool Results'!$Y11) -> 9 | AE11: =SUMIFS('Cumulative Stats '!$F$8:$F$967,'Cumulative Stats '!$C$8:$C$967,'Week 7 Pool Results'!AE$6,'Cumulative Stats '!$E$8:$E$967,'Week 7 Pool Results'!$Y11) -> 7 | AF11: =SUMIFS('Cumulative Stats '!$F$8:$F$967,'Cumulative Stats '!$C$8:$C$967,'Week 7 Pool Results'!AF$6,'Cumulative Stats '!$E$8:$E$967,'Week 7 Pool Results'!$Y11) -> 6 | AG11: =SUMIF($K$7:$K$45,$Y11,$L$7:$L$45) -> 6
B12: 6 | C12: Busta | D12: {=INDEX('Week 7 - Pool'!$I$3:$CK$25,21,MATCH('Week 7 Pool Results'!C12,'Week 7 - Pool'!$I$3:$CK$3,0)+1)} -> 9 | E12: {=INDEX('Week 7 - Pool'!$I$3:$CK$25,21,MATCH('Week 7 Pool Results'!C12,'Week 7 - Pool'!$I$3:$CK$3,0)+2)} -> 9 | F12: {=INDEX('Week 7 - Pool'!$I$3:$CK$25,23,MATCH('Week 7 Pool Results'!C12,'Week 7 - Pool'!$I$3:$CK$3,0)+1)} -> 7 | J12: 6 | K12: Payton Newkirk | L12: 9 | M12: 9 | N12: 4 | R12: 6 | S12: Marcus | T12: 68 | X12: 6 | Y12: Steven Smith | Z12: =SUM(AA12:AM12) -> 58 | AA12: =SUMIFS('Cumulative Stats '!$F$8:$F$967,'Cumulative Stats '!$C$8:$C$967,'Week 7 Pool Results'!AA$6,'Cumulative Stats '!$E$8:$E$967,'Week 7 Pool Results'!$Y12) -> 10 | AB12: =SUMIFS('Cumulative Stats '!$F$8:$F$967,'Cumulative Stats '!$C$8:$C$967,'Week 7 Pool Results'!AB$6,'Cumulative Stats '!$E$8:$E$967,'Week 7 Pool Results'!$Y12) -> 10 | AC12: =SUMIFS('Cumulative Stats '!$F$8:$F$967,'Cumulative Stats '!$C$8:$C$967,'Week 7 Pool Results'!AC$6,'Cumulative Stats '!$E$8:$E$967,'Week 7 Pool Results'!$Y12) -> 11 | AD12: =SUMIFS('Cumulative Stats '!$F$8:$F$967,'Cumulative Stats '!$C$8:$C$967,'Week 7 Pool Results'!AD$6,'Cumulative Stats '!$E$8:$E$967,'Week 7 Pool Results'!$Y12) -> 7 | AE12: =SUMIFS('Cumulative Stats '!$F$8:$F$967,'Cumulative Stats '!$C$8:$C$967,'Week 7 Pool Results'!AE$6,'Cumulative Stats '!$E$8:$E$967,'Week 7 Pool Results'!$Y12) -> 10 | AF12: =SUMIFS('Cumulative Stats '!$F$8:$F$967,'Cumulative Stats '!$C$8:$C$967,'Week 7 Pool Results'!AF$6,'Cumulative Stats '!$E$8:$E$967,'Week 7 Pool Results'!$Y12) -> 3 | AG12: =SUMIF($K$7:$K$45,$Y12,$L$7:$L$45) -> 7
B13: 7 | C13: C-Lar | D13: {=INDEX('Week 7 - Pool'!$I$3:$CK$25,21,MATCH('Week 7 Pool Results'!C13,'Week 7 - Pool'!$I$3:$CK$3,0)+1)} -> 8 | E13: {=INDEX('Week 7 - Pool'!$I$3:$CK$25,21,MATCH('Week 7 Pool Results'!C13,'Week 7 - Pool'!$I$3:$CK$3,0)+2)} -> 8 | F13: {=INDEX('Week 7 - Pool'!$I$3:$CK$25,23,MATCH('Week 7 Pool Results'!C13,'Week 7 - Pool'!$I$3:$CK$3,0)+1)} -> 0 | J13: 7 | K13: T-Bone | L13: 9 | M13: 9 | N13: 5 | R13: 7 | S13: Rocky | T13: 67 | X13: 7 | Y13: Uncle Bill | Z13: =SUM(AA13:AM13) -> 69 | AA13: =SUMIFS('Cumulative Stats '!$F$8:$F$967,'Cumulative Stats '!$C$8:$C$967,'Week 7 Pool Results'!AA$6,'Cumulative Stats '!$E$8:$E$967,'Week 7 Pool Results'!$Y13) -> 12 | AB13: =SUMIFS('Cumulative Stats '!$F$8:$F$967,'Cumulative Stats '!$C$8:$C$967,'Week 7 Pool Results'!AB$6,'Cumulative Stats '!$E$8:$E$967,'Week 7 Pool Results'!$Y13) -> 10 | AC13: =SUMIFS('Cumulative Stats '!$F$8:$F$967,'Cumulative Stats '!$C$8:$C$967,'Week 7 Pool Results'!AC$6,'Cumulative Stats '!$E$8:$E$967,'Week 7 Pool Results'!$Y13) -> 11 | AD13: =SUMIFS('Cumulative Stats '!$F$8:$F$967,'Cumulative Stats '!$C$8:$C$967,'Week 7 Pool Results'!AD$6,'Cumulative Stats '!$E$8:$E$967,'Week 7 Pool Results'!$Y13) -> 8 | AE13: =SUMIFS('Cumulative Stats '!$F$8:$F$967,'Cumulative Stats '!$C$8:$C$967,'Week 7 Pool Results'!AE$6,'Cumulative Stats '!$E$8:$E$967,'Week 7 Pool Results'!$Y13) -> 10 | AF13: =SUMIFS('Cumulative Stats '!$F$8:$F$967,'Cumulative Stats '!$C$8:$C$967,'Week 7 Pool Results'!AF$6,'Cumulative Stats '!$E$8:$E$967,'Week 7 Pool Results'!$Y13) -> 8 | AG13: =SUMIF($K$7:$K$45,$Y13,$L$7:$L$45) -> 10
B14: 8 | C14: Cage | D14: {=INDEX('Week 7 - Pool'!$I$3:$CK$25,21,MATCH('Week 7 Pool Results'!C14,'Week 7 - Pool'!$I$3:$CK$3,0)+1)} -> 8 | E14: {=INDEX('Week 7 - Pool'!$I$3:$CK$25,21,MATCH('Week 7 Pool Results'!C14,'Week 7 - Pool'!$I$3:$CK$3,0)+2)} -> 8 | F14: {=INDEX('Week 7 - Pool'!$I$3:$CK$25,23,MATCH('Week 7 Pool Results'!C14,'Week 7 - Pool'!$I$3:$CK$3,0)+1)} -> 2 | J14: 8 | K14: Aaron Lippe | L14: 9 | M14: 9 | N14: 6 | R14: 8 | S14: Hayden Sluder | T14: 66 | X14: 8 | Y14: Hayden Sluder | Z14: =SUM(AA14:AM14) -> 66 | AA14: =SUMIFS('Cumulative Stats '!$F$8:$F$967,'Cumulative Stats '!$C$8:$C$967,'Week 7 Pool Results'!AA$6,'Cumulative Stats '!$E$8:$E$967,'Week 7 Pool Results'!$Y14) -> 13 | AB14: =SUMIFS('Cumulative Stats '!$F$8:$F$967,'Cumulative Stats '!$C$8:$C$967,'Week 7 Pool Results'!AB$6,'Cumulative Stats '!$E$8:$E$967,'Week 7 Pool Results'!$Y14) -> 9 | AC14: =SUMIFS('Cumulative Stats '!$F$8:$F$967,'Cumulative Stats '!$C$8:$C$967,'Week 7 Pool Results'!AC$6,'Cumulative Stats '!$E$8:$E$967,'Week 7 Pool Results'!$Y14) -> 8 | AD14: =SUMIFS('Cumulative Stats '!$F$8:$F$967,'Cumulative Stats '!$C$8:$C$967,'Week 7 Pool Results'!AD$6,'Cumulative Stats '!$E$8:$E$967,'Week 7 Pool Results'!$Y14) -> 10 | AE14: =SUMIFS('Cumulative Stats '!$F$8:$F$967,'Cumulative Stats '!$C$8:$C$967,'Week 7 Pool Results'!AE$6,'Cumulative Stats '!$E$8:$E$967,'Week 7 Pool Results'!$Y14) -> 10 | AF14: =SUMIFS('Cumulative Stats '!$F$8:$F$967,'Cumulative Stats '!$C$8:$C$967,'Week 7 Pool Results'!AF$6,'Cumulative Stats '!$E$8:$E$967,'Week 7 Pool Results'!$Y14) -> 6 | AG14: =SUMIF($K$7:$K$45,$Y14,$L$7:$L$45) -> 10
B15: 9 | C15: Christi | D15: {=INDEX('Week 7 - Pool'!$I$3:$CK$25,21,MATCH('Week 7 Pool Results'!C15,'Week 7 - Pool'!$I$3:$CK$3,0)+1)} -> 9 | E15: {=INDEX('Week 7 - Pool'!$I$3:$CK$25,21,MATCH('Week 7 Pool Results'!C15,'Week 7 - Pool'!$I$3:$CK$3,0)+2)} -> 9 | F15: {=INDEX('Week 7 - Pool'!$I$3:$CK$25,23,MATCH('Week 7 Pool Results'!C15,'Week 7 - Pool'!$I$3:$CK$3,0)+1)} -> 2 | J15: 9 | K15: Bryan Chambers | L15: 9 | M15: 9 | N15: 7 | R15: 9 | S15: Tim G | T15: 66 | X15: 9 | Y15: Pep | Z15: =SUM(AA15:AM15) -> 56 | AA15: =SUMIFS('Cumulative Stats '!$F$8:$F$967,'Cumulative Stats '!$C$8:$C$967,'Week 7 Pool Results'!AA$6,'Cumulative Stats '!$E$8:$E$967,'Week 7 Pool Results'!$Y15) -> 10 | AB15: =SUMIFS('Cumulative Stats '!$F$8:$F$967,'Cumulative Stats '!$C$8:$C$967,'Week 7 Pool Results'!AB$6,'Cumulative Stats '!$E$8:$E$967,'Week 7 Pool Results'!$Y15) -> 9 | AC15: =SUMIFS('Cumulative Stats '!$F$8:$F$967,'Cumulative Stats '!$C$8:$C$967,'Week 7 Pool Results'!AC$6,'Cumulative Stats '!$E$8:$E$967,'Week 7 Pool Results'!$Y15) -> 5 | AD15: =SUMIFS('Cumulative Stats '!$F$8:$F$967,'Cumulative Stats '!$C$8:$C$967,'Week 7 Pool Results'!AD$6,'Cumulative Stats '!$E$8:$E$967,'Week 7 Pool Results'!$Y15) -> 7 | AE15: =SUMIFS('Cumulative Stats '!$F$8:$F$967,'Cumulative Stats '!$C$8:$C$967,'Week 7 Pool Results'!AE$6,'Cumulative Stats '!$E$8:$E$967,'Week 7 Pool Results'!$Y15) -> 10 | AF15: =SUMIFS('Cumulative Stats '!$F$8:$F$967,'Cumulative Stats '!$C$8:$C$967,'Week 7 Pool Results'!AF$6,'Cumulative Stats '!$E$8:$E$967,'Week 7 Pool Results'!$Y15) -> 7 | AG15: =SUMIF($K$7:$K$45,$Y15,$L$7:$L$45) -> 8
B16: 10 | C16: Churchill | D16: {=INDEX('Week 7 - Pool'!$I$3:$CK$25,21,MATCH('Week 7 Pool Results'!C16,'Week 7 - Pool'!$I$3:$CK$3,0)+1)} -> 8 | E16: {=INDEX('Week 7 - Pool'!$I$3:$CK$25,21,MATCH('Week 7 Pool Results'!C16,'Week 7 - Pool'!$I$3:$CK$3,0)+2)} -> 8 | F16: {=INDEX('Week 7 - Pool'!$I$3:$CK$25,23,MATCH('Week 7 Pool Results'!C16,'Week 7 - Pool'!$I$3:$CK$3,0)+1)} -> 13 | J16: 10 | K16: Busta | L16: 9 | M16: 9 | N16: 7 | R16: 10 | S16: Payton Newkirk | T16: 66 | X16: 10 | Y16: Tim G | Z16: =SUM(AA16:AM16) -> 66 | AA16: =SUMIFS('Cumulative Stats '!$F$8:$F$967,'Cumulative Stats '!$C$8:$C$967,'Week 7 Pool Results'!AA$6,'Cumulative Stats '!$E$8:$E$967,'Week 7 Pool Results'!$Y16) -> 11 | AB16: =SUMIFS('Cumulative Stats '!$F$8:$F$967,'Cumulative Stats '!$C$8:$C$967,'Week 7 Pool Results'!AB$6,'Cumulative Stats '!$E$8:$E$967,'Week 7 Pool Results'!$Y16) -> 11 | AC16: =SUMIFS('Cumulative Stats '!$F$8:$F$967,'Cumulative Stats '!$C$8:$C$967,'Week 7 Pool Results'!AC$6,'Cumulative Stats '!$E$8:$E$967,'Week 7 Pool Results'!$Y16) -> 9 | AD16: =SUMIFS('Cumulative Stats '!$F$8:$F$967,'Cumulative Stats '!$C$8:$C$967,'Week 7 Pool Results'!AD$6,'Cumulative Stats '!$E$8:$E$967,'Week 7 Pool Results'!$Y16) -> 9 | AE16: =SUMIFS('Cumulative Stats '!$F$8:$F$967,'Cumulative Stats '!$C$8:$C$967,'Week 7 Pool Results'!AE$6,'Cumulative Stats '!$E$8:$E$967,'Week 7 Pool Results'!$Y16) -> 10 | AF16: =SUMIFS('Cumulative Stats '!$F$8:$F$967,'Cumulative Stats '!$C$8:$C$967,'Week 7 Pool Results'!AF$6,'Cumulative Stats '!$E$8:$E$967,'Week 7 Pool Results'!$Y16) -> 6 | AG16: =SUMIF($K$7:$K$45,$Y16,$L$7:$L$45) -> 10
B17: 11 | C17: Hayden P | D17: {=INDEX('Week 7 - Pool'!$I$3:$CK$25,21,MATCH('Week 7 Pool Results'!C17,'Week 7 - Pool'!$I$3:$CK$3,0)+1)} -> 8 | E17: {=INDEX('Week 7 - Pool'!$I$3:$CK$25,21,MATCH('Week 7 Pool Results'!C17,'Week 7 - Pool'!$I$3:$CK$3,0)+2)} -> 8 | F17: {=INDEX('Week 7 - Pool'!$I$3:$CK$25,23,MATCH('Week 7 Pool Results'!C17,'Week 7 - Pool'!$I$3:$CK$3,0)+1)} -> 7 | J17: 11 | K17: Rocky | L17: 8 | M17: 9 | N17: 10 | R17: 11 | S17: Brett | T17: 65 | X17: 11 | Y17: C-Lar | Z17: =SUM(AA17:AM17) -> 70 | AA17: =SUMIFS('Cumulative Stats '!$F$8:$F$967,'Cumulative Stats '!$C$8:$C$967,'Week 7 Pool Results'!AA$6,'Cumulative Stats '!$E$8:$E$967,'Week 7 Pool Results'!$Y17) -> 12 | AB17: =SUMIFS('Cumulative Stats '!$F$8:$F$967,'Cumulative Stats '!$C$8:$C$967,'Week 7 Pool Results'!AB$6,'Cumulative Stats '!$E$8:$E$967,'Week 7 Pool Results'!$Y17) -> 12 | AC17: =SUMIFS('Cumulative Stats '!$F$8:$F$967,'Cumulative Stats '!$C$8:$C$967,'Week 7 Pool Results'!AC$6,'Cumulative Stats '!$E$8:$E$967,'Week 7 Pool Results'!$Y17) -> 11 | AD17: =SUMIFS('Cumulative Stats '!$F$8:$F$967,'Cumulative Stats '!$C$8:$C$967,'Week 7 Pool Results'!AD$6,'Cumulative Stats '!$E$8:$E$967,'Week 7 Pool Results'!$Y17) -> 9 | AE17: =SUMIFS('Cumulative Stats '!$F$8:$F$967,'Cumulative Stats '!$C$8:$C$967,'Week 7 Pool Results'!AE$6,'Cumulative Stats '!$E$8:$E$967,'Week 7 Pool Results'!$Y17) -> 11 | AF17: =SUMIFS('Cumulative Stats '!$F$8:$F$967,'Cumulative Stats '!$C$8:$C$967,'Week 7 Pool Results'!AF$6,'Cumulative Stats '!$E$8:$E$967,'Week 7 Pool Results'!$Y17) -> 7 | AG17: =SUMIF($K$7:$K$45,$Y17,$L$7:$L$45) -> 8
B18: 12 | C18: Hayden Sluder | D18: {=INDEX('Week 7 - Pool'!$I$3:$CK$25,21,MATCH('Week 7 Pool Results'!C18,'Week 7 - Pool'!$I$3:$CK$3,0)+1)} -> 10 | E18: {=INDEX('Week 7 - Pool'!$I$3:$CK$25,21,MATCH('Week 7 Pool Results'!C18,'Week 7 - Pool'!$I$3:$CK$3,0)+2)} -> 10 | F18: {=INDEX('Week 7 - Pool'!$I$3:$CK$25,23,MATCH('Week 7 Pool Results'!C18,'Week 7 - Pool'!$I$3:$CK$3,0)+1)} -> 4 | J18: 12 | K18: Stanton | L18: 9 | M18: 9 | N18: 13 | R18: 12 | S18: Michael | T18: 65 | X18: 12 | Y18: Churchill | Z18: =SUM(AA18:AM18) -> 61 | AA18: =SUMIFS('Cumulative Stats '!$F$8:$F$967,'Cumulative Stats '!$C$8:$C$967,'Week 7 Pool Results'!AA$6,'Cumulative Stats '!$E$8:$E$967,'Week 7 Pool Results'!$Y18) -> 11 | AB18: =SUMIFS('Cumulative Stats '!$F$8:$F$967,'Cumulative Stats '!$C$8:$C$967,'Week 7 Pool Results'!AB$6,'Cumulative Stats '!$E$8:$E$967,'Week 7 Pool Results'!$Y18) -> 11 | AC18: =SUMIFS('Cumulative Stats '!$F$8:$F$967,'Cumulative Stats '!$C$8:$C$967,'Week 7 Pool Results'!AC$6,'Cumulative Stats '!$E$8:$E$967,'Week 7 Pool Results'!$Y18) -> 8 | AD18: =SUMIFS('Cumulative Stats '!$F$8:$F$967,'Cumulative Stats '!$C$8:$C$967,'Week 7 Pool Results'!AD$6,'Cumulative Stats '!$E$8:$E$967,'Week 7 Pool Results'!$Y18) -> 9 | AE18: =SUMIFS('Cumulative Stats '!$F$8:$F$967,'Cumulative Stats '!$C$8:$C$967,'Week 7 Pool Results'!AE$6,'Cumulative Stats '!$E$8:$E$967,'Week 7 Pool Results'!$Y18) -> 10 | AF18: =SUMIFS('Cumulative Stats '!$F$8:$F$967,'Cumulative Stats '!$C$8:$C$967,'Week 7 Pool Results'!AF$6,'Cumulative Stats '!$E$8:$E$967,'Week 7 Pool Results'!$Y18) -> 4 | AG18: =SUMIF($K$7:$K$45,$Y18,$L$7:$L$45) -> 8
B19: 13 | C19: John Carter | D19: {=INDEX('Week 7 - Pool'!$I$3:$CK$25,21,MATCH('Week 7 Pool Results'!C19,'Week 7 - Pool'!$I$3:$CK$3,0)+1)} -> 7 | E19: {=INDEX('Week 7 - Pool'!$I$3:$CK$25,21,MATCH('Week 7 Pool Results'!C19,'Week 7 - Pool'!$I$3:$CK$3,0)+2)} -> 7 | F19: {=INDEX('Week 7 - Pool'!$I$3:$CK$25,23,MATCH('Week 7 Pool Results'!C19,'Week 7 - Pool'!$I$3:$CK$3,0)+1)} -> 9 | J19: 13 | K19: Brock Larson | L19: 9 | M19: 9 | N19: 25 | R19: 13 | S19: Hayden P | T19: 63 | X19: 13 | Y19: Christi | Z19: =SUM(AA19:AM19) -> 58 | AA19: =SUMIFS('Cumulative Stats '!$F$8:$F$967,'Cumulative Stats '!$C$8:$C$967,'Week 7 Pool Results'!AA$6,'Cumulative Stats '!$E$8:$E$967,'Week 7 Pool Results'!$Y19) -> 11 | AB19: =SUMIFS('Cumulative Stats '!$F$8:$F$967,'Cumulative Stats '!$C$8:$C$967,'Week 7 Pool Results'!AB$6,'Cumulative Stats '!$E$8:$E$967,'Week 7 Pool Results'!$Y19) -> 10 | AC19: =SUMIFS('Cumulative Stats '!$F$8:$F$967,'Cumulative Stats '!$C$8:$C$967,'Week 7 Pool Results'!AC$6,'Cumulative Stats '!$E$8:$E$967,'Week 7 Pool Results'!$Y19) -> 8 | AD19: =SUMIFS('Cumulative Stats '!$F$8:$F$967,'Cumulative Stats '!$C$8:$C$967,'Week 7 Pool Results'!AD$6,'Cumulative Stats '!$E$8:$E$967,'Week 7 Pool Results'!$Y19) -> 9 | AE19: =SUMIFS('Cumulative Stats '!$F$8:$F$967,'Cumulative Stats '!$C$8:$C$967,'Week 7 Pool Results'!AE$6,'Cumulative Stats '!$E$8:$E$967,'Week 7 Pool Results'!$Y19) -> 6 | AF19: =SUMIFS('Cumulative Stats '!$F$8:$F$967,'Cumulative Stats '!$C$8:$C$967,'Week 7 Pool Results'!AF$6,'Cumulative Stats '!$E$8:$E$967,'Week 7 Pool Results'!$Y19) -> 5 | AG19: =SUMIF($K$7:$K$45,$Y19,$L$7:$L$45) -> 9
... B33: 27 | C33: Young | D33: {=INDEX('Week 7 - Pool'!$I$3:$CK$25,21,MATCH('Week 7 Pool Results'!C33,'Week 7 - Pool'!$I$3:$CK$3,0)+1)} -> 6 | E33: {=INDEX('Week 7 - Pool'!$I$3:$CK$25,21,MATCH('Week 7 Pool Results'!C33,'Week 7 - Pool'!$I$3:$CK$3,0)+2)} -> 6 | F33: {=INDEX('Week 7 - Pool'!$I$3:$CK$25,23,MATCH('Week 7 Pool Results'!C33,'Week 7 - Pool'!$I$3:$CK$3,0)+1)} -> 8 | J33: 27 | K33: Young | L33: 6 | M33: 6 | N33: 8 | R33: 27 | S33: John Carter | T33: 47 | X33: 27 | Y33: Saas | Z33: =SUM(AA33:AM33) -> 60 | AA33: =SUMIFS('Cumulative Stats '!$F$8:$F$967,'Cumulative Stats '!$C$8:$C$967,'Week 7 Pool Results'!AA$6,'Cumulative Stats '!$E$8:$E$967,'Week 7 Pool Results'!$Y33) -> 12 | AB33: =SUMIFS('Cumulative Stats '!$F$8:$F$967,'Cumulative Stats '!$C$8:$C$967,'Week 7 Pool Results'!AB$6,'Cumulative Stats '!$E$8:$E$967,'Week 7 Pool Results'!$Y33) -> 8 | AC33: =SUMIFS('Cumulative Stats '!$F$8:$F$967,'Cumulative Stats '!$C$8:$C$967,'Week 7 Pool Results'!AC$6,'Cumulative Stats '!$E$8:$E$967,'Week 7 Pool Results'!$Y33) -> 9 | AD33: =SUMIFS('Cumulative Stats '!$F$8:$F$967,'Cumulative Stats '!$C$8:$C$967,'Week 7 Pool Results'!AD$6,'Cumulative Stats '!$E$8:$E$967,'Week 7 Pool Results'!$Y33) -> 9 | AE33: =SUMIFS('Cumulative Stats '!$F$8:$F$967,'Cumulative Stats '!$C$8:$C$967,'Week 7 Pool Results'!AE$6,'Cumulative Stats '!$E$8:$E$967,'Week 7 Pool Results'!$Y33) -> 10 | AF33: =SUMIFS('Cumulative Stats '!$F$8:$F$967,'Cumulative Stats '!$C$8:$C$967,'Week 7 Pool Results'!AF$6,'Cumulative Stats '!$E$8:$E$967,'Week 7 Pool Results'!$Y33) -> 6 | AG33: =SUMIF($K$7:$K$45,$Y33,$L$7:$L$45) -> 6

Sheet Week 7 - Weekly Picks
A1: Game Selection Number | C1: 1 | D1: 2 | E1: 3 | F1: 4 | G1: 5 | H1: 6 | I1: 7 | J1: 8 | K1: 9 | L1: 10 | M1: 11 | N1: 12 | O1: 13 | P1: 14 | Q1: 15
A2: Game Point Value | B2: 1 | C2: 1 | D2: 1 | E2: 1 | F2: 1 | G2: 1 | H2: 1 | I2: 1 | J2: 1 | K2: 1 | L2: 1 | M2: 1 | N2: 1 | O2: 1 | P2: 1 | Q2: 2
A3: Timestamp | B3: Name | C3: Ohio State @ Indiana | D3: Penn State @ Michigan | E3: Florida @ Texas | F3: Miss State @ LSU | G3: Virginia @ SMU | H3: Kansas @ K-State | I3: Auburn @ Georgia | J3: Mizzou @ Ole Miss | K3: Wisconsin @ UCLA | L3: Kentucky @ OU | M3: Ok State @ Hou | N3: Nebraska @ Oregon | O3: TCU @ Baylor | P3: ***Notre Dame @ BYU*** | Q3: Total Points: ND @ BYU
A4: 46306.839 | B4: Teresa Kacerguis | C4: Ohio State | D4: Michigan | E4: Texas | F4: Miss State | G4: SMU | H4: Kansas | I4: Georgia | J4: Ole Miss | K4: UCLA | L4: Kentucky | M4: Ok State | N4: Oregon | O4: Baylor | P4: Notre Dame | Q4: 50
A5: 46306.843 | B5: Cage | C5: Ohio State | D5: Michigan | E5: Texas | F5: Miss State | G5: SMU | H5: K-State | I5: Georgia | J5: Ole Miss | K5: UCLA | L5: Kentucky | M5: Hou | N5: Nebraska | O5: Baylor | P5: Notre Dame | Q5: 50
A6: 46306.922 | B6: Brock Larson | C6: Ohio State | D6: Penn State | E6: Texas | F6: LSU | G6: SMU | H6: K-State | I6: Georgia | J6: Ole Miss | K6: Wisconsin | L6: Kentucky | M6: Hou | N6: Oregon | O6: TCU | P6: Notre Dame | Q6: 27
A7: 46309.414 | B7: T-Bone | C7: Ohio State | D7: Michigan | E7: Texas | F7: LSU | G7: SMU | H7: K-State | I7: Georgia | J7: Ole Miss | K7: UCLA | L7: Kentucky | M7: Ok State | N7: Oregon | O7: Baylor | P7: Notre Dame | Q7: 47
A8: 46309.527 | B8: Michael | C8: Ohio State | D8: Penn State | E8: Texas | F8: LSU | G8: SMU | H8: K-State | I8: Georgia | J8: Mizzou | K8: UCLA | L8: Kentucky | M8: Ok State | N8: Nebraska | O8: Baylor | P8: Notre Dame | Q8: 47
A9: 46309.554 | B9: Churchill | C9: Ohio State | D9: Michigan | E9: Texas | F9: LSU | G9: SMU | H9: K-State | I9: Georgia | J9: Ole Miss | K9: Wisconsin | L9: OU | M9: Hou | N9: Oregon | O9: Baylor | P9: Notre Dame | Q9: 39
A10: 46309.592 | B10: Busta | C10: Ohio State | D10: Michigan | E10: Texas | F10: LSU | G10: SMU | H10: K-State | I10: Georgia | J10: Ole Miss | K10: UCLA | L10: Kentucky | M10: Ok State | N10: Nebraska | O10: TCU | P10: Notre Dame | Q10: 45
A11: 46309.78 | B11: Brett | C11: Ohio State | D11: Michigan | E11: Texas | F11: LSU | G11: SMU | H11: K-State | I11: Georgia | J11: Ole Miss | K11: UCLA | L11: Kentucky | M11: Hou | N11: Nebraska | O11: Baylor | P11: Notre Dame | Q11: 55
A12: 46309.785 | B12: Hayden P | C12: Ohio State | D12: Michigan | E12: Florida | F12: Miss State | G12: SMU | H12: K-State | I12: Georgia | J12: Mizzou | K12: UCLA | L12: Kentucky | M12: Hou | N12: Nebraska | O12: Baylor | P12: Notre Dame | Q12: 45
A13: 46310.367 | B13: Aaron Lippe | C13: Ohio State | D13: Michigan | E13: Texas | F13: LSU | G13: SMU | H13: K-State | I13: Georgia | J13: Ole Miss | K13: UCLA | L13: OU | M13: Hou | N13: Oregon | O13: Baylor | P13: Notre Dame | Q13: 46
A14: 46310.431 | B14: Brian Rich | C14: Ohio State | D14: Michigan | E14: Texas | F14: LSU | G14: SMU | H14: K-State | I14: Georgia | J14: Ole Miss | K14: UCLA | L14: OU | M14: Ok State | N14: Oregon | O14: Baylor | P14: Notre Dame | Q14: 52
A15: 46310.695 | B15: Tim G | C15: Ohio State | D15: Michigan | E15: Texas | F15: LSU | G15: SMU | H15: K-State | I15: Georgia | J15: Ole Miss | K15: UCLA | L15: Kentucky | M15: Hou | N15: Oregon | O15: Baylor | P15: Notre Dame | Q15: 45
... A30: 46311.631 | B30: C-Lar | C30: Indiana | D30: Michigan | E30: Texas | F30: LSU | G30: SMU | H30: K-State | I30: Georgia | J30: Ole Miss | K30: UCLA | L30: Kentucky | M30: Ok State | N30: Oregon | O30: Baylor | P30: Notre Dame | Q30: 52

Sheet Data Setup
A1: Player List | B1: Resposne Name | H1: Selection Choice Number
G2: GAME # | H2: 1 | I2: 2 | J2: 3 | K2: 4 | L2: 5 | M2: 6 | N2: 7 | O2: 8 | P2: 9 | Q2: 10 | R2: 11 | S2: 12
A3: Aaron Lippe | B3: Aaron Lippe | C3: Aaron Lippe | G3: 1 | H3: Ohio State | I3: Indiana
A4: Brett | B4: Brett | C4: Brett | G4: 2 | H4: Penn State | I4: Michigan
A5: Brian Rich | B5: Brian Rich | C5: Brian Rich | G5: 3 | H5: Florida | I5: Texas
A6: Brock Larson | B6: Brock Larson | C6: Brock Larson | G6: 4 | H6: Miss State | I6: LSU
A7: Bryan Chambers | B7: Bryan Chambers | C7: Bryan Chambers | G7: 5 | H7: Virginia | I7: SMU
A8: Busta | B8: Busta | C8: Busta | G8: 6 | H8: Kansas | I8: K-State
A9: C-Lar | B9: C-Lar | G9: 7 | H9: Auburn | I9: Georgia
A10: Cage | B10: Cage | C10: Cage | G10: 8 | H10: Mizzou | I10: Ole Miss
A11: Christi | B11: Christi Cecil | C11: Christi Cecil | G11: 9 | H11: Wisconsin | I11: UCLA
A12: Churchill | B12: Churchill | C12: Churchill | G12: 10 | H12: Kentucky | I12: OU
A13: Hayden P | B13: Hayden Percefull | C13: Hayden P | G13: 11 | H13: OK State | I13: Hou
A14: Hayden Sluder | B14: Hayden sluder | C14: Hayden Sluder | G14: 12 | H14: Nebraska | I14: Oregon
A15: John Carter | B15: John Carter | C15: John Carter | G15: 13 | H15: TCU | I15: Baylor
A16: Marcus | B16: Marcus | C16: Marcus | G16: 14 | H16: Notre Dame | I16: BYU
A17: Michael | B17: Michael | C17: Michael | G17: 15
A18: Payton Newkirk | B18: Payton Newkirk | C18: Payton Newkirk | G18: 16
A19: Pep | B19: Pep | C19: Pep | G19: 17
A20: Ramirez | B20: Alec Ramirez | C20: Alec Ramirez | G20: 18
A21: Rocky | B21: Rocky Clark | C21: Rocky Clark | G21: 19
A22: Saas | B22: Brian Solemsaas | C22: Brian Solemsaas | G22: 20
A23: Stanton | B23: Stanton | C23: Stanton | G23: 21
A24: Steven Smith | B24: Steven Smith | C24: Steven Smith | G24: 22
A25: T-Bone | B25: T-Bone | C25: T-Bone | G25: 23
A26: Teresa Kacerguis | B26: Teresa Kacerguis | C26: Teresa Kacerguis | G26: 24
A27: Tim G | B27: Tim G | C27: Tim G | G27: 25
A28: Uncle Bill | B28: Uncle Bill | C28: Uncle Bill | G28: 26
A29: Young | B29: Bryan Young | C29: Bryan Young | G29: 27
G30: 28
G31: 29
G32: 30
G33: 31
G34: 32
G35: 33
G36: 34
G37: 35
G38: 36
G39: 37
G40: 38
G41: 39
... G48: 46

Sheet Data Cleanup
C1: Timestamp | D1: Name | E1: Ohio State @ Indiana | F1: Penn State @ Michigan | G1: Florida @ Texas | H1: Miss State @ LSU | I1: Virginia @ SMU | J1: Kansas @ K-State | K1: Auburn @ Georgia | L1: Mizzou @ Ole Miss | M1: Wisconsin @ UCLA | N1: Kentucky @ OU | O1: Ok State @ Hou | P1: Nebraska @ Oregon | Q1: TCU @ Baylor | R1: ***Notre Dame @ BYU*** | S1: Total Points: ND @ BYU
A2: 1 | B2: =COUNTIF($D$2:$D$39,$D2) -> 1 | C2: 46306.839 | D2: Teresa Kacerguis | E2: Ohio State | F2: Michigan | G2: Texas | H2: Miss State | I2: SMU | J2: Kansas | K2: Georgia | L2: Ole Miss | M2: UCLA | N2: Kentucky | O2: Ok State | P2: Oregon | Q2: Baylor | R2: Notre Dame | S2: 50
A3: 2 | B3: =COUNTIF($D$2:$D$39,$D3) -> 1 | C3: 46306.843 | D3: Cage | E3: Ohio State | F3: Michigan | G3: Texas | H3: Miss State | I3: SMU | J3: K-State | K3: Georgia | L3: Ole Miss | M3: UCLA | N3: Kentucky | O3: Hou | P3: Nebraska | Q3: Baylor | R3: Notre Dame | S3: 50
A4: 3 | B4: =COUNTIF($D$2:$D$39,$D4) -> 1 | C4: 46306.922 | D4: Brock Larson | E4: Ohio State | F4: Penn State | G4: Texas | H4: LSU | I4: SMU | J4: K-State | K4: Georgia | L4: Ole Miss | M4: Wisconsin | N4: Kentucky | O4: Hou | P4: Oregon | Q4: TCU | R4: Notre Dame | S4: 27
A5: 4 | B5: =COUNTIF($D$2:$D$39,$D5) -> 1 | C5: 46309.414 | D5: T-Bone | E5: Ohio State | F5: Michigan | G5: Texas | H5: LSU | I5: SMU | J5: K-State | K5: Georgia | L5: Ole Miss | M5: UCLA | N5: Kentucky | O5: Ok State | P5: Oregon | Q5: Baylor | R5: Notre Dame | S5: 47
A6: 5 | B6: =COUNTIF($D$2:$D$39,$D6) -> 1 | C6: 46309.527 | D6: Michael | E6: Ohio State | F6: Penn State | G6: Texas | H6: LSU | I6: SMU | J6: K-State | K6: Georgia | L6: Mizzou | M6: UCLA | N6: Kentucky | O6: Ok State | P6: Nebraska | Q6: Baylor | R6: Notre Dame | S6: 47
A7: 6 | B7: =COUNTIF($D$2:$D$39,$D7) -> 1 | C7: 46309.554 | D7: Churchill | E7: Ohio State | F7: Michigan | G7: Texas | H7: LSU | I7: SMU | J7: K-State | K7: Georgia | L7: Ole Miss | M7: Wisconsin | N7: OU | O7: Hou | P7: Oregon | Q7: Baylor | R7: Notre Dame | S7: 39
A8: 7 | B8: =COUNTIF($D$2:$D$39,$D8) -> 1 | C8: 46309.592 | D8: Busta | E8: Ohio State | F8: Michigan | G8: Texas | H8: LSU | I8: SMU | J8: K-State | K8: Georgia | L8: Ole Miss | M8: UCLA | N8: Kentucky | O8: Ok State | P8: Nebraska | Q8: TCU | R8: Notre Dame | S8: 45
A9: 8 | B9: =COUNTIF($D$2:$D$39,$D9) -> 1 | C9: 46309.78 | D9: Brett | E9: Ohio State | F9: Michigan | G9: Texas | H9: LSU | I9: SMU | J9: K-State | K9: Georgia | L9: Ole Miss | M9: UCLA | N9: Kentucky | O9: Hou | P9: Nebraska | Q9: Baylor | R9: Notre Dame | S9: 55
A10: 9 | B10: =COUNTIF($D$2:$D$39,$D10) -> 1 | C10: 46309.785 | D10: Hayden P | E10: Ohio State | F10: Michigan | G10: Florida | H10: Miss State | I10: SMU | J10: K-State | K10: Georgia | L10: Mizzou | M10: UCLA | N10: Kentucky | O10: Hou | P10: Nebraska | Q10: Baylor | R10: Notre Dame | S10: 45
A11: 10 | B11: =COUNTIF($D$2:$D$39,$D11) -> 1 | C11: 46310.367 | D11: Aaron Lippe | E11: Ohio State | F11: Michigan | G11: Texas | H11: LSU | I11: SMU | J11: K-State | K11: Georgia | L11: Ole Miss | M11: UCLA | N11: OU | O11: Hou | P11: Oregon | Q11: Baylor | R11: Notre Dame | S11: 46
A12: 11 | B12: =COUNTIF($D$2:$D$39,$D12) -> 1 | C12: 46310.431 | D12: Brian Rich | E12: Ohio State | F12: Michigan | G12: Texas | H12: LSU | I12: SMU | J12: K-State | K12: Georgia | L12: Ole Miss | M12: UCLA | N12: OU | O12: Ok State | P12: Oregon | Q12: Baylor | R12: Notre Dame | S12: 52
A13: 12 | B13: =COUNTIF($D$2:$D$39,$D13) -> 1 | C13: 46310.695 | D13: Tim G | E13: Ohio State | F13: Michigan | G13: Texas | H13: LSU | I13: SMU | J13: K-State | K13: Georgia | L13: Ole Miss | M13: UCLA | N13: Kentucky | O13: Hou | P13: Oregon | Q13: Baylor | R13: Notre Dame | S13: 45
... A28: 27 | B28: =COUNTIF($D$2:$D$39,$D28) -> 1 | C28: 46311.631 | D28: C-Lar | E28: Indiana | F28: Michigan | G28: Texas | H28: LSU | I28: SMU | J28: K-State | K28: Georgia | L28: Ole Miss | M28: UCLA | N28: Kentucky | O28: Ok State | P28: Oregon | Q28: Baylor | R28: Notre Dame | S28: 52

Sheet Responses - Raw Data
A1: Timestamp | B1: Name | C1: Ohio State @ Indiana | D1: Penn State @ Michigan | E1: Florida @ Texas | F1: Miss State @ LSU | G1: Virginia @ SMU | H1: Kansas @ K-State | I1: Auburn @ Georgia | J1: Mizzou @ Ole Miss | K1: Wisconsin @ UCLA | L1: Kentucky @ OU | M1: Ok State @ Hou | N1: Nebraska @ Oregon | O1: TCU @ Baylor | P1: ***Notre Dame @ BYU*** | Q1: Total Points: ND @ BYU
A2: 46306.839 | B2: Teresa Kacerguis | C2: Ohio State | D2: Michigan | E2: Texas | F2: Miss State | G2: SMU | H2: Kansas | I2: Georgia | J2: Ole Miss | K2: UCLA | L2: Kentucky | M2: Ok State | N2: Oregon | O2: Baylor | P2: Notre Dame | Q2: 50
A3: 46306.843 | B3: Cage | C3: Ohio State | D3: Michigan | E3: Texas | F3: Miss State | G3: SMU | H3: K-State | I3: Georgia | J3: Ole Miss | K3: UCLA | L3: Kentucky | M3: Hou | N3: Nebraska | O3: Baylor | P3: Notre Dame | Q3: 50
A4: 46306.922 | B4: Brock Larson | C4: Ohio State | D4: Penn State | E4: Texas | F4: LSU | G4: SMU | H4: K-State | I4: Georgia | J4: Ole Miss | K4: Wisconsin | L4: Kentucky | M4: Hou | N4: Oregon | O4: TCU | P4: Notre Dame | Q4: 27
A5: 46309.414 | B5: T-Bone | C5: Ohio State | D5: Michigan | E5: Texas | F5: LSU | G5: SMU | H5: K-State | I5: Georgia | J5: Ole Miss | K5: UCLA | L5: Kentucky | M5: Ok State | N5: Oregon | O5: Baylor | P5: Notre Dame | Q5: 47
A6: 46309.527 | B6: Michael | C6: Ohio State | D6: Penn State | E6: Texas | F6: LSU | G6: SMU | H6: K-State | I6: Georgia | J6: Mizzou | K6: UCLA | L6: Kentucky | M6: Ok State | N6: Nebraska | O6: Baylor | P6: Notre Dame | Q6: 47
A7: 46309.554 | B7: Churchill | C7: Ohio State | D7: Michigan | E7: Texas | F7: LSU | G7: SMU | H7: K-State | I7: Georgia | J7: Ole Miss | K7: Wisconsin | L7: OU | M7: Hou | N7: Oregon | O7: Baylor | P7: Notre Dame | Q7: 39
A8: 46309.592 | B8: Busta | C8: Ohio State | D8: Michigan | E8: Texas | F8: LSU | G8: SMU | H8: K-State | I8: Georgia | J8: Ole Miss | K8: UCLA | L8: Kentucky | M8: Ok State | N8: Nebraska | O8: TCU | P8: Notre Dame | Q8: 45
A9: 46309.778 | B9: Brett | C9: Ohio State | D9: Michigan | E9: Texas | F9: LSU | G9: SMU | H9: K-State | I9: Georgia | J9: Ole Miss | K9: UCLA | L9: Kentucky | M9: Hou | N9: Nebraska | O9: Baylor | P9: Notre Dame | Q9: 55
A10: 46309.78 | B10: Brett | C10: Ohio State | D10: Michigan | E10: Texas | F10: LSU | G10: SMU | H10: K-State | I10: Georgia | J10: Ole Miss | K10: UCLA | L10: Kentucky | M10: Hou | N10: Nebraska | O10: Baylor | P10: Notre Dame | Q10: 55
A11: 46309.785 | B11: Hayden P | C11: Ohio State | D11: Michigan | E11: Florida | F11: Miss State | G11: SMU | H11: K-State | I11: Georgia | J11: Mizzou | K11: UCLA | L11: Kentucky | M11: Hou | N11: Nebraska | O11: Baylor | P11: Notre Dame | Q11: 45
A12: 46310.021 | B12: Uncle Bill | C12: Ohio State | D12: Michigan | E12: Texas | F12: LSU | G12: SMU | H12: K-State | I12: Georgia | J12: Mizzou | K12: UCLA | L12: OU | M12: Hou | N12: Oregon | O12: TCU | P12: Notre Dame | Q12: 63
A13: 46310.367 | B13: Aaron Lippe | C13: Ohio State | D13: Michigan | E13: Texas | F13: LSU | G13: SMU | H13: K-State | I13: Georgia | J13: Ole Miss | K13: UCLA | L13: OU | M13: Hou | N13: Oregon | O13: Baylor | P13: Notre Dame | Q13: 46
... A30: 46311.631 | B30: C-Lar | C30: Indiana | D30: Michigan | E30: Texas | F30: LSU | G30: SMU | H30: K-State | I30: Georgia | J30: Ole Miss | K30: UCLA | L30: Kentucky | M30: Ok State | N30: Oregon | O30: Baylor | P30: Notre Dame | Q30: 52

Sheet Cumulative Stats 
D4: WEEK 1 RESULTS
D7: Place | E7: Player Names | F7: Games Correct | G7: Point Value | H7: O/U Diff
C8: Week 1 | D8: 1 | E8: Hayden Sluder | F8: 13 | G8: 14 | H8: 16
C9: Week 1 | D9: 2 | E9: C-Lar | F9: 12 | G9: 13 | H9: 5
C10: Week 1 | D10: 3 | E10: T-Bone | F10: 12 | G10: 13 | H10: 5
C11: Week 1 | D11: 4 | E11: Payton Newkirk | F11: 12 | G11: 13 | H11: 10
C12: Week 1 | D12: 5 | E12: Uncle Bill | F12: 12 | G12: 13 | H12: 13
C13: Week 1 | D13: 6 | E13: Cage | F13: 12 | G13: 13 | H13: 19
C14: Week 1 | D14: 7 | E14: Saas | F14: 12 | G14: 13 | H14: 20
C15: Week 1 | D15: 8 | E15: Marcus | F15: 11 | G15: 12 | H15: 3
C16: Week 1 | D16: 9 | E16: Aaron Lippe | F16: 11 | G16: 12 | H16: 10
C17: Week 1 | D17: 10 | E17: Busta | F17: 11 | G17: 12 | H17: 11
C18: Week 1 | D18: 11 | E18: Churchill | F18: 11 | G18: 12 | H18: 11
C19: Week 1 | D19: 12 | E19: Rocky | F19: 11 | G19: 12 | H19: 12
... C34: Week 1 | D34: 27 | E34: John Carter | F34: 0 | G34: 0 | H34: 0
D38: WEEK 2 RESULTS
D41: Place | E41: Player Names | F41: Games Correct | G41: Point Value | H41: O/U Diff
C42: Week 2 | D42: 1 | E42: Marcus | F42: 12 | G42: 13 | H42: 0
C43: Week 2 | D43: 2 | E43: C-Lar | F43: 12 | G43: 13 | H43: 2
C44: Week 2 | D44: 3 | E44: Tim G | F44: 11 | G44: 12 | H44: 0
C45: Week 2 | D45: 4 | E45: Michael | F45: 11 | G45: 12 | H45: 1
C46: Week 2 | D46: 5 | E46: Aaron Lippe | F46: 11 | G46: 12 | H46: 2
C47: Week 2 | D47: 6 | E47: Churchill | F47: 11 | G47: 12 | H47: 3
C48: Week 2 | D48: 7 | E48: Young | F48: 12 | G48: 12 | H48: 5
C49: Week 2 | D49: 8 | E49: Cage | F49: 10 | G49: 11 | H49: 2
C50: Week 2 | D50: 9 | E50: Christi | F50: 10 | G50: 11 | H50: 5
C51: Week 2 | D51: 10 | E51: Steven Smith | F51: 10 | G51: 11 | H51: 5
C52: Week 2 | D52: 11 | E52: Stanton | F52: 10 | G52: 11 | H52: 7
C53: Week 2 | D53: 12 | E53: T-Bone | F53: 11 | G53: 11 | H53: 7
... C68: Week 2 | D68: 27 | E68: Teresa Kacerguis | F68: 6 | G68: 7 | H68: 17
D72: WEEK 3 RESULTS
D75: Place | E75: Player Names | F75: Games Correct | G75: Point Value | H75: O/U Diff
C76: Week 3 | D76: 1 | E76: Marcus | F76: 12 | G76: 13 | H76: 1
C77: Week 3 | D77: 2 | E77: T-Bone | F77: 12 | G77: 13 | H77: 4
C78: Week 3 | D78: 3 | E78: Steven Smith | F78: 11 | G78: 12 | H78: 0
C79: Week 3 | D79: 4 | E79: Aaron Lippe | F79: 11 | G79: 12 | H79: 5
C80: Week 3 | D80: 5 | E80: Rocky | F80: 11 | G80: 11 | H80: 1
C81: Week 3 | D81: 6 | E81: Michael | F81: 10 | G81: 11 | H81: 3
C82: Week 3 | D82: 7 | E82: Uncle Bill | F82: 11 | G82: 11 | H82: 5
C83: Week 3 | D83: 8 | E83: Payton Newkirk | F83: 10 | G83: 11 | H83: 6
C84: Week 3 | D84: 9 | E84: C-Lar | F84: 11 | G84: 11 | H84: 7
C85: Week 3 | D85: 10 | E85: Tim G | F85: 9 | G85: 10 | H85: 1
C86: Week 3 | D86: 11 | E86: Young | F86: 10 | G86: 10 | H86: 4
C87: Week 3 | D87: 12 | E87: Hayden P | F87: 10 | G87: 10 | H87: 8
... C102: Week 3 | D102: 27 | E102: Pep | F102: 5 | G102: 5 | H102: 14
D109: WEEK 4 RESULTS
D112: Place | E112: Player Names | F112: Games Correct | G112: Point Value | H112: O/U Diff
C113: Week 4 | D113: 1 | E113: Rocky | F113: 11 | G113: 12 | H113: 1
C114: Week 4 | D114: 2 | E114: Payton Newkirk | F114: 11 | G114: 12 | H114: 12
C115: Week 4 | D115: 3 | E115: Stanton | F115: 11 | G115: 12 | H115: 12
C116: Week 4 | D116: 4 | E116: Hayden Sluder | F116: 10 | G116: 11 | H116: 11
C117: Week 4 | D117: 5 | E117: Aaron Lippe | F117: 10 | G117: 11 | H117: 13
C118: Week 4 | D118: 6 | E118: Busta | F118: 10 | G118: 11 | H118: 25
C119: Week 4 | D119: 7 | E119: Brett | F119: 9 | G119: 10 | H119: 4
C120: Week 4 | D120: 8 | E120: Churchill | F120: 9 | G120: 10 | H120: 7
C121: Week 4 | D121: 9 | E121: Tim G | F121: 9 | G121: 10 | H121: 7
C122: Week 4 | D122: 10 | E122: Cage | F122: 9 | G122: 10 | H122: 9
C123: Week 4 | D123: 11 | E123: Young | F123: 9 | G123: 10 | H123: 9
C124: Week 4 | D124: 12 | E124: Ramirez | F124: 9 | G124: 10 | H124: 10
... C139: Week 4 | D139: 27 | E139: Pep | F139: 7 | G139: 7 | H139: 14
D143: WEEK 5 RESULTS
D146: Place | E146: Player Names | F146: Games Correct | G146: Point Value | H146: O/U Diff
C147: Week 5 | D147: 1 | E147: Marcus | F147: 11 | G147: 12 | H147: 2
C148: Week 5 | D148: 2 | E148: C-Lar | F148: 11 | G148: 12 | H148: 3
C149: Week 5 | D149: 3 | E149: T-Bone | F149: 11 | G149: 12 | H149: 5
C150: Week 5 | D150: 4 | E150: Brock Larson | F150: 11 | G150: 12 | H150: 34
C151: Week 5 | D151: 5 | E151: Tim G | F151: 10 | G151: 11 | H151: 0
C152: Week 5 | D152: 6 | E152: Aaron Lippe | F152: 10 | G152: 11 | H152: 1
C153: Week 5 | D153: 7 | E153: Cage | F153: 10 | G153: 11 | H153: 2
C154: Week 5 | D154: 8 | E154: Hayden Sluder | F154: 10 | G154: 11 | H154: 2
C155: Week 5 | D155: 9 | E155: Michael | F155: 10 | G155: 11 | H155: 2
C156: Week 5 | D156: 10 | E156: Bryan Chambers | F156: 10 | G156: 11 | H156: 3
C157: Week 5 | D157: 11 | E157: Churchill | F157: 10 | G157: 11 | H157: 4
C158: Week 5 | D158: 12 | E158: Rocky | F158: 10 | G158: 11 | H158: 4
... C173: Week 5 | D173: 27 | E173: Christi | F173: 6 | G173: 6 | H173: 8
D178: WEEK 6 RESULTS
D181: Place | E181: Player Names | F181: Games Correct | G181: Point Value | H181: O/U Diff
C182: Week 6 | D182: 1 | E182: Michael | F182: 10 | G182: 11 | H182: 12
C183: Week 6 | D183: 2 | E183: Cage | F183: 9 | G183: 10 | H183: 8
C184: Week 6 | D184: 3 | E184: John Carter | F184: 9 | G184: 10 | H184: 15
C185: Week 6 | D185: 4 | E185: Aaron Lippe | F185: 9 | G185: 10 | H185: 17
C186: Week 6 | D186: 5 | E186: Brett | F186: 8 | G186: 9 | H186: 8
C187: Week 6 | D187: 6 | E187: Uncle Bill | F187: 8 | G187: 9 | H187: 26
C188: Week 6 | D188: 7 | E188: Busta | F188: 8 | G188: 9 | H188: 28
C189: Week 6 | D189: 8 | E189: Rocky | F189: 7 | G189: 8 | H189: 8
C190: Week 6 | D190: 9 | E190: Teresa Kacerguis | F190: 7 | G190: 8 | H190: 8
C191: Week 6 | D191: 10 | E191: Brian Rich | F191: 8 | G191: 8 | H191: 11
C192: Week 6 | D192: 11 | E192: Bryan Chambers | F192: 7 | G192: 8 | H192: 13
C193: Week 6 | D193: 12 | E193: Ramirez | F193: 6 | G193: 7 | H193: 4
... C208: Week 6 | D208: 27 | E208: Steven Smith | F208: 3 | G208: 3 | H208: 10

Sheet Sheet1
C5: Wake Forrest @ Purdue | D5: UCF @ Pitt | E5: Cal @ Syracuse | F5: Duke @ Illinois | G5: Rutgers @ Boston College | H5: Mizzou @ Kansas | I5: Arizona State @ Texas A&M | J5: OU @ Michigan | K5: Washington State @ Kansas State | L5: Zona @ BYU | M5: Miss State @ Minnesota | N5: Iowa State @ Iowa | O5: Arkansas @ Utah | P5: Ohio State @ Texas | Q5: Total Points: OSU @ UT
