Workbook

Sheet Schedule - Email Group
A1: 2026
A2: Reference | C2: 1Q Email PaRama Trade Partners
A3: Names and Emails: | C3: Trades in January | E3: * | F3: Trades in February | I3: Trades in March
C4: Practitioner - Giver | D4: Client - Receiver | E4: =IF(B5='Participants - Email Group'!$I$1, "*", "") | F4: Practitioner - Giver | G4: Client - Receiver | H4: =IF(E5='Participants - Email Group'!$I$1, "*", "") | I4: Practitioner - Giver | J4: Client - Receiver | K4: =IF(H5='Participants - Email Group'!$I$1, "*", "")
A5: =VLOOKUP($B5,'Participants - Email Group'!$A:$E, 5, FALSE) -> Carla Van Voorst - carla99@shaw.ca | B5: 1 | C5: =IF(ISERROR(VLOOKUP($B5,'Participants - Email Group'!$A:$E, 2, FALSE)), "", VLOOKUP($B5,'Participants - Email Group'!$A:$E, 2, FALSE)) -> Carla Van Voorst | D5: =IF(ISERROR(VLOOKUP('Schedule - Email Group'!E5,'Participants - Email Group'!$A:$D, 2, FALSE)), "", VLOOKUP('Schedule - Email Group'!E5,'Participants - Email Group'!$A:$D, 2, FALSE)) -> Lisa Babcock | E5: 9 | F5: =IF(ISERROR(VLOOKUP('Schedule - Email Group'!$B5,'Participants - Email Group'!$A:$H, 2, FALSE)), "", VLOOKUP('Schedule - Email Group'!$B5,'Participants - Email Group'!$A:$H, 2, FALSE)) -> Carla Van Voorst | G5: =IF(ISERROR(VLOOKUP('Schedule - Email Group'!H5,'Participants - Email Group'!$A:$D, 2, FALSE)), "", VLOOKUP('Schedule - Email Group'!H5,'Participants - Email Group'!$A:$D, 2, FALSE)) -> Mary Ward | H5: =IF(E5='Participants - Email Group'!$I$1,1,(E5+1)) -> 10 | I5: =IF(ISERROR(VLOOKUP('Schedule - Email Group'!$B5,'Participants - Email Group'!$A:$H, 2, FALSE)), "", VLOOKUP('Schedule - Email Group'!$B5,'Participants - Email Group'!$A:$H, 2, FALSE)) -> Carla Van Voorst | J5: =IF(ISERROR(VLOOKUP('Schedule - Email Group'!K5,'Participants - Email Group'!$A:$D, 2, FALSE)), "", VLOOKUP('Schedule - Email Group'!K5,'Participants - Email Group'!$A:$D, 2, FALSE)) -> Jenna Caplette | K5: =IF(H5='Participants - Email Group'!$I$1,1,(H5+1)) -> 11
A6: =VLOOKUP($B6,'Participants - Email Group'!$A:$E, 5, FALSE) -> Cress Spicer - cress08@gmail.com | B6: =B5+1 -> 2 | C6: =IF(ISERROR(VLOOKUP($B6,'Participants - Email Group'!$A:$E, 2, FALSE)), "", VLOOKUP($B6,'Participants - Email Group'!$A:$E, 2, FALSE)) -> Cress Spicer | D6: =IF(ISERROR(VLOOKUP('Schedule - Email Group'!E6,'Participants - Email Group'!$A:$D, 2, FALSE)), "", VLOOKUP('Schedule - Email Group'!E6,'Participants - Email Group'!$A:$D, 2, FALSE)) -> Mary Ward | E6: =E5+1 -> 10 | F6: =IF(ISERROR(VLOOKUP('Schedule - Email Group'!$B6,'Participants - Email Group'!$A:$H, 2, FALSE)), "", VLOOKUP('Schedule - Email Group'!$B6,'Participants - Email Group'!$A:$H, 2, FALSE)) -> Cress Spicer | G6: =IF(ISERROR(VLOOKUP('Schedule - Email Group'!H6,'Participants - Email Group'!$A:$D, 2, FALSE)), "", VLOOKUP('Schedule - Email Group'!H6,'Participants - Email Group'!$A:$D, 2, FALSE)) -> Jenna Caplette | H6: =IF(E6='Participants - Email Group'!$I$1,1,(E6+1)) -> 11 | I6: =IF(ISERROR(VLOOKUP('Schedule - Email Group'!$B6,'Participants - Email Group'!$A:$H, 2, FALSE)), "", VLOOKUP('Schedule - Email Group'!$B6,'Participants - Email Group'!$A:$H, 2, FALSE)) -> Cress Spicer | J6: =IF(ISERROR(VLOOKUP('Schedule - Email Group'!K6,'Participants - Email Group'!$A:$D, 2, FALSE)), "", VLOOKUP('Schedule - Email Group'!K6,'Participants - Email Group'!$A:$D, 2, FALSE)) -> Carla Van Voorst | K6: =IF(H6='Participants - Email Group'!$I$1,1,(H6+1)) -> 1
A7: =VLOOKUP($B7,'Participants - Email Group'!$A:$E, 5, FALSE) -> Fred Pfeiffer - fpfeiffer7@gmail.com | B7: =B6+1 -> 3 | C7: =IF(ISERROR(VLOOKUP($B7,'Participants - Email Group'!$A:$E, 2, FALSE)), "", VLOOKUP($B7,'Participants - Email Group'!$A:$E, 2, FALSE)) -> Fred Pfeiffer | D7: =IF(ISERROR(VLOOKUP('Schedule - Email Group'!E7,'Participants - Email Group'!$A:$D, 2, FALSE)), "", VLOOKUP('Schedule - Email Group'!E7,'Participants - Email Group'!$A:$D, 2, FALSE)) -> Jenna Caplette | E7: =E6+1 -> 11 | F7: =IF(ISERROR(VLOOKUP('Schedule - Email Group'!$B7,'Participants - Email Group'!$A:$H, 2, FALSE)), "", VLOOKUP('Schedule - Email Group'!$B7,'Participants - Email Group'!$A:$H, 2, FALSE)) -> Fred Pfeiffer | G7: =IF(ISERROR(VLOOKUP('Schedule - Email Group'!H7,'Participants - Email Group'!$A:$D, 2, FALSE)), "", VLOOKUP('Schedule - Email Group'!H7,'Participants - Email Group'!$A:$D, 2, FALSE)) -> Carla Van Voorst | H7: =IF(E7='Participants - Email Group'!$I$1,1,(E7+1)) -> 1 | I7: =IF(ISERROR(VLOOKUP('Schedule - Email Group'!$B7,'Participants - Email Group'!$A:$H, 2, FALSE)), "", VLOOKUP('Schedule - Email Group'!$B7,'Participants - Email Group'!$A:$H, 2, FALSE)) -> Fred Pfeiffer | J7: =IF(ISERROR(VLOOKUP('Schedule - Email Group'!K7,'Participants - Email Group'!$A:$D, 2, FALSE)), "", VLOOKUP('Schedule - Email Group'!K7,'Participants - Email Group'!$A:$D, 2, FALSE)) -> Cress Spicer | K7: =IF(H7='Participants - Email Group'!$I$1,1,(H7+1)) -> 2
A8: =VLOOKUP($B8,'Participants - Email Group'!$A:$E, 5, FALSE) -> Jill Kirby - jkirbyholisticarts@protonmail.com | B8: =B7+1 -> 4 | C8: =IF(ISERROR(VLOOKUP($B8,'Participants - Email Group'!$A:$E, 2, FALSE)), "", VLOOKUP($B8,'Participants - Email Group'!$A:$E, 2, FALSE)) -> Jill Kirby | D8: =IF(ISERROR(VLOOKUP('Schedule - Email Group'!E8,'Participants - Email Group'!$A:$D, 2, FALSE)), "", VLOOKUP('Schedule - Email Group'!E8,'Participants - Email Group'!$A:$D, 2, FALSE)) -> Carla Van Voorst | E8: 1 | F8: =IF(ISERROR(VLOOKUP('Schedule - Email Group'!$B8,'Participants - Email Group'!$A:$H, 2, FALSE)), "", VLOOKUP('Schedule - Email Group'!$B8,'Participants - Email Group'!$A:$H, 2, FALSE)) -> Jill Kirby | G8: =IF(ISERROR(VLOOKUP('Schedule - Email Group'!H8,'Participants - Email Group'!$A:$D, 2, FALSE)), "", VLOOKUP('Schedule - Email Group'!H8,'Participants - Email Group'!$A:$D, 2, FALSE)) -> Cress Spicer | H8: =IF(E8='Participants - Email Group'!$I$1,1,(E8+1)) -> 2 | I8: =IF(ISERROR(VLOOKUP('Schedule - Email Group'!$B8,'Participants - Email Group'!$A:$H, 2, FALSE)), "", VLOOKUP('Schedule - Email Group'!$B8,'Participants - Email Group'!$A:$H, 2, FALSE)) -> Jill Kirby | J8: =IF(ISERROR(VLOOKUP('Schedule - Email Group'!K8,'Participants - Email Group'!$A:$D, 2, FALSE)), "", VLOOKUP('Schedule - Email Group'!K8,'Participants - Email Group'!$A:$D, 2, FALSE)) -> Fred Pfeiffer | K8: =IF(H8='Participants - Email Group'!$I$1,1,(H8+1)) -> 3
A9: =VLOOKUP($B9,'Participants - Email Group'!$A:$E, 5, FALSE) -> Karen Sorensen - bodytalkaccess@gmail.com | B9: =B8+1 -> 5 | C9: =IF(ISERROR(VLOOKUP($B9,'Participants - Email Group'!$A:$E, 2, FALSE)), "", VLOOKUP($B9,'Participants - Email Group'!$A:$E, 2, FALSE)) -> Karen Sorensen | D9: =IF(ISERROR(VLOOKUP('Schedule - Email Group'!E9,'Participants - Email Group'!$A:$D, 2, FALSE)), "", VLOOKUP('Schedule - Email Group'!E9,'Participants - Email Group'!$A:$D, 2, FALSE)) -> Cress Spicer | E9: =E8+1 -> 2 | F9: =IF(ISERROR(VLOOKUP('Schedule - Email Group'!$B9,'Participants - Email Group'!$A:$H, 2, FALSE)), "", VLOOKUP('Schedule - Email Group'!$B9,'Participants - Email Group'!$A:$H, 2, FALSE)) -> Karen Sorensen | G9: =IF(ISERROR(VLOOKUP('Schedule - Email Group'!H9,'Participants - Email Group'!$A:$D, 2, FALSE)), "", VLOOKUP('Schedule - Email Group'!H9,'Participants - Email Group'!$A:$D, 2, FALSE)) -> Fred Pfeiffer | H9: =IF(E9='Participants - Email Group'!$I$1,1,(E9+1)) -> 3 | I9: =IF(ISERROR(VLOOKUP('Schedule - Email Group'!$B9,'Participants - Email Group'!$A:$H, 2, FALSE)), "", VLOOKUP('Schedule - Email Group'!$B9,'Participants - Email Group'!$A:$H, 2, FALSE)) -> Karen Sorensen | J9: =IF(ISERROR(VLOOKUP('Schedule - Email Group'!K9,'Participants - Email Group'!$A:$D, 2, FALSE)), "", VLOOKUP('Schedule - Email Group'!K9,'Participants - Email Group'!$A:$D, 2, FALSE)) -> Jill Kirby | K9: =IF(H9='Participants - Email Group'!$I$1,1,(H9+1)) -> 4
A10: =VLOOKUP($B10,'Participants - Email Group'!$A:$E, 5, FALSE) -> Linda Marlene Eales - linda@torontobodytalk.com | B10: =B9+1 -> 6 | C10: =IF(ISERROR(VLOOKUP($B10,'Participants - Email Group'!$A:$E, 2, FALSE)), "", VLOOKUP($B10,'Participants - Email Group'!$A:$E, 2, FALSE)) -> Linda Marlene Eales | D10: =IF(ISERROR(VLOOKUP('Schedule - Email Group'!E10,'Participants - Email Group'!$A:$D, 2, FALSE)), "", VLOOKUP('Schedule - Email Group'!E10,'Participants - Email Group'!$A:$D, 2, FALSE)) -> Fred Pfeiffer | E10: =E9+1 -> 3 | F10: =IF(ISERROR(VLOOKUP('Schedule - Email Group'!$B10,'Participants - Email Group'!$A:$H, 2, FALSE)), "", VLOOKUP('Schedule - Email Group'!$B10,'Participants - Email Group'!$A:$H, 2, FALSE)) -> Linda Marlene Eales | G10: =IF(ISERROR(VLOOKUP('Schedule - Email Group'!H10,'Participants - Email Group'!$A:$D, 2, FALSE)), "", VLOOKUP('Schedule - Email Group'!H10,'Participants - Email Group'!$A:$D, 2, FALSE)) -> Jill Kirby | H10: =IF(E10='Participants - Email Group'!$I$1,1,(E10+1)) -> 4 | I10: =IF(ISERROR(VLOOKUP('Schedule - Email Group'!$B10,'Participants - Email Group'!$A:$H, 2, FALSE)), "", VLOOKUP('Schedule - Email Group'!$B10,'Participants - Email Group'!$A:$H, 2, FALSE)) -> Linda Marlene Eales | J10: =IF(ISERROR(VLOOKUP('Schedule - Email Group'!K10,'Participants - Email Group'!$A:$D, 2, FALSE)), "", VLOOKUP('Schedule - Email Group'!K10,'Participants - Email Group'!$A:$D, 2, FALSE)) -> Karen Sorensen | K10: =IF(H10='Participants - Email Group'!$I$1,1,(H10+1)) -> 5
A11: =VLOOKUP($B11,'Participants - Email Group'!$A:$E, 5, FALSE) -> Marianne McNamara - mariannethebodylistener@gmail.com | B11: =B10+1 -> 7 | C11: =IF(ISERROR(VLOOKUP($B11,'Participants - Email Group'!$A:$E, 2, FALSE)), "", VLOOKUP($B11,'Participants - Email Group'!$A:$E, 2, FALSE)) -> Marianne McNamara | D11: =IF(ISERROR(VLOOKUP('Schedule - Email Group'!E11,'Participants - Email Group'!$A:$D, 2, FALSE)), "", VLOOKUP('Schedule - Email Group'!E11,'Participants - Email Group'!$A:$D, 2, FALSE)) -> Jill Kirby | E11: =E10+1 -> 4 | F11: =IF(ISERROR(VLOOKUP('Schedule - Email Group'!$B11,'Participants - Email Group'!$A:$H, 2, FALSE)), "", VLOOKUP('Schedule - Email Group'!$B11,'Participants - Email Group'!$A:$H, 2, FALSE)) -> Marianne McNamara | G11: =IF(ISERROR(VLOOKUP('Schedule - Email Group'!H11,'Participants - Email Group'!$A:$D, 2, FALSE)), "", VLOOKUP('Schedule - Email Group'!H11,'Participants - Email Group'!$A:$D, 2, FALSE)) -> Karen Sorensen | H11: =IF(E11='Participants - Email Group'!$I$1,1,(E11+1)) -> 5 | I11: =IF(ISERROR(VLOOKUP('Schedule - Email Group'!$B11,'Participants - Email Group'!$A:$H, 2, FALSE)), "", VLOOKUP('Schedule - Email Group'!$B11,'Participants - Email Group'!$A:$H, 2, FALSE)) -> Marianne McNamara | J11: =IF(ISERROR(VLOOKUP('Schedule - Email Group'!K11,'Participants - Email Group'!$A:$D, 2, FALSE)), "", VLOOKUP('Schedule - Email Group'!K11,'Participants - Email Group'!$A:$D, 2, FALSE)) -> Linda Marlene Eales | K11: =IF(H11='Participants - Email Group'!$I$1,1,(H11+1)) -> 6
A12: =VLOOKUP($B12,'Participants - Email Group'!$A:$E, 5, FALSE) -> Nancy Briggs - briggsnancy28@gmail.com | B12: =B11+1 -> 8 | C12: =IF(ISERROR(VLOOKUP($B12,'Participants - Email Group'!$A:$E, 2, FALSE)), "", VLOOKUP($B12,'Participants - Email Group'!$A:$E, 2, FALSE)) -> Nancy Briggs | D12: =IF(ISERROR(VLOOKUP('Schedule - Email Group'!E12,'Participants - Email Group'!$A:$D, 2, FALSE)), "", VLOOKUP('Schedule - Email Group'!E12,'Participants - Email Group'!$A:$D, 2, FALSE)) -> Karen Sorensen | E12: =E11+1 -> 5 | F12: =IF(ISERROR(VLOOKUP('Schedule - Email Group'!$B12,'Participants - Email Group'!$A:$H, 2, FALSE)), "", VLOOKUP('Schedule - Email Group'!$B12,'Participants - Email Group'!$A:$H, 2, FALSE)) -> Nancy Briggs | G12: =IF(ISERROR(VLOOKUP('Schedule - Email Group'!H12,'Participants - Email Group'!$A:$D, 2, FALSE)), "", VLOOKUP('Schedule - Email Group'!H12,'Participants - Email Group'!$A:$D, 2, FALSE)) -> Linda Marlene Eales | H12: =IF(E12='Participants - Email Group'!$I$1,1,(E12+1)) -> 6 | I12: =IF(ISERROR(VLOOKUP('Schedule - Email Group'!$B12,'Participants - Email Group'!$A:$H, 2, FALSE)), "", VLOOKUP('Schedule - Email Group'!$B12,'Participants - Email Group'!$A:$H, 2, FALSE)) -> Nancy Briggs | J12: =IF(ISERROR(VLOOKUP('Schedule - Email Group'!K12,'Participants - Email Group'!$A:$D, 2, FALSE)), "", VLOOKUP('Schedule - Email Group'!K12,'Participants - Email Group'!$A:$D, 2, FALSE)) -> Marianne McNamara | K12: =IF(H12='Participants - Email Group'!$I$1,1,(H12+1)) -> 7
A13: =VLOOKUP($B13,'Participants - Email Group'!$A:$E, 5, FALSE) -> Lisa Babcock - tools4health@yahoo.com | B13: =B12+1 -> 9 | C13: =IF(ISERROR(VLOOKUP($B13,'Participants - Email Group'!$A:$E, 2, FALSE)), "", VLOOKUP($B13,'Participants - Email Group'!$A:$E, 2, FALSE)) -> Lisa Babcock | D13: =IF(ISERROR(VLOOKUP('Schedule - Email Group'!E13,'Participants - Email Group'!$A:$D, 2, FALSE)), "", VLOOKUP('Schedule - Email Group'!E13,'Participants - Email Group'!$A:$D, 2, FALSE)) -> Linda Marlene Eales | E13: =E12+1 -> 6 | F13: =IF(ISERROR(VLOOKUP('Schedule - Email Group'!$B13,'Participants - Email Group'!$A:$H, 2, FALSE)), "", VLOOKUP('Schedule - Email Group'!$B13,'Participants - Email Group'!$A:$H, 2, FALSE)) -> Lisa Babcock | G13: =IF(ISERROR(VLOOKUP('Schedule - Email Group'!H13,'Participants - Email Group'!$A:$D, 2, FALSE)), "", VLOOKUP('Schedule - Email Group'!H13,'Participants - Email Group'!$A:$D, 2, FALSE)) -> Marianne McNamara | H13: =IF(E13='Participants - Email Group'!$I$1,1,(E13+1)) -> 7 | I13: =IF(ISERROR(VLOOKUP('Schedule - Email Group'!$B13,'Participants - Email Group'!$A:$H, 2, FALSE)), "", VLOOKUP('Schedule - Email Group'!$B13,'Participants - Email Group'!$A:$H, 2, FALSE)) -> Lisa Babcock | J13: =IF(ISERROR(VLOOKUP('Schedule - Email Group'!K13,'Participants - Email Group'!$A:$D, 2, FALSE)), "", VLOOKUP('Schedule - Email Group'!K13,'Participants - Email Group'!$A:$D, 2, FALSE)) -> Nancy Briggs | K13: =IF(H13='Participants - Email Group'!$I$1,1,(H13+1)) -> 8
A14: =VLOOKUP($B14,'Participants - Email Group'!$A:$E, 5, FALSE) -> Mary Ward - BodyTalkDrMJWard@gmail.com | B14: =B13+1 -> 10 | C14: =IF(ISERROR(VLOOKUP($B14,'Participants - Email Group'!$A:$E, 2, FALSE)), "", VLOOKUP($B14,'Participants - Email Group'!$A:$E, 2, FALSE)) -> Mary Ward | D14: =IF(ISERROR(VLOOKUP('Schedule - Email Group'!E14,'Participants - Email Group'!$A:$D, 2, FALSE)), "", VLOOKUP('Schedule - Email Group'!E14,'Participants - Email Group'!$A:$D, 2, FALSE)) -> Marianne McNamara | E14: =E13+1 -> 7 | F14: =IF(ISERROR(VLOOKUP('Schedule - Email Group'!$B14,'Participants - Email Group'!$A:$H, 2, FALSE)), "", VLOOKUP('Schedule - Email Group'!$B14,'Participants - Email Group'!$A:$H, 2, FALSE)) -> Mary Ward | G14: =IF(ISERROR(VLOOKUP('Schedule - Email Group'!H14,'Participants - Email Group'!$A:$D, 2, FALSE)), "", VLOOKUP('Schedule - Email Group'!H14,'Participants - Email Group'!$A:$D, 2, FALSE)) -> Nancy Briggs | H14: =IF(E14='Participants - Email Group'!$I$1,1,(E14+1)) -> 8 | I14: =IF(ISERROR(VLOOKUP('Schedule - Email Group'!$B14,'Participants - Email Group'!$A:$H, 2, FALSE)), "", VLOOKUP('Schedule - Email Group'!$B14,'Participants - Email Group'!$A:$H, 2, FALSE)) -> Mary Ward | J14: =IF(ISERROR(VLOOKUP('Schedule - Email Group'!K14,'Participants - Email Group'!$A:$D, 2, FALSE)), "", VLOOKUP('Schedule - Email Group'!K14,'Participants - Email Group'!$A:$D, 2, FALSE)) -> Lisa Babcock | K14: =IF(H14='Participants - Email Group'!$I$1,1,(H14+1)) -> 9
A15: =VLOOKUP($B15,'Participants - Email Group'!$A:$E, 5, FALSE) -> Jenna Caplette - vjennac@gmail.com | B15: =B14+1 -> 11 | C15: =IF(ISERROR(VLOOKUP($B15,'Participants - Email Group'!$A:$E, 2, FALSE)), "", VLOOKUP($B15,'Participants - Email Group'!$A:$E, 2, FALSE)) -> Jenna Caplette | D15: =IF(ISERROR(VLOOKUP('Schedule - Email Group'!E15,'Participants - Email Group'!$A:$D, 2, FALSE)), "", VLOOKUP('Schedule - Email Group'!E15,'Participants - Email Group'!$A:$D, 2, FALSE)) -> Nancy Briggs | E15: =E14+1 -> 8 | F15: =IF(ISERROR(VLOOKUP('Schedule - Email Group'!$B15,'Participants - Email Group'!$A:$H, 2, FALSE)), "", VLOOKUP('Schedule - Email Group'!$B15,'Participants - Email Group'!$A:$H, 2, FALSE)) -> Jenna Caplette | G15: =IF(ISERROR(VLOOKUP('Schedule - Email Group'!H15,'Participants - Email Group'!$A:$D, 2, FALSE)), "", VLOOKUP('Schedule - Email Group'!H15,'Participants - Email Group'!$A:$D, 2, FALSE)) -> Lisa Babcock | H15: =IF(E15='Participants - Email Group'!$I$1,1,(E15+1)) -> 9 | I15: =IF(ISERROR(VLOOKUP('Schedule - Email Group'!$B15,'Participants - Email Group'!$A:$H, 2, FALSE)), "", VLOOKUP('Schedule - Email Group'!$B15,'Participants - Email Group'!$A:$H, 2, FALSE)) -> Jenna Caplette | J15: =IF(ISERROR(VLOOKUP('Schedule - Email Group'!K15,'Participants - Email Group'!$A:$D, 2, FALSE)), "", VLOOKUP('Schedule - Email Group'!K15,'Participants - Email Group'!$A:$D, 2, FALSE)) -> Mary Ward | K15: =IF(H15='Participants - Email Group'!$I$1,1,(H15+1)) -> 10

Sheet Schedule - "Live" Group
A1: 2026
A2: Reference | C2: 1Q "Live" PaRama Trade Partners
A3: Names and Emails: | C3: Trades in January | F3: Trades in February | I3: Trades in March
C4: Practitioner - Giver | D4: Client - Receiver | E4: =IF(B5='Participants - "Live" Group'!$I$1, "*", "") | F4: Practitioner - Giver | G4: Client - Receiver | H4: =IF(E5='Participants - "Live" Group'!$I$1, "*", "") | I4: Practitioner - Giver | J4: Client - Receiver | K4: =IF(H5='Participants - "Live" Group'!$I$1, "*", "")
A5: =VLOOKUP('Schedule - "Live" Group'!$B5,'Participants - "Live" Group'!$A:$E, 5, FALSE) -> Katherine Ebacher - Katherine@ListentotheBodyTalk.com | B5: 1 | C5: =IF(ISERROR(IF(A5=0,"",VLOOKUP('Schedule - "Live" Group'!$B5,'Participants - "Live" Group'!$A:$E,2,FALSE))), "", IF(A5=0,"",VLOOKUP('Schedule - "Live" Group'!$B5,'Participants - "Live" Group'!$A:$E,2,FALSE))) -> Katherine Ebacher | D5: =IF(ISERROR(IF($A5=0,"",VLOOKUP('Schedule - "Live" Group'!E5,'Participants - "Live" Group'!$A:$E, 2, FALSE))), "", IF($A5=0,"",VLOOKUP('Schedule - "Live" Group'!E5,'Participants - "Live" Group'!$A:$E, 2, FALSE))) -> Antonella Ercolani | E5: 9 | F5: =C5 -> Katherine Ebacher | G5: =IF(ISERROR(IF($A5=0,"",VLOOKUP('Schedule - "Live" Group'!H5,'Participants - "Live" Group'!$A:$E, 2, FALSE))), "", IF($A5=0,"",VLOOKUP('Schedule - "Live" Group'!H5,'Participants - "Live" Group'!$A:$E, 2, FALSE))) -> Christine Plaud | H5: =IF(E5='Participants - "Live" Group'!$I$1,1,(E5+1)) -> 10 | I5: =F5 -> Katherine Ebacher | J5: =IF(ISERROR(IF($A5=0,"",VLOOKUP('Schedule - "Live" Group'!K5,'Participants - "Live" Group'!$A:$E, 2, FALSE))), "", IF($A5=0,"",VLOOKUP('Schedule - "Live" Group'!K5,'Participants - "Live" Group'!$A:$E, 2, FALSE))) -> Jacqueline van Ryneveld | K5: =IF(H5='Participants - "Live" Group'!$I$1,1,(H5+1)) -> 11
A6: =VLOOKUP('Schedule - "Live" Group'!$B6,'Participants - "Live" Group'!$A:$E, 5, FALSE) -> Kimberley Katerenchuk - tappinghealthinc@gmail.com | B6: =B5+1 -> 2 | C6: =IF(ISERROR(IF(A6=0,"",VLOOKUP('Schedule - "Live" Group'!$B6,'Participants - "Live" Group'!$A:$E,2,FALSE))), "", IF(A6=0,"",VLOOKUP('Schedule - "Live" Group'!$B6,'Participants - "Live" Group'!$A:$E,2,FALSE))) -> Kimberley Katerenchuk | D6: =IF(ISERROR(IF($A6=0,"",VLOOKUP('Schedule - "Live" Group'!E6,'Participants - "Live" Group'!$A:$E, 2, FALSE))), "", IF($A6=0,"",VLOOKUP('Schedule - "Live" Group'!E6,'Participants - "Live" Group'!$A:$E, 2, FALSE))) -> Christine Plaud | E6: =E5+1 -> 10 | F6: =C6 -> Kimberley Katerenchuk | G6: =IF(ISERROR(IF($A6=0,"",VLOOKUP('Schedule - "Live" Group'!H6,'Participants - "Live" Group'!$A:$E, 2, FALSE))), "", IF($A6=0,"",VLOOKUP('Schedule - "Live" Group'!H6,'Participants - "Live" Group'!$A:$E, 2, FALSE))) -> Jacqueline van Ryneveld | H6: =IF(E6='Participants - "Live" Group'!$I$1,1,(E6+1)) -> 11 | I6: =F6 -> Kimberley Katerenchuk | J6: =IF(ISERROR(IF($A6=0,"",VLOOKUP('Schedule - "Live" Group'!K6,'Participants - "Live" Group'!$A:$E, 2, FALSE))), "", IF($A6=0,"",VLOOKUP('Schedule - "Live" Group'!K6,'Participants - "Live" Group'!$A:$E, 2, FALSE))) -> Katherine Ebacher | K6: =IF(H6='Participants - "Live" Group'!$I$1,1,(H6+1)) -> 1
A7: =VLOOKUP('Schedule - "Live" Group'!$B7,'Participants - "Live" Group'!$A:$E, 5, FALSE) -> Sharon Koenning - sharonkoenning@gmail.com | B7: =B6+1 -> 3 | C7: =IF(ISERROR(IF(A7=0,"",VLOOKUP('Schedule - "Live" Group'!$B7,'Participants - "Live" Group'!$A:$E,2,FALSE))), "", IF(A7=0,"",VLOOKUP('Schedule - "Live" Group'!$B7,'Participants - "Live" Group'!$A:$E,2,FALSE))) -> Sharon Koenning | D7: =IF(ISERROR(IF($A7=0,"",VLOOKUP('Schedule - "Live" Group'!E7,'Participants - "Live" Group'!$A:$E, 2, FALSE))), "", IF($A7=0,"",VLOOKUP('Schedule - "Live" Group'!E7,'Participants - "Live" Group'!$A:$E, 2, FALSE))) -> Jacqueline van Ryneveld | E7: =E6+1 -> 11 | F7: =C7 -> Sharon Koenning | G7: =IF(ISERROR(IF($A7=0,"",VLOOKUP('Schedule - "Live" Group'!H7,'Participants - "Live" Group'!$A:$E, 2, FALSE))), "", IF($A7=0,"",VLOOKUP('Schedule - "Live" Group'!H7,'Participants - "Live" Group'!$A:$E, 2, FALSE))) -> Katherine Ebacher | H7: =IF(E7='Participants - "Live" Group'!$I$1,1,(E7+1)) -> 1 | I7: =F7 -> Sharon Koenning | J7: =IF(ISERROR(IF($A7=0,"",VLOOKUP('Schedule - "Live" Group'!K7,'Participants - "Live" Group'!$A:$E, 2, FALSE))), "", IF($A7=0,"",VLOOKUP('Schedule - "Live" Group'!K7,'Participants - "Live" Group'!$A:$E, 2, FALSE))) -> Kimberley Katerenchuk | K7: =IF(H7='Participants - "Live" Group'!$I$1,1,(H7+1)) -> 2
A8: =VLOOKUP('Schedule - "Live" Group'!$B8,'Participants - "Live" Group'!$A:$E, 5, FALSE) -> Angie Tourani - angie@bodytalksystem.com.hk | B8: =B7+1 -> 4 | C8: =IF(ISERROR(IF(A8=0,"",VLOOKUP('Schedule - "Live" Group'!$B8,'Participants - "Live" Group'!$A:$E,2,FALSE))), "", IF(A8=0,"",VLOOKUP('Schedule - "Live" Group'!$B8,'Participants - "Live" Group'!$A:$E,2,FALSE))) -> Angie Tourani | D8: =IF(ISERROR(IF($A8=0,"",VLOOKUP('Schedule - "Live" Group'!E8,'Participants - "Live" Group'!$A:$E, 2, FALSE))), "", IF($A8=0,"",VLOOKUP('Schedule - "Live" Group'!E8,'Participants - "Live" Group'!$A:$E, 2, FALSE))) -> Katherine Ebacher | E8: 1 | F8: =C8 -> Angie Tourani | G8: =IF(ISERROR(IF($A8=0,"",VLOOKUP('Schedule - "Live" Group'!H8,'Participants - "Live" Group'!$A:$E, 2, FALSE))), "", IF($A8=0,"",VLOOKUP('Schedule - "Live" Group'!H8,'Participants - "Live" Group'!$A:$E, 2, FALSE))) -> Kimberley Katerenchuk | H8: =IF(E8='Participants - "Live" Group'!$I$1,1,(E8+1)) -> 2 | I8: =F8 -> Angie Tourani | J8: =IF(ISERROR(IF($A8=0,"",VLOOKUP('Schedule - "Live" Group'!K8,'Participants - "Live" Group'!$A:$E, 2, FALSE))), "", IF($A8=0,"",VLOOKUP('Schedule - "Live" Group'!K8,'Participants - "Live" Group'!$A:$E, 2, FALSE))) -> Sharon Koenning | K8: =IF(H8='Participants - "Live" Group'!$I$1,1,(H8+1)) -> 3
A9: =VLOOKUP('Schedule - "Live" Group'!$B9,'Participants - "Live" Group'!$A:$E, 5, FALSE) -> Amanda Bartley - petrock77@gmail.com | B9: =B8+1 -> 5 | C9: =IF(ISERROR(IF(A9=0,"",VLOOKUP('Schedule - "Live" Group'!$B9,'Participants - "Live" Group'!$A:$E,2,FALSE))), "", IF(A9=0,"",VLOOKUP('Schedule - "Live" Group'!$B9,'Participants - "Live" Group'!$A:$E,2,FALSE))) -> Amanda Bartley | D9: =IF(ISERROR(IF($A9=0,"",VLOOKUP('Schedule - "Live" Group'!E9,'Participants - "Live" Group'!$A:$E, 2, FALSE))), "", IF($A9=0,"",VLOOKUP('Schedule - "Live" Group'!E9,'Participants - "Live" Group'!$A:$E, 2, FALSE))) -> Kimberley Katerenchuk | E9: =E8+1 -> 2 | F9: =C9 -> Amanda Bartley | G9: =IF(ISERROR(IF($A9=0,"",VLOOKUP('Schedule - "Live" Group'!H9,'Participants - "Live" Group'!$A:$E, 2, FALSE))), "", IF($A9=0,"",VLOOKUP('Schedule - "Live" Group'!H9,'Participants - "Live" Group'!$A:$E, 2, FALSE))) -> Sharon Koenning | H9: =IF(E9='Participants - "Live" Group'!$I$1,1,(E9+1)) -> 3 | I9: =F9 -> Amanda Bartley | J9: =IF(ISERROR(IF($A9=0,"",VLOOKUP('Schedule - "Live" Group'!K9,'Participants - "Live" Group'!$A:$E, 2, FALSE))), "", IF($A9=0,"",VLOOKUP('Schedule - "Live" Group'!K9,'Participants - "Live" Group'!$A:$E, 2, FALSE))) -> Angie Tourani | K9: =IF(H9='Participants - "Live" Group'!$I$1,1,(H9+1)) -> 4
A10: =VLOOKUP('Schedule - "Live" Group'!$B10,'Participants - "Live" Group'!$A:$E, 5, FALSE) -> Nicole Senft - nicole.bodytalk@gmail.com | B10: =B9+1 -> 6 | C10: =IF(ISERROR(IF(A10=0,"",VLOOKUP('Schedule - "Live" Group'!$B10,'Participants - "Live" Group'!$A:$E,2,FALSE))), "", IF(A10=0,"",VLOOKUP('Schedule - "Live" Group'!$B10,'Participants - "Live" Group'!$A:$E,2,FALSE))) -> Nicole Senft | D10: =IF(ISERROR(IF($A10=0,"",VLOOKUP('Schedule - "Live" Group'!E10,'Participants - "Live" Group'!$A:$E, 2, FALSE))), "", IF($A10=0,"",VLOOKUP('Schedule - "Live" Group'!E10,'Participants - "Live" Group'!$A:$E, 2, FALSE))) -> Sharon Koenning | E10: =E9+1 -> 3 | F10: =C10 -> Nicole Senft | G10: =IF(ISERROR(IF($A10=0,"",VLOOKUP('Schedule - "Live" Group'!H10,'Participants - "Live" Group'!$A:$E, 2, FALSE))), "", IF($A10=0,"",VLOOKUP('Schedule - "Live" Group'!H10,'Participants - "Live" Group'!$A:$E, 2, FALSE))) -> Angie Tourani | H10: =IF(E10='Participants - "Live" Group'!$I$1,1,(E10+1)) -> 4 | I10: =F10 -> Nicole Senft | J10: =IF(ISERROR(IF($A10=0,"",VLOOKUP('Schedule - "Live" Group'!K10,'Participants - "Live" Group'!$A:$E, 2, FALSE))), "", IF($A10=0,"",VLOOKUP('Schedule - "Live" Group'!K10,'Participants - "Live" Group'!$A:$E, 2, FALSE))) -> Amanda Bartley | K10: =IF(H10='Participants - "Live" Group'!$I$1,1,(H10+1)) -> 5
A11: =VLOOKUP('Schedule - "Live" Group'!$B11,'Participants - "Live" Group'!$A:$E, 5, FALSE) -> Lisa Wegner - lisais@telus.net | B11: =B10+1 -> 7 | C11: =IF(ISERROR(IF(A11=0,"",VLOOKUP('Schedule - "Live" Group'!$B11,'Participants - "Live" Group'!$A:$E,2,FALSE))), "", IF(A11=0,"",VLOOKUP('Schedule - "Live" Group'!$B11,'Participants - "Live" Group'!$A:$E,2,FALSE))) -> Lisa Wegner | D11: =IF(ISERROR(IF($A11=0,"",VLOOKUP('Schedule - "Live" Group'!E11,'Participants - "Live" Group'!$A:$E, 2, FALSE))), "", IF($A11=0,"",VLOOKUP('Schedule - "Live" Group'!E11,'Participants - "Live" Group'!$A:$E, 2, FALSE))) -> Angie Tourani | E11: =E10+1 -> 4 | F11: =C11 -> Lisa Wegner | G11: =IF(ISERROR(IF($A11=0,"",VLOOKUP('Schedule - "Live" Group'!H11,'Participants - "Live" Group'!$A:$E, 2, FALSE))), "", IF($A11=0,"",VLOOKUP('Schedule - "Live" Group'!H11,'Participants - "Live" Group'!$A:$E, 2, FALSE))) -> Amanda Bartley | H11: =IF(E11='Participants - "Live" Group'!$I$1,1,(E11+1)) -> 5 | I11: =F11 -> Lisa Wegner | J11: =IF(ISERROR(IF($A11=0,"",VLOOKUP('Schedule - "Live" Group'!K11,'Participants - "Live" Group'!$A:$E, 2, FALSE))), "", IF($A11=0,"",VLOOKUP('Schedule - "Live" Group'!K11,'Participants - "Live" Group'!$A:$E, 2, FALSE))) -> Nicole Senft | K11: =IF(H11='Participants - "Live" Group'!$I$1,1,(H11+1)) -> 6
A12: =VLOOKUP('Schedule - "Live" Group'!$B12,'Participants - "Live" Group'!$A:$E, 5, FALSE) -> Mary Jane Ward - BodyTalkDrMJWard@gmail.com | B12: =B11+1 -> 8 | C12: =IF(ISERROR(IF(A12=0,"",VLOOKUP('Schedule - "Live" Group'!$B12,'Participants - "Live" Group'!$A:$E,2,FALSE))), "", IF(A12=0,"",VLOOKUP('Schedule - "Live" Group'!$B12,'Participants - "Live" Group'!$A:$E,2,FALSE))) -> Mary Jane Ward | D12: =IF(ISERROR(IF($A12=0,"",VLOOKUP('Schedule - "Live" Group'!E12,'Participants - "Live" Group'!$A:$E, 2, FALSE))), "", IF($A12=0,"",VLOOKUP('Schedule - "Live" Group'!E12,'Participants - "Live" Group'!$A:$E, 2, FALSE))) -> Amanda Bartley | E12: =E11+1 -> 5 | F12: =C12 -> Mary Jane Ward | G12: =IF(ISERROR(IF($A12=0,"",VLOOKUP('Schedule - "Live" Group'!H12,'Participants - "Live" Group'!$A:$E, 2, FALSE))), "", IF($A12=0,"",VLOOKUP('Schedule - "Live" Group'!H12,'Participants - "Live" Group'!$A:$E, 2, FALSE))) -> Nicole Senft | H12: =IF(E12='Participants - "Live" Group'!$I$1,1,(E12+1)) -> 6 | I12: =F12 -> Mary Jane Ward | J12: =IF(ISERROR(IF($A12=0,"",VLOOKUP('Schedule - "Live" Group'!K12,'Participants - "Live" Group'!$A:$E, 2, FALSE))), "", IF($A12=0,"",VLOOKUP('Schedule - "Live" Group'!K12,'Participants - "Live" Group'!$A:$E, 2, FALSE))) -> Lisa Wegner | K12: =IF(H12='Participants - "Live" Group'!$I$1,1,(H12+1)) -> 7
A13: =VLOOKUP('Schedule - "Live" Group'!$B13,'Participants - "Live" Group'!$A:$E, 5, FALSE) -> Antonella Ercolani - antonellafi@yahoo.com | B13: =B12+1 -> 9 | C13: =IF(ISERROR(IF(A13=0,"",VLOOKUP('Schedule - "Live" Group'!$B13,'Participants - "Live" Group'!$A:$E,2,FALSE))), "", IF(A13=0,"",VLOOKUP('Schedule - "Live" Group'!$B13,'Participants - "Live" Group'!$A:$E,2,FALSE))) -> Antonella Ercolani | D13: =IF(ISERROR(IF($A13=0,"",VLOOKUP('Schedule - "Live" Group'!E13,'Participants - "Live" Group'!$A:$E, 2, FALSE))), "", IF($A13=0,"",VLOOKUP('Schedule - "Live" Group'!E13,'Participants - "Live" Group'!$A:$E, 2, FALSE))) -> Nicole Senft | E13: =E12+1 -> 6 | F13: =C13 -> Antonella Ercolani | G13: =IF(ISERROR(IF($A13=0,"",VLOOKUP('Schedule - "Live" Group'!H13,'Participants - "Live" Group'!$A:$E, 2, FALSE))), "", IF($A13=0,"",VLOOKUP('Schedule - "Live" Group'!H13,'Participants - "Live" Group'!$A:$E, 2, FALSE))) -> Lisa Wegner | H13: =IF(E13='Participants - "Live" Group'!$I$1,1,(E13+1)) -> 7 | I13: =F13 -> Antonella Ercolani | J13: =IF(ISERROR(IF($A13=0,"",VLOOKUP('Schedule - "Live" Group'!K13,'Participants - "Live" Group'!$A:$E, 2, FALSE))), "", IF($A13=0,"",VLOOKUP('Schedule - "Live" Group'!K13,'Participants - "Live" Group'!$A:$E, 2, FALSE))) -> Mary Jane Ward | K13: =IF(H13='Participants - "Live" Group'!$I$1,1,(H13+1)) -> 8
A14: =VLOOKUP('Schedule - "Live" Group'!$B14,'Participants - "Live" Group'!$A:$E, 5, FALSE) -> Christine Plaud - christine@innerkeys.com | B14: =B13+1 -> 10 | C14: =IF(ISERROR(IF(A14=0,"",VLOOKUP('Schedule - "Live" Group'!$B14,'Participants - "Live" Group'!$A:$E,2,FALSE))), "", IF(A14=0,"",VLOOKUP('Schedule - "Live" Group'!$B14,'Participants - "Live" Group'!$A:$E,2,FALSE))) -> Christine Plaud | D14: =IF(ISERROR(IF($A14=0,"",VLOOKUP('Schedule - "Live" Group'!E14,'Participants - "Live" Group'!$A:$E, 2, FALSE))), "", IF($A14=0,"",VLOOKUP('Schedule - "Live" Group'!E14,'Participants - "Live" Group'!$A:$E, 2, FALSE))) -> Lisa Wegner | E14: =E13+1 -> 7 | F14: =C14 -> Christine Plaud | G14: =IF(ISERROR(IF($A14=0,"",VLOOKUP('Schedule - "Live" Group'!H14,'Participants - "Live" Group'!$A:$E, 2, FALSE))), "", IF($A14=0,"",VLOOKUP('Schedule - "Live" Group'!H14,'Participants - "Live" Group'!$A:$E, 2, FALSE))) -> Mary Jane Ward | H14: =IF(E14='Participants - "Live" Group'!$I$1,1, (E14+1)) -> 8 | I14: =F14 -> Christine Plaud | J14: =IF(ISERROR(IF($A14=0,"",VLOOKUP('Schedule - "Live" Group'!K14,'Participants - "Live" Group'!$A:$E, 2, FALSE))), "", IF($A14=0,"",VLOOKUP('Schedule - "Live" Group'!K14,'Participants - "Live" Group'!$A:$E, 2, FALSE))) -> Antonella Ercolani | K14: =IF(H14='Participants - "Live" Group'!$I$1,1,(H14+1)) -> 9
A15: =VLOOKUP('Schedule - "Live" Group'!$B15,'Participants - "Live" Group'!$A:$E, 5, FALSE) -> Jacqueline van Ryneveld - jacqsbodytalk@gmail.com | B15: =B14+1 -> 11 | C15: =IF(ISERROR(IF(A15=0,"",VLOOKUP('Schedule - "Live" Group'!$B15,'Participants - "Live" Group'!$A:$E,2,FALSE))), "", IF(A15=0,"",VLOOKUP('Schedule - "Live" Group'!$B15,'Participants - "Live" Group'!$A:$E,2,FALSE))) -> Jacqueline van Ryneveld | D15: =IF(ISERROR(IF($A15=0,"",VLOOKUP('Schedule - "Live" Group'!E15,'Participants - "Live" Group'!$A:$E, 2, FALSE))), "", IF($A15=0,"",VLOOKUP('Schedule - "Live" Group'!E15,'Participants - "Live" Group'!$A:$E, 2, FALSE))) -> Mary Jane Ward | E15: =E14+1 -> 8 | F15: =C15 -> Jacqueline van Ryneveld | G15: =IF(ISERROR(IF($A15=0,"",VLOOKUP('Schedule - "Live" Group'!H15,'Participants - "Live" Group'!$A:$E, 2, FALSE))), "", IF($A15=0,"",VLOOKUP('Schedule - "Live" Group'!H15,'Participants - "Live" Group'!$A:$E, 2, FALSE))) -> Antonella Ercolani | H15: =IF(E15='Participants - "Live" Group'!$I$1,1, (E15+1)) -> 9 | I15: =F15 -> Jacqueline van Ryneveld | J15: =IF(ISERROR(IF($A15=0,"",VLOOKUP('Schedule - "Live" Group'!K15,'Participants - "Live" Group'!$A:$E, 2, FALSE))), "", IF($A15=0,"",VLOOKUP('Schedule - "Live" Group'!K15,'Participants - "Live" Group'!$A:$E, 2, FALSE))) -> Christine Plaud | K15: =IF(H15='Participants - "Live" Group'!$I$1,1,(H15+1)) -> 10
A16: =VLOOKUP('Schedule - "Live" Group'!$B16,'Participants - "Live" Group'!$A:$E, 5, FALSE) -> #N/A | B16: =B15+1 -> 12 | C16: =IF(ISERROR(IF(A16=0,"",VLOOKUP('Schedule - "Live" Group'!$B16,'Participants - "Live" Group'!$A:$E,2,FALSE))), "", IF(A16=0,"",VLOOKUP('Schedule - "Live" Group'!$B16,'Participants - "Live" Group'!$A:$E,2,FALSE))) | D16: =IF(ISERROR(IF($A16=0,"",VLOOKUP('Schedule - "Live" Group'!E16,'Participants - "Live" Group'!$A:$E, 2, FALSE))), "", IF($A16=0,"",VLOOKUP('Schedule - "Live" Group'!E16,'Participants - "Live" Group'!$A:$E, 2, FALSE))) | E16: =E15+1 -> 9 | F16: =C16 | G16: =IF(ISERROR(IF($A16=0,"",VLOOKUP('Schedule - "Live" Group'!H16,'Participants - "Live" Group'!$A:$E, 2, FALSE))), "", IF($A16=0,"",VLOOKUP('Schedule - "Live" Group'!H16,'Participants - "Live" Group'!$A:$E, 2, FALSE))) | H16: =IF(E16='Participants - "Live" Group'!$I$1,1, (E16+1)) -> 10 | I16: =F16 | J16: =IF(ISERROR(IF($A16=0,"",VLOOKUP('Schedule - "Live" Group'!K16,'Participants - "Live" Group'!$A:$E, 2, FALSE))), "", IF($A16=0,"",VLOOKUP('Schedule - "Live" Group'!K16,'Participants - "Live" Group'!$A:$E, 2, FALSE))) | K16: =IF(H16='Participants - "Live" Group'!$I$1,1,(H16+1)) -> 11
B17: =B16+1 -> 13 | C17: =IF(ISERROR(IF(A17=0,"",VLOOKUP('Schedule - "Live" Group'!$B17,'Participants - "Live" Group'!$A:$E,2,FALSE))), "", IF(A17=0,"",VLOOKUP('Schedule - "Live" Group'!$B17,'Participants - "Live" Group'!$A:$E,2,FALSE))) | D17: =IF(ISERROR(IF($A17=0,"",VLOOKUP('Schedule - "Live" Group'!E17,'Participants - "Live" Group'!$A:$E, 2, FALSE))), "", IF($A17=0,"",VLOOKUP('Schedule - "Live" Group'!E17,'Participants - "Live" Group'!$A:$E, 2, FALSE))) | E17: =E16+1 -> 10 | F17: =C17 | G17: =IF(ISERROR(IF($A17=0,"",VLOOKUP('Schedule - "Live" Group'!H17,'Participants - "Live" Group'!$A:$E, 2, FALSE))), "", IF($A17=0,"",VLOOKUP('Schedule - "Live" Group'!H17,'Participants - "Live" Group'!$A:$E, 2, FALSE))) | H17: =IF(E17='Participants - "Live" Group'!$I$1,1, (E17+1)) -> 11 | I17: =F17 | J17: =IF(ISERROR(IF($A17=0,"",VLOOKUP('Schedule - "Live" Group'!K17,'Participants - "Live" Group'!$A:$E, 2, FALSE))), "", IF($A17=0,"",VLOOKUP('Schedule - "Live" Group'!K17,'Participants - "Live" Group'!$A:$E, 2, FALSE))) | K17: =IF(H17='Participants - "Live" Group'!$I$1,1, (H17+1)) -> 1
A18: 0 | B18: =B17+1 -> 14 | C18: =IF(ISERROR(IF(A18=0,"",VLOOKUP('Schedule - "Live" Group'!$B18,'Participants - "Live" Group'!$A:$E,2,FALSE))), "", IF(A18=0,"",VLOOKUP('Schedule - "Live" Group'!$B18,'Participants - "Live" Group'!$A:$E,2,FALSE))) | D18: =IF(ISERROR(IF($A18=0,"",VLOOKUP('Schedule - "Live" Group'!E18,'Participants - "Live" Group'!$A:$E, 2, FALSE))), "", IF($A18=0,"",VLOOKUP('Schedule - "Live" Group'!E18,'Participants - "Live" Group'!$A:$E, 2, FALSE))) | E18: =E17+1 -> 11 | F18: =C18 | G18: =IF(ISERROR(IF($A18=0,"",VLOOKUP('Schedule - "Live" Group'!H18,'Participants - "Live" Group'!$A:$E, 2, FALSE))), "", IF($A18=0,"",VLOOKUP('Schedule - "Live" Group'!H18,'Participants - "Live" Group'!$A:$E, 2, FALSE))) | H18: =IF(E18='Participants - "Live" Group'!$I$1,1, (E18+1)) -> 1 | I18: =F18 | J18: =IF(ISERROR(IF($A18=0,"",VLOOKUP('Schedule - "Live" Group'!K18,'Participants - "Live" Group'!$A:$E, 2, FALSE))), "", IF($A18=0,"",VLOOKUP('Schedule - "Live" Group'!K18,'Participants - "Live" Group'!$A:$E, 2, FALSE)))
A19: 0 | B19: =B18+1 -> 15 | C19: =IF(ISERROR(IF(A19=0,"",VLOOKUP('Schedule - "Live" Group'!$B19,'Participants - "Live" Group'!$A:$E,2,FALSE))), "", IF(A19=0,"",VLOOKUP('Schedule - "Live" Group'!$B19,'Participants - "Live" Group'!$A:$E,2,FALSE))) | D19: =IF(ISERROR(IF($A19=0,"",VLOOKUP('Schedule - "Live" Group'!E19,'Participants - "Live" Group'!$A:$E, 2, FALSE))), "", IF($A19=0,"",VLOOKUP('Schedule - "Live" Group'!E19,'Participants - "Live" Group'!$A:$E, 2, FALSE))) | E19: =IF(B19='Participants - "Live" Group'!$I$1,1, (B19+1)) -> 16 | F19: =C19 | G19: =IF(ISERROR(IF($A19=0,"",VLOOKUP('Schedule - "Live" Group'!H19,'Participants - "Live" Group'!$A:$E, 2, FALSE))), "", IF($A19=0,"",VLOOKUP('Schedule - "Live" Group'!H19,'Participants - "Live" Group'!$A:$E, 2, FALSE))) | H19: =IF(E19='Participants - "Live" Group'!$I$1,1, (E19+1)) -> 17 | I19: =F19 | J19: =IF(ISERROR(IF($A19=0,"",VLOOKUP('Schedule - "Live" Group'!K19,'Participants - "Live" Group'!$A:$E, 2, FALSE))), "", IF($A19=0,"",VLOOKUP('Schedule - "Live" Group'!K19,'Participants - "Live" Group'!$A:$E, 2, FALSE)))
A20: 0 | B20: =B19+1 -> 16 | C20: =IF(ISERROR(IF(A20=0,"",VLOOKUP('Schedule - "Live" Group'!$B20,'Participants - "Live" Group'!$A:$E,2,FALSE))), "", IF(A20=0,"",VLOOKUP('Schedule - "Live" Group'!$B20,'Participants - "Live" Group'!$A:$E,2,FALSE))) | D20: =IF(ISERROR(IF($A20=0,"",VLOOKUP('Schedule - "Live" Group'!E20,'Participants - "Live" Group'!$A:$E, 2, FALSE))), "", IF($A20=0,"",VLOOKUP('Schedule - "Live" Group'!E20,'Participants - "Live" Group'!$A:$E, 2, FALSE))) | E20: =IF(B20='Participants - "Live" Group'!$I$1,1, (B20+1)) -> 17 | F20: =C20 | G20: =IF(ISERROR(IF($A20=0,"",VLOOKUP('Schedule - "Live" Group'!H20,'Participants - "Live" Group'!$A:$E, 2, FALSE))), "", IF($A20=0,"",VLOOKUP('Schedule - "Live" Group'!H20,'Participants - "Live" Group'!$A:$E, 2, FALSE))) | H20: =IF(E20='Participants - "Live" Group'!$I$1,1, (E20+1)) -> 18 | I20: =F20 | J20: =IF(ISERROR(IF($A20=0,"",VLOOKUP('Schedule - "Live" Group'!K20,'Participants - "Live" Group'!$A:$E, 2, FALSE))), "", IF($A20=0,"",VLOOKUP('Schedule - "Live" Group'!K20,'Participants - "Live" Group'!$A:$E, 2, FALSE)))
A21: 0 | B21: =B20+1 -> 17 | C21: =IF(ISERROR(IF(A21=0,"",VLOOKUP('Schedule - "Live" Group'!$B21,'Participants - "Live" Group'!$A:$E,2,FALSE))), "", IF(A21=0,"",VLOOKUP('Schedule - "Live" Group'!$B21,'Participants - "Live" Group'!$A:$E,2,FALSE))) | D21: =IF(ISERROR(IF($A21=0,"",VLOOKUP('Schedule - "Live" Group'!E21,'Participants - "Live" Group'!$A:$E, 2, FALSE))), "", IF($A21=0,"",VLOOKUP('Schedule - "Live" Group'!E21,'Participants - "Live" Group'!$A:$E, 2, FALSE))) | E21: =IF(B21='Participants - "Live" Group'!$I$1,1, (B21+1)) -> 18 | F21: =C21 | G21: =IF(ISERROR(IF($A21=0,"",VLOOKUP('Schedule - "Live" Group'!H21,'Participants - "Live" Group'!$A:$E, 2, FALSE))), "", IF($A21=0,"",VLOOKUP('Schedule - "Live" Group'!H21,'Participants - "Live" Group'!$A:$E, 2, FALSE))) | H21: =IF(E21='Participants - "Live" Group'!$I$1,1, (E21+1)) -> 19 | I21: =F21 | J21: =IF(ISERROR(IF($A21=0,"",VLOOKUP('Schedule - "Live" Group'!K21,'Participants - "Live" Group'!$A:$E, 2, FALSE))), "", IF($A21=0,"",VLOOKUP('Schedule - "Live" Group'!K21,'Participants - "Live" Group'!$A:$E, 2, FALSE)))
A22: 0 | B22: =B21+1 -> 18 | C22: =IF(ISERROR(IF(A22=0,"",VLOOKUP('Schedule - "Live" Group'!$B22,'Participants - "Live" Group'!$A:$E,2,FALSE))), "", IF(A22=0,"",VLOOKUP('Schedule - "Live" Group'!$B22,'Participants - "Live" Group'!$A:$E,2,FALSE))) | D22: =IF(ISERROR(IF($A22=0,"",VLOOKUP('Schedule - "Live" Group'!E22,'Participants - "Live" Group'!$A:$E, 2, FALSE))), "", IF($A22=0,"",VLOOKUP('Schedule - "Live" Group'!E22,'Participants - "Live" Group'!$A:$E, 2, FALSE))) | E22: =IF(B22='Participants - "Live" Group'!$I$1,1, (B22+1)) -> 19 | F22: =C22 | G22: =IF(ISERROR(IF($A22=0,"",VLOOKUP('Schedule - "Live" Group'!H22,'Participants - "Live" Group'!$A:$E, 2, FALSE))), "", IF($A22=0,"",VLOOKUP('Schedule - "Live" Group'!H22,'Participants - "Live" Group'!$A:$E, 2, FALSE))) | H22: =IF(E22='Participants - "Live" Group'!$I$1,1, (E22+1)) -> 20 | I22: =F22 | J22: =IF(ISERROR(IF($A22=0,"",VLOOKUP('Schedule - "Live" Group'!K22,'Participants - "Live" Group'!$A:$E, 2, FALSE))), "", IF($A22=0,"",VLOOKUP('Schedule - "Live" Group'!K22,'Participants - "Live" Group'!$A:$E, 2, FALSE)))
A23: 0 | B23: =B22+1 -> 19 | C23: =IF(ISERROR(IF(A23=0,"",VLOOKUP('Schedule - "Live" Group'!$B23,'Participants - "Live" Group'!$A:$E,2,FALSE))), "", IF(A23=0,"",VLOOKUP('Schedule - "Live" Group'!$B23,'Participants - "Live" Group'!$A:$E,2,FALSE))) | D23: =IF(ISERROR(IF($A23=0,"",VLOOKUP('Schedule - "Live" Group'!E23,'Participants - "Live" Group'!$A:$E, 2, FALSE))), "", IF($A23=0,"",VLOOKUP('Schedule - "Live" Group'!E23,'Participants - "Live" Group'!$A:$E, 2, FALSE))) | E23: =IF(B23='Participants - "Live" Group'!$I$1,1, (B23+1)) -> 20 | F23: =C23 | G23: =IF(ISERROR(IF($A23=0,"",VLOOKUP('Schedule - "Live" Group'!H23,'Participants - "Live" Group'!$A:$E, 2, FALSE))), "", IF($A23=0,"",VLOOKUP('Schedule - "Live" Group'!H23,'Participants - "Live" Group'!$A:$E, 2, FALSE))) | H23: =IF(E23='Participants - "Live" Group'!$I$1,1, (E23+1)) -> 21 | I23: =F23 | J23: =IF(ISERROR(IF($A23=0,"",VLOOKUP('Schedule - "Live" Group'!K23,'Participants - "Live" Group'!$A:$E, 2, FALSE))), "", IF($A23=0,"",VLOOKUP('Schedule - "Live" Group'!K23,'Participants - "Live" Group'!$A:$E, 2, FALSE)))
A24: 0 | B24: =B23+1 -> 20 | C24: =IF(ISERROR(IF(A24=0,"",VLOOKUP('Schedule - "Live" Group'!$B24,'Participants - "Live" Group'!$A:$E,2,FALSE))), "", IF(A24=0,"",VLOOKUP('Schedule - "Live" Group'!$B24,'Participants - "Live" Group'!$A:$E,2,FALSE))) | D24: =IF(ISERROR(IF($A24=0,"",VLOOKUP('Schedule - "Live" Group'!E24,'Participants - "Live" Group'!$A:$E, 2, FALSE))), "", IF($A24=0,"",VLOOKUP('Schedule - "Live" Group'!E24,'Participants - "Live" Group'!$A:$E, 2, FALSE))) | E24: =IF(B24='Participants - "Live" Group'!$I$1,1, (B24+1)) -> 21 | F24: =C24 | G24: =IF(ISERROR(IF($A24=0,"",VLOOKUP('Schedule - "Live" Group'!H24,'Participants - "Live" Group'!$A:$E, 2, FALSE))), "", IF($A24=0,"",VLOOKUP('Schedule - "Live" Group'!H24,'Participants - "Live" Group'!$A:$E, 2, FALSE))) | H24: =IF(E24='Participants - "Live" Group'!$I$1,1, (E24+1)) -> 22 | I24: =F24 | J24: =IF(ISERROR(IF($A24=0,"",VLOOKUP('Schedule - "Live" Group'!K24,'Participants - "Live" Group'!$A:$E, 2, FALSE))), "", IF($A24=0,"",VLOOKUP('Schedule - "Live" Group'!K24,'Participants - "Live" Group'!$A:$E, 2, FALSE)))
A25: 0 | B25: =B24+1 -> 21 | C25: =IF(ISERROR(IF(A25=0,"",VLOOKUP('Schedule - "Live" Group'!$B25,'Participants - "Live" Group'!$A:$E,2,FALSE))), "", IF(A25=0,"",VLOOKUP('Schedule - "Live" Group'!$B25,'Participants - "Live" Group'!$A:$E,2,FALSE))) | D25: =IF(ISERROR(IF($A25=0,"",VLOOKUP('Schedule - "Live" Group'!E25,'Participants - "Live" Group'!$A:$E, 2, FALSE))), "", IF($A25=0,"",VLOOKUP('Schedule - "Live" Group'!E25,'Participants - "Live" Group'!$A:$E, 2, FALSE))) | E25: =IF(B25='Participants - "Live" Group'!$I$1,1, (B25+1)) -> 22 | F25: =C25 | G25: =IF(ISERROR(IF($A25=0,"",VLOOKUP('Schedule - "Live" Group'!H25,'Participants - "Live" Group'!$A:$E, 2, FALSE))), "", IF($A25=0,"",VLOOKUP('Schedule - "Live" Group'!H25,'Participants - "Live" Group'!$A:$E, 2, FALSE))) | H25: =IF(E25='Participants - "Live" Group'!$I$1,1, (E25+1)) -> 23 | I25: =F25 | J25: =IF(ISERROR(IF($A25=0,"",VLOOKUP('Schedule - "Live" Group'!K25,'Participants - "Live" Group'!$A:$E, 2, FALSE))), "", IF($A25=0,"",VLOOKUP('Schedule - "Live" Group'!K25,'Participants - "Live" Group'!$A:$E, 2, FALSE)))
A26: 0 | B26: =B25+1 -> 22 | C26: =IF(ISERROR(IF(A26=0,"",VLOOKUP('Schedule - "Live" Group'!$B26,'Participants - "Live" Group'!$A:$E,2,FALSE))), "", IF(A26=0,"",VLOOKUP('Schedule - "Live" Group'!$B26,'Participants - "Live" Group'!$A:$E,2,FALSE))) | D26: =IF(ISERROR(IF($A26=0,"",VLOOKUP('Schedule - "Live" Group'!E26,'Participants - "Live" Group'!$A:$E, 2, FALSE))), "", IF($A26=0,"",VLOOKUP('Schedule - "Live" Group'!E26,'Participants - "Live" Group'!$A:$E, 2, FALSE))) | E26: =IF(B26='Participants - "Live" Group'!$I$1,1, (B26+1)) -> 23 | F26: =C26 | G26: =IF(ISERROR(IF($A26=0,"",VLOOKUP('Schedule - "Live" Group'!H26,'Participants - "Live" Group'!$A:$E, 2, FALSE))), "", IF($A26=0,"",VLOOKUP('Schedule - "Live" Group'!H26,'Participants - "Live" Group'!$A:$E, 2, FALSE))) | H26: =IF(E26='Participants - "Live" Group'!$I$1,1, (E26+1)) -> 24 | I26: =F26 | J26: =IF(ISERROR(IF($A26=0,"",VLOOKUP('Schedule - "Live" Group'!K26,'Participants - "Live" Group'!$A:$E, 2, FALSE))), "", IF($A26=0,"",VLOOKUP('Schedule - "Live" Group'!K26,'Participants - "Live" Group'!$A:$E, 2, FALSE)))
A27: 0 | B27: =B26+1 -> 23 | C27: =IF(ISERROR(IF(A27=0,"",VLOOKUP('Schedule - "Live" Group'!$B27,'Participants - "Live" Group'!$A:$E,2,FALSE))), "", IF(A27=0,"",VLOOKUP('Schedule - "Live" Group'!$B27,'Participants - "Live" Group'!$A:$E,2,FALSE))) | D27: =IF(ISERROR(IF($A27=0,"",VLOOKUP('Schedule - "Live" Group'!E27,'Participants - "Live" Group'!$A:$E, 2, FALSE))), "", IF($A27=0,"",VLOOKUP('Schedule - "Live" Group'!E27,'Participants - "Live" Group'!$A:$E, 2, FALSE))) | E27: =IF(B27='Participants - "Live" Group'!$I$1,1, (B27+1)) -> 24 | F27: =C27 | G27: =IF(ISERROR(IF($A27=0,"",VLOOKUP('Schedule - "Live" Group'!H27,'Participants - "Live" Group'!$A:$E, 2, FALSE))), "", IF($A27=0,"",VLOOKUP('Schedule - "Live" Group'!H27,'Participants - "Live" Group'!$A:$E, 2, FALSE))) | H27: =IF(E27='Participants - "Live" Group'!$I$1,1, (E27+1)) -> 25 | I27: =F27 | J27: =IF(ISERROR(IF($A27=0,"",VLOOKUP('Schedule - "Live" Group'!K27,'Participants - "Live" Group'!$A:$E, 2, FALSE))), "", IF($A27=0,"",VLOOKUP('Schedule - "Live" Group'!K27,'Participants - "Live" Group'!$A:$E, 2, FALSE)))
A28: 0 | B28: =B27+1 -> 24 | C28: =IF(ISERROR(IF(A28=0,"",VLOOKUP('Schedule - "Live" Group'!$B28,'Participants - "Live" Group'!$A:$E,2,FALSE))), "", IF(A28=0,"",VLOOKUP('Schedule - "Live" Group'!$B28,'Participants - "Live" Group'!$A:$E,2,FALSE))) | D28: =IF(ISERROR(IF($A28=0,"",VLOOKUP('Schedule - "Live" Group'!E28,'Participants - "Live" Group'!$A:$E, 2, FALSE))), "", IF($A28=0,"",VLOOKUP('Schedule - "Live" Group'!E28,'Participants - "Live" Group'!$A:$E, 2, FALSE))) | E28: =IF(B28='Participants - "Live" Group'!$I$1,1, (B28+1)) -> 25 | F28: =C28 | G28: =IF(ISERROR(IF($A28=0,"",VLOOKUP('Schedule - "Live" Group'!H28,'Participants - "Live" Group'!$A:$E, 2, FALSE))), "", IF($A28=0,"",VLOOKUP('Schedule - "Live" Group'!H28,'Participants - "Live" Group'!$A:$E, 2, FALSE))) | H28: =IF(E28='Participants - "Live" Group'!$I$1,1, (E28+1)) -> 26 | I28: =F28 | J28: =IF(ISERROR(IF($A28=0,"",VLOOKUP('Schedule - "Live" Group'!K28,'Participants - "Live" Group'!$A:$E, 2, FALSE))), "", IF($A28=0,"",VLOOKUP('Schedule - "Live" Group'!K28,'Participants - "Live" Group'!$A:$E, 2, FALSE)))
A29: 0 | B29: =B28+1 -> 25 | C29: =IF(ISERROR(IF(A29=0,"",VLOOKUP('Schedule - "Live" Group'!$B29,'Participants - "Live" Group'!$A:$E,2,FALSE))), "", IF(A29=0,"",VLOOKUP('Schedule - "Live" Group'!$B29,'Participants - "Live" Group'!$A:$E,2,FALSE))) | D29: =IF(ISERROR(IF($A29=0,"",VLOOKUP('Schedule - "Live" Group'!E29,'Participants - "Live" Group'!$A:$E, 2, FALSE))), "", IF($A29=0,"",VLOOKUP('Schedule - "Live" Group'!E29,'Participants - "Live" Group'!$A:$E, 2, FALSE))) | E29: =IF(B29='Participants - "Live" Group'!$I$1,1, (B29+1)) -> 26 | F29: =C29 | G29: =IF(ISERROR(IF($A29=0,"",VLOOKUP('Schedule - "Live" Group'!H29,'Participants - "Live" Group'!$A:$E, 2, FALSE))), "", IF($A29=0,"",VLOOKUP('Schedule - "Live" Group'!H29,'Participants - "Live" Group'!$A:$E, 2, FALSE))) | H29: =IF(E29='Participants - "Live" Group'!$I$1,1, (E29+1)) -> 27 | I29: =F29 | J29: =IF(ISERROR(IF($A29=0,"",VLOOKUP('Schedule - "Live" Group'!K29,'Participants - "Live" Group'!$A:$E, 2, FALSE))), "", IF($A29=0,"",VLOOKUP('Schedule - "Live" Group'!K29,'Participants - "Live" Group'!$A:$E, 2, FALSE)))
A30: 0 | B30: =B29+1 -> 26 | C30: =IF(ISERROR(IF(A30=0,"",VLOOKUP('Schedule - "Live" Group'!$B30,'Participants - "Live" Group'!$A:$E,2,FALSE))), "", IF(A30=0,"",VLOOKUP('Schedule - "Live" Group'!$B30,'Participants - "Live" Group'!$A:$E,2,FALSE))) | D30: =IF(ISERROR(IF($A30=0,"",VLOOKUP('Schedule - "Live" Group'!E30,'Participants - "Live" Group'!$A:$E, 2, FALSE))), "", IF($A30=0,"",VLOOKUP('Schedule - "Live" Group'!E30,'Participants - "Live" Group'!$A:$E, 2, FALSE))) | E30: =IF(B30='Participants - "Live" Group'!$I$1,1, (B30+1)) -> 27 | F30: =C30 | G30: =IF(ISERROR(IF($A30=0,"",VLOOKUP('Schedule - "Live" Group'!H30,'Participants - "Live" Group'!$A:$E, 2, FALSE))), "", IF($A30=0,"",VLOOKUP('Schedule - "Live" Group'!H30,'Participants - "Live" Group'!$A:$E, 2, FALSE))) | H30: =IF(E30='Participants - "Live" Group'!$I$1,1, (E30+1)) -> 28 | I30: =F30 | J30: =IF(ISERROR(IF($A30=0,"",VLOOKUP('Schedule - "Live" Group'!K30,'Participants - "Live" Group'!$A:$E, 2, FALSE))), "", IF($A30=0,"",VLOOKUP('Schedule - "Live" Group'!K30,'Participants - "Live" Group'!$A:$E, 2, FALSE)))
A31: 0 | B31: =B30+1 -> 27 | C31: =IF(ISERROR(IF(A31=0,"",VLOOKUP('Schedule - "Live" Group'!$B31,'Participants - "Live" Group'!$A:$E,2,FALSE))), "", IF(A31=0,"",VLOOKUP('Schedule - "Live" Group'!$B31,'Participants - "Live" Group'!$A:$E,2,FALSE))) | D31: =IF(ISERROR(IF($A31=0,"",VLOOKUP('Schedule - "Live" Group'!E31,'Participants - "Live" Group'!$A:$E, 2, FALSE))), "", IF($A31=0,"",VLOOKUP('Schedule - "Live" Group'!E31,'Participants - "Live" Group'!$A:$E, 2, FALSE))) | E31: =IF(B31='Participants - "Live" Group'!$I$1,1, (B31+1)) -> 28 | F31: =C31 | G31: =IF(ISERROR(IF($A31=0,"",VLOOKUP('Schedule - "Live" Group'!H31,'Participants - "Live" Group'!$A:$E, 2, FALSE))), "", IF($A31=0,"",VLOOKUP('Schedule - "Live" Group'!H31,'Participants - "Live" Group'!$A:$E, 2, FALSE))) | H31: =IF(E31='Participants - "Live" Group'!$I$1,1, (E31+1)) -> 29 | I31: =F31 | J31: =IF(ISERROR(IF($A31=0,"",VLOOKUP('Schedule - "Live" Group'!K31,'Participants - "Live" Group'!$A:$E, 2, FALSE))), "", IF($A31=0,"",VLOOKUP('Schedule - "Live" Group'!K31,'Participants - "Live" Group'!$A:$E, 2, FALSE)))
F32: =C32 -> 0

Sheet Participants - Email Group
A1: PaRama Exchange - Email | H1: # in Group: | I1: 11
A2: Participant Number | B2: Name | C2: Email | D2: Phone | E2: Contact Info | F2: TimeZone | G2: Notes
A3: 1 | B3: Carla Van Voorst | C3: carla99@shaw.ca | D3: 250-763-7264 | E3: =CONCATENATE(B3, " - ", C3) -> Carla Van Voorst - carla99@shaw.ca | G3: 3Q2016
A4: =1+A3 -> 2 | B4: Cress Spicer | C4: cress08@gmail.com | D4: 604-390-2095 | E4: =CONCATENATE(B4, " - ", C4) -> Cress Spicer - cress08@gmail.com | F4: pacific - vancouver | G4: 3Q2016
A5: =1+A4 -> 3 | B5: Fred Pfeiffer | C5: fpfeiffer7@gmail.com | E5: =CONCATENATE(B5, " - ", C5) -> Fred Pfeiffer - fpfeiffer7@gmail.com | G5: 3Q2016
A6: =A5+1 -> 4 | B6: Jill Kirby | C6: jkirbyholisticarts@protonmail.com | E6: =CONCATENATE(B6, " - ", C6) -> Jill Kirby - jkirbyholisticarts@protonmail.com | G6: 3Q2016
A7: =1+A6 -> 5 | B7: Karen Sorensen | C7: bodytalkaccess@gmail.com | E7: =CONCATENATE(B7, " - ", C7) -> Karen Sorensen - bodytalkaccess@gmail.com | G7: 1Q2017
A8: =1+A7 -> 6 | B8: Linda Marlene Eales | C8: linda@torontobodytalk.com | E8: =CONCATENATE(B8, " - ", C8) -> Linda Marlene Eales - linda@torontobodytalk.com | G8: 2Q2017
A9: =1+A8 -> 7 | B9: Marianne McNamara | C9: mariannethebodylistener@gmail.com | D9: 623.810.1475 | E9: =CONCATENATE(B9, " - ", C9) -> Marianne McNamara - mariannethebodylistener@gmail.com | F9: MT
A10: =1+A9 -> 8 | B10: Nancy Briggs | C10: briggsnancy28@gmail.com | E10: =CONCATENATE(B10, " - ", C10) -> Nancy Briggs - briggsnancy28@gmail.com | F10: EST | G10: 2Q2018
A11: =1+A10 -> 9 | B11: Lisa Babcock | C11: tools4health@yahoo.com | D11: (916) 801-4218 | E11: =CONCATENATE(B11, " - ", C11) -> Lisa Babcock - tools4health@yahoo.com | F11: PT | G11: 1Q2023
A12: 10 | B12: Mary Ward | C12: BodyTalkDrMJWard@gmail.com | D12: (321) 453-7005 | E12: =CONCATENATE(B12, " - ", C12) -> Mary Ward - BodyTalkDrMJWard@gmail.com | F12: EST | G12: 1Q2024
A13: 11 | B13: Jenna Caplette | C13: vjennac@gmail.com | E13: =CONCATENATE(B13, " - ", C13) -> Jenna Caplette - vjennac@gmail.com | G13: 3Q2016
A25: ON HOLD | B25: Anna Bruce | C25: anna.townmill@gmail.com | D25: +44 7802699062 | E25: =CONCATENATE(B25, " - ", C25) -> Anna Bruce - anna.townmill@gmail.com | F25: GMT | G25: New in 1Q17
A26: ON HOLD | B26: Debbie Weddle | C26: debweddle@yahoo.com | E26: =CONCATENATE(B26, " - ", C26) -> Debbie Weddle - debweddle@yahoo.com | G26: Re-joined in 4Q16, left 2Q2019
A27: ON HOLD | B27: Wenda Merz | C27: ptcclinic@gmail.com | E27: =CONCATENATE(B27, " - ", C27) -> Wenda Merz - ptcclinic@gmail.com | G27: On Hold as of 2Q2017
A28: ON HOLD | B28: Lauren Scherger | C28: laurenhollasch@hotmail.ca | E28: =CONCATENATE(B28, " - ", C28) -> Lauren Scherger - laurenhollasch@hotmail.ca | G28: On Hold as of 3Q2017
A29: ON HOLD | B29: Heidi Grayson | C29: osteo4bodytalk@gmail.com | E29: =CONCATENATE(B29, " - ", C29) -> Heidi Grayson - osteo4bodytalk@gmail.com | F29: NZST (UTC +12 hours) | G29: On Hold as of 4Q2017
A30: ON HOLD | B30: Merry Stanford | C30: merry.stanford@gmail.com | D30: 517-281-1570 | E30: =CONCATENATE(B30, " - ", C30) -> Merry Stanford - merry.stanford@gmail.com | F30: ET | G30: On Hold as of 1Q2018
A31: OFF | B31: Irma de Jong | C31: irma@bodytalksystem.nl | D31: 31653819318 | E31: =CONCATENATE(B31, " - ", C31) -> Irma de Jong - irma@bodytalksystem.nl | F31: Central Europe (CET) | G31: Joined in 2Q16
A32: OFF | B32: Lisa Schokking | C32: lisaschokking@gmail.com | E32: =CONCATENATE(B32, " - ", C32) -> Lisa Schokking - lisaschokking@gmail.com | G32: Left 3Q2018
A33: OFF | B33: Ann Wettlaufer | C33: annwettlaufer@gmail.com | D33: 781-367-5141 | E33: =CONCATENATE(B33, " - ", C33) -> Ann Wettlaufer - annwettlaufer@gmail.com | F33: EST | G33: Joined 1Q2017 - Left Jan 2019
A34: OFF | B34: Heather North Lewis | C34: bodytalkheather@gmail.com | D34: 07797 713282 | E34: =CONCATENATE(B34, " - ", C34) -> Heather North Lewis - bodytalkheather@gmail.com | G34: Joined 1Q2017 - Left Jan 2019
A35: OFF | B35: Don Burry | C35: trout1salar@yahoo.ca | E35: =CONCATENATE(B35, " - ", C35) -> Don Burry - trout1salar@yahoo.ca | G35: Left Jan 2019
A36: OFF | B36: Debbie Leafblad | C36: debbieleafblad@yahoo.com | D36: 816-977-3490 | E36: =CONCATENATE(B36, " - ", C36) -> Debbie Leafblad - debbieleafblad@yahoo.com | G36: Joined in 2Q16
A37: OFF | B37: Nirmala Sekhar | C37: nirmalasekhar@gmail.com | D37: +65-9147 8817 | E37: =CONCATENATE(B37, " - ", C37) -> Nirmala Sekhar - nirmalasekhar@gmail.com | F37: Singapore: GMT+8 hrs
A38: OFF | B38: Michele Goulding | C38: monmouthclinic@yahoo.co.uk | E38: =CONCATENATE(B38, " - ", C38) -> Michele Goulding - monmouthclinic@yahoo.co.uk | F38: GMT | G38: 1Q2017 Hold in 2Q2020
A39: OFF | B39: Marie-Claude Barrette-Molgat | C39: mc@stateofwellbeing.ca | D39: (819) 290-3541 | E39: =CONCATENATE(B39, " - ", C39) -> Marie-Claude Barrette-Molgat - mc@stateofwellbeing.ca | F39: CT (summer ET)
A40: OFF | B40: Heidi Reid | C40: heidi@thewisdomtoheal.com | D40: 778 212 1777 | E40: =CONCATENATE(B40, " - ", C40) -> Heidi Reid - heidi@thewisdomtoheal.com | G40: 1Q2017
A41: OFF | B41: Carol Stanton | C41: carol.bodytalk@gmail.com | D41: 816-977-3490 | E41: =CONCATENATE(B41, " - ", C41) -> Carol Stanton - carol.bodytalk@gmail.com | G41: Joined in 4Q19
A42: OFF | B42: Maria-Laura Rainer | C42: marialaurarainer@gmail.com | E42: =CONCATENATE(B42, " - ", C42) -> Maria-Laura Rainer - marialaurarainer@gmail.com | G42: New in 1Q17, Hold in 4Q23
A43: OFF | B43: Bahar Nagi | C43: bahar@heartsync.co.uk | D43: RETURNED EMAIL - REMOVE!! | E43: =CONCATENATE(B43, " - ", C43) -> Bahar Nagi - bahar@heartsync.co.uk | F43: UK | G43: New in 3Q2019, OFF on 4Q23 due to email bounce

Sheet Participants - "Live" Group
A1: PaRama Exchange - Live Group | H1: # in Group: | I1: 11
A2: Participant Number | B2: Name | C2: Email | D2: Phone | E2: Contact Info | F2: TimeZone | G2: Notes
A3: 1 | B3: Katherine Ebacher | C3: Katherine@ListentotheBodyTalk.com | D3: 513-886-1910 | E3: =CONCATENATE(B3, " - ", C3) -> Katherine Ebacher - Katherine@ListentotheBodyTalk.com | F3: ET | G3: Organizer
A4: =1+A3 -> 2 | B4: Kimberley Katerenchuk | C4: tappinghealthinc@gmail.com | E4: =CONCATENATE(B4, " - ", C4) -> Kimberley Katerenchuk - tappinghealthinc@gmail.com | F4: ET | G4: 1Q2015
A5: =1+A4 -> 3 | B5: Sharon Koenning | C5: sharonkoenning@gmail.com | D5: (306)233-8439 | E5: =CONCATENATE(B5, " - ", C5) -> Sharon Koenning - sharonkoenning@gmail.com | F5: CT | G5: 1Q2023
A6: =1+A5 -> 4 | B6: Angie Tourani | C6: angie@bodytalksystem.com.hk | D6: 852 66835755 | E6: =CONCATENATE(B6, " - ", C6) -> Angie Tourani - angie@bodytalksystem.com.hk | F6: Hong Kong | G6: 1Q2017
A7: 5 | B7: Amanda Bartley | C7: petrock77@gmail.com | D7: 604-612-2547 | E7: =CONCATENATE(B7, " - ", C7) -> Amanda Bartley - petrock77@gmail.com | F7: PT | G7: 3Q2017
A8: 6 | B8: Nicole Senft | C8: nicole.bodytalk@gmail.com | D8: 780-221-8105 | E8: =CONCATENATE(B8, " - ", C8) -> Nicole Senft - nicole.bodytalk@gmail.com | F8: MT | G8: 1Q2019
A9: =A8+1 -> 7 | B9: Lisa Wegner | C9: lisais@telus.net | E9: =CONCATENATE(B9, " - ", C9) -> Lisa Wegner - lisais@telus.net | F9: PT | G9: 1Q2020
A10: 8 | B10: Mary Jane Ward | C10: BodyTalkDrMJWard@gmail.com | D10: (321) 453-7005 | E10: =CONCATENATE(B10, " - ", C10) -> Mary Jane Ward - BodyTalkDrMJWard@gmail.com | F10: ET | G10: 2Q2022
A11: 9 | B11: Antonella Ercolani | C11: antonellafi@yahoo.com | E11: =CONCATENATE(B11, " - ", C11) -> Antonella Ercolani - antonellafi@yahoo.com | F11: CET (Florence Italy) | G11: 1Q2023
A12: 10 | B12: Christine Plaud | C12: christine@innerkeys.com | E12: =CONCATENATE(B12, " - ", C12) -> Christine Plaud - christine@innerkeys.com | F12: Depending on time of year: Singapore GMT +8 France GMT +1 | G12: 1Q2024
A13: 11 | B13: Jacqueline van Ryneveld | C13: jacqsbodytalk@gmail.com | D13: 812 774 1401 | E13: =CONCATENATE(B13, " - ", C13) -> Jacqueline van Ryneveld - jacqsbodytalk@gmail.com | F13: Indiana - ET | G13: 3Q2024
A19: On HOLD | B19: Finola McAlinden | C19: finola.60@live.co.uk | E19: =CONCATENATE(B19, " - ", C19) -> Finola McAlinden - finola.60@live.co.uk | F19: GMT | G19: On Hold
A20: On HOLD | B20: Cici Baudoin | C20: cicibaudoin@gmail.com | D20: 850-860-1839 | E20: =CONCATENATE(B20, " - ", C20) -> Cici Baudoin - cicibaudoin@gmail.com | F20: ET | G20: On Hold starting 1Q17
A21: On HOLD | B21: Myriam Machado Baker | C21: myriam@bodytalksandiego.org | E21: =CONCATENATE(B21, " - ", C21) -> Myriam Machado Baker - myriam@bodytalksandiego.org | F21: PT | G21: On Hold starting 4Q17
A22: On HOLD | B22: Ben Manalo | C22: bodytalkprofessionals@gmail.com | D22: 773.593.5348 | E22: =CONCATENATE(B22, " - ", C22) -> Ben Manalo - bodytalkprofessionals@gmail.com | F22: MT | G22: On Hold starting 4Q18
A23: On HOLD | B23: Tone-Lise Stenslie | C23: tonelise@bodytalkforyou.com | E23: =CONCATENATE(B23, " - ", C23) -> Tone-Lise Stenslie - tonelise@bodytalkforyou.com | G23: New in 1Q2019/On hold starting 2Q19
A24: On HOLD | B24: Wendy Nelson | C24: office@energywisdom.com | D24: 303-447-0798 (no text/land line) | E24: =CONCATENATE(B24, " - ", C24) -> Wendy Nelson - office@energywisdom.com | F24: MT | G24: New in 1Q2019/On hold starting 2Q19
A25: On HOLD | B25: Sue Schneider | C25: sschneider13@comcast.net | D25: 281-795-3705 | E25: =CONCATENATE(B25, " - ", C25) -> Sue Schneider - sschneider13@comcast.net | F25: CT | G25: New in 2Q17,On hold 1Q2019
A26: On HOLD | B26: Brooke Baggett | C26: brookewithmosaic@gmail.com | E26: =CONCATENATE(B26, " - ", C26) -> Brooke Baggett - brookewithmosaic@gmail.com | F26: PT | G26: New in 1Q17, drop 3Q19
A27: On HOLD | B27: Marie-Claude Barrette-Molgat | C27: mc@stateofwellbeing.ca | D27: (819) 290-3541 | E27: =CONCATENATE(B27, " - ", C27) -> Marie-Claude Barrette-Molgat - mc@stateofwellbeing.ca | F27: CT (summer ET) | G27: Added again 3Q20 removed 4Q2020
A28: On HOLD | B28: Ana Lisa Hale | C28: analisahale@gmail.com | E28: =CONCATENATE(B28, " - ", C28) -> Ana Lisa Hale - analisahale@gmail.com | F28: MT | G28: On hold 4Q2021
A29: ON HOLD | B29: Kathleen Erickson | C29: KathleenErickson2@gmail.com | D29: 435-231-1902 | E29: =CONCATENATE(B29, " - ", C29) -> Kathleen Erickson - KathleenErickson2@gmail.com | F29: ET | G29: On hold as of 4/2022
A30: died | B30: Dorothy Friesen | C30: dorayfriesen@gmail.com | D30: 204-890-0910 or 204-504-7804 | E30: =CONCATENATE(B30, " - ", C30) -> Dorothy Friesen - dorayfriesen@gmail.com | F30: CT | G30: New in 1Q17
A31: Retired | B31: Melanie Palm | C31: melaniepalm@midco.net | D31: 605.484.6765 | E31: =CONCATENATE(B31, " - ", C31) -> Melanie Palm - melaniepalm@midco.net | F31: MT | G31: 3Q2018
